{"text_format":"1","workbook":"xlsx","n_sheets":8,"sheets":["Intro","Basin","Outlet Structure","Reference","Program Data","CUHP_Calcs","User Tips and Tools","BMP Zone Images"],"not_rendered":{"charts":6,"images":60,"macros":1,"external_links":0,"defined_names":652,"comments":3,"pivot_tables":0},"unopened":[],"bounds":{"document_bytes":16777216,"sheet_cells":100000,"rows_first":2000,"rows_last":500,"rows_between":2000,"halvings":0,"cell_chars":16384,"cell_head_chars":4096},"cells_cut":0,"cells_raw":0,"read":"whole","date_system":"1900"}

{"sheet":"Intro","index":0,"n_rows":49,"n_cols":47,"rows_kept":49,"cut":false,"hidden":false,"merged":[[2,1,3,10],[4,1,4,10],[5,1,5,10],[6,1,6,10],[7,1,7,10]]}
[null,null,null,null,null,null,null,null,null,null,null,null,null,null,null,null,null,null,null,null,null,null,null,null,null,null,null,null,null,null,null,null,null,null,null,null,null,null,null,null,null,null,null,null,null,null,"Worksheet Protected"]
[null,null,null,null,null,null,null,null,null,null,null,null,null,null,null,null,null,null,null,null,null,null,null,null,null,null,null,null,null,null,null,null,null,null,null,null,null,null,null,null,null,null,null,null,null,null,"Workbook Protected"]
[null,"DETENTION BASIN DESIGN WORKBOOK"]
[]
[null,"MHFD-Detention, Version 4.04 (February 2021)"]
[null,"Mile High Flood District"]
[null,"Denver, Colorado"]
[null,"www.mhfd.org"]
[]
[null,"Purpose:","This workbook aids in the estimation of stormwater detention basin sizing and"]
[null,null,"outlet routing based on the modified puls routing method for urban watersheds."]
[null,null,"Several different BMP types and various outlet configurations can be sized."]
[]
[null,"Function:","1.  Approximates the stage-area-volume relationship for a detention basin based"]
[null,null,"     on watershed parameters and basin geometry parameters.  Also evaluates"]
[null,null,"     existing user-defined basin stage-area relationships."]
[null,null," "]
[null,null,"2. Sizes filtration media orifice, outlet orifices, elliptical slots, weirs, trash racks,"]
[null,null,"    and develops stage-discharge relationships.  Uses the Modified Puls method to"]
[null,null,"    route a series of hydrographs (i.e., 2-, 5-, 10-, 25-, 50-, 100- and 500-year) and "]
[null,null,"    calibrates the peak discharge out of the basin to match the pre-development"]
[null,null,"    peak discharges for the watershed."]
[]
[]
[null,"Content:"," This workbook consists of the following sheets:"]
[]
[]
[null,"Basin"," Tabulates stage-area-volume relationship estimates based on watershed parameters"]
[]
[null,"Outlet Structure"," Tabulates a stage-discharge relationship for the user-defined outlet structure (inlet control)."]
[]
[null,"Reference"," Provides reference equations and figures."]
[]
[null,"User Tips and Tools"," Provides instructions and video links to assist in using this workbook.  Includes a stage-area calculator."]
[]
[null,"BMP Zone Images"," Provides images of typical BMP zone confirgurations corresponding with Zone pulldown selections."]
[]
[null,"Acknowledgements:","Spreadsheet Development Team:"]
[null,null,"Ken MacKenzie, P.E., Holly Piza, P.E."]
[null,null,"Mile High Flood District"]
[]
[null,null,"Derek N. Rapp, P.E."]
[null,null,"Peak Stormwater Engineering, LLC"]
[]
[null,null,"Dr. James C.Y. Guo, Ph.D., P.E."]
[null,null,"Professor, Department of Civil Engineering, University of Colorado at Denver"]
[null,null," "]
[null,"Comments?","Direct all comments regarding this spreadsheet workbook to:",null,null,null,null,"MHFD E-Mail"]
[null,"Revisions?","Check for revised versions of this or any other workbook at:",null,null,null,null,"Downloads"]

{"sheet":"Basin","index":1,"n_rows":3116,"n_cols":59,"rows_kept":3116,"cut":false,"hidden":false,"merged":[[0,15,0,29],[0,0,0,14],[8,11,9,11],[8,8,9,8],[8,7,9,7],[8,6,9,6],[8,5,9,5],[8,10,9,10],[8,9,9,9],[2,1,2,14],[3,1,3,14],[1,0,1,14],[1,15,1,29],[113,14,114,14],[113,13,114,13],[113,11,114,11],[8,13,9,13],[8,14,9,14],[113,12,114,12],[8,12,9,12],[113,7,114,7],[113,5,114,5],[113,10,114,10],[113,9,114,9],[113,8,114,8],[113,6,114,6],[42,3,42,4],[43,3,45,4],[69,0,71,4],[8,57,9,57],[8,52,9,52],[8,53,9,53],[8,54,9,54],[8,55,9,55],[8,56,9,56],[22,0,24,2]]}
["DETENTION BASIN STAGE-STORAGE TABLE BUILDER",null,null,null,null,null,null,null,null,null,null,null,null,null,null,{"$f":"A1","v":"DETENTION BASIN STAGE-STORAGE TABLE BUILDER"},null,null,null,null,null,null,null,null,null,null,null,null,null,null,null,null,null,null,null,null,null,null,null,null,null,null,null,null,null,null,"Worksheet Protected"]
[{"$f":"Version_Release","v":"MHFD-Detention, Version 4.04 (February 2021)"},null,null,null,null,null,null,null,null,null,null,null,null,null,null,{"$f":"Version_Release","v":"MHFD-Detention, Version 4.04 (February 2021)"}]
["Project:"]
["Basin ID:"]
[]
[]
[null,null,null,null,null,null,null,null,{"$f":"IF(User_Stage_Area=0,\"\",IF(Equal_SA_Inputs=1,\"\",\"Must enter an equal number of stage and area values!\"))","v":""}]
[null,null,null,null,null,"Depth Increment =",null,"ft"]
[null,null,null,null,null,"Stage - Storage\nDescription","Stage\n(ft)","Optional Override Stage (ft)","Length \n(ft)","Width \n(ft)","Area \n(ft 2)","Optional Override Area (ft 2)","Area \n(acre)","Volume \n(ft 3)","Volume \n(ac-ft)",null,null,null,null,null,null,null,null,null,null,null,null,null,null,null,null,null,null,null,null,null,null,null,null,null,null,null,null,null,null,null,null,null,null,null,null,null,"Stage\n(ft)","Length \n(ft)","Width \n(ft)","Area \n(ft^2)","Area \n(acres)","Volume \n(ac-ft)"]
[]
["Watershed Information",{"$f":"IF(Select_BMP_Type=\"No BMP\",\"Flood Control Only\",\nIF(OR(Select_BMP_Type=\"\",Watershed_Area=\"\"),\"\",\nIF(Watershed_Area>640,\"Area > 1 sq.mi. for WQ Facility\",\"\")))","v":""},null,null,null,{"$f":"IF(BMP_Type=1,\"\",IF(BMP_Type=2,\"Top of Micropool\",IF(BMP_Type=3,\"Permanent Pool\",IF(BMP_Type=4,\"Permanent Pool\",\"Media Surface\"))))","v":""},{"$f":"IF(User_Stage_Area=1,\"--\",IF(COUNTA=0,\"\",0))","v":""},{"$f":"IF(User_Stage_Area=1,0,\"\")","v":""},{"$f":"IF(User_Stage_Area=1,\"--\",IF(COUNTA=0,\"\",IF($G11=\"\",\"\",INDEX($G$116:$O$3116,MATCH($G11,$G$116:$G$3116,1),3))))","v":""},{"$f":"IF(User_Stage_Area=1,\"--\",IF(COUNTA=0,\"\",IF($G11=\"\",\"\",INDEX($G$116:$O$3116,MATCH($G11,$G$116:$G$3116,1),4))))","v":""},{"$f":"IF(User_Stage_Area=1,\"--\",IF(COUNTA=0,\"\",IF($G11=\"\",\"\",INDEX($G$116:$O$3116,MATCH($G11,$G$116:$G$3116,1),5))))","v":""},null,{"$f":"IF(L11=\"\",IF(K11=\"\",\"\",IF(K11=\"--\",\"\",(K11/43560))),(L11/43560))","v":""},null,null,null,null,null,null,null,null,null,null,null,null,null,null,null,null,null,null,null,null,null,null,null,null,null,null,null,null,null,null,null,null,null,null,null,null,null,null,null,0,{"$f":"IF(I11=\"\",\"\",IF(I11=\"--\",\"\",I11))","v":""},{"$f":"IF(J11=\"\",\"\",IF(J11=\"--\",\"\",J11))","v":""},{"$f":"IF(K11=\"\",\"\",IF(K11=\"--\",IF(L11=\"\",\"\",L11),K11))","v":""},{"$f":"IF(M11=\"\",\"\",M11)","v":""},0]
["Selected BMP Type =",{"$f":"IF(BMP_Type=1,\"\",IF(BMP_Type=2,\"EDB\",IF(BMP_Type=3,\"RP\",IF(BMP_Type=4,\"CWP\",IF(BMP_Type=5,\"SF\",IF(BMP_Type=6,\"RG\",IF(BMP_Type=7,\"No BMP\",\"\")))))))","v":""},null,{"$f":"IF(OR(Watershed_Area=\"\",Watershed_Length=\"\"),\"\",\nIF((Watershed_Length^2)/(Watershed_Area*43560)<1,\"Note: L / W Ratio < 1\",IF((Watershed_Length^2)/(Watershed_Area*43560)>8,\"Note: L / W Ratio > 8\",\"\")))","v":""},null,null,{"$f":"IF(User_Stage_Area=1,\"--\",IF(COUNTA=0,\"\",IF(BMP_Type=2,H_ISV,IF(increment<Stage3,increment,Stage3))))","v":""},null,"","","",null,{"$f":"IF(L12=\"\",IF(K12=\"\",\"\",IF(K12=\"--\",\"\",(K12/43560))),(L12/43560))","v":""},{"$f":"IF(User_Stage_Area=0,IF(COUNTA=0,\"\",IF($G12=\"\",\"\",INDEX($G$116:$O$3116,MATCH($G12,$G$116:$G$3116,1),8))),IF(OR(H11=\"\",H12=\"\",L12=\"\"),\"\",INDEX($G$116:$O$3116,MATCH($H12,$H$116:$H$3116,1),8)))","v":""},{"$f":"IF(N12=\"\",\"\",(N12/43560))","v":""},null,{"$f":"IF(COUNTA(H12:H109,L11:L109)>0,1,0)","v":0},"User Defined Stage-Area",null,null,"Booleans for Message",null,null,null,null,null,null,null,null,null,null,null,null,null,null,null,null,null,null,null,null,null,null,null,null,null,null,null,null,null,null,null,null,{"$f":"IF(I12=\"\",\"\",IF(I12=\"--\",\"\",I12))","v":""},{"$f":"IF(J12=\"\",\"\",IF(J12=\"--\",\"\",J12))","v":""},{"$f":"IF(K12=\"\",\"\",IF(K12=\"--\",IF(L12=\"\",\"\",L12),K12))","v":""},{"$f":"IF(M12=\"\",\"\",M12)","v":""},{"$f":"IF(O12=\"\",\"\",O12)","v":""}]
["Watershed Area =",null,"acres",{"$f":"IF(OR(Watershed_Area=\"\",Watershed_Length=\"\"),\"\",IF((Watershed_Length^2)/(Watershed_Area*43560)<1,\"L / W Ratio = \" & ROUND((Watershed_Length^2)/(Watershed_Area*43560),2),IF((Watershed_Length^2)/(Watershed_Area*43560)>8,\"L / W Ratio = \" & ROUND((Watershed_Length^2)/(Watershed_Area*43560),2),\"\")))","v":""},null,null,null,null,"","","",null,"","",{"$f":"IF(N13=\"\",\"\",(N13/43560))","v":""},null,{"$f":"IF(L12=\"\",0,IF(COUNTA(H11:H109)=COUNTA(L11:L109),1,0))","v":0},"Equal Stage-Area Inputs",null,null,null,"Watershed L:W",null,null,null,null,null,null,null,null,null,null,null,null,null,null,null,null,null,null,null,null,null,null,null,null,null,null,null,null,null,null,null,"","","","",""]
["Watershed Length =",null,"ft",{"$f":"IF(OR(Watershed_Length=\"\",Watershed_CentroidLength=\"\"),\"\",\nIF(Watershed_CentroidLength/Watershed_Length<0.1,\"Note: Lc/L Ratio < 0.1\",IF(Watershed_CentroidLength/Watershed_Length>0.9,\"Note: Lc/L Ratio > 0.9\",\"\")))","v":""},null,null,null,null,"","","",null,"","","",null,{"$f":"IF(User_Stage_Area=1,IF(COUNTA(B12:B21)+COUNTA(B46)>=11,1,0),\nIF(BMP_Type=2,IF(COUNTA(B12:B21)+COUNT(B46:B53)>=18,1,0),\nIF(BMP_Type=7,IF(COUNTA(B12:B21)+COUNT(B46:B53)>=16,1,0),\nIF(COUNTA(B12:B21)+COUNT(B46:B53)>=14,1,0))))","v":0},"CountA",null,null,null,"Watershed Lc:L",null,null,null,null,null,null,null,null,null,null,null,null,null,null,null,null,null,null,null,null,null,null,null,null,null,null,null,null,null,null,null,"","","","",""]
["Watershed Length to Centroid =",null,"ft",{"$f":"IF(OR(Watershed_Length=\"\",Watershed_CentroidLength=\"\"),\"\",IF(Watershed_CentroidLength/Watershed_Length<0.1,\"Lc / L Ratio = \" & ROUND(Watershed_CentroidLength/Watershed_Length,2),IF(Watershed_CentroidLength/Watershed_Length>0.9,\"Lc / L Ratio = \" & ROUND(Watershed_CentroidLength/Watershed_Length,2),\"\")))","v":""},null,null,null,null,"","","",null,"","","",null,null,null,null,null,null,"Watershed Slope",null,null,null,null,null,null,null,null,null,null,null,null,null,null,null,null,null,null,null,null,null,null,null,null,null,null,null,null,null,null,null,"","","","",""]
["Watershed Slope =",null,"ft/ft",{"$f":"IF(Watershed_Slope=\"\",\"\",\nIF(Watershed_Slope<0.005,\"Flat Slope < 0.005 ft/ft\",IF(Watershed_Slope>0.06,\"Steep Slope > 0.06 ft/ft\",\"\")))","v":""},null,null,null,null,"","","",null,"","","",null,0,"Calc_S_TC",null,null,"Booleans for CUHP",null,null,null,null,null,null,null,null,null,null,null,null,null,null,null,null,null,null,null,null,null,null,null,null,null,null,null,null,null,null,null,null,"","","","",""]
["Watershed Imperviousness =",null,"percent",null,null,null,null,null,"","","",null,"","","",null,null,null,null,null,{"$f":"IF(COUNTA(B13:B20)=8,1,0)","v":0},"CUHP Inputs Complete",null,null,null,null,null,null,null,null,null,null,null,null,null,null,null,null,null,null,null,null,null,null,null,null,null,null,null,null,null,null,null,"","","","",""]
["Percentage Hydrologic Soil Group A =",null,"percent",{"$f":"IF(OR(Pct_A=\"\",Pct_B=\"\",Pct_CD=\"\"),\"\",IF(SUM(B18:B20)=1,\"\",\"Soil Sum not 100%\"))","v":""},null,null,null,null,"","","",null,"","","",null,null,"H_FLOOR",null,null,null,"CUHP Results Calculated",null,null,null,null,null,null,null,null,null,null,null,null,null,null,null,null,null,null,null,null,null,null,null,null,null,null,null,null,null,null,null,"","","","",""]
["Percentage Hydrologic Soil Group B =",null,"percent",null,null,null,null,null,"","","",null,"","","",null,null,null,null,null,null,null,null,null,null,null,null,null,null,null,null,null,null,null,null,null,null,null,null,null,null,null,null,null,null,null,null,null,null,null,null,null,null,"","","","",""]
["Percentage Hydrologic Soil Groups C/D =",null,"percent",null,null,null,null,null,"","","",null,"","","",null,null,"L_FLOOR_OTHER",null,null,null,null,null,null,null,null,null,null,null,null,null,null,null,null,null,null,null,null,null,null,null,null,null,null,null,null,null,null,null,null,null,null,null,"","","","",""]
["Target WQCV Drain Time =",null,"hours",{"$f":"IF(Target_WQCV_Drain_Time=VLOOKUP('Program Data'!$B$61,'Program Data'!$B$54:$E$60,4),\"\",IF(Target_WQCV_Drain_Time<VLOOKUP('Program Data'!$B$61,'Program Data'!$B$54:$E$60,4),IF(Select_BMP_Type=\"No BMP\",\"\",\"Drain Time Too Short\"),\"Drain Time Too Long\"))","v":""},null,null,null,null,"","",{"$f":"IF(User_Stage_Area=1,\"--\",IF(COUNTA=0,\"\",IF($G21=\"\",\"\",INDEX($G$116:$O$3116,MATCH($G21,$G$116:$G$3116,1),5))))","v":""},null,"","","",null,null,null,null,null,null,null,null,null,null,null,null,null,null,null,null,null,null,null,null,null,null,null,null,null,null,null,null,null,null,null,null,null,null,null,null,null,null,"","","","",""]
["Location for 1-hr Rainfall Depths =",{"$f":"'Program Data'!B51","v":"Denver - Capitol Building"},null,null,null,null,null,null,"","","",null,"","","",null,{"$f":"IF(User_Stage_Area=0,IF(BMP_Type=2,ROUND(H_ISV,2),0),0)","v":0},"ISV",{"$f":"ISV_Stage","v":0},{"$f":"R22","v":"ISV"},null,null,null,null,null,null,null,null,null,null,null,null,null,null,null,null,null,null,null,null,null,null,null,null,null,null,null,null,null,null,null,null,null,"","","","",""]
["After providing required inputs above including 1-hour rainfall\ndepths, click 'Run CUHP' to generate runoff hydrographs using \nthe embedded Colorado Urban Hydrograph Procedure.",null,null,null,null,null,null,null,"","","",null,"","","",null,{"$f":"IF(User_Stage_Area=0,IF(BMP_Type=2,ROUND(H_ISV+H_TC+H_FLOOR,2),0),0)","v":0},"Floor",{"$f":"IF(Z1_Stage>Floor_Stage,Floor_Stage,Z1_Stage)","v":{"$error":"#N/A"}},{"$f":"INDEX($Q$23:$R$26,MATCH(S23,$Q$23:$Q$26,0),2)","v":{"$error":"#N/A"}},null,null,null,null,null,null,null,null,null,null,null,null,null,null,null,null,null,null,null,null,null,null,null,null,null,null,null,null,null,null,null,null,null,"","","","",""]
[null,null,null,null,null,null,null,null,"","","",null,"","","",null,{"$f":"ROUND(IF(User_Stage_Area=0,INDEX($G$116:$O$3116,MATCH(VOL_REQ1,$O$116:$O$3116,1)+1,1),INDEX($G$116:$O$3116,MATCH(VOL_REQ1,$O$116:$O$3116,1)+1,2)),2)","v":{"$error":"#N/A"}},{"$f":"VLOOKUP(Zone1_Storage_Type,'Program Data'!B66:D75,3)","v":"Zone 1"},{"$f":"IF(Stage2=Floor_Stage,Z1_Stage,IF(Z2_Stage =0,Floor_Stage,IF(Z2_Stage>Floor_Stage,Floor_Stage,Z2_Stage)))","v":{"$error":"#N/A"}},{"$f":"INDEX($Q$23:$R$26,MATCH(S24,$Q$23:$Q$26,0),2)","v":{"$error":"#N/A"}},null,null,null,null,null,null,null,null,null,null,null,null,null,null,null,null,null,null,null,null,null,null,null,null,null,null,null,null,null,null,null,null,null,"","","","",""]
[null,null,null,"Optional User Overrides",null,null,null,null,"","","",null,"","","",null,{"$f":"IF(VOL_REQ2=\"\",0,ROUND(IF(User_Stage_Area=0,INDEX($G$116:$O$3116,MATCH(VOL_REQ1+VOL_REQ2,$O$116:$O$3116,1)+1,1),INDEX($G$116:$O$3116,MATCH(VOL_REQ1+VOL_REQ2,$O$116:$O$3116,1)+1,2)),2))","v":0},{"$f":"VLOOKUP(Zone2_Storage_Type,'Program Data'!B79:D87,3)","v":"Zone 2"},{"$f":"IF(Stage2=Floor_Stage,Z2_Stage,IF(Stage3=Floor_Stage,Z2_Stage,Floor_Stage))","v":{"$error":"#N/A"}},{"$f":"IF(Stage4=0,R25,INDEX($Q$23:$R$26,MATCH(S25,$Q$23:$Q$26,0),2))","v":{"$error":"#N/A"}},null,null,null,null,null,null,null,null,null,null,null,null,null,null,null,null,null,null,null,null,null,null,null,null,null,null,null,null,null,null,null,null,null,"","","","",""]
["Water Quality Capture Volume (WQCV) =",{"$f":"IF(OR(BMP_Type=1,Watershed_Area=\"\",Watershed_Imp=\"\",Target_WQCV_Drain_Time=\"\"),\"\",\nIF(User_WQCV<>\"\",User_WQCV,\nIF(OR(BMP_Type=2,BMP_Type=7),1,IF(BMP_Type=3,0.8,IF(BMP_Type = 4,0.9,IF(BMP_Type=5,0.8,0.8))))*(0.91*Watershed_Imp^3-1.19*Watershed_Imp^2+0.78*Watershed_Imp)/12*Watershed_Area))","v":""},"acre-feet",null,"acre-feet",null,null,null,"","","",null,"","","",null,{"$f":"IF(VOL_REQ3=\"\",0,ROUND(IF(User_Stage_Area=0,INDEX($G$116:$O$3116,MATCH(VOL_REQ1+VOL_REQ2+VOL_REQ3,$O$116:$O$3116,1)+1,1),INDEX($G$116:$O$3116,MATCH(VOL_REQ1+VOL_REQ2+VOL_REQ3,$O$116:$O$3116,1)+1,2)),2))","v":0},{"$f":"VLOOKUP(Zone3_Storage_Type,'Program Data'!B91:D99,3)","v":"Zone 3"},{"$f":"IF(Stage2=Floor_Stage,Z3_Stage,IF(Stage3=Floor_Stage,Z3_Stage,IF(Stage4=Floor_Stage,Z3_Stage,Floor_Stage)))","v":{"$error":"#N/A"}},{"$f":"IF(Stage5=0,R26,INDEX($Q$23:$R$26,MATCH(S26,$Q$23:$Q$26,0),2))","v":{"$error":"#N/A"}},null,null,null,null,null,null,null,null,null,null,null,null,null,null,null,null,null,null,null,null,null,null,null,null,null,null,null,null,null,null,null,null,null,"","","","",""]
["Excess Urban Runoff Volume (EURV) =",{"$f":"IF(OR(BMP_Type=1,Watershed_Area=\"\",Watershed_Imp=\"\",SUM(Pct_A,Pct_B,Pct_CD)<>1,Target_WQCV_Drain_Time=\"\"),\"\",\nIF(User_EURV<>\"\",User_EURV,\n(0.14*Watershed_Imp^1.28*Pct_A+0.113*Watershed_Imp^1.08*Pct_B+0.1*Watershed_Imp^1.08*Pct_CD)*Watershed_Area))","v":""},"acre-feet",null,"acre-feet",null,null,null,"","","",null,"","","",null,null,null,null,null,null,null,null,null,null,null,null,null,null,null,null,null,null,null,null,null,null,null,null,null,null,null,null,null,null,null,null,null,null,null,null,null,null,"","","","",""]
[{"$f":"\"2-yr Runoff Volume (P1 = \" & ROUND(IF(P_2yr_User=\"\",VLOOKUP('Program Data'!$B$50,'Program Data'!$B$4:$M$49,6),P_2yr_User),2) & \" in.) =\"","v":"2-yr Runoff Volume (P1 = 0.83 in.) ="},null,"acre-feet",null,"inches",null,null,null,"","","",null,"","","",null,null,null,null,null,null,null,null,null,null,null,null,null,null,null,null,null,null,null,null,null,null,null,null,null,null,null,null,null,null,null,null,null,null,null,null,null,null,"","","","",""]
[{"$f":"\"5-yr Runoff Volume (P1 = \" & ROUND(IF(P_5yr_User=\"\",VLOOKUP('Program Data'!$B$50,'Program Data'!$B$4:$M$49,7),P_5yr_User),2) & \" in.) =\"","v":"5-yr Runoff Volume (P1 = 1.09 in.) ="},null,"acre-feet",null,"inches",null,null,null,"","","",null,"","","",null,null,null,null,null,null,null,null,null,null,null,null,null,null,null,null,null,null,null,null,null,null,null,null,null,null,null,null,null,null,null,null,null,null,null,null,null,null,"","","","",""]
[{"$f":"\"10-yr Runoff Volume (P1 = \" & ROUND(IF(P_10yr_User=\"\",VLOOKUP('Program Data'!$B$50,'Program Data'!$B$4:$M$49,8),P_10yr_User),2) & \" in.) =\"","v":"10-yr Runoff Volume (P1 = 1.33 in.) ="},null,"acre-feet",null,"inches",null,null,null,"","","",null,"","","",null,null,null,null,null,null,null,null,null,null,null,null,null,null,null,null,null,null,null,null,null,null,null,null,null,null,null,null,null,null,null,null,null,null,null,null,null,null,"","","","",""]
[{"$f":"\"25-yr Runoff Volume (P1 = \" & ROUND(IF(P_25yr_User=\"\",VLOOKUP('Program Data'!$B$50,'Program Data'!$B$4:$M$49,9),P_25yr_User),2) & \" in.) =\"","v":"25-yr Runoff Volume (P1 = 1.69 in.) ="},null,"acre-feet",null,"inches",null,null,null,"","","",null,"","","",null,null,null,null,null,null,null,null,null,null,null,null,null,null,null,null,null,null,null,null,null,null,null,null,null,null,null,null,null,null,null,null,null,null,null,null,null,null,"","","","",""]
[{"$f":"\"50-yr Runoff Volume (P1 = \" & ROUND(IF(P_50yr_User=\"\",VLOOKUP('Program Data'!$B$50,'Program Data'!$B$4:$M$49,10),P_50yr_User),2) & \" in.) =\"","v":"50-yr Runoff Volume (P1 = 1.99 in.) ="},null,"acre-feet",null,"inches",null,null,null,"","","",null,"","","",null,null,null,null,null,null,null,null,null,null,null,null,null,null,null,null,null,null,null,null,null,null,null,null,null,null,null,null,null,null,null,null,null,null,null,null,null,null,"","","","",""]
[{"$f":"\"100-yr Runoff Volume (P1 = \" & ROUND(IF(P_100yr_User=\"\",VLOOKUP('Program Data'!$B$50,'Program Data'!$B$4:$M$49,11),P_100yr_User),2) & \" in.) =\"","v":"100-yr Runoff Volume (P1 = 2.31 in.) ="},null,"acre-feet",null,"inches",null,null,null,"","","",null,"","","",null,null,null,null,null,null,null,null,null,null,null,null,null,null,null,null,null,null,null,null,null,null,null,null,null,null,null,null,null,null,null,null,null,null,null,null,null,null,"","","","",""]
[{"$f":"\"500-yr Runoff Volume (P1 = \" & ROUND(IF(P_500yr_User=\"\",VLOOKUP('Program Data'!$B$50,'Program Data'!$B$4:$M$49,12),P_500yr_User),2) & \" in.) =\"","v":"500-yr Runoff Volume (P1 = 3.14 in.) ="},null,"acre-feet",null,"inches",null,null,null,"","","",null,"","","",null,null,null,null,null,null,null,null,null,null,null,null,null,null,null,null,null,null,null,null,null,null,null,null,null,null,null,null,null,null,null,null,null,null,null,null,null,null,"","","","",""]
["Approximate 2-yr Detention Volume =",{"$f":"IF(OR(BMP_Type=1,Watershed_Area=\"\",Watershed_Imp=\"\",SUM(Pct_A,Pct_B,Pct_CD)<>1,Target_WQCV_Drain_Time=\"\",CUHP_Outputs_Boolean=\"\"),\"\",((0.078*Watershed_Imp^1.324)*Pct_A+(0.077*Watershed_Imp^1.184)*Pct_B+(0.077*Watershed_Imp^1.134)*Pct_CD)*Watershed_Area*IF(D28=\"\",VLOOKUP('Program Data'!$B$50,'Program Data'!$B$4:$M$49,6),D28))","v":""},"acre-feet",null,null,null,null,null,"","","",null,"","","",null,null,null,null,null,null,null,null,null,null,null,null,null,null,null,null,null,null,null,null,null,null,null,null,null,null,null,null,null,null,null,null,null,null,null,null,null,null,"","","","",""]
["Approximate 5-yr Detention Volume =",{"$f":"IF(OR(BMP_Type=1,Watershed_Area=\"\",Watershed_Imp=\"\",SUM(Pct_A,Pct_B,Pct_CD)<>1,Target_WQCV_Drain_Time=\"\",CUHP_Outputs_Boolean=\"\"),\"\",((0.08*Watershed_Imp^1.298)*Pct_A+(0.079*Watershed_Imp^1.1)*Pct_B+(0.077*Watershed_Imp^1.001+0.003*Watershed_Imp^0.001)*Pct_CD)*Watershed_Area*IF(D29=\"\",VLOOKUP('Program Data'!$B$50,'Program Data'!$B$4:$M$49,7),D29))","v":""},"acre-feet",null,null,null,null,null,"","","",null,"","","",null,null,null,null,null,null,null,null,null,null,null,null,null,null,null,null,null,null,null,null,null,null,null,null,null,null,null,null,null,null,null,null,null,null,null,null,null,null,"","","","",""]
["Approximate 10-yr Detention Volume =",{"$f":"IF(OR(BMP_Type=1,Watershed_Area=\"\",Watershed_Imp=\"\",SUM(Pct_A,Pct_B,Pct_CD)<>1,Target_WQCV_Drain_Time=\"\",CUHP_Outputs_Boolean=\"\"),\"\",((0.081*Watershed_Imp^1.251)*Pct_A+(0.077*Watershed_Imp^1.056+0.005*Watershed_Imp^0.056)*Pct_B+(0.069*Watershed_Imp^1.167+0.011*Watershed_Imp^0.167)*Pct_CD)*Watershed_Area*IF(D30=\"\",VLOOKUP('Program Data'!$B$50,'Program Data'!$B$4:$M$49,8),D30))","v":""},"acre-feet",null,null,null,null,null,"","","",null,"","","",null,null,null,null,null,null,null,null,null,null,null,null,null,null,null,null,null,null,null,null,null,null,null,null,null,null,null,null,null,null,null,null,null,null,null,null,null,null,"","","","",""]
["Approximate 25-yr Detention Volume =",{"$f":"IF(OR(BMP_Type=1,Watershed_Area=\"\",Watershed_Imp=\"\",SUM(Pct_A,Pct_B,Pct_CD)<>1,Target_WQCV_Drain_Time=\"\",CUHP_Outputs_Boolean=\"\"),\"\",((0.083*Watershed_Imp^1.188)*Pct_A+(0.056*Watershed_Imp^1.29+0.021*Watershed_Imp^0.29)*Pct_B+(0.048*Watershed_Imp^1.382+0.026*Watershed_Imp^0.382)*Pct_CD)*Watershed_Area*IF(D31=\"\",VLOOKUP('Program Data'!$B$50,'Program Data'!$B$4:$M$49,9),D31))","v":""},"acre-feet",null,null,null,null,null,"","","",null,"","","",null,null,null,null,null,null,null,null,null,null,null,null,null,null,null,null,null,null,null,null,null,null,null,null,null,null,null,null,null,null,null,null,null,null,null,null,null,null,"","","","",""]
["Approximate 50-yr Detention Volume =",{"$f":"IF(OR(BMP_Type=1,Watershed_Area=\"\",Watershed_Imp=\"\",SUM(Pct_A,Pct_B,Pct_CD)<>1,Target_WQCV_Drain_Time=\"\",CUHP_Outputs_Boolean=\"\"),\"\",((0.078*Watershed_Imp^1.182+0.002*Watershed_Imp^0.182)*Pct_A+(0.045*Watershed_Imp^1.381+0.026*Watershed_Imp^0.381)*Pct_B+(0.037*Watershed_Imp^1.457+0.03*Watershed_Imp^0.457)*Pct_CD)*Watershed_Area*IF(D32=\"\",VLOOKUP('Program Data'!$B$50,'Program Data'!$B$4:$M$49,10),D32))","v":""},"acre-feet",null,null,null,null,null,"","","",null,"","","",null,null,null,null,null,null,null,null,null,null,null,null,null,null,null,null,null,null,null,null,null,null,null,null,null,null,null,null,null,null,null,null,null,null,null,null,null,null,"","","","",""]
["Approximate 100-yr Detention Volume =",{"$f":"IF(OR(BMP_Type=1,Watershed_Area=\"\",Watershed_Imp=\"\",SUM(Pct_A,Pct_B,Pct_CD)<>1,Target_WQCV_Drain_Time=\"\",CUHP_Outputs_Boolean=\"\"),\"\",((0.067*Watershed_Imp^1.225+0.009*Watershed_Imp^0.225)*Pct_A+(0.034*Watershed_Imp^1.371+0.031*Watershed_Imp^0.371)*Pct_B+(0.028*Watershed_Imp^1.389+0.033*Watershed_Imp^0.389)*Pct_CD)*Watershed_Area*IF(D33=\"\",VLOOKUP('Program Data'!$B$50,'Program Data'!$B$4:$M$49,11),D33))","v":""},"acre-feet",null,null,null,null,null,"","","",null,"","","",null,null,null,null,null,null,null,null,null,null,null,null,null,null,null,null,null,null,null,null,null,null,null,null,null,null,null,null,null,null,null,null,null,null,null,null,null,null,"","","","",""]
[null,null,null,null,null,null,null,null,"","","",null,"","","",null,null,null,null,null,null,null,null,null,null,null,null,null,null,null,null,null,null,null,null,null,null,null,null,null,null,null,null,null,null,null,null,null,null,null,null,null,null,"","","","",""]
["Define Zones and Basin Geometry",null,null,null,null,null,null,null,"","","",null,"","",{"$f":"IF(N42=\"\",\"\",(N42/43560))","v":""},null,null,null,null,null,null,null,null,null,null,null,null,null,null,null,null,null,null,null,null,null,null,null,null,null,null,null,null,null,null,null,null,null,null,null,null,null,null,"","","","",""]
[{"$f":"'Program Data'!D76","v":"Select Zone 1 Storage Volume (Required) ="},null,"acre-feet",{"$f":"IF(OR(VOL_REQ1=\"\",BMP_Type=7),\"\",\nIF(Zone1_Storage_Type=10,IF(VOL_REQ1>=FLOOR(Calc_WQCV,0.01),\"\",\"WQCV not provided!\"),\nIF(AND(VOL_REQ1>=FLOOR(Calc_WQCV,0.01),VOL_REQ1<=CEILING(Calc_WQCV,0.01)),\"\",\"WQCV not provided!\")))","v":""},null,null,null,null,{"$f":"IF(User_Stage_Area=1,\"--\",IF(COUNTA=0,\"\",IF($G43=\"\",\"\",INDEX($G$116:$O$3116,MATCH($G43,$G$116:$G$3116,1),3))))","v":""},{"$f":"IF(User_Stage_Area=1,\"--\",IF(COUNTA=0,\"\",IF($G43=\"\",\"\",INDEX($G$116:$O$3116,MATCH($G43,$G$116:$G$3116,1),4))))","v":""},{"$f":"IF(User_Stage_Area=1,\"--\",IF(COUNTA=0,\"\",IF($G43=\"\",\"\",INDEX($G$116:$O$3116,MATCH($G43,$G$116:$G$3116,1),5))))","v":""},null,"","","",null,null,null,null,null,null,null,null,null,null,null,null,null,null,null,null,null,null,null,null,null,null,null,null,null,null,null,null,null,null,null,null,null,null,null,null,null,null,"","","","",""]
[{"$f":"'Program Data'!D88","v":"Select Zone 2 Storage Volume (Optional) ="},null,"acre-feet",{"$f":"IF(VOL_REQ=\"\",\"\",IF(Req_100yr_Vol = \"\",\"\",IF(VOL_REQ>=FLOOR(Req_100yr_Vol,0.01),\"\",\"Total detention volume is less than 100-year volume.\")))","v":""},null,null,null,null,"","","",null,"",{"$f":"IF(User_Stage_Area=0,IF(COUNTA=0,\"\",IF($G44=\"\",\"\",INDEX($G$116:$O$3116,MATCH($G44,$G$116:$G$3116,1),8))),IF(OR(H43=\"\",H44=\"\",L44=\"\"),\"\",INDEX($G$116:$O$3116,MATCH($H44,$H$116:$H$3116,1),8)))","v":""},"",null,null,null,null,null,null,null,null,null,null,null,null,null,null,null,null,null,null,null,null,null,null,null,null,null,null,null,null,null,null,null,null,null,null,null,null,null,null,"","","","",""]
[{"$f":"'Program Data'!D100","v":"Select Zone 3 Storage Volume (Optional) ="},null,"acre-feet",null,null,null,null,null,"","","",null,"","","",null,null,null,null,null,null,null,null,null,null,null,null,null,null,null,null,null,null,null,null,null,null,null,null,null,null,null,null,null,null,null,null,null,null,null,null,null,null,"","","","",""]
["Total Detention Basin Volume =",{"$f":"IF(VOL_REQ1=\"\",\"\",SUM(B43:B45))","v":""},"acre-feet",null,null,null,null,null,"","","",null,"","","",null,null,null,null,null,null,null,null,null,null,null,null,null,null,null,null,null,null,null,null,null,null,null,null,null,null,null,null,null,null,null,null,null,null,null,null,null,null,"","","","",""]
["Initial Surcharge Volume (ISV) =",null,"ft 3",null,null,null,null,null,"","","",null,"","","",null,null,null,null,null,null,null,null,null,null,null,null,null,null,null,null,null,null,null,null,null,null,null,null,null,null,null,null,null,null,null,null,null,null,null,null,null,null,"","","","",""]
["Initial Surcharge Depth (ISD) =",null,"ft",null,null,null,null,null,"","","",null,"","","",null,null,null,null,null,null,null,null,null,null,null,null,null,null,null,null,null,null,null,null,null,null,null,null,null,null,null,null,null,null,null,null,null,null,null,null,null,null,"","","","",""]
["Total Available Detention Depth (Htotal) =",null,"ft",null,null,null,null,null,"","","",null,"","","",null,null,null,null,null,null,null,null,null,null,null,null,null,null,null,null,null,null,null,null,null,null,null,null,null,null,null,null,null,null,null,null,null,null,null,null,null,null,"","","","",""]
["Depth of Trickle Channel (HTC) =",null,"ft",null,null,null,null,null,"","","",null,"","","",null,null,null,null,null,null,null,null,null,null,null,null,null,null,null,null,null,null,null,null,null,null,null,null,null,null,null,null,null,null,null,null,null,null,null,null,null,null,"","","","",""]
["Slope of Trickle Channel (STC) =",null,"ft/ft",null,null,null,null,null,"","","",null,"","","",null,null,null,null,null,null,null,null,null,null,null,null,null,null,null,null,null,null,null,null,null,null,null,null,null,null,null,null,null,null,null,null,null,null,null,null,null,null,"","","","",""]
["Slopes of Main Basin Sides (Smain) =",null,"H:V",{"$f":"IF(S_MAIN=\"\",\"\",IF(S_MAIN=0,\"Vertical Walls\",IF(S_MAIN<3,\"Smain not typical.\",\"\")))","v":""},null,null,null,null,"","","",null,"","","",null,null,null,null,null,null,null,null,null,null,null,null,null,null,null,null,null,null,null,null,null,null,null,null,null,null,null,null,null,null,null,null,null,null,null,null,null,null,"","","","",""]
["Basin Length-to-Width Ratio (RL/W) =",null,null,{"$f":"IF(Select_BMP_Type<>\"EDB\",\"\",IF(RATIO=\"\",\"\",IF(RATIO>=2,\"\",\"Ratio not typical.\")))","v":""},null,null,null,null,"","","",null,"","","",null,null,null,null,null,null,null,null,null,null,null,null,null,null,null,null,null,null,null,null,null,null,null,null,null,null,null,null,null,null,null,null,null,null,null,null,null,null,"","","","",""]
[null,null,null,null,null,null,null,null,"","","",null,"","","",null,null,null,null,null,null,null,null,null,null,null,null,null,null,null,null,null,null,null,null,null,null,null,null,null,null,null,null,null,null,null,null,null,null,null,null,null,null,"","","","",""]
["Initial Surcharge Area (AISV) =",{"$f":"IF(COUNTA=0,\"\",IF(User_Stage_Area=1,\"user\",IF(OR(ISV=\"N/A\",ISV=0,H_ISV=\"N/A\",H_ISV=0),0,ISV/H_ISV)))","v":""},"ft 2",null,null,null,null,null,"","","",null,"","","",null,null,null,null,null,null,null,null,null,null,null,null,null,null,null,null,null,null,null,null,null,null,null,null,null,null,null,null,null,null,null,null,null,null,null,null,null,null,"","","","",""]
["Surcharge Volume Length (LISV) =",{"$f":"IF(COUNTA=0,\"\",IF(User_Stage_Area=1,\"user\",IF(A_ISV=\"N/A\",0,A_ISV^0.5)))","v":""},"ft",null,null,null,null,null,"","","",null,"","","",null,null,null,null,null,null,null,null,null,null,null,null,null,null,null,null,null,null,null,null,null,null,null,null,null,null,null,null,null,null,null,null,null,null,null,null,null,null,"","","","",""]
["Surcharge Volume Width (WISV) =",{"$f":"IF(COUNTA=0,\"\",IF(User_Stage_Area=1,\"user\",IF(A_ISV=\"N/A\",0,A_ISV^0.5)))","v":""},"ft",null,null,null,null,null,"","","",null,"","","",null,null,null,null,null,null,null,null,null,null,null,null,null,null,null,null,null,null,null,null,null,null,null,null,null,null,null,null,null,null,null,null,null,null,null,null,null,null,"","","","",""]
["Depth of Basin Floor (HFLOOR) =",{"$f":"IF(COUNTA=0,\"\",IF(User_Stage_Area=1,\"user\",IF(BMP_Type = 2,H_FLOOR,0)))","v":""},"ft",null,null,null,null,null,"","","",null,"","","",null,null,null,null,null,null,null,null,null,null,null,null,null,null,null,null,null,null,null,null,null,null,null,null,null,null,null,null,null,null,null,null,null,null,null,null,null,null,"","","","",""]
["Length of Basin Floor (LFLOOR) =",{"$f":"IF(COUNTA=0,\"\",IF(User_Stage_Area=1,\"user\",IF(BMP_Type = 2,L_ISV+H_FLOOR/S_TC+H_FLOOR*S_MAIN,L_FLOOR_OTHER)))","v":""},"ft",null,null,null,null,null,"","","",null,"","","",null,null,null,null,null,null,null,null,null,null,null,null,null,null,null,null,null,null,null,null,null,null,null,null,null,null,null,null,null,null,null,null,null,null,null,null,null,null,"","","","",""]
["Width of Basin Floor (WFLOOR) =",{"$f":"IF(COUNTA=0,\"\",IF(User_Stage_Area=1,\"user\",IF(BMP_Type = 2,W_ISV+H_FLOOR/(RATIO*S_TC),L_FLOOR/RATIO)))","v":""},"ft",null,null,null,null,null,"","","",null,"","","",null,null,null,null,null,null,null,null,null,null,null,null,null,null,null,null,null,null,null,null,null,null,null,null,null,null,null,null,null,null,null,null,null,null,null,null,null,null,"","","","",""]
["Area of Basin Floor (AFLOOR) =",{"$f":"IF(COUNTA=0,\"\",IF(User_Stage_Area=1,\"user\",L_FLOOR*W_FLOOR))","v":""},"ft 2",null,null,null,null,null,"","","",null,"","",{"$f":"IF(N61=\"\",\"\",(N61/43560))","v":""},null,null,null,null,null,null,null,null,null,null,null,null,null,null,null,null,null,null,null,null,null,null,null,null,null,null,null,null,null,null,null,null,null,null,null,null,null,null,"","","","",""]
["Volume of Basin Floor (VFLOOR) =",{"$f":"IF(COUNTA=0,\"\",IF(User_Stage_Area=1,\"user\",(H_FLOOR/3)*(A_ISV+A_FLOOR+(A_ISV*A_FLOOR)^0.5)))","v":""},"ft 3",null,null,null,null,null,"","","",null,"","","",null,null,null,null,null,null,null,null,null,null,null,null,null,null,null,null,null,null,null,null,null,null,null,null,null,null,null,null,null,null,null,null,null,null,null,null,null,null,"","","","",""]
["Depth of Main Basin (HMAIN) =",{"$f":"IF(COUNTA=0,\"\",IF(User_Stage_Area=1,\"user\",IF(BMP_Type = 2,H_AVAIL-H_FLOOR-H_TC-H_ISV,H_AVAIL)))","v":""},"ft",null,null,null,null,null,"","","",null,"","","",null,null,null,null,null,null,null,null,null,null,null,null,null,null,null,null,null,null,null,null,null,null,null,null,null,null,null,null,null,null,null,null,null,null,null,null,null,null,"","","","",""]
["Length of Main Basin (LMAIN) =",{"$f":"IF(COUNTA=0,\"\",IF(User_Stage_Area=1,\"user\",L_FLOOR+2*H_MAIN*S_MAIN))","v":""},"ft",null,null,null,null,null,"","","",null,"","","",null,null,null,null,null,null,null,null,null,null,null,null,null,null,null,null,null,null,null,null,null,null,null,null,null,null,null,null,null,null,null,null,null,null,null,null,null,null,"","","","",""]
["Width of Main Basin (WMAIN) =",{"$f":"IF(COUNTA=0,\"\",IF(User_Stage_Area=1,\"user\",W_FLOOR+2*H_MAIN*S_MAIN))","v":""},"ft",null,null,null,null,null,"","","",null,"","","",null,null,null,null,null,null,null,null,null,null,null,null,null,null,null,null,null,null,null,null,null,null,null,null,null,null,null,null,null,null,null,null,null,null,null,null,null,null,"","","","",""]
["Area of Main Basin (AMAIN) =",{"$f":"IF(COUNTA=0,\"\",IF(User_Stage_Area=1,\"user\",L_MAIN*W_MAIN))","v":""},"ft 2",null,null,null,null,null,"","","",null,"","","",null,null,null,null,null,null,null,null,null,null,null,null,null,null,null,null,null,null,null,null,null,null,null,null,null,null,null,null,null,null,null,null,null,null,null,null,null,null,"","","","",""]
["Volume of Main Basin (VMAIN) =",{"$f":"IF(COUNTA=0,\"\",IF(User_Stage_Area=1,\"user\",(H_MAIN/3)*(A_FLOOR+A_MAIN+(A_FLOOR*A_MAIN)^0.5)))","v":""},"ft 3",null,null,null,null,null,"","","",null,"","","",null,null,null,null,null,null,null,null,null,null,null,null,null,null,null,null,null,null,null,null,null,null,null,null,null,null,null,null,null,null,null,null,null,null,null,null,null,null,"","","","",""]
["Calculated Total Basin Volume (Vtotal) =",{"$f":"IF(COUNTA=0,\"\",IF(User_Stage_Area=1,\"user\",IF(BMP_Type=2,(ISV+(H_TC*A_ISV)+V_FLOOR+V_MAIN)/43560,V_MAIN/43560)))","v":""},"acre-feet",null,null,null,null,null,"","","",null,"","","",null,null,null,null,null,null,null,null,null,null,null,null,null,null,null,null,null,null,null,null,null,null,null,null,null,null,null,null,null,null,null,null,null,null,null,null,null,null,"","","","",""]
[null,null,null,null,null,null,null,null,"","","",null,"","","",null,null,null,null,null,null,null,null,null,null,null,null,null,null,null,null,null,null,null,null,null,null,null,null,null,null,null,null,null,null,null,null,null,null,null,null,null,null,"","","","",""]
[{"$f":"IF(BMP_Type=5,IF(A_FLOOR<0.0125*Watershed_Area*Watershed_Imp*43560,\"The area of the basin floor is not adequately sized for the watershed and may clog prematurely.  Decrease the available detention depth to increase the basin floor area or enter stage/area data using the optional override.\",\"\"),IF(BMP_Type=6,IF(A_FLOOR<0.02*Watershed_Area*Watershed_Imp*43560,\"The area of the basin floor is not adequately sized for the watershed and may clog prematurely.  Decrease the available detention depth to increase the basin floor area or enter stage/area data using the optional override.\",\"\"),\"\"))","v":""},null,null,null,null,null,null,null,"","","",null,"","","",null,null,null,null,null,null,null,null,null,null,null,null,null,null,null,null,null,null,null,null,null,null,null,null,null,null,null,null,null,null,null,null,null,null,null,null,null,null,"","","","",""]
[null,null,null,null,null,null,null,null,"","","",null,"","","",null,null,null,null,null,null,null,null,null,null,null,null,null,null,null,null,null,null,null,null,null,null,null,null,null,null,null,null,null,null,null,null,null,null,null,null,null,null,"","","","",""]
[null,null,null,null,null,null,null,null,"","","",null,"","","",null,null,null,null,null,null,null,null,null,null,null,null,null,null,null,null,null,null,null,null,null,null,null,null,null,null,null,null,null,null,null,null,null,null,null,null,null,null,"","","","",""]
[null,null,null,null,null,null,null,null,"","","",null,"","","",null,null,null,null,null,null,null,null,null,null,null,null,null,null,null,null,null,null,null,null,null,null,null,null,null,null,null,null,null,null,null,null,null,null,null,null,null,null,"","","","",""]
[null,null,null,null,null,null,null,null,"","","",null,"","","",null,null,null,null,null,null,null,null,null,null,null,null,null,null,null,null,null,null,null,null,null,null,null,null,null,null,null,null,null,null,null,null,null,null,null,null,null,null,"","","","",""]
[null,null,null,null,null,null,null,null,{"$f":"IF(User_Stage_Area=1,\"--\",IF(COUNTA=0,\"\",IF($G75=\"\",\"\",INDEX($G$116:$O$3116,MATCH($G75,$G$116:$G$3116,1),3))))","v":""},{"$f":"IF(User_Stage_Area=1,\"--\",IF(COUNTA=0,\"\",IF($G75=\"\",\"\",INDEX($G$116:$O$3116,MATCH($G75,$G$116:$G$3116,1),4))))","v":""},{"$f":"IF(User_Stage_Area=1,\"--\",IF(COUNTA=0,\"\",IF($G75=\"\",\"\",INDEX($G$116:$O$3116,MATCH($G75,$G$116:$G$3116,1),5))))","v":""},null,"","","",null,null,null,null,null,null,null,null,null,null,null,null,null,null,null,null,null,null,null,null,null,null,null,null,null,null,null,null,null,null,null,null,null,null,null,null,null,null,"","","","",""]
[null,null,null,null,null,null,null,null,"","","",null,{"$f":"IF(L76=\"\",IF(K76=\"\",\"\",IF(K76=\"--\",\"\",(K76/43560))),(L76/43560))","v":""},{"$f":"IF(User_Stage_Area=0,IF(COUNTA=0,\"\",IF($G76=\"\",\"\",INDEX($G$116:$O$3116,MATCH($G76,$G$116:$G$3116,1),8))),IF(OR(H75=\"\",H76=\"\",L76=\"\"),\"\",INDEX($G$116:$O$3116,MATCH($H76,$H$116:$H$3116,1),8)))","v":""},"",null,null,null,null,null,null,null,null,null,null,null,null,null,null,null,null,null,null,null,null,null,null,null,null,null,null,null,null,null,null,null,null,null,null,null,null,null,null,{"$f":"IF(I76=\"\",\"\",IF(I76=\"--\",\"\",I76))","v":""},{"$f":"IF(J76=\"\",\"\",IF(J76=\"--\",\"\",J76))","v":""},{"$f":"IF(K76=\"\",\"\",IF(K76=\"--\",IF(L76=\"\",\"\",L76),K76))","v":""},{"$f":"IF(M76=\"\",\"\",M76)","v":""},{"$f":"IF(O76=\"\",\"\",O76)","v":""}]
[null,null,null,null,null,null,null,null,"","","",null,"","","",null,null,null,null,null,null,null,null,null,null,null,null,null,null,null,null,null,null,null,null,null,null,null,null,null,null,null,null,null,null,null,null,null,null,null,null,null,null,"","","","",""]
[null,null,null,null,null,null,null,null,"","","",null,"","","",null,null,null,null,null,null,null,null,null,null,null,null,null,null,null,null,null,null,null,null,null,null,null,null,null,null,null,null,null,null,null,null,null,null,null,null,null,null,"","","","",""]
[null,null,null,null,null,null,null,null,"","","",null,"","","",null,null,null,null,null,null,null,null,null,null,null,null,null,null,null,null,null,null,null,null,null,null,null,null,null,null,null,null,null,null,null,null,null,null,null,null,null,null,"","","","",""]
[null,null,null,null,null,null,null,null,"","","",null,"","","",null,null,null,null,null,null,null,null,null,null,null,null,null,null,null,null,null,null,null,null,null,null,null,null,null,null,null,null,null,null,null,null,null,null,null,null,null,null,"","","","",""]
[null,null,null,null,null,null,null,null,"","","",null,"","","",null,null,null,null,null,null,null,null,null,null,null,null,null,null,null,null,null,null,null,null,null,null,null,null,null,null,null,null,null,null,null,null,null,null,null,null,null,null,"","","","",""]
[null,null,null,null,null,null,null,null,"","","",null,"","","",null,null,null,null,null,null,null,null,null,null,null,null,null,null,null,null,null,null,null,null,null,null,null,null,null,null,null,null,null,null,null,null,null,null,null,null,null,null,"","","","",""]
[null,null,null,null,null,null,null,null,"","","",null,"","","",null,null,null,null,null,null,null,null,null,null,null,null,null,null,null,null,null,null,null,null,null,null,null,null,null,null,null,null,null,null,null,null,null,null,null,null,null,null,"","","","",""]
[null,null,null,null,null,null,null,null,"","","",null,"","","",null,null,null,null,null,null,null,null,null,null,null,null,null,null,null,null,null,null,null,null,null,null,null,null,null,null,null,null,null,null,null,null,null,null,null,null,null,null,"","","","",""]
[null,null,null,null,null,null,null,null,"","","",null,"","","",null,null,null,null,null,null,null,null,null,null,null,null,null,null,null,null,null,null,null,null,null,null,null,null,null,null,null,null,null,null,null,null,null,null,null,null,null,null,"","","","",""]
[null,null,null,null,null,null,null,null,"","","",null,"","","",null,null,null,null,null,null,null,null,null,null,null,null,null,null,null,null,null,null,null,null,null,null,null,null,null,null,null,null,null,null,null,null,null,null,null,null,null,null,"","","","",""]
[null,null,null,null,null,null,null,null,"","","",null,"","","",null,null,null,null,null,null,null,null,null,null,null,null,null,null,null,null,null,null,null,null,null,null,null,null,null,null,null,null,null,null,null,null,null,null,null,null,null,null,"","","","",""]
[null,null,null,null,null,null,null,null,"","","",null,"","","",null,null,null,null,null,null,null,null,null,null,null,null,null,null,null,null,null,null,null,null,null,null,null,null,null,null,null,null,null,null,null,null,null,null,null,null,null,null,"","","","",""]
[null,null,null,null,null,null,null,null,"","","",null,"","","",null,null,null,null,null,null,null,null,null,null,null,null,null,null,null,null,null,null,null,null,null,null,null,null,null,null,null,null,null,null,null,null,null,null,null,null,null,null,"","","","",""]
[null,null,null,null,null,null,null,null,"","","",null,"","","",null,null,null,null,null,null,null,null,null,null,null,null,null,null,null,null,null,null,null,null,null,null,null,null,null,null,null,null,null,null,null,null,null,null,null,null,null,null,"","","","",""]
[null,null,null,null,null,null,null,null,"","","",null,"","","",null,null,null,null,null,null,null,null,null,null,null,null,null,null,null,null,null,null,"",null,null,null,null,null,null,null,null,null,null,null,null,null,null,null,null,null,null,null,"","","","",""]
[null,null,null,null,null,null,null,null,"","","",null,"","","",null,null,null,null,null,null,null,null,null,null,null,null,null,null,null,null,null,null,"",null,null,null,null,null,null,null,null,null,null,null,null,null,null,null,null,null,null,null,"","","","",""]
[null,null,null,null,null,null,null,null,"","","",null,"","","",null,null,null,null,null,null,null,null,null,null,null,null,null,null,null,null,null,null,"",null,null,null,null,null,null,null,null,null,null,null,null,null,null,null,null,null,null,null,"","","","",""]
[null,null,null,null,null,null,null,null,"","","",null,"","","",null,null,null,null,null,null,null,null,null,null,null,null,null,null,null,null,null,null,"",null,null,null,null,null,null,null,null,null,null,null,null,null,null,null,null,null,null,null,"","","","",""]
[null,null,null,null,null,null,null,null,"","","",null,"","","",null,null,null,null,null,null,null,null,null,null,null,null,null,null,null,null,null,null,"",null,null,null,null,null,null,null,null,null,null,null,null,null,null,null,null,null,null,null,"","","","",""]
[null,null,null,null,null,null,null,null,"","","",null,"","","",null,null,null,null,null,null,null,null,null,null,null,null,null,null,null,null,null,null,"",null,null,null,null,null,null,null,null,null,null,null,null,null,null,null,null,null,null,null,"","","","",""]
[null,null,null,null,null,null,null,null,"","","",null,"","","",null,null,null,null,null,null,null,null,null,null,null,null,null,null,null,null,null,null,"",null,null,null,null,null,null,null,null,null,null,null,null,null,null,null,null,null,null,null,"","","","",""]
[null,null,null,null,null,null,null,null,"","","",null,"","","",null,null,null,null,null,null,null,null,null,null,null,null,null,null,null,null,null,null,"",null,null,null,null,null,null,null,null,null,null,null,null,null,null,null,null,null,null,null,"","","","",""]
[null,null,null,null,null,null,null,null,"","","",null,"","","",null,null,null,null,null,null,null,null,null,null,null,null,null,null,null,null,null,null,"",null,null,null,null,null,null,null,null,null,null,null,null,null,null,null,null,null,null,null,"","","","",""]
[null,null,null,null,null,null,null,null,"","","",null,"","","",null,null,null,null,null,null,null,null,null,null,null,null,null,null,null,null,null,null,"",null,null,null,null,null,null,null,null,null,null,null,null,null,null,null,null,null,null,null,"","","","",""]
[null,null,null,null,null,null,null,null,"","","",null,"","",{"$f":"IF(N101=\"\",\"\",(N101/43560))","v":""},null,null,null,null,null,null,null,null,null,null,null,null,null,null,null,null,null,null,"",null,null,null,null,null,null,null,null,null,null,null,null,null,null,null,null,null,null,null,"","","","",""]
[null,null,null,null,null,null,null,null,"","","",null,"","","",null,null,null,null,null,null,null,null,null,null,null,null,null,null,null,null,null,null,"",null,null,null,null,null,null,null,null,null,null,null,null,null,null,null,null,null,null,null,"","","","",""]
[null,null,null,null,null,null,null,null,"","","",null,"","","",null,null,null,null,null,null,null,null,null,null,null,null,null,null,null,null,null,null,"",null,null,null,null,null,null,null,null,null,null,null,null,null,null,null,null,null,null,null,"","","","",""]
[null,null,null,null,null,null,null,null,"","","",null,"","","",null,null,null,null,null,null,null,null,null,null,null,null,null,null,null,null,null,null,"",null,null,null,null,null,null,null,null,null,null,null,null,null,null,null,null,null,null,null,"","","","",""]
[null,null,null,null,null,null,null,null,"","","",null,"","","",null,null,null,null,null,null,null,null,null,null,null,null,null,null,null,null,null,null,"",null,null,null,null,null,null,null,null,null,null,null,null,null,null,null,null,null,null,null,"","","","",""]
[null,null,null,null,null,null,null,null,"","","",null,"","","",null,null,null,null,null,null,null,null,null,null,null,null,null,null,null,null,null,null,"",null,null,null,null,null,null,null,null,null,null,null,null,null,null,null,null,null,null,null,"","","","",""]
[null,null,null,null,null,null,null,null,"","","",null,"","","",null,null,null,null,null,null,null,null,null,null,null,null,null,null,null,null,null,null,"",null,null,null,null,null,null,null,null,null,null,null,null,null,null,null,null,null,null,null,"","","","",""]
[null,null,null,null,null,null,null,null,"","","",null,"","","",null,null,null,null,null,null,null,null,null,null,null,null,null,null,null,null,null,null,"",null,null,null,null,null,null,null,null,null,null,null,null,null,null,null,null,null,null,null,"","","","",""]
[null,null,null,null,null,null,null,null,"","","",null,"","","",null,null,null,null,null,null,null,null,null,null,null,null,null,null,null,null,null,null,"",null,null,null,null,null,null,null,null,null,null,null,null,null,null,null,null,null,null,null,"","","","",""]
[]
[null,null,null,null,null,null,null,null,null,null,null,null,null,null,null,null,null,null,null,null,null,null,null,null,null,null,null,null,null,null,null,null,null,null,null,null,null,null,null,null,null,null,null,null,null,null,null,null,null,null,null,null,0,0,0,0,0,0,"min"]
[null,null,null,null,null,null,null,null,null,null,null,null,null,null,null,null,null,null,null,null,null,null,null,null,null,null,null,null,null,null,null,null,null,null,null,null,null,null,null,null,null,null,null,null,null,null,null,null,null,null,null,null,{"$f":"MAX(2,CEILING(MAX(BA$11:BA$109),2))","v":2},{"$f":"MAX(20,CEILING(MAX(BB$11:BB$109),20))","v":20},{"$f":"MAX(20,CEILING(MAX(BC$11:BC$109),20))","v":20},{"$f":"MAX(400,CEILING(MAX(BD$11:BD$109),400))","v":400},{"$f":"MAX(0.02,CEILING(MAX(BE$11:BE$109),0.02))","v":0.02},{"$f":"MAX(0.02,CEILING(MAX(BF$11:BF$109),0.02))","v":0.02},"max"]
[null,null,null,null,null,null,null,null,null,null,null,null,null,null,null,null,null,null,null,null,null,null,null,null,null,null,null,null,null,null,null,null,null,null,null,null,null,null,null,null,null,null,null,null,null,null,null,null,null,null,null,null,{"$f":"BA112/4","v":0.5},5,5,100,5.0000000000000001E-3,5.0000000000000001E-3,"tick mark"]
[null,null,null,null,null,"Stage Description","Stage \n(ft)","Override Stage (ft)","Length \n(ft)","Width \n(ft)","Area \n(ft 2)","Override Area (ft 2)","Area \n(acre)","Volume \n(ft 3)","Volume \n(ac-ft)"]
[]
[null,null,null,null,null,{"$f":"IF(BMP_Type=1,\"\",IF(BMP_Type=2,\"Top of Micropool\",IF(BMP_Type=3,\"Permanent Pool\",IF(BMP_Type=4,\"Permanent Pool\",\"Media Surface\"))))","v":""},{"$f":"IF(User_Stage_Area=1,\"--\",IF(COUNTA=0,\"\",0))","v":""},{"$f":"IF(User_Stage_Area=1,0,IF(COUNTA=0,\"\",\"--\"))","v":""},{"$f":"IF(User_Stage_Area=1,\"--\",IF(COUNTA=0,\"\",IF(BMP_Type=2,L_ISV,L_FLOOR)))","v":""},{"$f":"IF(User_Stage_Area=1,\"--\",IF(COUNTA=0,\"\",IF(BMP_Type=2,W_ISV,L_FLOOR/RATIO)))","v":""},{"$f":"IF(User_Stage_Area=1,\"--\",IF(COUNTA=0,\"\",I116*J116))","v":""},null,{"$f":"IF(K116=\"\",\"\",IF(K116=\"--\",IF(L116=\"\",\"\",L116/43560),K116/43560))","v":""}]
[null,null,null,null,null,null,{"$f":"IF(User_Stage_Area=1,\"--\",IF(COUNTA=0,\"\",ROUND(G116+0.01,2)))","v":""},{"$f":"IF(User_Stage_Area=1,IF(H116=\"\",\"\",IF(H116+0.005<=MAX(UserInput_Stage),ROUND(H116+0.01,2),\"\")),IF(COUNTA=0,\"\",\"--\"))","v":""},{"$f":"IF(User_Stage_Area=1,\"--\",IF(COUNTA=0,\"\",IF(BMP_Type=2,IF(G117<=H_ISV+H_TC,L_ISV,IF(G117<=H_FLOOR+H_ISV+H_TC,L_ISV+(G117-H_ISV-H_TC)/S_TC+(G117-H_ISV-H_TC)*S_MAIN,L_FLOOR+2*(G117-H_FLOOR-H_ISV-H_TC)*S_MAIN)),L_FLOOR+2*G117*S_MAIN)))","v":""},{"$f":"IF(User_Stage_Area=1,\"--\",IF(COUNTA=0,\"\",IF(BMP_Type=2,IF(G117<=H_ISV+H_TC,L_ISV,IF(G117<=H_FLOOR+H_ISV+H_TC,W_ISV+(G117-H_ISV-H_TC)/(RATIO*S_TC),W_FLOOR+2*(G117-H_FLOOR-H_ISV-H_TC)*S_MAIN)),W_FLOOR+2*G117*S_MAIN)))","v":""},"",null,{"$f":"IF(K117=\"\",\"\",IF(K117=\"--\",IF(L117=\"\",\"\",L117/43560),K117/43560))","v":""},{"$f":"IF(K117=\"\",\"\",IF(K117=\"--\",IF(L117=\"\",\"\",N116+(H117-H116)/3*(L116+L117+(L116*L117)^0.5)),N116+(G117-G116)/3*(K116+K117+(K116*K117)^0.5)))","v":""},{"$f":"IF(N117=\"\",\"\",N117/43560)","v":""}]
[null,null,null,null,null,null,"","","","","",null,"",{"$f":"IF(K118=\"\",\"\",IF(K118=\"--\",IF(L118=\"\",\"\",N117+(H118-H117)/3*(L117+L118+(L117*L118)^0.5)),N117+(G118-G117)/3*(K117+K118+(K117*K118)^0.5)))","v":""},{"$f":"IF(N118=\"\",\"\",N118/43560)","v":""}]
[null,null,null,null,null,null,"","","","","",null,"","",""]
[null,null,null,null,null,null,"","","","","",null,"","",""]
[null,null,null,null,null,null,"","","","","",null,"","",""]
[null,null,null,null,null,null,"","","","","",null,"","",""]
[null,null,null,null,null,null,"","","","","",null,"","",""]
[null,null,null,null,null,null,"","","","","",null,"","",""]
[null,null,null,null,null,null,"","","","","",null,"","",""]
[null,null,null,null,null,null,"","","","","",null,"","",""]
[null,null,null,null,null,null,"","","","","",null,"","",""]
[null,null,null,null,null,null,"","","","","",null,"","",""]
[null,null,null,null,null,null,"","","","","",null,"","",""]
[null,null,null,null,null,null,"","","","","",null,"","",""]
[null,null,null,null,null,null,"","","","","",null,"","",""]
[null,null,null,null,null,null,"","","","","",null,"","",""]
[null,null,null,null,null,null,"","","","","",null,"","",""]
[null,null,null,null,null,null,"","","","","",null,"","",""]
[null,null,null,null,null,null,"","","","","",null,"","",""]
[null,null,null,null,null,null,"","","","","",null,"","",""]
[null,null,null,null,null,null,"","","","","",null,"","",""]
[null,null,null,null,null,null,"","","","","",null,"","",""]
[null,null,null,null,null,null,"","","","","",null,"","",""]
[null,null,null,null,null,null,"","","","","",null,"","",""]
[null,null,null,null,null,null,"","","","","",null,"","",""]
[null,null,null,null,null,null,"","","","","",null,"","",""]
[null,null,null,null,null,null,"","","","","",null,"","",""]
[null,null,null,null,null,null,"","","","","",null,"","",""]
[null,null,null,null,null,null,"","","","","",null,"","",""]
[null,null,null,null,null,null,"","","","","",null,"","",""]
[null,null,null,null,null,null,"","","","","",null,"","",""]
[null,null,null,null,null,null,"","","","","",null,"","",""]
[null,null,null,null,null,null,"","","","","",null,"","",""]
[null,null,null,null,null,null,"","","","","",null,"","",""]
[null,null,null,null,null,null,"","","","","",null,"","",""]
[null,null,null,null,null,null,"","","","","",null,"","",""]
[null,null,null,null,null,null,"","","","","",null,"","",""]
[null,null,null,null,null,null,"","","","","",null,"","",""]
[null,null,null,null,null,null,"","","","","",null,"","",""]
[null,null,null,null,null,null,"","","","","",null,"","",""]
[null,null,null,null,null,null,"","","","","",null,"","",""]
[null,null,null,null,null,null,"","","","","",null,"","",""]
[null,null,null,null,null,null,"","","","","",null,"","",""]
[null,null,null,null,null,null,"","","","","",null,"","",""]
[null,null,null,null,null,null,"","","","","",null,"","",""]
[null,null,null,null,null,null,"","","","","",null,"","",""]
[null,null,null,null,null,null,"","","","","",null,"","",""]
[null,null,null,null,null,null,"","","","","",null,"","",""]
[null,null,null,null,null,null,"","","","","",null,"","",""]
[null,null,null,null,null,null,"","","","","",null,"","",""]
[null,null,null,null,null,null,"","","","","",null,"","",""]
[null,null,null,null,null,null,"","","","","",null,"","",""]
[null,null,null,null,null,null,"","","","","",null,"","",""]
[null,null,null,null,null,null,"","","","","",null,"","",""]
[null,null,null,null,null,null,"","","","","",null,"","",""]
[null,null,null,null,null,null,"","","","","",null,"","",""]
[null,null,null,null,null,null,"","","","","",null,"","",""]
[null,null,null,null,null,null,"","","","","",null,"","",""]
[null,null,null,null,null,null,"","","","","",null,"","",""]
[null,null,null,null,null,null,"","","","","",null,"","",""]
[null,null,null,null,null,null,"","","","","",null,"","",""]
[null,null,null,null,null,null,"","","","","",null,"","",""]
[null,null,null,null,null,null,"","","","","",null,"","",""]
[null,null,null,null,null,null,"","","","",{"$f":"IF(User_Stage_Area=1,\"--\",IF(COUNTA=0,\"\",I180*J180))","v":""},null,"","",""]
[null,null,null,null,null,null,{"$f":"IF(User_Stage_Area=1,\"--\",IF(COUNTA=0,\"\",ROUND(G180+0.01,2)))","v":""},{"$f":"IF(User_Stage_Area=1,IF(H180=\"\",\"\",IF(H180+0.005<=MAX(UserInput_Stage),ROUND(H180+0.01,2),\"\")),IF(COUNTA=0,\"\",\"--\"))","v":""},{"$f":"IF(User_Stage_Area=1,\"--\",IF(COUNTA=0,\"\",IF(BMP_Type=2,IF(G181<=H_ISV+H_TC,L_ISV,IF(G181<=H_FLOOR+H_ISV+H_TC,L_ISV+(G181-H_ISV-H_TC)/S_TC+(G181-H_ISV-H_TC)*S_MAIN,L_FLOOR+2*(G181-H_FLOOR-H_ISV-H_TC)*S_MAIN)),L_FLOOR+2*G181*S_MAIN)))","v":""},{"$f":"IF(User_Stage_Area=1,\"--\",IF(COUNTA=0,\"\",IF(BMP_Type=2,IF(G181<=H_ISV+H_TC,L_ISV,IF(G181<=H_FLOOR+H_ISV+H_TC,W_ISV+(G181-H_ISV-H_TC)/(RATIO*S_TC),W_FLOOR+2*(G181-H_FLOOR-H_ISV-H_TC)*S_MAIN)),W_FLOOR+2*G181*S_MAIN)))","v":""},"",null,{"$f":"IF(K181=\"\",\"\",IF(K181=\"--\",IF(L181=\"\",\"\",L181/43560),K181/43560))","v":""},"",""]
[null,null,null,null,null,null,"","","","","",null,"",{"$f":"IF(K182=\"\",\"\",IF(K182=\"--\",IF(L182=\"\",\"\",N181+(H182-H181)/3*(L181+L182+(L181*L182)^0.5)),N181+(G182-G181)/3*(K181+K182+(K181*K182)^0.5)))","v":""},{"$f":"IF(N182=\"\",\"\",N182/43560)","v":""}]
[null,null,null,null,null,null,"","","","","",null,"","",""]
[null,null,null,null,null,null,"","","","","",null,"","",""]
[null,null,null,null,null,null,"","","","","",null,"","",""]
[null,null,null,null,null,null,"","","","","",null,"","",""]
[null,null,null,null,null,null,"","","","","",null,"","",""]
[null,null,null,null,null,null,"","","","","",null,"","",""]
[null,null,null,null,null,null,"","","","","",null,"","",""]
[null,null,null,null,null,null,"","","","","",null,"","",""]
[null,null,null,null,null,null,"","","","","",null,"","",""]
[null,null,null,null,null,null,"","","","","",null,"","",""]
[null,null,null,null,null,null,"","","","","",null,"","",""]
[null,null,null,null,null,null,"","","","","",null,"","",""]
[null,null,null,null,null,null,"","","","","",null,"","",""]
[null,null,null,null,null,null,"","","","","",null,"","",""]
[null,null,null,null,null,null,"","","","","",null,"","",""]
[null,null,null,null,null,null,"","","","","",null,"","",""]
[null,null,null,null,null,null,"","","","","",null,"","",""]
[null,null,null,null,null,null,"","","","","",null,"","",""]
[null,null,null,null,null,null,"","","","","",null,"","",""]
[null,null,null,null,null,null,"","","","","",null,"","",""]
[null,null,null,null,null,null,"","","","","",null,"","",""]
[null,null,null,null,null,null,"","","","","",null,"","",""]
[null,null,null,null,null,null,"","","","","",null,"","",""]
[null,null,null,null,null,null,"","","","","",null,"","",""]
[null,null,null,null,null,null,"","","","","",null,"","",""]
[null,null,null,null,null,null,"","","","","",null,"","",""]
[null,null,null,null,null,null,"","","","","",null,"","",""]
[null,null,null,null,null,null,"","","","","",null,"","",""]
[null,null,null,null,null,null,"","","","","",null,"","",""]
[null,null,null,null,null,null,"","","","","",null,"","",""]
[null,null,null,null,null,null,"","","","","",null,"","",""]
[null,null,null,null,null,null,"","","","","",null,"","",""]
[null,null,null,null,null,null,"","","","","",null,"","",""]
[null,null,null,null,null,null,"","","","","",null,"","",""]
[null,null,null,null,null,null,"","","","","",null,"","",""]
[null,null,null,null,null,null,"","","","","",null,"","",""]
[null,null,null,null,null,null,"","","","","",null,"","",""]
[null,null,null,null,null,null,"","","","","",null,"","",""]
[null,null,null,null,null,null,"","","","","",null,"","",""]
[null,null,null,null,null,null,"","","","","",null,"","",""]
[null,null,null,null,null,null,"","","","","",null,"","",""]
[null,null,null,null,null,null,"","","","","",null,"","",""]
[null,null,null,null,null,null,"","","","","",null,"","",""]
[null,null,null,null,null,null,"","","","","",null,"","",""]
[null,null,null,null,null,null,"","","","","",null,"","",""]
[null,null,null,null,null,null,"","","","","",null,"","",""]
[null,null,null,null,null,null,"","","","","",null,"","",""]
[null,null,null,null,null,null,"","","","","",null,"","",""]
[null,null,null,null,null,null,"","","","","",null,"","",""]
[null,null,null,null,null,null,"","","","","",null,"","",""]
[null,null,null,null,null,null,"","","","","",null,"","",""]
[null,null,null,null,null,null,"","","","","",null,"","",""]
[null,null,null,null,null,null,"","","","","",null,"","",""]
[null,null,null,null,null,null,"","","","","",null,"","",""]
[null,null,null,null,null,null,"","","","","",null,"","",""]
[null,null,null,null,null,null,"","","","","",null,"","",""]
[null,null,null,null,null,null,"","","","","",null,"","",""]
[null,null,null,null,null,null,"","","","","",null,"","",""]
[null,null,null,null,null,null,"","","","","",null,"","",""]
[null,null,null,null,null,null,"","","","","",null,"","",""]
[null,null,null,null,null,null,"","","","","",null,"","",""]
[null,null,null,null,null,null,"","","","",{"$f":"IF(User_Stage_Area=1,\"--\",IF(COUNTA=0,\"\",I244*J244))","v":""},null,"","",""]
[null,null,null,null,null,null,{"$f":"IF(User_Stage_Area=1,\"--\",IF(COUNTA=0,\"\",ROUND(G244+0.01,2)))","v":""},{"$f":"IF(User_Stage_Area=1,IF(H244=\"\",\"\",IF(H244+0.005<=MAX(UserInput_Stage),ROUND(H244+0.01,2),\"\")),IF(COUNTA=0,\"\",\"--\"))","v":""},{"$f":"IF(User_Stage_Area=1,\"--\",IF(COUNTA=0,\"\",IF(BMP_Type=2,IF(G245<=H_ISV+H_TC,L_ISV,IF(G245<=H_FLOOR+H_ISV+H_TC,L_ISV+(G245-H_ISV-H_TC)/S_TC+(G245-H_ISV-H_TC)*S_MAIN,L_FLOOR+2*(G245-H_FLOOR-H_ISV-H_TC)*S_MAIN)),L_FLOOR+2*G245*S_MAIN)))","v":""},{"$f":"IF(User_Stage_Area=1,\"--\",IF(COUNTA=0,\"\",IF(BMP_Type=2,IF(G245<=H_ISV+H_TC,L_ISV,IF(G245<=H_FLOOR+H_ISV+H_TC,W_ISV+(G245-H_ISV-H_TC)/(RATIO*S_TC),W_FLOOR+2*(G245-H_FLOOR-H_ISV-H_TC)*S_MAIN)),W_FLOOR+2*G245*S_MAIN)))","v":""},"",null,{"$f":"IF(K245=\"\",\"\",IF(K245=\"--\",IF(L245=\"\",\"\",L245/43560),K245/43560))","v":""},"",""]
[null,null,null,null,null,null,"","","","","",null,"",{"$f":"IF(K246=\"\",\"\",IF(K246=\"--\",IF(L246=\"\",\"\",N245+(H246-H245)/3*(L245+L246+(L245*L246)^0.5)),N245+(G246-G245)/3*(K245+K246+(K245*K246)^0.5)))","v":""},{"$f":"IF(N246=\"\",\"\",N246/43560)","v":""}]
[null,null,null,null,null,null,"","","","","",null,"","",""]
[null,null,null,null,null,null,"","","","","",null,"","",""]
[null,null,null,null,null,null,"","","","","",null,"","",""]
[null,null,null,null,null,null,"","","","","",null,"","",""]
[null,null,null,null,null,null,"","","","","",null,"","",""]
[null,null,null,null,null,null,"","","","","",null,"","",""]
[null,null,null,null,null,null,"","","","","",null,"","",""]
[null,null,null,null,null,null,"","","","","",null,"","",""]
[null,null,null,null,null,null,"","","","","",null,"","",""]
[null,null,null,null,null,null,"","","","","",null,"","",""]
[null,null,null,null,null,null,"","","","","",null,"","",""]
[null,null,null,null,null,null,"","","","","",null,"","",""]
[null,null,null,null,null,null,"","","","","",null,"","",""]
[null,null,null,null,null,null,"","","","","",null,"","",""]
[null,null,null,null,null,null,"","","","","",null,"","",""]
[null,null,null,null,null,null,"","","","","",null,"","",""]
[null,null,null,null,null,null,"","","","","",null,"","",""]
[null,null,null,null,null,null,"","","","","",null,"","",""]
[null,null,null,null,null,null,"","","","","",null,"","",""]
[null,null,null,null,null,null,"","","","","",null,"","",""]
[null,null,null,null,null,null,"","","","","",null,"","",""]
[null,null,null,null,null,null,"","","","","",null,"","",""]
[null,null,null,null,null,null,"","","","","",null,"","",""]
[null,null,null,null,null,null,"","","","","",null,"","",""]
[null,null,null,null,null,null,"","","","","",null,"","",""]
[null,null,null,null,null,null,"","","","","",null,"","",""]
[null,null,null,null,null,null,"","","","","",null,"","",""]
[null,null,null,null,null,null,"","","","","",null,"","",""]
[null,null,null,null,null,null,"","","","","",null,"","",""]
[null,null,null,null,null,null,"","","","","",null,"","",""]
[null,null,null,null,null,null,"","","","","",null,"","",""]
[null,null,null,null,null,null,"","","","","",null,"","",""]
[null,null,null,null,null,null,"","","","","",null,"","",""]
[null,null,null,null,null,null,"","","","","",null,"","",""]
[null,null,null,null,null,null,"","","","","",null,"","",""]
[null,null,null,null,null,null,"","","","","",null,"","",""]
[null,null,null,null,null,null,"","","","","",null,"","",""]
[null,null,null,null,null,null,"","","","","",null,"","",""]
[null,null,null,null,null,null,"","","","","",null,"","",""]
[null,null,null,null,null,null,"","","","","",null,"","",""]
[null,null,null,null,null,null,"","","","","",null,"","",""]
[null,null,null,null,null,null,"","","","","",null,"","",""]
[null,null,null,null,null,null,"","","","","",null,"","",""]
[null,null,null,null,null,null,"","","","","",null,"","",""]
[null,null,null,null,null,null,"","","","","",null,"","",""]
[null,null,null,null,null,null,"","","","","",null,"","",""]
[null,null,null,null,null,null,"","","","","",null,"","",""]
[null,null,null,null,null,null,"","","","","",null,"","",""]
[null,null,null,null,null,null,"","","","","",null,"","",""]
[null,null,null,null,null,null,"","","","","",null,"","",""]
[null,null,null,null,null,null,"","","","","",null,"","",""]
[null,null,null,null,null,null,"","","","","",null,"","",""]
[null,null,null,null,null,null,"","","","","",null,"","",""]
[null,null,null,null,null,null,"","","","","",null,"","",""]
[null,null,null,null,null,null,"","","","","",null,"","",""]
[null,null,null,null,null,null,"","","","","",null,"","",""]
[null,null,null,null,null,null,"","","","","",null,"","",""]
[null,null,null,null,null,null,"","","","","",null,"","",""]
[null,null,null,null,null,null,"","","","","",null,"","",""]
[null,null,null,null,null,null,"","","","","",null,"","",""]
[null,null,null,null,null,null,"","","","","",null,"","",""]
[null,null,null,null,null,null,"","","","",{"$f":"IF(User_Stage_Area=1,\"--\",IF(COUNTA=0,\"\",I308*J308))","v":""},null,"","",""]
[null,null,null,null,null,null,{"$f":"IF(User_Stage_Area=1,\"--\",IF(COUNTA=0,\"\",ROUND(G308+0.01,2)))","v":""},{"$f":"IF(User_Stage_Area=1,IF(H308=\"\",\"\",IF(H308+0.005<=MAX(UserInput_Stage),ROUND(H308+0.01,2),\"\")),IF(COUNTA=0,\"\",\"--\"))","v":""},{"$f":"IF(User_Stage_Area=1,\"--\",IF(COUNTA=0,\"\",IF(BMP_Type=2,IF(G309<=H_ISV+H_TC,L_ISV,IF(G309<=H_FLOOR+H_ISV+H_TC,L_ISV+(G309-H_ISV-H_TC)/S_TC+(G309-H_ISV-H_TC)*S_MAIN,L_FLOOR+2*(G309-H_FLOOR-H_ISV-H_TC)*S_MAIN)),L_FLOOR+2*G309*S_MAIN)))","v":""},{"$f":"IF(User_Stage_Area=1,\"--\",IF(COUNTA=0,\"\",IF(BMP_Type=2,IF(G309<=H_ISV+H_TC,L_ISV,IF(G309<=H_FLOOR+H_ISV+H_TC,W_ISV+(G309-H_ISV-H_TC)/(RATIO*S_TC),W_FLOOR+2*(G309-H_FLOOR-H_ISV-H_TC)*S_MAIN)),W_FLOOR+2*G309*S_MAIN)))","v":""},"",null,{"$f":"IF(K309=\"\",\"\",IF(K309=\"--\",IF(L309=\"\",\"\",L309/43560),K309/43560))","v":""},"",""]
[null,null,null,null,null,null,"","","","","",null,"",{"$f":"IF(K310=\"\",\"\",IF(K310=\"--\",IF(L310=\"\",\"\",N309+(H310-H309)/3*(L309+L310+(L309*L310)^0.5)),N309+(G310-G309)/3*(K309+K310+(K309*K310)^0.5)))","v":""},{"$f":"IF(N310=\"\",\"\",N310/43560)","v":""}]
[null,null,null,null,null,null,"","","","","",null,"","",""]
[null,null,null,null,null,null,"","","","","",null,"","",""]
[null,null,null,null,null,null,"","","","","",null,"","",""]
[null,null,null,null,null,null,"","","","","",null,"","",""]
[null,null,null,null,null,null,"","","","","",null,"","",""]
[null,null,null,null,null,null,"","","","","",null,"","",""]
[null,null,null,null,null,null,"","","","","",null,"","",""]
[null,null,null,null,null,null,"","","","","",null,"","",""]
[null,null,null,null,null,null,"","","","","",null,"","",""]
[null,null,null,null,null,null,"","","","","",null,"","",""]
[null,null,null,null,null,null,"","","","","",null,"","",""]
[null,null,null,null,null,null,"","","","","",null,"","",""]
[null,null,null,null,null,null,"","","","","",null,"","",""]
[null,null,null,null,null,null,"","","","","",null,"","",""]
[null,null,null,null,null,null,"","","","","",null,"","",""]
[null,null,null,null,null,null,"","","","","",null,"","",""]
[null,null,null,null,null,null,"","","","","",null,"","",""]
[null,null,null,null,null,null,"","","","","",null,"","",""]
[null,null,null,null,null,null,"","","","","",null,"","",""]
[null,null,null,null,null,null,"","","","","",null,"","",""]
[null,null,null,null,null,null,"","","","","",null,"","",""]
[null,null,null,null,null,null,"","","","","",null,"","",""]
[null,null,null,null,null,null,"","","","","",null,"","",""]
[null,null,null,null,null,null,"","","","","",null,"","",""]
[null,null,null,null,null,null,"","","","","",null,"","",""]
[null,null,null,null,null,null,"","","","","",null,"","",""]
[null,null,null,null,null,null,"","","","","",null,"","",""]
[null,null,null,null,null,null,"","","","","",null,"","",""]
[null,null,null,null,null,null,"","","","","",null,"","",""]
[null,null,null,null,null,null,"","","","","",null,"","",""]
[null,null,null,null,null,null,"","","","","",null,"","",""]
[null,null,null,null,null,null,"","","","","",null,"","",""]
[null,null,null,null,null,null,"","","","","",null,"","",""]
[null,null,null,null,null,null,"","","","","",null,"","",""]
[null,null,null,null,null,null,"","","","","",null,"","",""]
[null,null,null,null,null,null,"","","","","",null,"","",""]
[null,null,null,null,null,null,"","","","","",null,"","",""]
[null,null,null,null,null,null,"","","","","",null,"","",""]
[null,null,null,null,null,null,"","","","","",null,"","",""]
[null,null,null,null,null,null,"","","","","",null,"","",""]
[null,null,null,null,null,null,"","","","","",null,"","",""]
[null,null,null,null,null,null,"","","","","",null,"","",""]
[null,null,null,null,null,null,"","","","","",null,"","",""]
[null,null,null,null,null,null,"","","","","",null,"","",""]
[null,null,null,null,null,null,"","","","","",null,"","",""]
[null,null,null,null,null,null,"","","","","",null,"","",""]
[null,null,null,null,null,null,"","","","","",null,"","",""]
[null,null,null,null,null,null,"","","","","",null,"","",""]
[null,null,null,null,null,null,"","","","","",null,"","",""]
[null,null,null,null,null,null,"","","","","",null,"","",""]
[null,null,null,null,null,null,"","","","","",null,"","",""]
[null,null,null,null,null,null,"","","","","",null,"","",""]
[null,null,null,null,null,null,"","","","","",null,"","",""]
[null,null,null,null,null,null,"","","","","",null,"","",""]
[null,null,null,null,null,null,"","","","","",null,"","",""]
[null,null,null,null,null,null,"","","","","",null,"","",""]
[null,null,null,null,null,null,"","","","","",null,"","",""]
[null,null,null,null,null,null,"","","","","",null,"","",""]
[null,null,null,null,null,null,"","","","","",null,"","",""]
[null,null,null,null,null,null,"","","","","",null,"","",""]
[null,null,null,null,null,null,"","","","","",null,"","",""]
[null,null,null,null,null,null,"","","","",{"$f":"IF(User_Stage_Area=1,\"--\",IF(COUNTA=0,\"\",I372*J372))","v":""},null,"","",""]
[null,null,null,null,null,null,{"$f":"IF(User_Stage_Area=1,\"--\",IF(COUNTA=0,\"\",ROUND(G372+0.01,2)))","v":""},{"$f":"IF(User_Stage_Area=1,IF(H372=\"\",\"\",IF(H372+0.005<=MAX(UserInput_Stage),ROUND(H372+0.01,2),\"\")),IF(COUNTA=0,\"\",\"--\"))","v":""},{"$f":"IF(User_Stage_Area=1,\"--\",IF(COUNTA=0,\"\",IF(BMP_Type=2,IF(G373<=H_ISV+H_TC,L_ISV,IF(G373<=H_FLOOR+H_ISV+H_TC,L_ISV+(G373-H_ISV-H_TC)/S_TC+(G373-H_ISV-H_TC)*S_MAIN,L_FLOOR+2*(G373-H_FLOOR-H_ISV-H_TC)*S_MAIN)),L_FLOOR+2*G373*S_MAIN)))","v":""},{"$f":"IF(User_Stage_Area=1,\"--\",IF(COUNTA=0,\"\",IF(BMP_Type=2,IF(G373<=H_ISV+H_TC,L_ISV,IF(G373<=H_FLOOR+H_ISV+H_TC,W_ISV+(G373-H_ISV-H_TC)/(RATIO*S_TC),W_FLOOR+2*(G373-H_FLOOR-H_ISV-H_TC)*S_MAIN)),W_FLOOR+2*G373*S_MAIN)))","v":""},"",null,{"$f":"IF(K373=\"\",\"\",IF(K373=\"--\",IF(L373=\"\",\"\",L373/43560),K373/43560))","v":""},"",""]
[null,null,null,null,null,null,"","","","","",null,"",{"$f":"IF(K374=\"\",\"\",IF(K374=\"--\",IF(L374=\"\",\"\",N373+(H374-H373)/3*(L373+L374+(L373*L374)^0.5)),N373+(G374-G373)/3*(K373+K374+(K373*K374)^0.5)))","v":""},{"$f":"IF(N374=\"\",\"\",N374/43560)","v":""}]
[null,null,null,null,null,null,"","","","","",null,"","",""]
[null,null,null,null,null,null,"","","","","",null,"","",""]
[null,null,null,null,null,null,"","","","","",null,"","",""]
[null,null,null,null,null,null,"","","","","",null,"","",""]
[null,null,null,null,null,null,"","","","","",null,"","",""]
[null,null,null,null,null,null,"","","","","",null,"","",""]
[null,null,null,null,null,null,"","","","","",null,"","",""]
[null,null,null,null,null,null,"","","","","",null,"","",""]
[null,null,null,null,null,null,"","","","","",null,"","",""]
[null,null,null,null,null,null,"","","","","",null,"","",""]
[null,null,null,null,null,null,"","","","","",null,"","",""]
[null,null,null,null,null,null,"","","","","",null,"","",""]
[null,null,null,null,null,null,"","","","","",null,"","",""]
[null,null,null,null,null,null,"","","","","",null,"","",""]
[null,null,null,null,null,null,"","","","","",null,"","",""]
[null,null,null,null,null,null,"","","","","",null,"","",""]
[null,null,null,null,null,null,"","","","","",null,"","",""]
[null,null,null,null,null,null,"","","","","",null,"","",""]
[null,null,null,null,null,null,"","","","","",null,"","",""]
[null,null,null,null,null,null,"","","","","",null,"","",""]
[null,null,null,null,null,null,"","","","","",null,"","",""]
[null,null,null,null,null,null,"","","","","",null,"","",""]
[null,null,null,null,null,null,"","","","","",null,"","",""]
[null,null,null,null,null,null,"","","","","",null,"","",""]
[null,null,null,null,null,null,"","","","","",null,"","",""]
[null,null,null,null,null,null,"","","","","",null,"","",""]
[null,null,null,null,null,null,"","","","","",null,"","",""]
[null,null,null,null,null,null,"","","","","",null,"","",""]
[null,null,null,null,null,null,"","","","","",null,"","",""]
[null,null,null,null,null,null,"","","","","",null,"","",""]
[null,null,null,null,null,null,"","","","","",null,"","",""]
[null,null,null,null,null,null,"","","","","",null,"","",""]
[null,null,null,null,null,null,"","","","","",null,"","",""]
[null,null,null,null,null,null,"","","","","",null,"","",""]
[null,null,null,null,null,null,"","","","","",null,"","",""]
[null,null,null,null,null,null,"","","","","",null,"","",""]
[null,null,null,null,null,null,"","","","","",null,"","",""]
[null,null,null,null,null,null,"","","","","",null,"","",""]
[null,null,null,null,null,null,"","","","","",null,"","",""]
[null,null,null,null,null,null,"","","","","",null,"","",""]
[null,null,null,null,null,null,"","","","","",null,"","",""]
[null,null,null,null,null,null,"","","","","",null,"","",""]
[null,null,null,null,null,null,"","","","","",null,"","",""]
[null,null,null,null,null,null,"","","","","",null,"","",""]
[null,null,null,null,null,null,"","","","","",null,"","",""]
[null,null,null,null,null,null,"","","","","",null,"","",""]
[null,null,null,null,null,null,"","","","","",null,"","",""]
[null,null,null,null,null,null,"","","","","",null,"","",""]
[null,null,null,null,null,null,"","","","","",null,"","",""]
[null,null,null,null,null,null,"","","","","",null,"","",""]
[null,null,null,null,null,null,"","","","","",null,"","",""]
[null,null,null,null,null,null,"","","","","",null,"","",""]
[null,null,null,null,null,null,"","","","","",null,"","",""]
[null,null,null,null,null,null,"","","","","",null,"","",""]
[null,null,null,null,null,null,"","","","","",null,"","",""]
[null,null,null,null,null,null,"","","","","",null,"","",""]
[null,null,null,null,null,null,"","","","","",null,"","",""]
[null,null,null,null,null,null,"","","","","",null,"","",""]
[null,null,null,null,null,null,"","","","","",null,"","",""]
[null,null,null,null,null,null,"","","","","",null,"","",""]
[null,null,null,null,null,null,"","","","","",null,"","",""]
[null,null,null,null,null,null,"","","","",{"$f":"IF(User_Stage_Area=1,\"--\",IF(COUNTA=0,\"\",I436*J436))","v":""},null,"","",""]
[null,null,null,null,null,null,{"$f":"IF(User_Stage_Area=1,\"--\",IF(COUNTA=0,\"\",ROUND(G436+0.01,2)))","v":""},{"$f":"IF(User_Stage_Area=1,IF(H436=\"\",\"\",IF(H436+0.005<=MAX(UserInput_Stage),ROUND(H436+0.01,2),\"\")),IF(COUNTA=0,\"\",\"--\"))","v":""},{"$f":"IF(User_Stage_Area=1,\"--\",IF(COUNTA=0,\"\",IF(BMP_Type=2,IF(G437<=H_ISV+H_TC,L_ISV,IF(G437<=H_FLOOR+H_ISV+H_TC,L_ISV+(G437-H_ISV-H_TC)/S_TC+(G437-H_ISV-H_TC)*S_MAIN,L_FLOOR+2*(G437-H_FLOOR-H_ISV-H_TC)*S_MAIN)),L_FLOOR+2*G437*S_MAIN)))","v":""},{"$f":"IF(User_Stage_Area=1,\"--\",IF(COUNTA=0,\"\",IF(BMP_Type=2,IF(G437<=H_ISV+H_TC,L_ISV,IF(G437<=H_FLOOR+H_ISV+H_TC,W_ISV+(G437-H_ISV-H_TC)/(RATIO*S_TC),W_FLOOR+2*(G437-H_FLOOR-H_ISV-H_TC)*S_MAIN)),W_FLOOR+2*G437*S_MAIN)))","v":""},"",null,{"$f":"IF(K437=\"\",\"\",IF(K437=\"--\",IF(L437=\"\",\"\",L437/43560),K437/43560))","v":""},"",""]
[null,null,null,null,null,null,"","","","","",null,"",{"$f":"IF(K438=\"\",\"\",IF(K438=\"--\",IF(L438=\"\",\"\",N437+(H438-H437)/3*(L437+L438+(L437*L438)^0.5)),N437+(G438-G437)/3*(K437+K438+(K437*K438)^0.5)))","v":""},{"$f":"IF(N438=\"\",\"\",N438/43560)","v":""}]
[null,null,null,null,null,null,"","","","","",null,"","",""]
[null,null,null,null,null,null,"","","","","",null,"","",""]
[null,null,null,null,null,null,"","","","","",null,"","",""]
[null,null,null,null,null,null,"","","","","",null,"","",""]
[null,null,null,null,null,null,"","","","","",null,"","",""]
[null,null,null,null,null,null,"","","","","",null,"","",""]
[null,null,null,null,null,null,"","","","","",null,"","",""]
[null,null,null,null,null,null,"","","","","",null,"","",""]
[null,null,null,null,null,null,"","","","","",null,"","",""]
[null,null,null,null,null,null,"","","","","",null,"","",""]
[null,null,null,null,null,null,"","","","","",null,"","",""]
[null,null,null,null,null,null,"","","","","",null,"","",""]
[null,null,null,null,null,null,"","","","","",null,"","",""]
[null,null,null,null,null,null,"","","","","",null,"","",""]
[null,null,null,null,null,null,"","","","","",null,"","",""]
[null,null,null,null,null,null,"","","","","",null,"","",""]
[null,null,null,null,null,null,"","","","","",null,"","",""]
[null,null,null,null,null,null,"","","","","",null,"","",""]
[null,null,null,null,null,null,"","","","","",null,"","",""]
[null,null,null,null,null,null,"","","","","",null,"","",""]
[null,null,null,null,null,null,"","","","","",null,"","",""]
[null,null,null,null,null,null,"","","","","",null,"","",""]
[null,null,null,null,null,null,"","","","","",null,"","",""]
[null,null,null,null,null,null,"","","","","",null,"","",""]
[null,null,null,null,null,null,"","","","","",null,"","",""]
[null,null,null,null,null,null,"","","","","",null,"","",""]
[null,null,null,null,null,null,"","","","","",null,"","",""]
[null,null,null,null,null,null,"","","","","",null,"","",""]
[null,null,null,null,null,null,"","","","","",null,"","",""]
[null,null,null,null,null,null,"","","","","",null,"","",""]
[null,null,null,null,null,null,"","","","","",null,"","",""]
[null,null,null,null,null,null,"","","","","",null,"","",""]
[null,null,null,null,null,null,"","","","","",null,"","",""]
[null,null,null,null,null,null,"","","","","",null,"","",""]
[null,null,null,null,null,null,"","","","","",null,"","",""]
[null,null,null,null,null,null,"","","","","",null,"","",""]
[null,null,null,null,null,null,"","","","","",null,"","",""]
[null,null,null,null,null,null,"","","","","",null,"","",""]
[null,null,null,null,null,null,"","","","","",null,"","",""]
[null,null,null,null,null,null,"","","","","",null,"","",""]
[null,null,null,null,null,null,"","","","","",null,"","",""]
[null,null,null,null,null,null,"","","","","",null,"","",""]
[null,null,null,null,null,null,"","","","","",null,"","",""]
[null,null,null,null,null,null,"","","","","",null,"","",""]
[null,null,null,null,null,null,"","","","","",null,"","",""]
[null,null,null,null,null,null,"","","","","",null,"","",""]
[null,null,null,null,null,null,"","","","","",null,"","",""]
[null,null,null,null,null,null,"","","","","",null,"","",""]
[null,null,null,null,null,null,"","","","","",null,"","",""]
[null,null,null,null,null,null,"","","","","",null,"","",""]
[null,null,null,null,null,null,"","","","","",null,"","",""]
[null,null,null,null,null,null,"","","","","",null,"","",""]
[null,null,null,null,null,null,"","","","","",null,"","",""]
[null,null,null,null,null,null,"","","","","",null,"","",""]
[null,null,null,null,null,null,"","","","","",null,"","",""]
[null,null,null,null,null,null,"","","","","",null,"","",""]
[null,null,null,null,null,null,"","","","","",null,"","",""]
[null,null,null,null,null,null,"","","","","",null,"","",""]
[null,null,null,null,null,null,"","","","","",null,"","",""]
[null,null,null,null,null,null,"","","","","",null,"","",""]
[null,null,null,null,null,null,"","","","","",null,"","",""]
[null,null,null,null,null,null,"","","","",{"$f":"IF(User_Stage_Area=1,\"--\",IF(COUNTA=0,\"\",I500*J500))","v":""},null,"","",""]
[null,null,null,null,null,null,{"$f":"IF(User_Stage_Area=1,\"--\",IF(COUNTA=0,\"\",ROUND(G500+0.01,2)))","v":""},{"$f":"IF(User_Stage_Area=1,IF(H500=\"\",\"\",IF(H500+0.005<=MAX(UserInput_Stage),ROUND(H500+0.01,2),\"\")),IF(COUNTA=0,\"\",\"--\"))","v":""},{"$f":"IF(User_Stage_Area=1,\"--\",IF(COUNTA=0,\"\",IF(BMP_Type=2,IF(G501<=H_ISV+H_TC,L_ISV,IF(G501<=H_FLOOR+H_ISV+H_TC,L_ISV+(G501-H_ISV-H_TC)/S_TC+(G501-H_ISV-H_TC)*S_MAIN,L_FLOOR+2*(G501-H_FLOOR-H_ISV-H_TC)*S_MAIN)),L_FLOOR+2*G501*S_MAIN)))","v":""},{"$f":"IF(User_Stage_Area=1,\"--\",IF(COUNTA=0,\"\",IF(BMP_Type=2,IF(G501<=H_ISV+H_TC,L_ISV,IF(G501<=H_FLOOR+H_ISV+H_TC,W_ISV+(G501-H_ISV-H_TC)/(RATIO*S_TC),W_FLOOR+2*(G501-H_FLOOR-H_ISV-H_TC)*S_MAIN)),W_FLOOR+2*G501*S_MAIN)))","v":""},"",null,{"$f":"IF(K501=\"\",\"\",IF(K501=\"--\",IF(L501=\"\",\"\",L501/43560),K501/43560))","v":""},"",""]
[null,null,null,null,null,null,"","","","","",null,"",{"$f":"IF(K502=\"\",\"\",IF(K502=\"--\",IF(L502=\"\",\"\",N501+(H502-H501)/3*(L501+L502+(L501*L502)^0.5)),N501+(G502-G501)/3*(K501+K502+(K501*K502)^0.5)))","v":""},{"$f":"IF(N502=\"\",\"\",N502/43560)","v":""}]
[null,null,null,null,null,null,"","","","","",null,"","",""]
[null,null,null,null,null,null,"","","","","",null,"","",""]
[null,null,null,null,null,null,"","","","","",null,"","",""]
[null,null,null,null,null,null,"","","","","",null,"","",""]
[null,null,null,null,null,null,"","","","","",null,"","",""]
[null,null,null,null,null,null,"","","","","",null,"","",""]
[null,null,null,null,null,null,"","","","","",null,"","",""]
[null,null,null,null,null,null,"","","","","",null,"","",""]
[null,null,null,null,null,null,"","","","","",null,"","",""]
[null,null,null,null,null,null,"","","","","",null,"","",""]
[null,null,null,null,null,null,"","","","","",null,"","",""]
[null,null,null,null,null,null,"","","","","",null,"","",""]
[null,null,null,null,null,null,"","","","","",null,"","",""]
[null,null,null,null,null,null,"","","","","",null,"","",""]
[null,null,null,null,null,null,"","","","","",null,"","",""]
[null,null,null,null,null,null,"","","","","",null,"","",""]
[null,null,null,null,null,null,"","","","","",null,"","",""]
[null,null,null,null,null,null,"","","","","",null,"","",""]
[null,null,null,null,null,null,"","","","","",null,"","",""]
[null,null,null,null,null,null,"","","","","",null,"","",""]
[null,null,null,null,null,null,"","","","","",null,"","",""]
[null,null,null,null,null,null,"","","","","",null,"","",""]
[null,null,null,null,null,null,"","","","","",null,"","",""]
[null,null,null,null,null,null,"","","","","",null,"","",""]
[null,null,null,null,null,null,"","","","","",null,"","",""]
[null,null,null,null,null,null,"","","","","",null,"","",""]
[null,null,null,null,null,null,"","","","","",null,"","",""]
[null,null,null,null,null,null,"","","","","",null,"","",""]
[null,null,null,null,null,null,"","","","","",null,"","",""]
[null,null,null,null,null,null,"","","","","",null,"","",""]
[null,null,null,null,null,null,"","","","","",null,"","",""]
[null,null,null,null,null,null,"","","","","",null,"","",""]
[null,null,null,null,null,null,"","","","","",null,"","",""]
[null,null,null,null,null,null,"","","","","",null,"","",""]
[null,null,null,null,null,null,"","","","","",null,"","",""]
[null,null,null,null,null,null,"","","","","",null,"","",""]
[null,null,null,null,null,null,"","","","","",null,"","",""]
[null,null,null,null,null,null,"","","","","",null,"","",""]
[null,null,null,null,null,null,"","","","","",null,"","",""]
[null,null,null,null,null,null,"","","","","",null,"","",""]
[null,null,null,null,null,null,"","","","","",null,"","",""]
[null,null,null,null,null,null,"","","","","",null,"","",""]
[null,null,null,null,null,null,"","","","","",null,"","",""]
[null,null,null,null,null,null,"","","","","",null,"","",""]
[null,null,null,null,null,null,"","","","","",null,"","",""]
[null,null,null,null,null,null,"","","","","",null,"","",""]
[null,null,null,null,null,null,"","","","","",null,"","",""]
[null,null,null,null,null,null,"","","","","",null,"","",""]
[null,null,null,null,null,null,"","","","","",null,"","",""]
[null,null,null,null,null,null,"","","","","",null,"","",""]
[null,null,null,null,null,null,"","","","","",null,"","",""]
[null,null,null,null,null,null,"","","","","",null,"","",""]
[null,null,null,null,null,null,"","","","","",null,"","",""]
[null,null,null,null,null,null,"","","","","",null,"","",""]
[null,null,null,null,null,null,"","","","","",null,"","",""]
[null,null,null,null,null,null,"","","","","",null,"","",""]
[null,null,null,null,null,null,"","","","","",null,"","",""]
[null,null,null,null,null,null,"","","","","",null,"","",""]
[null,null,null,null,null,null,"","","","","",null,"","",""]
[null,null,null,null,null,null,"","","","","",null,"","",""]
[null,null,null,null,null,null,"","","","","",null,"","",""]
[null,null,null,null,null,null,"","","","",{"$f":"IF(User_Stage_Area=1,\"--\",IF(COUNTA=0,\"\",I564*J564))","v":""},null,"","",""]
[null,null,null,null,null,null,{"$f":"IF(User_Stage_Area=1,\"--\",IF(COUNTA=0,\"\",ROUND(G564+0.01,2)))","v":""},{"$f":"IF(User_Stage_Area=1,IF(H564=\"\",\"\",IF(H564+0.005<=MAX(UserInput_Stage),ROUND(H564+0.01,2),\"\")),IF(COUNTA=0,\"\",\"--\"))","v":""},{"$f":"IF(User_Stage_Area=1,\"--\",IF(COUNTA=0,\"\",IF(BMP_Type=2,IF(G565<=H_ISV+H_TC,L_ISV,IF(G565<=H_FLOOR+H_ISV+H_TC,L_ISV+(G565-H_ISV-H_TC)/S_TC+(G565-H_ISV-H_TC)*S_MAIN,L_FLOOR+2*(G565-H_FLOOR-H_ISV-H_TC)*S_MAIN)),L_FLOOR+2*G565*S_MAIN)))","v":""},{"$f":"IF(User_Stage_Area=1,\"--\",IF(COUNTA=0,\"\",IF(BMP_Type=2,IF(G565<=H_ISV+H_TC,L_ISV,IF(G565<=H_FLOOR+H_ISV+H_TC,W_ISV+(G565-H_ISV-H_TC)/(RATIO*S_TC),W_FLOOR+2*(G565-H_FLOOR-H_ISV-H_TC)*S_MAIN)),W_FLOOR+2*G565*S_MAIN)))","v":""},"",null,{"$f":"IF(K565=\"\",\"\",IF(K565=\"--\",IF(L565=\"\",\"\",L565/43560),K565/43560))","v":""},"",""]
[null,null,null,null,null,null,"","","","","",null,"",{"$f":"IF(K566=\"\",\"\",IF(K566=\"--\",IF(L566=\"\",\"\",N565+(H566-H565)/3*(L565+L566+(L565*L566)^0.5)),N565+(G566-G565)/3*(K565+K566+(K565*K566)^0.5)))","v":""},{"$f":"IF(N566=\"\",\"\",N566/43560)","v":""}]
[null,null,null,null,null,null,"","","","","",null,"","",""]
[null,null,null,null,null,null,"","","","","",null,"","",""]
[null,null,null,null,null,null,"","","","","",null,"","",""]
[null,null,null,null,null,null,"","","","","",null,"","",""]
[null,null,null,null,null,null,"","","","","",null,"","",""]
[null,null,null,null,null,null,"","","","","",null,"","",""]
[null,null,null,null,null,null,"","","","","",null,"","",""]
[null,null,null,null,null,null,"","","","","",null,"","",""]
[null,null,null,null,null,null,"","","","","",null,"","",""]
[null,null,null,null,null,null,"","","","","",null,"","",""]
[null,null,null,null,null,null,"","","","","",null,"","",""]
[null,null,null,null,null,null,"","","","","",null,"","",""]
[null,null,null,null,null,null,"","","","","",null,"","",""]
[null,null,null,null,null,null,"","","","","",null,"","",""]
[null,null,null,null,null,null,"","","","","",null,"","",""]
[null,null,null,null,null,null,"","","","","",null,"","",""]
[null,null,null,null,null,null,"","","","","",null,"","",""]
[null,null,null,null,null,null,"","","","","",null,"","",""]
[null,null,null,null,null,null,"","","","","",null,"","",""]
[null,null,null,null,null,null,"","","","","",null,"","",""]
[null,null,null,null,null,null,"","","","","",null,"","",""]
[null,null,null,null,null,null,"","","","","",null,"","",""]
[null,null,null,null,null,null,"","","","","",null,"","",""]
[null,null,null,null,null,null,"","","","","",null,"","",""]
[null,null,null,null,null,null,"","","","","",null,"","",""]
[null,null,null,null,null,null,"","","","","",null,"","",""]
[null,null,null,null,null,null,"","","","","",null,"","",""]
[null,null,null,null,null,null,"","","","","",null,"","",""]
[null,null,null,null,null,null,"","","","","",null,"","",""]
[null,null,null,null,null,null,"","","","","",null,"","",""]
[null,null,null,null,null,null,"","","","","",null,"","",""]
[null,null,null,null,null,null,"","","","","",null,"","",""]
[null,null,null,null,null,null,"","","","","",null,"","",""]
[null,null,null,null,null,null,"","","","","",null,"","",""]
[null,null,null,null,null,null,"","","","","",null,"","",""]
[null,null,null,null,null,null,"","","","","",null,"","",""]
[null,null,null,null,null,null,"","","","","",null,"","",""]
[null,null,null,null,null,null,"","","","","",null,"","",""]
[null,null,null,null,null,null,"","","","","",null,"","",""]
[null,null,null,null,null,null,"","","","","",null,"","",""]
[null,null,null,null,null,null,"","","","","",null,"","",""]
[null,null,null,null,null,null,"","","","","",null,"","",""]
[null,null,null,null,null,null,"","","","","",null,"","",""]
[null,null,null,null,null,null,"","","","","",null,"","",""]
[null,null,null,null,null,null,"","","","","",null,"","",""]
[null,null,null,null,null,null,"","","","","",null,"","",""]
[null,null,null,null,null,null,"","","","","",null,"","",""]
[null,null,null,null,null,null,"","","","","",null,"","",""]
[null,null,null,null,null,null,"","","","","",null,"","",""]
[null,null,null,null,null,null,"","","","","",null,"","",""]
[null,null,null,null,null,null,"","","","","",null,"","",""]
[null,null,null,null,null,null,"","","","","",null,"","",""]
[null,null,null,null,null,null,"","","","","",null,"","",""]
[null,null,null,null,null,null,"","","","","",null,"","",""]
[null,null,null,null,null,null,"","","","","",null,"","",""]
[null,null,null,null,null,null,"","","","","",null,"","",""]
[null,null,null,null,null,null,"","","","","",null,"","",""]
[null,null,null,null,null,null,"","","","","",null,"","",""]
[null,null,null,null,null,null,"","","","","",null,"","",""]
[null,null,null,null,null,null,"","","","","",null,"","",""]
[null,null,null,null,null,null,"","","","","",null,"","",""]
[null,null,null,null,null,null,"","","","",{"$f":"IF(User_Stage_Area=1,\"--\",IF(COUNTA=0,\"\",I628*J628))","v":""},null,"","",""]
[null,null,null,null,null,null,{"$f":"IF(User_Stage_Area=1,\"--\",IF(COUNTA=0,\"\",ROUND(G628+0.01,2)))","v":""},{"$f":"IF(User_Stage_Area=1,IF(H628=\"\",\"\",IF(H628+0.005<=MAX(UserInput_Stage),ROUND(H628+0.01,2),\"\")),IF(COUNTA=0,\"\",\"--\"))","v":""},{"$f":"IF(User_Stage_Area=1,\"--\",IF(COUNTA=0,\"\",IF(BMP_Type=2,IF(G629<=H_ISV+H_TC,L_ISV,IF(G629<=H_FLOOR+H_ISV+H_TC,L_ISV+(G629-H_ISV-H_TC)/S_TC+(G629-H_ISV-H_TC)*S_MAIN,L_FLOOR+2*(G629-H_FLOOR-H_ISV-H_TC)*S_MAIN)),L_FLOOR+2*G629*S_MAIN)))","v":""},{"$f":"IF(User_Stage_Area=1,\"--\",IF(COUNTA=0,\"\",IF(BMP_Type=2,IF(G629<=H_ISV+H_TC,L_ISV,IF(G629<=H_FLOOR+H_ISV+H_TC,W_ISV+(G629-H_ISV-H_TC)/(RATIO*S_TC),W_FLOOR+2*(G629-H_FLOOR-H_ISV-H_TC)*S_MAIN)),W_FLOOR+2*G629*S_MAIN)))","v":""},"",null,{"$f":"IF(K629=\"\",\"\",IF(K629=\"--\",IF(L629=\"\",\"\",L629/43560),K629/43560))","v":""},"",""]
[null,null,null,null,null,null,"","","","","",null,"",{"$f":"IF(K630=\"\",\"\",IF(K630=\"--\",IF(L630=\"\",\"\",N629+(H630-H629)/3*(L629+L630+(L629*L630)^0.5)),N629+(G630-G629)/3*(K629+K630+(K629*K630)^0.5)))","v":""},{"$f":"IF(N630=\"\",\"\",N630/43560)","v":""}]
[null,null,null,null,null,null,"","","","","",null,"","",""]
[null,null,null,null,null,null,"","","","","",null,"","",""]
[null,null,null,null,null,null,"","","","","",null,"","",""]
[null,null,null,null,null,null,"","","","","",null,"","",""]
[null,null,null,null,null,null,"","","","","",null,"","",""]
[null,null,null,null,null,null,"","","","","",null,"","",""]
[null,null,null,null,null,null,"","","","","",null,"","",""]
[null,null,null,null,null,null,"","","","","",null,"","",""]
[null,null,null,null,null,null,"","","","","",null,"","",""]
[null,null,null,null,null,null,"","","","","",null,"","",""]
[null,null,null,null,null,null,"","","","","",null,"","",""]
[null,null,null,null,null,null,"","","","","",null,"","",""]
[null,null,null,null,null,null,"","","","","",null,"","",""]
[null,null,null,null,null,null,"","","","","",null,"","",""]
[null,null,null,null,null,null,"","","","","",null,"","",""]
[null,null,null,null,null,null,"","","","","",null,"","",""]
[null,null,null,null,null,null,"","","","","",null,"","",""]
[null,null,null,null,null,null,"","","","","",null,"","",""]
[null,null,null,null,null,null,"","","","","",null,"","",""]
[null,null,null,null,null,null,"","","","","",null,"","",""]
[null,null,null,null,null,null,"","","","","",null,"","",""]
[null,null,null,null,null,null,"","","","","",null,"","",""]
[null,null,null,null,null,null,"","","","","",null,"","",""]
[null,null,null,null,null,null,"","","","","",null,"","",""]
[null,null,null,null,null,null,"","","","","",null,"","",""]
[null,null,null,null,null,null,"","","","","",null,"","",""]
[null,null,null,null,null,null,"","","","","",null,"","",""]
[null,null,null,null,null,null,"","","","","",null,"","",""]
[null,null,null,null,null,null,"","","","","",null,"","",""]
[null,null,null,null,null,null,"","","","","",null,"","",""]
[null,null,null,null,null,null,"","","","","",null,"","",""]
[null,null,null,null,null,null,"","","","","",null,"","",""]
[null,null,null,null,null,null,"","","","","",null,"","",""]
[null,null,null,null,null,null,"","","","","",null,"","",""]
[null,null,null,null,null,null,"","","","","",null,"","",""]
[null,null,null,null,null,null,"","","","","",null,"","",""]
[null,null,null,null,null,null,"","","","","",null,"","",""]
[null,null,null,null,null,null,"","","","","",null,"","",""]
[null,null,null,null,null,null,"","","","","",null,"","",""]
[null,null,null,null,null,null,"","","","","",null,"","",""]
[null,null,null,null,null,null,"","","","","",null,"","",""]
[null,null,null,null,null,null,"","","","","",null,"","",""]
[null,null,null,null,null,null,"","","","","",null,"","",""]
[null,null,null,null,null,null,"","","","","",null,"","",""]
[null,null,null,null,null,null,"","","","","",null,"","",""]
[null,null,null,null,null,null,"","","","","",null,"","",""]
[null,null,null,null,null,null,"","","","","",null,"","",""]
[null,null,null,null,null,null,"","","","","",null,"","",""]
[null,null,null,null,null,null,"","","","","",null,"","",""]
[null,null,null,null,null,null,"","","","","",null,"","",""]
[null,null,null,null,null,null,"","","","","",null,"","",""]
[null,null,null,null,null,null,"","","","","",null,"","",""]
[null,null,null,null,null,null,"","","","","",null,"","",""]
[null,null,null,null,null,null,"","","","","",null,"","",""]
[null,null,null,null,null,null,"","","","","",null,"","",""]
[null,null,null,null,null,null,"","","","","",null,"","",""]
[null,null,null,null,null,null,"","","","","",null,"","",""]
[null,null,null,null,null,null,"","","","","",null,"","",""]
[null,null,null,null,null,null,"","","","","",null,"","",""]
[null,null,null,null,null,null,"","","","","",null,"","",""]
[null,null,null,null,null,null,"","","","","",null,"","",""]
[null,null,null,null,null,null,"","","","",{"$f":"IF(User_Stage_Area=1,\"--\",IF(COUNTA=0,\"\",I692*J692))","v":""},null,"","",""]
[null,null,null,null,null,null,{"$f":"IF(User_Stage_Area=1,\"--\",IF(COUNTA=0,\"\",ROUND(G692+0.01,2)))","v":""},{"$f":"IF(User_Stage_Area=1,IF(H692=\"\",\"\",IF(H692+0.005<=MAX(UserInput_Stage),ROUND(H692+0.01,2),\"\")),IF(COUNTA=0,\"\",\"--\"))","v":""},{"$f":"IF(User_Stage_Area=1,\"--\",IF(COUNTA=0,\"\",IF(BMP_Type=2,IF(G693<=H_ISV+H_TC,L_ISV,IF(G693<=H_FLOOR+H_ISV+H_TC,L_ISV+(G693-H_ISV-H_TC)/S_TC+(G693-H_ISV-H_TC)*S_MAIN,L_FLOOR+2*(G693-H_FLOOR-H_ISV-H_TC)*S_MAIN)),L_FLOOR+2*G693*S_MAIN)))","v":""},{"$f":"IF(User_Stage_Area=1,\"--\",IF(COUNTA=0,\"\",IF(BMP_Type=2,IF(G693<=H_ISV+H_TC,L_ISV,IF(G693<=H_FLOOR+H_ISV+H_TC,W_ISV+(G693-H_ISV-H_TC)/(RATIO*S_TC),W_FLOOR+2*(G693-H_FLOOR-H_ISV-H_TC)*S_MAIN)),W_FLOOR+2*G693*S_MAIN)))","v":""},"",null,{"$f":"IF(K693=\"\",\"\",IF(K693=\"--\",IF(L693=\"\",\"\",L693/43560),K693/43560))","v":""},"",""]
[null,null,null,null,null,null,"","","","","",null,"",{"$f":"IF(K694=\"\",\"\",IF(K694=\"--\",IF(L694=\"\",\"\",N693+(H694-H693)/3*(L693+L694+(L693*L694)^0.5)),N693+(G694-G693)/3*(K693+K694+(K693*K694)^0.5)))","v":""},{"$f":"IF(N694=\"\",\"\",N694/43560)","v":""}]
[null,null,null,null,null,null,"","","","","",null,"","",""]
[null,null,null,null,null,null,"","","","","",null,"","",""]
[null,null,null,null,null,null,"","","","","",null,"","",""]
[null,null,null,null,null,null,"","","","","",null,"","",""]
[null,null,null,null,null,null,"","","","","",null,"","",""]
[null,null,null,null,null,null,"","","","","",null,"","",""]
[null,null,null,null,null,null,"","","","","",null,"","",""]
[null,null,null,null,null,null,"","","","","",null,"","",""]
[null,null,null,null,null,null,"","","","","",null,"","",""]
[null,null,null,null,null,null,"","","","","",null,"","",""]
[null,null,null,null,null,null,"","","","","",null,"","",""]
[null,null,null,null,null,null,"","","","","",null,"","",""]
[null,null,null,null,null,null,"","","","","",null,"","",""]
[null,null,null,null,null,null,"","","","","",null,"","",""]
[null,null,null,null,null,null,"","","","","",null,"","",""]
[null,null,null,null,null,null,"","","","","",null,"","",""]
[null,null,null,null,null,null,"","","","","",null,"","",""]
[null,null,null,null,null,null,"","","","","",null,"","",""]
[null,null,null,null,null,null,"","","","","",null,"","",""]
[null,null,null,null,null,null,"","","","","",null,"","",""]
[null,null,null,null,null,null,"","","","","",null,"","",""]
[null,null,null,null,null,null,"","","","","",null,"","",""]
[null,null,null,null,null,null,"","","","","",null,"","",""]
[null,null,null,null,null,null,"","","","","",null,"","",""]
[null,null,null,null,null,null,"","","","","",null,"","",""]
[null,null,null,null,null,null,"","","","","",null,"","",""]
[null,null,null,null,null,null,"","","","","",null,"","",""]
[null,null,null,null,null,null,"","","","","",null,"","",""]
[null,null,null,null,null,null,"","","","","",null,"","",""]
[null,null,null,null,null,null,"","","","","",null,"","",""]
[null,null,null,null,null,null,"","","","","",null,"","",""]
[null,null,null,null,null,null,"","","","","",null,"","",""]
[null,null,null,null,null,null,"","","","","",null,"","",""]
[null,null,null,null,null,null,"","","","","",null,"","",""]
[null,null,null,null,null,null,"","","","","",null,"","",""]
[null,null,null,null,null,null,"","","","","",null,"","",""]
[null,null,null,null,null,null,"","","","","",null,"","",""]
[null,null,null,null,null,null,"","","","","",null,"","",""]
[null,null,null,null,null,null,"","","","","",null,"","",""]
[null,null,null,null,null,null,"","","","","",null,"","",""]
[null,null,null,null,null,null,"","","","","",null,"","",""]
[null,null,null,null,null,null,"","","","","",null,"","",""]
[null,null,null,null,null,null,"","","","","",null,"","",""]
[null,null,null,null,null,null,"","","","","",null,"","",""]
[null,null,null,null,null,null,"","","","","",null,"","",""]
[null,null,null,null,null,null,"","","","","",null,"","",""]
[null,null,null,null,null,null,"","","","","",null,"","",""]
[null,null,null,null,null,null,"","","","","",null,"","",""]
[null,null,null,null,null,null,"","","","","",null,"","",""]
[null,null,null,null,null,null,"","","","","",null,"","",""]
[null,null,null,null,null,null,"","","","","",null,"","",""]
[null,null,null,null,null,null,"","","","","",null,"","",""]
[null,null,null,null,null,null,"","","","","",null,"","",""]
[null,null,null,null,null,null,"","","","","",null,"","",""]
[null,null,null,null,null,null,"","","","","",null,"","",""]
[null,null,null,null,null,null,"","","","","",null,"","",""]
[null,null,null,null,null,null,"","","","","",null,"","",""]
[null,null,null,null,null,null,"","","","","",null,"","",""]
[null,null,null,null,null,null,"","","","","",null,"","",""]
[null,null,null,null,null,null,"","","","","",null,"","",""]
[null,null,null,null,null,null,"","","","","",null,"","",""]
[null,null,null,null,null,null,"","","","",{"$f":"IF(User_Stage_Area=1,\"--\",IF(COUNTA=0,\"\",I756*J756))","v":""},null,"","",""]
[null,null,null,null,null,null,{"$f":"IF(User_Stage_Area=1,\"--\",IF(COUNTA=0,\"\",ROUND(G756+0.01,2)))","v":""},{"$f":"IF(User_Stage_Area=1,IF(H756=\"\",\"\",IF(H756+0.005<=MAX(UserInput_Stage),ROUND(H756+0.01,2),\"\")),IF(COUNTA=0,\"\",\"--\"))","v":""},{"$f":"IF(User_Stage_Area=1,\"--\",IF(COUNTA=0,\"\",IF(BMP_Type=2,IF(G757<=H_ISV+H_TC,L_ISV,IF(G757<=H_FLOOR+H_ISV+H_TC,L_ISV+(G757-H_ISV-H_TC)/S_TC+(G757-H_ISV-H_TC)*S_MAIN,L_FLOOR+2*(G757-H_FLOOR-H_ISV-H_TC)*S_MAIN)),L_FLOOR+2*G757*S_MAIN)))","v":""},{"$f":"IF(User_Stage_Area=1,\"--\",IF(COUNTA=0,\"\",IF(BMP_Type=2,IF(G757<=H_ISV+H_TC,L_ISV,IF(G757<=H_FLOOR+H_ISV+H_TC,W_ISV+(G757-H_ISV-H_TC)/(RATIO*S_TC),W_FLOOR+2*(G757-H_FLOOR-H_ISV-H_TC)*S_MAIN)),W_FLOOR+2*G757*S_MAIN)))","v":""},"",null,{"$f":"IF(K757=\"\",\"\",IF(K757=\"--\",IF(L757=\"\",\"\",L757/43560),K757/43560))","v":""},"",""]
[null,null,null,null,null,null,"","","","","",null,"",{"$f":"IF(K758=\"\",\"\",IF(K758=\"--\",IF(L758=\"\",\"\",N757+(H758-H757)/3*(L757+L758+(L757*L758)^0.5)),N757+(G758-G757)/3*(K757+K758+(K757*K758)^0.5)))","v":""},{"$f":"IF(N758=\"\",\"\",N758/43560)","v":""}]
[null,null,null,null,null,null,"","","","","",null,"","",""]
[null,null,null,null,null,null,"","","","","",null,"","",""]
[null,null,null,null,null,null,"","","","","",null,"","",""]
[null,null,null,null,null,null,"","","","","",null,"","",""]
[null,null,null,null,null,null,"","","","","",null,"","",""]
[null,null,null,null,null,null,"","","","","",null,"","",""]
[null,null,null,null,null,null,"","","","","",null,"","",""]
[null,null,null,null,null,null,"","","","","",null,"","",""]
[null,null,null,null,null,null,"","","","","",null,"","",""]
[null,null,null,null,null,null,"","","","","",null,"","",""]
[null,null,null,null,null,null,"","","","","",null,"","",""]
[null,null,null,null,null,null,"","","","","",null,"","",""]
[null,null,null,null,null,null,"","","","","",null,"","",""]
[null,null,null,null,null,null,"","","","","",null,"","",""]
[null,null,null,null,null,null,"","","","","",null,"","",""]
[null,null,null,null,null,null,"","","","","",null,"","",""]
[null,null,null,null,null,null,"","","","","",null,"","",""]
[null,null,null,null,null,null,"","","","","",null,"","",""]
[null,null,null,null,null,null,"","","","","",null,"","",""]
[null,null,null,null,null,null,"","","","","",null,"","",""]
[null,null,null,null,null,null,"","","","","",null,"","",""]
[null,null,null,null,null,null,"","","","","",null,"","",""]
[null,null,null,null,null,null,"","","","","",null,"","",""]
[null,null,null,null,null,null,"","","","","",null,"","",""]
[null,null,null,null,null,null,"","","","","",null,"","",""]
[null,null,null,null,null,null,"","","","","",null,"","",""]
[null,null,null,null,null,null,"","","","","",null,"","",""]
[null,null,null,null,null,null,"","","","","",null,"","",""]
[null,null,null,null,null,null,"","","","","",null,"","",""]
[null,null,null,null,null,null,"","","","","",null,"","",""]
[null,null,null,null,null,null,"","","","","",null,"","",""]
[null,null,null,null,null,null,"","","","","",null,"","",""]
[null,null,null,null,null,null,"","","","","",null,"","",""]
[null,null,null,null,null,null,"","","","","",null,"","",""]
[null,null,null,null,null,null,"","","","","",null,"","",""]
[null,null,null,null,null,null,"","","","","",null,"","",""]
[null,null,null,null,null,null,"","","","","",null,"","",""]
[null,null,null,null,null,null,"","","","","",null,"","",""]
[null,null,null,null,null,null,"","","","","",null,"","",""]
[null,null,null,null,null,null,"","","","","",null,"","",""]
[null,null,null,null,null,null,"","","","","",null,"","",""]
[null,null,null,null,null,null,"","","","","",null,"","",""]
[null,null,null,null,null,null,"","","","","",null,"","",""]
[null,null,null,null,null,null,"","","","","",null,"","",""]
[null,null,null,null,null,null,"","","","","",null,"","",""]
[null,null,null,null,null,null,"","","","","",null,"","",""]
[null,null,null,null,null,null,"","","","","",null,"","",""]
[null,null,null,null,null,null,"","","","","",null,"","",""]
[null,null,null,null,null,null,"","","","","",null,"","",""]
[null,null,null,null,null,null,"","","","","",null,"","",""]
[null,null,null,null,null,null,"","","","","",null,"","",""]
[null,null,null,null,null,null,"","","","","",null,"","",""]
[null,null,null,null,null,null,"","","","","",null,"","",""]
[null,null,null,null,null,null,"","","","","",null,"","",""]
[null,null,null,null,null,null,"","","","","",null,"","",""]
[null,null,null,null,null,null,"","","","","",null,"","",""]
[null,null,null,null,null,null,"","","","","",null,"","",""]
[null,null,null,null,null,null,"","","","","",null,"","",""]
[null,null,null,null,null,null,"","","","","",null,"","",""]
[null,null,null,null,null,null,"","","","","",null,"","",""]
[null,null,null,null,null,null,"","","","","",null,"","",""]
[null,null,null,null,null,null,"","","","",{"$f":"IF(User_Stage_Area=1,\"--\",IF(COUNTA=0,\"\",I820*J820))","v":""},null,"","",""]
[null,null,null,null,null,null,{"$f":"IF(User_Stage_Area=1,\"--\",IF(COUNTA=0,\"\",ROUND(G820+0.01,2)))","v":""},{"$f":"IF(User_Stage_Area=1,IF(H820=\"\",\"\",IF(H820+0.005<=MAX(UserInput_Stage),ROUND(H820+0.01,2),\"\")),IF(COUNTA=0,\"\",\"--\"))","v":""},{"$f":"IF(User_Stage_Area=1,\"--\",IF(COUNTA=0,\"\",IF(BMP_Type=2,IF(G821<=H_ISV+H_TC,L_ISV,IF(G821<=H_FLOOR+H_ISV+H_TC,L_ISV+(G821-H_ISV-H_TC)/S_TC+(G821-H_ISV-H_TC)*S_MAIN,L_FLOOR+2*(G821-H_FLOOR-H_ISV-H_TC)*S_MAIN)),L_FLOOR+2*G821*S_MAIN)))","v":""},{"$f":"IF(User_Stage_Area=1,\"--\",IF(COUNTA=0,\"\",IF(BMP_Type=2,IF(G821<=H_ISV+H_TC,L_ISV,IF(G821<=H_FLOOR+H_ISV+H_TC,W_ISV+(G821-H_ISV-H_TC)/(RATIO*S_TC),W_FLOOR+2*(G821-H_FLOOR-H_ISV-H_TC)*S_MAIN)),W_FLOOR+2*G821*S_MAIN)))","v":""},"",null,{"$f":"IF(K821=\"\",\"\",IF(K821=\"--\",IF(L821=\"\",\"\",L821/43560),K821/43560))","v":""},"",""]
[null,null,null,null,null,null,"","","","","",null,"",{"$f":"IF(K822=\"\",\"\",IF(K822=\"--\",IF(L822=\"\",\"\",N821+(H822-H821)/3*(L821+L822+(L821*L822)^0.5)),N821+(G822-G821)/3*(K821+K822+(K821*K822)^0.5)))","v":""},{"$f":"IF(N822=\"\",\"\",N822/43560)","v":""}]
[null,null,null,null,null,null,"","","","","",null,"","",""]
[null,null,null,null,null,null,"","","","","",null,"","",""]
[null,null,null,null,null,null,"","","","","",null,"","",""]
[null,null,null,null,null,null,"","","","","",null,"","",""]
[null,null,null,null,null,null,"","","","","",null,"","",""]
[null,null,null,null,null,null,"","","","","",null,"","",""]
[null,null,null,null,null,null,"","","","","",null,"","",""]
[null,null,null,null,null,null,"","","","","",null,"","",""]
[null,null,null,null,null,null,"","","","","",null,"","",""]
[null,null,null,null,null,null,"","","","","",null,"","",""]
[null,null,null,null,null,null,"","","","","",null,"","",""]
[null,null,null,null,null,null,"","","","","",null,"","",""]
[null,null,null,null,null,null,"","","","","",null,"","",""]
[null,null,null,null,null,null,"","","","","",null,"","",""]
[null,null,null,null,null,null,"","","","","",null,"","",""]
[null,null,null,null,null,null,"","","","","",null,"","",""]
[null,null,null,null,null,null,"","","","","",null,"","",""]
[null,null,null,null,null,null,"","","","","",null,"","",""]
[null,null,null,null,null,null,"","","","","",null,"","",""]
[null,null,null,null,null,null,"","","","","",null,"","",""]
[null,null,null,null,null,null,"","","","","",null,"","",""]
[null,null,null,null,null,null,"","","","","",null,"","",""]
[null,null,null,null,null,null,"","","","","",null,"","",""]
[null,null,null,null,null,null,"","","","","",null,"","",""]
[null,null,null,null,null,null,"","","","","",null,"","",""]
[null,null,null,null,null,null,"","","","","",null,"","",""]
[null,null,null,null,null,null,"","","","","",null,"","",""]
[null,null,null,null,null,null,"","","","","",null,"","",""]
[null,null,null,null,null,null,"","","","","",null,"","",""]
[null,null,null,null,null,null,"","","","","",null,"","",""]
[null,null,null,null,null,null,"","","","","",null,"","",""]
[null,null,null,null,null,null,"","","","","",null,"","",""]
[null,null,null,null,null,null,"","","","","",null,"","",""]
[null,null,null,null,null,null,"","","","","",null,"","",""]
[null,null,null,null,null,null,"","","","","",null,"","",""]
[null,null,null,null,null,null,"","","","","",null,"","",""]
[null,null,null,null,null,null,"","","","","",null,"","",""]
[null,null,null,null,null,null,"","","","","",null,"","",""]
[null,null,null,null,null,null,"","","","","",null,"","",""]
[null,null,null,null,null,null,"","","","","",null,"","",""]
[null,null,null,null,null,null,"","","","","",null,"","",""]
[null,null,null,null,null,null,"","","","","",null,"","",""]
[null,null,null,null,null,null,"","","","","",null,"","",""]
[null,null,null,null,null,null,"","","","","",null,"","",""]
[null,null,null,null,null,null,"","","","","",null,"","",""]
[null,null,null,null,null,null,"","","","","",null,"","",""]
[null,null,null,null,null,null,"","","","","",null,"","",""]
[null,null,null,null,null,null,"","","","","",null,"","",""]
[null,null,null,null,null,null,"","","","","",null,"","",""]
[null,null,null,null,null,null,"","","","","",null,"","",""]
[null,null,null,null,null,null,"","","","","",null,"","",""]
[null,null,null,null,null,null,"","","","","",null,"","",""]
[null,null,null,null,null,null,"","","","","",null,"","",""]
[null,null,null,null,null,null,"","","","","",null,"","",""]
[null,null,null,null,null,null,"","","","","",null,"","",""]
[null,null,null,null,null,null,"","","","","",null,"","",""]
[null,null,null,null,null,null,"","","","","",null,"","",""]
[null,null,null,null,null,null,"","","","","",null,"","",""]
[null,null,null,null,null,null,"","","","","",null,"","",""]
[null,null,null,null,null,null,"","","","","",null,"","",""]
[null,null,null,null,null,null,"","","","","",null,"","",""]
[null,null,null,null,null,null,"","","","",{"$f":"IF(User_Stage_Area=1,\"--\",IF(COUNTA=0,\"\",I884*J884))","v":""},null,"","",""]
[null,null,null,null,null,null,{"$f":"IF(User_Stage_Area=1,\"--\",IF(COUNTA=0,\"\",ROUND(G884+0.01,2)))","v":""},{"$f":"IF(User_Stage_Area=1,IF(H884=\"\",\"\",IF(H884+0.005<=MAX(UserInput_Stage),ROUND(H884+0.01,2),\"\")),IF(COUNTA=0,\"\",\"--\"))","v":""},{"$f":"IF(User_Stage_Area=1,\"--\",IF(COUNTA=0,\"\",IF(BMP_Type=2,IF(G885<=H_ISV+H_TC,L_ISV,IF(G885<=H_FLOOR+H_ISV+H_TC,L_ISV+(G885-H_ISV-H_TC)/S_TC+(G885-H_ISV-H_TC)*S_MAIN,L_FLOOR+2*(G885-H_FLOOR-H_ISV-H_TC)*S_MAIN)),L_FLOOR+2*G885*S_MAIN)))","v":""},{"$f":"IF(User_Stage_Area=1,\"--\",IF(COUNTA=0,\"\",IF(BMP_Type=2,IF(G885<=H_ISV+H_TC,L_ISV,IF(G885<=H_FLOOR+H_ISV+H_TC,W_ISV+(G885-H_ISV-H_TC)/(RATIO*S_TC),W_FLOOR+2*(G885-H_FLOOR-H_ISV-H_TC)*S_MAIN)),W_FLOOR+2*G885*S_MAIN)))","v":""},"",null,{"$f":"IF(K885=\"\",\"\",IF(K885=\"--\",IF(L885=\"\",\"\",L885/43560),K885/43560))","v":""},"",""]
[null,null,null,null,null,null,"","","","","",null,"",{"$f":"IF(K886=\"\",\"\",IF(K886=\"--\",IF(L886=\"\",\"\",N885+(H886-H885)/3*(L885+L886+(L885*L886)^0.5)),N885+(G886-G885)/3*(K885+K886+(K885*K886)^0.5)))","v":""},{"$f":"IF(N886=\"\",\"\",N886/43560)","v":""}]
[null,null,null,null,null,null,"","","","","",null,"","",""]
[null,null,null,null,null,null,"","","","","",null,"","",""]
[null,null,null,null,null,null,"","","","","",null,"","",""]
[null,null,null,null,null,null,"","","","","",null,"","",""]
[null,null,null,null,null,null,"","","","","",null,"","",""]
[null,null,null,null,null,null,"","","","","",null,"","",""]
[null,null,null,null,null,null,"","","","","",null,"","",""]
[null,null,null,null,null,null,"","","","","",null,"","",""]
[null,null,null,null,null,null,"","","","","",null,"","",""]
[null,null,null,null,null,null,"","","","","",null,"","",""]
[null,null,null,null,null,null,"","","","","",null,"","",""]
[null,null,null,null,null,null,"","","","","",null,"","",""]
[null,null,null,null,null,null,"","","","","",null,"","",""]
[null,null,null,null,null,null,"","","","","",null,"","",""]
[null,null,null,null,null,null,"","","","","",null,"","",""]
[null,null,null,null,null,null,"","","","","",null,"","",""]
[null,null,null,null,null,null,"","","","","",null,"","",""]
[null,null,null,null,null,null,"","","","","",null,"","",""]
[null,null,null,null,null,null,"","","","","",null,"","",""]
[null,null,null,null,null,null,"","","","","",null,"","",""]
[null,null,null,null,null,null,"","","","","",null,"","",""]
[null,null,null,null,null,null,"","","","","",null,"","",""]
[null,null,null,null,null,null,"","","","","",null,"","",""]
[null,null,null,null,null,null,"","","","","",null,"","",""]
[null,null,null,null,null,null,"","","","","",null,"","",""]
[null,null,null,null,null,null,"","","","","",null,"","",""]
[null,null,null,null,null,null,"","","","","",null,"","",""]
[null,null,null,null,null,null,"","","","","",null,"","",""]
[null,null,null,null,null,null,"","","","","",null,"","",""]
[null,null,null,null,null,null,"","","","","",null,"","",""]
[null,null,null,null,null,null,"","","","","",null,"","",""]
[null,null,null,null,null,null,"","","","","",null,"","",""]
[null,null,null,null,null,null,"","","","","",null,"","",""]
[null,null,null,null,null,null,"","","","","",null,"","",""]
[null,null,null,null,null,null,"","","","","",null,"","",""]
[null,null,null,null,null,null,"","","","","",null,"","",""]
[null,null,null,null,null,null,"","","","","",null,"","",""]
[null,null,null,null,null,null,"","","","","",null,"","",""]
[null,null,null,null,null,null,"","","","","",null,"","",""]
[null,null,null,null,null,null,"","","","","",null,"","",""]
[null,null,null,null,null,null,"","","","","",null,"","",""]
[null,null,null,null,null,null,"","","","","",null,"","",""]
[null,null,null,null,null,null,"","","","","",null,"","",""]
[null,null,null,null,null,null,"","","","","",null,"","",""]
[null,null,null,null,null,null,"","","","","",null,"","",""]
[null,null,null,null,null,null,"","","","","",null,"","",""]
[null,null,null,null,null,null,"","","","","",null,"","",""]
[null,null,null,null,null,null,"","","","","",null,"","",""]
[null,null,null,null,null,null,"","","","","",null,"","",""]
[null,null,null,null,null,null,"","","","","",null,"","",""]
[null,null,null,null,null,null,"","","","","",null,"","",""]
[null,null,null,null,null,null,"","","","","",null,"","",""]
[null,null,null,null,null,null,"","","","","",null,"","",""]
[null,null,null,null,null,null,"","","","","",null,"","",""]
[null,null,null,null,null,null,"","","","","",null,"","",""]
[null,null,null,null,null,null,"","","","","",null,"","",""]
[null,null,null,null,null,null,"","","","","",null,"","",""]
[null,null,null,null,null,null,"","","","","",null,"","",""]
[null,null,null,null,null,null,"","","","","",null,"","",""]
[null,null,null,null,null,null,"","","","","",null,"","",""]
[null,null,null,null,null,null,"","","","","",null,"","",""]
[null,null,null,null,null,null,"","","","",{"$f":"IF(User_Stage_Area=1,\"--\",IF(COUNTA=0,\"\",I948*J948))","v":""},null,"","",""]
[null,null,null,null,null,null,{"$f":"IF(User_Stage_Area=1,\"--\",IF(COUNTA=0,\"\",ROUND(G948+0.01,2)))","v":""},{"$f":"IF(User_Stage_Area=1,IF(H948=\"\",\"\",IF(H948+0.005<=MAX(UserInput_Stage),ROUND(H948+0.01,2),\"\")),IF(COUNTA=0,\"\",\"--\"))","v":""},{"$f":"IF(User_Stage_Area=1,\"--\",IF(COUNTA=0,\"\",IF(BMP_Type=2,IF(G949<=H_ISV+H_TC,L_ISV,IF(G949<=H_FLOOR+H_ISV+H_TC,L_ISV+(G949-H_ISV-H_TC)/S_TC+(G949-H_ISV-H_TC)*S_MAIN,L_FLOOR+2*(G949-H_FLOOR-H_ISV-H_TC)*S_MAIN)),L_FLOOR+2*G949*S_MAIN)))","v":""},{"$f":"IF(User_Stage_Area=1,\"--\",IF(COUNTA=0,\"\",IF(BMP_Type=2,IF(G949<=H_ISV+H_TC,L_ISV,IF(G949<=H_FLOOR+H_ISV+H_TC,W_ISV+(G949-H_ISV-H_TC)/(RATIO*S_TC),W_FLOOR+2*(G949-H_FLOOR-H_ISV-H_TC)*S_MAIN)),W_FLOOR+2*G949*S_MAIN)))","v":""},"",null,{"$f":"IF(K949=\"\",\"\",IF(K949=\"--\",IF(L949=\"\",\"\",L949/43560),K949/43560))","v":""},"",""]
[null,null,null,null,null,null,"","","","","",null,"",{"$f":"IF(K950=\"\",\"\",IF(K950=\"--\",IF(L950=\"\",\"\",N949+(H950-H949)/3*(L949+L950+(L949*L950)^0.5)),N949+(G950-G949)/3*(K949+K950+(K949*K950)^0.5)))","v":""},{"$f":"IF(N950=\"\",\"\",N950/43560)","v":""}]
[null,null,null,null,null,null,"","","","","",null,"","",""]
[null,null,null,null,null,null,"","","","","",null,"","",""]
[null,null,null,null,null,null,"","","","","",null,"","",""]
[null,null,null,null,null,null,"","","","","",null,"","",""]
[null,null,null,null,null,null,"","","","","",null,"","",""]
[null,null,null,null,null,null,"","","","","",null,"","",""]
[null,null,null,null,null,null,"","","","","",null,"","",""]
[null,null,null,null,null,null,"","","","","",null,"","",""]
[null,null,null,null,null,null,"","","","","",null,"","",""]
[null,null,null,null,null,null,"","","","","",null,"","",""]
[null,null,null,null,null,null,"","","","","",null,"","",""]
[null,null,null,null,null,null,"","","","","",null,"","",""]
[null,null,null,null,null,null,"","","","","",null,"","",""]
[null,null,null,null,null,null,"","","","","",null,"","",""]
[null,null,null,null,null,null,"","","","","",null,"","",""]
[null,null,null,null,null,null,"","","","","",null,"","",""]
[null,null,null,null,null,null,"","","","","",null,"","",""]
[null,null,null,null,null,null,"","","","","",null,"","",""]
[null,null,null,null,null,null,"","","","","",null,"","",""]
[null,null,null,null,null,null,"","","","","",null,"","",""]
[null,null,null,null,null,null,"","","","","",null,"","",""]
[null,null,null,null,null,null,"","","","","",null,"","",""]
[null,null,null,null,null,null,"","","","","",null,"","",""]
[null,null,null,null,null,null,"","","","","",null,"","",""]
[null,null,null,null,null,null,"","","","","",null,"","",""]
[null,null,null,null,null,null,"","","","","",null,"","",""]
[null,null,null,null,null,null,"","","","","",null,"","",""]
[null,null,null,null,null,null,"","","","","",null,"","",""]
[null,null,null,null,null,null,"","","","","",null,"","",""]
[null,null,null,null,null,null,"","","","","",null,"","",""]
[null,null,null,null,null,null,"","","","","",null,"","",""]
[null,null,null,null,null,null,"","","","","",null,"","",""]
[null,null,null,null,null,null,"","","","","",null,"","",""]
[null,null,null,null,null,null,"","","","","",null,"","",""]
[null,null,null,null,null,null,"","","","","",null,"","",""]
[null,null,null,null,null,null,"","","","","",null,"","",""]
[null,null,null,null,null,null,"","","","","",null,"","",""]
[null,null,null,null,null,null,"","","","","",null,"","",""]
[null,null,null,null,null,null,"","","","","",null,"","",""]
[null,null,null,null,null,null,"","","","","",null,"","",""]
[null,null,null,null,null,null,"","","","","",null,"","",""]
[null,null,null,null,null,null,"","","","","",null,"","",""]
[null,null,null,null,null,null,"","","","","",null,"","",""]
[null,null,null,null,null,null,"","","","","",null,"","",""]
[null,null,null,null,null,null,"","","","","",null,"","",""]
[null,null,null,null,null,null,"","","","","",null,"","",""]
[null,null,null,null,null,null,"","","","","",null,"","",""]
[null,null,null,null,null,null,"","","","","",null,"","",""]
[null,null,null,null,null,null,"","","","","",null,"","",""]
[null,null,null,null,null,null,"","","","","",null,"","",""]
[null,null,null,null,null,null,"","","","","",null,"","",""]
[null,null,null,null,null,null,"","","","","",null,"","",""]
[null,null,null,null,null,null,"","","","","",null,"","",""]
[null,null,null,null,null,null,"","","","","",null,"","",""]
[null,null,null,null,null,null,"","","","","",null,"","",""]
[null,null,null,null,null,null,"","","","","",null,"","",""]
[null,null,null,null,null,null,"","","","","",null,"","",""]
[null,null,null,null,null,null,"","","","","",null,"","",""]
[null,null,null,null,null,null,"","","","","",null,"","",""]
[null,null,null,null,null,null,"","","","","",null,"","",""]
[null,null,null,null,null,null,"","","","","",null,"","",""]
[null,null,null,null,null,null,"","","","",{"$f":"IF(User_Stage_Area=1,\"--\",IF(COUNTA=0,\"\",I1012*J1012))","v":""},null,"","",""]
[null,null,null,null,null,null,{"$f":"IF(User_Stage_Area=1,\"--\",IF(COUNTA=0,\"\",ROUND(G1012+0.01,2)))","v":""},{"$f":"IF(User_Stage_Area=1,IF(H1012=\"\",\"\",IF(H1012+0.005<=MAX(UserInput_Stage),ROUND(H1012+0.01,2),\"\")),IF(COUNTA=0,\"\",\"--\"))","v":""},{"$f":"IF(User_Stage_Area=1,\"--\",IF(COUNTA=0,\"\",IF(BMP_Type=2,IF(G1013<=H_ISV+H_TC,L_ISV,IF(G1013<=H_FLOOR+H_ISV+H_TC,L_ISV+(G1013-H_ISV-H_TC)/S_TC+(G1013-H_ISV-H_TC)*S_MAIN,L_FLOOR+2*(G1013-H_FLOOR-H_ISV-H_TC)*S_MAIN)),L_FLOOR+2*G1013*S_MAIN)))","v":""},{"$f":"IF(User_Stage_Area=1,\"--\",IF(COUNTA=0,\"\",IF(BMP_Type=2,IF(G1013<=H_ISV+H_TC,L_ISV,IF(G1013<=H_FLOOR+H_ISV+H_TC,W_ISV+(G1013-H_ISV-H_TC)/(RATIO*S_TC),W_FLOOR+2*(G1013-H_FLOOR-H_ISV-H_TC)*S_MAIN)),W_FLOOR+2*G1013*S_MAIN)))","v":""},"",null,{"$f":"IF(K1013=\"\",\"\",IF(K1013=\"--\",IF(L1013=\"\",\"\",L1013/43560),K1013/43560))","v":""},"",""]
[null,null,null,null,null,null,"","","","","",null,"",{"$f":"IF(K1014=\"\",\"\",IF(K1014=\"--\",IF(L1014=\"\",\"\",N1013+(H1014-H1013)/3*(L1013+L1014+(L1013*L1014)^0.5)),N1013+(G1014-G1013)/3*(K1013+K1014+(K1013*K1014)^0.5)))","v":""},{"$f":"IF(N1014=\"\",\"\",N1014/43560)","v":""}]
[null,null,null,null,null,null,"","","","","",null,"","",""]
[null,null,null,null,null,null,"","","","","",null,"","",""]
[null,null,null,null,null,null,"","","","","",null,"","",""]
[null,null,null,null,null,null,"","","","","",null,"","",""]
[null,null,null,null,null,null,"","","","","",null,"","",""]
[null,null,null,null,null,null,"","","","","",null,"","",""]
[null,null,null,null,null,null,"","","","","",null,"","",""]
[null,null,null,null,null,null,"","","","","",null,"","",""]
[null,null,null,null,null,null,"","","","","",null,"","",""]
[null,null,null,null,null,null,"","","","","",null,"","",""]
[null,null,null,null,null,null,"","","","","",null,"","",""]
[null,null,null,null,null,null,"","","","","",null,"","",""]
[null,null,null,null,null,null,"","","","","",null,"","",""]
[null,null,null,null,null,null,"","","","","",null,"","",""]
[null,null,null,null,null,null,"","","","","",null,"","",""]
[null,null,null,null,null,null,"","","","","",null,"","",""]
[null,null,null,null,null,null,"","","","","",null,"","",""]
[null,null,null,null,null,null,"","","","","",null,"","",""]
[null,null,null,null,null,null,"","","","","",null,"","",""]
[null,null,null,null,null,null,"","","","","",null,"","",""]
[null,null,null,null,null,null,"","","","","",null,"","",""]
[null,null,null,null,null,null,"","","","","",null,"","",""]
[null,null,null,null,null,null,"","","","","",null,"","",""]
[null,null,null,null,null,null,"","","","","",null,"","",""]
[null,null,null,null,null,null,"","","","","",null,"","",""]
[null,null,null,null,null,null,"","","","","",null,"","",""]
[null,null,null,null,null,null,"","","","","",null,"","",""]
[null,null,null,null,null,null,"","","","","",null,"","",""]
[null,null,null,null,null,null,"","","","","",null,"","",""]
[null,null,null,null,null,null,"","","","","",null,"","",""]
[null,null,null,null,null,null,"","","","","",null,"","",""]
[null,null,null,null,null,null,"","","","","",null,"","",""]
[null,null,null,null,null,null,"","","","","",null,"","",""]
[null,null,null,null,null,null,"","","","","",null,"","",""]
[null,null,null,null,null,null,"","","","","",null,"","",""]
[null,null,null,null,null,null,"","","","","",null,"","",""]
[null,null,null,null,null,null,"","","","","",null,"","",""]
[null,null,null,null,null,null,"","","","","",null,"","",""]
[null,null,null,null,null,null,"","","","","",null,"","",""]
[null,null,null,null,null,null,"","","","","",null,"","",""]
[null,null,null,null,null,null,"","","","","",null,"","",""]
[null,null,null,null,null,null,"","","","","",null,"","",""]
[null,null,null,null,null,null,"","","","","",null,"","",""]
[null,null,null,null,null,null,"","","","","",null,"","",""]
[null,null,null,null,null,null,"","","","","",null,"","",""]
[null,null,null,null,null,null,"","","","","",null,"","",""]
[null,null,null,null,null,null,"","","","","",null,"","",""]
[null,null,null,null,null,null,"","","","","",null,"","",""]
[null,null,null,null,null,null,"","","","","",null,"","",""]
[null,null,null,null,null,null,"","","","","",null,"","",""]
[null,null,null,null,null,null,"","","","","",null,"","",""]
[null,null,null,null,null,null,"","","","","",null,"","",""]
[null,null,null,null,null,null,"","","","","",null,"","",""]
[null,null,null,null,null,null,"","","","","",null,"","",""]
[null,null,null,null,null,null,"","","","","",null,"","",""]
[null,null,null,null,null,null,"","","","","",null,"","",""]
[null,null,null,null,null,null,"","","","","",null,"","",""]
[null,null,null,null,null,null,"","","","","",null,"","",""]
[null,null,null,null,null,null,"","","","","",null,"","",""]
[null,null,null,null,null,null,"","","","","",null,"","",""]
[null,null,null,null,null,null,"","","","","",null,"","",""]
[null,null,null,null,null,null,"","","","",{"$f":"IF(User_Stage_Area=1,\"--\",IF(COUNTA=0,\"\",I1076*J1076))","v":""},null,"","",""]
[null,null,null,null,null,null,{"$f":"IF(User_Stage_Area=1,\"--\",IF(COUNTA=0,\"\",ROUND(G1076+0.01,2)))","v":""},{"$f":"IF(User_Stage_Area=1,IF(H1076=\"\",\"\",IF(H1076+0.005<=MAX(UserInput_Stage),ROUND(H1076+0.01,2),\"\")),IF(COUNTA=0,\"\",\"--\"))","v":""},{"$f":"IF(User_Stage_Area=1,\"--\",IF(COUNTA=0,\"\",IF(BMP_Type=2,IF(G1077<=H_ISV+H_TC,L_ISV,IF(G1077<=H_FLOOR+H_ISV+H_TC,L_ISV+(G1077-H_ISV-H_TC)/S_TC+(G1077-H_ISV-H_TC)*S_MAIN,L_FLOOR+2*(G1077-H_FLOOR-H_ISV-H_TC)*S_MAIN)),L_FLOOR+2*G1077*S_MAIN)))","v":""},{"$f":"IF(User_Stage_Area=1,\"--\",IF(COUNTA=0,\"\",IF(BMP_Type=2,IF(G1077<=H_ISV+H_TC,L_ISV,IF(G1077<=H_FLOOR+H_ISV+H_TC,W_ISV+(G1077-H_ISV-H_TC)/(RATIO*S_TC),W_FLOOR+2*(G1077-H_FLOOR-H_ISV-H_TC)*S_MAIN)),W_FLOOR+2*G1077*S_MAIN)))","v":""},"",null,{"$f":"IF(K1077=\"\",\"\",IF(K1077=\"--\",IF(L1077=\"\",\"\",L1077/43560),K1077/43560))","v":""},"",""]
[null,null,null,null,null,null,"","","","","",null,"",{"$f":"IF(K1078=\"\",\"\",IF(K1078=\"--\",IF(L1078=\"\",\"\",N1077+(H1078-H1077)/3*(L1077+L1078+(L1077*L1078)^0.5)),N1077+(G1078-G1077)/3*(K1077+K1078+(K1077*K1078)^0.5)))","v":""},{"$f":"IF(N1078=\"\",\"\",N1078/43560)","v":""}]
[null,null,null,null,null,null,"","","","","",null,"","",""]
[null,null,null,null,null,null,"","","","","",null,"","",""]
[null,null,null,null,null,null,"","","","","",null,"","",""]
[null,null,null,null,null,null,"","","","","",null,"","",""]
[null,null,null,null,null,null,"","","","","",null,"","",""]
[null,null,null,null,null,null,"","","","","",null,"","",""]
[null,null,null,null,null,null,"","","","","",null,"","",""]
[null,null,null,null,null,null,"","","","","",null,"","",""]
[null,null,null,null,null,null,"","","","","",null,"","",""]
[null,null,null,null,null,null,"","","","","",null,"","",""]
[null,null,null,null,null,null,"","","","","",null,"","",""]
[null,null,null,null,null,null,"","","","","",null,"","",""]
[null,null,null,null,null,null,"","","","","",null,"","",""]
[null,null,null,null,null,null,"","","","","",null,"","",""]
[null,null,null,null,null,null,"","","","","",null,"","",""]
[null,null,null,null,null,null,"","","","","",null,"","",""]
[null,null,null,null,null,null,"","","","","",null,"","",""]
[null,null,null,null,null,null,"","","","","",null,"","",""]
[null,null,null,null,null,null,"","","","","",null,"","",""]
[null,null,null,null,null,null,"","","","","",null,"","",""]
[null,null,null,null,null,null,"","","","","",null,"","",""]
[null,null,null,null,null,null,"","","","","",null,"","",""]
[null,null,null,null,null,null,"","","","","",null,"","",""]
[null,null,null,null,null,null,"","","","","",null,"","",""]
[null,null,null,null,null,null,"","","","","",null,"","",""]
[null,null,null,null,null,null,"","","","","",null,"","",""]
[null,null,null,null,null,null,"","","","","",null,"","",""]
[null,null,null,null,null,null,"","","","","",null,"","",""]
[null,null,null,null,null,null,"","","","","",null,"","",""]
[null,null,null,null,null,null,"","","","","",null,"","",""]
[null,null,null,null,null,null,"","","","","",null,"","",""]
[null,null,null,null,null,null,"","","","","",null,"","",""]
[null,null,null,null,null,null,"","","","","",null,"","",""]
[null,null,null,null,null,null,"","","","","",null,"","",""]
[null,null,null,null,null,null,"","","","","",null,"","",""]
[null,null,null,null,null,null,"","","","","",null,"","",""]
[null,null,null,null,null,null,"","","","","",null,"","",""]
[null,null,null,null,null,null,"","","","","",null,"","",""]
[null,null,null,null,null,null,"","","","","",null,"","",""]
[null,null,null,null,null,null,"","","","","",null,"","",""]
[null,null,null,null,null,null,"","","","","",null,"","",""]
[null,null,null,null,null,null,"","","","","",null,"","",""]
[null,null,null,null,null,null,"","","","","",null,"","",""]
[null,null,null,null,null,null,"","","","","",null,"","",""]
[null,null,null,null,null,null,"","","","","",null,"","",""]
[null,null,null,null,null,null,"","","","","",null,"","",""]
[null,null,null,null,null,null,"","","","","",null,"","",""]
[null,null,null,null,null,null,"","","","","",null,"","",""]
[null,null,null,null,null,null,"","","","","",null,"","",""]
[null,null,null,null,null,null,"","","","","",null,"","",""]
[null,null,null,null,null,null,"","","","","",null,"","",""]
[null,null,null,null,null,null,"","","","","",null,"","",""]
[null,null,null,null,null,null,"","","","","",null,"","",""]
[null,null,null,null,null,null,"","","","","",null,"","",""]
[null,null,null,null,null,null,"","","","","",null,"","",""]
[null,null,null,null,null,null,"","","","","",null,"","",""]
[null,null,null,null,null,null,"","","","","",null,"","",""]
[null,null,null,null,null,null,"","","","","",null,"","",""]
[null,null,null,null,null,null,"","","","","",null,"","",""]
[null,null,null,null,null,null,"","","","","",null,"","",""]
[null,null,null,null,null,null,"","","","","",null,"","",""]
[null,null,null,null,null,null,"","","","",{"$f":"IF(User_Stage_Area=1,\"--\",IF(COUNTA=0,\"\",I1140*J1140))","v":""},null,"","",""]
[null,null,null,null,null,null,{"$f":"IF(User_Stage_Area=1,\"--\",IF(COUNTA=0,\"\",ROUND(G1140+0.01,2)))","v":""},{"$f":"IF(User_Stage_Area=1,IF(H1140=\"\",\"\",IF(H1140+0.005<=MAX(UserInput_Stage),ROUND(H1140+0.01,2),\"\")),IF(COUNTA=0,\"\",\"--\"))","v":""},{"$f":"IF(User_Stage_Area=1,\"--\",IF(COUNTA=0,\"\",IF(BMP_Type=2,IF(G1141<=H_ISV+H_TC,L_ISV,IF(G1141<=H_FLOOR+H_ISV+H_TC,L_ISV+(G1141-H_ISV-H_TC)/S_TC+(G1141-H_ISV-H_TC)*S_MAIN,L_FLOOR+2*(G1141-H_FLOOR-H_ISV-H_TC)*S_MAIN)),L_FLOOR+2*G1141*S_MAIN)))","v":""},{"$f":"IF(User_Stage_Area=1,\"--\",IF(COUNTA=0,\"\",IF(BMP_Type=2,IF(G1141<=H_ISV+H_TC,L_ISV,IF(G1141<=H_FLOOR+H_ISV+H_TC,W_ISV+(G1141-H_ISV-H_TC)/(RATIO*S_TC),W_FLOOR+2*(G1141-H_FLOOR-H_ISV-H_TC)*S_MAIN)),W_FLOOR+2*G1141*S_MAIN)))","v":""},"",null,{"$f":"IF(K1141=\"\",\"\",IF(K1141=\"--\",IF(L1141=\"\",\"\",L1141/43560),K1141/43560))","v":""},"",""]
[null,null,null,null,null,null,"","","","","",null,"",{"$f":"IF(K1142=\"\",\"\",IF(K1142=\"--\",IF(L1142=\"\",\"\",N1141+(H1142-H1141)/3*(L1141+L1142+(L1141*L1142)^0.5)),N1141+(G1142-G1141)/3*(K1141+K1142+(K1141*K1142)^0.5)))","v":""},{"$f":"IF(N1142=\"\",\"\",N1142/43560)","v":""}]
[null,null,null,null,null,null,"","","","","",null,"","",""]
[null,null,null,null,null,null,"","","","","",null,"","",""]
[null,null,null,null,null,null,"","","","","",null,"","",""]
[null,null,null,null,null,null,"","","","","",null,"","",""]
[null,null,null,null,null,null,"","","","","",null,"","",""]
[null,null,null,null,null,null,"","","","","",null,"","",""]
[null,null,null,null,null,null,"","","","","",null,"","",""]
[null,null,null,null,null,null,"","","","","",null,"","",""]
[null,null,null,null,null,null,"","","","","",null,"","",""]
[null,null,null,null,null,null,"","","","","",null,"","",""]
[null,null,null,null,null,null,"","","","","",null,"","",""]
[null,null,null,null,null,null,"","","","","",null,"","",""]
[null,null,null,null,null,null,"","","","","",null,"","",""]
[null,null,null,null,null,null,"","","","","",null,"","",""]
[null,null,null,null,null,null,"","","","","",null,"","",""]
[null,null,null,null,null,null,"","","","","",null,"","",""]
[null,null,null,null,null,null,"","","","","",null,"","",""]
[null,null,null,null,null,null,"","","","","",null,"","",""]
[null,null,null,null,null,null,"","","","","",null,"","",""]
[null,null,null,null,null,null,"","","","","",null,"","",""]
[null,null,null,null,null,null,"","","","","",null,"","",""]
[null,null,null,null,null,null,"","","","","",null,"","",""]
[null,null,null,null,null,null,"","","","","",null,"","",""]
[null,null,null,null,null,null,"","","","","",null,"","",""]
[null,null,null,null,null,null,"","","","","",null,"","",""]
[null,null,null,null,null,null,"","","","","",null,"","",""]
[null,null,null,null,null,null,"","","","","",null,"","",""]
[null,null,null,null,null,null,"","","","","",null,"","",""]
[null,null,null,null,null,null,"","","","","",null,"","",""]
[null,null,null,null,null,null,"","","","","",null,"","",""]
[null,null,null,null,null,null,"","","","","",null,"","",""]
[null,null,null,null,null,null,"","","","","",null,"","",""]
[null,null,null,null,null,null,"","","","","",null,"","",""]
[null,null,null,null,null,null,"","","","","",null,"","",""]
[null,null,null,null,null,null,"","","","","",null,"","",""]
[null,null,null,null,null,null,"","","","","",null,"","",""]
[null,null,null,null,null,null,"","","","","",null,"","",""]
[null,null,null,null,null,null,"","","","","",null,"","",""]
[null,null,null,null,null,null,"","","","","",null,"","",""]
[null,null,null,null,null,null,"","","","","",null,"","",""]
[null,null,null,null,null,null,"","","","","",null,"","",""]
[null,null,null,null,null,null,"","","","","",null,"","",""]
[null,null,null,null,null,null,"","","","","",null,"","",""]
[null,null,null,null,null,null,"","","","","",null,"","",""]
[null,null,null,null,null,null,"","","","","",null,"","",""]
[null,null,null,null,null,null,"","","","","",null,"","",""]
[null,null,null,null,null,null,"","","","","",null,"","",""]
[null,null,null,null,null,null,"","","","","",null,"","",""]
[null,null,null,null,null,null,"","","","","",null,"","",""]
[null,null,null,null,null,null,"","","","","",null,"","",""]
[null,null,null,null,null,null,"","","","","",null,"","",""]
[null,null,null,null,null,null,"","","","","",null,"","",""]
[null,null,null,null,null,null,"","","","","",null,"","",""]
[null,null,null,null,null,null,"","","","","",null,"","",""]
[null,null,null,null,null,null,"","","","","",null,"","",""]
[null,null,null,null,null,null,"","","","","",null,"","",""]
[null,null,null,null,null,null,"","","","","",null,"","",""]
[null,null,null,null,null,null,"","","","","",null,"","",""]
[null,null,null,null,null,null,"","","","","",null,"","",""]
[null,null,null,null,null,null,"","","","","",null,"","",""]
[null,null,null,null,null,null,"","","","","",null,"","",""]
[null,null,null,null,null,null,"","","","",{"$f":"IF(User_Stage_Area=1,\"--\",IF(COUNTA=0,\"\",I1204*J1204))","v":""},null,"","",""]
[null,null,null,null,null,null,{"$f":"IF(User_Stage_Area=1,\"--\",IF(COUNTA=0,\"\",ROUND(G1204+0.01,2)))","v":""},{"$f":"IF(User_Stage_Area=1,IF(H1204=\"\",\"\",IF(H1204+0.005<=MAX(UserInput_Stage),ROUND(H1204+0.01,2),\"\")),IF(COUNTA=0,\"\",\"--\"))","v":""},{"$f":"IF(User_Stage_Area=1,\"--\",IF(COUNTA=0,\"\",IF(BMP_Type=2,IF(G1205<=H_ISV+H_TC,L_ISV,IF(G1205<=H_FLOOR+H_ISV+H_TC,L_ISV+(G1205-H_ISV-H_TC)/S_TC+(G1205-H_ISV-H_TC)*S_MAIN,L_FLOOR+2*(G1205-H_FLOOR-H_ISV-H_TC)*S_MAIN)),L_FLOOR+2*G1205*S_MAIN)))","v":""},{"$f":"IF(User_Stage_Area=1,\"--\",IF(COUNTA=0,\"\",IF(BMP_Type=2,IF(G1205<=H_ISV+H_TC,L_ISV,IF(G1205<=H_FLOOR+H_ISV+H_TC,W_ISV+(G1205-H_ISV-H_TC)/(RATIO*S_TC),W_FLOOR+2*(G1205-H_FLOOR-H_ISV-H_TC)*S_MAIN)),W_FLOOR+2*G1205*S_MAIN)))","v":""},"",null,{"$f":"IF(K1205=\"\",\"\",IF(K1205=\"--\",IF(L1205=\"\",\"\",L1205/43560),K1205/43560))","v":""},"",""]
[null,null,null,null,null,null,"","","","","",null,"",{"$f":"IF(K1206=\"\",\"\",IF(K1206=\"--\",IF(L1206=\"\",\"\",N1205+(H1206-H1205)/3*(L1205+L1206+(L1205*L1206)^0.5)),N1205+(G1206-G1205)/3*(K1205+K1206+(K1205*K1206)^0.5)))","v":""},{"$f":"IF(N1206=\"\",\"\",N1206/43560)","v":""}]
[null,null,null,null,null,null,"","","","","",null,"","",""]
[null,null,null,null,null,null,"","","","","",null,"","",""]
[null,null,null,null,null,null,"","","","","",null,"","",""]
[null,null,null,null,null,null,"","","","","",null,"","",""]
[null,null,null,null,null,null,"","","","","",null,"","",""]
[null,null,null,null,null,null,"","","","","",null,"","",""]
[null,null,null,null,null,null,"","","","","",null,"","",""]
[null,null,null,null,null,null,"","","","","",null,"","",""]
[null,null,null,null,null,null,"","","","","",null,"","",""]
[null,null,null,null,null,null,"","","","","",null,"","",""]
[null,null,null,null,null,null,"","","","","",null,"","",""]
[null,null,null,null,null,null,"","","","","",null,"","",""]
[null,null,null,null,null,null,"","","","","",null,"","",""]
[null,null,null,null,null,null,"","","","","",null,"","",""]
[null,null,null,null,null,null,"","","","","",null,"","",""]
[null,null,null,null,null,null,"","","","","",null,"","",""]
[null,null,null,null,null,null,"","","","","",null,"","",""]
[null,null,null,null,null,null,"","","","","",null,"","",""]
[null,null,null,null,null,null,"","","","","",null,"","",""]
[null,null,null,null,null,null,"","","","","",null,"","",""]
[null,null,null,null,null,null,"","","","","",null,"","",""]
[null,null,null,null,null,null,"","","","","",null,"","",""]
[null,null,null,null,null,null,"","","","","",null,"","",""]
[null,null,null,null,null,null,"","","","","",null,"","",""]
[null,null,null,null,null,null,"","","","","",null,"","",""]
[null,null,null,null,null,null,"","","","","",null,"","",""]
[null,null,null,null,null,null,"","","","","",null,"","",""]
[null,null,null,null,null,null,"","","","","",null,"","",""]
[null,null,null,null,null,null,"","","","","",null,"","",""]
[null,null,null,null,null,null,"","","","","",null,"","",""]
[null,null,null,null,null,null,"","","","","",null,"","",""]
[null,null,null,null,null,null,"","","","","",null,"","",""]
[null,null,null,null,null,null,"","","","","",null,"","",""]
[null,null,null,null,null,null,"","","","","",null,"","",""]
[null,null,null,null,null,null,"","","","","",null,"","",""]
[null,null,null,null,null,null,"","","","","",null,"","",""]
[null,null,null,null,null,null,"","","","","",null,"","",""]
[null,null,null,null,null,null,"","","","","",null,"","",""]
[null,null,null,null,null,null,"","","","","",null,"","",""]
[null,null,null,null,null,null,"","","","","",null,"","",""]
[null,null,null,null,null,null,"","","","","",null,"","",""]
[null,null,null,null,null,null,"","","","","",null,"","",""]
[null,null,null,null,null,null,"","","","","",null,"","",""]
[null,null,null,null,null,null,"","","","","",null,"","",""]
[null,null,null,null,null,null,"","","","","",null,"","",""]
[null,null,null,null,null,null,"","","","","",null,"","",""]
[null,null,null,null,null,null,"","","","","",null,"","",""]
[null,null,null,null,null,null,"","","","","",null,"","",""]
[null,null,null,null,null,null,"","","","","",null,"","",""]
[null,null,null,null,null,null,"","","","","",null,"","",""]
[null,null,null,null,null,null,"","","","","",null,"","",""]
[null,null,null,null,null,null,"","","","","",null,"","",""]
[null,null,null,null,null,null,"","","","","",null,"","",""]
[null,null,null,null,null,null,"","","","","",null,"","",""]
[null,null,null,null,null,null,"","","","","",null,"","",""]
[null,null,null,null,null,null,"","","","","",null,"","",""]
[null,null,null,null,null,null,"","","","","",null,"","",""]
[null,null,null,null,null,null,"","","","","",null,"","",""]
[null,null,null,null,null,null,"","","","","",null,"","",""]
[null,null,null,null,null,null,"","","","","",null,"","",""]
[null,null,null,null,null,null,"","","","","",null,"","",""]
[null,null,null,null,null,null,"","","","",{"$f":"IF(User_Stage_Area=1,\"--\",IF(COUNTA=0,\"\",I1268*J1268))","v":""},null,"","",""]
[null,null,null,null,null,null,{"$f":"IF(User_Stage_Area=1,\"--\",IF(COUNTA=0,\"\",ROUND(G1268+0.01,2)))","v":""},{"$f":"IF(User_Stage_Area=1,IF(H1268=\"\",\"\",IF(H1268+0.005<=MAX(UserInput_Stage),ROUND(H1268+0.01,2),\"\")),IF(COUNTA=0,\"\",\"--\"))","v":""},{"$f":"IF(User_Stage_Area=1,\"--\",IF(COUNTA=0,\"\",IF(BMP_Type=2,IF(G1269<=H_ISV+H_TC,L_ISV,IF(G1269<=H_FLOOR+H_ISV+H_TC,L_ISV+(G1269-H_ISV-H_TC)/S_TC+(G1269-H_ISV-H_TC)*S_MAIN,L_FLOOR+2*(G1269-H_FLOOR-H_ISV-H_TC)*S_MAIN)),L_FLOOR+2*G1269*S_MAIN)))","v":""},{"$f":"IF(User_Stage_Area=1,\"--\",IF(COUNTA=0,\"\",IF(BMP_Type=2,IF(G1269<=H_ISV+H_TC,L_ISV,IF(G1269<=H_FLOOR+H_ISV+H_TC,W_ISV+(G1269-H_ISV-H_TC)/(RATIO*S_TC),W_FLOOR+2*(G1269-H_FLOOR-H_ISV-H_TC)*S_MAIN)),W_FLOOR+2*G1269*S_MAIN)))","v":""},"",null,{"$f":"IF(K1269=\"\",\"\",IF(K1269=\"--\",IF(L1269=\"\",\"\",L1269/43560),K1269/43560))","v":""},"",""]
[null,null,null,null,null,null,"","","","","",null,"",{"$f":"IF(K1270=\"\",\"\",IF(K1270=\"--\",IF(L1270=\"\",\"\",N1269+(H1270-H1269)/3*(L1269+L1270+(L1269*L1270)^0.5)),N1269+(G1270-G1269)/3*(K1269+K1270+(K1269*K1270)^0.5)))","v":""},{"$f":"IF(N1270=\"\",\"\",N1270/43560)","v":""}]
[null,null,null,null,null,null,"","","","","",null,"","",""]
[null,null,null,null,null,null,"","","","","",null,"","",""]
[null,null,null,null,null,null,"","","","","",null,"","",""]
[null,null,null,null,null,null,"","","","","",null,"","",""]
[null,null,null,null,null,null,"","","","","",null,"","",""]
[null,null,null,null,null,null,"","","","","",null,"","",""]
[null,null,null,null,null,null,"","","","","",null,"","",""]
[null,null,null,null,null,null,"","","","","",null,"","",""]
[null,null,null,null,null,null,"","","","","",null,"","",""]
[null,null,null,null,null,null,"","","","","",null,"","",""]
[null,null,null,null,null,null,"","","","","",null,"","",""]
[null,null,null,null,null,null,"","","","","",null,"","",""]
[null,null,null,null,null,null,"","","","","",null,"","",""]
[null,null,null,null,null,null,"","","","","",null,"","",""]
[null,null,null,null,null,null,"","","","","",null,"","",""]
[null,null,null,null,null,null,"","","","","",null,"","",""]
[null,null,null,null,null,null,"","","","","",null,"","",""]
[null,null,null,null,null,null,"","","","","",null,"","",""]
[null,null,null,null,null,null,"","","","","",null,"","",""]
[null,null,null,null,null,null,"","","","","",null,"","",""]
[null,null,null,null,null,null,"","","","","",null,"","",""]
[null,null,null,null,null,null,"","","","","",null,"","",""]
[null,null,null,null,null,null,"","","","","",null,"","",""]
[null,null,null,null,null,null,"","","","","",null,"","",""]
[null,null,null,null,null,null,"","","","","",null,"","",""]
[null,null,null,null,null,null,"","","","","",null,"","",""]
[null,null,null,null,null,null,"","","","","",null,"","",""]
[null,null,null,null,null,null,"","","","","",null,"","",""]
[null,null,null,null,null,null,"","","","","",null,"","",""]
[null,null,null,null,null,null,"","","","","",null,"","",""]
[null,null,null,null,null,null,"","","","","",null,"","",""]
[null,null,null,null,null,null,"","","","","",null,"","",""]
[null,null,null,null,null,null,"","","","","",null,"","",""]
[null,null,null,null,null,null,"","","","","",null,"","",""]
[null,null,null,null,null,null,"","","","","",null,"","",""]
[null,null,null,null,null,null,"","","","","",null,"","",""]
[null,null,null,null,null,null,"","","","","",null,"","",""]
[null,null,null,null,null,null,"","","","","",null,"","",""]
[null,null,null,null,null,null,"","","","","",null,"","",""]
[null,null,null,null,null,null,"","","","","",null,"","",""]
[null,null,null,null,null,null,"","","","","",null,"","",""]
[null,null,null,null,null,null,"","","","","",null,"","",""]
[null,null,null,null,null,null,"","","","","",null,"","",""]
[null,null,null,null,null,null,"","","","","",null,"","",""]
[null,null,null,null,null,null,"","","","","",null,"","",""]
[null,null,null,null,null,null,"","","","","",null,"","",""]
[null,null,null,null,null,null,"","","","","",null,"","",""]
[null,null,null,null,null,null,"","","","","",null,"","",""]
[null,null,null,null,null,null,"","","","","",null,"","",""]
[null,null,null,null,null,null,"","","","","",null,"","",""]
[null,null,null,null,null,null,"","","","","",null,"","",""]
[null,null,null,null,null,null,"","","","","",null,"","",""]
[null,null,null,null,null,null,"","","","","",null,"","",""]
[null,null,null,null,null,null,"","","","","",null,"","",""]
[null,null,null,null,null,null,"","","","","",null,"","",""]
[null,null,null,null,null,null,"","","","","",null,"","",""]
[null,null,null,null,null,null,"","","","","",null,"","",""]
[null,null,null,null,null,null,"","","","","",null,"","",""]
[null,null,null,null,null,null,"","","","","",null,"","",""]
[null,null,null,null,null,null,"","","","","",null,"","",""]
[null,null,null,null,null,null,"","","","","",null,"","",""]
[null,null,null,null,null,null,"","","","",{"$f":"IF(User_Stage_Area=1,\"--\",IF(COUNTA=0,\"\",I1332*J1332))","v":""},null,"","",""]
[null,null,null,null,null,null,{"$f":"IF(User_Stage_Area=1,\"--\",IF(COUNTA=0,\"\",ROUND(G1332+0.01,2)))","v":""},{"$f":"IF(User_Stage_Area=1,IF(H1332=\"\",\"\",IF(H1332+0.005<=MAX(UserInput_Stage),ROUND(H1332+0.01,2),\"\")),IF(COUNTA=0,\"\",\"--\"))","v":""},{"$f":"IF(User_Stage_Area=1,\"--\",IF(COUNTA=0,\"\",IF(BMP_Type=2,IF(G1333<=H_ISV+H_TC,L_ISV,IF(G1333<=H_FLOOR+H_ISV+H_TC,L_ISV+(G1333-H_ISV-H_TC)/S_TC+(G1333-H_ISV-H_TC)*S_MAIN,L_FLOOR+2*(G1333-H_FLOOR-H_ISV-H_TC)*S_MAIN)),L_FLOOR+2*G1333*S_MAIN)))","v":""},{"$f":"IF(User_Stage_Area=1,\"--\",IF(COUNTA=0,\"\",IF(BMP_Type=2,IF(G1333<=H_ISV+H_TC,L_ISV,IF(G1333<=H_FLOOR+H_ISV+H_TC,W_ISV+(G1333-H_ISV-H_TC)/(RATIO*S_TC),W_FLOOR+2*(G1333-H_FLOOR-H_ISV-H_TC)*S_MAIN)),W_FLOOR+2*G1333*S_MAIN)))","v":""},"",null,{"$f":"IF(K1333=\"\",\"\",IF(K1333=\"--\",IF(L1333=\"\",\"\",L1333/43560),K1333/43560))","v":""},"",""]
[null,null,null,null,null,null,"","","","","",null,"",{"$f":"IF(K1334=\"\",\"\",IF(K1334=\"--\",IF(L1334=\"\",\"\",N1333+(H1334-H1333)/3*(L1333+L1334+(L1333*L1334)^0.5)),N1333+(G1334-G1333)/3*(K1333+K1334+(K1333*K1334)^0.5)))","v":""},{"$f":"IF(N1334=\"\",\"\",N1334/43560)","v":""}]
[null,null,null,null,null,null,"","","","","",null,"","",""]
[null,null,null,null,null,null,"","","","","",null,"","",""]
[null,null,null,null,null,null,"","","","","",null,"","",""]
[null,null,null,null,null,null,"","","","","",null,"","",""]
[null,null,null,null,null,null,"","","","","",null,"","",""]
[null,null,null,null,null,null,"","","","","",null,"","",""]
[null,null,null,null,null,null,"","","","","",null,"","",""]
[null,null,null,null,null,null,"","","","","",null,"","",""]
[null,null,null,null,null,null,"","","","","",null,"","",""]
[null,null,null,null,null,null,"","","","","",null,"","",""]
[null,null,null,null,null,null,"","","","","",null,"","",""]
[null,null,null,null,null,null,"","","","","",null,"","",""]
[null,null,null,null,null,null,"","","","","",null,"","",""]
[null,null,null,null,null,null,"","","","","",null,"","",""]
[null,null,null,null,null,null,"","","","","",null,"","",""]
[null,null,null,null,null,null,"","","","","",null,"","",""]
[null,null,null,null,null,null,"","","","","",null,"","",""]
[null,null,null,null,null,null,"","","","","",null,"","",""]
[null,null,null,null,null,null,"","","","","",null,"","",""]
[null,null,null,null,null,null,"","","","","",null,"","",""]
[null,null,null,null,null,null,"","","","","",null,"","",""]
[null,null,null,null,null,null,"","","","","",null,"","",""]
[null,null,null,null,null,null,"","","","","",null,"","",""]
[null,null,null,null,null,null,"","","","","",null,"","",""]
[null,null,null,null,null,null,"","","","","",null,"","",""]
[null,null,null,null,null,null,"","","","","",null,"","",""]
[null,null,null,null,null,null,"","","","","",null,"","",""]
[null,null,null,null,null,null,"","","","","",null,"","",""]
[null,null,null,null,null,null,"","","","","",null,"","",""]
[null,null,null,null,null,null,"","","","","",null,"","",""]
[null,null,null,null,null,null,"","","","","",null,"","",""]
[null,null,null,null,null,null,"","","","","",null,"","",""]
[null,null,null,null,null,null,"","","","","",null,"","",""]
[null,null,null,null,null,null,"","","","","",null,"","",""]
[null,null,null,null,null,null,"","","","","",null,"","",""]
[null,null,null,null,null,null,"","","","","",null,"","",""]
[null,null,null,null,null,null,"","","","","",null,"","",""]
[null,null,null,null,null,null,"","","","","",null,"","",""]
[null,null,null,null,null,null,"","","","","",null,"","",""]
[null,null,null,null,null,null,"","","","","",null,"","",""]
[null,null,null,null,null,null,"","","","","",null,"","",""]
[null,null,null,null,null,null,"","","","","",null,"","",""]
[null,null,null,null,null,null,"","","","","",null,"","",""]
[null,null,null,null,null,null,"","","","","",null,"","",""]
[null,null,null,null,null,null,"","","","","",null,"","",""]
[null,null,null,null,null,null,"","","","","",null,"","",""]
[null,null,null,null,null,null,"","","","","",null,"","",""]
[null,null,null,null,null,null,"","","","","",null,"","",""]
[null,null,null,null,null,null,"","","","","",null,"","",""]
[null,null,null,null,null,null,"","","","","",null,"","",""]
[null,null,null,null,null,null,"","","","","",null,"","",""]
[null,null,null,null,null,null,"","","","","",null,"","",""]
[null,null,null,null,null,null,"","","","","",null,"","",""]
[null,null,null,null,null,null,"","","","","",null,"","",""]
[null,null,null,null,null,null,"","","","","",null,"","",""]
[null,null,null,null,null,null,"","","","","",null,"","",""]
[null,null,null,null,null,null,"","","","","",null,"","",""]
[null,null,null,null,null,null,"","","","","",null,"","",""]
[null,null,null,null,null,null,"","","","","",null,"","",""]
[null,null,null,null,null,null,"","","","","",null,"","",""]
[null,null,null,null,null,null,"","","","","",null,"","",""]
[null,null,null,null,null,null,"","","","",{"$f":"IF(User_Stage_Area=1,\"--\",IF(COUNTA=0,\"\",I1396*J1396))","v":""},null,"","",""]
[null,null,null,null,null,null,{"$f":"IF(User_Stage_Area=1,\"--\",IF(COUNTA=0,\"\",ROUND(G1396+0.01,2)))","v":""},{"$f":"IF(User_Stage_Area=1,IF(H1396=\"\",\"\",IF(H1396+0.005<=MAX(UserInput_Stage),ROUND(H1396+0.01,2),\"\")),IF(COUNTA=0,\"\",\"--\"))","v":""},{"$f":"IF(User_Stage_Area=1,\"--\",IF(COUNTA=0,\"\",IF(BMP_Type=2,IF(G1397<=H_ISV+H_TC,L_ISV,IF(G1397<=H_FLOOR+H_ISV+H_TC,L_ISV+(G1397-H_ISV-H_TC)/S_TC+(G1397-H_ISV-H_TC)*S_MAIN,L_FLOOR+2*(G1397-H_FLOOR-H_ISV-H_TC)*S_MAIN)),L_FLOOR+2*G1397*S_MAIN)))","v":""},{"$f":"IF(User_Stage_Area=1,\"--\",IF(COUNTA=0,\"\",IF(BMP_Type=2,IF(G1397<=H_ISV+H_TC,L_ISV,IF(G1397<=H_FLOOR+H_ISV+H_TC,W_ISV+(G1397-H_ISV-H_TC)/(RATIO*S_TC),W_FLOOR+2*(G1397-H_FLOOR-H_ISV-H_TC)*S_MAIN)),W_FLOOR+2*G1397*S_MAIN)))","v":""},"",null,{"$f":"IF(K1397=\"\",\"\",IF(K1397=\"--\",IF(L1397=\"\",\"\",L1397/43560),K1397/43560))","v":""},"",""]
[null,null,null,null,null,null,"","","","","",null,"",{"$f":"IF(K1398=\"\",\"\",IF(K1398=\"--\",IF(L1398=\"\",\"\",N1397+(H1398-H1397)/3*(L1397+L1398+(L1397*L1398)^0.5)),N1397+(G1398-G1397)/3*(K1397+K1398+(K1397*K1398)^0.5)))","v":""},{"$f":"IF(N1398=\"\",\"\",N1398/43560)","v":""}]
[null,null,null,null,null,null,"","","","","",null,"","",""]
[null,null,null,null,null,null,"","","","","",null,"","",""]
[null,null,null,null,null,null,"","","","","",null,"","",""]
[null,null,null,null,null,null,"","","","","",null,"","",""]
[null,null,null,null,null,null,"","","","","",null,"","",""]
[null,null,null,null,null,null,"","","","","",null,"","",""]
[null,null,null,null,null,null,"","","","","",null,"","",""]
[null,null,null,null,null,null,"","","","","",null,"","",""]
[null,null,null,null,null,null,"","","","","",null,"","",""]
[null,null,null,null,null,null,"","","","","",null,"","",""]
[null,null,null,null,null,null,"","","","","",null,"","",""]
[null,null,null,null,null,null,"","","","","",null,"","",""]
[null,null,null,null,null,null,"","","","","",null,"","",""]
[null,null,null,null,null,null,"","","","","",null,"","",""]
[null,null,null,null,null,null,"","","","","",null,"","",""]
[null,null,null,null,null,null,"","","","","",null,"","",""]
[null,null,null,null,null,null,"","","","","",null,"","",""]
[null,null,null,null,null,null,"","","","","",null,"","",""]
[null,null,null,null,null,null,"","","","","",null,"","",""]
[null,null,null,null,null,null,"","","","","",null,"","",""]
[null,null,null,null,null,null,"","","","","",null,"","",""]
[null,null,null,null,null,null,"","","","","",null,"","",""]
[null,null,null,null,null,null,"","","","","",null,"","",""]
[null,null,null,null,null,null,"","","","","",null,"","",""]
[null,null,null,null,null,null,"","","","","",null,"","",""]
[null,null,null,null,null,null,"","","","","",null,"","",""]
[null,null,null,null,null,null,"","","","","",null,"","",""]
[null,null,null,null,null,null,"","","","","",null,"","",""]
[null,null,null,null,null,null,"","","","","",null,"","",""]
[null,null,null,null,null,null,"","","","","",null,"","",""]
[null,null,null,null,null,null,"","","","","",null,"","",""]
[null,null,null,null,null,null,"","","","","",null,"","",""]
[null,null,null,null,null,null,"","","","","",null,"","",""]
[null,null,null,null,null,null,"","","","","",null,"","",""]
[null,null,null,null,null,null,"","","","","",null,"","",""]
[null,null,null,null,null,null,"","","","","",null,"","",""]
[null,null,null,null,null,null,"","","","","",null,"","",""]
[null,null,null,null,null,null,"","","","","",null,"","",""]
[null,null,null,null,null,null,"","","","","",null,"","",""]
[null,null,null,null,null,null,"","","","","",null,"","",""]
[null,null,null,null,null,null,"","","","","",null,"","",""]
[null,null,null,null,null,null,"","","","","",null,"","",""]
[null,null,null,null,null,null,"","","","","",null,"","",""]
[null,null,null,null,null,null,"","","","","",null,"","",""]
[null,null,null,null,null,null,"","","","","",null,"","",""]
[null,null,null,null,null,null,"","","","","",null,"","",""]
[null,null,null,null,null,null,"","","","","",null,"","",""]
[null,null,null,null,null,null,"","","","","",null,"","",""]
[null,null,null,null,null,null,"","","","","",null,"","",""]
[null,null,null,null,null,null,"","","","","",null,"","",""]
[null,null,null,null,null,null,"","","","","",null,"","",""]
[null,null,null,null,null,null,"","","","","",null,"","",""]
[null,null,null,null,null,null,"","","","","",null,"","",""]
[null,null,null,null,null,null,"","","","","",null,"","",""]
[null,null,null,null,null,null,"","","","","",null,"","",""]
[null,null,null,null,null,null,"","","","","",null,"","",""]
[null,null,null,null,null,null,"","","","","",null,"","",""]
[null,null,null,null,null,null,"","","","","",null,"","",""]
[null,null,null,null,null,null,"","","","","",null,"","",""]
[null,null,null,null,null,null,"","","","","",null,"","",""]
[null,null,null,null,null,null,"","","","","",null,"","",""]
[null,null,null,null,null,null,"","","","",{"$f":"IF(User_Stage_Area=1,\"--\",IF(COUNTA=0,\"\",I1460*J1460))","v":""},null,"","",""]
[null,null,null,null,null,null,{"$f":"IF(User_Stage_Area=1,\"--\",IF(COUNTA=0,\"\",ROUND(G1460+0.01,2)))","v":""},{"$f":"IF(User_Stage_Area=1,IF(H1460=\"\",\"\",IF(H1460+0.005<=MAX(UserInput_Stage),ROUND(H1460+0.01,2),\"\")),IF(COUNTA=0,\"\",\"--\"))","v":""},{"$f":"IF(User_Stage_Area=1,\"--\",IF(COUNTA=0,\"\",IF(BMP_Type=2,IF(G1461<=H_ISV+H_TC,L_ISV,IF(G1461<=H_FLOOR+H_ISV+H_TC,L_ISV+(G1461-H_ISV-H_TC)/S_TC+(G1461-H_ISV-H_TC)*S_MAIN,L_FLOOR+2*(G1461-H_FLOOR-H_ISV-H_TC)*S_MAIN)),L_FLOOR+2*G1461*S_MAIN)))","v":""},{"$f":"IF(User_Stage_Area=1,\"--\",IF(COUNTA=0,\"\",IF(BMP_Type=2,IF(G1461<=H_ISV+H_TC,L_ISV,IF(G1461<=H_FLOOR+H_ISV+H_TC,W_ISV+(G1461-H_ISV-H_TC)/(RATIO*S_TC),W_FLOOR+2*(G1461-H_FLOOR-H_ISV-H_TC)*S_MAIN)),W_FLOOR+2*G1461*S_MAIN)))","v":""},"",null,{"$f":"IF(K1461=\"\",\"\",IF(K1461=\"--\",IF(L1461=\"\",\"\",L1461/43560),K1461/43560))","v":""},"",""]
[null,null,null,null,null,null,"","","","","",null,"",{"$f":"IF(K1462=\"\",\"\",IF(K1462=\"--\",IF(L1462=\"\",\"\",N1461+(H1462-H1461)/3*(L1461+L1462+(L1461*L1462)^0.5)),N1461+(G1462-G1461)/3*(K1461+K1462+(K1461*K1462)^0.5)))","v":""},{"$f":"IF(N1462=\"\",\"\",N1462/43560)","v":""}]
[null,null,null,null,null,null,"","","","","",null,"","",""]
[null,null,null,null,null,null,"","","","","",null,"","",""]
[null,null,null,null,null,null,"","","","","",null,"","",""]
[null,null,null,null,null,null,"","","","","",null,"","",""]
[null,null,null,null,null,null,"","","","","",null,"","",""]
[null,null,null,null,null,null,"","","","","",null,"","",""]
[null,null,null,null,null,null,"","","","","",null,"","",""]
[null,null,null,null,null,null,"","","","","",null,"","",""]
[null,null,null,null,null,null,"","","","","",null,"","",""]
[null,null,null,null,null,null,"","","","","",null,"","",""]
[null,null,null,null,null,null,"","","","","",null,"","",""]
[null,null,null,null,null,null,"","","","","",null,"","",""]
[null,null,null,null,null,null,"","","","","",null,"","",""]
[null,null,null,null,null,null,"","","","","",null,"","",""]
[null,null,null,null,null,null,"","","","","",null,"","",""]
[null,null,null,null,null,null,"","","","","",null,"","",""]
[null,null,null,null,null,null,"","","","","",null,"","",""]
[null,null,null,null,null,null,"","","","","",null,"","",""]
[null,null,null,null,null,null,"","","","","",null,"","",""]
[null,null,null,null,null,null,"","","","","",null,"","",""]
[null,null,null,null,null,null,"","","","","",null,"","",""]
[null,null,null,null,null,null,"","","","","",null,"","",""]
[null,null,null,null,null,null,"","","","","",null,"","",""]
[null,null,null,null,null,null,"","","","","",null,"","",""]
[null,null,null,null,null,null,"","","","","",null,"","",""]
[null,null,null,null,null,null,"","","","","",null,"","",""]
[null,null,null,null,null,null,"","","","","",null,"","",""]
[null,null,null,null,null,null,"","","","","",null,"","",""]
[null,null,null,null,null,null,"","","","","",null,"","",""]
[null,null,null,null,null,null,"","","","","",null,"","",""]
[null,null,null,null,null,null,"","","","","",null,"","",""]
[null,null,null,null,null,null,"","","","","",null,"","",""]
[null,null,null,null,null,null,"","","","","",null,"","",""]
[null,null,null,null,null,null,"","","","","",null,"","",""]
[null,null,null,null,null,null,"","","","","",null,"","",""]
[null,null,null,null,null,null,"","","","","",null,"","",""]
[null,null,null,null,null,null,"","","","","",null,"","",""]
[null,null,null,null,null,null,"","","","","",null,"","",""]
[null,null,null,null,null,null,"","","","","",null,"","",""]
[null,null,null,null,null,null,"","","","","",null,"","",""]
[null,null,null,null,null,null,"","","","","",null,"","",""]
[null,null,null,null,null,null,"","","","","",null,"","",""]
[null,null,null,null,null,null,"","","","","",null,"","",""]
[null,null,null,null,null,null,"","","","","",null,"","",""]
[null,null,null,null,null,null,"","","","","",null,"","",""]
[null,null,null,null,null,null,"","","","","",null,"","",""]
[null,null,null,null,null,null,"","","","","",null,"","",""]
[null,null,null,null,null,null,"","","","","",null,"","",""]
[null,null,null,null,null,null,"","","","","",null,"","",""]
[null,null,null,null,null,null,"","","","","",null,"","",""]
[null,null,null,null,null,null,"","","","","",null,"","",""]
[null,null,null,null,null,null,"","","","","",null,"","",""]
[null,null,null,null,null,null,"","","","","",null,"","",""]
[null,null,null,null,null,null,"","","","","",null,"","",""]
[null,null,null,null,null,null,"","","","","",null,"","",""]
[null,null,null,null,null,null,"","","","","",null,"","",""]
[null,null,null,null,null,null,"","","","","",null,"","",""]
[null,null,null,null,null,null,"","","","","",null,"","",""]
[null,null,null,null,null,null,"","","","","",null,"","",""]
[null,null,null,null,null,null,"","","","","",null,"","",""]
[null,null,null,null,null,null,"","","","","",null,"","",""]
[null,null,null,null,null,null,"","","","",{"$f":"IF(User_Stage_Area=1,\"--\",IF(COUNTA=0,\"\",I1524*J1524))","v":""},null,"","",""]
[null,null,null,null,null,null,{"$f":"IF(User_Stage_Area=1,\"--\",IF(COUNTA=0,\"\",ROUND(G1524+0.01,2)))","v":""},{"$f":"IF(User_Stage_Area=1,IF(H1524=\"\",\"\",IF(H1524+0.005<=MAX(UserInput_Stage),ROUND(H1524+0.01,2),\"\")),IF(COUNTA=0,\"\",\"--\"))","v":""},{"$f":"IF(User_Stage_Area=1,\"--\",IF(COUNTA=0,\"\",IF(BMP_Type=2,IF(G1525<=H_ISV+H_TC,L_ISV,IF(G1525<=H_FLOOR+H_ISV+H_TC,L_ISV+(G1525-H_ISV-H_TC)/S_TC+(G1525-H_ISV-H_TC)*S_MAIN,L_FLOOR+2*(G1525-H_FLOOR-H_ISV-H_TC)*S_MAIN)),L_FLOOR+2*G1525*S_MAIN)))","v":""},{"$f":"IF(User_Stage_Area=1,\"--\",IF(COUNTA=0,\"\",IF(BMP_Type=2,IF(G1525<=H_ISV+H_TC,L_ISV,IF(G1525<=H_FLOOR+H_ISV+H_TC,W_ISV+(G1525-H_ISV-H_TC)/(RATIO*S_TC),W_FLOOR+2*(G1525-H_FLOOR-H_ISV-H_TC)*S_MAIN)),W_FLOOR+2*G1525*S_MAIN)))","v":""},"",null,{"$f":"IF(K1525=\"\",\"\",IF(K1525=\"--\",IF(L1525=\"\",\"\",L1525/43560),K1525/43560))","v":""},"",""]
[null,null,null,null,null,null,"","","","","",null,"",{"$f":"IF(K1526=\"\",\"\",IF(K1526=\"--\",IF(L1526=\"\",\"\",N1525+(H1526-H1525)/3*(L1525+L1526+(L1525*L1526)^0.5)),N1525+(G1526-G1525)/3*(K1525+K1526+(K1525*K1526)^0.5)))","v":""},{"$f":"IF(N1526=\"\",\"\",N1526/43560)","v":""}]
[null,null,null,null,null,null,"","","","","",null,"","",""]
[null,null,null,null,null,null,"","","","","",null,"","",""]
[null,null,null,null,null,null,"","","","","",null,"","",""]
[null,null,null,null,null,null,"","","","","",null,"","",""]
[null,null,null,null,null,null,"","","","","",null,"","",""]
[null,null,null,null,null,null,"","","","","",null,"","",""]
[null,null,null,null,null,null,"","","","","",null,"","",""]
[null,null,null,null,null,null,"","","","","",null,"","",""]
[null,null,null,null,null,null,"","","","","",null,"","",""]
[null,null,null,null,null,null,"","","","","",null,"","",""]
[null,null,null,null,null,null,"","","","","",null,"","",""]
[null,null,null,null,null,null,"","","","","",null,"","",""]
[null,null,null,null,null,null,"","","","","",null,"","",""]
[null,null,null,null,null,null,"","","","","",null,"","",""]
[null,null,null,null,null,null,"","","","","",null,"","",""]
[null,null,null,null,null,null,"","","","","",null,"","",""]
[null,null,null,null,null,null,"","","","","",null,"","",""]
[null,null,null,null,null,null,"","","","","",null,"","",""]
[null,null,null,null,null,null,"","","","","",null,"","",""]
[null,null,null,null,null,null,"","","","","",null,"","",""]
[null,null,null,null,null,null,"","","","","",null,"","",""]
[null,null,null,null,null,null,"","","","","",null,"","",""]
[null,null,null,null,null,null,"","","","","",null,"","",""]
[null,null,null,null,null,null,"","","","","",null,"","",""]
[null,null,null,null,null,null,"","","","","",null,"","",""]
[null,null,null,null,null,null,"","","","","",null,"","",""]
[null,null,null,null,null,null,"","","","","",null,"","",""]
[null,null,null,null,null,null,"","","","","",null,"","",""]
[null,null,null,null,null,null,"","","","","",null,"","",""]
[null,null,null,null,null,null,"","","","","",null,"","",""]
[null,null,null,null,null,null,"","","","","",null,"","",""]
[null,null,null,null,null,null,"","","","","",null,"","",""]
[null,null,null,null,null,null,"","","","","",null,"","",""]
[null,null,null,null,null,null,"","","","","",null,"","",""]
[null,null,null,null,null,null,"","","","","",null,"","",""]
[null,null,null,null,null,null,"","","","","",null,"","",""]
[null,null,null,null,null,null,"","","","","",null,"","",""]
[null,null,null,null,null,null,"","","","","",null,"","",""]
[null,null,null,null,null,null,"","","","","",null,"","",""]
[null,null,null,null,null,null,"","","","","",null,"","",""]
[null,null,null,null,null,null,"","","","","",null,"","",""]
[null,null,null,null,null,null,"","","","","",null,"","",""]
[null,null,null,null,null,null,"","","","","",null,"","",""]
[null,null,null,null,null,null,"","","","","",null,"","",""]
[null,null,null,null,null,null,"","","","","",null,"","",""]
[null,null,null,null,null,null,"","","","","",null,"","",""]
[null,null,null,null,null,null,"","","","","",null,"","",""]
[null,null,null,null,null,null,"","","","","",null,"","",""]
[null,null,null,null,null,null,"","","","","",null,"","",""]
[null,null,null,null,null,null,"","","","","",null,"","",""]
[null,null,null,null,null,null,"","","","","",null,"","",""]
[null,null,null,null,null,null,"","","","","",null,"","",""]
[null,null,null,null,null,null,"","","","","",null,"","",""]
[null,null,null,null,null,null,"","","","","",null,"","",""]
[null,null,null,null,null,null,"","","","","",null,"","",""]
[null,null,null,null,null,null,"","","","","",null,"","",""]
[null,null,null,null,null,null,"","","","","",null,"","",""]
[null,null,null,null,null,null,"","","","","",null,"","",""]
[null,null,null,null,null,null,"","","","","",null,"","",""]
[null,null,null,null,null,null,"","","","","",null,"","",""]
[null,null,null,null,null,null,"","","","","",null,"","",""]
[null,null,null,null,null,null,"","","","",{"$f":"IF(User_Stage_Area=1,\"--\",IF(COUNTA=0,\"\",I1588*J1588))","v":""},null,"","",""]
[null,null,null,null,null,null,{"$f":"IF(User_Stage_Area=1,\"--\",IF(COUNTA=0,\"\",ROUND(G1588+0.01,2)))","v":""},{"$f":"IF(User_Stage_Area=1,IF(H1588=\"\",\"\",IF(H1588+0.005<=MAX(UserInput_Stage),ROUND(H1588+0.01,2),\"\")),IF(COUNTA=0,\"\",\"--\"))","v":""},{"$f":"IF(User_Stage_Area=1,\"--\",IF(COUNTA=0,\"\",IF(BMP_Type=2,IF(G1589<=H_ISV+H_TC,L_ISV,IF(G1589<=H_FLOOR+H_ISV+H_TC,L_ISV+(G1589-H_ISV-H_TC)/S_TC+(G1589-H_ISV-H_TC)*S_MAIN,L_FLOOR+2*(G1589-H_FLOOR-H_ISV-H_TC)*S_MAIN)),L_FLOOR+2*G1589*S_MAIN)))","v":""},{"$f":"IF(User_Stage_Area=1,\"--\",IF(COUNTA=0,\"\",IF(BMP_Type=2,IF(G1589<=H_ISV+H_TC,L_ISV,IF(G1589<=H_FLOOR+H_ISV+H_TC,W_ISV+(G1589-H_ISV-H_TC)/(RATIO*S_TC),W_FLOOR+2*(G1589-H_FLOOR-H_ISV-H_TC)*S_MAIN)),W_FLOOR+2*G1589*S_MAIN)))","v":""},"",null,{"$f":"IF(K1589=\"\",\"\",IF(K1589=\"--\",IF(L1589=\"\",\"\",L1589/43560),K1589/43560))","v":""},"",""]
[null,null,null,null,null,null,"","","","","",null,"",{"$f":"IF(K1590=\"\",\"\",IF(K1590=\"--\",IF(L1590=\"\",\"\",N1589+(H1590-H1589)/3*(L1589+L1590+(L1589*L1590)^0.5)),N1589+(G1590-G1589)/3*(K1589+K1590+(K1589*K1590)^0.5)))","v":""},{"$f":"IF(N1590=\"\",\"\",N1590/43560)","v":""}]
[null,null,null,null,null,null,"","","","","",null,"","",""]
[null,null,null,null,null,null,"","","","","",null,"","",""]
[null,null,null,null,null,null,"","","","","",null,"","",""]
[null,null,null,null,null,null,"","","","","",null,"","",""]
[null,null,null,null,null,null,"","","","","",null,"","",""]
[null,null,null,null,null,null,"","","","","",null,"","",""]
[null,null,null,null,null,null,"","","","","",null,"","",""]
[null,null,null,null,null,null,"","","","","",null,"","",""]
[null,null,null,null,null,null,"","","","","",null,"","",""]
[null,null,null,null,null,null,"","","","","",null,"","",""]
[null,null,null,null,null,null,"","","","","",null,"","",""]
[null,null,null,null,null,null,"","","","","",null,"","",""]
[null,null,null,null,null,null,"","","","","",null,"","",""]
[null,null,null,null,null,null,"","","","","",null,"","",""]
[null,null,null,null,null,null,"","","","","",null,"","",""]
[null,null,null,null,null,null,"","","","","",null,"","",""]
[null,null,null,null,null,null,"","","","","",null,"","",""]
[null,null,null,null,null,null,"","","","","",null,"","",""]
[null,null,null,null,null,null,"","","","","",null,"","",""]
[null,null,null,null,null,null,"","","","","",null,"","",""]
[null,null,null,null,null,null,"","","","","",null,"","",""]
[null,null,null,null,null,null,"","","","","",null,"","",""]
[null,null,null,null,null,null,"","","","","",null,"","",""]
[null,null,null,null,null,null,"","","","","",null,"","",""]
[null,null,null,null,null,null,"","","","","",null,"","",""]
[null,null,null,null,null,null,"","","","","",null,"","",""]
[null,null,null,null,null,null,"","","","","",null,"","",""]
[null,null,null,null,null,null,"","","","","",null,"","",""]
[null,null,null,null,null,null,"","","","","",null,"","",""]
[null,null,null,null,null,null,"","","","","",null,"","",""]
[null,null,null,null,null,null,"","","","","",null,"","",""]
[null,null,null,null,null,null,"","","","","",null,"","",""]
[null,null,null,null,null,null,"","","","","",null,"","",""]
[null,null,null,null,null,null,"","","","","",null,"","",""]
[null,null,null,null,null,null,"","","","","",null,"","",""]
[null,null,null,null,null,null,"","","","","",null,"","",""]
[null,null,null,null,null,null,"","","","","",null,"","",""]
[null,null,null,null,null,null,"","","","","",null,"","",""]
[null,null,null,null,null,null,"","","","","",null,"","",""]
[null,null,null,null,null,null,"","","","","",null,"","",""]
[null,null,null,null,null,null,"","","","","",null,"","",""]
[null,null,null,null,null,null,"","","","","",null,"","",""]
[null,null,null,null,null,null,"","","","","",null,"","",""]
[null,null,null,null,null,null,"","","","","",null,"","",""]
[null,null,null,null,null,null,"","","","","",null,"","",""]
[null,null,null,null,null,null,"","","","","",null,"","",""]
[null,null,null,null,null,null,"","","","","",null,"","",""]
[null,null,null,null,null,null,"","","","","",null,"","",""]
[null,null,null,null,null,null,"","","","","",null,"","",""]
[null,null,null,null,null,null,"","","","","",null,"","",""]
[null,null,null,null,null,null,"","","","","",null,"","",""]
[null,null,null,null,null,null,"","","","","",null,"","",""]
[null,null,null,null,null,null,"","","","","",null,"","",""]
[null,null,null,null,null,null,"","","","","",null,"","",""]
[null,null,null,null,null,null,"","","","","",null,"","",""]
[null,null,null,null,null,null,"","","","","",null,"","",""]
[null,null,null,null,null,null,"","","","","",null,"","",""]
[null,null,null,null,null,null,"","","","","",null,"","",""]
[null,null,null,null,null,null,"","","","","",null,"","",""]
[null,null,null,null,null,null,"","","","","",null,"","",""]
[null,null,null,null,null,null,"","","","","",null,"","",""]
[null,null,null,null,null,null,"","","","","",null,"","",""]
[null,null,null,null,null,null,{"$f":"IF(User_Stage_Area=1,\"--\",IF(COUNTA=0,\"\",ROUND(G1652+0.01,2)))","v":""},{"$f":"IF(User_Stage_Area=1,IF(H1652=\"\",\"\",IF(H1652+0.005<=MAX(UserInput_Stage),ROUND(H1652+0.01,2),\"\")),IF(COUNTA=0,\"\",\"--\"))","v":""},"","","",null,"","",""]
[null,null,null,null,null,null,"","","","","",null,"",{"$f":"IF(K1654=\"\",\"\",IF(K1654=\"--\",IF(L1654=\"\",\"\",N1653+(H1654-H1653)/3*(L1653+L1654+(L1653*L1654)^0.5)),N1653+(G1654-G1653)/3*(K1653+K1654+(K1653*K1654)^0.5)))","v":""},""]
[null,null,null,null,null,null,"","","","","",null,"","",""]
[null,null,null,null,null,null,"","","","","",null,"","",""]
[null,null,null,null,null,null,"","","","","",null,"","",""]
[null,null,null,null,null,null,"","","","","",null,"","",""]
[null,null,null,null,null,null,"","","","","",null,"","",""]
[null,null,null,null,null,null,"","","","","",null,"","",""]
[null,null,null,null,null,null,"","","","","",null,"","",""]
[null,null,null,null,null,null,"","","","","",null,"","",""]
[null,null,null,null,null,null,"","","","","",null,"","",""]
[null,null,null,null,null,null,"","","","","",null,"","",""]
[null,null,null,null,null,null,"","","","","",null,"","",""]
[null,null,null,null,null,null,"","","","","",null,"","",""]
[null,null,null,null,null,null,"","","","","",null,"","",""]
[null,null,null,null,null,null,"","","","","",null,"","",""]
[null,null,null,null,null,null,"","","","","",null,"","",""]
[null,null,null,null,null,null,"","","","","",null,"","",""]
[null,null,null,null,null,null,"","","","","",null,"","",""]
[null,null,null,null,null,null,"","","","","",null,"","",""]
[null,null,null,null,null,null,"","","","","",null,"","",""]
[null,null,null,null,null,null,"","","","","",null,"","",""]
[null,null,null,null,null,null,"","","","","",null,"","",""]
[null,null,null,null,null,null,"","","","","",null,"","",""]
[null,null,null,null,null,null,"","","","","",null,"","",""]
[null,null,null,null,null,null,"","","","","",null,"","",""]
[null,null,null,null,null,null,"","","","","",null,"","",""]
[null,null,null,null,null,null,"","","","","",null,"","",""]
[null,null,null,null,null,null,"","","","","",null,"","",""]
[null,null,null,null,null,null,"","","","","",null,"","",""]
[null,null,null,null,null,null,"","","","","",null,"","",""]
[null,null,null,null,null,null,"","","","","",null,"","",""]
[null,null,null,null,null,null,"","","","","",null,"","",""]
[null,null,null,null,null,null,"","","","","",null,"","",""]
[null,null,null,null,null,null,"","","","","",null,"","",""]
[null,null,null,null,null,null,"","","","","",null,"","",""]
[null,null,null,null,null,null,"","","","","",null,"","",""]
[null,null,null,null,null,null,"","","","","",null,"","",""]
[null,null,null,null,null,null,"","","","","",null,"","",""]
[null,null,null,null,null,null,"","","","","",null,"","",""]
[null,null,null,null,null,null,"","","","","",null,"","",""]
[null,null,null,null,null,null,"","","","","",null,"","",""]
[null,null,null,null,null,null,"","","","","",null,"","",""]
[null,null,null,null,null,null,"","","","","",null,"","",""]
[null,null,null,null,null,null,"","","","","",null,"","",""]
[null,null,null,null,null,null,"","","","","",null,"","",""]
[null,null,null,null,null,null,"","","","","",null,"","",""]
[null,null,null,null,null,null,"","","","","",null,"","",""]
[null,null,null,null,null,null,"","","","","",null,"","",""]
[null,null,null,null,null,null,"","","","","",null,"","",""]
[null,null,null,null,null,null,"","","","","",null,"","",""]
[null,null,null,null,null,null,"","","","","",null,"","",""]
[null,null,null,null,null,null,"","","","","",null,"","",""]
[null,null,null,null,null,null,"","","","","",null,"","",""]
[null,null,null,null,null,null,"","","","","",null,"","",""]
[null,null,null,null,null,null,"","","","","",null,"","",""]
[null,null,null,null,null,null,"","","","","",null,"","",""]
[null,null,null,null,null,null,"","","","","",null,"","",""]
[null,null,null,null,null,null,"","","","","",null,"","",""]
[null,null,null,null,null,null,"","","","","",null,"","",""]
[null,null,null,null,null,null,"","","","","",null,"","",""]
[null,null,null,null,null,null,"","","","","",null,"","",""]
[null,null,null,null,null,null,"","","","","",null,"","",""]
[null,null,null,null,null,null,"","","","","",null,"","",""]
[null,null,null,null,null,null,{"$f":"IF(User_Stage_Area=1,\"--\",IF(COUNTA=0,\"\",ROUND(G1716+0.01,2)))","v":""},{"$f":"IF(User_Stage_Area=1,IF(H1716=\"\",\"\",IF(H1716+0.005<=MAX(UserInput_Stage),ROUND(H1716+0.01,2),\"\")),IF(COUNTA=0,\"\",\"--\"))","v":""},"","","",null,"","",""]
[null,null,null,null,null,null,"","","","","",null,"",{"$f":"IF(K1718=\"\",\"\",IF(K1718=\"--\",IF(L1718=\"\",\"\",N1717+(H1718-H1717)/3*(L1717+L1718+(L1717*L1718)^0.5)),N1717+(G1718-G1717)/3*(K1717+K1718+(K1717*K1718)^0.5)))","v":""},""]
[null,null,null,null,null,null,"","","","","",null,"","",""]
[null,null,null,null,null,null,"","","","","",null,"","",""]
[null,null,null,null,null,null,"","","","","",null,"","",""]
[null,null,null,null,null,null,"","","","","",null,"","",""]
[null,null,null,null,null,null,"","","","","",null,"","",""]
[null,null,null,null,null,null,"","","","","",null,"","",""]
[null,null,null,null,null,null,"","","","","",null,"","",""]
[null,null,null,null,null,null,"","","","","",null,"","",""]
[null,null,null,null,null,null,"","","","","",null,"","",""]
[null,null,null,null,null,null,"","","","","",null,"","",""]
[null,null,null,null,null,null,"","","","","",null,"","",""]
[null,null,null,null,null,null,"","","","","",null,"","",""]
[null,null,null,null,null,null,"","","","","",null,"","",""]
[null,null,null,null,null,null,"","","","","",null,"","",""]
[null,null,null,null,null,null,"","","","","",null,"","",""]
[null,null,null,null,null,null,"","","","","",null,"","",""]
[null,null,null,null,null,null,"","","","","",null,"","",""]
[null,null,null,null,null,null,"","","","","",null,"","",""]
[null,null,null,null,null,null,"","","","","",null,"","",""]
[null,null,null,null,null,null,"","","","","",null,"","",""]
[null,null,null,null,null,null,"","","","","",null,"","",""]
[null,null,null,null,null,null,"","","","","",null,"","",""]
[null,null,null,null,null,null,"","","","","",null,"","",""]
[null,null,null,null,null,null,"","","","","",null,"","",""]
[null,null,null,null,null,null,"","","","","",null,"","",""]
[null,null,null,null,null,null,"","","","","",null,"","",""]
[null,null,null,null,null,null,"","","","","",null,"","",""]
[null,null,null,null,null,null,"","","","","",null,"","",""]
[null,null,null,null,null,null,"","","","","",null,"","",""]
[null,null,null,null,null,null,"","","","","",null,"","",""]
[null,null,null,null,null,null,"","","","","",null,"","",""]
[null,null,null,null,null,null,"","","","","",null,"","",""]
[null,null,null,null,null,null,"","","","","",null,"","",""]
[null,null,null,null,null,null,"","","","","",null,"","",""]
[null,null,null,null,null,null,"","","","","",null,"","",""]
[null,null,null,null,null,null,"","","","","",null,"","",""]
[null,null,null,null,null,null,"","","","","",null,"","",""]
[null,null,null,null,null,null,"","","","","",null,"","",""]
[null,null,null,null,null,null,"","","","","",null,"","",""]
[null,null,null,null,null,null,"","","","","",null,"","",""]
[null,null,null,null,null,null,"","","","","",null,"","",""]
[null,null,null,null,null,null,"","","","","",null,"","",""]
[null,null,null,null,null,null,"","","","","",null,"","",""]
[null,null,null,null,null,null,"","","","","",null,"","",""]
[null,null,null,null,null,null,"","","","","",null,"","",""]
[null,null,null,null,null,null,"","","","","",null,"","",""]
[null,null,null,null,null,null,"","","","","",null,"","",""]
[null,null,null,null,null,null,"","","","","",null,"","",""]
[null,null,null,null,null,null,"","","","","",null,"","",""]
[null,null,null,null,null,null,"","","","","",null,"","",""]
[null,null,null,null,null,null,"","","","","",null,"","",""]
[null,null,null,null,null,null,"","","","","",null,"","",""]
[null,null,null,null,null,null,"","","","","",null,"","",""]
[null,null,null,null,null,null,"","","","","",null,"","",""]
[null,null,null,null,null,null,"","","","","",null,"","",""]
[null,null,null,null,null,null,"","","","","",null,"","",""]
[null,null,null,null,null,null,"","","","","",null,"","",""]
[null,null,null,null,null,null,"","","","","",null,"","",""]
[null,null,null,null,null,null,"","","","","",null,"","",""]
[null,null,null,null,null,null,"","","","","",null,"","",""]
[null,null,null,null,null,null,"","","","","",null,"","",""]
[null,null,null,null,null,null,"","","","","",null,"","",""]
[null,null,null,null,null,null,{"$f":"IF(User_Stage_Area=1,\"--\",IF(COUNTA=0,\"\",ROUND(G1780+0.01,2)))","v":""},{"$f":"IF(User_Stage_Area=1,IF(H1780=\"\",\"\",IF(H1780+0.005<=MAX(UserInput_Stage),ROUND(H1780+0.01,2),\"\")),IF(COUNTA=0,\"\",\"--\"))","v":""},"","","",null,"","",""]
[null,null,null,null,null,null,"","","","","",null,"",{"$f":"IF(K1782=\"\",\"\",IF(K1782=\"--\",IF(L1782=\"\",\"\",N1781+(H1782-H1781)/3*(L1781+L1782+(L1781*L1782)^0.5)),N1781+(G1782-G1781)/3*(K1781+K1782+(K1781*K1782)^0.5)))","v":""},""]
[null,null,null,null,null,null,"","","","","",null,"","",""]
[null,null,null,null,null,null,"","","","","",null,"","",""]
[null,null,null,null,null,null,"","","","","",null,"","",""]
[null,null,null,null,null,null,"","","","","",null,"","",""]
[null,null,null,null,null,null,"","","","","",null,"","",""]
[null,null,null,null,null,null,"","","","","",null,"","",""]
[null,null,null,null,null,null,"","","","","",null,"","",""]
[null,null,null,null,null,null,"","","","","",null,"","",""]
[null,null,null,null,null,null,"","","","","",null,"","",""]
[null,null,null,null,null,null,"","","","","",null,"","",""]
[null,null,null,null,null,null,"","","","","",null,"","",""]
[null,null,null,null,null,null,"","","","","",null,"","",""]
[null,null,null,null,null,null,"","","","","",null,"","",""]
[null,null,null,null,null,null,"","","","","",null,"","",""]
[null,null,null,null,null,null,"","","","","",null,"","",""]
[null,null,null,null,null,null,"","","","","",null,"","",""]
[null,null,null,null,null,null,"","","","","",null,"","",""]
[null,null,null,null,null,null,"","","","","",null,"","",""]
[null,null,null,null,null,null,"","","","","",null,"","",""]
[null,null,null,null,null,null,"","","","","",null,"","",""]
[null,null,null,null,null,null,"","","","","",null,"","",""]
[null,null,null,null,null,null,"","","","","",null,"","",""]
[null,null,null,null,null,null,"","","","","",null,"","",""]
[null,null,null,null,null,null,"","","","","",null,"","",""]
[null,null,null,null,null,null,"","","","","",null,"","",""]
[null,null,null,null,null,null,"","","","","",null,"","",""]
[null,null,null,null,null,null,"","","","","",null,"","",""]
[null,null,null,null,null,null,"","","","","",null,"","",""]
[null,null,null,null,null,null,"","","","","",null,"","",""]
[null,null,null,null,null,null,"","","","","",null,"","",""]
[null,null,null,null,null,null,"","","","","",null,"","",""]
[null,null,null,null,null,null,"","","","","",null,"","",""]
[null,null,null,null,null,null,"","","","","",null,"","",""]
[null,null,null,null,null,null,"","","","","",null,"","",""]
[null,null,null,null,null,null,"","","","","",null,"","",""]
[null,null,null,null,null,null,"","","","","",null,"","",""]
[null,null,null,null,null,null,"","","","","",null,"","",""]
[null,null,null,null,null,null,"","","","","",null,"","",""]
[null,null,null,null,null,null,"","","","","",null,"","",""]
[null,null,null,null,null,null,"","","","","",null,"","",""]
[null,null,null,null,null,null,"","","","","",null,"","",""]
[null,null,null,null,null,null,"","","","","",null,"","",""]
[null,null,null,null,null,null,"","","","","",null,"","",""]
[null,null,null,null,null,null,"","","","","",null,"","",""]
[null,null,null,null,null,null,"","","","","",null,"","",""]
[null,null,null,null,null,null,"","","","","",null,"","",""]
[null,null,null,null,null,null,"","","","","",null,"","",""]
[null,null,null,null,null,null,"","","","","",null,"","",""]
[null,null,null,null,null,null,"","","","","",null,"","",""]
[null,null,null,null,null,null,"","","","","",null,"","",""]
[null,null,null,null,null,null,"","","","","",null,"","",""]
[null,null,null,null,null,null,"","","","","",null,"","",""]
[null,null,null,null,null,null,"","","","","",null,"","",""]
[null,null,null,null,null,null,"","","","","",null,"","",""]
[null,null,null,null,null,null,"","","","","",null,"","",""]
[null,null,null,null,null,null,"","","","","",null,"","",""]
[null,null,null,null,null,null,"","","","","",null,"","",""]
[null,null,null,null,null,null,"","","","","",null,"","",""]
[null,null,null,null,null,null,"","","","","",null,"","",""]
[null,null,null,null,null,null,"","","","",{"$f":"IF(User_Stage_Area=1,\"--\",IF(COUNTA=0,\"\",I1842*J1842))","v":""},null,"","",""]
[null,null,null,null,null,null,"","",{"$f":"IF(User_Stage_Area=1,\"--\",IF(COUNTA=0,\"\",IF(BMP_Type=2,IF(G1843<=H_ISV+H_TC,L_ISV,IF(G1843<=H_FLOOR+H_ISV+H_TC,L_ISV+(G1843-H_ISV-H_TC)/S_TC+(G1843-H_ISV-H_TC)*S_MAIN,L_FLOOR+2*(G1843-H_FLOOR-H_ISV-H_TC)*S_MAIN)),L_FLOOR+2*G1843*S_MAIN)))","v":""},{"$f":"IF(User_Stage_Area=1,\"--\",IF(COUNTA=0,\"\",IF(BMP_Type=2,IF(G1843<=H_ISV+H_TC,L_ISV,IF(G1843<=H_FLOOR+H_ISV+H_TC,W_ISV+(G1843-H_ISV-H_TC)/(RATIO*S_TC),W_FLOOR+2*(G1843-H_FLOOR-H_ISV-H_TC)*S_MAIN)),W_FLOOR+2*G1843*S_MAIN)))","v":""},"",null,{"$f":"IF(K1843=\"\",\"\",IF(K1843=\"--\",IF(L1843=\"\",\"\",L1843/43560),K1843/43560))","v":""},"",""]
[null,null,null,null,null,null,"","","","","",null,"","",{"$f":"IF(N1844=\"\",\"\",N1844/43560)","v":""}]
[null,null,null,null,null,null,{"$f":"IF(User_Stage_Area=1,\"--\",IF(COUNTA=0,\"\",ROUND(G1844+0.01,2)))","v":""},{"$f":"IF(User_Stage_Area=1,IF(H1844=\"\",\"\",IF(H1844+0.005<=MAX(UserInput_Stage),ROUND(H1844+0.01,2),\"\")),IF(COUNTA=0,\"\",\"--\"))","v":""},"","","",null,"","",""]
[null,null,null,null,null,null,"","","","","",null,"",{"$f":"IF(K1846=\"\",\"\",IF(K1846=\"--\",IF(L1846=\"\",\"\",N1845+(H1846-H1845)/3*(L1845+L1846+(L1845*L1846)^0.5)),N1845+(G1846-G1845)/3*(K1845+K1846+(K1845*K1846)^0.5)))","v":""},""]
[null,null,null,null,null,null,"","","","","",null,"","",""]
[null,null,null,null,null,null,"","","","","",null,"","",""]
[null,null,null,null,null,null,"","","","","",null,"","",""]
[null,null,null,null,null,null,"","","","","",null,"","",""]
[null,null,null,null,null,null,"","","","","",null,"","",""]
[null,null,null,null,null,null,"","","","","",null,"","",""]
[null,null,null,null,null,null,"","","","","",null,"","",""]
[null,null,null,null,null,null,"","","","","",null,"","",""]
[null,null,null,null,null,null,"","","","","",null,"","",""]
[null,null,null,null,null,null,"","","","","",null,"","",""]
[null,null,null,null,null,null,"","","","","",null,"","",""]
[null,null,null,null,null,null,"","","","","",null,"","",""]
[null,null,null,null,null,null,"","","","","",null,"","",""]
[null,null,null,null,null,null,"","","","","",null,"","",""]
[null,null,null,null,null,null,"","","","","",null,"","",""]
[null,null,null,null,null,null,"","","","","",null,"","",""]
[null,null,null,null,null,null,"","","","","",null,"","",""]
[null,null,null,null,null,null,"","","","","",null,"","",""]
[null,null,null,null,null,null,"","","","","",null,"","",""]
[null,null,null,null,null,null,"","","","","",null,"","",""]
[null,null,null,null,null,null,"","","","","",null,"","",""]
[null,null,null,null,null,null,"","","","","",null,"","",""]
[null,null,null,null,null,null,"","","","","",null,"","",""]
[null,null,null,null,null,null,"","","","","",null,"","",""]
[null,null,null,null,null,null,"","","","","",null,"","",""]
[null,null,null,null,null,null,"","","","","",null,"","",""]
[null,null,null,null,null,null,"","","","","",null,"","",""]
[null,null,null,null,null,null,"","","","","",null,"","",""]
[null,null,null,null,null,null,"","","","","",null,"","",""]
[null,null,null,null,null,null,"","","","","",null,"","",""]
[null,null,null,null,null,null,"","","","","",null,"","",""]
[null,null,null,null,null,null,"","","","","",null,"","",""]
[null,null,null,null,null,null,"","","","","",null,"","",""]
[null,null,null,null,null,null,"","","","","",null,"","",""]
[null,null,null,null,null,null,"","","","","",null,"","",""]
[null,null,null,null,null,null,"","","","","",null,"","",""]
[null,null,null,null,null,null,"","","","","",null,"","",""]
[null,null,null,null,null,null,"","","","","",null,"","",""]
[null,null,null,null,null,null,"","","","","",null,"","",""]
[null,null,null,null,null,null,"","","","","",null,"","",""]
[null,null,null,null,null,null,"","","","","",null,"","",""]
[null,null,null,null,null,null,"","","","","",null,"","",""]
[null,null,null,null,null,null,"","","","","",null,"","",""]
[null,null,null,null,null,null,"","","","","",null,"","",""]
[null,null,null,null,null,null,"","","","","",null,"","",""]
[null,null,null,null,null,null,"","","","","",null,"","",""]
[null,null,null,null,null,null,"","","","","",null,"","",""]
[null,null,null,null,null,null,"","","","","",null,"","",""]
[null,null,null,null,null,null,"","","","","",null,"","",""]
[null,null,null,null,null,null,"","","","","",null,"","",""]
[null,null,null,null,null,null,"","","","","",null,"","",""]
[null,null,null,null,null,null,"","","","","",null,"","",""]
[null,null,null,null,null,null,"","","","","",null,"","",""]
[null,null,null,null,null,null,"","","","","",null,"","",""]
[null,null,null,null,null,null,"","","","","",null,"","",""]
[null,null,null,null,null,null,"","","","","",null,"","",""]
[null,null,null,null,null,null,"","","","","",null,"","",""]
[null,null,null,null,null,null,"","","","","",null,"","",""]
[null,null,null,null,null,null,"","","","","",null,"","",""]
[null,null,null,null,null,null,"","","","",{"$f":"IF(User_Stage_Area=1,\"--\",IF(COUNTA=0,\"\",I1906*J1906))","v":""},null,"","",""]
[null,null,null,null,null,null,"","",{"$f":"IF(User_Stage_Area=1,\"--\",IF(COUNTA=0,\"\",IF(BMP_Type=2,IF(G1907<=H_ISV+H_TC,L_ISV,IF(G1907<=H_FLOOR+H_ISV+H_TC,L_ISV+(G1907-H_ISV-H_TC)/S_TC+(G1907-H_ISV-H_TC)*S_MAIN,L_FLOOR+2*(G1907-H_FLOOR-H_ISV-H_TC)*S_MAIN)),L_FLOOR+2*G1907*S_MAIN)))","v":""},{"$f":"IF(User_Stage_Area=1,\"--\",IF(COUNTA=0,\"\",IF(BMP_Type=2,IF(G1907<=H_ISV+H_TC,L_ISV,IF(G1907<=H_FLOOR+H_ISV+H_TC,W_ISV+(G1907-H_ISV-H_TC)/(RATIO*S_TC),W_FLOOR+2*(G1907-H_FLOOR-H_ISV-H_TC)*S_MAIN)),W_FLOOR+2*G1907*S_MAIN)))","v":""},"",null,{"$f":"IF(K1907=\"\",\"\",IF(K1907=\"--\",IF(L1907=\"\",\"\",L1907/43560),K1907/43560))","v":""},"",""]
[null,null,null,null,null,null,"","","","","",null,"","",{"$f":"IF(N1908=\"\",\"\",N1908/43560)","v":""}]
[null,null,null,null,null,null,{"$f":"IF(User_Stage_Area=1,\"--\",IF(COUNTA=0,\"\",ROUND(G1908+0.01,2)))","v":""},{"$f":"IF(User_Stage_Area=1,IF(H1908=\"\",\"\",IF(H1908+0.005<=MAX(UserInput_Stage),ROUND(H1908+0.01,2),\"\")),IF(COUNTA=0,\"\",\"--\"))","v":""},"","","",null,"","",""]
[null,null,null,null,null,null,"","","","","",null,"",{"$f":"IF(K1910=\"\",\"\",IF(K1910=\"--\",IF(L1910=\"\",\"\",N1909+(H1910-H1909)/3*(L1909+L1910+(L1909*L1910)^0.5)),N1909+(G1910-G1909)/3*(K1909+K1910+(K1909*K1910)^0.5)))","v":""},""]
[null,null,null,null,null,null,"","","","","",null,"","",""]
[null,null,null,null,null,null,"","","","","",null,"","",""]
[null,null,null,null,null,null,"","","","","",null,"","",""]
[null,null,null,null,null,null,"","","","","",null,"","",""]
[null,null,null,null,null,null,"","","","","",null,"","",""]
[null,null,null,null,null,null,"","","","","",null,"","",""]
[null,null,null,null,null,null,"","","","","",null,"","",""]
[null,null,null,null,null,null,"","","","","",null,"","",""]
[null,null,null,null,null,null,"","","","","",null,"","",""]
[null,null,null,null,null,null,"","","","","",null,"","",""]
[null,null,null,null,null,null,"","","","","",null,"","",""]
[null,null,null,null,null,null,"","","","","",null,"","",""]
[null,null,null,null,null,null,"","","","","",null,"","",""]
[null,null,null,null,null,null,"","","","","",null,"","",""]
[null,null,null,null,null,null,"","","","","",null,"","",""]
[null,null,null,null,null,null,"","","","","",null,"","",""]
[null,null,null,null,null,null,"","","","","",null,"","",""]
[null,null,null,null,null,null,"","","","","",null,"","",""]
[null,null,null,null,null,null,"","","","","",null,"","",""]
[null,null,null,null,null,null,"","","","","",null,"","",""]
[null,null,null,null,null,null,"","","","","",null,"","",""]
[null,null,null,null,null,null,"","","","","",null,"","",""]
[null,null,null,null,null,null,"","","","","",null,"","",""]
[null,null,null,null,null,null,"","","","","",null,"","",""]
[null,null,null,null,null,null,"","","","","",null,"","",""]
[null,null,null,null,null,null,"","","","","",null,"","",""]
[null,null,null,null,null,null,"","","","","",null,"","",""]
[null,null,null,null,null,null,"","","","","",null,"","",""]
[null,null,null,null,null,null,"","","","","",null,"","",""]
[null,null,null,null,null,null,"","","","","",null,"","",""]
[null,null,null,null,null,null,"","","","","",null,"","",""]
[null,null,null,null,null,null,"","","","","",null,"","",""]
[null,null,null,null,null,null,"","","","","",null,"","",""]
[null,null,null,null,null,null,"","","","","",null,"","",""]
[null,null,null,null,null,null,"","","","","",null,"","",""]
[null,null,null,null,null,null,"","","","","",null,"","",""]
[null,null,null,null,null,null,"","","","","",null,"","",""]
[null,null,null,null,null,null,"","","","","",null,"","",""]
[null,null,null,null,null,null,"","","","","",null,"","",""]
[null,null,null,null,null,null,"","","","","",null,"","",""]
[null,null,null,null,null,null,"","","","","",null,"","",""]
[null,null,null,null,null,null,"","","","","",null,"","",""]
[null,null,null,null,null,null,"","","","","",null,"","",""]
[null,null,null,null,null,null,"","","","","",null,"","",""]
[null,null,null,null,null,null,"","","","","",null,"","",""]
[null,null,null,null,null,null,"","","","","",null,"","",""]
[null,null,null,null,null,null,"","","","","",null,"","",""]
[null,null,null,null,null,null,"","","","","",null,"","",""]
[null,null,null,null,null,null,"","","","","",null,"","",""]
[null,null,null,null,null,null,"","","","","",null,"","",""]
[null,null,null,null,null,null,"","","","","",null,"","",""]
[null,null,null,null,null,null,"","","","","",null,"","",""]
[null,null,null,null,null,null,"","","","","",null,"","",""]
[null,null,null,null,null,null,"","","","","",null,"","",""]
[null,null,null,null,null,null,"","","","","",null,"","",""]
[null,null,null,null,null,null,"","","","","",null,"","",""]
[null,null,null,null,null,null,"","","","","",null,"","",""]
[null,null,null,null,null,null,"","","","","",null,"","",""]
[null,null,null,null,null,null,"","","","","",null,"","",""]
[null,null,null,null,null,null,"","","","",{"$f":"IF(User_Stage_Area=1,\"--\",IF(COUNTA=0,\"\",I1970*J1970))","v":""},null,"","",""]
[null,null,null,null,null,null,"","",{"$f":"IF(User_Stage_Area=1,\"--\",IF(COUNTA=0,\"\",IF(BMP_Type=2,IF(G1971<=H_ISV+H_TC,L_ISV,IF(G1971<=H_FLOOR+H_ISV+H_TC,L_ISV+(G1971-H_ISV-H_TC)/S_TC+(G1971-H_ISV-H_TC)*S_MAIN,L_FLOOR+2*(G1971-H_FLOOR-H_ISV-H_TC)*S_MAIN)),L_FLOOR+2*G1971*S_MAIN)))","v":""},{"$f":"IF(User_Stage_Area=1,\"--\",IF(COUNTA=0,\"\",IF(BMP_Type=2,IF(G1971<=H_ISV+H_TC,L_ISV,IF(G1971<=H_FLOOR+H_ISV+H_TC,W_ISV+(G1971-H_ISV-H_TC)/(RATIO*S_TC),W_FLOOR+2*(G1971-H_FLOOR-H_ISV-H_TC)*S_MAIN)),W_FLOOR+2*G1971*S_MAIN)))","v":""},"",null,{"$f":"IF(K1971=\"\",\"\",IF(K1971=\"--\",IF(L1971=\"\",\"\",L1971/43560),K1971/43560))","v":""},"",""]
[null,null,null,null,null,null,"","","","","",null,"","",{"$f":"IF(N1972=\"\",\"\",N1972/43560)","v":""}]
[null,null,null,null,null,null,{"$f":"IF(User_Stage_Area=1,\"--\",IF(COUNTA=0,\"\",ROUND(G1972+0.01,2)))","v":""},{"$f":"IF(User_Stage_Area=1,IF(H1972=\"\",\"\",IF(H1972+0.005<=MAX(UserInput_Stage),ROUND(H1972+0.01,2),\"\")),IF(COUNTA=0,\"\",\"--\"))","v":""},"","","",null,"","",""]
[null,null,null,null,null,null,"","","","","",null,"",{"$f":"IF(K1974=\"\",\"\",IF(K1974=\"--\",IF(L1974=\"\",\"\",N1973+(H1974-H1973)/3*(L1973+L1974+(L1973*L1974)^0.5)),N1973+(G1974-G1973)/3*(K1973+K1974+(K1973*K1974)^0.5)))","v":""},""]
[null,null,null,null,null,null,"","","","","",null,"","",""]
[null,null,null,null,null,null,"","","","","",null,"","",""]
[null,null,null,null,null,null,"","","","","",null,"","",""]
[null,null,null,null,null,null,"","","","","",null,"","",""]
[null,null,null,null,null,null,"","","","","",null,"","",""]
[null,null,null,null,null,null,"","","","","",null,"","",""]
[null,null,null,null,null,null,"","","","","",null,"","",""]
[null,null,null,null,null,null,"","","","","",null,"","",""]
[null,null,null,null,null,null,"","","","","",null,"","",""]
[null,null,null,null,null,null,"","","","","",null,"","",""]
[null,null,null,null,null,null,"","","","","",null,"","",""]
[null,null,null,null,null,null,"","","","","",null,"","",""]
[null,null,null,null,null,null,"","","","","",null,"","",""]
[null,null,null,null,null,null,"","","","","",null,"","",""]
[null,null,null,null,null,null,"","","","","",null,"","",""]
[null,null,null,null,null,null,"","","","","",null,"","",""]
[null,null,null,null,null,null,"","","","","",null,"","",""]
[null,null,null,null,null,null,"","","","","",null,"","",""]
[null,null,null,null,null,null,"","","","","",null,"","",""]
[null,null,null,null,null,null,"","","","","",null,"","",""]
[null,null,null,null,null,null,"","","","","",null,"","",""]
[null,null,null,null,null,null,"","","","","",null,"","",""]
[null,null,null,null,null,null,"","","","","",null,"","",""]
[null,null,null,null,null,null,"","","","","",null,"","",""]
[null,null,null,null,null,null,"","","","","",null,"","",""]
[null,null,null,null,null,null,"","","","","",null,"","",""]
[null,null,null,null,null,null,"","","","","",null,"","",""]
[null,null,null,null,null,null,"","","","","",null,"","",""]
[null,null,null,null,null,null,"","","","","",null,"","",""]
[null,null,null,null,null,null,"","","","","",null,"","",""]
[null,null,null,null,null,null,"","","","","",null,"","",""]
[null,null,null,null,null,null,"","","","","",null,"","",""]
[null,null,null,null,null,null,"","","","","",null,"","",""]
[null,null,null,null,null,null,"","","","","",null,"","",""]
[null,null,null,null,null,null,"","","","","",null,"","",""]
[null,null,null,null,null,null,"","","","","",null,"","",""]
[null,null,null,null,null,null,"","","","","",null,"","",""]
[null,null,null,null,null,null,"","","","","",null,"","",""]
[null,null,null,null,null,null,"","","","","",null,"","",""]
[null,null,null,null,null,null,"","","","","",null,"","",""]
[null,null,null,null,null,null,"","","","","",null,"","",""]
[null,null,null,null,null,null,"","","","","",null,"","",""]
[null,null,null,null,null,null,"","","","","",null,"","",""]
[null,null,null,null,null,null,"","","","","",null,"","",""]
[null,null,null,null,null,null,"","","","","",null,"","",""]
[null,null,null,null,null,null,"","","","","",null,"","",""]
[null,null,null,null,null,null,"","","","","",null,"","",""]
[null,null,null,null,null,null,"","","","","",null,"","",""]
[null,null,null,null,null,null,"","","","","",null,"","",""]
[null,null,null,null,null,null,"","","","","",null,"","",""]
[null,null,null,null,null,null,"","","","","",null,"","",""]
[null,null,null,null,null,null,"","","","","",null,"","",""]
[null,null,null,null,null,null,"","","","","",null,"","",""]
[null,null,null,null,null,null,"","","","","",null,"","",""]
[null,null,null,null,null,null,"","","","","",null,"","",""]
[null,null,null,null,null,null,"","","","","",null,"","",""]
[null,null,null,null,null,null,"","","","","",null,"","",""]
[null,null,null,null,null,null,"","","","","",null,"","",""]
[null,null,null,null,null,null,"","","","","",null,"","",""]
[null,null,null,null,null,null,"","","","",{"$f":"IF(User_Stage_Area=1,\"--\",IF(COUNTA=0,\"\",I2034*J2034))","v":""},null,"","",""]
[null,null,null,null,null,null,"","",{"$f":"IF(User_Stage_Area=1,\"--\",IF(COUNTA=0,\"\",IF(BMP_Type=2,IF(G2035<=H_ISV+H_TC,L_ISV,IF(G2035<=H_FLOOR+H_ISV+H_TC,L_ISV+(G2035-H_ISV-H_TC)/S_TC+(G2035-H_ISV-H_TC)*S_MAIN,L_FLOOR+2*(G2035-H_FLOOR-H_ISV-H_TC)*S_MAIN)),L_FLOOR+2*G2035*S_MAIN)))","v":""},{"$f":"IF(User_Stage_Area=1,\"--\",IF(COUNTA=0,\"\",IF(BMP_Type=2,IF(G2035<=H_ISV+H_TC,L_ISV,IF(G2035<=H_FLOOR+H_ISV+H_TC,W_ISV+(G2035-H_ISV-H_TC)/(RATIO*S_TC),W_FLOOR+2*(G2035-H_FLOOR-H_ISV-H_TC)*S_MAIN)),W_FLOOR+2*G2035*S_MAIN)))","v":""},"",null,{"$f":"IF(K2035=\"\",\"\",IF(K2035=\"--\",IF(L2035=\"\",\"\",L2035/43560),K2035/43560))","v":""},"",""]
[null,null,null,null,null,null,"","","","","",null,"","",{"$f":"IF(N2036=\"\",\"\",N2036/43560)","v":""}]
[null,null,null,null,null,null,{"$f":"IF(User_Stage_Area=1,\"--\",IF(COUNTA=0,\"\",ROUND(G2036+0.01,2)))","v":""},{"$f":"IF(User_Stage_Area=1,IF(H2036=\"\",\"\",IF(H2036+0.005<=MAX(UserInput_Stage),ROUND(H2036+0.01,2),\"\")),IF(COUNTA=0,\"\",\"--\"))","v":""},"","","",null,"","",""]
[null,null,null,null,null,null,"","","","","",null,"",{"$f":"IF(K2038=\"\",\"\",IF(K2038=\"--\",IF(L2038=\"\",\"\",N2037+(H2038-H2037)/3*(L2037+L2038+(L2037*L2038)^0.5)),N2037+(G2038-G2037)/3*(K2037+K2038+(K2037*K2038)^0.5)))","v":""},""]
[null,null,null,null,null,null,"","","","","",null,"","",""]
[null,null,null,null,null,null,"","","","","",null,"","",""]
[null,null,null,null,null,null,"","","","","",null,"","",""]
[null,null,null,null,null,null,"","","","","",null,"","",""]
[null,null,null,null,null,null,"","","","","",null,"","",""]
[null,null,null,null,null,null,"","","","","",null,"","",""]
[null,null,null,null,null,null,"","","","","",null,"","",""]
[null,null,null,null,null,null,"","","","","",null,"","",""]
[null,null,null,null,null,null,"","","","","",null,"","",""]
[null,null,null,null,null,null,"","","","","",null,"","",""]
[null,null,null,null,null,null,"","","","","",null,"","",""]
[null,null,null,null,null,null,"","","","","",null,"","",""]
[null,null,null,null,null,null,"","","","","",null,"","",""]
[null,null,null,null,null,null,"","","","","",null,"","",""]
[null,null,null,null,null,null,"","","","","",null,"","",""]
[null,null,null,null,null,null,"","","","","",null,"","",""]
[null,null,null,null,null,null,"","","","","",null,"","",""]
[null,null,null,null,null,null,"","","","","",null,"","",""]
[null,null,null,null,null,null,"","","","","",null,"","",""]
[null,null,null,null,null,null,"","","","","",null,"","",""]
[null,null,null,null,null,null,"","","","","",null,"","",""]
[null,null,null,null,null,null,"","","","","",null,"","",""]
[null,null,null,null,null,null,"","","","","",null,"","",""]
[null,null,null,null,null,null,"","","","","",null,"","",""]
[null,null,null,null,null,null,"","","","","",null,"","",""]
[null,null,null,null,null,null,"","","","","",null,"","",""]
[null,null,null,null,null,null,"","","","","",null,"","",""]
[null,null,null,null,null,null,"","","","","",null,"","",""]
[null,null,null,null,null,null,"","","","","",null,"","",""]
[null,null,null,null,null,null,"","","","","",null,"","",""]
[null,null,null,null,null,null,"","","","","",null,"","",""]
[null,null,null,null,null,null,"","","","","",null,"","",""]
[null,null,null,null,null,null,"","","","","",null,"","",""]
[null,null,null,null,null,null,"","","","","",null,"","",""]
[null,null,null,null,null,null,"","","","","",null,"","",""]
[null,null,null,null,null,null,"","","","","",null,"","",""]
[null,null,null,null,null,null,"","","","","",null,"","",""]
[null,null,null,null,null,null,"","","","","",null,"","",""]
[null,null,null,null,null,null,"","","","","",null,"","",""]
[null,null,null,null,null,null,"","","","","",null,"","",""]
[null,null,null,null,null,null,"","","","","",null,"","",""]
[null,null,null,null,null,null,"","","","","",null,"","",""]
[null,null,null,null,null,null,"","","","","",null,"","",""]
[null,null,null,null,null,null,"","","","","",null,"","",""]
[null,null,null,null,null,null,"","","","","",null,"","",""]
[null,null,null,null,null,null,"","","","","",null,"","",""]
[null,null,null,null,null,null,"","","","","",null,"","",""]
[null,null,null,null,null,null,"","","","","",null,"","",""]
[null,null,null,null,null,null,"","","","","",null,"","",""]
[null,null,null,null,null,null,"","","","","",null,"","",""]
[null,null,null,null,null,null,"","","","","",null,"","",""]
[null,null,null,null,null,null,"","","","","",null,"","",""]
[null,null,null,null,null,null,"","","","","",null,"","",""]
[null,null,null,null,null,null,"","","","","",null,"","",""]
[null,null,null,null,null,null,"","","","","",null,"","",""]
[null,null,null,null,null,null,"","","","","",null,"","",""]
[null,null,null,null,null,null,"","","","","",null,"","",""]
[null,null,null,null,null,null,"","","","","",null,"","",""]
[null,null,null,null,null,null,"","","","","",null,"","",""]
[null,null,null,null,null,null,"","","","",{"$f":"IF(User_Stage_Area=1,\"--\",IF(COUNTA=0,\"\",I2098*J2098))","v":""},null,"","",""]
[null,null,null,null,null,null,"","",{"$f":"IF(User_Stage_Area=1,\"--\",IF(COUNTA=0,\"\",IF(BMP_Type=2,IF(G2099<=H_ISV+H_TC,L_ISV,IF(G2099<=H_FLOOR+H_ISV+H_TC,L_ISV+(G2099-H_ISV-H_TC)/S_TC+(G2099-H_ISV-H_TC)*S_MAIN,L_FLOOR+2*(G2099-H_FLOOR-H_ISV-H_TC)*S_MAIN)),L_FLOOR+2*G2099*S_MAIN)))","v":""},{"$f":"IF(User_Stage_Area=1,\"--\",IF(COUNTA=0,\"\",IF(BMP_Type=2,IF(G2099<=H_ISV+H_TC,L_ISV,IF(G2099<=H_FLOOR+H_ISV+H_TC,W_ISV+(G2099-H_ISV-H_TC)/(RATIO*S_TC),W_FLOOR+2*(G2099-H_FLOOR-H_ISV-H_TC)*S_MAIN)),W_FLOOR+2*G2099*S_MAIN)))","v":""},"",null,{"$f":"IF(K2099=\"\",\"\",IF(K2099=\"--\",IF(L2099=\"\",\"\",L2099/43560),K2099/43560))","v":""},"",""]
[null,null,null,null,null,null,"","","","","",null,"","",{"$f":"IF(N2100=\"\",\"\",N2100/43560)","v":""}]
[null,null,null,null,null,null,{"$f":"IF(User_Stage_Area=1,\"--\",IF(COUNTA=0,\"\",ROUND(G2100+0.01,2)))","v":""},{"$f":"IF(User_Stage_Area=1,IF(H2100=\"\",\"\",IF(H2100+0.005<=MAX(UserInput_Stage),ROUND(H2100+0.01,2),\"\")),IF(COUNTA=0,\"\",\"--\"))","v":""},"","","",null,"","",""]
[null,null,null,null,null,null,"","","","","",null,"",{"$f":"IF(K2102=\"\",\"\",IF(K2102=\"--\",IF(L2102=\"\",\"\",N2101+(H2102-H2101)/3*(L2101+L2102+(L2101*L2102)^0.5)),N2101+(G2102-G2101)/3*(K2101+K2102+(K2101*K2102)^0.5)))","v":""},""]
[null,null,null,null,null,null,"","","","","",null,"","",""]
[null,null,null,null,null,null,"","","","","",null,"","",""]
[null,null,null,null,null,null,"","","","","",null,"","",""]
[null,null,null,null,null,null,"","","","","",null,"","",""]
[null,null,null,null,null,null,"","","","","",null,"","",""]
[null,null,null,null,null,null,"","","","","",null,"","",""]
[null,null,null,null,null,null,"","","","","",null,"","",""]
[null,null,null,null,null,null,"","","","","",null,"","",""]
[null,null,null,null,null,null,"","","","","",null,"","",""]
[null,null,null,null,null,null,"","","","","",null,"","",""]
[null,null,null,null,null,null,"","","","","",null,"","",""]
[null,null,null,null,null,null,"","","","","",null,"","",""]
[null,null,null,null,null,null,"","","","","",null,"","",""]
[null,null,null,null,null,null,"","","","","",null,"","",""]
[null,null,null,null,null,null,"","","","","",null,"","",""]
[null,null,null,null,null,null,"","","","","",null,"","",""]
[null,null,null,null,null,null,"","","","","",null,"","",""]
[null,null,null,null,null,null,"","","","","",null,"","",""]
[null,null,null,null,null,null,"","","","","",null,"","",""]
[null,null,null,null,null,null,"","","","","",null,"","",""]
[null,null,null,null,null,null,"","","","","",null,"","",""]
[null,null,null,null,null,null,"","","","","",null,"","",""]
[null,null,null,null,null,null,"","","","","",null,"","",""]
[null,null,null,null,null,null,"","","","","",null,"","",""]
[null,null,null,null,null,null,"","","","","",null,"","",""]
[null,null,null,null,null,null,"","","","","",null,"","",""]
[null,null,null,null,null,null,"","","","","",null,"","",""]
[null,null,null,null,null,null,"","","","","",null,"","",""]
[null,null,null,null,null,null,"","","","","",null,"","",""]
[null,null,null,null,null,null,"","","","","",null,"","",""]
[null,null,null,null,null,null,"","","","","",null,"","",""]
[null,null,null,null,null,null,"","","","","",null,"","",""]
[null,null,null,null,null,null,"","","","","",null,"","",""]
[null,null,null,null,null,null,"","","","","",null,"","",""]
[null,null,null,null,null,null,"","","","","",null,"","",""]
[null,null,null,null,null,null,"","","","","",null,"","",""]
[null,null,null,null,null,null,"","","","","",null,"","",""]
[null,null,null,null,null,null,"","","","","",null,"","",""]
[null,null,null,null,null,null,"","","","","",null,"","",""]
[null,null,null,null,null,null,"","","","","",null,"","",""]
[null,null,null,null,null,null,"","","","","",null,"","",""]
[null,null,null,null,null,null,"","","","","",null,"","",""]
[null,null,null,null,null,null,"","","","","",null,"","",""]
[null,null,null,null,null,null,"","","","","",null,"","",""]
[null,null,null,null,null,null,"","","","","",null,"","",""]
[null,null,null,null,null,null,"","","","","",null,"","",""]
[null,null,null,null,null,null,"","","","","",null,"","",""]
[null,null,null,null,null,null,"","","","","",null,"","",""]
[null,null,null,null,null,null,"","","","","",null,"","",""]
[null,null,null,null,null,null,"","","","","",null,"","",""]
[null,null,null,null,null,null,"","","","","",null,"","",""]
[null,null,null,null,null,null,"","","","","",null,"","",""]
[null,null,null,null,null,null,"","","","","",null,"","",""]
[null,null,null,null,null,null,"","","","","",null,"","",""]
[null,null,null,null,null,null,"","","","","",null,"","",""]
[null,null,null,null,null,null,"","","","","",null,"","",""]
[null,null,null,null,null,null,"","","","","",null,"","",""]
[null,null,null,null,null,null,"","","","","",null,"","",""]
[null,null,null,null,null,null,"","","","","",null,"","",""]
[null,null,null,null,null,null,"","","","",{"$f":"IF(User_Stage_Area=1,\"--\",IF(COUNTA=0,\"\",I2162*J2162))","v":""},null,"","",""]
[null,null,null,null,null,null,"","",{"$f":"IF(User_Stage_Area=1,\"--\",IF(COUNTA=0,\"\",IF(BMP_Type=2,IF(G2163<=H_ISV+H_TC,L_ISV,IF(G2163<=H_FLOOR+H_ISV+H_TC,L_ISV+(G2163-H_ISV-H_TC)/S_TC+(G2163-H_ISV-H_TC)*S_MAIN,L_FLOOR+2*(G2163-H_FLOOR-H_ISV-H_TC)*S_MAIN)),L_FLOOR+2*G2163*S_MAIN)))","v":""},{"$f":"IF(User_Stage_Area=1,\"--\",IF(COUNTA=0,\"\",IF(BMP_Type=2,IF(G2163<=H_ISV+H_TC,L_ISV,IF(G2163<=H_FLOOR+H_ISV+H_TC,W_ISV+(G2163-H_ISV-H_TC)/(RATIO*S_TC),W_FLOOR+2*(G2163-H_FLOOR-H_ISV-H_TC)*S_MAIN)),W_FLOOR+2*G2163*S_MAIN)))","v":""},"",null,{"$f":"IF(K2163=\"\",\"\",IF(K2163=\"--\",IF(L2163=\"\",\"\",L2163/43560),K2163/43560))","v":""},"",""]
[null,null,null,null,null,null,"","","","","",null,"","",{"$f":"IF(N2164=\"\",\"\",N2164/43560)","v":""}]
[null,null,null,null,null,null,{"$f":"IF(User_Stage_Area=1,\"--\",IF(COUNTA=0,\"\",ROUND(G2164+0.01,2)))","v":""},{"$f":"IF(User_Stage_Area=1,IF(H2164=\"\",\"\",IF(H2164+0.005<=MAX(UserInput_Stage),ROUND(H2164+0.01,2),\"\")),IF(COUNTA=0,\"\",\"--\"))","v":""},"","","",null,"","",""]
[null,null,null,null,null,null,"","","","","",null,"",{"$f":"IF(K2166=\"\",\"\",IF(K2166=\"--\",IF(L2166=\"\",\"\",N2165+(H2166-H2165)/3*(L2165+L2166+(L2165*L2166)^0.5)),N2165+(G2166-G2165)/3*(K2165+K2166+(K2165*K2166)^0.5)))","v":""},""]
[null,null,null,null,null,null,"","","","","",null,"","",""]
[null,null,null,null,null,null,"","","","","",null,"","",""]
[null,null,null,null,null,null,"","","","","",null,"","",""]
[null,null,null,null,null,null,"","","","","",null,"","",""]
[null,null,null,null,null,null,"","","","","",null,"","",""]
[null,null,null,null,null,null,"","","","","",null,"","",""]
[null,null,null,null,null,null,"","","","","",null,"","",""]
[null,null,null,null,null,null,"","","","","",null,"","",""]
[null,null,null,null,null,null,"","","","","",null,"","",""]
[null,null,null,null,null,null,"","","","","",null,"","",""]
[null,null,null,null,null,null,"","","","","",null,"","",""]
[null,null,null,null,null,null,"","","","","",null,"","",""]
[null,null,null,null,null,null,"","","","","",null,"","",""]
[null,null,null,null,null,null,"","","","","",null,"","",""]
[null,null,null,null,null,null,"","","","","",null,"","",""]
[null,null,null,null,null,null,"","","","","",null,"","",""]
[null,null,null,null,null,null,"","","","","",null,"","",""]
[null,null,null,null,null,null,"","","","","",null,"","",""]
[null,null,null,null,null,null,"","","","","",null,"","",""]
[null,null,null,null,null,null,"","","","","",null,"","",""]
[null,null,null,null,null,null,"","","","","",null,"","",""]
[null,null,null,null,null,null,"","","","","",null,"","",""]
[null,null,null,null,null,null,"","","","","",null,"","",""]
[null,null,null,null,null,null,"","","","","",null,"","",""]
[null,null,null,null,null,null,"","","","","",null,"","",""]
[null,null,null,null,null,null,"","","","","",null,"","",""]
[null,null,null,null,null,null,"","","","","",null,"","",""]
[null,null,null,null,null,null,"","","","","",null,"","",""]
[null,null,null,null,null,null,"","","","","",null,"","",""]
[null,null,null,null,null,null,"","","","","",null,"","",""]
[null,null,null,null,null,null,"","","","","",null,"","",""]
[null,null,null,null,null,null,"","","","","",null,"","",""]
[null,null,null,null,null,null,"","","","","",null,"","",""]
[null,null,null,null,null,null,"","","","","",null,"","",""]
[null,null,null,null,null,null,"","","","","",null,"","",""]
[null,null,null,null,null,null,"","","","","",null,"","",""]
[null,null,null,null,null,null,"","","","","",null,"","",""]
[null,null,null,null,null,null,"","","","","",null,"","",""]
[null,null,null,null,null,null,"","","","","",null,"","",""]
[null,null,null,null,null,null,"","","","","",null,"","",""]
[null,null,null,null,null,null,"","","","","",null,"","",""]
[null,null,null,null,null,null,"","","","","",null,"","",""]
[null,null,null,null,null,null,"","","","","",null,"","",""]
[null,null,null,null,null,null,"","","","","",null,"","",""]
[null,null,null,null,null,null,"","","","","",null,"","",""]
[null,null,null,null,null,null,"","","","","",null,"","",""]
[null,null,null,null,null,null,"","","","","",null,"","",""]
[null,null,null,null,null,null,"","","","","",null,"","",""]
[null,null,null,null,null,null,"","","","","",null,"","",""]
[null,null,null,null,null,null,"","","","","",null,"","",""]
[null,null,null,null,null,null,"","","","","",null,"","",""]
[null,null,null,null,null,null,"","","","","",null,"","",""]
[null,null,null,null,null,null,"","","","","",null,"","",""]
[null,null,null,null,null,null,"","","","","",null,"","",""]
[null,null,null,null,null,null,"","","","","",null,"","",""]
[null,null,null,null,null,null,"","","","","",null,"","",""]
[null,null,null,null,null,null,"","","","","",null,"","",""]
[null,null,null,null,null,null,"","","","","",null,"","",""]
[null,null,null,null,null,null,"","","","","",null,"","",""]
[null,null,null,null,null,null,"","","","",{"$f":"IF(User_Stage_Area=1,\"--\",IF(COUNTA=0,\"\",I2226*J2226))","v":""},null,"","",""]
[null,null,null,null,null,null,"","",{"$f":"IF(User_Stage_Area=1,\"--\",IF(COUNTA=0,\"\",IF(BMP_Type=2,IF(G2227<=H_ISV+H_TC,L_ISV,IF(G2227<=H_FLOOR+H_ISV+H_TC,L_ISV+(G2227-H_ISV-H_TC)/S_TC+(G2227-H_ISV-H_TC)*S_MAIN,L_FLOOR+2*(G2227-H_FLOOR-H_ISV-H_TC)*S_MAIN)),L_FLOOR+2*G2227*S_MAIN)))","v":""},{"$f":"IF(User_Stage_Area=1,\"--\",IF(COUNTA=0,\"\",IF(BMP_Type=2,IF(G2227<=H_ISV+H_TC,L_ISV,IF(G2227<=H_FLOOR+H_ISV+H_TC,W_ISV+(G2227-H_ISV-H_TC)/(RATIO*S_TC),W_FLOOR+2*(G2227-H_FLOOR-H_ISV-H_TC)*S_MAIN)),W_FLOOR+2*G2227*S_MAIN)))","v":""},"",null,{"$f":"IF(K2227=\"\",\"\",IF(K2227=\"--\",IF(L2227=\"\",\"\",L2227/43560),K2227/43560))","v":""},"",""]
[null,null,null,null,null,null,"","","","","",null,"","",{"$f":"IF(N2228=\"\",\"\",N2228/43560)","v":""}]
[null,null,null,null,null,null,{"$f":"IF(User_Stage_Area=1,\"--\",IF(COUNTA=0,\"\",ROUND(G2228+0.01,2)))","v":""},{"$f":"IF(User_Stage_Area=1,IF(H2228=\"\",\"\",IF(H2228+0.005<=MAX(UserInput_Stage),ROUND(H2228+0.01,2),\"\")),IF(COUNTA=0,\"\",\"--\"))","v":""},"","","",null,"","",""]
[null,null,null,null,null,null,"","","","","",null,"",{"$f":"IF(K2230=\"\",\"\",IF(K2230=\"--\",IF(L2230=\"\",\"\",N2229+(H2230-H2229)/3*(L2229+L2230+(L2229*L2230)^0.5)),N2229+(G2230-G2229)/3*(K2229+K2230+(K2229*K2230)^0.5)))","v":""},""]
[null,null,null,null,null,null,"","","","","",null,"","",""]
[null,null,null,null,null,null,"","","","","",null,"","",""]
[null,null,null,null,null,null,"","","","","",null,"","",""]
[null,null,null,null,null,null,"","","","","",null,"","",""]
[null,null,null,null,null,null,"","","","","",null,"","",""]
[null,null,null,null,null,null,"","","","","",null,"","",""]
[null,null,null,null,null,null,"","","","","",null,"","",""]
[null,null,null,null,null,null,"","","","","",null,"","",""]
[null,null,null,null,null,null,"","","","","",null,"","",""]
[null,null,null,null,null,null,"","","","","",null,"","",""]
[null,null,null,null,null,null,"","","","","",null,"","",""]
[null,null,null,null,null,null,"","","","","",null,"","",""]
[null,null,null,null,null,null,"","","","","",null,"","",""]
[null,null,null,null,null,null,"","","","","",null,"","",""]
[null,null,null,null,null,null,"","","","","",null,"","",""]
[null,null,null,null,null,null,"","","","","",null,"","",""]
[null,null,null,null,null,null,"","","","","",null,"","",""]
[null,null,null,null,null,null,"","","","","",null,"","",""]
[null,null,null,null,null,null,"","","","","",null,"","",""]
[null,null,null,null,null,null,"","","","","",null,"","",""]
[null,null,null,null,null,null,"","","","","",null,"","",""]
[null,null,null,null,null,null,"","","","","",null,"","",""]
[null,null,null,null,null,null,"","","","","",null,"","",""]
[null,null,null,null,null,null,"","","","","",null,"","",""]
[null,null,null,null,null,null,"","","","","",null,"","",""]
[null,null,null,null,null,null,"","","","","",null,"","",""]
[null,null,null,null,null,null,"","","","","",null,"","",""]
[null,null,null,null,null,null,"","","","","",null,"","",""]
[null,null,null,null,null,null,"","","","","",null,"","",""]
[null,null,null,null,null,null,"","","","","",null,"","",""]
[null,null,null,null,null,null,"","","","","",null,"","",""]
[null,null,null,null,null,null,"","","","","",null,"","",""]
[null,null,null,null,null,null,"","","","","",null,"","",""]
[null,null,null,null,null,null,"","","","","",null,"","",""]
[null,null,null,null,null,null,"","","","","",null,"","",""]
[null,null,null,null,null,null,"","","","","",null,"","",""]
[null,null,null,null,null,null,"","","","","",null,"","",""]
[null,null,null,null,null,null,"","","","","",null,"","",""]
[null,null,null,null,null,null,"","","","","",null,"","",""]
[null,null,null,null,null,null,"","","","","",null,"","",""]
[null,null,null,null,null,null,"","","","","",null,"","",""]
[null,null,null,null,null,null,"","","","","",null,"","",""]
[null,null,null,null,null,null,"","","","","",null,"","",""]
[null,null,null,null,null,null,"","","","","",null,"","",""]
[null,null,null,null,null,null,"","","","","",null,"","",""]
[null,null,null,null,null,null,"","","","","",null,"","",""]
[null,null,null,null,null,null,"","","","","",null,"","",""]
[null,null,null,null,null,null,"","","","","",null,"","",""]
[null,null,null,null,null,null,"","","","","",null,"","",""]
[null,null,null,null,null,null,"","","","","",null,"","",""]
[null,null,null,null,null,null,"","","","","",null,"","",""]
[null,null,null,null,null,null,"","","","","",null,"","",""]
[null,null,null,null,null,null,"","","","","",null,"","",""]
[null,null,null,null,null,null,"","","","","",null,"","",""]
[null,null,null,null,null,null,"","","","","",null,"","",""]
[null,null,null,null,null,null,"","","","","",null,"","",""]
[null,null,null,null,null,null,"","","","","",null,"","",""]
[null,null,null,null,null,null,"","","","","",null,"","",""]
[null,null,null,null,null,null,"","","","","",null,"","",""]
[null,null,null,null,null,null,"","","","",{"$f":"IF(User_Stage_Area=1,\"--\",IF(COUNTA=0,\"\",I2290*J2290))","v":""},null,"","",""]
[null,null,null,null,null,null,"","",{"$f":"IF(User_Stage_Area=1,\"--\",IF(COUNTA=0,\"\",IF(BMP_Type=2,IF(G2291<=H_ISV+H_TC,L_ISV,IF(G2291<=H_FLOOR+H_ISV+H_TC,L_ISV+(G2291-H_ISV-H_TC)/S_TC+(G2291-H_ISV-H_TC)*S_MAIN,L_FLOOR+2*(G2291-H_FLOOR-H_ISV-H_TC)*S_MAIN)),L_FLOOR+2*G2291*S_MAIN)))","v":""},{"$f":"IF(User_Stage_Area=1,\"--\",IF(COUNTA=0,\"\",IF(BMP_Type=2,IF(G2291<=H_ISV+H_TC,L_ISV,IF(G2291<=H_FLOOR+H_ISV+H_TC,W_ISV+(G2291-H_ISV-H_TC)/(RATIO*S_TC),W_FLOOR+2*(G2291-H_FLOOR-H_ISV-H_TC)*S_MAIN)),W_FLOOR+2*G2291*S_MAIN)))","v":""},"",null,{"$f":"IF(K2291=\"\",\"\",IF(K2291=\"--\",IF(L2291=\"\",\"\",L2291/43560),K2291/43560))","v":""},"",""]
[null,null,null,null,null,null,"","","","","",null,"","",{"$f":"IF(N2292=\"\",\"\",N2292/43560)","v":""}]
[null,null,null,null,null,null,{"$f":"IF(User_Stage_Area=1,\"--\",IF(COUNTA=0,\"\",ROUND(G2292+0.01,2)))","v":""},{"$f":"IF(User_Stage_Area=1,IF(H2292=\"\",\"\",IF(H2292+0.005<=MAX(UserInput_Stage),ROUND(H2292+0.01,2),\"\")),IF(COUNTA=0,\"\",\"--\"))","v":""},"","","",null,"","",""]
[null,null,null,null,null,null,"","","","","",null,"",{"$f":"IF(K2294=\"\",\"\",IF(K2294=\"--\",IF(L2294=\"\",\"\",N2293+(H2294-H2293)/3*(L2293+L2294+(L2293*L2294)^0.5)),N2293+(G2294-G2293)/3*(K2293+K2294+(K2293*K2294)^0.5)))","v":""},""]
[null,null,null,null,null,null,"","","","","",null,"","",""]
[null,null,null,null,null,null,"","","","","",null,"","",""]
[null,null,null,null,null,null,"","","","","",null,"","",""]
[null,null,null,null,null,null,"","","","","",null,"","",""]
[null,null,null,null,null,null,"","","","","",null,"","",""]
[null,null,null,null,null,null,"","","","","",null,"","",""]
[null,null,null,null,null,null,"","","","","",null,"","",""]
[null,null,null,null,null,null,"","","","","",null,"","",""]
[null,null,null,null,null,null,"","","","","",null,"","",""]
[null,null,null,null,null,null,"","","","","",null,"","",""]
[null,null,null,null,null,null,"","","","","",null,"","",""]
[null,null,null,null,null,null,"","","","","",null,"","",""]
[null,null,null,null,null,null,"","","","","",null,"","",""]
[null,null,null,null,null,null,"","","","","",null,"","",""]
[null,null,null,null,null,null,"","","","","",null,"","",""]
[null,null,null,null,null,null,"","","","","",null,"","",""]
[null,null,null,null,null,null,"","","","","",null,"","",""]
[null,null,null,null,null,null,"","","","","",null,"","",""]
[null,null,null,null,null,null,"","","","","",null,"","",""]
[null,null,null,null,null,null,"","","","","",null,"","",""]
[null,null,null,null,null,null,"","","","","",null,"","",""]
[null,null,null,null,null,null,"","","","","",null,"","",""]
[null,null,null,null,null,null,"","","","","",null,"","",""]
[null,null,null,null,null,null,"","","","","",null,"","",""]
[null,null,null,null,null,null,"","","","","",null,"","",""]
[null,null,null,null,null,null,"","","","","",null,"","",""]
[null,null,null,null,null,null,"","","","","",null,"","",""]
[null,null,null,null,null,null,"","","","","",null,"","",""]
[null,null,null,null,null,null,"","","","","",null,"","",""]
[null,null,null,null,null,null,"","","","","",null,"","",""]
[null,null,null,null,null,null,"","","","","",null,"","",""]
[null,null,null,null,null,null,"","","","","",null,"","",""]
[null,null,null,null,null,null,"","","","","",null,"","",""]
[null,null,null,null,null,null,"","","","","",null,"","",""]
[null,null,null,null,null,null,"","","","","",null,"","",""]
[null,null,null,null,null,null,"","","","","",null,"","",""]
[null,null,null,null,null,null,"","","","","",null,"","",""]
[null,null,null,null,null,null,"","","","","",null,"","",""]
[null,null,null,null,null,null,"","","","","",null,"","",""]
[null,null,null,null,null,null,"","","","","",null,"","",""]
[null,null,null,null,null,null,"","","","","",null,"","",""]
[null,null,null,null,null,null,"","","","","",null,"","",""]
[null,null,null,null,null,null,"","","","","",null,"","",""]
[null,null,null,null,null,null,"","","","","",null,"","",""]
[null,null,null,null,null,null,"","","","","",null,"","",""]
[null,null,null,null,null,null,"","","","","",null,"","",""]
[null,null,null,null,null,null,"","","","","",null,"","",""]
[null,null,null,null,null,null,"","","","","",null,"","",""]
[null,null,null,null,null,null,"","","","","",null,"","",""]
[null,null,null,null,null,null,"","","","","",null,"","",""]
[null,null,null,null,null,null,"","","","","",null,"","",""]
[null,null,null,null,null,null,"","","","","",null,"","",""]
[null,null,null,null,null,null,"","","","","",null,"","",""]
[null,null,null,null,null,null,"","","","","",null,"","",""]
[null,null,null,null,null,null,"","","","","",null,"","",""]
[null,null,null,null,null,null,"","","","","",null,"","",""]
[null,null,null,null,null,null,"","","","","",null,"","",""]
[null,null,null,null,null,null,"","","","","",null,"","",""]
[null,null,null,null,null,null,"","","","","",null,"","",""]
[null,null,null,null,null,null,"","","","",{"$f":"IF(User_Stage_Area=1,\"--\",IF(COUNTA=0,\"\",I2354*J2354))","v":""},null,"","",""]
[null,null,null,null,null,null,"","",{"$f":"IF(User_Stage_Area=1,\"--\",IF(COUNTA=0,\"\",IF(BMP_Type=2,IF(G2355<=H_ISV+H_TC,L_ISV,IF(G2355<=H_FLOOR+H_ISV+H_TC,L_ISV+(G2355-H_ISV-H_TC)/S_TC+(G2355-H_ISV-H_TC)*S_MAIN,L_FLOOR+2*(G2355-H_FLOOR-H_ISV-H_TC)*S_MAIN)),L_FLOOR+2*G2355*S_MAIN)))","v":""},{"$f":"IF(User_Stage_Area=1,\"--\",IF(COUNTA=0,\"\",IF(BMP_Type=2,IF(G2355<=H_ISV+H_TC,L_ISV,IF(G2355<=H_FLOOR+H_ISV+H_TC,W_ISV+(G2355-H_ISV-H_TC)/(RATIO*S_TC),W_FLOOR+2*(G2355-H_FLOOR-H_ISV-H_TC)*S_MAIN)),W_FLOOR+2*G2355*S_MAIN)))","v":""},"",null,{"$f":"IF(K2355=\"\",\"\",IF(K2355=\"--\",IF(L2355=\"\",\"\",L2355/43560),K2355/43560))","v":""},"",""]
[null,null,null,null,null,null,"","","","","",null,"","",{"$f":"IF(N2356=\"\",\"\",N2356/43560)","v":""}]
[null,null,null,null,null,null,{"$f":"IF(User_Stage_Area=1,\"--\",IF(COUNTA=0,\"\",ROUND(G2356+0.01,2)))","v":""},{"$f":"IF(User_Stage_Area=1,IF(H2356=\"\",\"\",IF(H2356+0.005<=MAX(UserInput_Stage),ROUND(H2356+0.01,2),\"\")),IF(COUNTA=0,\"\",\"--\"))","v":""},"","","",null,"","",""]
[null,null,null,null,null,null,"","","","","",null,"",{"$f":"IF(K2358=\"\",\"\",IF(K2358=\"--\",IF(L2358=\"\",\"\",N2357+(H2358-H2357)/3*(L2357+L2358+(L2357*L2358)^0.5)),N2357+(G2358-G2357)/3*(K2357+K2358+(K2357*K2358)^0.5)))","v":""},""]
[null,null,null,null,null,null,"","","","","",null,"","",""]
[null,null,null,null,null,null,"","","","","",null,"","",""]
[null,null,null,null,null,null,"","","","","",null,"","",""]
[null,null,null,null,null,null,"","","","","",null,"","",""]
[null,null,null,null,null,null,"","","","","",null,"","",""]
[null,null,null,null,null,null,"","","","","",null,"","",""]
[null,null,null,null,null,null,"","","","","",null,"","",""]
[null,null,null,null,null,null,"","","","","",null,"","",""]
[null,null,null,null,null,null,"","","","","",null,"","",""]
[null,null,null,null,null,null,"","","","","",null,"","",""]
[null,null,null,null,null,null,"","","","","",null,"","",""]
[null,null,null,null,null,null,"","","","","",null,"","",""]
[null,null,null,null,null,null,"","","","","",null,"","",""]
[null,null,null,null,null,null,"","","","","",null,"","",""]
[null,null,null,null,null,null,"","","","","",null,"","",""]
[null,null,null,null,null,null,"","","","","",null,"","",""]
[null,null,null,null,null,null,"","","","","",null,"","",""]
[null,null,null,null,null,null,"","","","","",null,"","",""]
[null,null,null,null,null,null,"","","","","",null,"","",""]
[null,null,null,null,null,null,"","","","","",null,"","",""]
[null,null,null,null,null,null,"","","","","",null,"","",""]
[null,null,null,null,null,null,"","","","","",null,"","",""]
[null,null,null,null,null,null,"","","","","",null,"","",""]
[null,null,null,null,null,null,"","","","","",null,"","",""]
[null,null,null,null,null,null,"","","","","",null,"","",""]
[null,null,null,null,null,null,"","","","","",null,"","",""]
[null,null,null,null,null,null,"","","","","",null,"","",""]
[null,null,null,null,null,null,"","","","","",null,"","",""]
[null,null,null,null,null,null,"","","","","",null,"","",""]
[null,null,null,null,null,null,"","","","","",null,"","",""]
[null,null,null,null,null,null,"","","","","",null,"","",""]
[null,null,null,null,null,null,"","","","","",null,"","",""]
[null,null,null,null,null,null,"","","","","",null,"","",""]
[null,null,null,null,null,null,"","","","","",null,"","",""]
[null,null,null,null,null,null,"","","","","",null,"","",""]
[null,null,null,null,null,null,"","","","","",null,"","",""]
[null,null,null,null,null,null,"","","","","",null,"","",""]
[null,null,null,null,null,null,"","","","","",null,"","",""]
[null,null,null,null,null,null,"","","","","",null,"","",""]
[null,null,null,null,null,null,"","","","","",null,"","",""]
[null,null,null,null,null,null,"","","","","",null,"","",""]
[null,null,null,null,null,null,"","","","","",null,"","",""]
[null,null,null,null,null,null,"","","","","",null,"","",""]
[null,null,null,null,null,null,"","","","","",null,"","",""]
[null,null,null,null,null,null,"","","","","",null,"","",""]
[null,null,null,null,null,null,"","","","","",null,"","",""]
[null,null,null,null,null,null,"","","","","",null,"","",""]
[null,null,null,null,null,null,"","","","","",null,"","",""]
[null,null,null,null,null,null,"","","","","",null,"","",""]
[null,null,null,null,null,null,"","","","","",null,"","",""]
[null,null,null,null,null,null,"","","","","",null,"","",""]
[null,null,null,null,null,null,"","","","","",null,"","",""]
[null,null,null,null,null,null,"","","","","",null,"","",""]
[null,null,null,null,null,null,"","","","","",null,"","",""]
[null,null,null,null,null,null,"","","","","",null,"","",""]
[null,null,null,null,null,null,"","","","","",null,"","",""]
[null,null,null,null,null,null,"","","","","",null,"","",""]
[null,null,null,null,null,null,"","","","","",null,"","",""]
[null,null,null,null,null,null,"","","","","",null,"","",""]
[null,null,null,null,null,null,"","","","",{"$f":"IF(User_Stage_Area=1,\"--\",IF(COUNTA=0,\"\",I2418*J2418))","v":""},null,"","",""]
[null,null,null,null,null,null,"","",{"$f":"IF(User_Stage_Area=1,\"--\",IF(COUNTA=0,\"\",IF(BMP_Type=2,IF(G2419<=H_ISV+H_TC,L_ISV,IF(G2419<=H_FLOOR+H_ISV+H_TC,L_ISV+(G2419-H_ISV-H_TC)/S_TC+(G2419-H_ISV-H_TC)*S_MAIN,L_FLOOR+2*(G2419-H_FLOOR-H_ISV-H_TC)*S_MAIN)),L_FLOOR+2*G2419*S_MAIN)))","v":""},{"$f":"IF(User_Stage_Area=1,\"--\",IF(COUNTA=0,\"\",IF(BMP_Type=2,IF(G2419<=H_ISV+H_TC,L_ISV,IF(G2419<=H_FLOOR+H_ISV+H_TC,W_ISV+(G2419-H_ISV-H_TC)/(RATIO*S_TC),W_FLOOR+2*(G2419-H_FLOOR-H_ISV-H_TC)*S_MAIN)),W_FLOOR+2*G2419*S_MAIN)))","v":""},"",null,{"$f":"IF(K2419=\"\",\"\",IF(K2419=\"--\",IF(L2419=\"\",\"\",L2419/43560),K2419/43560))","v":""},"",""]
[null,null,null,null,null,null,"","","","","",null,"","",{"$f":"IF(N2420=\"\",\"\",N2420/43560)","v":""}]
[null,null,null,null,null,null,{"$f":"IF(User_Stage_Area=1,\"--\",IF(COUNTA=0,\"\",ROUND(G2420+0.01,2)))","v":""},{"$f":"IF(User_Stage_Area=1,IF(H2420=\"\",\"\",IF(H2420+0.005<=MAX(UserInput_Stage),ROUND(H2420+0.01,2),\"\")),IF(COUNTA=0,\"\",\"--\"))","v":""},"","","",null,"","",""]
[null,null,null,null,null,null,"","","","","",null,"",{"$f":"IF(K2422=\"\",\"\",IF(K2422=\"--\",IF(L2422=\"\",\"\",N2421+(H2422-H2421)/3*(L2421+L2422+(L2421*L2422)^0.5)),N2421+(G2422-G2421)/3*(K2421+K2422+(K2421*K2422)^0.5)))","v":""},""]
[null,null,null,null,null,null,"","","","","",null,"","",""]
[null,null,null,null,null,null,"","","","","",null,"","",""]
[null,null,null,null,null,null,"","","","","",null,"","",""]
[null,null,null,null,null,null,"","","","","",null,"","",""]
[null,null,null,null,null,null,"","","","","",null,"","",""]
[null,null,null,null,null,null,"","","","","",null,"","",""]
[null,null,null,null,null,null,"","","","","",null,"","",""]
[null,null,null,null,null,null,"","","","","",null,"","",""]
[null,null,null,null,null,null,"","","","","",null,"","",""]
[null,null,null,null,null,null,"","","","","",null,"","",""]
[null,null,null,null,null,null,"","","","","",null,"","",""]
[null,null,null,null,null,null,"","","","","",null,"","",""]
[null,null,null,null,null,null,"","","","","",null,"","",""]
[null,null,null,null,null,null,"","","","","",null,"","",""]
[null,null,null,null,null,null,"","","","","",null,"","",""]
[null,null,null,null,null,null,"","","","","",null,"","",""]
[null,null,null,null,null,null,"","","","","",null,"","",""]
[null,null,null,null,null,null,"","","","","",null,"","",""]
[null,null,null,null,null,null,"","","","","",null,"","",""]
[null,null,null,null,null,null,"","","","","",null,"","",""]
[null,null,null,null,null,null,"","","","","",null,"","",""]
[null,null,null,null,null,null,"","","","","",null,"","",""]
[null,null,null,null,null,null,"","","","","",null,"","",""]
[null,null,null,null,null,null,"","","","","",null,"","",""]
[null,null,null,null,null,null,"","","","","",null,"","",""]
[null,null,null,null,null,null,"","","","","",null,"","",""]
[null,null,null,null,null,null,"","","","","",null,"","",""]
[null,null,null,null,null,null,"","","","","",null,"","",""]
[null,null,null,null,null,null,"","","","","",null,"","",""]
[null,null,null,null,null,null,"","","","","",null,"","",""]
[null,null,null,null,null,null,"","","","","",null,"","",""]
[null,null,null,null,null,null,"","","","","",null,"","",""]
[null,null,null,null,null,null,"","","","","",null,"","",""]
[null,null,null,null,null,null,"","","","","",null,"","",""]
[null,null,null,null,null,null,"","","","","",null,"","",""]
[null,null,null,null,null,null,"","","","","",null,"","",""]
[null,null,null,null,null,null,"","","","","",null,"","",""]
[null,null,null,null,null,null,"","","","","",null,"","",""]
[null,null,null,null,null,null,"","","","","",null,"","",""]
[null,null,null,null,null,null,"","","","","",null,"","",""]
[null,null,null,null,null,null,"","","","","",null,"","",""]
[null,null,null,null,null,null,"","","","","",null,"","",""]
[null,null,null,null,null,null,"","","","","",null,"","",""]
[null,null,null,null,null,null,"","","","","",null,"","",""]
[null,null,null,null,null,null,"","","","","",null,"","",""]
[null,null,null,null,null,null,"","","","","",null,"","",""]
[null,null,null,null,null,null,"","","","","",null,"","",""]
[null,null,null,null,null,null,"","","","","",null,"","",""]
[null,null,null,null,null,null,"","","","","",null,"","",""]
[null,null,null,null,null,null,"","","","","",null,"","",""]
[null,null,null,null,null,null,"","","","","",null,"","",""]
[null,null,null,null,null,null,"","","","","",null,"","",""]
[null,null,null,null,null,null,"","","","","",null,"","",""]
[null,null,null,null,null,null,"","","","","",null,"","",""]
[null,null,null,null,null,null,"","","","","",null,"","",""]
[null,null,null,null,null,null,"","","","","",null,"","",""]
[null,null,null,null,null,null,"","","","","",null,"","",""]
[null,null,null,null,null,null,"","","","","",null,"","",""]
[null,null,null,null,null,null,"","","","","",null,"","",""]
[null,null,null,null,null,null,"","","","",{"$f":"IF(User_Stage_Area=1,\"--\",IF(COUNTA=0,\"\",I2482*J2482))","v":""},null,"","",""]
[null,null,null,null,null,null,"","",{"$f":"IF(User_Stage_Area=1,\"--\",IF(COUNTA=0,\"\",IF(BMP_Type=2,IF(G2483<=H_ISV+H_TC,L_ISV,IF(G2483<=H_FLOOR+H_ISV+H_TC,L_ISV+(G2483-H_ISV-H_TC)/S_TC+(G2483-H_ISV-H_TC)*S_MAIN,L_FLOOR+2*(G2483-H_FLOOR-H_ISV-H_TC)*S_MAIN)),L_FLOOR+2*G2483*S_MAIN)))","v":""},{"$f":"IF(User_Stage_Area=1,\"--\",IF(COUNTA=0,\"\",IF(BMP_Type=2,IF(G2483<=H_ISV+H_TC,L_ISV,IF(G2483<=H_FLOOR+H_ISV+H_TC,W_ISV+(G2483-H_ISV-H_TC)/(RATIO*S_TC),W_FLOOR+2*(G2483-H_FLOOR-H_ISV-H_TC)*S_MAIN)),W_FLOOR+2*G2483*S_MAIN)))","v":""},"",null,{"$f":"IF(K2483=\"\",\"\",IF(K2483=\"--\",IF(L2483=\"\",\"\",L2483/43560),K2483/43560))","v":""},"",""]
[null,null,null,null,null,null,"","","","","",null,"","",{"$f":"IF(N2484=\"\",\"\",N2484/43560)","v":""}]
[null,null,null,null,null,null,{"$f":"IF(User_Stage_Area=1,\"--\",IF(COUNTA=0,\"\",ROUND(G2484+0.01,2)))","v":""},{"$f":"IF(User_Stage_Area=1,IF(H2484=\"\",\"\",IF(H2484+0.005<=MAX(UserInput_Stage),ROUND(H2484+0.01,2),\"\")),IF(COUNTA=0,\"\",\"--\"))","v":""},"","","",null,"","",""]
[null,null,null,null,null,null,"","","","","",null,"",{"$f":"IF(K2486=\"\",\"\",IF(K2486=\"--\",IF(L2486=\"\",\"\",N2485+(H2486-H2485)/3*(L2485+L2486+(L2485*L2486)^0.5)),N2485+(G2486-G2485)/3*(K2485+K2486+(K2485*K2486)^0.5)))","v":""},""]
[null,null,null,null,null,null,"","","","","",null,"","",""]
[null,null,null,null,null,null,"","","","","",null,"","",""]
[null,null,null,null,null,null,"","","","","",null,"","",""]
[null,null,null,null,null,null,"","","","","",null,"","",""]
[null,null,null,null,null,null,"","","","","",null,"","",""]
[null,null,null,null,null,null,"","","","","",null,"","",""]
[null,null,null,null,null,null,"","","","","",null,"","",""]
[null,null,null,null,null,null,"","","","","",null,"","",""]
[null,null,null,null,null,null,"","","","","",null,"","",""]
[null,null,null,null,null,null,"","","","","",null,"","",""]
[null,null,null,null,null,null,"","","","","",null,"","",""]
[null,null,null,null,null,null,"","","","","",null,"","",""]
[null,null,null,null,null,null,"","","","","",null,"","",""]
[null,null,null,null,null,null,"","","","","",null,"","",""]
[null,null,null,null,null,null,"","","","","",null,"","",""]
[null,null,null,null,null,null,"","","","","",null,"","",""]
[null,null,null,null,null,null,"","","","","",null,"","",""]
[null,null,null,null,null,null,"","","","","",null,"","",""]
[null,null,null,null,null,null,"","","","","",null,"","",""]
[null,null,null,null,null,null,"","","","","",null,"","",""]
[null,null,null,null,null,null,"","","","","",null,"","",""]
[null,null,null,null,null,null,"","","","","",null,"","",""]
[null,null,null,null,null,null,"","","","","",null,"","",""]
[null,null,null,null,null,null,"","","","","",null,"","",""]
[null,null,null,null,null,null,"","","","","",null,"","",""]
[null,null,null,null,null,null,"","","","","",null,"","",""]
[null,null,null,null,null,null,"","","","","",null,"","",""]
[null,null,null,null,null,null,"","","","","",null,"","",""]
[null,null,null,null,null,null,"","","","","",null,"","",""]
[null,null,null,null,null,null,"","","","","",null,"","",""]
[null,null,null,null,null,null,"","","","","",null,"","",""]
[null,null,null,null,null,null,"","","","","",null,"","",""]
[null,null,null,null,null,null,"","","","","",null,"","",""]
[null,null,null,null,null,null,"","","","","",null,"","",""]
[null,null,null,null,null,null,"","","","","",null,"","",""]
[null,null,null,null,null,null,"","","","","",null,"","",""]
[null,null,null,null,null,null,"","","","","",null,"","",""]
[null,null,null,null,null,null,"","","","","",null,"","",""]
[null,null,null,null,null,null,"","","","","",null,"","",""]
[null,null,null,null,null,null,"","","","","",null,"","",""]
[null,null,null,null,null,null,"","","","","",null,"","",""]
[null,null,null,null,null,null,"","","","","",null,"","",""]
[null,null,null,null,null,null,"","","","","",null,"","",""]
[null,null,null,null,null,null,"","","","","",null,"","",""]
[null,null,null,null,null,null,"","","","","",null,"","",""]
[null,null,null,null,null,null,"","","","","",null,"","",""]
[null,null,null,null,null,null,"","","","","",null,"","",""]
[null,null,null,null,null,null,"","","","","",null,"","",""]
[null,null,null,null,null,null,"","","","","",null,"","",""]
[null,null,null,null,null,null,"","","","","",null,"","",""]
[null,null,null,null,null,null,"","","","","",null,"","",""]
[null,null,null,null,null,null,"","","","","",null,"","",""]
[null,null,null,null,null,null,"","","","","",null,"","",""]
[null,null,null,null,null,null,"","","","","",null,"","",""]
[null,null,null,null,null,null,"","","","","",null,"","",""]
[null,null,null,null,null,null,"","","","","",null,"","",""]
[null,null,null,null,null,null,"","","","","",null,"","",""]
[null,null,null,null,null,null,"","","","","",null,"","",""]
[null,null,null,null,null,null,"","","","","",null,"","",""]
[null,null,null,null,null,null,"","","","",{"$f":"IF(User_Stage_Area=1,\"--\",IF(COUNTA=0,\"\",I2546*J2546))","v":""},null,"","",""]
[null,null,null,null,null,null,"","",{"$f":"IF(User_Stage_Area=1,\"--\",IF(COUNTA=0,\"\",IF(BMP_Type=2,IF(G2547<=H_ISV+H_TC,L_ISV,IF(G2547<=H_FLOOR+H_ISV+H_TC,L_ISV+(G2547-H_ISV-H_TC)/S_TC+(G2547-H_ISV-H_TC)*S_MAIN,L_FLOOR+2*(G2547-H_FLOOR-H_ISV-H_TC)*S_MAIN)),L_FLOOR+2*G2547*S_MAIN)))","v":""},{"$f":"IF(User_Stage_Area=1,\"--\",IF(COUNTA=0,\"\",IF(BMP_Type=2,IF(G2547<=H_ISV+H_TC,L_ISV,IF(G2547<=H_FLOOR+H_ISV+H_TC,W_ISV+(G2547-H_ISV-H_TC)/(RATIO*S_TC),W_FLOOR+2*(G2547-H_FLOOR-H_ISV-H_TC)*S_MAIN)),W_FLOOR+2*G2547*S_MAIN)))","v":""},"",null,{"$f":"IF(K2547=\"\",\"\",IF(K2547=\"--\",IF(L2547=\"\",\"\",L2547/43560),K2547/43560))","v":""},"",""]
[null,null,null,null,null,null,"","","","","",null,"","",{"$f":"IF(N2548=\"\",\"\",N2548/43560)","v":""}]
[null,null,null,null,null,null,{"$f":"IF(User_Stage_Area=1,\"--\",IF(COUNTA=0,\"\",ROUND(G2548+0.01,2)))","v":""},{"$f":"IF(User_Stage_Area=1,IF(H2548=\"\",\"\",IF(H2548+0.005<=MAX(UserInput_Stage),ROUND(H2548+0.01,2),\"\")),IF(COUNTA=0,\"\",\"--\"))","v":""},"","","",null,"","",""]
[null,null,null,null,null,null,"","","","","",null,"",{"$f":"IF(K2550=\"\",\"\",IF(K2550=\"--\",IF(L2550=\"\",\"\",N2549+(H2550-H2549)/3*(L2549+L2550+(L2549*L2550)^0.5)),N2549+(G2550-G2549)/3*(K2549+K2550+(K2549*K2550)^0.5)))","v":""},""]
[null,null,null,null,null,null,"","","","","",null,"","",""]
[null,null,null,null,null,null,"","","","","",null,"","",""]
[null,null,null,null,null,null,"","","","","",null,"","",""]
[null,null,null,null,null,null,"","","","","",null,"","",""]
[null,null,null,null,null,null,"","","","","",null,"","",""]
[null,null,null,null,null,null,"","","","","",null,"","",""]
[null,null,null,null,null,null,"","","","","",null,"","",""]
[null,null,null,null,null,null,"","","","","",null,"","",""]
[null,null,null,null,null,null,"","","","","",null,"","",""]
[null,null,null,null,null,null,"","","","","",null,"","",""]
[null,null,null,null,null,null,"","","","","",null,"","",""]
[null,null,null,null,null,null,"","","","","",null,"","",""]
[null,null,null,null,null,null,"","","","","",null,"","",""]
[null,null,null,null,null,null,"","","","","",null,"","",""]
[null,null,null,null,null,null,"","","","","",null,"","",""]
[null,null,null,null,null,null,"","","","","",null,"","",""]
[null,null,null,null,null,null,"","","","","",null,"","",""]
[null,null,null,null,null,null,"","","","","",null,"","",""]
[null,null,null,null,null,null,"","","","","",null,"","",""]
[null,null,null,null,null,null,"","","","","",null,"","",""]
[null,null,null,null,null,null,"","","","","",null,"","",""]
[null,null,null,null,null,null,"","","","","",null,"","",""]
[null,null,null,null,null,null,"","","","","",null,"","",""]
[null,null,null,null,null,null,"","","","","",null,"","",""]
[null,null,null,null,null,null,"","","","","",null,"","",""]
[null,null,null,null,null,null,"","","","","",null,"","",""]
[null,null,null,null,null,null,"","","","","",null,"","",""]
[null,null,null,null,null,null,"","","","","",null,"","",""]
[null,null,null,null,null,null,"","","","","",null,"","",""]
[null,null,null,null,null,null,"","","","","",null,"","",""]
[null,null,null,null,null,null,"","","","","",null,"","",""]
[null,null,null,null,null,null,"","","","","",null,"","",""]
[null,null,null,null,null,null,"","","","","",null,"","",""]
[null,null,null,null,null,null,"","","","","",null,"","",""]
[null,null,null,null,null,null,"","","","","",null,"","",""]
[null,null,null,null,null,null,"","","","","",null,"","",""]
[null,null,null,null,null,null,"","","","","",null,"","",""]
[null,null,null,null,null,null,"","","","","",null,"","",""]
[null,null,null,null,null,null,"","","","","",null,"","",""]
[null,null,null,null,null,null,"","","","","",null,"","",""]
[null,null,null,null,null,null,"","","","","",null,"","",""]
[null,null,null,null,null,null,"","","","","",null,"","",""]
[null,null,null,null,null,null,"","","","","",null,"","",""]
[null,null,null,null,null,null,"","","","","",null,"","",""]
[null,null,null,null,null,null,"","","","","",null,"","",""]
[null,null,null,null,null,null,"","","","","",null,"","",""]
[null,null,null,null,null,null,"","","","","",null,"","",""]
[null,null,null,null,null,null,"","","","","",null,"","",""]
[null,null,null,null,null,null,"","","","","",null,"","",""]
[null,null,null,null,null,null,"","","","","",null,"","",""]
[null,null,null,null,null,null,"","","","","",null,"","",""]
[null,null,null,null,null,null,"","","","","",null,"","",""]
[null,null,null,null,null,null,"","","","","",null,"","",""]
[null,null,null,null,null,null,"","","","","",null,"","",""]
[null,null,null,null,null,null,"","","","","",null,"","",""]
[null,null,null,null,null,null,"","","","","",null,"","",""]
[null,null,null,null,null,null,"","","","","",null,"","",""]
[null,null,null,null,null,null,"","","","","",null,"","",""]
[null,null,null,null,null,null,"","","","","",null,"","",""]
[null,null,null,null,null,null,"","","","",{"$f":"IF(User_Stage_Area=1,\"--\",IF(COUNTA=0,\"\",I2610*J2610))","v":""},null,"","",""]
[null,null,null,null,null,null,"","",{"$f":"IF(User_Stage_Area=1,\"--\",IF(COUNTA=0,\"\",IF(BMP_Type=2,IF(G2611<=H_ISV+H_TC,L_ISV,IF(G2611<=H_FLOOR+H_ISV+H_TC,L_ISV+(G2611-H_ISV-H_TC)/S_TC+(G2611-H_ISV-H_TC)*S_MAIN,L_FLOOR+2*(G2611-H_FLOOR-H_ISV-H_TC)*S_MAIN)),L_FLOOR+2*G2611*S_MAIN)))","v":""},{"$f":"IF(User_Stage_Area=1,\"--\",IF(COUNTA=0,\"\",IF(BMP_Type=2,IF(G2611<=H_ISV+H_TC,L_ISV,IF(G2611<=H_FLOOR+H_ISV+H_TC,W_ISV+(G2611-H_ISV-H_TC)/(RATIO*S_TC),W_FLOOR+2*(G2611-H_FLOOR-H_ISV-H_TC)*S_MAIN)),W_FLOOR+2*G2611*S_MAIN)))","v":""},"",null,{"$f":"IF(K2611=\"\",\"\",IF(K2611=\"--\",IF(L2611=\"\",\"\",L2611/43560),K2611/43560))","v":""},"",""]
[null,null,null,null,null,null,"","","","","",null,"","",{"$f":"IF(N2612=\"\",\"\",N2612/43560)","v":""}]
[null,null,null,null,null,null,{"$f":"IF(User_Stage_Area=1,\"--\",IF(COUNTA=0,\"\",ROUND(G2612+0.01,2)))","v":""},{"$f":"IF(User_Stage_Area=1,IF(H2612=\"\",\"\",IF(H2612+0.005<=MAX(UserInput_Stage),ROUND(H2612+0.01,2),\"\")),IF(COUNTA=0,\"\",\"--\"))","v":""},"","","",null,"","",""]
[null,null,null,null,null,null,"","","","","",null,"",{"$f":"IF(K2614=\"\",\"\",IF(K2614=\"--\",IF(L2614=\"\",\"\",N2613+(H2614-H2613)/3*(L2613+L2614+(L2613*L2614)^0.5)),N2613+(G2614-G2613)/3*(K2613+K2614+(K2613*K2614)^0.5)))","v":""},""]
[null,null,null,null,null,null,"","","","","",null,"","",""]
[null,null,null,null,null,null,"","","","","",null,"","",""]
[null,null,null,null,null,null,"","","","","",null,"","",""]
[null,null,null,null,null,null,"","","","","",null,"","",""]
[null,null,null,null,null,null,"","","","","",null,"","",""]
[null,null,null,null,null,null,"","","","","",null,"","",""]
[null,null,null,null,null,null,"","","","","",null,"","",""]
[null,null,null,null,null,null,"","","","","",null,"","",""]
[null,null,null,null,null,null,"","","","","",null,"","",""]
[null,null,null,null,null,null,"","","","","",null,"","",""]
[null,null,null,null,null,null,"","","","","",null,"","",""]
[null,null,null,null,null,null,"","","","","",null,"","",""]
[null,null,null,null,null,null,"","","","","",null,"","",""]
[null,null,null,null,null,null,"","","","","",null,"","",""]
[null,null,null,null,null,null,"","","","","",null,"","",""]
[null,null,null,null,null,null,"","","","","",null,"","",""]
[null,null,null,null,null,null,"","","","","",null,"","",""]
[null,null,null,null,null,null,"","","","","",null,"","",""]
[null,null,null,null,null,null,"","","","","",null,"","",""]
[null,null,null,null,null,null,"","","","","",null,"","",""]
[null,null,null,null,null,null,"","","","","",null,"","",""]
[null,null,null,null,null,null,"","","","","",null,"","",""]
[null,null,null,null,null,null,"","","","","",null,"","",""]
[null,null,null,null,null,null,"","","","","",null,"","",""]
[null,null,null,null,null,null,"","","","","",null,"","",""]
[null,null,null,null,null,null,"","","","","",null,"","",""]
[null,null,null,null,null,null,"","","","","",null,"","",""]
[null,null,null,null,null,null,"","","","","",null,"","",""]
[null,null,null,null,null,null,"","","","","",null,"","",""]
[null,null,null,null,null,null,"","","","","",null,"","",""]
[null,null,null,null,null,null,"","","","","",null,"","",""]
[null,null,null,null,null,null,"","","","","",null,"","",""]
[null,null,null,null,null,null,"","","","","",null,"","",""]
[null,null,null,null,null,null,"","","","","",null,"","",""]
[null,null,null,null,null,null,"","","","","",null,"","",""]
[null,null,null,null,null,null,"","","","","",null,"","",""]
[null,null,null,null,null,null,"","","","","",null,"","",""]
[null,null,null,null,null,null,"","","","","",null,"","",""]
[null,null,null,null,null,null,"","","","","",null,"","",""]
[null,null,null,null,null,null,"","","","","",null,"","",""]
[null,null,null,null,null,null,"","","","","",null,"","",""]
[null,null,null,null,null,null,"","","","","",null,"","",""]
[null,null,null,null,null,null,"","","","","",null,"","",""]
[null,null,null,null,null,null,"","","","","",null,"","",""]
[null,null,null,null,null,null,"","","","","",null,"","",""]
[null,null,null,null,null,null,"","","","","",null,"","",""]
[null,null,null,null,null,null,"","","","","",null,"","",""]
[null,null,null,null,null,null,"","","","","",null,"","",""]
[null,null,null,null,null,null,"","","","","",null,"","",""]
[null,null,null,null,null,null,"","","","","",null,"","",""]
[null,null,null,null,null,null,"","","","","",null,"","",""]
[null,null,null,null,null,null,"","","","","",null,"","",""]
[null,null,null,null,null,null,"","","","","",null,"","",""]
[null,null,null,null,null,null,"","","","","",null,"","",""]
[null,null,null,null,null,null,"","","","","",null,"","",""]
[null,null,null,null,null,null,"","","","","",null,"","",""]
[null,null,null,null,null,null,"","","","","",null,"","",""]
[null,null,null,null,null,null,"","","","","",null,"","",""]
[null,null,null,null,null,null,"","","","","",null,"","",""]
[null,null,null,null,null,null,"","","","",{"$f":"IF(User_Stage_Area=1,\"--\",IF(COUNTA=0,\"\",I2674*J2674))","v":""},null,"","",""]
[null,null,null,null,null,null,"","",{"$f":"IF(User_Stage_Area=1,\"--\",IF(COUNTA=0,\"\",IF(BMP_Type=2,IF(G2675<=H_ISV+H_TC,L_ISV,IF(G2675<=H_FLOOR+H_ISV+H_TC,L_ISV+(G2675-H_ISV-H_TC)/S_TC+(G2675-H_ISV-H_TC)*S_MAIN,L_FLOOR+2*(G2675-H_FLOOR-H_ISV-H_TC)*S_MAIN)),L_FLOOR+2*G2675*S_MAIN)))","v":""},{"$f":"IF(User_Stage_Area=1,\"--\",IF(COUNTA=0,\"\",IF(BMP_Type=2,IF(G2675<=H_ISV+H_TC,L_ISV,IF(G2675<=H_FLOOR+H_ISV+H_TC,W_ISV+(G2675-H_ISV-H_TC)/(RATIO*S_TC),W_FLOOR+2*(G2675-H_FLOOR-H_ISV-H_TC)*S_MAIN)),W_FLOOR+2*G2675*S_MAIN)))","v":""},"",null,{"$f":"IF(K2675=\"\",\"\",IF(K2675=\"--\",IF(L2675=\"\",\"\",L2675/43560),K2675/43560))","v":""},"",""]
[null,null,null,null,null,null,"","","","","",null,"","",{"$f":"IF(N2676=\"\",\"\",N2676/43560)","v":""}]
[null,null,null,null,null,null,{"$f":"IF(User_Stage_Area=1,\"--\",IF(COUNTA=0,\"\",ROUND(G2676+0.01,2)))","v":""},{"$f":"IF(User_Stage_Area=1,IF(H2676=\"\",\"\",IF(H2676+0.005<=MAX(UserInput_Stage),ROUND(H2676+0.01,2),\"\")),IF(COUNTA=0,\"\",\"--\"))","v":""},"","","",null,"","",""]
[null,null,null,null,null,null,"","","","","",null,"",{"$f":"IF(K2678=\"\",\"\",IF(K2678=\"--\",IF(L2678=\"\",\"\",N2677+(H2678-H2677)/3*(L2677+L2678+(L2677*L2678)^0.5)),N2677+(G2678-G2677)/3*(K2677+K2678+(K2677*K2678)^0.5)))","v":""},""]
[null,null,null,null,null,null,"","","","","",null,"","",""]
[null,null,null,null,null,null,"","","","","",null,"","",""]
[null,null,null,null,null,null,"","","","","",null,"","",""]
[null,null,null,null,null,null,"","","","","",null,"","",""]
[null,null,null,null,null,null,"","","","","",null,"","",""]
[null,null,null,null,null,null,"","","","","",null,"","",""]
[null,null,null,null,null,null,"","","","","",null,"","",""]
[null,null,null,null,null,null,"","","","","",null,"","",""]
[null,null,null,null,null,null,"","","","","",null,"","",""]
[null,null,null,null,null,null,"","","","","",null,"","",""]
[null,null,null,null,null,null,"","","","","",null,"","",""]
[null,null,null,null,null,null,"","","","","",null,"","",""]
[null,null,null,null,null,null,"","","","","",null,"","",""]
[null,null,null,null,null,null,"","","","","",null,"","",""]
[null,null,null,null,null,null,"","","","","",null,"","",""]
[null,null,null,null,null,null,"","","","","",null,"","",""]
[null,null,null,null,null,null,"","","","","",null,"","",""]
[null,null,null,null,null,null,"","","","","",null,"","",""]
[null,null,null,null,null,null,"","","","","",null,"","",""]
[null,null,null,null,null,null,"","","","","",null,"","",""]
[null,null,null,null,null,null,"","","","","",null,"","",""]
[null,null,null,null,null,null,"","","","","",null,"","",""]
[null,null,null,null,null,null,"","","","","",null,"","",""]
[null,null,null,null,null,null,"","","","","",null,"","",""]
[null,null,null,null,null,null,"","","","","",null,"","",""]
[null,null,null,null,null,null,"","","","","",null,"","",""]
[null,null,null,null,null,null,"","","","","",null,"","",""]
[null,null,null,null,null,null,"","","","","",null,"","",""]
[null,null,null,null,null,null,"","","","","",null,"","",""]
[null,null,null,null,null,null,"","","","","",null,"","",""]
[null,null,null,null,null,null,"","","","","",null,"","",""]
[null,null,null,null,null,null,"","","","","",null,"","",""]
[null,null,null,null,null,null,"","","","","",null,"","",""]
[null,null,null,null,null,null,"","","","","",null,"","",""]
[null,null,null,null,null,null,"","","","","",null,"","",""]
[null,null,null,null,null,null,"","","","","",null,"","",""]
[null,null,null,null,null,null,"","","","","",null,"","",""]
[null,null,null,null,null,null,"","","","","",null,"","",""]
[null,null,null,null,null,null,"","","","","",null,"","",""]
[null,null,null,null,null,null,"","","","","",null,"","",""]
[null,null,null,null,null,null,"","","","","",null,"","",""]
[null,null,null,null,null,null,"","","","","",null,"","",""]
[null,null,null,null,null,null,"","","","","",null,"","",""]
[null,null,null,null,null,null,"","","","","",null,"","",""]
[null,null,null,null,null,null,"","","","","",null,"","",""]
[null,null,null,null,null,null,"","","","","",null,"","",""]
[null,null,null,null,null,null,"","","","","",null,"","",""]
[null,null,null,null,null,null,"","","","","",null,"","",""]
[null,null,null,null,null,null,"","","","","",null,"","",""]
[null,null,null,null,null,null,"","","","","",null,"","",""]
[null,null,null,null,null,null,"","","","","",null,"","",""]
[null,null,null,null,null,null,"","","","","",null,"","",""]
[null,null,null,null,null,null,"","","","","",null,"","",""]
[null,null,null,null,null,null,"","","","","",null,"","",""]
[null,null,null,null,null,null,"","","","","",null,"","",""]
[null,null,null,null,null,null,"","","","","",null,"","",""]
[null,null,null,null,null,null,"","","","","",null,"","",""]
[null,null,null,null,null,null,"","","","","",null,"","",""]
[null,null,null,null,null,null,"","","","","",null,"","",""]
[null,null,null,null,null,null,"","","","",{"$f":"IF(User_Stage_Area=1,\"--\",IF(COUNTA=0,\"\",I2738*J2738))","v":""},null,"","",""]
[null,null,null,null,null,null,"","",{"$f":"IF(User_Stage_Area=1,\"--\",IF(COUNTA=0,\"\",IF(BMP_Type=2,IF(G2739<=H_ISV+H_TC,L_ISV,IF(G2739<=H_FLOOR+H_ISV+H_TC,L_ISV+(G2739-H_ISV-H_TC)/S_TC+(G2739-H_ISV-H_TC)*S_MAIN,L_FLOOR+2*(G2739-H_FLOOR-H_ISV-H_TC)*S_MAIN)),L_FLOOR+2*G2739*S_MAIN)))","v":""},{"$f":"IF(User_Stage_Area=1,\"--\",IF(COUNTA=0,\"\",IF(BMP_Type=2,IF(G2739<=H_ISV+H_TC,L_ISV,IF(G2739<=H_FLOOR+H_ISV+H_TC,W_ISV+(G2739-H_ISV-H_TC)/(RATIO*S_TC),W_FLOOR+2*(G2739-H_FLOOR-H_ISV-H_TC)*S_MAIN)),W_FLOOR+2*G2739*S_MAIN)))","v":""},"",null,{"$f":"IF(K2739=\"\",\"\",IF(K2739=\"--\",IF(L2739=\"\",\"\",L2739/43560),K2739/43560))","v":""},"",""]
[null,null,null,null,null,null,"","","","","",null,"","",{"$f":"IF(N2740=\"\",\"\",N2740/43560)","v":""}]
[null,null,null,null,null,null,{"$f":"IF(User_Stage_Area=1,\"--\",IF(COUNTA=0,\"\",ROUND(G2740+0.01,2)))","v":""},{"$f":"IF(User_Stage_Area=1,IF(H2740=\"\",\"\",IF(H2740+0.005<=MAX(UserInput_Stage),ROUND(H2740+0.01,2),\"\")),IF(COUNTA=0,\"\",\"--\"))","v":""},"","","",null,"","",""]
[null,null,null,null,null,null,"","","","","",null,"",{"$f":"IF(K2742=\"\",\"\",IF(K2742=\"--\",IF(L2742=\"\",\"\",N2741+(H2742-H2741)/3*(L2741+L2742+(L2741*L2742)^0.5)),N2741+(G2742-G2741)/3*(K2741+K2742+(K2741*K2742)^0.5)))","v":""},""]
[null,null,null,null,null,null,"","","","","",null,"","",""]
[null,null,null,null,null,null,"","","","","",null,"","",""]
[null,null,null,null,null,null,"","","","","",null,"","",""]
[null,null,null,null,null,null,"","","","","",null,"","",""]
[null,null,null,null,null,null,"","","","","",null,"","",""]
[null,null,null,null,null,null,"","","","","",null,"","",""]
[null,null,null,null,null,null,"","","","","",null,"","",""]
[null,null,null,null,null,null,"","","","","",null,"","",""]
[null,null,null,null,null,null,"","","","","",null,"","",""]
[null,null,null,null,null,null,"","","","","",null,"","",""]
[null,null,null,null,null,null,"","","","","",null,"","",""]
[null,null,null,null,null,null,"","","","","",null,"","",""]
[null,null,null,null,null,null,"","","","","",null,"","",""]
[null,null,null,null,null,null,"","","","","",null,"","",""]
[null,null,null,null,null,null,"","","","","",null,"","",""]
[null,null,null,null,null,null,"","","","","",null,"","",""]
[null,null,null,null,null,null,"","","","","",null,"","",""]
[null,null,null,null,null,null,"","","","","",null,"","",""]
[null,null,null,null,null,null,"","","","","",null,"","",""]
[null,null,null,null,null,null,"","","","","",null,"","",""]
[null,null,null,null,null,null,"","","","","",null,"","",""]
[null,null,null,null,null,null,"","","","","",null,"","",""]
[null,null,null,null,null,null,"","","","","",null,"","",""]
[null,null,null,null,null,null,"","","","","",null,"","",""]
[null,null,null,null,null,null,"","","","","",null,"","",""]
[null,null,null,null,null,null,"","","","","",null,"","",""]
[null,null,null,null,null,null,"","","","","",null,"","",""]
[null,null,null,null,null,null,"","","","","",null,"","",""]
[null,null,null,null,null,null,"","","","","",null,"","",""]
[null,null,null,null,null,null,"","","","","",null,"","",""]
[null,null,null,null,null,null,"","","","","",null,"","",""]
[null,null,null,null,null,null,"","","","","",null,"","",""]
[null,null,null,null,null,null,"","","","","",null,"","",""]
[null,null,null,null,null,null,"","","","","",null,"","",""]
[null,null,null,null,null,null,"","","","","",null,"","",""]
[null,null,null,null,null,null,"","","","","",null,"","",""]
[null,null,null,null,null,null,"","","","","",null,"","",""]
[null,null,null,null,null,null,"","","","","",null,"","",""]
[null,null,null,null,null,null,"","","","","",null,"","",""]
[null,null,null,null,null,null,"","","","","",null,"","",""]
[null,null,null,null,null,null,"","","","","",null,"","",""]
[null,null,null,null,null,null,"","","","","",null,"","",""]
[null,null,null,null,null,null,"","","","","",null,"","",""]
[null,null,null,null,null,null,"","","","","",null,"","",""]
[null,null,null,null,null,null,"","","","","",null,"","",""]
[null,null,null,null,null,null,"","","","","",null,"","",""]
[null,null,null,null,null,null,"","","","","",null,"","",""]
[null,null,null,null,null,null,"","","","","",null,"","",""]
[null,null,null,null,null,null,"","","","","",null,"","",""]
[null,null,null,null,null,null,"","","","","",null,"","",""]
[null,null,null,null,null,null,"","","","","",null,"","",""]
[null,null,null,null,null,null,"","","","","",null,"","",""]
[null,null,null,null,null,null,"","","","","",null,"","",""]
[null,null,null,null,null,null,"","","","","",null,"","",""]
[null,null,null,null,null,null,"","","","","",null,"","",""]
[null,null,null,null,null,null,"","","","","",null,"","",""]
[null,null,null,null,null,null,"","","","","",null,"","",""]
[null,null,null,null,null,null,"","","","","",null,"","",""]
[null,null,null,null,null,null,"","","","","",null,"","",""]
[null,null,null,null,null,null,"","","","",{"$f":"IF(User_Stage_Area=1,\"--\",IF(COUNTA=0,\"\",I2802*J2802))","v":""},null,"","",""]
[null,null,null,null,null,null,"","",{"$f":"IF(User_Stage_Area=1,\"--\",IF(COUNTA=0,\"\",IF(BMP_Type=2,IF(G2803<=H_ISV+H_TC,L_ISV,IF(G2803<=H_FLOOR+H_ISV+H_TC,L_ISV+(G2803-H_ISV-H_TC)/S_TC+(G2803-H_ISV-H_TC)*S_MAIN,L_FLOOR+2*(G2803-H_FLOOR-H_ISV-H_TC)*S_MAIN)),L_FLOOR+2*G2803*S_MAIN)))","v":""},{"$f":"IF(User_Stage_Area=1,\"--\",IF(COUNTA=0,\"\",IF(BMP_Type=2,IF(G2803<=H_ISV+H_TC,L_ISV,IF(G2803<=H_FLOOR+H_ISV+H_TC,W_ISV+(G2803-H_ISV-H_TC)/(RATIO*S_TC),W_FLOOR+2*(G2803-H_FLOOR-H_ISV-H_TC)*S_MAIN)),W_FLOOR+2*G2803*S_MAIN)))","v":""},"",null,{"$f":"IF(K2803=\"\",\"\",IF(K2803=\"--\",IF(L2803=\"\",\"\",L2803/43560),K2803/43560))","v":""},"",""]
[null,null,null,null,null,null,"","","","","",null,"","",{"$f":"IF(N2804=\"\",\"\",N2804/43560)","v":""}]
[null,null,null,null,null,null,{"$f":"IF(User_Stage_Area=1,\"--\",IF(COUNTA=0,\"\",ROUND(G2804+0.01,2)))","v":""},{"$f":"IF(User_Stage_Area=1,IF(H2804=\"\",\"\",IF(H2804+0.005<=MAX(UserInput_Stage),ROUND(H2804+0.01,2),\"\")),IF(COUNTA=0,\"\",\"--\"))","v":""},"","","",null,"","",""]
[null,null,null,null,null,null,"","","","","",null,"",{"$f":"IF(K2806=\"\",\"\",IF(K2806=\"--\",IF(L2806=\"\",\"\",N2805+(H2806-H2805)/3*(L2805+L2806+(L2805*L2806)^0.5)),N2805+(G2806-G2805)/3*(K2805+K2806+(K2805*K2806)^0.5)))","v":""},""]
[null,null,null,null,null,null,"","","","","",null,"","",""]
[null,null,null,null,null,null,"","","","","",null,"","",""]
[null,null,null,null,null,null,"","","","","",null,"","",""]
[null,null,null,null,null,null,"","","","","",null,"","",""]
[null,null,null,null,null,null,"","","","","",null,"","",""]
[null,null,null,null,null,null,"","","","","",null,"","",""]
[null,null,null,null,null,null,"","","","","",null,"","",""]
[null,null,null,null,null,null,"","","","","",null,"","",""]
[null,null,null,null,null,null,"","","","","",null,"","",""]
[null,null,null,null,null,null,"","","","","",null,"","",""]
[null,null,null,null,null,null,"","","","","",null,"","",""]
[null,null,null,null,null,null,"","","","","",null,"","",""]
[null,null,null,null,null,null,"","","","","",null,"","",""]
[null,null,null,null,null,null,"","","","","",null,"","",""]
[null,null,null,null,null,null,"","","","","",null,"","",""]
[null,null,null,null,null,null,"","","","","",null,"","",""]
[null,null,null,null,null,null,"","","","","",null,"","",""]
[null,null,null,null,null,null,"","","","","",null,"","",""]
[null,null,null,null,null,null,"","","","","",null,"","",""]
[null,null,null,null,null,null,"","","","","",null,"","",""]
[null,null,null,null,null,null,"","","","","",null,"","",""]
[null,null,null,null,null,null,"","","","","",null,"","",""]
[null,null,null,null,null,null,"","","","","",null,"","",""]
[null,null,null,null,null,null,"","","","","",null,"","",""]
[null,null,null,null,null,null,"","","","","",null,"","",""]
[null,null,null,null,null,null,"","","","","",null,"","",""]
[null,null,null,null,null,null,"","","","","",null,"","",""]
[null,null,null,null,null,null,"","","","","",null,"","",""]
[null,null,null,null,null,null,"","","","","",null,"","",""]
[null,null,null,null,null,null,"","","","","",null,"","",""]
[null,null,null,null,null,null,"","","","","",null,"","",""]
[null,null,null,null,null,null,"","","","","",null,"","",""]
[null,null,null,null,null,null,"","","","","",null,"","",""]
[null,null,null,null,null,null,"","","","","",null,"","",""]
[null,null,null,null,null,null,"","","","","",null,"","",""]
[null,null,null,null,null,null,"","","","","",null,"","",""]
[null,null,null,null,null,null,"","","","","",null,"","",""]
[null,null,null,null,null,null,"","","","","",null,"","",""]
[null,null,null,null,null,null,"","","","","",null,"","",""]
[null,null,null,null,null,null,"","","","","",null,"","",""]
[null,null,null,null,null,null,"","","","","",null,"","",""]
[null,null,null,null,null,null,"","","","","",null,"","",""]
[null,null,null,null,null,null,"","","","","",null,"","",""]
[null,null,null,null,null,null,"","","","","",null,"","",""]
[null,null,null,null,null,null,"","","","","",null,"","",""]
[null,null,null,null,null,null,"","","","","",null,"","",""]
[null,null,null,null,null,null,"","","","","",null,"","",""]
[null,null,null,null,null,null,"","","","","",null,"","",""]
[null,null,null,null,null,null,"","","","","",null,"","",""]
[null,null,null,null,null,null,"","","","","",null,"","",""]
[null,null,null,null,null,null,"","","","","",null,"","",""]
[null,null,null,null,null,null,"","","","","",null,"","",""]
[null,null,null,null,null,null,"","","","","",null,"","",""]
[null,null,null,null,null,null,"","","","","",null,"","",""]
[null,null,null,null,null,null,"","","","","",null,"","",""]
[null,null,null,null,null,null,"","","","","",null,"","",""]
[null,null,null,null,null,null,"","","","","",null,"","",""]
[null,null,null,null,null,null,"","","","","",null,"","",""]
[null,null,null,null,null,null,"","","","","",null,"","",""]
[null,null,null,null,null,null,"","","","",{"$f":"IF(User_Stage_Area=1,\"--\",IF(COUNTA=0,\"\",I2866*J2866))","v":""},null,"","",""]
[null,null,null,null,null,null,"","",{"$f":"IF(User_Stage_Area=1,\"--\",IF(COUNTA=0,\"\",IF(BMP_Type=2,IF(G2867<=H_ISV+H_TC,L_ISV,IF(G2867<=H_FLOOR+H_ISV+H_TC,L_ISV+(G2867-H_ISV-H_TC)/S_TC+(G2867-H_ISV-H_TC)*S_MAIN,L_FLOOR+2*(G2867-H_FLOOR-H_ISV-H_TC)*S_MAIN)),L_FLOOR+2*G2867*S_MAIN)))","v":""},{"$f":"IF(User_Stage_Area=1,\"--\",IF(COUNTA=0,\"\",IF(BMP_Type=2,IF(G2867<=H_ISV+H_TC,L_ISV,IF(G2867<=H_FLOOR+H_ISV+H_TC,W_ISV+(G2867-H_ISV-H_TC)/(RATIO*S_TC),W_FLOOR+2*(G2867-H_FLOOR-H_ISV-H_TC)*S_MAIN)),W_FLOOR+2*G2867*S_MAIN)))","v":""},"",null,{"$f":"IF(K2867=\"\",\"\",IF(K2867=\"--\",IF(L2867=\"\",\"\",L2867/43560),K2867/43560))","v":""},"",""]
[null,null,null,null,null,null,"","","","","",null,"","",{"$f":"IF(N2868=\"\",\"\",N2868/43560)","v":""}]
[null,null,null,null,null,null,{"$f":"IF(User_Stage_Area=1,\"--\",IF(COUNTA=0,\"\",ROUND(G2868+0.01,2)))","v":""},{"$f":"IF(User_Stage_Area=1,IF(H2868=\"\",\"\",IF(H2868+0.005<=MAX(UserInput_Stage),ROUND(H2868+0.01,2),\"\")),IF(COUNTA=0,\"\",\"--\"))","v":""},"","","",null,"","",""]
[null,null,null,null,null,null,"","","","","",null,"",{"$f":"IF(K2870=\"\",\"\",IF(K2870=\"--\",IF(L2870=\"\",\"\",N2869+(H2870-H2869)/3*(L2869+L2870+(L2869*L2870)^0.5)),N2869+(G2870-G2869)/3*(K2869+K2870+(K2869*K2870)^0.5)))","v":""},""]
[null,null,null,null,null,null,"","","","","",null,"","",""]
[null,null,null,null,null,null,"","","","","",null,"","",""]
[null,null,null,null,null,null,"","","","","",null,"","",""]
[null,null,null,null,null,null,"","","","","",null,"","",""]
[null,null,null,null,null,null,"","","","","",null,"","",""]
[null,null,null,null,null,null,"","","","","",null,"","",""]
[null,null,null,null,null,null,"","","","","",null,"","",""]
[null,null,null,null,null,null,"","","","","",null,"","",""]
[null,null,null,null,null,null,"","","","","",null,"","",""]
[null,null,null,null,null,null,"","","","","",null,"","",""]
[null,null,null,null,null,null,"","","","","",null,"","",""]
[null,null,null,null,null,null,"","","","","",null,"","",""]
[null,null,null,null,null,null,"","","","","",null,"","",""]
[null,null,null,null,null,null,"","","","","",null,"","",""]
[null,null,null,null,null,null,"","","","","",null,"","",""]
[null,null,null,null,null,null,"","","","","",null,"","",""]
[null,null,null,null,null,null,"","","","","",null,"","",""]
[null,null,null,null,null,null,"","","","","",null,"","",""]
[null,null,null,null,null,null,"","","","","",null,"","",""]
[null,null,null,null,null,null,"","","","","",null,"","",""]
[null,null,null,null,null,null,"","","","","",null,"","",""]
[null,null,null,null,null,null,"","","","","",null,"","",""]
[null,null,null,null,null,null,"","","","","",null,"","",""]
[null,null,null,null,null,null,"","","","","",null,"","",""]
[null,null,null,null,null,null,"","","","","",null,"","",""]
[null,null,null,null,null,null,"","","","","",null,"","",""]
[null,null,null,null,null,null,"","","","","",null,"","",""]
[null,null,null,null,null,null,"","","","","",null,"","",""]
[null,null,null,null,null,null,"","","","","",null,"","",""]
[null,null,null,null,null,null,"","","","","",null,"","",""]
[null,null,null,null,null,null,"","","","","",null,"","",""]
[null,null,null,null,null,null,"","","","","",null,"","",""]
[null,null,null,null,null,null,"","","","","",null,"","",""]
[null,null,null,null,null,null,"","","","","",null,"","",""]
[null,null,null,null,null,null,"","","","","",null,"","",""]
[null,null,null,null,null,null,"","","","","",null,"","",""]
[null,null,null,null,null,null,"","","","","",null,"","",""]
[null,null,null,null,null,null,"","","","","",null,"","",""]
[null,null,null,null,null,null,"","","","","",null,"","",""]
[null,null,null,null,null,null,"","","","","",null,"","",""]
[null,null,null,null,null,null,"","","","","",null,"","",""]
[null,null,null,null,null,null,"","","","","",null,"","",""]
[null,null,null,null,null,null,"","","","","",null,"","",""]
[null,null,null,null,null,null,"","","","","",null,"","",""]
[null,null,null,null,null,null,"","","","","",null,"","",""]
[null,null,null,null,null,null,"","","","","",null,"","",""]
[null,null,null,null,null,null,"","","","","",null,"","",""]
[null,null,null,null,null,null,"","","","","",null,"","",""]
[null,null,null,null,null,null,"","","","","",null,"","",""]
[null,null,null,null,null,null,"","","","","",null,"","",""]
[null,null,null,null,null,null,"","","","","",null,"","",""]
[null,null,null,null,null,null,"","","","","",null,"","",""]
[null,null,null,null,null,null,"","","","","",null,"","",""]
[null,null,null,null,null,null,"","","","","",null,"","",""]
[null,null,null,null,null,null,"","","","","",null,"","",""]
[null,null,null,null,null,null,"","","","","",null,"","",""]
[null,null,null,null,null,null,"","","","","",null,"","",""]
[null,null,null,null,null,null,"","","","","",null,"","",""]
[null,null,null,null,null,null,"","","","","",null,"","",""]
[null,null,null,null,null,null,"","","","",{"$f":"IF(User_Stage_Area=1,\"--\",IF(COUNTA=0,\"\",I2930*J2930))","v":""},null,"","",""]
[null,null,null,null,null,null,"","",{"$f":"IF(User_Stage_Area=1,\"--\",IF(COUNTA=0,\"\",IF(BMP_Type=2,IF(G2931<=H_ISV+H_TC,L_ISV,IF(G2931<=H_FLOOR+H_ISV+H_TC,L_ISV+(G2931-H_ISV-H_TC)/S_TC+(G2931-H_ISV-H_TC)*S_MAIN,L_FLOOR+2*(G2931-H_FLOOR-H_ISV-H_TC)*S_MAIN)),L_FLOOR+2*G2931*S_MAIN)))","v":""},{"$f":"IF(User_Stage_Area=1,\"--\",IF(COUNTA=0,\"\",IF(BMP_Type=2,IF(G2931<=H_ISV+H_TC,L_ISV,IF(G2931<=H_FLOOR+H_ISV+H_TC,W_ISV+(G2931-H_ISV-H_TC)/(RATIO*S_TC),W_FLOOR+2*(G2931-H_FLOOR-H_ISV-H_TC)*S_MAIN)),W_FLOOR+2*G2931*S_MAIN)))","v":""},"",null,{"$f":"IF(K2931=\"\",\"\",IF(K2931=\"--\",IF(L2931=\"\",\"\",L2931/43560),K2931/43560))","v":""},"",""]
[null,null,null,null,null,null,"","","","","",null,"","",{"$f":"IF(N2932=\"\",\"\",N2932/43560)","v":""}]
[null,null,null,null,null,null,{"$f":"IF(User_Stage_Area=1,\"--\",IF(COUNTA=0,\"\",ROUND(G2932+0.01,2)))","v":""},{"$f":"IF(User_Stage_Area=1,IF(H2932=\"\",\"\",IF(H2932+0.005<=MAX(UserInput_Stage),ROUND(H2932+0.01,2),\"\")),IF(COUNTA=0,\"\",\"--\"))","v":""},"","","",null,"","",""]
[null,null,null,null,null,null,"","","","","",null,"",{"$f":"IF(K2934=\"\",\"\",IF(K2934=\"--\",IF(L2934=\"\",\"\",N2933+(H2934-H2933)/3*(L2933+L2934+(L2933*L2934)^0.5)),N2933+(G2934-G2933)/3*(K2933+K2934+(K2933*K2934)^0.5)))","v":""},""]
[null,null,null,null,null,null,"","","","","",null,"","",""]
[null,null,null,null,null,null,"","","","","",null,"","",""]
[null,null,null,null,null,null,"","","","","",null,"","",""]
[null,null,null,null,null,null,"","","","","",null,"","",""]
[null,null,null,null,null,null,"","","","","",null,"","",""]
[null,null,null,null,null,null,"","","","","",null,"","",""]
[null,null,null,null,null,null,"","","","","",null,"","",""]
[null,null,null,null,null,null,"","","","","",null,"","",""]
[null,null,null,null,null,null,"","","","","",null,"","",""]
[null,null,null,null,null,null,"","","","","",null,"","",""]
[null,null,null,null,null,null,"","","","","",null,"","",""]
[null,null,null,null,null,null,"","","","","",null,"","",""]
[null,null,null,null,null,null,"","","","","",null,"","",""]
[null,null,null,null,null,null,"","","","","",null,"","",""]
[null,null,null,null,null,null,"","","","","",null,"","",""]
[null,null,null,null,null,null,"","","","","",null,"","",""]
[null,null,null,null,null,null,"","","","","",null,"","",""]
[null,null,null,null,null,null,"","","","","",null,"","",""]
[null,null,null,null,null,null,"","","","","",null,"","",""]
[null,null,null,null,null,null,"","","","","",null,"","",""]
[null,null,null,null,null,null,"","","","","",null,"","",""]
[null,null,null,null,null,null,"","","","","",null,"","",""]
[null,null,null,null,null,null,"","","","","",null,"","",""]
[null,null,null,null,null,null,"","","","","",null,"","",""]
[null,null,null,null,null,null,"","","","","",null,"","",""]
[null,null,null,null,null,null,"","","","","",null,"","",""]
[null,null,null,null,null,null,"","","","","",null,"","",""]
[null,null,null,null,null,null,"","","","","",null,"","",""]
[null,null,null,null,null,null,"","","","","",null,"","",""]
[null,null,null,null,null,null,"","","","","",null,"","",""]
[null,null,null,null,null,null,"","","","","",null,"","",""]
[null,null,null,null,null,null,"","","","","",null,"","",""]
[null,null,null,null,null,null,"","","","","",null,"","",""]
[null,null,null,null,null,null,"","","","","",null,"","",""]
[null,null,null,null,null,null,"","","","","",null,"","",""]
[null,null,null,null,null,null,"","","","","",null,"","",""]
[null,null,null,null,null,null,"","","","","",null,"","",""]
[null,null,null,null,null,null,"","","","","",null,"","",""]
[null,null,null,null,null,null,"","","","","",null,"","",""]
[null,null,null,null,null,null,"","","","","",null,"","",""]
[null,null,null,null,null,null,"","","","","",null,"","",""]
[null,null,null,null,null,null,"","","","","",null,"","",""]
[null,null,null,null,null,null,"","","","","",null,"","",""]
[null,null,null,null,null,null,"","","","","",null,"","",""]
[null,null,null,null,null,null,"","","","","",null,"","",""]
[null,null,null,null,null,null,"","","","","",null,"","",""]
[null,null,null,null,null,null,"","","","","",null,"","",""]
[null,null,null,null,null,null,"","","","","",null,"","",""]
[null,null,null,null,null,null,"","","","","",null,"","",""]
[null,null,null,null,null,null,"","","","","",null,"","",""]
[null,null,null,null,null,null,"","","","","",null,"","",""]
[null,null,null,null,null,null,"","","","","",null,"","",""]
[null,null,null,null,null,null,"","","","","",null,"","",""]
[null,null,null,null,null,null,"","","","","",null,"","",""]
[null,null,null,null,null,null,"","","","","",null,"","",""]
[null,null,null,null,null,null,"","","","","",null,"","",""]
[null,null,null,null,null,null,"","","","","",null,"","",""]
[null,null,null,null,null,null,"","","","","",null,"","",""]
[null,null,null,null,null,null,"","","","","",null,"","",""]
[null,null,null,null,null,null,"","","","",{"$f":"IF(User_Stage_Area=1,\"--\",IF(COUNTA=0,\"\",I2994*J2994))","v":""},null,"","",""]
[null,null,null,null,null,null,"","",{"$f":"IF(User_Stage_Area=1,\"--\",IF(COUNTA=0,\"\",IF(BMP_Type=2,IF(G2995<=H_ISV+H_TC,L_ISV,IF(G2995<=H_FLOOR+H_ISV+H_TC,L_ISV+(G2995-H_ISV-H_TC)/S_TC+(G2995-H_ISV-H_TC)*S_MAIN,L_FLOOR+2*(G2995-H_FLOOR-H_ISV-H_TC)*S_MAIN)),L_FLOOR+2*G2995*S_MAIN)))","v":""},{"$f":"IF(User_Stage_Area=1,\"--\",IF(COUNTA=0,\"\",IF(BMP_Type=2,IF(G2995<=H_ISV+H_TC,L_ISV,IF(G2995<=H_FLOOR+H_ISV+H_TC,W_ISV+(G2995-H_ISV-H_TC)/(RATIO*S_TC),W_FLOOR+2*(G2995-H_FLOOR-H_ISV-H_TC)*S_MAIN)),W_FLOOR+2*G2995*S_MAIN)))","v":""},"",null,{"$f":"IF(K2995=\"\",\"\",IF(K2995=\"--\",IF(L2995=\"\",\"\",L2995/43560),K2995/43560))","v":""},"",""]
[null,null,null,null,null,null,"","","","","",null,"","",{"$f":"IF(N2996=\"\",\"\",N2996/43560)","v":""}]
[null,null,null,null,null,null,{"$f":"IF(User_Stage_Area=1,\"--\",IF(COUNTA=0,\"\",ROUND(G2996+0.01,2)))","v":""},{"$f":"IF(User_Stage_Area=1,IF(H2996=\"\",\"\",IF(H2996+0.005<=MAX(UserInput_Stage),ROUND(H2996+0.01,2),\"\")),IF(COUNTA=0,\"\",\"--\"))","v":""},"","","",null,"","",""]
[null,null,null,null,null,null,"","","","","",null,"",{"$f":"IF(K2998=\"\",\"\",IF(K2998=\"--\",IF(L2998=\"\",\"\",N2997+(H2998-H2997)/3*(L2997+L2998+(L2997*L2998)^0.5)),N2997+(G2998-G2997)/3*(K2997+K2998+(K2997*K2998)^0.5)))","v":""},""]
[null,null,null,null,null,null,"","","","","",null,"","",""]
[null,null,null,null,null,null,"","","","","",null,"","",""]
[null,null,null,null,null,null,"","","","","",null,"","",""]
[null,null,null,null,null,null,"","","","","",null,"","",""]
[null,null,null,null,null,null,"","","","","",null,"","",""]
[null,null,null,null,null,null,"","","","","",null,"","",""]
[null,null,null,null,null,null,"","","","","",null,"","",""]
[null,null,null,null,null,null,"","","","","",null,"","",""]
[null,null,null,null,null,null,"","","","","",null,"","",""]
[null,null,null,null,null,null,"","","","","",null,"","",""]
[null,null,null,null,null,null,"","","","","",null,"","",""]
[null,null,null,null,null,null,"","","","","",null,"","",""]
[null,null,null,null,null,null,"","","","","",null,"","",""]
[null,null,null,null,null,null,"","","","","",null,"","",""]
[null,null,null,null,null,null,"","","","","",null,"","",""]
[null,null,null,null,null,null,"","","","","",null,"","",""]
[null,null,null,null,null,null,"","","","","",null,"","",""]
[null,null,null,null,null,null,"","","","","",null,"","",""]
[null,null,null,null,null,null,"","","","","",null,"","",""]
[null,null,null,null,null,null,"","","","","",null,"","",""]
[null,null,null,null,null,null,"","","","","",null,"","",""]
[null,null,null,null,null,null,"","","","","",null,"","",""]
[null,null,null,null,null,null,"","","","","",null,"","",""]
[null,null,null,null,null,null,"","","","","",null,"","",""]
[null,null,null,null,null,null,"","","","","",null,"","",""]
[null,null,null,null,null,null,"","","","","",null,"","",""]
[null,null,null,null,null,null,"","","","","",null,"","",""]
[null,null,null,null,null,null,"","","","","",null,"","",""]
[null,null,null,null,null,null,"","","","","",null,"","",""]
[null,null,null,null,null,null,"","","","","",null,"","",""]
[null,null,null,null,null,null,"","","","","",null,"","",""]
[null,null,null,null,null,null,"","","","","",null,"","",""]
[null,null,null,null,null,null,"","","","","",null,"","",""]
[null,null,null,null,null,null,"","","","","",null,"","",""]
[null,null,null,null,null,null,"","","","","",null,"","",""]
[null,null,null,null,null,null,"","","","","",null,"","",""]
[null,null,null,null,null,null,"","","","","",null,"","",""]
[null,null,null,null,null,null,"","","","","",null,"","",""]
[null,null,null,null,null,null,"","","","","",null,"","",""]
[null,null,null,null,null,null,"","","","","",null,"","",""]
[null,null,null,null,null,null,"","","","","",null,"","",""]
[null,null,null,null,null,null,"","","","","",null,"","",""]
[null,null,null,null,null,null,"","","","","",null,"","",""]
[null,null,null,null,null,null,"","","","","",null,"","",""]
[null,null,null,null,null,null,"","","","","",null,"","",""]
[null,null,null,null,null,null,"","","","","",null,"","",""]
[null,null,null,null,null,null,"","","","","",null,"","",""]
[null,null,null,null,null,null,"","","","","",null,"","",""]
[null,null,null,null,null,null,"","","","","",null,"","",""]
[null,null,null,null,null,null,"","","","","",null,"","",""]
[null,null,null,null,null,null,"","","","","",null,"","",""]
[null,null,null,null,null,null,"","","","","",null,"","",""]
[null,null,null,null,null,null,"","","","","",null,"","",""]
[null,null,null,null,null,null,"","","","","",null,"","",""]
[null,null,null,null,null,null,"","","","","",null,"","",""]
[null,null,null,null,null,null,"","","","","",null,"","",""]
[null,null,null,null,null,null,"","","","","",null,"","",""]
[null,null,null,null,null,null,"","","","","",null,"","",""]
[null,null,null,null,null,null,"","","","","",null,"","",""]
[null,null,null,null,null,null,"","","","",{"$f":"IF(User_Stage_Area=1,\"--\",IF(COUNTA=0,\"\",I3058*J3058))","v":""},null,"","",""]
[null,null,null,null,null,null,"","",{"$f":"IF(User_Stage_Area=1,\"--\",IF(COUNTA=0,\"\",IF(BMP_Type=2,IF(G3059<=H_ISV+H_TC,L_ISV,IF(G3059<=H_FLOOR+H_ISV+H_TC,L_ISV+(G3059-H_ISV-H_TC)/S_TC+(G3059-H_ISV-H_TC)*S_MAIN,L_FLOOR+2*(G3059-H_FLOOR-H_ISV-H_TC)*S_MAIN)),L_FLOOR+2*G3059*S_MAIN)))","v":""},{"$f":"IF(User_Stage_Area=1,\"--\",IF(COUNTA=0,\"\",IF(BMP_Type=2,IF(G3059<=H_ISV+H_TC,L_ISV,IF(G3059<=H_FLOOR+H_ISV+H_TC,W_ISV+(G3059-H_ISV-H_TC)/(RATIO*S_TC),W_FLOOR+2*(G3059-H_FLOOR-H_ISV-H_TC)*S_MAIN)),W_FLOOR+2*G3059*S_MAIN)))","v":""},"",null,{"$f":"IF(K3059=\"\",\"\",IF(K3059=\"--\",IF(L3059=\"\",\"\",L3059/43560),K3059/43560))","v":""},"",""]
[null,null,null,null,null,null,"","","","","",null,"","",{"$f":"IF(N3060=\"\",\"\",N3060/43560)","v":""}]
[null,null,null,null,null,null,{"$f":"IF(User_Stage_Area=1,\"--\",IF(COUNTA=0,\"\",ROUND(G3060+0.01,2)))","v":""},{"$f":"IF(User_Stage_Area=1,IF(H3060=\"\",\"\",IF(H3060+0.005<=MAX(UserInput_Stage),ROUND(H3060+0.01,2),\"\")),IF(COUNTA=0,\"\",\"--\"))","v":""},"","","",null,"","",""]
[null,null,null,null,null,null,"","","","","",null,"",{"$f":"IF(K3062=\"\",\"\",IF(K3062=\"--\",IF(L3062=\"\",\"\",N3061+(H3062-H3061)/3*(L3061+L3062+(L3061*L3062)^0.5)),N3061+(G3062-G3061)/3*(K3061+K3062+(K3061*K3062)^0.5)))","v":""},""]
[null,null,null,null,null,null,"","","","","",null,"","",""]
[null,null,null,null,null,null,"","","","","",null,"","",""]
[null,null,null,null,null,null,"","","","","",null,"","",""]
[null,null,null,null,null,null,"","","","","",null,"","",""]
[null,null,null,null,null,null,"","","","","",null,"","",""]
[null,null,null,null,null,null,"","","","","",null,"","",""]
[null,null,null,null,null,null,"","","","","",null,"","",""]
[null,null,null,null,null,null,"","","","","",null,"","",""]
[null,null,null,null,null,null,"","","","","",null,"","",""]
[null,null,null,null,null,null,"","","","","",null,"","",""]
[null,null,null,null,null,null,"","","","","",null,"","",""]
[null,null,null,null,null,null,"","","","","",null,"","",""]
[null,null,null,null,null,null,"","","","","",null,"","",""]
[null,null,null,null,null,null,"","","","","",null,"","",""]
[null,null,null,null,null,null,"","","","","",null,"","",""]
[null,null,null,null,null,null,"","","","","",null,"","",""]
[null,null,null,null,null,null,"","","","","",null,"","",""]
[null,null,null,null,null,null,"","","","","",null,"","",""]
[null,null,null,null,null,null,"","","","","",null,"","",""]
[null,null,null,null,null,null,"","","","","",null,"","",""]
[null,null,null,null,null,null,"","","","","",null,"","",""]
[null,null,null,null,null,null,"","","","","",null,"","",""]
[null,null,null,null,null,null,"","","","","",null,"","",""]
[null,null,null,null,null,null,"","","","","",null,"","",""]
[null,null,null,null,null,null,"","","","","",null,"","",""]
[null,null,null,null,null,null,"","","","","",null,"","",""]
[null,null,null,null,null,null,"","","","","",null,"","",""]
[null,null,null,null,null,null,"","","","","",null,"","",""]
[null,null,null,null,null,null,"","","","","",null,"","",""]
[null,null,null,null,null,null,"","","","","",null,"","",""]
[null,null,null,null,null,null,"","","","","",null,"","",""]
[null,null,null,null,null,null,"","","","","",null,"","",""]
[null,null,null,null,null,null,"","","","","",null,"","",""]
[null,null,null,null,null,null,"","","","","",null,"","",""]
[null,null,null,null,null,null,"","","","","",null,"","",""]
[null,null,null,null,null,null,"","","","","",null,"","",""]
[null,null,null,null,null,null,"","","","","",null,"","",""]
[null,null,null,null,null,null,"","","","","",null,"","",""]
[null,null,null,null,null,null,"","","","","",null,"","",""]
[null,null,null,null,null,null,"","","","","",null,"","",""]
[null,null,null,null,null,null,"","","","","",null,"","",""]
[null,null,null,null,null,null,"","","","","",null,"","",""]
[null,null,null,null,null,null,"","","","","",null,"","",""]
[null,null,null,null,null,null,"","","","","",null,"","",""]
[null,null,null,null,null,null,"","","","","",null,"","",""]
[null,null,null,null,null,null,"","","","","",null,"","",""]
[null,null,null,null,null,null,"","","","","",null,"","",""]
[null,null,null,null,null,null,"","","","","",null,"","",""]
[null,null,null,null,null,null,"","","","","",null,"","",""]
[null,null,null,null,null,null,"","","","","",null,"","",""]
[null,null,null,null,null,null,"","","","","",null,"","",""]
[null,null,null,null,null,null,"","","","","",null,"","",""]
[null,null,null,null,null,null,"","","","","",null,"","",""]
[null,null,null,null,null,null,"","",{"$f":"IF(User_Stage_Area=1,\"--\",IF(COUNTA=0,\"\",IF(BMP_Type=2,IF(G3116<=H_ISV+H_TC,L_ISV,IF(G3116<=H_FLOOR+H_ISV+H_TC,L_ISV+(G3116-H_ISV-H_TC)/S_TC+(G3116-H_ISV-H_TC)*S_MAIN,L_FLOOR+2*(G3116-H_FLOOR-H_ISV-H_TC)*S_MAIN)),L_FLOOR+2*G3116*S_MAIN)))","v":""},{"$f":"IF(User_Stage_Area=1,\"--\",IF(COUNTA=0,\"\",IF(BMP_Type=2,IF(G3116<=H_ISV+H_TC,L_ISV,IF(G3116<=H_FLOOR+H_ISV+H_TC,W_ISV+(G3116-H_ISV-H_TC)/(RATIO*S_TC),W_FLOOR+2*(G3116-H_FLOOR-H_ISV-H_TC)*S_MAIN)),W_FLOOR+2*G3116*S_MAIN)))","v":""},{"$f":"IF(User_Stage_Area=1,\"--\",IF(COUNTA=0,\"\",I3116*J3116))","v":""},null,{"$f":"IF(K3116=\"\",\"\",IF(K3116=\"--\",IF(L3116=\"\",\"\",L3116/43560),K3116/43560))","v":""},{"$f":"IF(K3116=\"\",\"\",IF(K3116=\"--\",IF(L3116=\"\",\"\",N3115+(H3116-H3115)/3*(L3115+L3116+(L3115*L3116)^0.5)),N3115+(G3116-G3115)/3*(K3115+K3116+(K3115*K3116)^0.5)))","v":""},{"$f":"IF(N3116=\"\",\"\",N3116/43560)","v":""}]

{"sheet":"Outlet Structure","index":2,"n_rows":4609,"n_cols":156,"rows_kept":1125,"cut":true,"hidden":false,"merged":[[59,1,59,9],[1,32,1,42],[1,10,1,20],[84,43,85,43],[84,27,84,42],[13,33,13,34],[14,33,14,34],[15,33,15,34],[16,33,16,34],[17,33,17,34],[18,33,18,34],[19,33,19,34],[20,33,20,34],[21,33,21,34],[22,33,22,34],[12,33,12,34],[83,55,83,63],[83,44,83,54],[0,0,0,9],[0,10,0,20],[0,21,0,31],[1,0,1,9],[2,1,2,9],[3,1,3,9],[0,32,0,42],[5,33,6,34],[7,33,7,34],[8,33,8,34],[9,33,9,34],[10,33,10,34],[11,33,11,34],[24,33,24,34],[25,33,25,34],[26,33,26,34],[27,33,27,34],[23,33,23,34],[28,33,28,34],[29,33,29,34],[30,33,30,34],[31,33,31,34],[32,33,32,34],[33,33,33,34],[34,33,34,34],[35,33,35,34],[36,33,36,34],[37,33,37,34],[38,33,38,34],[39,33,39,34],[40,33,40,34],[41,33,41,34],[42,33,42,34],[43,33,43,34],[44,33,44,34],[45,33,45,34],[46,33,46,34],[47,33,47,34],[48,33,48,34],[49,33,49,34],[50,33,50,34],[51,33,51,34],[52,33,52,34],[53,33,53,34],[54,33,54,34],[55,33,55,34],[56,33,56,34],[57,33,57,34],[58,33,58,34],[77,33,77,34],[78,33,78,34],[59,33,59,34],[60,33,60,34],[61,33,61,34],[62,33,62,34],[63,33,63,34],[79,33,79,34],[2,131,2,132],[7,41,15,42],[71,33,71,34],[72,33,72,34],[73,33,73,34],[74,33,74,34],[75,33,75,34],[66,33,66,34],[67,33,67,34],[68,33,68,34],[69,33,69,34],[70,33,70,34],[64,33,64,34],[65,33,65,34],[76,33,76,34]],"bounds":{"rows_first":500,"rows_last":125,"rows_between":500,"halvings":2}}
["DETENTION BASIN OUTLET STRUCTURE DESIGN",null,null,null,null,null,null,null,null,null,{"$f":"A1","v":"DETENTION BASIN OUTLET STRUCTURE DESIGN"},null,null,null,null,null,null,null,null,null,null,{"$f":"K1","v":"DETENTION BASIN OUTLET STRUCTURE DESIGN"},null,null,null,null,null,null,null,null,null,null,{"$f":"V1","v":"DETENTION BASIN OUTLET STRUCTURE DESIGN"},null,null,null,null,null,null,null,null,null,null,null,null,null,"Worksheet Protected"]
[{"$f":"Version_Release","v":"MHFD-Detention, Version 4.04 (February 2021)"},null,null,null,null,null,null,null,null,null,{"$f":"Version_Release","v":"MHFD-Detention, Version 4.04 (February 2021)"},null,null,null,null,null,null,null,null,null,null,null,null,null,null,null,"Outflow Hydrograph Workbook Filename:",null,null,null,null,null,{"$f":"Version_Release","v":"MHFD-Detention, Version 4.04 (February 2021)"}]
["  Project:",{"$f":"IF(Basin_ProjectName=\"\",\"\",Basin_ProjectName)","v":""},null,null,null,null,null,null,null,null,null,"COUNTA for Basin Tab =",{"$f":"IF(COUNTA=0,0,IF(User_Stage_Area=1,IF(Equal_SA_Inputs=0,0,1),1))","v":0},"Ao","Dia",null,"WQ Plate Type",null,"Vert Orifice 1","Vert Orifice 2",null,null,null,null,null,null,null,null,null,null,null,null,null,"Summary Stage-Area-Volume-Discharge Relationships"]
["  Basin ID:",{"$f":"IF(Basin_BasinID=\"\",\"\",Basin_BasinID)","v":""},null,null,null,null,null,null,null,null,null,"Count_Underdrain =",{"$f":"IF(AND(Zone1_Outlet_Type=2,COUNT(B12:B13)=2),1,0)","v":0},0.11,"(diameter = 3/8 inch)",null,{"$f":"IF(OR(Zone1_Outlet_Type=4,Zone2_Outlet_Type=4),3,IF(OR(Zone1_Outlet_Type=3,Zone2_Outlet_Type=3),2,1))","v":1},null,{"$f":"IF(B32=\"Not Selected\",\nIF(OR(AND(Orifice1_Invert=\"\",Orifice1_Depth=\"\",Orifice1_Height=\"\"),AND(Orifice1_Invert=\"N/A\",Orifice1_Depth=\"N/A\",Orifice1_Height=\"N/A\")),1,IF(Orifice1_Width=\"\",2,3)),\nIF(OR(B32=\"Zone 1 Circular\",B32=\"Zone 2 Circular\",B32=\"Zone 3 Circular\"),2,3))","v":1},{"$f":"IF(C32=\"Not Selected\",\nIF(OR(AND(Orifice2_Invert=\"\",Orifice2_Depth=\"\",Orifice2_Height=\"\"),AND(Orifice2_Invert=\"N/A\",Orifice2_Depth=\"N/A\",Orifice2_Height=\"N/A\")),1,IF(Orifice2_Width=\"\",2,3)),\nIF(OR(C32=\"Zone 2 Circular\",C32=\"Zone 3 Circular\"),2,3))","v":1},null,null,"Inflow Hydrographs",null,null,null,null,null,null,null,null,null,null,"The user can create a summary S-A-V-D by entering the desired stage increments and the remainder of the table will populate automatically."]
[null,null,null,null,"Estimated","Estimated",null,null,null,null,null,"Count_WQPlate =",{"$f":"IF(Plate_Type=1,0,IF(Plate_Type=2,IF(COUNT(B16:B17,B24)+COUNTA(B18:B19,B25)=6,1,0),IF(COUNT(B16:B20)=5,1,0)))","v":0},0.14000000000000001,"(diameter = 7/16 inch)",null,null,null,null,null,null,null,"The user can override the calculated inflow hydrographs from this workbook with inflow hydrographs developed in a separate program.",null,null,null,null,null,null,null,null,null,null,"The user should graphically compare the summary S-A-V-D table to the full S-A-V-D table in the chart to confirm it captures all key transition points."]
[null,null,null,null,"Stage (ft)","Volume (ac-ft)","Outlet Type",null,null,null,null,"Count_VertOrifice1 =",{"$f":"IF(VertOrifice1_Type=1,0,IF(VertOrifice1_Type=2,IF(COUNT(B33:B35)=3,1,0),IF(COUNT(B33:B36)=4,1,0)))","v":0},0.18,"(diameter = 1/2 inch)",null,"Outlet Plate 1","Outlet Plate 2",null,"Drain Time Message","Boolean",{"$f":"IF(Time_Interval_Boolean=TRUE,\"User-Defined\",\"\")","v":""},"SOURCE",{"$f":"IF(OR(X8=\"\",B63=\"\"),\"\",IF(SUM(X8:X80)=SUM(B4536:B4608),IF(MAX(X8:X80)=MAX(B4536:B4608),\"CUHP\"),\"USER\"))","v":""},"","","","","","","","",null,"Stage - Storage\nDescription",null,"Stage","Area","Area","Volume","Volume","Total\nOutflow"]
[null,null,null,{"$f":"Basin!R24","v":"Zone 1"},{"$f":"IF(Basin_CountA=0,\"\",Z1_Stage)","v":""},{"$f":"IF(Basin_CountA=0,\"\",IF(VOL_REQ1=\"\",\"\",VOL_REQ1))","v":""},{"$f":"IF(Zone1_Outlet_Type=1,\"\",IF(Zone1_Outlet_Type=2,\"Filtration Media\",IF(Zone1_Outlet_Type=3,\"Orifice Plate\",IF(Zone1_Outlet_Type=4,\"Elliptical Slot\",IF(Zone1_Outlet_Type=5,\"Circular Orifice\",IF(Zone1_Outlet_Type=6,\"Rectangular Orifice\",IF(Zone1_Outlet_Type=7,\"Weir&Pipe (Circular)\",IF(Zone1_Outlet_Type=8,\"Weir&Pipe (Restrict)\",IF(Zone1_Outlet_Type=9,\"Weir&Pipe (Rect.)\",\"Weir (No Pipe)\")))))))))","v":""},null,null,null,null,"Count_VertOrifice2 =",{"$f":"IF(VertOrifice2_Type=1,0,IF(VertOrifice2_Type=2,IF(COUNT(C33:C35)=3,1,0),IF(COUNT(C33:C36)=4,1,0)))","v":0},0.24,"(diameter = 9/16 inch)",null,{"$f":"IF(B48=\"Not Selected\",IF(OR(AND(Outlet1_Orifice_Invert=\"\",Outlet1_Dia_Span=\"\"),AND(Outlet1_Orifice_Invert=\"N/A\",Outlet1_Dia_Span=\"N/A\")),1,IF(Outlet1_Rise=\"\",2,3)),IF(OR(B48=\"Zone 1 Circular\",B48=\"Zone 2 Circular\",B48=\"Zone 3 Circular\"),2,IF(OR(B48=\"Zone 1 Rectangular\",B48=\"Zone 2 Rectangular\",B48=\"Zone 3 Rectangular\"),3,4)))","v":1},{"$f":"IF(C48=\"Not Selected\",IF(OR(AND(Outlet2_Orifice_Invert=\"\",Outlet2_Dia_Span=\"\"),AND(Outlet2_Orifice_Invert=\"N/A\",Outlet2_Dia_Span=\"N/A\")),1,Outlet_Pipe1_Type),IF(OR(C48=\"Zone 2 Circular\",C48=\"Zone 3 Circular\"),2,IF(OR(C48=\"Zone 2 Rectangular\",C48=\"Zone 3 Rectangular\"),3,4)))","v":1},"5yr, <72hr",{"$f":"IF(OR(Draintime_5yr_97percent=\"\",Z1_Boolean=0,Z2_Boolean=0,Z3_Boolean=0),\"\",IF(Draintime_5yr_97percent<72,\"\",1))","v":""},0,"Time Interval","TIME","WQCV [cfs]","EURV [cfs]","2 Year [cfs]","5 Year [cfs]","10 Year [cfs]","25 Year [cfs]","50 Year [cfs]","100 Year [cfs]","500 Year [cfs]",null,null,null,"[ft]","[ft 2]","[acres]","[ft 3]","[ac-ft]","[cfs]"]
[null,null,null,{"$f":"Basin!R25","v":"Zone 2"},{"$f":"IF(Basin_CountA=0,\"\",IF(Z2_Stage=0,\"\",Z2_Stage))","v":""},{"$f":"IF(Basin_CountA=0,\"\",IF(VOL_REQ2=\"\",\"\",VOL_REQ2))","v":""},{"$f":"IF(Zone2_Outlet_Type=1,\"\",IF(Zone2_Outlet_Type=2,\"Filtration Media\",IF(Zone2_Outlet_Type=3,\"Orifice Plate\",IF(Zone2_Outlet_Type=4,\"Elliptical Slot\",\nIF(Zone2_Outlet_Type=5,\"Circular Orifice\",IF(Zone2_Outlet_Type=6,\"Rectangular Orifice\",IF(Zone2_Outlet_Type=7,\"Weir&Pipe (Circular)\",\nIF(Zone2_Outlet_Type=8,\"Weir&Pipe (Restrict)\",IF(Zone2_Outlet_Type=9,\"Weir&Pipe (Rect.)\",IF(Zone2_Outlet_Type=10,\"Weir (No Pipe)\",\"Not Utilized\"))))))))))","v":""},null,null,null,null,"Count_Weir1 =",{"$f":"IF(AND(COUNT(B40:B43,B45)=5,Weir1_Grate_Type>1),1,\nIF(AND(COUNT(B40:B42)=3,B43=\"N/A\",Weir1_Grate_Type=5,B45=\"N/A\"),1,0))","v":0},0.28999999999999998,"(diameter = 5/8 inch)",null,null,null,">5yr, <120hr",{"$f":"IF(OR(Draintime_10yr_99percent=\"\",Draintime_25yr_99percent=\"\",Draintime_50yr_99percent=\"\",Draintime_100yr_99percent=\"\",Draintime_500yr_99percent=\"\",Z1_Boolean=0,Z2_Boolean=0,Z3_Boolean=0),\"\",IF(AND(Draintime_10yr_99percent<120,Draintime_25yr_99percent<120,Draintime_50yr_99percent<120,Draintime_100yr_99percent<120,Draintime_500yr_99percent<120),\"\",1))","v":""},0,5,"00:00:00","","","","","","","","","",null,null,null,null,{"$f":"IF(Basin_CountA=0,\"\",IF($AJ8=\"\",\"\",VLOOKUP($AJ8,$B$87:$X$3087,2)))","v":""},{"$f":"IF(Basin_CountA=0,\"\",IF($AJ8=\"\",\"\",AK8/43560))","v":""},{"$f":"IF(Basin_CountA=0,\"\",IF($AJ8=\"\",\"\",VLOOKUP($AJ8,$B$87:$X$3087,3)))","v":""},{"$f":"IF(Basin_CountA=0,\"\",IF($AJ8=\"\",\"\",AM8/43560))","v":""},{"$f":"IF(Basin_CountA=0,\"\",IF($AJ8=\"\",\"\",VLOOKUP($AJ8,$B$87:$X$3087,23)))","v":""},"For best results, include the stages of all grade slope changes (e.g. ISV and Floor) from the S-A-V table on \nSheet 'Basin'. \n\nAlso include the inverts of all outlets (e.g. vertical orifice, overflow grate, and spillway, where applicable)."]
[null,null,null,{"$f":"Basin!R26","v":"Zone 3"},{"$f":"IF(Basin_CountA=0,\"\",IF(Z3_Stage=0,\"\",Z3_Stage))","v":""},{"$f":"IF(Basin_CountA=0,\"\",IF(VOL_REQ3=\"\",\"\",VOL_REQ3))","v":""},{"$f":"IF(Zone3_Outlet_Type=1,\"\",IF(Zone3_Outlet_Type=2,\"Circular Orifice\",IF(Zone3_Outlet_Type=3,\"Rectangular Orifice\",IF(Zone3_Outlet_Type=4,\"Weir&Pipe (Circular)\",IF(Zone3_Outlet_Type=5,\"Weir&Pipe (Restrict)\",IF(Zone3_Outlet_Type=6,\"Weir&Pipe (Rect.)\",IF(Zone3_Outlet_Type=7,\"Weir (No Pipe)\",\"Not Utilized\")))))))","v":""},null,null,null,null,"Count_Weir2 =",{"$f":"IF(AND(COUNT(C40:C43,C45)=5,Weir2_Grate_Type>1),1,\nIF(AND(COUNT(C40:C42)=3,C43=\"N/A\",Weir2_Grate_Type=5,C45=\"N/A\"),1,0))","v":0},0.36,"(diameter = 11/16 inch)",null,null,"Max Depth Row",null,null,null,null,{"$f":"W8+Time_Interval/(60*24)","v":"00:05:00"},"","",null,null,null,null,null,null,null,null,null,null,null,"","","","",""]
[null,null,null,null,"Total (all zones)",{"$f":"IF(F7=\"\",\"\",SUM(F7:F9))","v":""},null,null,null,null,null,"Count_OutletPipe1 =",{"$f":"IF(Outlet_Pipe1_Type=1,0,IF(Outlet_Pipe1_Type=2,IF(COUNT(B49:B50)=2,1,0),IF(COUNT(B49:B51)=3,1,0)))","v":0},0.42,"(diameter = 3/4 inch)",null,"WQCV",{"$f":"MATCH(ROUND(B$76,2),$B$87:$B$3087)","v":{"$error":"#VALUE!"}},null,"Watershed Constraint Check",null,null,"00:10:00","","",null,null,null,null,null,null,null,null,null,null,null,"","","","",""]
["User Input: Orifice at Underdrain Outlet (typically used to drain WQCV in a Filtration BMP)",null,null,null,null,null,null,"Calculated Parameters for Underdrain",null,null,null,"Count_OutletPipe2 =",{"$f":"IF(Outlet_Pipe2_Type=1,0,IF(Outlet_Pipe2_Type=2,IF(COUNT(C49:C50)=2,1,0),IF(COUNT(C49:C51)=3,1,0)))","v":0},0.5,"(diameter = 13/16 inch)",null,"2 Year",{"$f":"MATCH(ROUND(D$76,2),$B$87:$B$3087)","v":{"$error":"#VALUE!"}},"Slope",{"$f":"IF(Watershed_Slope<0.01,0.01,IF(Watershed_Slope>0.04,0.04,Watershed_Slope))","v":0.01},null,null,"00:15:00","","",null,null,null,null,null,null,null,null,null,null,null,"","","","",""]
["Underdrain Orifice Invert Depth =",null,"ft (distance below the filtration media surface)",null,null,null,"Underdrain Orifice Area =",{"$f":"IF(Underdrain_Diameter=\"N/A\",\"N/A\",IF(Underdrain_Diameter=\"\",\"\",PI()*Underdrain_Diameter^2/4/144))","v":""},"ft2",null,null,"COUNTA_2 (Standard FSD Setup)=",{"$f":"IF(AND(Basin_CountA=1,OR(Count_Underdrain=1,Count_WQPlate=1),Count_Weir1=1,Count_OutletPipe1=1),1,0)","v":0},0.57999999999999996,"(diameter = 7/8 inch)",null,"EURV",{"$f":"MATCH(ROUND(C$76,2),$B$87:$B$3087)","v":{"$error":"#VALUE!"}},"Shape",{"$f":"IF((Watershed_Length^2/(Watershed_Area*43560))<1,1,IF((Watershed_Length^2/(Watershed_Area*43560))>6,6,(Watershed_Length^2/(Watershed_Area*43560))))","v":{"$error":"#DIV/0!"}},null,null,"00:20:00","","",null,null,null,null,null,null,null,null,null,null,null,"","","","",""]
["Underdrain Orifice Diameter =",null,"inches",null,null,null,"Underdrain Orifice Centroid =",{"$f":"IF(Underdrain_Diameter=\"N/A\",\"N/A\",IF(Underdrain_Diameter=\"\",\"\",Underdrain_Diameter/2/12))","v":""},"feet",null,null,null,"Hidden Parameters & Calculations",0.67,"(diameter = 15/16 inch)",null,"5 Year",{"$f":"MATCH(ROUND(E$76,2),$B$87:$B$3087)","v":{"$error":"#VALUE!"}},null,null,null,null,"00:25:00","","",null,null,null,null,null,null,null,null,null,null,null,"","","","",""]
[null,null,null,null,null,null,null,null,null,null,null,"MaxPondDepth_Error?",{"$f":"ISERROR(MaxPondDepth)","v":false},0.76,"(diameter = 1 inch)",null,"10 Year",{"$f":"MATCH(ROUND(F$76,2),$B$87:$B$3087)","v":{"$error":"#VALUE!"}},null,"Spillway Depth",null,null,"00:30:00","","",null,null,null,null,null,null,null,null,null,null,null,"","","","",""]
["User Input:  Orifice Plate with one or more orifices or Elliptical Slot Weir (typically used to drain WQCV and/or EURV in a sedimentation BMP)",null,null,null,null,null,null,"Calculated Parameters for Plate",null,null,null,"Cd_Broad-Crested Weir",3,0.86,"(diameter = 1-1/16 inches)",null,"25 Year",{"$f":"MATCH(ROUND(G$76,2),$B$87:$B$3087)","v":{"$error":"#VALUE!"}},null,null,null,null,"00:35:00","","",null,null,null,null,null,null,null,null,null,null,null,"","","","",""]
[{"$f":"IF(OR(Zone1_Outlet_Type=4,Zone2_Outlet_Type=4),\"Invert of Elliptical Slot =\",\"Invert of Lowest Orifice =\")","v":"Invert of Lowest Orifice ="},null,"ft (relative to basin bottom at Stage = 0 ft)",null,null,null,{"$f":"IF(COUNTA(AB84:AQ84)=0,\"WQ Orifice Area per Row =\",\"WQ Orifice Area CHECK CELLS AB84:BE84\")","v":"WQ Orifice Area per Row ="},{"$f":"IF(OR(Plate_Type=3,Ao_or_ESLOT_W=\"\",Ao_or_ESLOT_W=\"N/A\"),\"N/A\",Ao_or_ESLOT_W/144)","v":"N/A"},"ft2",null,null,"WQ Plate Flow at 100yr depth =",{"$f":"VLOOKUP(MaxPondDepth,B87:J3087,7)","v":""},0.97,"(diameter = 1-1/8 inches)",null,"50 Year",{"$f":"MATCH(ROUND(H$76,2),$B$87:$B$3087)","v":{"$error":"#VALUE!"}},null,null,null,null,"00:40:00","","",null,null,null,null,null,null,null,null,null,null,null,"","","","",""]
[{"$f":"IF(OR(Zone1_Outlet_Type=4,Zone2_Outlet_Type=4),\"Depth at top of zone using Elliptical Slot =\",\"Depth at top of Zone using Orifice Plate =\")","v":"Depth at top of Zone using Orifice Plate ="},null,"ft (relative to basin bottom at Stage = 0 ft)",null,null,null,"Elliptical Half-Width =",{"$f":"IF(OR(Plate_Type<>3,Ao_OC_or_ESLOT_H=\"\",Ao_OC_or_ESLOT_H=\"N/A\",ESLOT_RATIO=\"\"),\"N/A\",Ao_OC_or_ESLOT_H/ESLOT_RATIO)","v":"N/A"},"feet",null,null,"CLOG #1=",{"$f":"IF(Weir1_Additional_Clogging=\"N/A\",\"N/A\",1-Weir1_Additional_Clogging)","v":1},1.08,"(diameter = 1-3/16 inches)",null,"100 Year",{"$f":"MATCH(ROUND(I$76,2),$B$87:$B$3087)","v":{"$error":"#VALUE!"}},null,{"$f":"IF(Zone1_Outlet_Type=1,0,\nIF(Zone1_Outlet_Type=2,IF(Count_Underdrain=1,1,0),\nIF(OR(Zone1_Outlet_Type=3,Zone1_Outlet_Type=4),IF(Count_WQPlate=1,1,0),\nIF(OR(Zone1_Outlet_Type=5,Zone1_Outlet_Type=6),IF(Count_VertOrifice1=1,1,0),\nIF(OR(Zone1_Outlet_Type=7,Zone1_Outlet_Type=8,Zone1_Outlet_Type=9),IF(AND(Count_Weir1=1,Count_OutletPipe1=1),1,0),\nIF(Zone1_Outlet_Type=10,IF(Count_Weir1=1,1,0),0))))))","v":0},"Z1_Boolean",null,"00:45:00","","",null,null,null,null,null,null,null,null,null,null,null,"","","","",""]
[{"$f":"IF(OR(Zone1_Outlet_Type=4,Zone2_Outlet_Type=4),\"Elliptical Slot Height =\",\"Orifice Plate: Orifice Vertical Spacing =\")","v":"Orifice Plate: Orifice Vertical Spacing ="},null,{"$f":"IF(OR(Zone1_Outlet_Type=4,Zone2_Outlet_Type=4),\"feet\",\"inches\")","v":"inches"},null,null,null,"Elliptical Slot Centroid =",{"$f":"IF(OR(Plate_Type<>3,Ao_OC_or_ESLOT_H=\"\", Ao_OC_or_ESLOT_H=\"N/A\",Ao_or_ESLOT_W=\"\",Ao_or_ESLOT_W=\"N/A\"),\"N/A\",(Ao_OC_or_ESLOT_H/2*(2*EWWidth+Ao_or_ESLOT_W/12)-2*Ao_OC_or_ESLOT_H*EWWidth/3)/(2*EWWidth+Ao_or_ESLOT_W/12-PI()*EWWidth/2))","v":"N/A"},"feet",null,null,"n*Cdw #1 =",{"$f":"IF(Angle1=\"N/A\",\"N/A\",IF(Angle1=\"\",\"\",Weir1_Cdw_a*Angle1^2 - Weir1_Cdw_b*Angle1 + Weir1_Cdw_c))","v":0},1.2,"(diameter = 1-1/4 inches)",null,"500 Year",{"$f":"MATCH(ROUND(J$76,2),$B$87:$B$3087)","v":{"$error":"#VALUE!"}},null,{"$f":"IF(Zone2_Outlet_Type=1,IF(Z2_Volume_Outlet=\"\",1,0),\nIF(Zone2_Outlet_Type=2,IF(Count_Underdrain=1,1,0),\nIF(OR(Zone2_Outlet_Type=3,Zone2_Outlet_Type=4),IF(Count_WQPlate=1,1,0),\nIF(OR(Zone2_Outlet_Type=5,Zone2_Outlet_Type=6),IF(OR(Zone1_Outlet_Type=5,Zone1_Outlet_Type=6),IF(Count_VertOrifice2=1,1,0),IF(Count_VertOrifice1=1,1,0)),\nIF(OR(Zone2_Outlet_Type=7,Zone2_Outlet_Type=8,Zone2_Outlet_Type=9),IF(OR(Zone1_Outlet_Type=7,Zone1_Outlet_Type=8,Zone1_Outlet_Type=9),IF(AND(Count_Weir2=1,Count_OutletPipe2=1),1,0),IF(AND(Count_Weir1=1,Count_OutletPipe1=1),1,0)),\nIF(Zone2_Outlet_Type=10,IF(OR(Zone1_Outlet_Type=7,Zone1_Outlet_Type=8,Zone1_Outlet_Type=9,Zone1_Outlet_Type=10),IF(Count_Weir2=1,1,0),IF(Count_Weir1=1,1,0)),\nIF(Zone2_Outlet_Type=11,1,0)))))))","v":1},"Z2_Boolean",null,"00:50:00","","",null,null,null,null,null,null,null,null,null,null,null,"","","","",""]
[{"$f":"IF(OR(Zone1_Outlet_Type=4,Zone2_Outlet_Type=4),\"Elliptical Slot Gap Width =\",\"Orifice Plate: Orifice Area per Row =\")","v":"Orifice Plate: Orifice Area per Row ="},null,{"$f":"IF(Ao_or_ESLOT_W=\"N/A\",\"inches\",\nIF(AND(OR(Zone1_Outlet_Type=3,Zone2_Outlet_Type=3),Ao_or_ESLOT_W=\"\"),\"sq. inches\",\nIF(AND(OR(Zone1_Outlet_Type=4,Zone2_Outlet_Type=4),Ao_or_ESLOT_W=\"\"),\"inches\",\nIF(AND(OR(Zone1_Outlet_Type=3,Zone2_Outlet_Type=3),(4*Ao_or_ESLOT_W/PI())^0.5<0.375),\"sq. inches - area too small, increase vertical spacing\",\nIF(AND(OR(Zone1_Outlet_Type=4,Zone2_Outlet_Type=4),Ao_or_ESLOT_W<0.375),\"Gap width too small, use WQ orifice plate\",\nIF(OR(Zone1_Outlet_Type=3,Zone2_Outlet_Type=3),\"sq. inches \"&VLOOKUP(Ao_or_ESLOT_W,decimal_to_nominal_table,2),\"inches\"))))))","v":"inches"},null,null,null,"Elliptical Slot Area =",{"$f":"IF(OR(Plate_Type<>3,Ao_OC_or_ESLOT_H=\"\",Ao_OC_or_ESLOT_H=\"N/A\",Ao_or_ESLOT_W=\"\",Ao_or_ESLOT_W=\"N/A\"),\"N/A\",(Ao_OC_or_ESLOT_H*(2*EWWidth+Ao_or_ESLOT_W/12))-(PI()*Ao_OC_or_ESLOT_H*EWWidth/2))","v":"N/A"},"ft2",null,null,"n*Cdo #1 =",{"$f":"IF(Angle1=\"N/A\",\"N/A\",IF(Angle1=\"\",\"\",Weir1_Cdo_a*Angle1^2 - Weir1_Cdo_b*Angle1 + Weir1_Cdo_c))","v":0},1.32,"(diameter = 1-5/16 inches)",null,null,"Zone3_Pulldown Message",null,{"$f":"IF(Zone3_Outlet_Type=1,IF(Z3_Volume_Outlet=\"\",1,0),\nIF(OR(Zone3_Outlet_Type=2,Zone3_Outlet_Type=3),IF(OR(Zone1_Outlet_Type=5,Zone1_Outlet_Type=6,Zone2_Outlet_Type=5,Zone2_Outlet_Type=6),IF(Count_VertOrifice2=1,1,0),IF(Count_VertOrifice1=1,1,0)),\nIF(OR(Zone3_Outlet_Type=4,Zone3_Outlet_Type=5,Zone3_Outlet_Type=6),IF(OR(Zone1_Outlet_Type=7,Zone1_Outlet_Type=8,Zone1_Outlet_Type=9,Zone2_Outlet_Type=7,Zone2_Outlet_Type=8,Zone2_Outlet_Type=9),IF(AND(Count_Weir2=1,Count_OutletPipe2=1),1,0),IF(AND(Count_Weir1=1,Count_OutletPipe1=1),1,0)),\nIF(Zone3_Outlet_Type=7,IF(OR(Zone1_Outlet_Type=7,Zone1_Outlet_Type=8,Zone1_Outlet_Type=9,Zone1_Outlet_Type=10,Zone2_Outlet_Type=7,Zone2_Outlet_Type=8,Zone2_Outlet_Type=9,Zone2_Outlet_Type=10),IF(Count_Weir2=1,1,0),IF(Count_Weir1=1,1,0)),\nIF(Zone3_Outlet_Type=8,1,0)))))","v":1},"Z3_Boolean",null,"00:55:00","","",null,null,null,null,null,null,null,null,null,null,null,"","","","",""]
[{"$f":"IF(OR(Zone1_Outlet_Type=4,Zone2_Outlet_Type=4),\"Elliptical Slot Axis Ratio =\",\"\")","v":""},null,{"$f":"IF(A20=\"\",\"\",\"ratio of axes (from 10 to 16)\")","v":""},null,null,null,null,null,null,null,null,"Overflow Weir #1 Angle =",{"$f":"IF(Weir1_Grate_Slope=\"N/A\",\"N/A\",IF(Weir1_Grate_Slope=0,0,ATAN(1/Weir1_Grate_Slope)))","v":0},1.45,"(diameter = 1-3/8 inches)",null,null,"Opening Message",null,null,null,null,"01:00:00","","",null,null,null,null,null,null,null,null,null,null,null,"","","","",""]
[null,null,null,null,null,null,null,null,null,null,null,"CLOG #2=",{"$f":"IF(Weir2_Additional_Clogging=\"N/A\",\"N/A\",1-Weir2_Additional_Clogging)","v":1},1.59,"(diameter = 1-7/16 inches)",null,null,"Draintime Running",null,null,null,null,"01:05:00","","",null,null,null,null,null,null,null,null,null,null,null,"","","","",""]
["User Input:  Stage and Total Area of Each Orifice Row (numbered from lowest to highest)",null,null,null,null,null,null,null,null,null,null,"n*Cdw #2 =",{"$f":"IF(Angle2=\"N/A\",\"N/A\",IF(Angle2=\"\",\"\",Weir2_Cdw_a*Angle2^2 - Weir2_Cdw_b*Angle2 + Weir2_Cdw_c))","v":0},1.73,"(diameter = 1-1/2 inches)",null,"Outlet Boolean","Outlet Rank","Total (1 to 4)",null,null,null,"01:10:00","","",null,null,null,null,null,null,null,null,null,null,null,"","","","",""]
[null,{"$f":"IF(Zone1_Outlet_Type=3,\"Row 1 (required)\",IF(Zone2_Outlet_Type=3,\"Row 1 (required)\",\"Row 1 (optional)\"))","v":"Row 1 (optional)"},"Row 2 (optional)","Row 3 (optional)","Row 4 (optional)","Row 5 (optional)","Row 6 (optional)","Row 7 (optional)","Row 8 (optional)",null,null,"n*Cdo #2 =",{"$f":"IF(Angle2=\"N/A\",\"N/A\",IF(Angle2=\"\",\"\",Weir2_Cdo_a*Angle2^2 - Weir2_Cdo_b*Angle2 + Weir2_Cdo_c))","v":0},1.88,"(diameter = 1-9/16 inches)","Vertical Orifice 1",{"$f":"IF(OR(Orifice1_Invert=\"\",Orifice1_Invert=\"N/A\",Orifice1_Depth=\"\",Orifice1_Depth=\"N/A\",Orifice1_Height=\"\",Orifice1_Height=\"N/A\",AND(VertOrifice1_Type=3,Orifice1_Width=\"\")),0,1)","v":0},{"$f":"IF(Vertical_Orifice1_Boolean=0,0,\nIF(Outlet_Boolean_Total=1,1,\n\nIF(Outlet_Boolean_Total=2,IF(Vertical_Orifice2_Boolean=1,IF(Orifice1_Invert<Orifice2_Invert,1,2),IF(Overflow_Weir1_Boolean=1,IF(Orifice1_Invert<Weir1_Ho,1,2),IF(Orifice1_Invert<Weir2_Ho,1,2))),\n\nIF(Outlet_Boolean_Total=3,IF(AND(Vertical_Orifice2_Boolean=1,Overflow_Weir1_Boolean=1),IF(AND(Orifice1_Invert<Orifice2_Invert,Orifice1_Invert<Weir1_Ho),1,IF(OR(Orifice1_Invert<Orifice2_Invert,Orifice1_Invert<Weir1_Ho),2,3)),IF(AND(Vertical_Orifice2_Boolean=1,Overflow_Weir2_Boolean=1),IF(AND(Orifice1_Invert<Orifice2_Invert,Orifice1_Invert<Weir2_Ho),1,IF(OR(Orifice1_Invert<Orifice2_Invert,Orifice1_Invert<Weir2_Ho),2,3)),IF(AND(Orifice1_Invert<Weir1_Ho,Orifice1_Invert<Weir2_Ho),1,IF(OR(Orifice1_Invert<Weir1_Ho,Orifice1_Invert<Weir2_Ho),2,3)))),\n\nIF(Outlet_Boolean_Total=4,IF(AND(Orifice1_Invert<Orifice2_Invert,Orifice1_Invert<Weir1_Ho,Orifice1_Invert<Weir2_Ho),1,\nIF(OR(AND(Orifice1_Invert<Orifice2_Invert,Orifice1_Invert<Weir1_Ho),AND(Orifice1_Invert<Orifice2_Invert,Orifice1_Invert<Weir2_Ho),AND(Orifice1_Invert<Weir1_Ho,Orifice1_Invert<Weir2_Ho)),2,IF(OR(Orifice1_Invert<Orifice2_Invert,Orifice1_Invert<Weir1_Ho,Orifice1_Invert<Weir2_Ho),3,4))))))))","v":0},{"$f":"SUM(Q23:Q26)","v":0},null,null,null,"01:15:00","","",null,null,null,null,null,null,null,null,null,null,null,"","","","",""]
["Stage of Orifice Centroid (ft)",null,null,null,null,null,null,null,null,null,null,"Overflow Weir #2 Angle =",{"$f":"IF(Weir2_Grate_Slope=\"N/A\",\"N/A\",IF(Weir2_Grate_Slope=0,0,ATAN(1/Weir2_Grate_Slope)))","v":0},2.0299999999999998,"(diameter = 1-5/8 inches)","Vertical Orifice 2",{"$f":"IF(OR(Orifice2_Invert=\"\",Orifice2_Invert=\"N/A\",Orifice2_Depth=\"\",Orifice2_Depth=\"N/A\",Orifice2_Height=\"\",Orifice2_Height=\"N/A\",AND(VertOrifice2_Type=3,Orifice2_Width=\"\")),0,1)","v":0},{"$f":"IF(Vertical_Orifice2_Boolean=0,0,\nIF(Outlet_Boolean_Total=1,1,\n\nIF(Outlet_Boolean_Total=2,IF(Vertical_Orifice1_Boolean=1,IF(Orifice2_Invert<Orifice1_Invert,1,2),IF(Overflow_Weir1_Boolean=1,IF(Orifice2_Invert<Weir1_Ho,1,2),IF(Orifice2_Invert<Weir2_Ho,1,2))),\n\nIF(Outlet_Boolean_Total=3,IF(AND(Vertical_Orifice1_Boolean=1,Overflow_Weir1_Boolean=1),IF(AND(Orifice2_Invert<Orifice1_Invert,Orifice2_Invert<Weir1_Ho),1,IF(OR(Orifice2_Invert<Orifice1_Invert,Orifice2_Invert<Weir1_Ho),2,3)),IF(AND(Vertical_Orifice1_Boolean=1,Overflow_Weir2_Boolean=1),IF(AND(Orifice2_Invert<Orifice1_Invert,Orifice2_Invert<Weir2_Ho),1,IF(OR(Orifice2_Invert<Orifice1_Invert,Orifice2_Invert<Weir2_Ho),2,3)),IF(AND(Orifice2_Invert<Weir1_Ho,Orifice2_Invert<Weir2_Ho),1,IF(OR(Orifice2_Invert<Weir1_Ho,Orifice2_Invert<Weir2_Ho),2,3)))),\n\nIF(Outlet_Boolean_Total=4,IF(AND(Orifice2_Invert<Orifice1_Invert,Orifice2_Invert<Weir1_Ho,Orifice2_Invert<Weir2_Ho),1,\nIF(OR(AND(Orifice2_Invert<Orifice1_Invert,Orifice2_Invert<Weir1_Ho),AND(Orifice2_Invert<Orifice1_Invert,Orifice2_Invert<Weir2_Ho),AND(Orifice2_Invert<Weir1_Ho,Orifice2_Invert<Weir2_Ho)),2,IF(OR(Orifice2_Invert<Orifice1_Invert,Orifice2_Invert<Weir1_Ho,Orifice2_Invert<Weir2_Ho),3,4))))))))","v":0},null,"Boolean",null,null,"01:20:00","","",null,null,null,null,null,null,null,null,null,null,null,"","","","",""]
["Orifice Area (sq. inches)",null,null,null,null,null,null,null,null,null,null,"Underdrain Q at 100yr depth =",{"$f":"VLOOKUP(MaxPondDepth,B87:J3087,6)","v":""},2.2000000000000002,"(diameter = 1-11/16 inches)","Overflow Weir 1",{"$f":"IF(OR(Weir1_Ho=\"\",Weir1_Ho=\"N/A\",Weir1_W=\"\",Weir1_W=\"N/A\",Weir1_Grate_Slope=\"\",Weir1_Grate_Slope=\"N/A\",Weir1_horiz_length_of_grate=\"\",Weir1_Grate_Open_Area=\"\",Weir1_Additional_Clogging=\"\"),0,1)","v":0},{"$f":"IF(Overflow_Weir1_Boolean=0,0,\nIF(Outlet_Boolean_Total=1,1,\n\nIF(Outlet_Boolean_Total=2,IF(Vertical_Orifice1_Boolean=1,IF(Weir1_Ho<Orifice1_Invert,1,2),IF(Vertical_Orifice2_Boolean=1,IF(Weir1_Ho<Orifice2_Invert,1,2),IF(Weir1_Ho<Weir2_Ho,1,2))),\n\nIF(Outlet_Boolean_Total=3,IF(AND(Vertical_Orifice1_Boolean=1,Vertical_Orifice2_Boolean=1),IF(AND(Weir1_Ho<Orifice1_Invert,Weir1_Ho<Orifice2_Invert),1,IF(OR(Weir1_Ho<Orifice1_Invert,Weir1_Ho<Orifice2_Invert),2,3)),IF(AND(Vertical_Orifice1_Boolean=1,Overflow_Weir2_Boolean=1),IF(AND(Weir1_Ho<Orifice1_Invert,Weir1_Ho<Weir2_Ho),1,IF(OR(Weir1_Ho<Orifice1_Invert,Weir1_Ho<Weir2_Ho),2,3)),IF(AND(Weir1_Ho<Orifice2_Invert,Weir1_Ho<Weir2_Ho),1,IF(OR(Weir1_Ho<Orifice2_Invert,Weir1_Ho<Weir2_Ho),2,3)))),\n\nIF(Outlet_Boolean_Total=4,IF(AND(Weir1_Ho<Orifice1_Invert,Weir1_Ho<Orifice2_Invert,Weir1_Ho<Weir2_Ho),1,\nIF(OR(AND(Weir1_Ho<Orifice1_Invert,Weir1_Ho<Orifice2_Invert),AND(Weir1_Ho<Orifice1_Invert,Weir1_Ho<Weir2_Ho),AND(Weir1_Ho<Orifice2_Invert,Weir1_Ho<Weir2_Ho)),2,IF(OR(Weir1_Ho<Orifice1_Invert,Weir1_Ho<Orifice2_Invert,Weir1_Ho<Weir2_Ho),3,4))))))))","v":0},null,0,"Max Depth",null,"01:25:00","","",null,null,null,null,null,null,null,null,null,null,null,"","","","",""]
[null,null,null,null,null,null,null,null,null,null,null,"VertOrifice1 Q at 100yr depth =",{"$f":"VLOOKUP(MaxPondDepth,B87:J3087,8)","v":""},2.36,"(diameter = 1-3/4 inches)","Overflow Weir 2",{"$f":"IF(OR(Weir2_Ho=\"\",Weir2_Ho=\"N/A\",Weir2_W=\"\",Weir2_W=\"N/A\",Weir2_Grate_Slope=\"\",Weir2_Grate_Slope=\"N/A\",Weir2_horiz_length_of_grate=\"\",Weir2_Grate_Open_Area=\"\",Weir2_Additional_Clogging=\"\"),0,1)","v":0},{"$f":"IF(Overflow_Weir2_Boolean=0,0,\nIF(Outlet_Boolean_Total=1,1,\n\nIF(Outlet_Boolean_Total=2,IF(Vertical_Orifice1_Boolean=1,IF(Weir2_Ho<Orifice1_Invert,1,2),IF(Vertical_Orifice2_Boolean=1,IF(Weir2_Ho<Orifice2_Invert,1,2),IF(Weir2_Ho<Weir1_Ho,1,2))),\n\nIF(Outlet_Boolean_Total=3,IF(AND(Vertical_Orifice1_Boolean=1,Vertical_Orifice2_Boolean=1),IF(AND(Weir2_Ho<Orifice1_Invert,Weir2_Ho<Orifice2_Invert),1,IF(OR(Weir2_Ho<Orifice1_Invert,Weir2_Ho<Orifice2_Invert),2,3)),IF(AND(Vertical_Orifice1_Boolean=1,Overflow_Weir1_Boolean=1),IF(AND(Weir2_Ho<Orifice1_Invert,Weir2_Ho<Weir1_Ho),1,IF(OR(Weir2_Ho<Orifice1_Invert,Weir2_Ho<Weir1_Ho),2,3)),IF(AND(Weir2_Ho<Orifice2_Invert,Weir2_Ho<Weir1_Ho),1,IF(OR(Weir2_Ho<Orifice2_Invert,Weir2_Ho<Weir1_Ho),2,3)))),\n\nIF(Outlet_Boolean_Total=4,IF(AND(Weir2_Ho<Orifice1_Invert,Weir2_Ho<Orifice2_Invert,Weir2_Ho<Weir1_Ho),1,\nIF(OR(AND(Weir2_Ho<Orifice1_Invert,Weir2_Ho<Orifice2_Invert),AND(Weir2_Ho<Orifice1_Invert,Weir2_Ho<Weir1_Ho),AND(Weir2_Ho<Orifice2_Invert,Weir2_Ho<Weir1_Ho)),2,IF(OR(Weir2_Ho<Orifice1_Invert,Weir2_Ho<Orifice2_Invert,Weir2_Ho<Weir1_Ho),3,4))))))))","v":0},null,0,"500yr Depth",null,"01:30:00","","",null,null,null,null,null,null,null,null,null,null,null,"","","","",""]
[null,"Row 9 (optional)","Row 10 (optional)","Row 11 (optional)","Row 12 (optional)","Row 13 (optional)","Row 14 (optional)","Row 15 (optional)","Row 16 (optional)",null,null,"VertOrifice2 Q at 100yr depth =",{"$f":"VLOOKUP(MaxPondDepth,B87:J3087,9)","v":""},2.54,"(diameter = 1-13/16 inches)","Outlet Pipe 1",{"$f":"IF(OR(Outlet1_Orifice_Invert=\"\",Outlet1_Orifice_Invert=\"N/A\",Outlet1_Dia_Span=\"\",Outlet1_Dia_Span=\"N/A\",AND(Outlet_Pipe1_Type>=3,Outlet1_Rise=\"\")),0,1)","v":0},{"$f":"IF(Outlet_Pipe1_Boolean=0,0,Overflow_Weir1_Rank)","v":0},null,0,"Freeboard",null,"01:35:00","","",null,null,null,null,null,null,null,null,null,null,null,"","","","",""]
["Stage of Orifice Centroid (ft)",null,null,null,null,null,null,null,null,null,null,null,null,2.72,"(diameter = 1-7/8 inches)","Outlet Pipe 2",{"$f":"IF(OR(Outlet2_Orifice_Invert=\"\",Outlet2_Orifice_Invert=\"N/A\",Outlet2_Dia_Span=\"\",Outlet2_Dia_Span=\"N/A\",AND(Outlet_Pipe2_Type>=3,Outlet2_Rise=\"\")),0,1)","v":0},{"$f":"IF(Outlet_Pipe2_Boolean=0,0,Overflow_Weir2_Rank)","v":0},null,{"$f":"IF(OR(Spillway_Invert=\"\",Spillway_Length=\"\",Spillway_Side_Slopes=\"\",Freeboard_above_Spillway=\"\"),0,1)","v":0},"Spillway",null,"01:40:00","","",null,null,null,null,null,null,null,null,null,null,null,"","","","",""]
["Orifice Area (sq. inches)",null,null,null,null,null,null,null,null,null,null,"Count_User_Hydrographs",{"$f":"IF(AND(Hydrograph_Source_2YR=\"USER\",Hydrograph_Source_5YR=\"USER\",Hydrograph_Source_10YR=\"USER\",Hydrograph_Source_25YR=\"USER\",Hydrograph_Source_50YR=\"USER\",Hydrograph_Source_100YR=\"USER\",Hydrograph_Source_500YR=\"USER\"),1,0)","v":0},2.9,"(diameter = 1-15/16 inches)",null,null,null,null,0,"Spillway Length",null,"01:45:00","","",null,null,null,null,null,null,null,null,null,null,null,"","","","",""]
[null,null,null,null,null,null,null,null,null,null,null,"CountA_3 (EURV & 100yr) =",{"$f":"IF(AND(Basin_CountA=1,OR(Count_WQPlate=1,Count_VertOrifice1=1),Count_Weir1=1,Count_OutletPipe1=1),1,0)","v":0},3.09,"(diameter = 2 inches)",null,null,null,null,false,"Time Interval",null,"01:50:00","","",null,null,null,null,null,null,null,null,null,null,null,"","","","",""]
["User Input:  Vertical Orifice (Circular or Rectangular)",null,null,null,null,null,null,"Calculated Parameters for Vertical Orifice",null,null,null,"CountA_4 (100yr Only) =",{"$f":"IF(AND(Basin_CountA=1,Count_Weir1=1,Count_OutletPipe1=1),1,0)","v":0},3.29,"(use rectangular openings)",null,"Button Visibility Boolean",null,null,null,null,null,"01:55:00","","",null,null,null,null,null,null,null,null,null,null,null,"","","","",""]
[null,{"$f":"IF(Zone1_Outlet_Type=5,\"Zone 1 Circular\",IF(Zone1_Outlet_Type=6,\"Zone 1 Rectangular\",IF(Zone2_Outlet_Type=5,\"Zone 2 Circular\",IF(Zone2_Outlet_Type=6,\"Zone 2 Rectangular\",IF(Zone3_Outlet_Type=2,\"Zone 3 Circular\",IF(Zone3_Outlet_Type=3,\"Zone 3 Rectangular\",\"Not Selected\"))))))","v":"Not Selected"},{"$f":"IF(B32=\"Not Selected\",\"Not Selected\",IF(OR(B32=\"Zone 3 Circular\",B32=\"Zone 3 Rectangular\"),\"Not Selected\",IF(OR(B32=\"Zone 2 Circular\",B32=\"Zone 2 Rectangular\"),IF(Zone3_Outlet_Type=2,\"Zone 3 Circular\",IF(Zone3_Outlet_Type=3,\"Zone 3 Rectangular\",\"Not Selected\")),IF(OR(B32=\"Zone 1 Circular\",B32=\"Zone 1 Rectangular\"),IF(Zone2_Outlet_Type=5,\"Zone 2 Circular\",IF(Zone2_Outlet_Type=6,\"Zone 2 Rectangular\",IF(Zone3_Outlet_Type=2,\"Zone 3 Circular\",IF(Zone3_Outlet_Type=3,\"Zone 3 Rectangular\",\"Not Selected\"))))))))","v":"Not Selected"},null,null,null,null,{"$f":"B32","v":"Not Selected"},{"$f":"C32","v":"Not Selected"},null,null,"COUNTA_5 (FSD Weir Only)=",{"$f":"IF(AND(Basin_CountA=1,OR(Count_Underdrain=1,Count_WQPlate=1),Count_Weir1=1,Count_OutletPipe1=0),1,0)","v":0},null,null,null,{"$f":"IF(AND(Zone1_Storage_Type=2,Zone1_Outlet_Type=2),1,0)","v":0},"WQCV Underdrain",null,null,null,null,"02:00:00","","",null,null,null,null,null,null,null,null,null,null,null,"","","","",""]
["Invert of Vertical Orifice =",null,null,"ft (relative to basin bottom at Stage = 0 ft)",null,null,"Vertical Orifice Area =",{"$f":"IF(Orifice1_Height=\"N/A\",\"N/A\",IF(Orifice1_Height=\"\",\"\",IF(A36=\"\",PI()*Orifice1_Height^2/4,Orifice1_Height*Orifice1_Width)/144))","v":""},{"$f":"IF(Orifice2_Height=\"N/A\",\"N/A\",IF(Orifice2_Height=\"\",\"\",IF(Orifice2_Width=\"\",PI()*Orifice2_Height^2/4,Orifice2_Height*Orifice2_Width)/144))","v":""},"ft2",null,"COUNTA_6 (EURV Weir Only)=",{"$f":"IF(AND(Basin_CountA=1,OR(Count_WQPlate=1,Count_VertOrifice1=1),Count_Weir1=1),1,0)","v":0},null,null,null,{"$f":"IF(AND(Zone1_Storage_Type=2,OR(Zone1_Outlet_Type=3,Zone1_Outlet_Type=4)),1,0)","v":0},"WQCV Plate",null,null,null,null,"02:05:00","","",null,null,null,null,null,null,null,null,null,null,null,"","","","",""]
["Depth at top of Zone using Vertical Orifice =",null,null,"ft (relative to basin bottom at Stage = 0 ft)",null,null,"Vertical Orifice Centroid =",{"$f":"IF(Orifice1_Height=\"N/A\",\"N/A\",IF(Orifice1_Height=\"\",\"\",Orifice1_Height/2/12))","v":""},{"$f":"IF(Orifice2_Height=\"N/A\",\"N/A\",IF(Orifice2_Height=\"\",\"\",Orifice2_Height/2/12))","v":""},"feet",null,null,null,null,null,null,{"$f":"IF(OR(\nAND(Zone1_Storage_Type=2,Zone1_Outlet_Type=2,Zone2_Storage_Type=2,OR(Zone2_Outlet_Type=3,Zone2_Outlet_Type=4)),\nAND(Zone1_Storage_Type=3,OR(Zone1_Outlet_Type=3,Zone1_Outlet_Type=4))),1,0)","v":0},"EURV-WQCV Plate",null,null,null,null,"02:10:00","","",null,null,null,null,null,null,null,null,null,null,null,"","","","",""]
[{"$f":"IF(AND(OR(B32=\"Not Selected\",B32=\"Zone 1 Circular\",B32=\"Zone 2 Circular\",B32=\"Zone 3 Circular\"),OR(C32=\"Not Selected\",C32=\"Zone 2 Circular\",C32=\"Zone 3 Circular\"),Orifice1_Width=\"\",Orifice2_Width=\"\"),\"Vertical Orifice Diameter =\",IF(AND(OR(B32=\"Zone 1 Rectangular\",B32=\"Zone 2 Rectangular\",B32=\"Zone 3 Rectangular\"),OR(C32=\"Not Selected\",C32=\"Zone 2 Rectangular\",C32=\"Zone 3 Rectangular\")),\"Vertical Orifice Height =\",\"Vertical Orifice Diameter or Height =\"))","v":"Vertical Orifice Diameter ="},null,null,"inches",null,null,null,null,null,null,null,null,null,"Outlet1_Pulldown_Boolean",null,null,{"$f":"IF(OR(\nAND(Zone1_Storage_Type=2,Zone1_Outlet_Type=2,Zone2_Storage_Type=2,OR(Zone2_Outlet_Type=5,Zone2_Outlet_Type=6)),\nAND(Zone1_Storage_Type=2,OR(Zone1_Outlet_Type=3,Zone1_Outlet_Type=4),Zone2_Storage_Type=2,OR(Zone2_Outlet_Type=5,Zone2_Outlet_Type=6)),\nAND(Zone1_Storage_Type=3,OR(Zone1_Outlet_Type=5,Zone1_Outlet_Type=6))),1,0)","v":0},"EURV-WQCV VertOriice",null,null,null,null,"02:15:00","","",null,null,null,null,null,null,null,null,null,null,null,"","","","",""]
[{"$f":"IF(OR(A35=\"Vertical Orifice Height =\",A35=\"Vertical Orifice Diameter or Height =\"),\"Vertical Orifice Width =\",\"\")","v":""},null,null,{"$f":"IF(A36=\"\",\"\",\"inches\")","v":""},null,null,null,null,null,null,null,null,null,"Outlet2_Pulldown_Boolean",null,null,{"$f":"IF(OR(\nAND(Zone1_Storage_Type=2,OR(Zone1_Outlet_Type=2,Zone1_Outlet_Type=3,Zone1_Outlet_Type=4),Zone2_Storage_Type=2,OR(Zone2_Outlet_Type=2,Zone2_Outlet_Type=3,Zone2_Outlet_Type=4,Zone2_Outlet_Type=5,Zone2_Outlet_Type=6),OR(Zone3_Storage_Type=7,Zone3_Storage_Type=8),OR(Zone3_Outlet_Type=4,Zone3_Outlet_Type=5,Zone3_Outlet_Type=6)),\n\nAND(Zone1_Storage_Type=3,OR(Zone1_Outlet_Type=3,Zone1_Outlet_Type=4,Zone1_Outlet_Type=5,Zone1_Outlet_Type=6),Zone2_Storage_Type=8,OR(Zone2_Outlet_Type=7,Zone2_Outlet_Type=8,Zone2_Outlet_Type=9),OR(Zone3_Outlet_Type = 1,Zone3_Outlet_Type=8)),\n\nAND(Zone1_Storage_Type=9,OR(Zone1_Outlet_Type=7,Zone1_Outlet_Type=8,Zone1_Outlet_Type=9),OR(Zone2_Outlet_Type=1,Zone2_Outlet_Type=11),OR(Zone3_Outlet_Type=1,Zone3_Outlet_Type=8))),1,0)","v":0},"Outlet 90% Qpeak",null,null,null,null,"02:20:00","","",null,null,null,null,null,null,null,null,null,null,null,"","","","",""]
[null,null,null,null,null,null,null,null,null,null,null,null,null,"Outlet3_Pulldown_Boolean",null,null,{"$f":"IF(AND(AND(Zone1_Storage_Type<>9,Zone2_Storage_Type<>8,OR(Zone3_Storage_Type<7,Zone3_Storage_Type>8)),OR(\nOR(Zone1_Outlet_Type=7,Zone1_Outlet_Type=9),\nOR(Zone2_Outlet_Type=7,Zone2_Outlet_Type=9),\nOR(Zone3_Outlet_Type=4,Zone3_Outlet_Type=6))),1,0)","v":0},"Outlet Undetained",null,null,null,null,"02:25:00","","",null,null,null,null,null,null,null,null,null,null,null,"","","","",""]
["User Input:  Overflow Weir (Dropbox with Flat or Sloped Grate and Outlet Pipe OR Rectangular/Trapezoidal Weir (and No Outlet Pipe) ",null,null,null,null,null,null,"Calculated Parameters for Overflow Weir",null,null,null,null,null,null,null,null,{"$f":"IF(OR(\nAND(Zone1_Storage_Type=2,OR(Zone1_Outlet_Type=2,Zone1_Outlet_Type=3,Zone1_Outlet_Type=4),Zone2_Storage_Type=2,OR(Zone2_Outlet_Type=2,Zone2_Outlet_Type=3,Zone2_Outlet_Type=4,Zone2_Outlet_Type=5,Zone2_Outlet_Type=6),OR(Zone3_Storage_Type=7,Zone3_Storage_Type=8),Zone3_Outlet_Type=7),\n\nAND(Zone1_Storage_Type=3,OR(Zone1_Outlet_Type=3,Zone1_Outlet_Type=4,Zone1_Outlet_Type=5,Zone1_Outlet_Type=6),Zone2_Storage_Type=8,Zone2_Outlet_Type=10,OR(Zone3_Outlet_Type = 1,Zone3_Outlet_Type=8)),\n\nAND(Zone1_Storage_Type=9,Zone1_Outlet_Type=10,OR(Zone2_Outlet_Type=1,Zone2_Outlet_Type=11),OR(Zone3_Outlet_Type=1,Zone3_Outlet_Type=8))),1,0)","v":0},"Weir Only 90% Qpeak",null,null,null,null,"02:30:00","","",null,null,null,null,null,null,null,null,null,null,null,"","","","",""]
[{"$f":"IF(OR(Zone1_Outlet_Type=10,Zone2_Outlet_Type=10,Zone3_Outlet_Type=7),\nIF(OR(Zone1_Outlet_Type=7,Zone1_Outlet_Type=8,Zone1_Outlet_Type=9,Zone2_Outlet_Type=7,Zone2_Outlet_Type=8,Zone2_Outlet_Type=9,Zone3_Outlet_Type=4,Zone3_Outlet_Type=5,Zone3_Outlet_Type=6),\"both\",\"weir\"),\n\"grate\")","v":"grate"},{"$f":"IF(OR(Zone1_Outlet_Type=7,Zone1_Outlet_Type=8,Zone1_Outlet_Type=9,Zone1_Outlet_Type=10),\"Zone 1 Weir\",IF(OR(Zone2_Outlet_Type=7,Zone2_Outlet_Type=8,Zone2_Outlet_Type=9,Zone2_Outlet_Type=10),\"Zone 2 Weir\",IF(OR(Zone3_Outlet_Type=4,Zone3_Outlet_Type=5,Zone3_Outlet_Type=6,Zone3_Outlet_Type=7),\"Zone 3 Weir\",\"Not Selected\")))","v":"Not Selected"},{"$f":"IF(B39=\"Not Selected\",\"Not Selected\",IF(B39=\"Zone 3 Weir\",\"Not Selected\",IF(B39=\"Zone 2 Weir\",IF(OR(Zone3_Outlet_Type=4,Zone3_Outlet_Type=5,Zone3_Outlet_Type=6,Zone3_Outlet_Type=7),\"Zone 3 Weir\",\"Not Selected\"),IF(B39=\"Zone 1 Weir\",IF(OR(Zone2_Outlet_Type=7,Zone2_Outlet_Type=8,Zone2_Outlet_Type=9,Zone2_Outlet_Type=10),\"Zone 2 Weir\",IF(OR(Zone3_Outlet_Type=4,Zone3_Outlet_Type=5,Zone3_Outlet_Type=6,Zone3_Outlet_Type=7),\"Zone 3 Weir\",\"Not Selected\"))))))","v":"Not Selected"},null,null,null,null,{"$f":"B39","v":"Not Selected"},{"$f":"C39","v":"Not Selected"},null,null,null,null,null,null,null,{"$f":"IF(1=1,0,\nIF(OR(\nAND(Zone1_Storage_Type=2,Zone1_Outlet_Type=2,Zone2_Storage_Type=2,OR(Zone2_Outlet_Type=3,Zone2_Outlet_Type=4)),\nAND(Zone1_Storage_Type=3,OR(Zone1_Outlet_Type=3,Zone1_Outlet_Type=4))),1,0))","v":0},"Five Year Ratio Plate",null,null,null,null,"02:35:00","","",null,null,null,null,null,null,null,null,null,null,null,"","","","",""]
["Overflow Weir Front Edge Height, Ho =",null,null,"ft (relative to basin bottom at Stage = 0 ft)",null,null,"Height of Grate Upper Edge, Ht =",{"$f":"IF(OR(Weir1_Ho=\"N/A\",Weir1_Grate_Slope=\"N/A\",Weir1_horiz_length_of_grate=\"N/A\"),\"N/A\",IF(OR(Weir1_Ho=\"\",Weir1_Grate_Slope=\"\",Weir1_horiz_length_of_grate=\"\"),\"\",IF(Weir1_Grate_Slope=0,Weir1_Ho,IF(Count_Weir1=0,\"\",Weir1_Ho+Weir1_horiz_length_of_grate/Weir1_Grate_Slope))))","v":""},{"$f":"IF(OR(Weir2_Ho=\"N/A\",Weir2_Grate_Slope=\"N/A\",Weir2_horiz_length_of_grate=\"N/A\"),\"N/A\",IF(OR(Weir2_Ho=\"\",Weir2_Grate_Slope=\"\",Weir2_horiz_length_of_grate=\"\"),\"\",IF(Weir2_Grate_Slope=0,Weir2_Ho,IF(Count_Weir2=0,\"\",Weir2_Ho+Weir2_horiz_length_of_grate/Weir2_Grate_Slope))))","v":""},"feet",null,null,null,null,null,null,{"$f":"IF(1=1,0,\nIF(OR(\nAND(Zone1_Storage_Type=2,Zone1_Outlet_Type=2,Zone2_Storage_Type=2,OR(Zone2_Outlet_Type=5,Zone2_Outlet_Type=6)),\nAND(Zone1_Storage_Type=2,OR(Zone1_Outlet_Type=3,Zone1_Outlet_Type=4),Zone2_Storage_Type=2,OR(Zone2_Outlet_Type=5,Zone2_Outlet_Type=6)),\nAND(Zone1_Storage_Type=3,OR(Zone1_Outlet_Type=5,Zone1_Outlet_Type=6))),1,0))","v":0},"Five Year Ratio VertOrifice",null,null,null,null,"02:40:00","","",null,null,null,null,null,null,null,null,null,null,null,{"$f":"IF(Basin_CountA=0,\"\",IF($AJ40=\"\",\"\",VLOOKUP($AJ40,$B$87:$X$3087,2)))","v":""},{"$f":"IF(Basin_CountA=0,\"\",IF($AJ40=\"\",\"\",AK40/43560))","v":""},{"$f":"IF(Basin_CountA=0,\"\",IF($AJ40=\"\",\"\",VLOOKUP($AJ40,$B$87:$X$3087,3)))","v":""},{"$f":"IF(Basin_CountA=0,\"\",IF($AJ40=\"\",\"\",AM40/43560))","v":""},{"$f":"IF(Basin_CountA=0,\"\",IF($AJ40=\"\",\"\",VLOOKUP($AJ40,$B$87:$X$3087,23)))","v":""}]
[{"$f":"IF(Weir_Type=\"grate\",\"Overflow Weir Front Edge Length =\",\nIF(Weir_Type=\"weir\",\"Overflow Weir Bottom Length =\",\n\"Weir Front Edge Length OR Weir Bottom Length\"))","v":"Overflow Weir Front Edge Length ="},null,null,"feet",null,null,"Overflow Weir Slope Length =",{"$f":"IF(OR(Weir1_Grate_Slope=\"N/A\",Weir1_horiz_length_of_grate=\"N/A\"),\"N/A\",IF(OR(Weir1_Grate_Slope=\"\",Weir1_horiz_length_of_grate=\"\"),\"\",IF(Weir1_Grate_Slope=0,Weir1_horiz_length_of_grate,Weir1_horiz_length_of_grate/COS(ATAN(1/Weir1_Grate_Slope)))))","v":""},{"$f":"IF(OR(Weir2_Grate_Slope=\"N/A\",Weir2_horiz_length_of_grate=\"N/A\"),\"N/A\",IF(OR(Weir2_Grate_Slope=\"\",Weir2_horiz_length_of_grate=\"\"),\"\",IF(Weir2_Grate_Slope=0,Weir2_horiz_length_of_grate,Weir2_horiz_length_of_grate/COS(ATAN(1/Weir2_Grate_Slope)))))","v":""},"feet",null,null,null,null,null,null,null,"EURV_draintime_user",null,null,null,null,{"$f":"W40+Time_Interval/(60*24)","v":"02:45:00"},"","",null,null,null,null,null,null,null,null,null,null,null,"","","","",""]
[{"$f":"IF(Weir_Type=\"grate\",\"Overflow Weir Grate Slope =\",\nIF(Weir_Type=\"weir\",\"Overflow Weir Side Slopes =\",\n\"Weir Grate Slope OR Weir Side Slopes\"))","v":"Overflow Weir Grate Slope ="},null,null,"H:V",null,null,"Grate Open Area / 100-yr Orifice Area =",{"$f":"IF(OR(Grate_Area_1=\"N/A\",Outlet1_Orifice_Area=\"N/A\"),\"N/A\",IF(OR(Grate_Area_1=\"\",Outlet1_Orifice_Area=\"\"),\"\",Grate_Area_1/Outlet1_Orifice_Area))","v":""},{"$f":"IF(OR(Grate_Area_2=\"N/A\",Outlet2_Orifice_Area=\"N/A\"),\"N/A\",IF(OR(Grate_Area_2=\"\",Outlet2_Orifice_Area=\"\"),\"\",Grate_Area_2/Outlet2_Orifice_Area))","v":""},null,null,null,null,null,null,null,null,null,null,null,null,null,"02:50:00","","",null,null,null,null,null,null,null,null,null,null,null,"","","","",""]
["Horiz. Length of Weir Sides =",null,null,"feet",null,null,"Overflow Grate Open Area w/o Debris =",{"$f":"IF(OR(Weir1_Grate_Slope=\"N/A\",Weir1_W=\"N/A\",Weir1_horiz_length_of_grate=\"N/A\",Weir1_Grate_Open_Area=\"N/A\",Overflow_Weir_Slope_Length_1=\"N/A\"),\"N/A\",IF(OR(Weir1_Grate_Slope=\"\",Weir1_W=\"\",Weir1_horiz_length_of_grate=\"\",Weir1_Grate_Open_Area=\"\",Overflow_Weir_Slope_Length_1=\"\"),\"\",IF(Weir1_Grate_Slope=0,Weir1_W*Weir1_horiz_length_of_grate*Weir1_Grate_Open_Area,Weir1_W*Overflow_Weir_Slope_Length_1*Weir1_Grate_Open_Area)))","v":""},{"$f":"IF(OR(Weir2_Grate_Slope=\"N/A\",Weir2_W=\"N/A\",Weir2_horiz_length_of_grate=\"N/A\",Weir2_Grate_Open_Area=\"N/A\",Overflow_Weir_Slope_Length_2=\"N/A\"),\"N/A\",IF(OR(Weir2_Grate_Slope=\"\",Weir2_W=\"\",Weir2_horiz_length_of_grate=\"\",Weir2_Grate_Open_Area=\"\",Overflow_Weir_Slope_Length_2=\"\"),\"\",IF(Weir2_Grate_Slope=0,Weir2_W*Weir2_horiz_length_of_grate*Weir2_Grate_Open_Area,Weir2_W*Overflow_Weir_Slope_Length_2*Weir2_Grate_Open_Area)))","v":""},"ft2",null,null,null,null,null,null,null,null,null,null,null,null,"02:55:00","","",null,null,null,null,null,null,null,null,null,null,null,"","","","",""]
["Overflow Grate Type =",{"$f":"IF(Weir1_Grate_Type=1,\"\",IF(Weir1_Grate_Type=2,\"Type C Grate\",IF(Weir1_Grate_Type=3,\"Close Mesh Grate\",IF(Weir1_Grate_Type=4,\"No Grate\",IF(Weir1_Grate_Type=5,\"N/A\")))))","v":""},{"$f":"IF(Weir2_Grate_Type=1,\"\",IF(Weir2_Grate_Type=2,\"Type C Grate\",IF(Weir2_Grate_Type=3,\"Close Mesh Grate\",IF(Weir2_Grate_Type=4,\"No Grate\",IF(Weir2_Grate_Type=5,\"N/A\")))))","v":""},null,null,null,"Overflow Grate Open Area w/ Debris =",{"$f":"IF(Grate_Area_1=\"\",\"\",IF(Grate_Area_1=\"N/A\",\"N/A\",Grate_Area_1*(1-Weir1_Additional_Clogging)))","v":""},{"$f":"IF(Grate_Area_2=\"\",\"\",IF(Grate_Area_2=\"N/A\",\"N/A\",Grate_Area_2*(1-Weir2_Additional_Clogging)))","v":""},"ft2",null,null,null,null,null,null,null,null,null,null,null,null,"03:00:00","","",null,null,null,null,null,null,null,null,null,null,null,"","","","",""]
["Debris Clogging % =",null,null,"%",null,null,null,null,null,null,null,"Spillway Options",null,null,null,null,null,null,null,null,null,null,"03:05:00","","",null,null,null,null,null,null,null,null,null,null,null,"","","","",""]
[null,{"$f":"IF(OR(AND(Zone1_Outlet_Type=10,Zone2_Outlet_Type=10),AND(Zone1_Outlet_Type=10,Zone3_Outlet_Type=7),AND(Zone2_Outlet_Type=10,Zone3_Outlet_Type=7)),\nC39 & \" position relative to \" & B39 &\" =\",\"\")","v":""},null,null,null,null,null,null,null,null,null,"Offset",null,null,null,null,null,null,null,null,null,null,"03:10:00","","",null,null,null,null,null,null,null,null,null,null,null,"","","","",""]
["User Input: Outlet Pipe w/ Flow Restriction Plate (Circular Orifice, Restrictor Plate, or Rectangular Orifice)",null,null,null,null,null,null,"Calculated Parameters for Outlet Pipe w/ Flow Restriction Plate",null,null,null,"Overlapping",null,null,null,null,null,null,null,null,null,null,"03:15:00","","",null,null,null,null,null,null,null,null,null,null,null,"","","","",""]
[{"$f":"IF(SUM(IF(Z1_Outlet_Type=\"Weir (No Pipe)\",1,0),IF(Z2_Outlet_Type=\"Weir (No Pipe)\",1,0),IF(Z3_Outlet_Type=\"Weir (No Pipe)\",1,0))>=2,\"Weirs must be offset to avoid double counting flow!\",\"\")","v":""},{"$f":"IF(Zone1_Outlet_Type=7,\"Zone 1 Circular\",IF(Zone1_Outlet_Type=8,\"Zone 1 Restrictor\",IF(Zone1_Outlet_Type=9,\"Zone 1 Rectangular\",\nIF(Zone2_Outlet_Type=7,\"Zone 2 Circular\",IF(Zone2_Outlet_Type=8,\"Zone 2 Restrictor\",IF(Zone2_Outlet_Type=9,\"Zone 2 Rectangular\",\nIF(Zone3_Outlet_Type=4,\"Zone 3 Circular\",IF(Zone3_Outlet_Type=5,\"Zone 3 Restrictor\",IF(Zone3_Outlet_Type=6,\"Zone 3 Rectangular\",\n\"Not Selected\")))))))))","v":"Not Selected"},{"$f":"IF(B48=\"Not Selected\",\"Not Selected\",IF(OR(B48=\"Zone 3 Circular\",B48=\"Zone 3 Restrictor\",B48=\"Zone 3 Rectangular\"),\"Not Selected\",IF(OR(B48=\"Zone 2 Circular\",B48=\"Zone 2 Restrictor\",B48=\"Zone 2 Rectangular\"),IF(Zone3_Outlet_Type=4,\"Zone 3 Circular\",IF(Zone3_Outlet_Type=5,\"Zone 3 Restrictor\",IF(Zone3_Outlet_Type=6,\"Zone 3 Rectangular\",\"Not Selected\"))),IF(OR(B48=\"Zone 1 Circular\",B48=\"Zone 1 Restrictor\",B48=\"Zone 1 Rectangular\"),IF(Zone2_Outlet_Type=7,\"Zone 2 Circular\",IF(Zone2_Outlet_Type=8,\"Zone 2 Restrictor\",IF(Zone2_Outlet_Type=9,\"Zone 2 Rectangular\",IF(Zone3_Outlet_Type=4,\"Zone 3 Circular\",IF(Zone3_Outlet_Type=5,\"Zone 3 Restrictor\",IF(Zone3_Outlet_Type=6,\"Zone 3 Rectangular\",\"Not Selected\"))))))))))","v":"Not Selected"},null,null,null,null,{"$f":"B48","v":"Not Selected"},{"$f":"C48","v":"Not Selected"},null,null,null,null,null,null,null,null,null,null,null,null,null,"03:20:00","","",null,null,null,null,null,null,null,null,null,null,null,"","","","",""]
["Depth to Invert of Outlet Pipe =",null,null,"ft (distance below basin bottom at Stage = 0 ft)",null,null,"Outlet Orifice Area =",{"$f":"IF(OR(Outlet1_Dia_Span=\"N/A\",Outlet1_Orifice_Invert=\"N/A\"),\"N/A\",\nIF(OR(Outlet1_Dia_Span=\"\",Outlet1_Orifice_Invert=\"\",AND(Outlet_Pipe1_Type=4,THETA_1=\"\")),\"\",\nIF(Outlet_Pipe1_Type=2,PI()*Outlet1_Dia_Span^2/4,\nIF(Outlet_Pipe1_Type=3,Outlet1_Dia_Span*Outlet1_Rise,\nIF(Outlet_Pipe1_Type=4,Outlet1_Dia_Span^2/4*(THETA_1-SIN(THETA_1)*COS(THETA_1)))))/144))","v":""},{"$f":"IF(OR(Outlet2_Dia_Span=\"N/A\",Outlet2_Orifice_Invert=\"N/A\"),\"N/A\",\nIF(OR(Outlet2_Dia_Span=\"\",Outlet2_Orifice_Invert=\"\"),\"\",\nIF(AND(Outlet2_Rise=\"\",OR(Outlet_Pipe2_Type=3,Outlet_Pipe2_Type=4)),\"\",\nIF(Outlet_Pipe2_Type=2,PI()*Outlet2_Dia_Span^2/4,\nIF(Outlet_Pipe2_Type=3,Outlet2_Dia_Span*Outlet2_Rise,\nIF(Outlet_Pipe2_Type=4,Outlet2_Dia_Span^2/4*(THETA_2-SIN(THETA_2)*COS(THETA_2)))))/144)))","v":""},"ft2",null,null,null,null,null,null,null,null,null,null,null,null,"03:25:00","","",null,null,null,null,null,null,null,null,null,null,null,"","","","",""]
[{"$f":"IF(AND(OR(B48=\"Not Selected\",B48=\"Zone 1 Circular\",B48=\"Zone 2 Circular\",B48=\"Zone 3 Circular\"),OR(C48=\"Not Selected\",C48=\"Zone 2 Circular\",C48=\"Zone 3 Circular\")),\"Circular Orifice Diameter =\",\nIF(AND(OR(B48=\"Zone 1 Restrictor\",B48=\"Zone 2 Restrictor\", B48=\"Zone 3 Restrictor\"),OR(C48=\"Not Selected\",C48=\"Zone 2 Restrictor\",C48=\"Zone 3 Restrictor\")),\"Outlet Pipe Diameter =\",\nIF(AND(OR(B48=\"Zone 1 Rectangular\",B48=\"Zone 2 Rectangular\",B48=\"Zone 3 Rectangular\"),OR(C48=\"Not Selected\",C48=\"Zone 2 Rectangular\",C48=\"Zone 3 Rectangular\")),\"Rectangular Orifice Width =\",\nIF(AND(OR(B48=\"Zone 1 Circular\",B48=\"Zone 2 Circular\",B48=\"Zone 3 Circular\",B48=\"Zone 1 Restrictor\",B48=\"Zone 2 Restrictor\", B48=\"Zone 3 Restrictor\"),OR(C48=\"Zone 2 Circular\",C48=\"Zone 3 Circular\",C48=\"Zone 2 Restrictor\",C48=\"Zone 3 Restrictor\")),\"Circular Orifice Diameter or Pipe Diameter =\",\nIF(AND(OR(B48=\"Zone 1 Circular\",B48=\"Zone 2 Circular\",B48=\"Zone 3 Circular\",B48=\"Zone 1 Rectangular\",B48=\"Zone 2 Rectangular\",B48=\"Zone 3 Rectangular\"),OR(C48=\"Zone 2 Circular\",C48=\"Zone 3 Circular\",C48=\"Zone 2 Rectangular\",C48=\"Zone 3 Rectangular\")),\"Orifice Diameter or Width =\",\"Rect. Orifice Width or Pipe Diameter =\")))))","v":"Circular Orifice Diameter ="},null,null,"inches",null,null,"Outlet Orifice Centroid =",{"$f":"IF(OR(Outlet1_Dia_Span=\"N/A\",Outlet1_Orifice_Invert=\"N/A\"),\"N/A\",\nIF(OR(Outlet1_Dia_Span=\"\",Outlet1_Orifice_Invert=\"\",AND(Outlet_Pipe1_Type=4,THETA_1=\"\")),\"\",\nIF(Outlet_Pipe1_Type=2,Outlet1_Dia_Span/2,\nIF(Outlet_Pipe1_Type=3,Outlet1_Rise/2,\nIF(Outlet_Pipe1_Type=4,Outlet1_Dia_Span/2-2*Outlet1_Dia_Span/3*(SIN(THETA_1)^3/(2*THETA_1-SIN(2*THETA_1))))))/12))","v":""},{"$f":"IF(OR(Outlet2_Dia_Span=\"N/A\",Outlet2_Orifice_Invert=\"N/A\"),\"N/A\",\nIF(OR(Outlet2_Dia_Span=\"\",Outlet2_Orifice_Invert=\"\"),\"\",\nIF(AND(Outlet2_Rise=\"\",OR(Outlet_Pipe2_Type=3,Outlet_Pipe2_Type=4)),\"\",\nIF(Outlet_Pipe2_Type=2,Outlet2_Dia_Span/2,\nIF(Outlet_Pipe2_Type=3,Outlet2_Rise/2,\nIF(Outlet_Pipe2_Type=4,Outlet2_Dia_Span/2-2*Outlet2_Dia_Span/3*(SIN(THETA_2)^3/(2*THETA_2-SIN(2*THETA_2))))))/12)))","v":""},"feet",null,null,null,null,null,null,null,null,null,null,null,null,"03:30:00","","",null,null,null,null,null,null,null,null,null,null,null,"","","","",""]
[{"$f":"IF(A50=\"Circular Orifice Diameter =\",\"\",\nIF(A50=\"Outlet Pipe Diameter =\",\"Restrictor Plate Height Above Pipe Invert =\",\nIF(A50=\"Rectangular Orifice Width =\",\"Rectangular Orifice Height =\",\nIF(A50=\"Circular Orifice Diameter or Pipe Diameter =\",\"Restrictor Plate Height Above Pipe Invert =\",\nIF(A50=\"Orifice Diameter or Width =\",\"Rectangular Orifice Height =\",\"Orifice Height or Height Above Pipe Invert =\")))))","v":""},null,null,{"$f":"IF(A51=\"\",\"\",\"inches\")","v":""},null,null,"Half-Central Angle of Restrictor Plate on Pipe =",{"$f":"IF(OR(Outlet1_Dia_Span=\"N/A\",Outlet1_Rise=\"N/A\",Outlet_Pipe1_Type<>4),\"N/A\",\nIF(OR(Outlet1_Dia_Span=\"\",Outlet1_Rise=\"\"),\"\",ACOS(1-2*MIN(Outlet1_Rise/Outlet1_Dia_Span,1))))","v":"N/A"},{"$f":"IF(OR(Outlet2_Dia_Span=\"N/A\",Outlet2_Rise=\"N/A\",Outlet_Pipe2_Type<>4),\"N/A\",\nIF(OR(Outlet2_Dia_Span=\"\",Outlet2_Rise=\"\"),\"\",ACOS(1-2*MIN(Outlet2_Rise/Outlet2_Dia_Span,1))))","v":"N/A"},"radians",null,null,null,null,null,null,null,null,null,null,null,null,"03:35:00","","",null,null,null,null,null,null,null,null,null,null,null,"","","","",""]
[null,null,null,null,null,null,null,null,null,null,null,null,null,null,null,null,null,null,null,null,null,null,"03:40:00","","",null,null,null,null,null,null,null,null,null,null,null,"","","","",""]
["User Input: Emergency Spillway (Rectangular or Trapezoidal)",null,null,null,{"$f":"IF(AND(Outlet90Qpeak_Button=1,OutletUndetained_Button=1),\"           OR\",\"\")","v":""},null,null,"Calculated Parameters for Spillway",null,null,null,null,null,null,null,null,null,null,null,null,null,null,"03:45:00","","",null,null,null,null,null,null,null,null,null,null,null,"","","","",""]
["Spillway Invert Stage=",null,"ft (relative to basin bottom at Stage = 0 ft)",null,null,null,"Spillway Design Flow Depth=",{"$f":"IF(OR(Watershed_Area=\"\",MaxPondDepth=\"\",MaxPondDepth_Error?=TRUE,COUNTA(Spillway_Invert,Spillway_Length,Spillway_Side_Slopes)<3),\"\",Calc_Spillway_Depth)","v":""},"feet",null,null,null,null,null,null,null,null,null,null,null,null,null,"03:50:00","","",null,null,null,null,null,null,null,null,null,null,null,"","","","",""]
["Spillway Crest Length =",null,"feet",null,null,null,"Stage at Top of Freeboard =",{"$f":"IF(Spillway_Depth=\"\",\"\",Spillway_Invert+Spillway_Depth+Freeboard_above_Spillway)","v":""},"feet",null,null,null,null,null,null,null,null,null,null,null,null,null,"03:55:00","","",null,null,null,null,null,null,null,null,null,null,null,"","","","",""]
["Spillway End Slopes =",null,"H:V",null,null,null,"Basin Area at Top of Freeboard =",{"$f":"IF(Stage_at_Top_of_Freeboard=\"\",\"\",VLOOKUP(Stage_at_Top_of_Freeboard,B87:X3087,2)/43560)","v":""},"acres",null,null,null,null,null,null,null,null,null,null,null,null,null,"04:00:00","","",null,null,null,null,null,null,null,null,null,null,null,"","","","",""]
["Freeboard above Max Water Surface =",null,"feet",null,null,null,"Basin Volume at Top of Freeboard =",{"$f":"IF(Stage_at_Top_of_Freeboard=\"\",\"\",VLOOKUP(Stage_at_Top_of_Freeboard,B87:X3087,3)/43560)","v":""},"acre-ft",null,null,null,null,null,null,null,null,null,null,null,null,null,"04:05:00","","",null,null,null,null,null,null,null,null,null,null,null,"","","","",""]
[{"$f":"IF(Weir_Type=\"weir\",IF(B46=\"\",\"Spillway position relative to Overflow Weir =\",\"Spillway position relative to Overflow Weirs =\"),\"\")","v":""},null,null,null,null,null,null,null,null,null,null,null,null,null,null,null,null,null,null,null,null,null,"04:10:00","","",null,null,null,null,null,null,null,null,null,null,null,"","","","",""]
["Max Ponding Depth of Target Storage Volume =",{"$f":"IF(Largest_DesignStorm_Selected=\"\",\"\",\nIF(Largest_DesignStorm_Selected=\"WQCV\",B76,\nIF(Largest_DesignStorm_Selected=\"EURV\",C76,\nIF(Largest_DesignStorm_Selected=2,D76,\nIF(Largest_DesignStorm_Selected=5,E76,\nIF(Largest_DesignStorm_Selected=10,F76,\nIF(Largest_DesignStorm_Selected=25,G76,\nIF(Largest_DesignStorm_Selected=50,H76,\nIF(OR(Largest_DesignStorm_Selected=100,Largest_DesignStorm_Selected=\"100+1/2WQ\"),I76,\nINDEX($B$76:$J$76,1,MATCH(TotalVolume_Outlet,$B$78:$J$78,1)+1))))))))))","v":""},"feet",null,null,null,"Discharge at Top of Freeboard =",{"$f":"IF(Stage_at_Top_of_Freeboard=\"\",\"\",VLOOKUP(Stage_at_Top_of_Freeboard,B87:X3087,23))","v":""},"cfs",null,null,null,null,null,null,null,null,null,null,null,null,null,"04:15:00","","",null,null,null,null,null,null,null,null,null,null,null,"","","","",""]
["Routed Hydrograph Results","The user can override the default CUHP hydrographs and runoff volumes by entering new values in the Inflow Hydrographs table (Columns W through AF).",null,null,null,null,null,null,null,null,null,null,null,null,null,null,null,null,null,null,null,null,{"$f":"W59+Time_Interval/(60*24)","v":"04:20:00"},"","",null,null,null,null,null,null,null,null,null,null,null,"","","","",""]
["Design Storm Return Period =","WQCV","EURV","2 Year","5 Year","10 Year","25 Year","50 Year","100 Year","500 Year",null,null,null,null,null,null,null,null,null,null,null,null,"04:25:00","","",null,null,null,null,null,null,null,null,null,null,null,"","","","",""]
["One-Hour Rainfall Depth (in) =","N/A","N/A",{"$f":"IF(P_2yr_User=\"\",VLOOKUP('Program Data'!$B$50,Raingages,6),P_2yr_User)","v":0.82499999999999996},{"$f":"IF(P_5yr_User=\"\",VLOOKUP('Program Data'!$B$50,Raingages,7),P_5yr_User)","v":1.0900000000000001},{"$f":"IF(P_10yr_User=\"\",VLOOKUP('Program Data'!$B$50,Raingages,8),P_10yr_User)","v":1.33},{"$f":"IF(P_25yr_User=\"\",VLOOKUP('Program Data'!$B$50,Raingages,9),P_25yr_User)","v":1.69},{"$f":"IF(P_50yr_User=\"\",VLOOKUP('Program Data'!$B$50,Raingages,10),P_50yr_User)","v":1.99},{"$f":"IF(P_100yr_User=\"\",VLOOKUP('Program Data'!$B$50,Raingages,11),P_100yr_User)","v":2.31},{"$f":"IF(P_500yr_User=\"\",VLOOKUP('Program Data'!$B$50,Raingages,12),P_500yr_User)","v":3.14},null,null,null,null,null,null,null,null,null,null,null,null,"04:30:00","","",null,null,null,null,null,null,null,null,null,null,null,"","","","",""]
["CUHP Runoff Volume (acre-ft) =",{"$f":"IF(Calc_2yr_Vol=\"\",\"\",ROUND(Calc_WQCV,3))","v":""},{"$f":"IF(Calc_5yr_Vol=\"\",\"\",ROUND(Calc_EURV,3))","v":""},{"$f":"IF(Calc_2yr_Vol=\"\",\"\",ROUND(Calc_2yr_Vol,3))","v":""},{"$f":"IF(Calc_5yr_Vol=\"\",\"\",ROUND(Calc_5yr_Vol,3))","v":""},{"$f":"IF(Calc_10yr_Vol=\"\",\"\",ROUND(Calc_10yr_Vol,3))","v":""},{"$f":"IF(Calc_25yr_Vol=\"\",\"\",ROUND(Calc_25yr_Vol,3))","v":""},{"$f":"IF(Calc_50yr_Vol=\"\",\"\",ROUND(Calc_50yr_Vol,3))","v":""},{"$f":"IF(Calc_100yr_Vol=\"\",\"\",ROUND(Calc_100yr_Vol,3))","v":""},{"$f":"IF(Calc_500yr_Vol=\"\",\"\",ROUND(Calc_500yr_Vol,3))","v":""},null,null,null,null,null,null,null,null,null,null,null,null,"04:35:00","","",null,null,null,null,null,null,null,null,null,null,null,"","","","",""]
[{"$f":"IF(OR(Hydrograph_Source_WQCV=\"USER\",Hydrograph_Source_EURV=\"USER\",Hydrograph_Source_2YR=\"USER\",Hydrograph_Source_5YR=\"USER\",Hydrograph_Source_10YR=\"USER\",Hydrograph_Source_25YR=\"USER\",Hydrograph_Source_50YR=\"USER\",Hydrograph_Source_100YR=\"USER\",Hydrograph_Source_500YR=\"USER\"),\n\"User Override Inflow Hydrograph Volume (acre-ft) =\",\n\"Inflow Hydrograph Volume (acre-ft) =\")","v":"Inflow Hydrograph Volume (acre-ft) ="},{"$f":"IF($B$63=\"\",\"\",IF(Hydrograph_Source_WQCV=\"USER\",ROUND($D$4532,3),\"N/A\"))","v":""},{"$f":"IF($C$63=\"\",\"\",IF(Hydrograph_Source_EURV=\"USER\",ROUND($U$4532,3),\"N/A\"))","v":""},{"$f":"IF($D$63=\"\",\"\",ROUND($AL$4532,3))","v":""},{"$f":"IF($E$63=\"\",\"\",ROUND($BC$4532,3))","v":""},{"$f":"IF($F$63=\"\",\"\",ROUND($BT$4532,3))","v":""},{"$f":"IF($G$63=\"\",\"\",ROUND($CK$4532,3))","v":""},{"$f":"IF($H$63=\"\",\"\",ROUND($DB$4532,3))","v":""},{"$f":"IF($I$63=\"\",\"\",ROUND($DS$4532,3))","v":""},{"$f":"IF($J$63=\"\",\"\",ROUND($EJ$4532,3))","v":""},null,null,null,null,null,null,null,null,null,null,null,null,"04:40:00","","",null,null,null,null,null,null,null,null,null,null,null,"","","","",""]
["CUHP Predevelopment Peak Q (cfs) =",{"$f":"IF(CalcCopy_WQCV=\"\",\"\",\"N/A\")","v":""},{"$f":"IF(CalcCopy_EURV=\"\",\"\",\"N/A\")","v":""},null,null,null,null,null,null,null,null,null,null,null,null,null,null,null,null,null,null,null,"04:45:00","","",null,null,null,null,null,null,null,null,null,null,null,"","","","",""]
["OPTIONAL Override Predevelopment Peak Q (cfs) =",{"$f":"IF(CalcCopy_WQCV=\"\",\"\",\"N/A\")","v":""},{"$f":"IF(CalcCopy_EURV=\"\",\"\",\"N/A\")","v":""},null,null,null,null,null,null,null,null,null,null,null,null,null,null,null,null,null,null,null,"04:50:00","","",null,null,null,null,null,null,null,null,null,null,null,"","","","",""]
["Predevelopment Unit Peak Flow, q (cfs/acre) =",{"$f":"IF(CalcCopy_WQCV=\"\",\"\",\"N/A\")","v":""},{"$f":"IF(CalcCopy_EURV=\"\",\"\",\"N/A\")","v":""},{"$f":"IF(D65=\"\",\"\",IF(D66=\"\",D65/Watershed_Area,D66/Watershed_Area))","v":""},"","","","","","",null,null,null,null,null,null,null,null,null,null,null,null,"04:55:00","","",null,null,null,null,null,null,null,null,null,null,null,"","","","",""]
["Peak Inflow Q (cfs) =",{"$f":"IF($B$63=\"\",\"\",IF(Hydrograph_Source_WQCV=\"USER\",MAX($D3091:$D4531),\"N/A\"))","v":""},{"$f":"IF(CalcCopy_EURV=\"\",\"\",IF(Hydrograph_Source_EURV=\"USER\",MAX($U3091:$U4531),\"N/A\"))","v":""},{"$f":"IF($D$63=\"\",\"\",MAX($AL3091:$AL4531))","v":""},{"$f":"IF($E$63=\"\",\"\",MAX(BC3091:BC4531))","v":""},{"$f":"IF($F$63=\"\",\"\",MAX(BT3091:BT4531))","v":""},{"$f":"IF($G$63=\"\",\"\",MAX(CK3091:CK4531))","v":""},{"$f":"IF($H$63=\"\",\"\",MAX(DB3091:DB4531))","v":""},{"$f":"IF($I$63=\"\",\"\",MAX(DS3091:DS4531))","v":""},{"$f":"IF($J$63=\"\",\"\",MAX(EJ3091:EJ4531))","v":""},null,null,null,null,null,null,null,null,null,null,null,null,"05:00:00","","",null,null,null,null,null,null,null,null,null,null,null,"","","","",""]
["Peak Outflow Q (cfs) =",{"$f":"IF(MAX(G3091:G4531)=0,\"\",MAX(G3091:G4531))","v":""},{"$f":"IF(MAX(X3091:X4531)=0,\"\",MAX(X3091:X4531))","v":""},{"$f":"IF(MAX(AO3091:AO4531)=0,\"\",MAX(AO3091:AO4531))","v":""},{"$f":"IF(MAX(BF3091:BF4531)=0,\"\",MAX(BF3091:BF4531))","v":""},{"$f":"IF(MAX(BW3091:BW4531)=0,\"\",MAX(BW3091:BW4531))","v":""},{"$f":"IF(MAX(CN3091:CN4531)=0,\"\",MAX(CN3091:CN4531))","v":""},{"$f":"IF(MAX(DE3091:DE4531)=0,\"\",MAX(DE3091:DE4531))","v":""},{"$f":"IF(MAX(DU3091:DU4531)=0,\"\",MAX(DU3091:DU4531))","v":""},{"$f":"IF(MAX(EL3091:EL4531)=0,\"\",MAX(EL3091:EL4531))","v":""},null,null,null,null,null,null,null,null,null,null,null,null,"05:05:00","","",null,null,null,null,null,null,null,null,null,null,null,"","","","",""]
["Ratio Peak Outflow to Predevelopment Q =",{"$f":"IF(B69=\"\",\"\",\"N/A\")","v":""},{"$f":"IF(C69=\"\",\"\",\"N/A\")","v":""},{"$f":"IF(D69=\"\",\"\",\"N/A\")","v":""},{"$f":"IF(E69=\"\",\"\",IF(E66=\"\",E69/E65,E69/E66))","v":""},"","","","","",null,null,null,null,null,null,null,null,null,null,null,null,"05:10:00","","",null,null,null,null,null,null,null,null,null,null,null,"","","","",""]
["Structure Controlling Flow =",{"$f":"IF(B$76=\"\",\"\",IF(SUM($E$87:$E$3089)<>0,\"User Defined\",\nIF(INDEX($BD$88:$BL$3087,MaxDepthRow_WQCV,1)=1,\"Filtration Media\",\nIF(INDEX($BD$88:$BL$3087,MaxDepthRow_WQCV,2)=1,\"Plate\",\nIF(INDEX($BD$88:$BL$3087,MaxDepthRow_WQCV,3)=1,\"Vertical Orifice 1\",\nIF(INDEX($BD$88:$BL$3087,MaxDepthRow_WQCV,4)=1,\"Vertical Orifice 2\",\nIF(INDEX($BD$88:$BL$3087,MaxDepthRow_WQCV,5)=1,\"Overflow Weir 1\",\nIF(INDEX($BD$88:$BL$3087,MaxDepthRow_WQCV,6)=1,\"Overflow Weir 2\",\nIF(INDEX($BD$88:$BL$3087,MaxDepthRow_WQCV,7)=1,\"Outlet Plate 1\",\nIF(INDEX($BD$88:$BL$3087,MaxDepthRow_WQCV,8)=1,\"Outlet Plate 2\",\nIF(INDEX($BD$88:$BL$3087,MaxDepthRow_WQCV,9)=1,\"Spillway\",\"N/A\")))))))))))","v":""},{"$f":"IF(C$76=\"\",\"\",IF(SUM($E$87:$E$3089)<>0,\"User Defined\",\nIF(INDEX($BD$88:$BL$3087,MaxDepthRow_EURV,1)=1,\"Filtration Media\",\nIF(INDEX($BD$88:$BL$3087,MaxDepthRow_EURV,2)=1,\"Plate\",\nIF(INDEX($BD$88:$BL$3087,MaxDepthRow_EURV,3)=1,\"Vertical Orifice 1\",\nIF(INDEX($BD$88:$BL$3087,MaxDepthRow_EURV,4)=1,\"Vertical Orifice 2\",\nIF(INDEX($BD$88:$BL$3087,MaxDepthRow_EURV,5)=1,\"Overflow Weir 1\",\nIF(INDEX($BD$88:$BL$3087,MaxDepthRow_EURV,6)=1,\"Overflow Weir 2\",\nIF(INDEX($BD$88:$BL$3087,MaxDepthRow_EURV,7)=1,\"Outlet Plate 1\",\nIF(INDEX($BD$88:$BL$3087,MaxDepthRow_EURV,8)=1,\"Outlet Plate 2\",\nIF(INDEX($BD$88:$BL$3087,MaxDepthRow_EURV,9)=1,\"Spillway\",\"N/A\")))))))))))","v":""},{"$f":"IF(D$76=\"\",\"\",IF(SUM($E$87:$E$3089)<>0,\"User Defined\",\nIF(INDEX($BD$88:$BL$3087,MaxDepthRow_2yr,1)=1,\"Filtration Media\",\nIF(INDEX($BD$88:$BL$3087,MaxDepthRow_2yr,2)=1,\"Plate\",\nIF(INDEX($BD$88:$BL$3087,MaxDepthRow_2yr,3)=1,\"Vertical Orifice 1\",\nIF(INDEX($BD$88:$BL$3087,MaxDepthRow_2yr,4)=1,\"Vertical Orifice 2\",\nIF(INDEX($BD$88:$BL$3087,MaxDepthRow_2yr,5)=1,\"Overflow Weir 1\",\nIF(INDEX($BD$88:$BL$3087,MaxDepthRow_2yr,6)=1,\"Overflow Weir 2\",\nIF(INDEX($BD$88:$BL$3087,MaxDepthRow_2yr,7)=1,\"Outlet Plate 1\",\nIF(INDEX($BD$88:$BL$3087,MaxDepthRow_2yr,8)=1,\"Outlet Plate 2\",\nIF(INDEX($BD$88:$BL$3087,MaxDepthRow_2yr,9)=1,\"Spillway\",\"N/A\")))))))))))","v":""},{"$f":"IF(E$76=\"\",\"\",IF(SUM($E$87:$E$3089)<>0,\"User Defined\",\nIF(INDEX($BD$88:$BL$3087,MaxDepthRow_5yr,1)=1,\"Filtration Media\",\nIF(INDEX($BD$88:$BL$3087,MaxDepthRow_5yr,2)=1,\"Plate\",\nIF(INDEX($BD$88:$BL$3087,MaxDepthRow_5yr,3)=1,\"Vertical Orifice 1\",\nIF(INDEX($BD$88:$BL$3087,MaxDepthRow_5yr,4)=1,\"Vertical Orifice 2\",\nIF(INDEX($BD$88:$BL$3087,MaxDepthRow_5yr,5)=1,\"Overflow Weir 1\",\nIF(INDEX($BD$88:$BL$3087,MaxDepthRow_5yr,6)=1,\"Overflow Weir 2\",\nIF(INDEX($BD$88:$BL$3087,MaxDepthRow_5yr,7)=1,\"Outlet Plate 1\",\nIF(INDEX($BD$88:$BL$3087,MaxDepthRow_5yr,8)=1,\"Outlet Plate 2\",\nIF(INDEX($BD$88:$BL$3087,MaxDepthRow_5yr,9)=1,\"Spillway\",\"N/A\")))))))))))","v":""},{"$f":"IF(F$76=\"\",\"\",IF(SUM($E$87:$E$3089)<>0,\"User Defined\",\nIF(INDEX($BD$88:$BL$3087,MaxDepthRow_10yr,1)=1,\"Filtration Media\",\nIF(INDEX($BD$88:$BL$3087,MaxDepthRow_10yr,2)=1,\"Plate\",\nIF(INDEX($BD$88:$BL$3087,MaxDepthRow_10yr,3)=1,\"Vertical Orifice 1\",\nIF(INDEX($BD$88:$BL$3087,MaxDepthRow_10yr,4)=1,\"Vertical Orifice 2\",\nIF(INDEX($BD$88:$BL$3087,MaxDepthRow_10yr,5)=1,\"Overflow Weir 1\",\nIF(INDEX($BD$88:$BL$3087,MaxDepthRow_10yr,6)=1,\"Overflow Weir 2\",\nIF(INDEX($BD$88:$BL$3087,MaxDepthRow_10yr,7)=1,\"Outlet Plate 1\",\nIF(INDEX($BD$88:$BL$3087,MaxDepthRow_10yr,8)=1,\"Outlet Plate 2\",\nIF(INDEX($BD$88:$BL$3087,MaxDepthRow_10yr,9)=1,\"Spillway\",\"N/A\")))))))))))","v":""},{"$f":"IF(G$76=\"\",\"\",IF(SUM($E$87:$E$3089)<>0,\"User Defined\",\nIF(INDEX($BD$88:$BL$3087,MaxDepthRow_25yr,1)=1,\"Filtration Media\",\nIF(INDEX($BD$88:$BL$3087,MaxDepthRow_25yr,2)=1,\"Plate\",\nIF(INDEX($BD$88:$BL$3087,MaxDepthRow_25yr,3)=1,\"Vertical Orifice 1\",\nIF(INDEX($BD$88:$BL$3087,MaxDepthRow_25yr,4)=1,\"Vertical Orifice 2\",\nIF(INDEX($BD$88:$BL$3087,MaxDepthRow_25yr,5)=1,\"Overflow Weir 1\",\nIF(INDEX($BD$88:$BL$3087,MaxDepthRow_25yr,6)=1,\"Overflow Weir 2\",\nIF(INDEX($BD$88:$BL$3087,MaxDepthRow_25yr,7)=1,\"Outlet Plate 1\",\nIF(INDEX($BD$88:$BL$3087,MaxDepthRow_25yr,8)=1,\"Outlet Plate 2\",\nIF(INDEX($BD$88:$BL$3087,MaxDepthRow_25yr,9)=1,\"Spillway\",\"N/A\")))))))))))","v":""},{"$f":"IF(H$76=\"\",\"\",IF(SUM($E$87:$E$3089)<>0,\"User Defined\",\nIF(INDEX($BD$88:$BL$3087,MaxDepthRow_50yr,1)=1,\"Filtration Media\",\nIF(INDEX($BD$88:$BL$3087,MaxDepthRow_50yr,2)=1,\"Plate\",\nIF(INDEX($BD$88:$BL$3087,MaxDepthRow_50yr,3)=1,\"Vertical Orifice 1\",\nIF(INDEX($BD$88:$BL$3087,MaxDepthRow_50yr,4)=1,\"Vertical Orifice 2\",\nIF(INDEX($BD$88:$BL$3087,MaxDepthRow_50yr,5)=1,\"Overflow Weir 1\",\nIF(INDEX($BD$88:$BL$3087,MaxDepthRow_50yr,6)=1,\"Overflow Weir 2\",\nIF(INDEX($BD$88:$BL$3087,MaxDepthRow_50yr,7)=1,\"Outlet Plate 1\",\nIF(INDEX($BD$88:$BL$3087,MaxDepthRow_50yr,8)=1,\"Outlet Plate 2\",\nIF(INDEX($BD$88:$BL$3087,MaxDepthRow_50yr,9)=1,\"Spillway\",\"N/A\")))))))))))","v":""},{"$f":"IF(I$76=\"\",\"\",IF(SUM($E$87:$E$3089)<>0,\"User Defined\",\nIF(INDEX($BD$88:$BL$3087,MaxDepthRow_100yr,1)=1,\"Filtration Media\",\nIF(INDEX($BD$88:$BL$3087,MaxDepthRow_100yr,2)=1,\"Plate\",\nIF(INDEX($BD$88:$BL$3087,MaxDepthRow_100yr,3)=1,\"Vertical Orifice 1\",\nIF(INDEX($BD$88:$BL$3087,MaxDepthRow_100yr,4)=1,\"Vertical Orifice 2\",\nIF(INDEX($BD$88:$BL$3087,MaxDepthRow_100yr,5)=1,\"Overflow Weir 1\",\nIF(INDEX($BD$88:$BL$3087,MaxDepthRow_100yr,6)=1,\"Overflow Weir 2\",\nIF(INDEX($BD$88:$BL$3087,MaxDepthRow_100yr,7)=1,\"Outlet Plate 1\",\nIF(INDEX($BD$88:$BL$3087,MaxDepthRow_100yr,8)=1,\"Outlet Plate 2\",\nIF(INDEX($BD$88:$BL$3087,MaxDepthRow_100yr,9)=1,\"Spillway\",\"N/A\")))))))))))","v":""},{"$f":"IF(J$76=\"\",\"\",IF(SUM($E$87:$E$3089)<>0,\"User Defined\",\nIF(INDEX($BD$88:$BL$3087,MaxDepthRow_500yr,1)=1,\"Filtration Media\",\nIF(INDEX($BD$88:$BL$3087,MaxDepthRow_500yr,2)=1,\"Plate\",\nIF(INDEX($BD$88:$BL$3087,MaxDepthRow_500yr,3)=1,\"Vertical Orifice 1\",\nIF(INDEX($BD$88:$BL$3087,MaxDepthRow_500yr,4)=1,\"Vertical Orifice 2\",\nIF(INDEX($BD$88:$BL$3087,MaxDepthRow_500yr,5)=1,\"Overflow Weir 1\",\nIF(INDEX($BD$88:$BL$3087,MaxDepthRow_500yr,6)=1,\"Overflow Weir 2\",\nIF(INDEX($BD$88:$BL$3087,MaxDepthRow_500yr,7)=1,\"Outlet Plate 1\",\nIF(INDEX($BD$88:$BL$3087,MaxDepthRow_500yr,8)=1,\"Outlet Plate 2\",\nIF(INDEX($BD$88:$BL$3087,MaxDepthRow_500yr,9)=1,\"Spillway\",\"N/A\")))))))))))","v":""},null,null,null,null,null,null,null,null,null,null,null,null,"05:15:00","","",null,null,null,null,null,null,null,null,null,null,null,"","","","",""]
["Max Velocity through Grate 1 (fps) =",{"$f":"IF(B69=\"\",\"\",IF(Count_Weir1=0,\"N/A\",IF(OR(Weir1_horiz_length_of_grate=0,Weir1_horiz_length_of_grate=\"N/A\"),\"N/A\",IF(B76<=Weir1_Ho,\"N/A\",\n\n(MIN(INDEX($N$87:$N$3087,MaxDepthRow_WQCV),\n\nIF(Overflow_Weir1_Rank=1,INDEX($T$87:$T$3087,MaxDepthRow_WQCV)-INDEX($G$87:$G$3087,MaxDepthRow_WQCV)-INDEX($H$87:$H$3087,MaxDepthRow_WQCV),\n\nIF(Overflow_Weir1_Rank=2,INDEX($T$87:$T$3087,MaxDepthRow_WQCV)-INDEX($G$87:$G$3087,MaxDepthRow_WQCV)-INDEX($H$87:$H$3087,MaxDepthRow_WQCV)-INDEX($I$87:$I$3087,MaxDepthRow_WQCV),\n\nINDEX($T$87:$T$3087,MaxDepthRow_WQCV)-INDEX($G$87:$G$3087,MaxDepthRow_WQCV)-INDEX($H$87:$H$3087,MaxDepthRow_WQCV)-INDEX($I$87:$I$3087,MaxDepthRow_WQCV)-INDEX($J$87:$J$3087,MaxDepthRow_WQCV))))\n\n/(Grate_Area_1))))))","v":""},{"$f":"IF(C69=\"\",\"\",IF(Count_Weir1=0,\"N/A\",IF(OR(Weir1_horiz_length_of_grate=0,Weir1_horiz_length_of_grate=\"N/A\"),\"N/A\",IF(C76<=Weir1_Ho,\"N/A\",\n\n(MIN(INDEX($N$87:$N$3087,MaxDepthRow_EURV),\n\nIF(Overflow_Weir1_Rank=1,INDEX($T$87:$T$3087,MaxDepthRow_EURV)-INDEX($G$87:$G$3087,MaxDepthRow_EURV)-INDEX($H$87:$H$3087,MaxDepthRow_EURV),\n\nIF(Overflow_Weir1_Rank=2,INDEX($T$87:$T$3087,MaxDepthRow_EURV)-INDEX($G$87:$G$3087,MaxDepthRow_EURV)-INDEX($H$87:$H$3087,MaxDepthRow_EURV)-INDEX($I$87:$I$3087,MaxDepthRow_EURV),\n\nINDEX($T$87:$T$3087,MaxDepthRow_EURV)-INDEX($G$87:$G$3087,MaxDepthRow_EURV)-INDEX($H$87:$H$3087,MaxDepthRow_EURV)-INDEX($I$87:$I$3087,MaxDepthRow_EURV)-INDEX($J$87:$J$3087,MaxDepthRow_EURV))))\n\n/(Grate_Area_1))))))","v":""},{"$f":"IF(D69=\"\",\"\",IF(Count_Weir1=0,\"N/A\",IF(OR(Weir1_horiz_length_of_grate=0,Weir1_horiz_length_of_grate=\"N/A\"),\"N/A\",IF(D76<=Weir1_Ho,\"N/A\",\n\n(MIN(INDEX($N$87:$N$3087,MaxDepthRow_2yr),\n\nIF(Overflow_Weir1_Rank=1,INDEX($T$87:$T$3087,MaxDepthRow_2yr)-INDEX($G$87:$G$3087,MaxDepthRow_2yr)-INDEX($H$87:$H$3087,MaxDepthRow_2yr),\n\nIF(Overflow_Weir1_Rank=2,INDEX($T$87:$T$3087,MaxDepthRow_2yr)-INDEX($G$87:$G$3087,MaxDepthRow_2yr)-INDEX($H$87:$H$3087,MaxDepthRow_2yr)-INDEX($I$87:$I$3087,MaxDepthRow_2yr),\n\nINDEX($T$87:$T$3087,MaxDepthRow_2yr)-INDEX($G$87:$G$3087,MaxDepthRow_2yr)-INDEX($H$87:$H$3087,MaxDepthRow_2yr)-INDEX($I$87:$I$3087,MaxDepthRow_2yr)-INDEX($J$87:$J$3087,MaxDepthRow_2yr))))\n\n/(Grate_Area_1))))))","v":""},{"$f":"IF(E69=\"\",\"\",IF(Count_Weir1=0,\"N/A\",IF(OR(Weir1_horiz_length_of_grate=0,Weir1_horiz_length_of_grate=\"N/A\"),\"N/A\",IF(E76<=Weir1_Ho,\"N/A\",\n\n(MIN(INDEX($N$87:$N$3087,MaxDepthRow_5yr),\n\nIF(Overflow_Weir1_Rank=1,INDEX($T$87:$T$3087,MaxDepthRow_5yr)-INDEX($G$87:$G$3087,MaxDepthRow_5yr)-INDEX($H$87:$H$3087,MaxDepthRow_5yr),\n\nIF(Overflow_Weir1_Rank=2,INDEX($T$87:$T$3087,MaxDepthRow_5yr)-INDEX($G$87:$G$3087,MaxDepthRow_5yr)-INDEX($H$87:$H$3087,MaxDepthRow_5yr)-INDEX($I$87:$I$3087,MaxDepthRow_5yr),\n\nINDEX($T$87:$T$3087,MaxDepthRow_5yr)-INDEX($G$87:$G$3087,MaxDepthRow_5yr)-INDEX($H$87:$H$3087,MaxDepthRow_5yr)-INDEX($I$87:$I$3087,MaxDepthRow_5yr)-INDEX($J$87:$J$3087,MaxDepthRow_5yr))))\n\n/(Grate_Area_1))))))","v":""},{"$f":"IF(F69=\"\",\"\",IF(Count_Weir1=0,\"N/A\",IF(OR(Weir1_horiz_length_of_grate=0,Weir1_horiz_length_of_grate=\"N/A\"),\"N/A\",IF(F76<=Weir1_Ho,\"N/A\",\n\n(MIN(INDEX($N$87:$N$3087,MaxDepthRow_10yr),\n\nIF(Overflow_Weir1_Rank=1,INDEX($T$87:$T$3087,MaxDepthRow_10yr)-INDEX($G$87:$G$3087,MaxDepthRow_10yr)-INDEX($H$87:$H$3087,MaxDepthRow_10yr),\n\nIF(Overflow_Weir1_Rank=2,INDEX($T$87:$T$3087,MaxDepthRow_10yr)-INDEX($G$87:$G$3087,MaxDepthRow_10yr)-INDEX($H$87:$H$3087,MaxDepthRow_10yr)-INDEX($I$87:$I$3087,MaxDepthRow_10yr),\n\nINDEX($T$87:$T$3087,MaxDepthRow_10yr)-INDEX($G$87:$G$3087,MaxDepthRow_10yr)-INDEX($H$87:$H$3087,MaxDepthRow_10yr)-INDEX($I$87:$I$3087,MaxDepthRow_10yr)-INDEX($J$87:$J$3087,MaxDepthRow_10yr))))\n\n/(Grate_Area_1))))))","v":""},{"$f":"IF(G69=\"\",\"\",IF(Count_Weir1=0,\"N/A\",IF(OR(Weir1_horiz_length_of_grate=0,Weir1_horiz_length_of_grate=\"N/A\"),\"N/A\",IF(G76<=Weir1_Ho,\"N/A\",\n\n(MIN(INDEX($N$87:$N$3087,MaxDepthRow_25yr),\n\nIF(Overflow_Weir1_Rank=1,INDEX($T$87:$T$3087,MaxDepthRow_25yr)-INDEX($G$87:$G$3087,MaxDepthRow_25yr)-INDEX($H$87:$H$3087,MaxDepthRow_25yr),\n\nIF(Overflow_Weir1_Rank=2,INDEX($T$87:$T$3087,MaxDepthRow_25yr)-INDEX($G$87:$G$3087,MaxDepthRow_25yr)-INDEX($H$87:$H$3087,MaxDepthRow_25yr)-INDEX($I$87:$I$3087,MaxDepthRow_25yr),\n\nINDEX($T$87:$T$3087,MaxDepthRow_25yr)-INDEX($G$87:$G$3087,MaxDepthRow_25yr)-INDEX($H$87:$H$3087,MaxDepthRow_25yr)-INDEX($I$87:$I$3087,MaxDepthRow_25yr)-INDEX($J$87:$J$3087,MaxDepthRow_25yr))))\n\n/(Grate_Area_1))))))","v":""},{"$f":"IF(H69=\"\",\"\",IF(Count_Weir1=0,\"N/A\",IF(OR(Weir1_horiz_length_of_grate=0,Weir1_horiz_length_of_grate=\"N/A\"),\"N/A\",IF(H76<=Weir1_Ho,\"N/A\",\n\n(MIN(INDEX($N$87:$N$3087,MaxDepthRow_50yr),\n\nIF(Overflow_Weir1_Rank=1,INDEX($T$87:$T$3087,MaxDepthRow_50yr)-INDEX($G$87:$G$3087,MaxDepthRow_50yr)-INDEX($H$87:$H$3087,MaxDepthRow_50yr),\n\nIF(Overflow_Weir1_Rank=2,INDEX($T$87:$T$3087,MaxDepthRow_50yr)-INDEX($G$87:$G$3087,MaxDepthRow_50yr)-INDEX($H$87:$H$3087,MaxDepthRow_50yr)-INDEX($I$87:$I$3087,MaxDepthRow_50yr),\n\nINDEX($T$87:$T$3087,MaxDepthRow_50yr)-INDEX($G$87:$G$3087,MaxDepthRow_50yr)-INDEX($H$87:$H$3087,MaxDepthRow_50yr)-INDEX($I$87:$I$3087,MaxDepthRow_50yr)-INDEX($J$87:$J$3087,MaxDepthRow_50yr))))\n\n/(Grate_Area_1))))))","v":""},{"$f":"IF(I69=\"\",\"\",IF(Count_Weir1=0,\"N/A\",IF(OR(Weir1_horiz_length_of_grate=0,Weir1_horiz_length_of_grate=\"N/A\"),\"N/A\",IF(I76<=Weir1_Ho,\"N/A\",\n\n(MIN(INDEX($N$87:$N$3087,MaxDepthRow_100yr),\n\nIF(Overflow_Weir1_Rank=1,INDEX($T$87:$T$3087,MaxDepthRow_100yr)-INDEX($G$87:$G$3087,MaxDepthRow_100yr)-INDEX($H$87:$H$3087,MaxDepthRow_100yr),\n\nIF(Overflow_Weir1_Rank=2,INDEX($T$87:$T$3087,MaxDepthRow_100yr)-INDEX($G$87:$G$3087,MaxDepthRow_100yr)-INDEX($H$87:$H$3087,MaxDepthRow_100yr)-INDEX($I$87:$I$3087,MaxDepthRow_100yr),\n\nINDEX($T$87:$T$3087,MaxDepthRow_100yr)-INDEX($G$87:$G$3087,MaxDepthRow_100yr)-INDEX($H$87:$H$3087,MaxDepthRow_100yr)-INDEX($I$87:$I$3087,MaxDepthRow_100yr)-INDEX($J$87:$J$3087,MaxDepthRow_100yr))))\n\n/(Grate_Area_1))))))","v":""},{"$f":"IF(J69=\"\",\"\",IF(Count_Weir1=0,\"N/A\",IF(OR(Weir1_horiz_length_of_grate=0,Weir1_horiz_length_of_grate=\"N/A\"),\"N/A\",IF(J76<=Weir1_Ho,\"N/A\",\n\n(MIN(INDEX($N$87:$N$3087,MaxDepthRow_500yr),\n\nIF(Overflow_Weir1_Rank=1,INDEX($T$87:$T$3087,MaxDepthRow_500yr)-INDEX($G$87:$G$3087,MaxDepthRow_500yr)-INDEX($H$87:$H$3087,MaxDepthRow_500yr),\n\nIF(Overflow_Weir1_Rank=2,INDEX($T$87:$T$3087,MaxDepthRow_500yr)-INDEX($G$87:$G$3087,MaxDepthRow_500yr)-INDEX($H$87:$H$3087,MaxDepthRow_500yr)-INDEX($I$87:$I$3087,MaxDepthRow_500yr),\n\nINDEX($T$87:$T$3087,MaxDepthRow_500yr)-INDEX($G$87:$G$3087,MaxDepthRow_500yr)-INDEX($H$87:$H$3087,MaxDepthRow_500yr)-INDEX($I$87:$I$3087,MaxDepthRow_500yr)-INDEX($J$87:$J$3087,MaxDepthRow_500yr))))\n\n/(Grate_Area_1))))))","v":""},null,null,null,null,null,null,null,null,null,null,null,null,"05:20:00","","",null,null,null,null,null,null,null,null,null,null,null,{"$f":"IF(Basin_CountA=0,\"\",IF($AJ72=\"\",\"\",VLOOKUP($AJ72,$B$87:$X$3087,2)))","v":""},{"$f":"IF(Basin_CountA=0,\"\",IF($AJ72=\"\",\"\",AK72/43560))","v":""},{"$f":"IF(Basin_CountA=0,\"\",IF($AJ72=\"\",\"\",VLOOKUP($AJ72,$B$87:$X$3087,3)))","v":""},{"$f":"IF(Basin_CountA=0,\"\",IF($AJ72=\"\",\"\",AM72/43560))","v":""},{"$f":"IF(Basin_CountA=0,\"\",IF($AJ72=\"\",\"\",VLOOKUP($AJ72,$B$87:$X$3087,23)))","v":""}]
["Max Velocity through Grate 2 (fps) =",{"$f":"IF(B69=\"\",\"\",IF(Count_Weir2=0,\"N/A\",IF(OR(Weir2_horiz_length_of_grate=0,Weir2_horiz_length_of_grate=\"N/A\"),\"N/A\",IF(B76<=Weir2_Ho,\"N/A\",\n\n(MIN(INDEX($R$87:$R$3087,MaxDepthRow_WQCV),\n\nIF(Overflow_Weir2_Rank=2,INDEX($V$87:$V$3087,MaxDepthRow_WQCV)-INDEX($T$87:$T$3087,MaxDepthRow_WQCV),\n\nIF(Overflow_Weir2_Rank=3,INDEX($V$87:$V$3087,MaxDepthRow_WQCV)-INDEX($T$87:$T$3087,MaxDepthRow_WQCV)-INDEX($I$87:$I$3087,MaxDepthRow_WQCV),\n\nINDEX($V$87:$V$3087,MaxDepthRow_WQCV)-INDEX($T$87:$T$3087,MaxDepthRow_WQCV)-INDEX($I$87:$I$3087,MaxDepthRow_WQCV)-INDEX($J$87:$J$3087,MaxDepthRow_WQCV))))\n\n/(Grate_Area_2))))))","v":""},{"$f":"IF(C69=\"\",\"\",IF(Count_Weir2=0,\"N/A\",IF(OR(Weir2_horiz_length_of_grate=0,Weir2_horiz_length_of_grate=\"N/A\"),\"N/A\",IF(C76<=Weir2_Ho,\"N/A\",\n\n(MIN(INDEX($R$87:$R$3087,MaxDepthRow_EURV),\n\nIF(Overflow_Weir2_Rank=2,INDEX($V$87:$V$3087,MaxDepthRow_EURV)-INDEX($T$87:$T$3087,MaxDepthRow_EURV),\n\nIF(Overflow_Weir2_Rank=3,INDEX($V$87:$V$3087,MaxDepthRow_EURV)-INDEX($T$87:$T$3087,MaxDepthRow_EURV)-INDEX($I$87:$I$3087,MaxDepthRow_EURV),\n\nINDEX($V$87:$V$3087,MaxDepthRow_EURV)-INDEX($T$87:$T$3087,MaxDepthRow_EURV)-INDEX($I$87:$I$3087,MaxDepthRow_EURV)-INDEX($J$87:$J$3087,MaxDepthRow_EURV))))\n\n/(Grate_Area_2))))))","v":""},{"$f":"IF(D69=\"\",\"\",IF(Count_Weir2=0,\"N/A\",IF(OR(Weir2_horiz_length_of_grate=0,Weir2_horiz_length_of_grate=\"N/A\"),\"N/A\",IF(D76<=Weir2_Ho,\"N/A\",\n\n(MIN(INDEX($R$87:$R$3087,MaxDepthRow_2yr),\n\nIF(Overflow_Weir2_Rank=2,INDEX($V$87:$V$3087,MaxDepthRow_2yr)-INDEX($T$87:$T$3087,MaxDepthRow_2yr),\n\nIF(Overflow_Weir2_Rank=3,INDEX($V$87:$V$3087,MaxDepthRow_2yr)-INDEX($T$87:$T$3087,MaxDepthRow_2yr)-INDEX($I$87:$I$3087,MaxDepthRow_2yr),\n\nINDEX($V$87:$V$3087,MaxDepthRow_2yr)-INDEX($T$87:$T$3087,MaxDepthRow_2yr)-INDEX($I$87:$I$3087,MaxDepthRow_2yr)-INDEX($J$87:$J$3087,MaxDepthRow_2yr))))\n\n/(Grate_Area_2))))))","v":""},{"$f":"IF(E69=\"\",\"\",IF(Count_Weir2=0,\"N/A\",IF(OR(Weir2_horiz_length_of_grate=0,Weir2_horiz_length_of_grate=\"N/A\"),\"N/A\",IF(E76<=Weir2_Ho,\"N/A\",\n\n(MIN(INDEX($R$87:$R$3087,MaxDepthRow_5yr),\n\nIF(Overflow_Weir2_Rank=2,INDEX($V$87:$V$3087,MaxDepthRow_5yr)-INDEX($T$87:$T$3087,MaxDepthRow_5yr),\n\nIF(Overflow_Weir2_Rank=3,INDEX($V$87:$V$3087,MaxDepthRow_5yr)-INDEX($T$87:$T$3087,MaxDepthRow_5yr)-INDEX($I$87:$I$3087,MaxDepthRow_5yr),\n\nINDEX($V$87:$V$3087,MaxDepthRow_5yr)-INDEX($T$87:$T$3087,MaxDepthRow_5yr)-INDEX($I$87:$I$3087,MaxDepthRow_5yr)-INDEX($J$87:$J$3087,MaxDepthRow_5yr))))\n\n/(Grate_Area_2))))))","v":""},{"$f":"IF(F69=\"\",\"\",IF(Count_Weir2=0,\"N/A\",IF(OR(Weir2_horiz_length_of_grate=0,Weir2_horiz_length_of_grate=\"N/A\"),\"N/A\",IF(F76<=Weir2_Ho,\"N/A\",\n(MIN(INDEX($R$87:$R$3087,MaxDepthRow_10yr),\n\nIF(Overflow_Weir2_Rank=2,INDEX($V$87:$V$3087,MaxDepthRow_10yr)-INDEX($T$87:$T$3087,MaxDepthRow_10yr),\n\nIF(Overflow_Weir2_Rank=3,INDEX($V$87:$V$3087,MaxDepthRow_10yr)-INDEX($T$87:$T$3087,MaxDepthRow_10yr)-INDEX($I$87:$I$3087,MaxDepthRow_10yr),\n\nINDEX($V$87:$V$3087,MaxDepthRow_10yr)-INDEX($T$87:$T$3087,MaxDepthRow_10yr)-INDEX($I$87:$I$3087,MaxDepthRow_10yr)-INDEX($J$87:$J$3087,MaxDepthRow_10yr))))\n\n/(Grate_Area_2))))))","v":""},{"$f":"IF(G69=\"\",\"\",IF(Count_Weir2=0,\"N/A\",IF(OR(Weir2_horiz_length_of_grate=0,Weir2_horiz_length_of_grate=\"N/A\"),\"N/A\",IF(G76<=Weir2_Ho,\"N/A\",\n\n(MIN(INDEX($R$87:$R$3087,MaxDepthRow_25yr),\n\nIF(Overflow_Weir2_Rank=2,INDEX($V$87:$V$3087,MaxDepthRow_25yr)-INDEX($T$87:$T$3087,MaxDepthRow_25yr),\n\nIF(Overflow_Weir2_Rank=3,INDEX($V$87:$V$3087,MaxDepthRow_25yr)-INDEX($T$87:$T$3087,MaxDepthRow_25yr)-INDEX($I$87:$I$3087,MaxDepthRow_25yr),\n\nINDEX($V$87:$V$3087,MaxDepthRow_25yr)-INDEX($T$87:$T$3087,MaxDepthRow_25yr)-INDEX($I$87:$I$3087,MaxDepthRow_25yr)-INDEX($J$87:$J$3087,MaxDepthRow_25yr))))\n\n/(Grate_Area_2))))))","v":""},{"$f":"IF(H69=\"\",\"\",IF(Count_Weir2=0,\"N/A\",IF(OR(Weir2_horiz_length_of_grate=0,Weir2_horiz_length_of_grate=\"N/A\"),\"N/A\",IF(H76<=Weir2_Ho,\"N/A\",\n(MIN(INDEX($R$87:$R$3087,MaxDepthRow_50yr),\n\nIF(Overflow_Weir2_Rank=2,INDEX($V$87:$V$3087,MaxDepthRow_50yr)-INDEX($T$87:$T$3087,MaxDepthRow_50yr),\n\nIF(Overflow_Weir2_Rank=3,INDEX($V$87:$V$3087,MaxDepthRow_50yr)-INDEX($T$87:$T$3087,MaxDepthRow_50yr)-INDEX($I$87:$I$3087,MaxDepthRow_50yr),\n\nINDEX($V$87:$V$3087,MaxDepthRow_50yr)-INDEX($T$87:$T$3087,MaxDepthRow_50yr)-INDEX($I$87:$I$3087,MaxDepthRow_50yr)-INDEX($J$87:$J$3087,MaxDepthRow_50yr))))\n\n/(Grate_Area_2))))))","v":""},{"$f":"IF(I69=\"\",\"\",IF(Count_Weir2=0,\"N/A\",IF(OR(Weir2_horiz_length_of_grate=0,Weir2_horiz_length_of_grate=\"N/A\"),\"N/A\",IF(I76<=Weir2_Ho,\"N/A\",\n\n(MIN(INDEX($R$87:$R$3087,MaxDepthRow_100yr),\n\nIF(Overflow_Weir2_Rank=2,INDEX($V$87:$V$3087,MaxDepthRow_100yr)-INDEX($T$87:$T$3087,MaxDepthRow_100yr),\n\nIF(Overflow_Weir2_Rank=3,INDEX($V$87:$V$3087,MaxDepthRow_100yr)-INDEX($T$87:$T$3087,MaxDepthRow_100yr)-INDEX($I$87:$I$3087,MaxDepthRow_100yr),\n\nINDEX($V$87:$V$3087,MaxDepthRow_100yr)-INDEX($T$87:$T$3087,MaxDepthRow_100yr)-INDEX($I$87:$I$3087,MaxDepthRow_100yr)-INDEX($J$87:$J$3087,MaxDepthRow_100yr))))\n\n/(Grate_Area_2))))))","v":""},{"$f":"IF(J69=\"\",\"\",IF(Count_Weir2=0,\"N/A\",IF(OR(Weir2_horiz_length_of_grate=0,Weir2_horiz_length_of_grate=\"N/A\"),\"N/A\",IF(J76<=Weir2_Ho,\"N/A\",\n(MIN(INDEX($R$87:$R$3087,MaxDepthRow_500yr),\n\nIF(Overflow_Weir2_Rank=2,INDEX($V$87:$V$3087,MaxDepthRow_500yr)-INDEX($T$87:$T$3087,MaxDepthRow_500yr),\n\nIF(Overflow_Weir2_Rank=3,INDEX($V$87:$V$3087,MaxDepthRow_500yr)-INDEX($T$87:$T$3087,MaxDepthRow_500yr)-INDEX($I$87:$I$3087,MaxDepthRow_500yr),\n\nINDEX($V$87:$V$3087,MaxDepthRow_500yr)-INDEX($T$87:$T$3087,MaxDepthRow_500yr)-INDEX($I$87:$I$3087,MaxDepthRow_500yr)-INDEX($J$87:$J$3087,MaxDepthRow_500yr))))\n\n/(Grate_Area_2))))))","v":""},null,null,null,null,null,null,null,null,null,null,null,null,{"$f":"W72+Time_Interval/(60*24)","v":"05:25:00"},"","",null,null,null,null,null,null,null,null,null,null,null,"","","","",""]
["Time to Drain 97% of Inflow Volume (hours) =",{"$f":"IF(B69=\"\",\"\",IF(MAX(S3091:S4531)=0,\">120\",ROUND(MAX(S3091:S4531),1)))","v":""},{"$f":"IF(C69=\"\",\"\",IF(MAX(AJ3091:AJ4531)=0,\">120\",ROUND(MAX(AJ3091:AJ4531),1)))","v":""},{"$f":"IF(D69=\"\",\"\",IF(MAX(BA3091:BA4531)=0,\">120\",ROUND(MAX(BA3091:BA4531),1)))","v":""},{"$f":"IF(E69=\"\",\"\",IF(MAX(BR3091:BR4531)=0,\">120\",ROUND(MAX(BR3091:BR4531),1)))","v":""},{"$f":"IF(F69=\"\",\"\",IF(MAX(CI3091:CI4531)=0,\">120\",ROUND(MAX(CI3091:CI4531),1)))","v":""},{"$f":"IF(G69=\"\",\"\",IF(MAX(CZ3091:CZ4531)=0,\">120\",ROUND(MAX(CZ3091:CZ4531),1)))","v":""},{"$f":"IF(H69=\"\",\"\",IF(MAX(DQ3091:DQ4531)=0,\">120\",ROUND(MAX(DQ3091:DQ4531),1)))","v":""},{"$f":"IF(I69=\"\",\"\",IF(MAX(EH3091:EH4531)=0,\">120\",ROUND(MAX(EH3091:EH4531),1)))","v":""},{"$f":"IF(J69=\"\",\"\",IF(MAX(EY3091:EY4531)=0,\">120\",ROUND(MAX(EY3091:EY4531),1)))","v":""},null,"S-A-V-D Chart Axis Default","X-axis","Left Y-Axis","Right Y-Axis",null,null,null,null,null,null,null,"05:30:00","","",null,null,null,null,null,null,null,null,null,null,null,"","","","",""]
["Time to Drain 99% of Inflow Volume (hours) =",{"$f":"IF(B69=\"\",\"\",IF(MAX(T3091:T4531)=0,\">120\",ROUND(MAX(T3091:T4531),1)))","v":""},{"$f":"IF(C69=\"\",\"\",IF(MAX(AK3091:AK4531)=0,\">120\",ROUND(MAX(AK3091:AK4531),1)))","v":""},{"$f":"IF(D69=\"\",\"\",IF(MAX(BB3091:BB4531)=0,\">120\",ROUND(MAX(BB3091:BB4531),1)))","v":""},{"$f":"IF(E69=\"\",\"\",IF(MAX(BS3091:BS4531)=0,\">120\",ROUND(MAX(BS3091:BS4531),1)))","v":""},{"$f":"IF(F69=\"\",\"\",IF(MAX(CJ3091:CJ4531)=0,\">120\",ROUND(MAX(CJ3091:CJ4531),1)))","v":""},{"$f":"IF(G69=\"\",\"\",IF(MAX(DA3091:DA4531)=0,\">120\",ROUND(MAX(DA3091:DA4531),1)))","v":""},{"$f":"IF(H69=\"\",\"\",IF(MAX(DR3091:DR4531)=0,\">120\",ROUND(MAX(DR3091:DR4531),1)))","v":""},{"$f":"IF(I69=\"\",\"\",IF(MAX(EI3091:EI4531)=0,\">120\",ROUND(MAX(EI3091:EI4531),1)))","v":""},{"$f":"IF(J69=\"\",\"\",IF(MAX(EZ3091:EZ4531)=0,\">120\",ROUND(MAX(EZ3091:EZ4531),1)))","v":""},null,"minimum bound",0,0,0,null,null,null,null,null,null,null,"05:35:00","","",null,null,null,null,null,null,null,null,null,null,null,"","","","",""]
["Maximum Ponding Depth (ft) =",{"$f":"IF(B69=\"\",\"\",MAX(L3091:L4531))","v":""},{"$f":"IF(C69=\"\",\"\",MAX(AC3091:AC4531))","v":""},{"$f":"IF(D69=\"\",\"\",MAX(AT3091:AT4531))","v":""},{"$f":"IF(E69=\"\",\"\",MAX(BK3091:BK4531))","v":""},{"$f":"IF(F69=\"\",\"\",MAX(CB3091:CB4531))","v":""},{"$f":"IF(G69=\"\",\"\",MAX(CS3091:CS4531))","v":""},{"$f":"IF(H69=\"\",\"\",MAX(DJ3091:DJ4531))","v":""},{"$f":"IF(QPeak100=\"\",\"\",MAX(EA3091:EA4531))","v":""},{"$f":"IF(J69=\"\",\"\",MAX(ER3091:ER4531))","v":""},null,"maximum bound",{"$f":"MIN(30,ROUNDUP(MAX(Stage_at_Top_of_Freeboard,Max500yrPondDepth)/2,0)*2)","v":0},{"$f":"ROUNDUP(MAX(H56,H57,J77,J78)*43560/10000,0)*10000","v":0},{"$f":"ROUNDUP(MAX(H59,J69)/10,0)*10","v":0},null,null,null,null,null,null,null,"05:40:00","","",null,null,null,null,null,null,null,null,null,null,null,"","","","",""]
["Area at Maximum Ponding Depth (acres) =",{"$f":"IF(B69=\"\",\"\",INDEX($B$87:$C$3087,MATCH(B$76,$B$87:$B$3087,1),2)/43560)","v":""},"","","","","","","","",null,null,null,null,null,null,null,null,null,null,null,null,"05:45:00","","",null,null,null,null,null,null,null,null,null,null,null,"","","","",""]
["Maximum Volume Stored (acre-ft) =",{"$f":"IF(B69=\"\",\"\",MIN(B64,VLOOKUP(B76,$B$87:$D$3087,3)/43560))","v":""},"","","","","","","","",null,null,null,null,null,null,null,null,null,null,null,null,{"$f":"W77+Time_Interval/(60*24)","v":"05:50:00"},"","",null,null,null,null,null,null,null,null,null,null,null,"","","","",""]
[null,null,null,null,null,null,null,null,null,null,null,"S-A-V-D Chart Axis Override","X-axis","Left Y-Axis","Right Y-Axis",null,null,null,null,null,null,null,"05:55:00","","",null,null,null,null,null,null,null,null,null,null,null,"","","","",""]
[null,null,null,null,null,null,null,null,null,null,null,"minimum bound",null,null,null,null,null,null,null,null,null,null,"06:00:00","","",null,null,null,null,null,null,null,null,null,null,null,"","","","",""]
[null,null,null,null,null,null,null,null,null,null,null,"maximum bound"]
[]
[null,null,null,null,null," "]
[null,null,null,null,null,null,null,null,null,null,null,null,null,null,null,null,null,null,null,null,null,null,null,null,null,null,null,null,null,null,null,null,null,null,null,null,null,null,null,null,null,null,null,null,"Elliptical Slot Weir",null,null,null,null,null,null,null,null,null,null,"Flow Controlling Outlet (A value of 1 indicates controlling Outlet at each stage increment)"]
[null,"Stage","Area","Volume","User Defined","2*Vol","Filtration Media Orifice",{"$f":"IF(OR(Zone1_Outlet_Type=4,Zone2_Outlet_Type=4),\"Elliptical Slot\",\"Orifice Plate\")","v":"Orifice Plate"},"Vertical \nOrifice #1","Vertical \nOrifice #2","Overflow \n#1 Weir","Overflow \n#1 Orifice","Overflow \n#1 Mixed","Overflow \n#1 Control","Overflow \n#2 Weir","Overflow \n#2 Orifice","Overflow \n#2 Mixed","Overflow \n#2 Control","Outlet Plate #1 Capacity","Outlet Plate #1 Control","Outlet Plate \n#2 Capacity","Outlet Plate #2 Control","Spillway","Total\nOutflow","O*dt+2S\n\"R\"","Outflow Slope","Stage Slope","Water Quality Orifice Plate",null,null,null,null,null,null,null,null,null,null,null,null,null,null,null,"Ʃ\nOrifice\nFlow","y1=                          y/h = 0","y2=                          y/h = 0.603","y3=                          y/h = 0.886","y4=                          y/h = 1.0","f(y1)=","f(y2)=","f(y3)=","f(y4)=","Weir Flow","Orifice Flow","Ʃ\nSlot","Filtration Media Orifice","Orifice Plate","Vertical \nOrifice #1","Vertical \nOrifice #2","Overflow \n#1 Control","Overflow \n#2 Control","Outlet Pipe #1 Control","Outlet Pipe #2 Control","Spillway"]
[null,"[ft]","[ft 2]","[ft 3]","Discharge [cfs]","[ft 3]","[cfs]","[cfs]","[cfs]","[cfs]","[cfs]","[cfs]","[cfs]","[cfs]","[cfs]","[cfs]","[cfs]","[cfs]","[cfs]","[cfs]","[cfs]","[cfs]","[cfs]","[cfs]","[ft 3]","[ft / ft]","[ft / ft]","Row 1","Row 2","Row 3","Row 4","Row 5","Row 6","Row 7","Row 8","Row 9","Row 10","Row 11","Row 12","Row 13","Row 14","Row 15","Row 16",null,0,0.60299999999999998,0.88600000000000001,1,null,null,null,null,"[cfs]","[cfs]","Flow","[cfs]","[cfs]","[cfs]","[cfs]","[cfs]","[cfs]","[cfs]","[cfs]","[cfs]"]
[null,{"$f":"IF(Basin_CountA=0,\"\",IF(User_Stage_Area=0,Basin!G116,Basin!H116))","v":""},{"$f":"IF(Basin_CountA=0,\"\",IF(User_Stage_Area=0,Basin!K116,IF(B87=\"\",\"\",Basin!L116)))","v":""},{"$f":"IF(Basin_CountA=0,\"\",Basin!N116)","v":""},null,{"$f":"IF(B87=\"\",\"\",IF(D87=\"\",\"\",2*D87))","v":""},{"$f":"IF(B87=\"\",\"\",\nIF(OR(Underdrain_Invert=\"\",Underdrain_Invert=\"N/A\",Underdrain_Diameter=\"\",Underdrain_Diameter=\"N/A\"),0,\nIF(B87+Underdrain_Invert<=Underdrain_Orifice_Centroid,0,IF(B87=0,0,0.6*Underdrain_Orifice_Area*(64.4*(B87+Underdrain_Invert-Underdrain_Orifice_Centroid))^0.5))))","v":""},{"$f":"IF(B87=\"\",\"\",\nIF(OR(WQ_Plate_Invert=\"\",WQ_Plate_Invert=\"N/A\",Required_Depth=\"\",Required_Depth=\"N/A\",Ao_OC_or_ESLOT_H=\"\",Ao_or_ESLOT_W=\"\"),0,\nIF(ESLOT_RATIO=\"\",AR87,IF(ESLOT_RATIO<>\"\",BC87,0))))","v":""},{"$f":"IF(B87=\"\",\"\",IF(Vertical_Orifice1_Boolean=0,0,\nIF(B87<=Orifice1_Invert,0,\nIF(B87<Orifice1_Invert+Orifice1_Height/12,\n(0.6*Vertical_Orifice1_Area*(64.4*Vertical_Orifice1_Centroid)^0.5)*((B87-Orifice1_Invert)/(Orifice1_Height/12))^1.81,\n0.6*Vertical_Orifice1_Area*(64.4*(B87-Orifice1_Invert-Vertical_Orifice1_Centroid))^0.5))))","v":""},{"$f":"IF(B87=\"\",\"\",IF(Vertical_Orifice2_Boolean=0,0,\nIF(B87<=Orifice2_Invert,0,\nIF(B87<Orifice2_Invert+Orifice2_Height/12,\n(0.6*Vertical_Orifice2_Area*(64.4*Vertical_Orifice2_Centroid)^0.5)*((B87-Orifice2_Invert)/(Orifice2_Height/12))^1.81,\n0.6*Vertical_Orifice2_Area*(64.4*(B87-Orifice2_Invert-Vertical_Orifice2_Centroid))^0.5))))","v":""},{"$f":"IF(B87=\"\",\"\",IF(Overflow_Weir1_Boolean=0,0,IF((B87-Weir1_Ho)<=0,0,\n\nIF(OR(Weir1_horiz_length_of_grate=0,Weir1_horiz_length_of_grate=\"N/A\"),\nCd_BCW*Weir1_W*(B87-Weir1_Ho)^1.5+(0.8*Cd_BCW)*Weir1_Grate_Slope*(B87-Weir1_Ho)^2.5,\n\nIF(Angle1=0,\n2*(2/3*CLOG1*n_Cdw_1*(64.4^0.5)*Weir1_horiz_length_of_grate*(B87-Weir1_Ho)^1.5)+2*(2/3*CLOG1*n_Cdw_1*(64.4^0.5)*Weir1_W*(B87-Weir1_Ho)^1.5),\n\nIF((B87-Weir1_Ho)<(Ht_1-Weir1_Ho),\n2*(4/15*CLOG1*n_Cdw_1*(64.4^0.5)*(COS(Angle1)/SIN(Angle1))*(B87-Weir1_Ho)^2.5)+(2/3*CLOG1*n_Cdw_1*(64.4^0.5)*Weir1_W*(B87-Weir1_Ho)^1.5),\n\n2*(4/15*CLOG1*n_Cdw_1*(64.4^0.5)*Weir1_horiz_length_of_grate*COS(Angle1)*(B87-Weir1_Ho)^1.5*((B87-Weir1_Ho)^2.5/(B87-Weir1_Ho)^1.5/(Ht_1-Weir1_Ho)-((B87-Weir1_Ho)-(Ht_1-Weir1_Ho))^2.5/(B87-Weir1_Ho)^1.5/(Ht_1-Weir1_Ho))) +(2/3*CLOG1*n_Cdw_1*(64.4^0.5)*Weir1_W*(B87-Weir1_Ho)^1.5)))))))","v":""},{"$f":"IF(B87=\"\",\"\",IF(Overflow_Weir1_Boolean=0,0,IF((B87-Weir1_Ho)<=0,0,IF(OR(Weir1_horiz_length_of_grate=0,Weir1_horiz_length_of_grate=\"N/A\"),0,\n\nIF(Angle1=0,\n(2/3*CLOG1*n_Cdo_1*Weir1_W*Weir1_horiz_length_of_grate*(64.4*(B87-Weir1_Ho))^0.5),\n\nIF((B87-Weir1_Ho)<(Ht_1-Weir1_Ho),\n(2/3*CLOG1*n_Cdo_1*Weir1_W*(B87-Weir1_Ho)*(COS(Angle1)/SIN(Angle1))*(64.4*(B87-Weir1_Ho))^0.5),\n\n(2/3*CLOG1*n_Cdo_1*Weir1_W*Weir1_horiz_length_of_grate*COS(Angle1)*(64.4*(B87-Weir1_Ho))^0.5*((B87-Weir1_Ho)^1.5/(Ht_1-Weir1_Ho)/(B87-Weir1_Ho)^0.5-((B87-Weir1_Ho)-(Ht_1-Weir1_Ho))^1.5/(B87-Weir1_Ho)^0.5/(Ht_1-Weir1_Ho)))))))))","v":""},{"$f":"IF(B87=\"\",\"\",K87+L87-1.11*(K87*L87)^0.5)","v":""},{"$f":"IF(B87=\"\",\"\",IF(OR(Weir1_horiz_length_of_grate=0,Weir1_horiz_length_of_grate=\"N/A\"),K87,MIN(K87,L87,M87)))","v":""},{"$f":"IF(B87=\"\",\"\",IF(Overflow_Weir2_Boolean=0,0,IF((B87-Weir2_Ho)<=0,0,\n\nIF(OR(Weir2_horiz_length_of_grate=0,Weir2_horiz_length_of_grate=\"N/A\"),\nIF(AND(Weir1_horiz_length_of_grate=\"N/A\",Weir2_Position=\"Overlapping\"),\nIF((Cd_BCW*Weir2_W*(B87-Weir2_Ho)^1.5+(0.8*Cd_BCW)*Weir2_Grate_Slope*(B87-Weir2_Ho)^2.5)-(Cd_BCW*(Weir1_W+2*(Weir2_Ho-Weir1_Ho)*Weir1_Grate_Slope)*(B87-Weir2_Ho)^1.5+(0.8*Cd_BCW)*Weir1_Grate_Slope*(B87-Weir2_Ho)^2.5)<0,0,\n(Cd_BCW*Weir2_W*(B87-Weir2_Ho)^1.5+(0.8*Cd_BCW)*Weir2_Grate_Slope*(B87-Weir2_Ho)^2.5)-(Cd_BCW*(Weir1_W+2*(Weir2_Ho-Weir1_Ho)*Weir1_Grate_Slope)*(B87-Weir2_Ho)^1.5+(0.8*Cd_BCW)*Weir1_Grate_Slope*(B87-Weir2_Ho)^2.5)),\nCd_BCW*Weir2_W*(B87-Weir2_Ho)^1.5+(0.8*Cd_BCW)*Weir2_Grate_Slope*(B87-Weir2_Ho)^2.5),\n\nIF(Angle2=0,\n2*(2/3*CLOG2*n_Cdw_2*(64.4^0.5)*Weir2_horiz_length_of_grate*(B87-Weir2_Ho)^1.5)+2*(2/3*CLOG2*n_Cdw_2*(64.4^0.5)*Weir2_W*(B87-Weir2_Ho)^1.5),\n\nIF((B87-Weir2_Ho)<(Ht_2-Weir2_Ho),\n2*(4/15*CLOG2*n_Cdw_2*(64.4^0.5)*(COS(Angle2)/SIN(Angle2))*(B87-Weir2_Ho)^2.5)+(2/3*CLOG2*n_Cdw_2*(64.4^0.5)*Weir2_W*(B87-Weir2_Ho)^1.5),\n\n2*(4/15*CLOG2*n_Cdw_2*(64.4^0.5)*Weir2_horiz_length_of_grate*COS(Angle2)*(B87-Weir2_Ho)^1.5*((B87-Weir2_Ho)^2.5/(B87-Weir2_Ho)^1.5/(Ht_2-Weir2_Ho)-((B87-Weir2_Ho)-(Ht_2-Weir2_Ho))^2.5/(B87-Weir2_Ho)^1.5/(Ht_2-Weir2_Ho))) +(2/3*CLOG2*n_Cdw_2*(64.4^0.5)*Weir2_W*(B87-Weir2_Ho)^1.5)))))))","v":""},{"$f":"IF(B87=\"\",\"\",IF(Overflow_Weir2_Boolean=0,0,IF((B87-Weir2_Ho)<=0,0,IF(OR(Weir2_horiz_length_of_grate=0,Weir2_horiz_length_of_grate=\"N/A\"),0,\n\nIF(Angle2=0,\n(2/3*CLOG2*n_Cdo_2*Weir2_W*Weir2_horiz_length_of_grate*(64.4*(B87-Weir2_Ho))^0.5),\n\nIF((B87-Weir2_Ho)<(Ht_2-Weir2_Ho),\n(2/3*CLOG2*n_Cdo_2*Weir2_W*(B87-Weir2_Ho)*(COS(Angle2)/SIN(Angle2))*(64.4*(B87-Weir2_Ho))^0.5),\n\n(2/3*CLOG2*n_Cdo_2*Weir2_W*Weir2_horiz_length_of_grate*COS(Angle2)*(64.4*(B87-Weir2_Ho))^0.5*((B87-Weir2_Ho)^1.5/(Ht_2-Weir2_Ho)/(B87-Weir2_Ho)^0.5-((B87-Weir2_Ho)-(Ht_2-Weir2_Ho))^1.5/(B87-Weir2_Ho)^0.5/(Ht_2-Weir2_Ho)))))))))","v":""},{"$f":"IF(B87=\"\",\"\",O87+P87-1.11*(O87*P87)^0.5)","v":""},{"$f":"IF(B87=\"\",\"\",IF(OR(Weir2_horiz_length_of_grate=0,Weir2_horiz_length_of_grate=\"N/A\"),O87,MIN(O87,P87,Q87)))","v":""},{"$f":"IF(B87=\"\",\"\",\nIF(Outlet_Pipe1_Boolean=0,0,\nIF(B87+Outlet1_Orifice_Invert<2*Outlet1_Orifice_Centroid,\nIF((0.6*Outlet1_Orifice_Area*(64.4*Outlet1_Orifice_Centroid)^0.5)*((B87+Outlet1_Orifice_Invert)/(2*Outlet1_Orifice_Centroid))^1.81<H87,H87,\n(0.6*Outlet1_Orifice_Area*(64.4*Outlet1_Orifice_Centroid)^0.5)*((B87+Outlet1_Orifice_Invert)/(2*Outlet1_Orifice_Centroid))^1.81),\n0.6*Outlet1_Orifice_Area*(64.4*(B87+Outlet1_Orifice_Invert-Outlet1_Orifice_Centroid))^0.5)))","v":""},{"$f":"IF(B87=\"\",\"\",IF(Outlet_Pipe1_Boolean=0,0,\nIF(Outlet_Pipe1_Rank=3,MIN(S87,G87+H87+I87+J87+N87),\nIF(Outlet_Pipe1_Rank=2,IF(Vertical_Orifice1_Rank=1,MIN(S87,G87+H87+I87+N87),MIN(S87,G87+H87+J87+N87)),\nIF(Outlet_Pipe1_Rank=1,MIN(S87,G87+H87+N87),\nMIN(S87,G87+H87+I87+J87))))))","v":""},{"$f":"IF(B87=\"\",\"\",\nIF(Outlet_Pipe2_Boolean=0,0,\nIF(B87+Outlet2_Orifice_Invert<2*Outlet2_Orifice_Centroid,\nIF((0.6*Outlet2_Orifice_Area*(64.4*Outlet2_Orifice_Centroid)^0.5)*((B87+Outlet2_Orifice_Invert)/(2*Outlet2_Orifice_Centroid))^1.81<H87,H87,\n(0.6*Outlet2_Orifice_Area*(64.4*Outlet2_Orifice_Centroid)^0.5)*((B87+Outlet2_Orifice_Invert)/(2*Outlet2_Orifice_Centroid))^1.81),\n0.6*Outlet2_Orifice_Area*(64.4*(B87+Outlet2_Orifice_Invert-Outlet2_Orifice_Centroid))^0.5)))","v":""},{"$f":"IF(B87=\"\",\"\",IF(OR(Outlet_Pipe1_Boolean=0,Outlet_Pipe2_Boolean=0),0,\nIF(Outlet_Pipe2_Rank=4,\nIF(Outlet_Pipe1_Rank=3,MIN(U87,R87+T87),\nIF(AND(Outlet_Pipe1_Rank=2,Vertical_Orifice2_Rank=3),MIN(U87,J87+R87+T87),\nIF(AND(Outlet_Pipe1_Rank=2,Vertical_Orifice1_Rank=3),MIN(U87,I87+R87+T87),MIN(U87,I87+J87+R87+T87)))),\n\nIF(Outlet_Pipe2_Rank=3,\nIF(Outlet_Pipe1_Rank=2,MIN(U87,R87+T87),\nIF(Vertical_Orifice2_Rank=2,MIN(U87,J87+R87+T87),MIN(U87,I87+R87+T87))),\n\nMIN(U87,R87+T87)))))","v":""},{"$f":"IF(B87=\"\",\"\",\nIF(OR(Spillway_Invert=\"\",Spillway_Length=\"\",Spillway_Side_Slopes=\"\",Freeboard_above_Spillway=\"\",B87<=Spillway_Invert),0,\n\nIF(OR(Spillway_Position=\"\",Spillway_Position=\"Offset\"),\n(Cd_BCW*Spillway_Length*(B87-Spillway_Invert)^1.5)+((0.8*Cd_BCW)*Spillway_Side_Slopes*(B87-Spillway_Invert)^2.5),\n\nIF(AND(Weir2_Ho<>\"N/A\",Weir2_horiz_length_of_grate=\"N/A\"),\nIF((Cd_BCW*Spillway_Length*(B87-Spillway_Invert)^1.5)+((0.8*Cd_BCW)*Spillway_Side_Slopes*(B87-Spillway_Invert)^2.5)-(Cd_BCW*(Weir2_W+2*(Spillway_Invert-Weir2_Ho)*Weir2_Grate_Slope)*(B87-Spillway_Invert)^1.5)+((0.8*Cd_BCW)*Weir2_Grate_Slope*(B87-Spillway_Invert)^2.5)<0,0,\n(Cd_BCW*Spillway_Length*(B87-Spillway_Invert)^1.5)+((0.8*Cd_BCW)*Spillway_Side_Slopes*(B87-Spillway_Invert)^2.5)-(Cd_BCW*(Weir2_W+2*(Spillway_Invert-Weir2_Ho)*Weir2_Grate_Slope)*(B87-Spillway_Invert)^1.5)+((0.8*Cd_BCW)*Weir2_Grate_Slope*(B87-Spillway_Invert)^2.5)),\n\nIF((Cd_BCW*Spillway_Length*(B87-Spillway_Invert)^1.5)+((0.8*Cd_BCW)*Spillway_Side_Slopes*(B87-Spillway_Invert)^2.5)-(Cd_BCW*(Weir1_W+2*(Spillway_Invert-Weir1_Ho)*Weir1_Grate_Slope)*(B87-Spillway_Invert)^1.5)+((0.8*Cd_BCW)*Weir1_Grate_Slope*(B87-Spillway_Invert)^2.5)<0,0,\n(Cd_BCW*Spillway_Length*(B87-Spillway_Invert)^1.5)+((0.8*Cd_BCW)*Spillway_Side_Slopes*(B87-Spillway_Invert)^2.5)-(Cd_BCW*(Weir1_W+2*(Spillway_Invert-Weir1_Ho)*Weir1_Grate_Slope)*(B87-Spillway_Invert)^1.5)+((0.8*Cd_BCW)*Weir1_Grate_Slope*(B87-Spillway_Invert)^2.5))))))","v":""},{"$f":"IF(B87=\"\",\"\",IF(E87<>\"\",E87,\nIF(V87<>0,V87+W87,\nIF(T87<>0,T87+W87,\nG87+H87+I87+J87+N87+R87+W87))))","v":""},{"$f":"IF(B87=\"\",\"\",IF(X87=\"\",\"\",IF(D87=\"\",\"\",X87*$C$3089*60+F87)))","v":""},{"$f":"IF(B87=\"\",\"\",0)","v":""},{"$f":"IF(B87=\"\",\"\",0)","v":""},{"$f":"IF($B87=\"\",\"\",IF(OR(Row1_Stage=\"\",Row1_Stage=\"N/A\"),0,IF($B87<=Row1_Stage,0,0.6*(Row1_Area/144)*(64.4*($B87-Row1_Stage))^0.5)))","v":""},{"$f":"IF($B87=\"\",\"\",IF(OR(Row2_Stage=\"\",Row2_Stage=\"N/A\"),0,IF($B87<=Row2_Stage,0,0.6*(Row2_Area/144)*(64.4*($B87-Row2_Stage))^0.5)))","v":""},{"$f":"IF($B87=\"\",\"\",IF(OR(Row3_Stage=\"\",Row3_Stage=\"N/A\"),0,IF($B87<=Row3_Stage,0,0.6*(Row3_Area/144)*(64.4*($B87-Row3_Stage))^0.5)))","v":""},{"$f":"IF($B87=\"\",\"\",IF(OR(Row4_Stage=\"\",Row4_Stage=\"N/A\"),0,IF($B87<=Row4_Stage,0,0.6*(Row4_Area/144)*(64.4*($B87-Row4_Stage))^0.5)))","v":""},{"$f":"IF($B87=\"\",\"\",IF(OR(Row5_Stage=\"\",Row5_Stage=\"N/A\"),0,IF($B87<=Row5_Stage,0,0.6*(Row5_Area/144)*(64.4*($B87-Row5_Stage))^0.5)))","v":""},{"$f":"IF($B87=\"\",\"\",IF(OR(Row6_Stage=\"\",Row6_Stage=\"N/A\"),0,IF($B87<=Row6_Stage,0,0.6*(Row6_Area/144)*(64.4*($B87-Row6_Stage))^0.5)))","v":""},{"$f":"IF($B87=\"\",\"\",IF(OR(Row7_Stage=\"\",Row7_Stage=\"N/A\"),0,IF($B87<=Row7_Stage,0,0.6*(Row7_Area/144)*(64.4*($B87-Row7_Stage))^0.5)))","v":""},{"$f":"IF($B87=\"\",\"\",IF(OR(Row8_Stage=\"\",Row8_Stage=\"N/A\"),0,IF($B87<=Row8_Stage,0,0.6*(Row8_Area/144)*(64.4*($B87-Row8_Stage))^0.5)))","v":""},{"$f":"IF($B87=\"\",\"\",IF(OR(Row9_Stage=\"\",Row9_Stage=\"N/A\"),0,IF($B87<=Row9_Stage,0,0.6*(Row9_Area/144)*(64.4*($B87-Row9_Stage))^0.5)))","v":""},{"$f":"IF($B87=\"\",\"\",IF(OR(Row10_Stage=\"\",Row10_Stage=\"N/A\"),0,IF($B87<=Row10_Stage,0,0.6*(Row10_Area/144)*(64.4*($B87-Row10_Stage))^0.5)))","v":""},{"$f":"IF($B87=\"\",\"\",IF(OR(Row11_Stage=\"\",Row11_Stage=\"N/A\"),0,IF($B87<=Row11_Stage,0,0.6*(Row11_Area/144)*(64.4*($B87-Row11_Stage))^0.5)))","v":""},{"$f":"IF($B87=\"\",\"\",IF(OR(Row12_Stage=\"\",Row12_Stage=\"N/A\"),0,IF($B87<=Row12_Stage,0,0.6*(Row12_Area/144)*(64.4*($B87-Row12_Stage))^0.5)))","v":""},{"$f":"IF($B87=\"\",\"\",IF(OR(Row13_Stage=\"\",Row13_Stage=\"N/A\"),0,IF($B87<=Row13_Stage,0,0.6*(Row13_Area/144)*(64.4*($B87-Row13_Stage))^0.5)))","v":""},{"$f":"IF($B87=\"\",\"\",IF(OR(Row14_Stage=\"\",Row14_Stage=\"N/A\"),0,IF($B87<=Row14_Stage,0,0.6*(Row14_Area/144)*(64.4*($B87-Row14_Stage))^0.5)))","v":""},{"$f":"IF($B87=\"\",\"\",IF(OR(Row15_Stage=\"\",Row15_Stage=\"N/A\"),0,IF($B87<=Row15_Stage,0,0.6*(Row15_Area/144)*(64.4*($B87-Row15_Stage))^0.5)))","v":""},{"$f":"IF($B87=\"\",\"\",IF(OR(Row16_Stage=\"\",Row16_Stage=\"N/A\"),0,IF($B87<=Row16_Stage,0,0.6*(Row16_Area/144)*(64.4*($B87-Row16_Stage))^0.5)))","v":""},{"$f":"IF(B87=\"\",\"\",SUM(AB87:AQ87))","v":""},{"$f":"IF($B87=\"\",\"\",IF(OR(Zone1_Outlet_Type=4,Zone2_Outlet_Type=4),IF($B87<WQ_Plate_Invert,0,($B87-WQ_Plate_Invert)*AS$86),\"\"))","v":""},"","","",{"$f":"IF($B87=\"\",\"\",IF(OR(Zone1_Outlet_Type=4,Zone2_Outlet_Type=4),IF($B87<WQ_Plate_Invert,0,IF($B87<WQ_Plate_Invert+Ao_OC_or_ESLOT_H,(2*32.2*($B87-WQ_Plate_Invert-AS87))^0.5*(2*Ao_OC_or_ESLOT_H/ESLOT_RATIO*(1-(1-AS87^2/Ao_OC_or_ESLOT_H^2)^0.5)+Ao_or_ESLOT_W/12),0)),\"\"))","v":""},{"$f":"IF($B87=\"\",\"\",IF(OR(Zone1_Outlet_Type=4,Zone2_Outlet_Type=4),IF($B87<WQ_Plate_Invert,0,IF($B87<WQ_Plate_Invert+Ao_OC_or_ESLOT_H,(2*32.2*($B87-WQ_Plate_Invert-AT87))^0.5*(2*Ao_OC_or_ESLOT_H/ESLOT_RATIO*(1-(1-AT87^2/Ao_OC_or_ESLOT_H^2)^0.5)+Ao_or_ESLOT_W/12),0)),\"\"))","v":""},{"$f":"IF($B87=\"\",\"\",IF(OR(Zone1_Outlet_Type=4,Zone2_Outlet_Type=4),IF($B87<WQ_Plate_Invert,0,IF($B87<WQ_Plate_Invert+Ao_OC_or_ESLOT_H,(2*32.2*($B87-WQ_Plate_Invert-AU87))^0.5*(2*Ao_OC_or_ESLOT_H/ESLOT_RATIO*(1-(1-AU87^2/Ao_OC_or_ESLOT_H^2)^0.5)+Ao_or_ESLOT_W/12),0)),\"\"))","v":""},{"$f":"IF($B87=\"\",\"\",IF(OR(Zone1_Outlet_Type=4,Zone2_Outlet_Type=4),IF($B87<WQ_Plate_Invert,0,IF($B87<WQ_Plate_Invert+Ao_OC_or_ESLOT_H,(2*32.2*($B87-WQ_Plate_Invert-AV87))^0.5*(2*Ao_OC_or_ESLOT_H/ESLOT_RATIO*(1-(1-AV87^2/Ao_OC_or_ESLOT_H^2)^0.5)+Ao_or_ESLOT_W/12),0)),\"\"))","v":""},{"$f":"IF(B87=\"\",\"\",IF(OR(Zone1_Outlet_Type=4,Zone2_Outlet_Type=4),IF(B87<WQ_Plate_Invert+Ao_OC_or_ESLOT_H, 0.642*(0.3015*(B87-WQ_Plate_Invert)*(AW87+AX87)+0.1415*(B87-WQ_Plate_Invert)*(AX87+AY87)+0.057*(B87-WQ_Plate_Invert)*AY87),\"N/A\"),\"\"))","v":""},{"$f":"IF(B87=\"\",\"\",IF(OR(Zone1_Outlet_Type=4,Zone2_Outlet_Type=4),IF(B87>=WQ_Plate_Invert+Ao_OC_or_ESLOT_H, 0.6*Elliptical_Slot_Area*(2*32.2*(B87-WQ_Plate_Invert-Elliptical_Slot_Centroid))^0.5,\"N/A\"),\"\"))","v":""},{"$f":"IF(B87=\"\",\"\",IF(OR(Zone1_Outlet_Type=4,Zone2_Outlet_Type=4),IF(B87<WQ_Plate_Invert+Ao_OC_or_ESLOT_H, BA87,BB87),\"\"))","v":""}]
[null,{"$f":"IF(Basin_CountA=0,\"\",IF(User_Stage_Area=0,Basin!G117,Basin!H117))","v":""},{"$f":"IF(Basin_CountA=0,\"\",IF(User_Stage_Area=0,Basin!K117,IF(B88=\"\",\"\",Basin!L117)))","v":""},{"$f":"IF(Basin_CountA=0,\"\",Basin!N117)","v":""},null,"","","","","",{"$f":"IF(B88=\"\",\"\",IF(Overflow_Weir1_Boolean=0,0,IF((B88-Weir1_Ho)<=0,0,\n\nIF(OR(Weir1_horiz_length_of_grate=0,Weir1_horiz_length_of_grate=\"N/A\"),\nCd_BCW*Weir1_W*(B88-Weir1_Ho)^1.5+(0.8*Cd_BCW)*Weir1_Grate_Slope*(B88-Weir1_Ho)^2.5,\n\nIF(Angle1=0,\n2*(2/3*CLOG1*n_Cdw_1*(64.4^0.5)*Weir1_horiz_length_of_grate*(B88-Weir1_Ho)^1.5)+2*(2/3*CLOG1*n_Cdw_1*(64.4^0.5)*Weir1_W*(B88-Weir1_Ho)^1.5),\n\nIF((B88-Weir1_Ho)<(Ht_1-Weir1_Ho),\n2*(4/15*CLOG1*n_Cdw_1*(64.4^0.5)*(COS(Angle1)/SIN(Angle1))*(B88-Weir1_Ho)^2.5)+(2/3*CLOG1*n_Cdw_1*(64.4^0.5)*Weir1_W*(B88-Weir1_Ho)^1.5),\n\n2*(4/15*CLOG1*n_Cdw_1*(64.4^0.5)*Weir1_horiz_length_of_grate*COS(Angle1)*(B88-Weir1_Ho)^1.5*((B88-Weir1_Ho)^2.5/(B88-Weir1_Ho)^1.5/(Ht_1-Weir1_Ho)-((B88-Weir1_Ho)-(Ht_1-Weir1_Ho))^2.5/(B88-Weir1_Ho)^1.5/(Ht_1-Weir1_Ho))) +(2/3*CLOG1*n_Cdw_1*(64.4^0.5)*Weir1_W*(B88-Weir1_Ho)^1.5)))))))","v":""},"",{"$f":"IF(B88=\"\",\"\",K88+L88-1.11*(K88*L88)^0.5)","v":""},"","","",{"$f":"IF(B88=\"\",\"\",O88+P88-1.11*(O88*P88)^0.5)","v":""},"","","","","","",{"$f":"IF(B88=\"\",\"\",IF(E88<>\"\",E88,\nIF(V88<>0,V88+W88,\nIF(T88<>0,T88+W88,\nG88+H88+I88+J88+N88+R88+W88))))","v":""},"",{"$f":"IF(B88=\"\",\"\",IF(Y88<=0,0,IF(Y88=\"\",Z87,((X88-X87)/(Y88-Y87)))))","v":""},{"$f":"IF(B88=\"\",\"\",IF(Y88<=0,0,IF(Y88=\"\",AA87,((B88-B87)/(Y88-Y87)))))","v":""},"","","","","","","","","","","","","","","","","","","","","","","","","","","","",{"$f":"IF(B88=\"\",\"\",IF(G88=0,0,IF(X88=G88,1,0)))","v":""},{"$f":"IF(B88=\"\",\"\",IF(H88=0,0,IF(ROUND(X88-G88,3)=ROUND(H88,3),1,0)))","v":""},{"$f":"IF(B88=\"\",\"\",IF(I88=0,0,\nIF(Vertical_Orifice1_Rank=1,IF(ROUND(X88-H88-G88,3)=ROUND(I88,3),1,0),\nIF(Vertical_Orifice1_Rank=2,IF(ROUND(X88-T88,3)=ROUND(I88,3),1,0),\nIF(ROUND(X88-V88,3)=ROUND(I88,3),1,0)))))","v":""},{"$f":"IF(B88=\"\",\"\",IF(J88=0,0,\nIF(Vertical_Orifice2_Rank=2,IF(ROUND(X88-I88-H88-G88,3)=ROUND(J88,3),1,0),\nIF(Vertical_Orifice2_Rank=3,\nIF(Vertical_Orifice1_Rank=1,IF(ROUND(X88-T88,3)=ROUND(J88,3),1,0),IF(ROUND(X88-T88-I88,3)=ROUND(J88,3),1,0)),\nIF(OR(Vertical_Orifice1_Rank=1,Vertical_Orifice1_Rank=2),IF(ROUND(X88-T88,3)=ROUND(J88,3),1,0),IF(ROUND(X88-T88-I88,3)=ROUND(J88,3),1,0))))))","v":""},{"$f":"IF(B88=\"\",\"\",IF(N88=0,0,\nIF(Overflow_Weir1_Rank=1,IF(ROUND(X88-H88-G88,3)=ROUND(N88,3),1,0),\nIF(Overflow_Weir1_Rank=2,IF(ROUND(X88-I88-H88-G88,3)=ROUND(N88,3),1,0),\nIF(ROUND(X88-J88-I88-H88-G88,3)=ROUND(N88,3),1,0)))))","v":""},{"$f":"IF(B88=\"\",\"\",IF(R88=0,0,\nIF(Weir2_Position=\"Overlapping\",IF(ROUND(X88-N88-J88-I88-H88-G88,3)=ROUND(R88,3),1,0),\nIF(Overflow_Weir2_Rank=2,\nIF(ROUND(X88-T88,3)=ROUND(R88,3),1,0),\nIF(Overflow_Weir2_Rank=3,\nIF(Overflow_Weir1_Rank=2,IF(ROUND(X88-T88,3)=ROUND(R88,3),1,0),IF(ROUND(X88-T88-I88,3)=ROUND(R88,3),1,0)),\nIF(Overflow_Weir1_Rank=3,IF(ROUND(X88-T88,3)=ROUND(R88,3),1,0),\nIF(Overflow_Weir1_Rank=2,IF(ROUND(X88-T88-I88,3)=ROUND(R88,3),1,0),IF(ROUND(X88-T88-J88-I88,3)=ROUND(R88,3),1,0))))))))","v":""},{"$f":"IF(B88=\"\",\"\",IF(T88=0,0,IF(ROUND(X88,3)=ROUND(S88,3),1,0)))","v":""},{"$f":"IF(B88=\"\",\"\",IF(V88=0,0,IF(ROUND(X88,3)=ROUND(U88,3),1,0)))","v":""},{"$f":"IF(B88=\"\",\"\",IF(W88=0,0,1))","v":""}]
[null,{"$f":"IF(Basin_CountA=0,\"\",IF(User_Stage_Area=0,Basin!G118,Basin!H118))","v":""},{"$f":"IF(Basin_CountA=0,\"\",IF(User_Stage_Area=0,Basin!K118,IF(B89=\"\",\"\",Basin!L118)))","v":""},{"$f":"IF(Basin_CountA=0,\"\",Basin!N118)","v":""},null,"","","","","","","","","","","","","","","","","","","","","","","","","","","","","","","","","","","","","","","","","","","","","","","","","","","","","","","","",{"$f":"IF(B89=\"\",\"\",IF(T89=0,0,IF(ROUND(X89,3)=ROUND(S89,3),1,0)))","v":""},{"$f":"IF(B89=\"\",\"\",IF(V89=0,0,IF(ROUND(X89,3)=ROUND(U89,3),1,0)))","v":""},""]
[null,{"$f":"IF(Basin_CountA=0,\"\",IF(User_Stage_Area=0,Basin!G119,Basin!H119))","v":""},{"$f":"IF(Basin_CountA=0,\"\",IF(User_Stage_Area=0,Basin!K119,IF(B90=\"\",\"\",Basin!L119)))","v":""},{"$f":"IF(Basin_CountA=0,\"\",Basin!N119)","v":""},null,"","","","","","","","","","","","","","","","","","","","","","","","","","","","","","","","","","","","","","","","","","","","","","","","","","","","","","","","","","",""]
[null,{"$f":"IF(Basin_CountA=0,\"\",IF(User_Stage_Area=0,Basin!G120,Basin!H120))","v":""},{"$f":"IF(Basin_CountA=0,\"\",IF(User_Stage_Area=0,Basin!K120,IF(B91=\"\",\"\",Basin!L120)))","v":""},{"$f":"IF(Basin_CountA=0,\"\",Basin!N120)","v":""},null,"","","","","","","","","","","","","","","","","","","","","","","","","","","","","","","","","","","","","","","","","","","","","","","","","","","","","","","","","","",""]
[null,{"$f":"IF(Basin_CountA=0,\"\",IF(User_Stage_Area=0,Basin!G121,Basin!H121))","v":""},{"$f":"IF(Basin_CountA=0,\"\",IF(User_Stage_Area=0,Basin!K121,IF(B92=\"\",\"\",Basin!L121)))","v":""},{"$f":"IF(Basin_CountA=0,\"\",Basin!N121)","v":""},null,"","","","","","","","","","","","","","","","","","","","","","","","","","","","","","","","","","","","","","","","","","","","","","","","","","","","","","","","","","",""]
[null,{"$f":"IF(Basin_CountA=0,\"\",IF(User_Stage_Area=0,Basin!G122,Basin!H122))","v":""},{"$f":"IF(Basin_CountA=0,\"\",IF(User_Stage_Area=0,Basin!K122,IF(B93=\"\",\"\",Basin!L122)))","v":""},{"$f":"IF(Basin_CountA=0,\"\",Basin!N122)","v":""},null,"","","","","","","","","","","","","","","","","","","","","","","","","","","","","","","","","","","","","","","","","","","","","","","","","","","","","","","","","","",""]
[null,{"$f":"IF(Basin_CountA=0,\"\",IF(User_Stage_Area=0,Basin!G123,Basin!H123))","v":""},{"$f":"IF(Basin_CountA=0,\"\",IF(User_Stage_Area=0,Basin!K123,IF(B94=\"\",\"\",Basin!L123)))","v":""},{"$f":"IF(Basin_CountA=0,\"\",Basin!N123)","v":""},null,"","","","","","","","","","","","","","","","","","","","","","","","","","","","","","","","","","","","","","","","","","","","","","","","","","","","","","","","","","",""]
[null,{"$f":"IF(Basin_CountA=0,\"\",IF(User_Stage_Area=0,Basin!G124,Basin!H124))","v":""},{"$f":"IF(Basin_CountA=0,\"\",IF(User_Stage_Area=0,Basin!K124,IF(B95=\"\",\"\",Basin!L124)))","v":""},{"$f":"IF(Basin_CountA=0,\"\",Basin!N124)","v":""},null,"","","","","","","","","","","","","","","","","","","","","","","","","","","","","","","","","","","","","","","","","","","","","","","","","","","","","","","","","","",""]
[null,{"$f":"IF(Basin_CountA=0,\"\",IF(User_Stage_Area=0,Basin!G125,Basin!H125))","v":""},{"$f":"IF(Basin_CountA=0,\"\",IF(User_Stage_Area=0,Basin!K125,IF(B96=\"\",\"\",Basin!L125)))","v":""},{"$f":"IF(Basin_CountA=0,\"\",Basin!N125)","v":""},null,"","","","","","","","","","","","","","","","","","","","","","","","","","","","","","","","","","","","","","","","","","","","","","","","","","","","","","","","","","",""]
[null,{"$f":"IF(Basin_CountA=0,\"\",IF(User_Stage_Area=0,Basin!G126,Basin!H126))","v":""},{"$f":"IF(Basin_CountA=0,\"\",IF(User_Stage_Area=0,Basin!K126,IF(B97=\"\",\"\",Basin!L126)))","v":""},{"$f":"IF(Basin_CountA=0,\"\",Basin!N126)","v":""},null,"","","","","","","","","","","","","","","","","","","","","","","","","","","","","","","","","","","","","","","","","","","","","","","","","","","","","","","","","","",""]
[null,{"$f":"IF(Basin_CountA=0,\"\",IF(User_Stage_Area=0,Basin!G127,Basin!H127))","v":""},{"$f":"IF(Basin_CountA=0,\"\",IF(User_Stage_Area=0,Basin!K127,IF(B98=\"\",\"\",Basin!L127)))","v":""},{"$f":"IF(Basin_CountA=0,\"\",Basin!N127)","v":""},null,"","","","","","","","","","","","","","","","","","","","","","","","","","","","","","","","","","","","","","","","","","","","","","","","","","","","","","","","","","",""]
[null,{"$f":"IF(Basin_CountA=0,\"\",IF(User_Stage_Area=0,Basin!G128,Basin!H128))","v":""},{"$f":"IF(Basin_CountA=0,\"\",IF(User_Stage_Area=0,Basin!K128,IF(B99=\"\",\"\",Basin!L128)))","v":""},{"$f":"IF(Basin_CountA=0,\"\",Basin!N128)","v":""},null,"","","","","","","","","","","","","","","","","","","","","","","","","","","","","","","","","","","","","","","","","","","","","","","","","","","","","","","","","","",""]
[null,{"$f":"IF(Basin_CountA=0,\"\",IF(User_Stage_Area=0,Basin!G129,Basin!H129))","v":""},{"$f":"IF(Basin_CountA=0,\"\",IF(User_Stage_Area=0,Basin!K129,IF(B100=\"\",\"\",Basin!L129)))","v":""},{"$f":"IF(Basin_CountA=0,\"\",Basin!N129)","v":""},null,"","","","","","","","","","","","","","","","","","","","","","","","","","","","","","","","","","","","","","","","","","","","","","","","","","","","","","","","","","",""]
[null,{"$f":"IF(Basin_CountA=0,\"\",IF(User_Stage_Area=0,Basin!G130,Basin!H130))","v":""},{"$f":"IF(Basin_CountA=0,\"\",IF(User_Stage_Area=0,Basin!K130,IF(B101=\"\",\"\",Basin!L130)))","v":""},{"$f":"IF(Basin_CountA=0,\"\",Basin!N130)","v":""},null,"","","","","","","","","","","","","","","","","","","","","","","","","","","","","","","","","","","","","","","","","","","","","","","","","","","","","","","","","","",""]
[null,{"$f":"IF(Basin_CountA=0,\"\",IF(User_Stage_Area=0,Basin!G131,Basin!H131))","v":""},{"$f":"IF(Basin_CountA=0,\"\",IF(User_Stage_Area=0,Basin!K131,IF(B102=\"\",\"\",Basin!L131)))","v":""},{"$f":"IF(Basin_CountA=0,\"\",Basin!N131)","v":""},null,"","","","","","","","","","","","","","","","","","","","","","","","","","","","","","","","","","","","","","","","","","","","","","","","","","","","","","","","","","",""]
[null,{"$f":"IF(Basin_CountA=0,\"\",IF(User_Stage_Area=0,Basin!G132,Basin!H132))","v":""},{"$f":"IF(Basin_CountA=0,\"\",IF(User_Stage_Area=0,Basin!K132,IF(B103=\"\",\"\",Basin!L132)))","v":""},{"$f":"IF(Basin_CountA=0,\"\",Basin!N132)","v":""},null,"","","","","","","","","","","","","","","","","","","","","","","","","","","","","","","","","","","","","","","","","","","","","","","","","","","","","","","","","","",""]
[null,{"$f":"IF(Basin_CountA=0,\"\",IF(User_Stage_Area=0,Basin!G133,Basin!H133))","v":""},{"$f":"IF(Basin_CountA=0,\"\",IF(User_Stage_Area=0,Basin!K133,IF(B104=\"\",\"\",Basin!L133)))","v":""},{"$f":"IF(Basin_CountA=0,\"\",Basin!N133)","v":""},null,"","","","","","","","","","","","","","","","","","","","","","","","","","","","","","","","","","","","","","","","","","","","","","","","","","","","","","","","","","",""]
[null,{"$f":"IF(Basin_CountA=0,\"\",IF(User_Stage_Area=0,Basin!G134,Basin!H134))","v":""},{"$f":"IF(Basin_CountA=0,\"\",IF(User_Stage_Area=0,Basin!K134,IF(B105=\"\",\"\",Basin!L134)))","v":""},{"$f":"IF(Basin_CountA=0,\"\",Basin!N134)","v":""},null,"","","","","","","","","","","","","","","","","","","","","","","","","","","","","","","","","","","","","","","","","","","","","","","","","","","","","","","","","","",""]
[null,{"$f":"IF(Basin_CountA=0,\"\",IF(User_Stage_Area=0,Basin!G135,Basin!H135))","v":""},{"$f":"IF(Basin_CountA=0,\"\",IF(User_Stage_Area=0,Basin!K135,IF(B106=\"\",\"\",Basin!L135)))","v":""},{"$f":"IF(Basin_CountA=0,\"\",Basin!N135)","v":""},null,"","","","","","","","","","","","","","","","","","","","","","","","","","","","","","","","","","","","","","","","","","","","","","","","","","","","","","","","","","",""]
[null,{"$f":"IF(Basin_CountA=0,\"\",IF(User_Stage_Area=0,Basin!G136,Basin!H136))","v":""},{"$f":"IF(Basin_CountA=0,\"\",IF(User_Stage_Area=0,Basin!K136,IF(B107=\"\",\"\",Basin!L136)))","v":""},{"$f":"IF(Basin_CountA=0,\"\",Basin!N136)","v":""},null,"","","","","","","","","","","","","","","","","","","","","","","","","","","","","","","","","","","","","","","",{"$f":"IF($B107=\"\",\"\",IF(OR(Zone1_Outlet_Type=4,Zone2_Outlet_Type=4),IF($B107<WQ_Plate_Invert,0,($B107-WQ_Plate_Invert)*AS$86),\"\"))","v":""},"","","","","","","","","","","","","","","","","","",""]
[null,{"$f":"IF(Basin_CountA=0,\"\",IF(User_Stage_Area=0,Basin!G137,Basin!H137))","v":""},{"$f":"IF(Basin_CountA=0,\"\",IF(User_Stage_Area=0,Basin!K137,IF(B108=\"\",\"\",Basin!L137)))","v":""},{"$f":"IF(Basin_CountA=0,\"\",Basin!N137)","v":""},null,"","","","","","","","","","","","","","","","","","","","","","","","","","","","","","","","","","","","","","","","","","","","","","","","","","","","","","","","","","",""]
[null,{"$f":"IF(Basin_CountA=0,\"\",IF(User_Stage_Area=0,Basin!G138,Basin!H138))","v":""},{"$f":"IF(Basin_CountA=0,\"\",IF(User_Stage_Area=0,Basin!K138,IF(B109=\"\",\"\",Basin!L138)))","v":""},{"$f":"IF(Basin_CountA=0,\"\",Basin!N138)","v":""},null,"","","","","","","","","","","","","","","","","","","","","","","","","","","","","","","","","","","","","","","","","","","","","","","","","","","","","","","","","","",""]
[null,{"$f":"IF(Basin_CountA=0,\"\",IF(User_Stage_Area=0,Basin!G139,Basin!H139))","v":""},{"$f":"IF(Basin_CountA=0,\"\",IF(User_Stage_Area=0,Basin!K139,IF(B110=\"\",\"\",Basin!L139)))","v":""},{"$f":"IF(Basin_CountA=0,\"\",Basin!N139)","v":""},null,"","","","","","","","","","","","","","","","","","","","","","","","","","","","","","","","","","","","","","","","","","","","","","","","","","","","","","","","","","",""]
[null,{"$f":"IF(Basin_CountA=0,\"\",IF(User_Stage_Area=0,Basin!G140,Basin!H140))","v":""},{"$f":"IF(Basin_CountA=0,\"\",IF(User_Stage_Area=0,Basin!K140,IF(B111=\"\",\"\",Basin!L140)))","v":""},{"$f":"IF(Basin_CountA=0,\"\",Basin!N140)","v":""},null,"","","","","","","","","","","","","","","","","","","","","","","","","","","","","","","","","","","","","","","","","","","","","","","","","","","","","","","","","","",""]
[null,{"$f":"IF(Basin_CountA=0,\"\",IF(User_Stage_Area=0,Basin!G141,Basin!H141))","v":""},{"$f":"IF(Basin_CountA=0,\"\",IF(User_Stage_Area=0,Basin!K141,IF(B112=\"\",\"\",Basin!L141)))","v":""},{"$f":"IF(Basin_CountA=0,\"\",Basin!N141)","v":""},null,"","","","","","","","","","","","","","","","","","","","","","","","","","","","","","","","","","","","","","","","","","","","","","","","","","","","","","","","","","",""]
[null,{"$f":"IF(Basin_CountA=0,\"\",IF(User_Stage_Area=0,Basin!G142,Basin!H142))","v":""},{"$f":"IF(Basin_CountA=0,\"\",IF(User_Stage_Area=0,Basin!K142,IF(B113=\"\",\"\",Basin!L142)))","v":""},{"$f":"IF(Basin_CountA=0,\"\",Basin!N142)","v":""},null,"","","","","","","","","","","","","","","","","","","","","","","","","","","","","","","","","","","","","","","","","","","","","","","","","","","","","","","","","","",""]
[null,{"$f":"IF(Basin_CountA=0,\"\",IF(User_Stage_Area=0,Basin!G143,Basin!H143))","v":""},{"$f":"IF(Basin_CountA=0,\"\",IF(User_Stage_Area=0,Basin!K143,IF(B114=\"\",\"\",Basin!L143)))","v":""},{"$f":"IF(Basin_CountA=0,\"\",Basin!N143)","v":""},null,"","","","","","","","","","","","","","","","","","","","","","","","","","","","","","","","","","","","","","","","","","","","","","","","","","","","","","","","","","",""]
[null,{"$f":"IF(Basin_CountA=0,\"\",IF(User_Stage_Area=0,Basin!G144,Basin!H144))","v":""},{"$f":"IF(Basin_CountA=0,\"\",IF(User_Stage_Area=0,Basin!K144,IF(B115=\"\",\"\",Basin!L144)))","v":""},{"$f":"IF(Basin_CountA=0,\"\",Basin!N144)","v":""},null,"","","","","","","","","","","","","","","","","","","","","","","","","","","","","","","","","","","","","","","","","","","","","","","","","","","","","","","","","","",""]
[null,{"$f":"IF(Basin_CountA=0,\"\",IF(User_Stage_Area=0,Basin!G145,Basin!H145))","v":""},{"$f":"IF(Basin_CountA=0,\"\",IF(User_Stage_Area=0,Basin!K145,IF(B116=\"\",\"\",Basin!L145)))","v":""},{"$f":"IF(Basin_CountA=0,\"\",Basin!N145)","v":""},null,"","","","","","","","","","","","","","","","","","","","","","","","","","","","","","","","","","","","","","","","","","","","","","","","","","","","","","","","","","",""]
[null,{"$f":"IF(Basin_CountA=0,\"\",IF(User_Stage_Area=0,Basin!G146,Basin!H146))","v":""},{"$f":"IF(Basin_CountA=0,\"\",IF(User_Stage_Area=0,Basin!K146,IF(B117=\"\",\"\",Basin!L146)))","v":""},{"$f":"IF(Basin_CountA=0,\"\",Basin!N146)","v":""},null,"","","","","","","","","","","","","","","","","","","","","","","","","","","","","","","","","","","","","","","","","","","","","","","","","","","","","","","","","","",""]
[null,{"$f":"IF(Basin_CountA=0,\"\",IF(User_Stage_Area=0,Basin!G147,Basin!H147))","v":""},{"$f":"IF(Basin_CountA=0,\"\",IF(User_Stage_Area=0,Basin!K147,IF(B118=\"\",\"\",Basin!L147)))","v":""},{"$f":"IF(Basin_CountA=0,\"\",Basin!N147)","v":""},null,"","","","","","","","","","","","","","","","","","","","","","","","","","","","","","","","","","","","","","","","","","","","","","","","","","","","","","","","","","",""]
[null,{"$f":"IF(Basin_CountA=0,\"\",IF(User_Stage_Area=0,Basin!G148,Basin!H148))","v":""},{"$f":"IF(Basin_CountA=0,\"\",IF(User_Stage_Area=0,Basin!K148,IF(B119=\"\",\"\",Basin!L148)))","v":""},{"$f":"IF(Basin_CountA=0,\"\",Basin!N148)","v":""},null,"","","","","","","","","","","","","","","","","","","","","","","","","","","","","","","","","","","","","","","","","","","","","","","","","","","","","","","","","","",""]
[null,{"$f":"IF(Basin_CountA=0,\"\",IF(User_Stage_Area=0,Basin!G149,Basin!H149))","v":""},{"$f":"IF(Basin_CountA=0,\"\",IF(User_Stage_Area=0,Basin!K149,IF(B120=\"\",\"\",Basin!L149)))","v":""},{"$f":"IF(Basin_CountA=0,\"\",Basin!N149)","v":""},null,"","","","","","","","","","","","","","","","","","","","","","","","","","","","","","","","","","","","","","","","","","","","","","","","","","","","","","","","","","",""]
[null,{"$f":"IF(Basin_CountA=0,\"\",IF(User_Stage_Area=0,Basin!G150,Basin!H150))","v":""},{"$f":"IF(Basin_CountA=0,\"\",IF(User_Stage_Area=0,Basin!K150,IF(B121=\"\",\"\",Basin!L150)))","v":""},{"$f":"IF(Basin_CountA=0,\"\",Basin!N150)","v":""},null,"","","","","","","","","","","","","","","","","","","","","","","","","","","","","","","","","","","","","","","","","","","","","","","","","","","","","","","","","","",""]
[null,{"$f":"IF(Basin_CountA=0,\"\",IF(User_Stage_Area=0,Basin!G151,Basin!H151))","v":""},{"$f":"IF(Basin_CountA=0,\"\",IF(User_Stage_Area=0,Basin!K151,IF(B122=\"\",\"\",Basin!L151)))","v":""},{"$f":"IF(Basin_CountA=0,\"\",Basin!N151)","v":""},null,"","","","","","","","","","","","","","","","","","","","","","","","","","","","","","","","","","","","","","","","","","","","","","","","","","","","","","","","","","",""]
[null,{"$f":"IF(Basin_CountA=0,\"\",IF(User_Stage_Area=0,Basin!G152,Basin!H152))","v":""},{"$f":"IF(Basin_CountA=0,\"\",IF(User_Stage_Area=0,Basin!K152,IF(B123=\"\",\"\",Basin!L152)))","v":""},{"$f":"IF(Basin_CountA=0,\"\",Basin!N152)","v":""},null,"","","","","","","","","","","","","","","","","","","","","","","","","","","","","","","","","","","","","","","","","","","","","","","","","","","","","","","","","","",""]
[null,{"$f":"IF(Basin_CountA=0,\"\",IF(User_Stage_Area=0,Basin!G153,Basin!H153))","v":""},{"$f":"IF(Basin_CountA=0,\"\",IF(User_Stage_Area=0,Basin!K153,IF(B124=\"\",\"\",Basin!L153)))","v":""},{"$f":"IF(Basin_CountA=0,\"\",Basin!N153)","v":""},null,"","","","","","","","","","","","","","","","","","","","","","","","","","","","","","","","","","","","","","","","","","","","","","","","","","","","","","","","","","",""]
[null,{"$f":"IF(Basin_CountA=0,\"\",IF(User_Stage_Area=0,Basin!G154,Basin!H154))","v":""},{"$f":"IF(Basin_CountA=0,\"\",IF(User_Stage_Area=0,Basin!K154,IF(B125=\"\",\"\",Basin!L154)))","v":""},{"$f":"IF(Basin_CountA=0,\"\",Basin!N154)","v":""},null,"","","","","","","","","","","","","","","","","","","","","","","","","","","","","","","","","","","","","","","","","","","","","","","","","","","","","","","","","","",""]
[null,{"$f":"IF(Basin_CountA=0,\"\",IF(User_Stage_Area=0,Basin!G155,Basin!H155))","v":""},{"$f":"IF(Basin_CountA=0,\"\",IF(User_Stage_Area=0,Basin!K155,IF(B126=\"\",\"\",Basin!L155)))","v":""},{"$f":"IF(Basin_CountA=0,\"\",Basin!N155)","v":""},null,"","","","","","","","","","","","","","","","","","","","","","","","","","","","","","","","","","","","","","","","","","","","","","","","","","","","","","","","","","",""]
[null,{"$f":"IF(Basin_CountA=0,\"\",IF(User_Stage_Area=0,Basin!G156,Basin!H156))","v":""},{"$f":"IF(Basin_CountA=0,\"\",IF(User_Stage_Area=0,Basin!K156,IF(B127=\"\",\"\",Basin!L156)))","v":""},{"$f":"IF(Basin_CountA=0,\"\",Basin!N156)","v":""},null,"","","","","","","","","","","","","","","","","","","","","","","","","","","","","","","","","","","","","","","",{"$f":"IF($B127=\"\",\"\",IF(OR(Zone1_Outlet_Type=4,Zone2_Outlet_Type=4),IF($B127<WQ_Plate_Invert,0,($B127-WQ_Plate_Invert)*AS$86),\"\"))","v":""},"","","","","","","","","","","","","","","","","","",""]
[null,{"$f":"IF(Basin_CountA=0,\"\",IF(User_Stage_Area=0,Basin!G157,Basin!H157))","v":""},{"$f":"IF(Basin_CountA=0,\"\",IF(User_Stage_Area=0,Basin!K157,IF(B128=\"\",\"\",Basin!L157)))","v":""},{"$f":"IF(Basin_CountA=0,\"\",Basin!N157)","v":""},null,"","","","","","","","","","","","","","","","","","","","","","","","","","","","","","","","","","","","","","","","","","","","","","","","","","","","","","","","","","",""]
[null,{"$f":"IF(Basin_CountA=0,\"\",IF(User_Stage_Area=0,Basin!G158,Basin!H158))","v":""},{"$f":"IF(Basin_CountA=0,\"\",IF(User_Stage_Area=0,Basin!K158,IF(B129=\"\",\"\",Basin!L158)))","v":""},{"$f":"IF(Basin_CountA=0,\"\",Basin!N158)","v":""},null,"","","","","","","","","","","","","","","","","","","","","","","","","","","","","","","","","","","","","","","","","","","","","","","","","","","","","","","","","","",""]
[null,{"$f":"IF(Basin_CountA=0,\"\",IF(User_Stage_Area=0,Basin!G159,Basin!H159))","v":""},{"$f":"IF(Basin_CountA=0,\"\",IF(User_Stage_Area=0,Basin!K159,IF(B130=\"\",\"\",Basin!L159)))","v":""},{"$f":"IF(Basin_CountA=0,\"\",Basin!N159)","v":""},null,"","","","","","","","","","","","","","","","","","","","","","","","","","","","","","","","","","","","","","","","","","","","","","","","","","","","","","","","","","",""]
[null,{"$f":"IF(Basin_CountA=0,\"\",IF(User_Stage_Area=0,Basin!G160,Basin!H160))","v":""},{"$f":"IF(Basin_CountA=0,\"\",IF(User_Stage_Area=0,Basin!K160,IF(B131=\"\",\"\",Basin!L160)))","v":""},{"$f":"IF(Basin_CountA=0,\"\",Basin!N160)","v":""},null,"","","","","","","","","","","","","","","","","","","","","","","","","","","","","","","","","","","","","","","","","","","","","","","","","","","","","","","","","","",""]
[null,{"$f":"IF(Basin_CountA=0,\"\",IF(User_Stage_Area=0,Basin!G161,Basin!H161))","v":""},{"$f":"IF(Basin_CountA=0,\"\",IF(User_Stage_Area=0,Basin!K161,IF(B132=\"\",\"\",Basin!L161)))","v":""},{"$f":"IF(Basin_CountA=0,\"\",Basin!N161)","v":""},null,"","","","","","","","","","","","","","","","","","","","","","","","","","","","","","","","","","","","","","","","","","","","","","","","","","","","","","","","","","",""]
[null,{"$f":"IF(Basin_CountA=0,\"\",IF(User_Stage_Area=0,Basin!G162,Basin!H162))","v":""},{"$f":"IF(Basin_CountA=0,\"\",IF(User_Stage_Area=0,Basin!K162,IF(B133=\"\",\"\",Basin!L162)))","v":""},{"$f":"IF(Basin_CountA=0,\"\",Basin!N162)","v":""},null,"","","","","","","","","","","","","","","","","","","","","","","","","","","","","","","","","","","","","","","","","","","","","","","","","","","","","","","","","","",""]
[null,{"$f":"IF(Basin_CountA=0,\"\",IF(User_Stage_Area=0,Basin!G163,Basin!H163))","v":""},{"$f":"IF(Basin_CountA=0,\"\",IF(User_Stage_Area=0,Basin!K163,IF(B134=\"\",\"\",Basin!L163)))","v":""},{"$f":"IF(Basin_CountA=0,\"\",Basin!N163)","v":""},null,"","","","","","","","","","","","","","","","","","","","","","","","","","","","","","","","","","","","","","","","","","","","","","","","","","","","","","","","","","",""]
[null,{"$f":"IF(Basin_CountA=0,\"\",IF(User_Stage_Area=0,Basin!G164,Basin!H164))","v":""},{"$f":"IF(Basin_CountA=0,\"\",IF(User_Stage_Area=0,Basin!K164,IF(B135=\"\",\"\",Basin!L164)))","v":""},{"$f":"IF(Basin_CountA=0,\"\",Basin!N164)","v":""},null,"","","","","","","","","","","","","","","","","","","","","","","","","","","","","","","","","","","","","","","","","","","","","","","","","","","","","","","","","","",""]
[null,{"$f":"IF(Basin_CountA=0,\"\",IF(User_Stage_Area=0,Basin!G165,Basin!H165))","v":""},{"$f":"IF(Basin_CountA=0,\"\",IF(User_Stage_Area=0,Basin!K165,IF(B136=\"\",\"\",Basin!L165)))","v":""},{"$f":"IF(Basin_CountA=0,\"\",Basin!N165)","v":""},null,"","","","","","","","","","","","","","","","","","","","","","","","","","","","","","","","","","","","","","","","","","","","","","","","","","","","","","","","","","",""]
[null,{"$f":"IF(Basin_CountA=0,\"\",IF(User_Stage_Area=0,Basin!G166,Basin!H166))","v":""},{"$f":"IF(Basin_CountA=0,\"\",IF(User_Stage_Area=0,Basin!K166,IF(B137=\"\",\"\",Basin!L166)))","v":""},{"$f":"IF(Basin_CountA=0,\"\",Basin!N166)","v":""},null,"","","","","","","","","","","","","","","","","","","","","","","","","","","","","","","","","","","","","","","","","","","","","","","","","","","","","","","","","","",""]
[null,{"$f":"IF(Basin_CountA=0,\"\",IF(User_Stage_Area=0,Basin!G167,Basin!H167))","v":""},{"$f":"IF(Basin_CountA=0,\"\",IF(User_Stage_Area=0,Basin!K167,IF(B138=\"\",\"\",Basin!L167)))","v":""},{"$f":"IF(Basin_CountA=0,\"\",Basin!N167)","v":""},null,"","","","","","","","","","","","","","","","","","","","","","","","","","","","","","","","","","","","","","","","","","","","","","","","","","","","","","","","","","",""]
[null,{"$f":"IF(Basin_CountA=0,\"\",IF(User_Stage_Area=0,Basin!G168,Basin!H168))","v":""},{"$f":"IF(Basin_CountA=0,\"\",IF(User_Stage_Area=0,Basin!K168,IF(B139=\"\",\"\",Basin!L168)))","v":""},{"$f":"IF(Basin_CountA=0,\"\",Basin!N168)","v":""},null,"","","","","","","","","","","","","","","","","","","","","","","","","","","","","","","","","","","","","","","","","","","","","","","","","","","","","","","","","","",""]
[null,{"$f":"IF(Basin_CountA=0,\"\",IF(User_Stage_Area=0,Basin!G169,Basin!H169))","v":""},{"$f":"IF(Basin_CountA=0,\"\",IF(User_Stage_Area=0,Basin!K169,IF(B140=\"\",\"\",Basin!L169)))","v":""},{"$f":"IF(Basin_CountA=0,\"\",Basin!N169)","v":""},null,"","","","","","","","","","","","","","","","","","","","","","","","","","","","","","","","","","","","","","","","","","","","","","","","","","","","","","","","","","",""]
[null,{"$f":"IF(Basin_CountA=0,\"\",IF(User_Stage_Area=0,Basin!G170,Basin!H170))","v":""},{"$f":"IF(Basin_CountA=0,\"\",IF(User_Stage_Area=0,Basin!K170,IF(B141=\"\",\"\",Basin!L170)))","v":""},{"$f":"IF(Basin_CountA=0,\"\",Basin!N170)","v":""},null,"","","","","","","","","","","","","","","","","","","","","","","","","","","","","","","","","","","","","","","","","","","","","","","","","","","","","","","","","","",""]
[null,{"$f":"IF(Basin_CountA=0,\"\",IF(User_Stage_Area=0,Basin!G171,Basin!H171))","v":""},{"$f":"IF(Basin_CountA=0,\"\",IF(User_Stage_Area=0,Basin!K171,IF(B142=\"\",\"\",Basin!L171)))","v":""},{"$f":"IF(Basin_CountA=0,\"\",Basin!N171)","v":""},null,"","","","","","","","","","","","","","","","","","","","","","","","","","","","","","","","","","","","","","","","","","","","","","","","","","","","","","","","","","",""]
[null,{"$f":"IF(Basin_CountA=0,\"\",IF(User_Stage_Area=0,Basin!G172,Basin!H172))","v":""},{"$f":"IF(Basin_CountA=0,\"\",IF(User_Stage_Area=0,Basin!K172,IF(B143=\"\",\"\",Basin!L172)))","v":""},{"$f":"IF(Basin_CountA=0,\"\",Basin!N172)","v":""},null,"","","","","","","","","","","","","","","","","","","","","","","","","","","","","","","","","","","","","","","","","","","","","","","","","","","","","","","","","","",""]
[null,{"$f":"IF(Basin_CountA=0,\"\",IF(User_Stage_Area=0,Basin!G173,Basin!H173))","v":""},{"$f":"IF(Basin_CountA=0,\"\",IF(User_Stage_Area=0,Basin!K173,IF(B144=\"\",\"\",Basin!L173)))","v":""},{"$f":"IF(Basin_CountA=0,\"\",Basin!N173)","v":""},null,"","","","","","","","","","","","","","","","","","","","","","","","","","","","","","","","","","","","","","","","","","","","","","","","","","","","","","","","","","",""]
[null,{"$f":"IF(Basin_CountA=0,\"\",IF(User_Stage_Area=0,Basin!G174,Basin!H174))","v":""},{"$f":"IF(Basin_CountA=0,\"\",IF(User_Stage_Area=0,Basin!K174,IF(B145=\"\",\"\",Basin!L174)))","v":""},{"$f":"IF(Basin_CountA=0,\"\",Basin!N174)","v":""},null,"","","","","","","","","","","","","","","","","","","","","","","","","","","","","","","","","","","","","","","","","","","","","","","","","","","","","","","","","","",""]
[null,{"$f":"IF(Basin_CountA=0,\"\",IF(User_Stage_Area=0,Basin!G175,Basin!H175))","v":""},{"$f":"IF(Basin_CountA=0,\"\",IF(User_Stage_Area=0,Basin!K175,IF(B146=\"\",\"\",Basin!L175)))","v":""},{"$f":"IF(Basin_CountA=0,\"\",Basin!N175)","v":""},null,"","","","","","","","","","","","","","","","","","","","","","","","","","","","","","","","","","","","","","","","","","","","","","","","","","","","","","","","","","",""]
[null,{"$f":"IF(Basin_CountA=0,\"\",IF(User_Stage_Area=0,Basin!G176,Basin!H176))","v":""},{"$f":"IF(Basin_CountA=0,\"\",IF(User_Stage_Area=0,Basin!K176,IF(B147=\"\",\"\",Basin!L176)))","v":""},{"$f":"IF(Basin_CountA=0,\"\",Basin!N176)","v":""},null,"","","","","","","","","","","","","","","","","","","","","","","","","","","","","","","","","","","","","","","",{"$f":"IF($B147=\"\",\"\",IF(OR(Zone1_Outlet_Type=4,Zone2_Outlet_Type=4),IF($B147<WQ_Plate_Invert,0,($B147-WQ_Plate_Invert)*AS$86),\"\"))","v":""},"","","","","","","","","","","","","","","","","","",""]
[null,{"$f":"IF(Basin_CountA=0,\"\",IF(User_Stage_Area=0,Basin!G177,Basin!H177))","v":""},{"$f":"IF(Basin_CountA=0,\"\",IF(User_Stage_Area=0,Basin!K177,IF(B148=\"\",\"\",Basin!L177)))","v":""},{"$f":"IF(Basin_CountA=0,\"\",Basin!N177)","v":""},null,"","","","","","","","","","","","","","","","","","","","","","","","","","","","","","","","","","","","","","","","","","","","","","","","","","","","","","","","","","",""]
[null,{"$f":"IF(Basin_CountA=0,\"\",IF(User_Stage_Area=0,Basin!G178,Basin!H178))","v":""},{"$f":"IF(Basin_CountA=0,\"\",IF(User_Stage_Area=0,Basin!K178,IF(B149=\"\",\"\",Basin!L178)))","v":""},{"$f":"IF(Basin_CountA=0,\"\",Basin!N178)","v":""},null,"","","","","","","","","","","","","","","","","","","","","","","","","","","","","","","","","","","","","","","","","","","","","","","","","","","","","","","","","","",""]
[null,{"$f":"IF(Basin_CountA=0,\"\",IF(User_Stage_Area=0,Basin!G179,Basin!H179))","v":""},{"$f":"IF(Basin_CountA=0,\"\",IF(User_Stage_Area=0,Basin!K179,IF(B150=\"\",\"\",Basin!L179)))","v":""},{"$f":"IF(Basin_CountA=0,\"\",Basin!N179)","v":""},null,"","","","","","","","","","","","","","","","","","","","","","","","","","","","","","","","","","","","","","","","","","","","","","","","","","","","","","","","","","",""]
[null,{"$f":"IF(Basin_CountA=0,\"\",IF(User_Stage_Area=0,Basin!G180,Basin!H180))","v":""},{"$f":"IF(Basin_CountA=0,\"\",IF(User_Stage_Area=0,Basin!K180,IF(B151=\"\",\"\",Basin!L180)))","v":""},{"$f":"IF(Basin_CountA=0,\"\",Basin!N180)","v":""},null,{"$f":"IF(B151=\"\",\"\",IF(D151=\"\",\"\",2*D151))","v":""},{"$f":"IF(B151=\"\",\"\",\nIF(OR(Underdrain_Invert=\"\",Underdrain_Invert=\"N/A\",Underdrain_Diameter=\"\",Underdrain_Diameter=\"N/A\"),0,\nIF(B151+Underdrain_Invert<=Underdrain_Orifice_Centroid,0,IF(B151=0,0,0.6*Underdrain_Orifice_Area*(64.4*(B151+Underdrain_Invert-Underdrain_Orifice_Centroid))^0.5))))","v":""},{"$f":"IF(B151=\"\",\"\",\nIF(OR(WQ_Plate_Invert=\"\",WQ_Plate_Invert=\"N/A\",Required_Depth=\"\",Required_Depth=\"N/A\",Ao_OC_or_ESLOT_H=\"\",Ao_or_ESLOT_W=\"\"),0,\nIF(ESLOT_RATIO=\"\",AR151,IF(ESLOT_RATIO<>\"\",BC151,0))))","v":""},{"$f":"IF(B151=\"\",\"\",IF(Vertical_Orifice1_Boolean=0,0,\nIF(B151<=Orifice1_Invert,0,\nIF(B151<Orifice1_Invert+Orifice1_Height/12,\n(0.6*Vertical_Orifice1_Area*(64.4*Vertical_Orifice1_Centroid)^0.5)*((B151-Orifice1_Invert)/(Orifice1_Height/12))^1.81,\n0.6*Vertical_Orifice1_Area*(64.4*(B151-Orifice1_Invert-Vertical_Orifice1_Centroid))^0.5))))","v":""},{"$f":"IF(B151=\"\",\"\",IF(Vertical_Orifice2_Boolean=0,0,\nIF(B151<=Orifice2_Invert,0,\nIF(B151<Orifice2_Invert+Orifice2_Height/12,\n(0.6*Vertical_Orifice2_Area*(64.4*Vertical_Orifice2_Centroid)^0.5)*((B151-Orifice2_Invert)/(Orifice2_Height/12))^1.81,\n0.6*Vertical_Orifice2_Area*(64.4*(B151-Orifice2_Invert-Vertical_Orifice2_Centroid))^0.5))))","v":""},{"$f":"IF(B151=\"\",\"\",IF(Overflow_Weir1_Boolean=0,0,IF((B151-Weir1_Ho)<=0,0,\n\nIF(OR(Weir1_horiz_length_of_grate=0,Weir1_horiz_length_of_grate=\"N/A\"),\nCd_BCW*Weir1_W*(B151-Weir1_Ho)^1.5+(0.8*Cd_BCW)*Weir1_Grate_Slope*(B151-Weir1_Ho)^2.5,\n\nIF(Angle1=0,\n2*(2/3*CLOG1*n_Cdw_1*(64.4^0.5)*Weir1_horiz_length_of_grate*(B151-Weir1_Ho)^1.5)+2*(2/3*CLOG1*n_Cdw_1*(64.4^0.5)*Weir1_W*(B151-Weir1_Ho)^1.5),\n\nIF((B151-Weir1_Ho)<(Ht_1-Weir1_Ho),\n2*(4/15*CLOG1*n_Cdw_1*(64.4^0.5)*(COS(Angle1)/SIN(Angle1))*(B151-Weir1_Ho)^2.5)+(2/3*CLOG1*n_Cdw_1*(64.4^0.5)*Weir1_W*(B151-Weir1_Ho)^1.5),\n\n2*(4/15*CLOG1*n_Cdw_1*(64.4^0.5)*Weir1_horiz_length_of_grate*COS(Angle1)*(B151-Weir1_Ho)^1.5*((B151-Weir1_Ho)^2.5/(B151-Weir1_Ho)^1.5/(Ht_1-Weir1_Ho)-((B151-Weir1_Ho)-(Ht_1-Weir1_Ho))^2.5/(B151-Weir1_Ho)^1.5/(Ht_1-Weir1_Ho))) +(2/3*CLOG1*n_Cdw_1*(64.4^0.5)*Weir1_W*(B151-Weir1_Ho)^1.5)))))))","v":""},{"$f":"IF(B151=\"\",\"\",IF(Overflow_Weir1_Boolean=0,0,IF((B151-Weir1_Ho)<=0,0,IF(OR(Weir1_horiz_length_of_grate=0,Weir1_horiz_length_of_grate=\"N/A\"),0,\n\nIF(Angle1=0,\n(2/3*CLOG1*n_Cdo_1*Weir1_W*Weir1_horiz_length_of_grate*(64.4*(B151-Weir1_Ho))^0.5),\n\nIF((B151-Weir1_Ho)<(Ht_1-Weir1_Ho),\n(2/3*CLOG1*n_Cdo_1*Weir1_W*(B151-Weir1_Ho)*(COS(Angle1)/SIN(Angle1))*(64.4*(B151-Weir1_Ho))^0.5),\n\n(2/3*CLOG1*n_Cdo_1*Weir1_W*Weir1_horiz_length_of_grate*COS(Angle1)*(64.4*(B151-Weir1_Ho))^0.5*((B151-Weir1_Ho)^1.5/(Ht_1-Weir1_Ho)/(B151-Weir1_Ho)^0.5-((B151-Weir1_Ho)-(Ht_1-Weir1_Ho))^1.5/(B151-Weir1_Ho)^0.5/(Ht_1-Weir1_Ho)))))))))","v":""},"",{"$f":"IF(B151=\"\",\"\",IF(OR(Weir1_horiz_length_of_grate=0,Weir1_horiz_length_of_grate=\"N/A\"),K151,MIN(K151,L151,M151)))","v":""},{"$f":"IF(B151=\"\",\"\",IF(Overflow_Weir2_Boolean=0,0,IF((B151-Weir2_Ho)<=0,0,\n\nIF(OR(Weir2_horiz_length_of_grate=0,Weir2_horiz_length_of_grate=\"N/A\"),\nIF(AND(Weir1_horiz_length_of_grate=\"N/A\",Weir2_Position=\"Overlapping\"),\nIF((Cd_BCW*Weir2_W*(B151-Weir2_Ho)^1.5+(0.8*Cd_BCW)*Weir2_Grate_Slope*(B151-Weir2_Ho)^2.5)-(Cd_BCW*(Weir1_W+2*(Weir2_Ho-Weir1_Ho)*Weir1_Grate_Slope)*(B151-Weir2_Ho)^1.5+(0.8*Cd_BCW)*Weir1_Grate_Slope*(B151-Weir2_Ho)^2.5)<0,0,\n(Cd_BCW*Weir2_W*(B151-Weir2_Ho)^1.5+(0.8*Cd_BCW)*Weir2_Grate_Slope*(B151-Weir2_Ho)^2.5)-(Cd_BCW*(Weir1_W+2*(Weir2_Ho-Weir1_Ho)*Weir1_Grate_Slope)*(B151-Weir2_Ho)^1.5+(0.8*Cd_BCW)*Weir1_Grate_Slope*(B151-Weir2_Ho)^2.5)),\nCd_BCW*Weir2_W*(B151-Weir2_Ho)^1.5+(0.8*Cd_BCW)*Weir2_Grate_Slope*(B151-Weir2_Ho)^2.5),\n\nIF(Angle2=0,\n2*(2/3*CLOG2*n_Cdw_2*(64.4^0.5)*Weir2_horiz_length_of_grate*(B151-Weir2_Ho)^1.5)+2*(2/3*CLOG2*n_Cdw_2*(64.4^0.5)*Weir2_W*(B151-Weir2_Ho)^1.5),\n\nIF((B151-Weir2_Ho)<(Ht_2-Weir2_Ho),\n2*(4/15*CLOG2*n_Cdw_2*(64.4^0.5)*(COS(Angle2)/SIN(Angle2))*(B151-Weir2_Ho)^2.5)+(2/3*CLOG2*n_Cdw_2*(64.4^0.5)*Weir2_W*(B151-Weir2_Ho)^1.5),\n\n2*(4/15*CLOG2*n_Cdw_2*(64.4^0.5)*Weir2_horiz_length_of_grate*COS(Angle2)*(B151-Weir2_Ho)^1.5*((B151-Weir2_Ho)^2.5/(B151-Weir2_Ho)^1.5/(Ht_2-Weir2_Ho)-((B151-Weir2_Ho)-(Ht_2-Weir2_Ho))^2.5/(B151-Weir2_Ho)^1.5/(Ht_2-Weir2_Ho))) +(2/3*CLOG2*n_Cdw_2*(64.4^0.5)*Weir2_W*(B151-Weir2_Ho)^1.5)))))))","v":""},{"$f":"IF(B151=\"\",\"\",IF(Overflow_Weir2_Boolean=0,0,IF((B151-Weir2_Ho)<=0,0,IF(OR(Weir2_horiz_length_of_grate=0,Weir2_horiz_length_of_grate=\"N/A\"),0,\n\nIF(Angle2=0,\n(2/3*CLOG2*n_Cdo_2*Weir2_W*Weir2_horiz_length_of_grate*(64.4*(B151-Weir2_Ho))^0.5),\n\nIF((B151-Weir2_Ho)<(Ht_2-Weir2_Ho),\n(2/3*CLOG2*n_Cdo_2*Weir2_W*(B151-Weir2_Ho)*(COS(Angle2)/SIN(Angle2))*(64.4*(B151-Weir2_Ho))^0.5),\n\n(2/3*CLOG2*n_Cdo_2*Weir2_W*Weir2_horiz_length_of_grate*COS(Angle2)*(64.4*(B151-Weir2_Ho))^0.5*((B151-Weir2_Ho)^1.5/(Ht_2-Weir2_Ho)/(B151-Weir2_Ho)^0.5-((B151-Weir2_Ho)-(Ht_2-Weir2_Ho))^1.5/(B151-Weir2_Ho)^0.5/(Ht_2-Weir2_Ho)))))))))","v":""},"",{"$f":"IF(B151=\"\",\"\",IF(OR(Weir2_horiz_length_of_grate=0,Weir2_horiz_length_of_grate=\"N/A\"),O151,MIN(O151,P151,Q151)))","v":""},{"$f":"IF(B151=\"\",\"\",\nIF(Outlet_Pipe1_Boolean=0,0,\nIF(B151+Outlet1_Orifice_Invert<2*Outlet1_Orifice_Centroid,\nIF((0.6*Outlet1_Orifice_Area*(64.4*Outlet1_Orifice_Centroid)^0.5)*((B151+Outlet1_Orifice_Invert)/(2*Outlet1_Orifice_Centroid))^1.81<H151,H151,\n(0.6*Outlet1_Orifice_Area*(64.4*Outlet1_Orifice_Centroid)^0.5)*((B151+Outlet1_Orifice_Invert)/(2*Outlet1_Orifice_Centroid))^1.81),\n0.6*Outlet1_Orifice_Area*(64.4*(B151+Outlet1_Orifice_Invert-Outlet1_Orifice_Centroid))^0.5)))","v":""},{"$f":"IF(B151=\"\",\"\",IF(Outlet_Pipe1_Boolean=0,0,\nIF(Outlet_Pipe1_Rank=3,MIN(S151,G151+H151+I151+J151+N151),\nIF(Outlet_Pipe1_Rank=2,IF(Vertical_Orifice1_Rank=1,MIN(S151,G151+H151+I151+N151),MIN(S151,G151+H151+J151+N151)),\nIF(Outlet_Pipe1_Rank=1,MIN(S151,G151+H151+N151),\nMIN(S151,G151+H151+I151+J151))))))","v":""},{"$f":"IF(B151=\"\",\"\",\nIF(Outlet_Pipe2_Boolean=0,0,\nIF(B151+Outlet2_Orifice_Invert<2*Outlet2_Orifice_Centroid,\nIF((0.6*Outlet2_Orifice_Area*(64.4*Outlet2_Orifice_Centroid)^0.5)*((B151+Outlet2_Orifice_Invert)/(2*Outlet2_Orifice_Centroid))^1.81<H151,H151,\n(0.6*Outlet2_Orifice_Area*(64.4*Outlet2_Orifice_Centroid)^0.5)*((B151+Outlet2_Orifice_Invert)/(2*Outlet2_Orifice_Centroid))^1.81),\n0.6*Outlet2_Orifice_Area*(64.4*(B151+Outlet2_Orifice_Invert-Outlet2_Orifice_Centroid))^0.5)))","v":""},{"$f":"IF(B151=\"\",\"\",IF(OR(Outlet_Pipe1_Boolean=0,Outlet_Pipe2_Boolean=0),0,\nIF(Outlet_Pipe2_Rank=4,\nIF(Outlet_Pipe1_Rank=3,MIN(U151,R151+T151),\nIF(AND(Outlet_Pipe1_Rank=2,Vertical_Orifice2_Rank=3),MIN(U151,J151+R151+T151),\nIF(AND(Outlet_Pipe1_Rank=2,Vertical_Orifice1_Rank=3),MIN(U151,I151+R151+T151),MIN(U151,I151+J151+R151+T151)))),\n\nIF(Outlet_Pipe2_Rank=3,\nIF(Outlet_Pipe1_Rank=2,MIN(U151,R151+T151),\nIF(Vertical_Orifice2_Rank=2,MIN(U151,J151+R151+T151),MIN(U151,I151+R151+T151))),\n\nMIN(U151,R151+T151)))))","v":""},{"$f":"IF(B151=\"\",\"\",\nIF(OR(Spillway_Invert=\"\",Spillway_Length=\"\",Spillway_Side_Slopes=\"\",Freeboard_above_Spillway=\"\",B151<=Spillway_Invert),0,\n\nIF(OR(Spillway_Position=\"\",Spillway_Position=\"Offset\"),\n(Cd_BCW*Spillway_Length*(B151-Spillway_Invert)^1.5)+((0.8*Cd_BCW)*Spillway_Side_Slopes*(B151-Spillway_Invert)^2.5),\n\nIF(AND(Weir2_Ho<>\"N/A\",Weir2_horiz_length_of_grate=\"N/A\"),\nIF((Cd_BCW*Spillway_Length*(B151-Spillway_Invert)^1.5)+((0.8*Cd_BCW)*Spillway_Side_Slopes*(B151-Spillway_Invert)^2.5)-(Cd_BCW*(Weir2_W+2*(Spillway_Invert-Weir2_Ho)*Weir2_Grate_Slope)*(B151-Spillway_Invert)^1.5)+((0.8*Cd_BCW)*Weir2_Grate_Slope*(B151-Spillway_Invert)^2.5)<0,0,\n(Cd_BCW*Spillway_Length*(B151-Spillway_Invert)^1.5)+((0.8*Cd_BCW)*Spillway_Side_Slopes*(B151-Spillway_Invert)^2.5)-(Cd_BCW*(Weir2_W+2*(Spillway_Invert-Weir2_Ho)*Weir2_Grate_Slope)*(B151-Spillway_Invert)^1.5)+((0.8*Cd_BCW)*Weir2_Grate_Slope*(B151-Spillway_Invert)^2.5)),\n\nIF((Cd_BCW*Spillway_Length*(B151-Spillway_Invert)^1.5)+((0.8*Cd_BCW)*Spillway_Side_Slopes*(B151-Spillway_Invert)^2.5)-(Cd_BCW*(Weir1_W+2*(Spillway_Invert-Weir1_Ho)*Weir1_Grate_Slope)*(B151-Spillway_Invert)^1.5)+((0.8*Cd_BCW)*Weir1_Grate_Slope*(B151-Spillway_Invert)^2.5)<0,0,\n(Cd_BCW*Spillway_Length*(B151-Spillway_Invert)^1.5)+((0.8*Cd_BCW)*Spillway_Side_Slopes*(B151-Spillway_Invert)^2.5)-(Cd_BCW*(Weir1_W+2*(Spillway_Invert-Weir1_Ho)*Weir1_Grate_Slope)*(B151-Spillway_Invert)^1.5)+((0.8*Cd_BCW)*Weir1_Grate_Slope*(B151-Spillway_Invert)^2.5))))))","v":""},"",{"$f":"IF(B151=\"\",\"\",IF(X151=\"\",\"\",IF(D151=\"\",\"\",X151*$C$3089*60+F151)))","v":""},"","",{"$f":"IF($B151=\"\",\"\",IF(OR(Row1_Stage=\"\",Row1_Stage=\"N/A\"),0,IF($B151<=Row1_Stage,0,0.6*(Row1_Area/144)*(64.4*($B151-Row1_Stage))^0.5)))","v":""},{"$f":"IF($B151=\"\",\"\",IF(OR(Row2_Stage=\"\",Row2_Stage=\"N/A\"),0,IF($B151<=Row2_Stage,0,0.6*(Row2_Area/144)*(64.4*($B151-Row2_Stage))^0.5)))","v":""},{"$f":"IF($B151=\"\",\"\",IF(OR(Row3_Stage=\"\",Row3_Stage=\"N/A\"),0,IF($B151<=Row3_Stage,0,0.6*(Row3_Area/144)*(64.4*($B151-Row3_Stage))^0.5)))","v":""},{"$f":"IF($B151=\"\",\"\",IF(OR(Row4_Stage=\"\",Row4_Stage=\"N/A\"),0,IF($B151<=Row4_Stage,0,0.6*(Row4_Area/144)*(64.4*($B151-Row4_Stage))^0.5)))","v":""},{"$f":"IF($B151=\"\",\"\",IF(OR(Row5_Stage=\"\",Row5_Stage=\"N/A\"),0,IF($B151<=Row5_Stage,0,0.6*(Row5_Area/144)*(64.4*($B151-Row5_Stage))^0.5)))","v":""},{"$f":"IF($B151=\"\",\"\",IF(OR(Row6_Stage=\"\",Row6_Stage=\"N/A\"),0,IF($B151<=Row6_Stage,0,0.6*(Row6_Area/144)*(64.4*($B151-Row6_Stage))^0.5)))","v":""},{"$f":"IF($B151=\"\",\"\",IF(OR(Row7_Stage=\"\",Row7_Stage=\"N/A\"),0,IF($B151<=Row7_Stage,0,0.6*(Row7_Area/144)*(64.4*($B151-Row7_Stage))^0.5)))","v":""},{"$f":"IF($B151=\"\",\"\",IF(OR(Row8_Stage=\"\",Row8_Stage=\"N/A\"),0,IF($B151<=Row8_Stage,0,0.6*(Row8_Area/144)*(64.4*($B151-Row8_Stage))^0.5)))","v":""},{"$f":"IF($B151=\"\",\"\",IF(OR(Row9_Stage=\"\",Row9_Stage=\"N/A\"),0,IF($B151<=Row9_Stage,0,0.6*(Row9_Area/144)*(64.4*($B151-Row9_Stage))^0.5)))","v":""},{"$f":"IF($B151=\"\",\"\",IF(OR(Row10_Stage=\"\",Row10_Stage=\"N/A\"),0,IF($B151<=Row10_Stage,0,0.6*(Row10_Area/144)*(64.4*($B151-Row10_Stage))^0.5)))","v":""},{"$f":"IF($B151=\"\",\"\",IF(OR(Row11_Stage=\"\",Row11_Stage=\"N/A\"),0,IF($B151<=Row11_Stage,0,0.6*(Row11_Area/144)*(64.4*($B151-Row11_Stage))^0.5)))","v":""},{"$f":"IF($B151=\"\",\"\",IF(OR(Row12_Stage=\"\",Row12_Stage=\"N/A\"),0,IF($B151<=Row12_Stage,0,0.6*(Row12_Area/144)*(64.4*($B151-Row12_Stage))^0.5)))","v":""},{"$f":"IF($B151=\"\",\"\",IF(OR(Row13_Stage=\"\",Row13_Stage=\"N/A\"),0,IF($B151<=Row13_Stage,0,0.6*(Row13_Area/144)*(64.4*($B151-Row13_Stage))^0.5)))","v":""},{"$f":"IF($B151=\"\",\"\",IF(OR(Row14_Stage=\"\",Row14_Stage=\"N/A\"),0,IF($B151<=Row14_Stage,0,0.6*(Row14_Area/144)*(64.4*($B151-Row14_Stage))^0.5)))","v":""},{"$f":"IF($B151=\"\",\"\",IF(OR(Row15_Stage=\"\",Row15_Stage=\"N/A\"),0,IF($B151<=Row15_Stage,0,0.6*(Row15_Area/144)*(64.4*($B151-Row15_Stage))^0.5)))","v":""},{"$f":"IF($B151=\"\",\"\",IF(OR(Row16_Stage=\"\",Row16_Stage=\"N/A\"),0,IF($B151<=Row16_Stage,0,0.6*(Row16_Area/144)*(64.4*($B151-Row16_Stage))^0.5)))","v":""},{"$f":"IF(B151=\"\",\"\",SUM(AB151:AQ151))","v":""},"","","","",{"$f":"IF($B151=\"\",\"\",IF(OR(Zone1_Outlet_Type=4,Zone2_Outlet_Type=4),IF($B151<WQ_Plate_Invert,0,IF($B151<WQ_Plate_Invert+Ao_OC_or_ESLOT_H,(2*32.2*($B151-WQ_Plate_Invert-AS151))^0.5*(2*Ao_OC_or_ESLOT_H/ESLOT_RATIO*(1-(1-AS151^2/Ao_OC_or_ESLOT_H^2)^0.5)+Ao_or_ESLOT_W/12),0)),\"\"))","v":""},{"$f":"IF($B151=\"\",\"\",IF(OR(Zone1_Outlet_Type=4,Zone2_Outlet_Type=4),IF($B151<WQ_Plate_Invert,0,IF($B151<WQ_Plate_Invert+Ao_OC_or_ESLOT_H,(2*32.2*($B151-WQ_Plate_Invert-AT151))^0.5*(2*Ao_OC_or_ESLOT_H/ESLOT_RATIO*(1-(1-AT151^2/Ao_OC_or_ESLOT_H^2)^0.5)+Ao_or_ESLOT_W/12),0)),\"\"))","v":""},{"$f":"IF($B151=\"\",\"\",IF(OR(Zone1_Outlet_Type=4,Zone2_Outlet_Type=4),IF($B151<WQ_Plate_Invert,0,IF($B151<WQ_Plate_Invert+Ao_OC_or_ESLOT_H,(2*32.2*($B151-WQ_Plate_Invert-AU151))^0.5*(2*Ao_OC_or_ESLOT_H/ESLOT_RATIO*(1-(1-AU151^2/Ao_OC_or_ESLOT_H^2)^0.5)+Ao_or_ESLOT_W/12),0)),\"\"))","v":""},{"$f":"IF($B151=\"\",\"\",IF(OR(Zone1_Outlet_Type=4,Zone2_Outlet_Type=4),IF($B151<WQ_Plate_Invert,0,IF($B151<WQ_Plate_Invert+Ao_OC_or_ESLOT_H,(2*32.2*($B151-WQ_Plate_Invert-AV151))^0.5*(2*Ao_OC_or_ESLOT_H/ESLOT_RATIO*(1-(1-AV151^2/Ao_OC_or_ESLOT_H^2)^0.5)+Ao_or_ESLOT_W/12),0)),\"\"))","v":""},{"$f":"IF(B151=\"\",\"\",IF(OR(Zone1_Outlet_Type=4,Zone2_Outlet_Type=4),IF(B151<WQ_Plate_Invert+Ao_OC_or_ESLOT_H, 0.642*(0.3015*(B151-WQ_Plate_Invert)*(AW151+AX151)+0.1415*(B151-WQ_Plate_Invert)*(AX151+AY151)+0.057*(B151-WQ_Plate_Invert)*AY151),\"N/A\"),\"\"))","v":""},{"$f":"IF(B151=\"\",\"\",IF(OR(Zone1_Outlet_Type=4,Zone2_Outlet_Type=4),IF(B151>=WQ_Plate_Invert+Ao_OC_or_ESLOT_H, 0.6*Elliptical_Slot_Area*(2*32.2*(B151-WQ_Plate_Invert-Elliptical_Slot_Centroid))^0.5,\"N/A\"),\"\"))","v":""},{"$f":"IF(B151=\"\",\"\",IF(OR(Zone1_Outlet_Type=4,Zone2_Outlet_Type=4),IF(B151<WQ_Plate_Invert+Ao_OC_or_ESLOT_H, BA151,BB151),\"\"))","v":""},"","","","","","","","",""]
[null,{"$f":"IF(Basin_CountA=0,\"\",IF(User_Stage_Area=0,Basin!G181,Basin!H181))","v":""},{"$f":"IF(Basin_CountA=0,\"\",IF(User_Stage_Area=0,Basin!K181,IF(B152=\"\",\"\",Basin!L181)))","v":""},{"$f":"IF(Basin_CountA=0,\"\",Basin!N181)","v":""},null,"","","","","","","",{"$f":"IF(B152=\"\",\"\",K152+L152-1.11*(K152*L152)^0.5)","v":""},"","","",{"$f":"IF(B152=\"\",\"\",O152+P152-1.11*(O152*P152)^0.5)","v":""},"","","","","","",{"$f":"IF(B152=\"\",\"\",IF(E152<>\"\",E152,\nIF(V152<>0,V152+W152,\nIF(T152<>0,T152+W152,\nG152+H152+I152+J152+N152+R152+W152))))","v":""},"",{"$f":"IF(B152=\"\",\"\",IF(Y152<=0,0,IF(Y152=\"\",Z151,((X152-X151)/(Y152-Y151)))))","v":""},{"$f":"IF(B152=\"\",\"\",IF(Y152<=0,0,IF(Y152=\"\",AA151,((B152-B151)/(Y152-Y151)))))","v":""},"","","","","","","","","","","","","","","","","","","","","","","","","","","","",{"$f":"IF(B152=\"\",\"\",IF(G152=0,0,IF(X152=G152,1,0)))","v":""},{"$f":"IF(B152=\"\",\"\",IF(H152=0,0,IF(ROUND(X152-G152,3)=ROUND(H152,3),1,0)))","v":""},{"$f":"IF(B152=\"\",\"\",IF(I152=0,0,\nIF(Vertical_Orifice1_Rank=1,IF(ROUND(X152-H152-G152,3)=ROUND(I152,3),1,0),\nIF(Vertical_Orifice1_Rank=2,IF(ROUND(X152-T152,3)=ROUND(I152,3),1,0),\nIF(ROUND(X152-V152,3)=ROUND(I152,3),1,0)))))","v":""},{"$f":"IF(B152=\"\",\"\",IF(J152=0,0,\nIF(Vertical_Orifice2_Rank=2,IF(ROUND(X152-I152-H152-G152,3)=ROUND(J152,3),1,0),\nIF(Vertical_Orifice2_Rank=3,\nIF(Vertical_Orifice1_Rank=1,IF(ROUND(X152-T152,3)=ROUND(J152,3),1,0),IF(ROUND(X152-T152-I152,3)=ROUND(J152,3),1,0)),\nIF(OR(Vertical_Orifice1_Rank=1,Vertical_Orifice1_Rank=2),IF(ROUND(X152-T152,3)=ROUND(J152,3),1,0),IF(ROUND(X152-T152-I152,3)=ROUND(J152,3),1,0))))))","v":""},{"$f":"IF(B152=\"\",\"\",IF(N152=0,0,\nIF(Overflow_Weir1_Rank=1,IF(ROUND(X152-H152-G152,3)=ROUND(N152,3),1,0),\nIF(Overflow_Weir1_Rank=2,IF(ROUND(X152-I152-H152-G152,3)=ROUND(N152,3),1,0),\nIF(ROUND(X152-J152-I152-H152-G152,3)=ROUND(N152,3),1,0)))))","v":""},{"$f":"IF(B152=\"\",\"\",IF(R152=0,0,\nIF(Weir2_Position=\"Overlapping\",IF(ROUND(X152-N152-J152-I152-H152-G152,3)=ROUND(R152,3),1,0),\nIF(Overflow_Weir2_Rank=2,\nIF(ROUND(X152-T152,3)=ROUND(R152,3),1,0),\nIF(Overflow_Weir2_Rank=3,\nIF(Overflow_Weir1_Rank=2,IF(ROUND(X152-T152,3)=ROUND(R152,3),1,0),IF(ROUND(X152-T152-I152,3)=ROUND(R152,3),1,0)),\nIF(Overflow_Weir1_Rank=3,IF(ROUND(X152-T152,3)=ROUND(R152,3),1,0),\nIF(Overflow_Weir1_Rank=2,IF(ROUND(X152-T152-I152,3)=ROUND(R152,3),1,0),IF(ROUND(X152-T152-J152-I152,3)=ROUND(R152,3),1,0))))))))","v":""},"","",{"$f":"IF(B152=\"\",\"\",IF(W152=0,0,1))","v":""}]
[null,{"$f":"IF(Basin_CountA=0,\"\",IF(User_Stage_Area=0,Basin!G182,Basin!H182))","v":""},{"$f":"IF(Basin_CountA=0,\"\",IF(User_Stage_Area=0,Basin!K182,IF(B153=\"\",\"\",Basin!L182)))","v":""},{"$f":"IF(Basin_CountA=0,\"\",Basin!N182)","v":""},null,"","","","","","","","","","","","","","","","","","","","","","","","","","","","","","","","","","","","","","","","","","","","","","","","","","","","","","","","",{"$f":"IF(B153=\"\",\"\",IF(T153=0,0,IF(ROUND(X153,3)=ROUND(S153,3),1,0)))","v":""},{"$f":"IF(B153=\"\",\"\",IF(V153=0,0,IF(ROUND(X153,3)=ROUND(U153,3),1,0)))","v":""},""]
[null,{"$f":"IF(Basin_CountA=0,\"\",IF(User_Stage_Area=0,Basin!G183,Basin!H183))","v":""},{"$f":"IF(Basin_CountA=0,\"\",IF(User_Stage_Area=0,Basin!K183,IF(B154=\"\",\"\",Basin!L183)))","v":""},{"$f":"IF(Basin_CountA=0,\"\",Basin!N183)","v":""},null,"","","","","","","","","","","","","","","","","","","","","","","","","","","","","","","","","","","","","","","","","","","","","","","","","","","","","","","","","","",""]
[null,{"$f":"IF(Basin_CountA=0,\"\",IF(User_Stage_Area=0,Basin!G184,Basin!H184))","v":""},{"$f":"IF(Basin_CountA=0,\"\",IF(User_Stage_Area=0,Basin!K184,IF(B155=\"\",\"\",Basin!L184)))","v":""},{"$f":"IF(Basin_CountA=0,\"\",Basin!N184)","v":""},null,"","","","","","","","","","","","","","","","","","","","","","","","","","","","","","","","","","","","","","","","","","","","","","","","","","","","","","","","","","",""]
[null,{"$f":"IF(Basin_CountA=0,\"\",IF(User_Stage_Area=0,Basin!G185,Basin!H185))","v":""},{"$f":"IF(Basin_CountA=0,\"\",IF(User_Stage_Area=0,Basin!K185,IF(B156=\"\",\"\",Basin!L185)))","v":""},{"$f":"IF(Basin_CountA=0,\"\",Basin!N185)","v":""},null,"","","","","","","","","","","","","","","","","","","","","","","","","","","","","","","","","","","","","","","","","","","","","","","","","","","","","","","","","","",""]
[null,{"$f":"IF(Basin_CountA=0,\"\",IF(User_Stage_Area=0,Basin!G186,Basin!H186))","v":""},{"$f":"IF(Basin_CountA=0,\"\",IF(User_Stage_Area=0,Basin!K186,IF(B157=\"\",\"\",Basin!L186)))","v":""},{"$f":"IF(Basin_CountA=0,\"\",Basin!N186)","v":""},null,"","","","","","","","","","","","","","","","","","","","","","","","","","","","","","","","","","","","","","","","","","","","","","","","","","","","","","","","","","",""]
[null,{"$f":"IF(Basin_CountA=0,\"\",IF(User_Stage_Area=0,Basin!G187,Basin!H187))","v":""},{"$f":"IF(Basin_CountA=0,\"\",IF(User_Stage_Area=0,Basin!K187,IF(B158=\"\",\"\",Basin!L187)))","v":""},{"$f":"IF(Basin_CountA=0,\"\",Basin!N187)","v":""},null,"","","","","","","","","","","","","","","","","","","","","","","","","","","","","","","","","","","","","","","","","","","","","","","","","","","","","","","","","","",""]
[null,{"$f":"IF(Basin_CountA=0,\"\",IF(User_Stage_Area=0,Basin!G188,Basin!H188))","v":""},{"$f":"IF(Basin_CountA=0,\"\",IF(User_Stage_Area=0,Basin!K188,IF(B159=\"\",\"\",Basin!L188)))","v":""},{"$f":"IF(Basin_CountA=0,\"\",Basin!N188)","v":""},null,"","","","","","","","","","","","","","","","","","","","","","","","","","","","","","","","","","","","","","","","","","","","","","","","","","","","","","","","","","",""]
[null,{"$f":"IF(Basin_CountA=0,\"\",IF(User_Stage_Area=0,Basin!G189,Basin!H189))","v":""},{"$f":"IF(Basin_CountA=0,\"\",IF(User_Stage_Area=0,Basin!K189,IF(B160=\"\",\"\",Basin!L189)))","v":""},{"$f":"IF(Basin_CountA=0,\"\",Basin!N189)","v":""},null,"","","","","","","","","","","","","","","","","","","","","","","","","","","","","","","","","","","","","","","","","","","","","","","","","","","","","","","","","","",""]
[null,{"$f":"IF(Basin_CountA=0,\"\",IF(User_Stage_Area=0,Basin!G190,Basin!H190))","v":""},{"$f":"IF(Basin_CountA=0,\"\",IF(User_Stage_Area=0,Basin!K190,IF(B161=\"\",\"\",Basin!L190)))","v":""},{"$f":"IF(Basin_CountA=0,\"\",Basin!N190)","v":""},null,"","","","","","","","","","","","","","","","","","","","","","","","","","","","","","","","","","","","","","","","","","","","","","","","","","","","","","","","","","",""]
[null,{"$f":"IF(Basin_CountA=0,\"\",IF(User_Stage_Area=0,Basin!G191,Basin!H191))","v":""},{"$f":"IF(Basin_CountA=0,\"\",IF(User_Stage_Area=0,Basin!K191,IF(B162=\"\",\"\",Basin!L191)))","v":""},{"$f":"IF(Basin_CountA=0,\"\",Basin!N191)","v":""},null,"","","","","","","","","","","","","","","","","","","","","","","","","","","","","","","","","","","","","","","","","","","","","","","","","","","","","","","","","","",""]
[null,{"$f":"IF(Basin_CountA=0,\"\",IF(User_Stage_Area=0,Basin!G192,Basin!H192))","v":""},{"$f":"IF(Basin_CountA=0,\"\",IF(User_Stage_Area=0,Basin!K192,IF(B163=\"\",\"\",Basin!L192)))","v":""},{"$f":"IF(Basin_CountA=0,\"\",Basin!N192)","v":""},null,"","","","","","","","","","","","","","","","","","","","","","","","","","","","","","","","","","","","","","","","","","","","","","","","","","","","","","","","","","",""]
[null,{"$f":"IF(Basin_CountA=0,\"\",IF(User_Stage_Area=0,Basin!G193,Basin!H193))","v":""},{"$f":"IF(Basin_CountA=0,\"\",IF(User_Stage_Area=0,Basin!K193,IF(B164=\"\",\"\",Basin!L193)))","v":""},{"$f":"IF(Basin_CountA=0,\"\",Basin!N193)","v":""},null,"","","","","","","","","","","","","","","","","","","","","","","","","","","","","","","","","","","","","","","","","","","","","","","","","","","","","","","","","","",""]
[null,{"$f":"IF(Basin_CountA=0,\"\",IF(User_Stage_Area=0,Basin!G194,Basin!H194))","v":""},{"$f":"IF(Basin_CountA=0,\"\",IF(User_Stage_Area=0,Basin!K194,IF(B165=\"\",\"\",Basin!L194)))","v":""},{"$f":"IF(Basin_CountA=0,\"\",Basin!N194)","v":""},null,"","","","","","","","","","","","","","","","","","","","","","","","","","","","","","","","","","","","","","","","","","","","","","","","","","","","","","","","","","",""]
[null,{"$f":"IF(Basin_CountA=0,\"\",IF(User_Stage_Area=0,Basin!G195,Basin!H195))","v":""},{"$f":"IF(Basin_CountA=0,\"\",IF(User_Stage_Area=0,Basin!K195,IF(B166=\"\",\"\",Basin!L195)))","v":""},{"$f":"IF(Basin_CountA=0,\"\",Basin!N195)","v":""},null,"","","","","","","","","","","","","","","","","","","","","","","","","","","","","","","","","","","","","","","","","","","","","","","","","","","","","","","","","","",""]
[null,{"$f":"IF(Basin_CountA=0,\"\",IF(User_Stage_Area=0,Basin!G196,Basin!H196))","v":""},{"$f":"IF(Basin_CountA=0,\"\",IF(User_Stage_Area=0,Basin!K196,IF(B167=\"\",\"\",Basin!L196)))","v":""},{"$f":"IF(Basin_CountA=0,\"\",Basin!N196)","v":""},null,"","","","","","","","","","","","","","","","","","","","","","","","","","","","","","","","","","","","","","","",{"$f":"IF($B167=\"\",\"\",IF(OR(Zone1_Outlet_Type=4,Zone2_Outlet_Type=4),IF($B167<WQ_Plate_Invert,0,($B167-WQ_Plate_Invert)*AS$86),\"\"))","v":""},"","","","","","","","","","","","","","","","","","",""]
[null,{"$f":"IF(Basin_CountA=0,\"\",IF(User_Stage_Area=0,Basin!G197,Basin!H197))","v":""},{"$f":"IF(Basin_CountA=0,\"\",IF(User_Stage_Area=0,Basin!K197,IF(B168=\"\",\"\",Basin!L197)))","v":""},{"$f":"IF(Basin_CountA=0,\"\",Basin!N197)","v":""},null,"","","","","","","","","","","","","","","","","","","","","","","","","","","","","","","","","","","","","","","","","","","","","","","","","","","","","","","","","","",""]
[null,{"$f":"IF(Basin_CountA=0,\"\",IF(User_Stage_Area=0,Basin!G198,Basin!H198))","v":""},{"$f":"IF(Basin_CountA=0,\"\",IF(User_Stage_Area=0,Basin!K198,IF(B169=\"\",\"\",Basin!L198)))","v":""},{"$f":"IF(Basin_CountA=0,\"\",Basin!N198)","v":""},null,"","","","","","","","","","","","","","","","","","","","","","","","","","","","","","","","","","","","","","","","","","","","","","","","","","","","","","","","","","",""]
[null,{"$f":"IF(Basin_CountA=0,\"\",IF(User_Stage_Area=0,Basin!G199,Basin!H199))","v":""},{"$f":"IF(Basin_CountA=0,\"\",IF(User_Stage_Area=0,Basin!K199,IF(B170=\"\",\"\",Basin!L199)))","v":""},{"$f":"IF(Basin_CountA=0,\"\",Basin!N199)","v":""},null,"","","","","","","","","","","","","","","","","","","","","","","","","","","","","","","","","","","","","","","","","","","","","","","","","","","","","","","","","","",""]
[null,{"$f":"IF(Basin_CountA=0,\"\",IF(User_Stage_Area=0,Basin!G200,Basin!H200))","v":""},{"$f":"IF(Basin_CountA=0,\"\",IF(User_Stage_Area=0,Basin!K200,IF(B171=\"\",\"\",Basin!L200)))","v":""},{"$f":"IF(Basin_CountA=0,\"\",Basin!N200)","v":""},null,"","","","","","","","","","","","","","","","","","","","","","","","","","","","","","","","","","","","","","","","","","","","","","","","","","","","","","","","","","",""]
[null,{"$f":"IF(Basin_CountA=0,\"\",IF(User_Stage_Area=0,Basin!G201,Basin!H201))","v":""},{"$f":"IF(Basin_CountA=0,\"\",IF(User_Stage_Area=0,Basin!K201,IF(B172=\"\",\"\",Basin!L201)))","v":""},{"$f":"IF(Basin_CountA=0,\"\",Basin!N201)","v":""},null,"","","","","","","","","","","","","","","","","","","","","","","","","","","","","","","","","","","","","","","","","","","","","","","","","","","","","","","","","","",""]
[null,{"$f":"IF(Basin_CountA=0,\"\",IF(User_Stage_Area=0,Basin!G202,Basin!H202))","v":""},{"$f":"IF(Basin_CountA=0,\"\",IF(User_Stage_Area=0,Basin!K202,IF(B173=\"\",\"\",Basin!L202)))","v":""},{"$f":"IF(Basin_CountA=0,\"\",Basin!N202)","v":""},null,"","","","","","","","","","","","","","","","","","","","","","","","","","","","","","","","","","","","","","","","","","","","","","","","","","","","","","","","","","",""]
[null,{"$f":"IF(Basin_CountA=0,\"\",IF(User_Stage_Area=0,Basin!G203,Basin!H203))","v":""},{"$f":"IF(Basin_CountA=0,\"\",IF(User_Stage_Area=0,Basin!K203,IF(B174=\"\",\"\",Basin!L203)))","v":""},{"$f":"IF(Basin_CountA=0,\"\",Basin!N203)","v":""},null,"","","","","","","","","","","","","","","","","","","","","","","","","","","","","","","","","","","","","","","","","","","","","","","","","","","","","","","","","","",""]
[null,{"$f":"IF(Basin_CountA=0,\"\",IF(User_Stage_Area=0,Basin!G204,Basin!H204))","v":""},{"$f":"IF(Basin_CountA=0,\"\",IF(User_Stage_Area=0,Basin!K204,IF(B175=\"\",\"\",Basin!L204)))","v":""},{"$f":"IF(Basin_CountA=0,\"\",Basin!N204)","v":""},null,"","","","","","","","","","","","","","","","","","","","","","","","","","","","","","","","","","","","","","","","","","","","","","","","","","","","","","","","","","",""]
[null,{"$f":"IF(Basin_CountA=0,\"\",IF(User_Stage_Area=0,Basin!G205,Basin!H205))","v":""},{"$f":"IF(Basin_CountA=0,\"\",IF(User_Stage_Area=0,Basin!K205,IF(B176=\"\",\"\",Basin!L205)))","v":""},{"$f":"IF(Basin_CountA=0,\"\",Basin!N205)","v":""},null,"","","","","","","","","","","","","","","","","","","","","","","","","","","","","","","","","","","","","","","","","","","","","","","","","","","","","","","","","","",""]
[null,{"$f":"IF(Basin_CountA=0,\"\",IF(User_Stage_Area=0,Basin!G206,Basin!H206))","v":""},{"$f":"IF(Basin_CountA=0,\"\",IF(User_Stage_Area=0,Basin!K206,IF(B177=\"\",\"\",Basin!L206)))","v":""},{"$f":"IF(Basin_CountA=0,\"\",Basin!N206)","v":""},null,"","","","","","","","","","","","","","","","","","","","","","","","","","","","","","","","","","","","","","","","","","","","","","","","","","","","","","","","","","",""]
[null,{"$f":"IF(Basin_CountA=0,\"\",IF(User_Stage_Area=0,Basin!G207,Basin!H207))","v":""},{"$f":"IF(Basin_CountA=0,\"\",IF(User_Stage_Area=0,Basin!K207,IF(B178=\"\",\"\",Basin!L207)))","v":""},{"$f":"IF(Basin_CountA=0,\"\",Basin!N207)","v":""},null,"","","","","","","","","","","","","","","","","","","","","","","","","","","","","","","","","","","","","","","","","","","","","","","","","","","","","","","","","","",""]
[null,{"$f":"IF(Basin_CountA=0,\"\",IF(User_Stage_Area=0,Basin!G208,Basin!H208))","v":""},{"$f":"IF(Basin_CountA=0,\"\",IF(User_Stage_Area=0,Basin!K208,IF(B179=\"\",\"\",Basin!L208)))","v":""},{"$f":"IF(Basin_CountA=0,\"\",Basin!N208)","v":""},null,"","","","","","","","","","","","","","","","","","","","","","","","","","","","","","","","","","","","","","","","","","","","","","","","","","","","","","","","","","",""]
[null,{"$f":"IF(Basin_CountA=0,\"\",IF(User_Stage_Area=0,Basin!G209,Basin!H209))","v":""},{"$f":"IF(Basin_CountA=0,\"\",IF(User_Stage_Area=0,Basin!K209,IF(B180=\"\",\"\",Basin!L209)))","v":""},{"$f":"IF(Basin_CountA=0,\"\",Basin!N209)","v":""},null,"","","","","","","","","","","","","","","","","","","","","","","","","","","","","","","","","","","","","","","","","","","","","","","","","","","","","","","","","","",""]
[null,{"$f":"IF(Basin_CountA=0,\"\",IF(User_Stage_Area=0,Basin!G210,Basin!H210))","v":""},{"$f":"IF(Basin_CountA=0,\"\",IF(User_Stage_Area=0,Basin!K210,IF(B181=\"\",\"\",Basin!L210)))","v":""},{"$f":"IF(Basin_CountA=0,\"\",Basin!N210)","v":""},null,"","","","","","","","","","","","","","","","","","","","","","","","","","","","","","","","","","","","","","","","","","","","","","","","","","","","","","","","","","",""]
[null,{"$f":"IF(Basin_CountA=0,\"\",IF(User_Stage_Area=0,Basin!G211,Basin!H211))","v":""},{"$f":"IF(Basin_CountA=0,\"\",IF(User_Stage_Area=0,Basin!K211,IF(B182=\"\",\"\",Basin!L211)))","v":""},{"$f":"IF(Basin_CountA=0,\"\",Basin!N211)","v":""},null,"","","","","","","","","","","","","","","","","","","","","","","","","","","","","","","","","","","","","","","","","","","","","","","","","","","","","","","","","","",""]
[null,{"$f":"IF(Basin_CountA=0,\"\",IF(User_Stage_Area=0,Basin!G212,Basin!H212))","v":""},{"$f":"IF(Basin_CountA=0,\"\",IF(User_Stage_Area=0,Basin!K212,IF(B183=\"\",\"\",Basin!L212)))","v":""},{"$f":"IF(Basin_CountA=0,\"\",Basin!N212)","v":""},null,"","","","","","","","","","","","","","","","","","","","","","","","","","","","","","","","","","","","","","","","","","","","","","","","","","","","","","","","","","",""]
[null,{"$f":"IF(Basin_CountA=0,\"\",IF(User_Stage_Area=0,Basin!G213,Basin!H213))","v":""},{"$f":"IF(Basin_CountA=0,\"\",IF(User_Stage_Area=0,Basin!K213,IF(B184=\"\",\"\",Basin!L213)))","v":""},{"$f":"IF(Basin_CountA=0,\"\",Basin!N213)","v":""},null,"","","","","","","","","","","","","","","","","","","","","","","","","","","","","","","","","","","","","","","","","","","","","","","","","","","","","","","","","","",""]
[null,{"$f":"IF(Basin_CountA=0,\"\",IF(User_Stage_Area=0,Basin!G214,Basin!H214))","v":""},{"$f":"IF(Basin_CountA=0,\"\",IF(User_Stage_Area=0,Basin!K214,IF(B185=\"\",\"\",Basin!L214)))","v":""},{"$f":"IF(Basin_CountA=0,\"\",Basin!N214)","v":""},null,"","","","","","","","","","","","","","","","","","","","","","","","","","","","","","","","","","","","","","","","","","","","","","","","","","","","","","","","","","",""]
[null,{"$f":"IF(Basin_CountA=0,\"\",IF(User_Stage_Area=0,Basin!G215,Basin!H215))","v":""},{"$f":"IF(Basin_CountA=0,\"\",IF(User_Stage_Area=0,Basin!K215,IF(B186=\"\",\"\",Basin!L215)))","v":""},{"$f":"IF(Basin_CountA=0,\"\",Basin!N215)","v":""},null,"","","","","","","","","","","","","","","","","","","","","","","","","","","","","","","","","","","","","","","","","","","","","","","","","","","","","","","","","","",""]
[null,{"$f":"IF(Basin_CountA=0,\"\",IF(User_Stage_Area=0,Basin!G216,Basin!H216))","v":""},{"$f":"IF(Basin_CountA=0,\"\",IF(User_Stage_Area=0,Basin!K216,IF(B187=\"\",\"\",Basin!L216)))","v":""},{"$f":"IF(Basin_CountA=0,\"\",Basin!N216)","v":""},null,"","","","","","","","","","","","","","","","","","","","","","","","","","","","","","","","","","","","","","","",{"$f":"IF($B187=\"\",\"\",IF(OR(Zone1_Outlet_Type=4,Zone2_Outlet_Type=4),IF($B187<WQ_Plate_Invert,0,($B187-WQ_Plate_Invert)*AS$86),\"\"))","v":""},"","","","","","","","","","","","","","","","","","",""]
[null,{"$f":"IF(Basin_CountA=0,\"\",IF(User_Stage_Area=0,Basin!G217,Basin!H217))","v":""},{"$f":"IF(Basin_CountA=0,\"\",IF(User_Stage_Area=0,Basin!K217,IF(B188=\"\",\"\",Basin!L217)))","v":""},{"$f":"IF(Basin_CountA=0,\"\",Basin!N217)","v":""},null,"","","","","","","","","","","","","","","","","","","","","","","","","","","","","","","","","","","","","","","","","","","","","","","","","","","","","","","","","","",""]
[null,{"$f":"IF(Basin_CountA=0,\"\",IF(User_Stage_Area=0,Basin!G218,Basin!H218))","v":""},{"$f":"IF(Basin_CountA=0,\"\",IF(User_Stage_Area=0,Basin!K218,IF(B189=\"\",\"\",Basin!L218)))","v":""},{"$f":"IF(Basin_CountA=0,\"\",Basin!N218)","v":""},null,"","","","","","","","","","","","","","","","","","","","","","","","","","","","","","","","","","","","","","","","","","","","","","","","","","","","","","","","","","",""]
[null,{"$f":"IF(Basin_CountA=0,\"\",IF(User_Stage_Area=0,Basin!G219,Basin!H219))","v":""},{"$f":"IF(Basin_CountA=0,\"\",IF(User_Stage_Area=0,Basin!K219,IF(B190=\"\",\"\",Basin!L219)))","v":""},{"$f":"IF(Basin_CountA=0,\"\",Basin!N219)","v":""},null,"","","","","","","","","","","","","","","","","","","","","","","","","","","","","","","","","","","","","","","","","","","","","","","","","","","","","","","","","","",""]
[null,{"$f":"IF(Basin_CountA=0,\"\",IF(User_Stage_Area=0,Basin!G220,Basin!H220))","v":""},{"$f":"IF(Basin_CountA=0,\"\",IF(User_Stage_Area=0,Basin!K220,IF(B191=\"\",\"\",Basin!L220)))","v":""},{"$f":"IF(Basin_CountA=0,\"\",Basin!N220)","v":""},null,"","","","","","","","","","","","","","","","","","","","","","","","","","","","","","","","","","","","","","","","","","","","","","","","","","","","","","","","","","",""]
[null,{"$f":"IF(Basin_CountA=0,\"\",IF(User_Stage_Area=0,Basin!G221,Basin!H221))","v":""},{"$f":"IF(Basin_CountA=0,\"\",IF(User_Stage_Area=0,Basin!K221,IF(B192=\"\",\"\",Basin!L221)))","v":""},{"$f":"IF(Basin_CountA=0,\"\",Basin!N221)","v":""},null,"","","","","","","","","","","","","","","","","","","","","","","","","","","","","","","","","","","","","","","","","","","","","","","","","","","","","","","","","","",""]
[null,{"$f":"IF(Basin_CountA=0,\"\",IF(User_Stage_Area=0,Basin!G222,Basin!H222))","v":""},{"$f":"IF(Basin_CountA=0,\"\",IF(User_Stage_Area=0,Basin!K222,IF(B193=\"\",\"\",Basin!L222)))","v":""},{"$f":"IF(Basin_CountA=0,\"\",Basin!N222)","v":""},null,"","","","","","","","","","","","","","","","","","","","","","","","","","","","","","","","","","","","","","","","","","","","","","","","","","","","","","","","","","",""]
[null,{"$f":"IF(Basin_CountA=0,\"\",IF(User_Stage_Area=0,Basin!G223,Basin!H223))","v":""},{"$f":"IF(Basin_CountA=0,\"\",IF(User_Stage_Area=0,Basin!K223,IF(B194=\"\",\"\",Basin!L223)))","v":""},{"$f":"IF(Basin_CountA=0,\"\",Basin!N223)","v":""},null,"","","","","","","","","","","","","","","","","","","","","","","","","","","","","","","","","","","","","","","","","","","","","","","","","","","","","","","","","","",""]
[null,{"$f":"IF(Basin_CountA=0,\"\",IF(User_Stage_Area=0,Basin!G224,Basin!H224))","v":""},{"$f":"IF(Basin_CountA=0,\"\",IF(User_Stage_Area=0,Basin!K224,IF(B195=\"\",\"\",Basin!L224)))","v":""},{"$f":"IF(Basin_CountA=0,\"\",Basin!N224)","v":""},null,"","","","","","","","","","","","","","","","","","","","","","","","","","","","","","","","","","","","","","","","","","","","","","","","","","","","","","","","","","",""]
[null,{"$f":"IF(Basin_CountA=0,\"\",IF(User_Stage_Area=0,Basin!G225,Basin!H225))","v":""},{"$f":"IF(Basin_CountA=0,\"\",IF(User_Stage_Area=0,Basin!K225,IF(B196=\"\",\"\",Basin!L225)))","v":""},{"$f":"IF(Basin_CountA=0,\"\",Basin!N225)","v":""},null,"","","","","","","","","","","","","","","","","","","","","","","","","","","","","","","","","","","","","","","","","","","","","","","","","","","","","","","","","","",""]
[null,{"$f":"IF(Basin_CountA=0,\"\",IF(User_Stage_Area=0,Basin!G226,Basin!H226))","v":""},{"$f":"IF(Basin_CountA=0,\"\",IF(User_Stage_Area=0,Basin!K226,IF(B197=\"\",\"\",Basin!L226)))","v":""},{"$f":"IF(Basin_CountA=0,\"\",Basin!N226)","v":""},null,"","","","","","","","","","","","","","","","","","","","","","","","","","","","","","","","","","","","","","","","","","","","","","","","","","","","","","","","","","",""]
[null,{"$f":"IF(Basin_CountA=0,\"\",IF(User_Stage_Area=0,Basin!G227,Basin!H227))","v":""},{"$f":"IF(Basin_CountA=0,\"\",IF(User_Stage_Area=0,Basin!K227,IF(B198=\"\",\"\",Basin!L227)))","v":""},{"$f":"IF(Basin_CountA=0,\"\",Basin!N227)","v":""},null,"","","","","","","","","","","","","","","","","","","","","","","","","","","","","","","","","","","","","","","","","","","","","","","","","","","","","","","","","","",""]
[null,{"$f":"IF(Basin_CountA=0,\"\",IF(User_Stage_Area=0,Basin!G228,Basin!H228))","v":""},{"$f":"IF(Basin_CountA=0,\"\",IF(User_Stage_Area=0,Basin!K228,IF(B199=\"\",\"\",Basin!L228)))","v":""},{"$f":"IF(Basin_CountA=0,\"\",Basin!N228)","v":""},null,"","","","","","","","","","","","","","","","","","","","","","","","","","","","","","","","","","","","","","","","","","","","","","","","","","","","","","","","","","",""]
[null,{"$f":"IF(Basin_CountA=0,\"\",IF(User_Stage_Area=0,Basin!G229,Basin!H229))","v":""},{"$f":"IF(Basin_CountA=0,\"\",IF(User_Stage_Area=0,Basin!K229,IF(B200=\"\",\"\",Basin!L229)))","v":""},{"$f":"IF(Basin_CountA=0,\"\",Basin!N229)","v":""},null,"","","","","","","","","","","","","","","","","","","","","","","","","","","","","","","","","","","","","","","","","","","","","","","","","","","","","","","","","","",""]
[null,{"$f":"IF(Basin_CountA=0,\"\",IF(User_Stage_Area=0,Basin!G230,Basin!H230))","v":""},{"$f":"IF(Basin_CountA=0,\"\",IF(User_Stage_Area=0,Basin!K230,IF(B201=\"\",\"\",Basin!L230)))","v":""},{"$f":"IF(Basin_CountA=0,\"\",Basin!N230)","v":""},null,"","","","","","","","","","","","","","","","","","","","","","","","","","","","","","","","","","","","","","","","","","","","","","","","","","","","","","","","","","",""]
[null,{"$f":"IF(Basin_CountA=0,\"\",IF(User_Stage_Area=0,Basin!G231,Basin!H231))","v":""},{"$f":"IF(Basin_CountA=0,\"\",IF(User_Stage_Area=0,Basin!K231,IF(B202=\"\",\"\",Basin!L231)))","v":""},{"$f":"IF(Basin_CountA=0,\"\",Basin!N231)","v":""},null,"","","","","","","","","","","","","","","","","","","","","","","","","","","","","","","","","","","","","","","","","","","","","","","","","","","","","","","","","","",""]
[null,{"$f":"IF(Basin_CountA=0,\"\",IF(User_Stage_Area=0,Basin!G232,Basin!H232))","v":""},{"$f":"IF(Basin_CountA=0,\"\",IF(User_Stage_Area=0,Basin!K232,IF(B203=\"\",\"\",Basin!L232)))","v":""},{"$f":"IF(Basin_CountA=0,\"\",Basin!N232)","v":""},null,"","","","","","","","","","","","","","","","","","","","","","","","","","","","","","","","","","","","","","","","","","","","","","","","","","","","","","","","","","",""]
[null,{"$f":"IF(Basin_CountA=0,\"\",IF(User_Stage_Area=0,Basin!G233,Basin!H233))","v":""},{"$f":"IF(Basin_CountA=0,\"\",IF(User_Stage_Area=0,Basin!K233,IF(B204=\"\",\"\",Basin!L233)))","v":""},{"$f":"IF(Basin_CountA=0,\"\",Basin!N233)","v":""},null,"","","","","","","","","","","","","","","","","","","","","","","","","","","","","","","","","","","","","","","","","","","","","","","","","","","","","","","","","","",""]
[null,{"$f":"IF(Basin_CountA=0,\"\",IF(User_Stage_Area=0,Basin!G234,Basin!H234))","v":""},{"$f":"IF(Basin_CountA=0,\"\",IF(User_Stage_Area=0,Basin!K234,IF(B205=\"\",\"\",Basin!L234)))","v":""},{"$f":"IF(Basin_CountA=0,\"\",Basin!N234)","v":""},null,"","","","","","","","","","","","","","","","","","","","","","","","","","","","","","","","","","","","","","","","","","","","","","","","","","","","","","","","","","",""]
[null,{"$f":"IF(Basin_CountA=0,\"\",IF(User_Stage_Area=0,Basin!G235,Basin!H235))","v":""},{"$f":"IF(Basin_CountA=0,\"\",IF(User_Stage_Area=0,Basin!K235,IF(B206=\"\",\"\",Basin!L235)))","v":""},{"$f":"IF(Basin_CountA=0,\"\",Basin!N235)","v":""},null,"","","","","","","","","","","","","","","","","","","","","","","","","","","","","","","","","","","","","","","","","","","","","","","","","","","","","","","","","","",""]
[null,{"$f":"IF(Basin_CountA=0,\"\",IF(User_Stage_Area=0,Basin!G236,Basin!H236))","v":""},{"$f":"IF(Basin_CountA=0,\"\",IF(User_Stage_Area=0,Basin!K236,IF(B207=\"\",\"\",Basin!L236)))","v":""},{"$f":"IF(Basin_CountA=0,\"\",Basin!N236)","v":""},null,"","","","","","","","","","","","","","","","","","","","","","","","","","","","","","","","","","","","","","","",{"$f":"IF($B207=\"\",\"\",IF(OR(Zone1_Outlet_Type=4,Zone2_Outlet_Type=4),IF($B207<WQ_Plate_Invert,0,($B207-WQ_Plate_Invert)*AS$86),\"\"))","v":""},"","","","","","","","","","","","","","","","","","",""]
[null,{"$f":"IF(Basin_CountA=0,\"\",IF(User_Stage_Area=0,Basin!G237,Basin!H237))","v":""},{"$f":"IF(Basin_CountA=0,\"\",IF(User_Stage_Area=0,Basin!K237,IF(B208=\"\",\"\",Basin!L237)))","v":""},{"$f":"IF(Basin_CountA=0,\"\",Basin!N237)","v":""},null,"","","","","","","","","","","","","","","","","","","","","","","","","","","","","","","","","","","","","","","","","","","","","","","","","","","","","","","","","","",""]
[null,{"$f":"IF(Basin_CountA=0,\"\",IF(User_Stage_Area=0,Basin!G238,Basin!H238))","v":""},{"$f":"IF(Basin_CountA=0,\"\",IF(User_Stage_Area=0,Basin!K238,IF(B209=\"\",\"\",Basin!L238)))","v":""},{"$f":"IF(Basin_CountA=0,\"\",Basin!N238)","v":""},null,"","","","","","","","","","","","","","","","","","","","","","","","","","","","","","","","","","","","","","","","","","","","","","","","","","","","","","","","","","",""]
[null,{"$f":"IF(Basin_CountA=0,\"\",IF(User_Stage_Area=0,Basin!G239,Basin!H239))","v":""},{"$f":"IF(Basin_CountA=0,\"\",IF(User_Stage_Area=0,Basin!K239,IF(B210=\"\",\"\",Basin!L239)))","v":""},{"$f":"IF(Basin_CountA=0,\"\",Basin!N239)","v":""},null,"","","","","","","","","","","","","","","","","","","","","","","","","","","","","","","","","","","","","","","","","","","","","","","","","","","","","","","","","","",""]
[null,{"$f":"IF(Basin_CountA=0,\"\",IF(User_Stage_Area=0,Basin!G240,Basin!H240))","v":""},{"$f":"IF(Basin_CountA=0,\"\",IF(User_Stage_Area=0,Basin!K240,IF(B211=\"\",\"\",Basin!L240)))","v":""},{"$f":"IF(Basin_CountA=0,\"\",Basin!N240)","v":""},null,"","","","","","","","","","","","","","","","","","","","","","","","","","","","","","","","","","","","","","","","","","","","","","","","","","","","","","","","","","",""]
[null,{"$f":"IF(Basin_CountA=0,\"\",IF(User_Stage_Area=0,Basin!G241,Basin!H241))","v":""},{"$f":"IF(Basin_CountA=0,\"\",IF(User_Stage_Area=0,Basin!K241,IF(B212=\"\",\"\",Basin!L241)))","v":""},{"$f":"IF(Basin_CountA=0,\"\",Basin!N241)","v":""},null,"","","","","","","","","","","","","","","","","","","","","","","","","","","","","","","","","","","","","","","","","","","","","","","","","","","","","","","","","","",""]
[null,{"$f":"IF(Basin_CountA=0,\"\",IF(User_Stage_Area=0,Basin!G242,Basin!H242))","v":""},{"$f":"IF(Basin_CountA=0,\"\",IF(User_Stage_Area=0,Basin!K242,IF(B213=\"\",\"\",Basin!L242)))","v":""},{"$f":"IF(Basin_CountA=0,\"\",Basin!N242)","v":""},null,"","","","","","","","","","","","","","","","","","","","","","","","","","","","","","","","","","","","","","","","","","","","","","","","","","","","","","","","","","",""]
[null,{"$f":"IF(Basin_CountA=0,\"\",IF(User_Stage_Area=0,Basin!G243,Basin!H243))","v":""},{"$f":"IF(Basin_CountA=0,\"\",IF(User_Stage_Area=0,Basin!K243,IF(B214=\"\",\"\",Basin!L243)))","v":""},{"$f":"IF(Basin_CountA=0,\"\",Basin!N243)","v":""},null,"","","","","","","","","","","","","","","","","","","","","","","","","","","","","","","","","","","","","","","","","","","","","","","","","","","","","","","","","","",""]
[null,{"$f":"IF(Basin_CountA=0,\"\",IF(User_Stage_Area=0,Basin!G244,Basin!H244))","v":""},{"$f":"IF(Basin_CountA=0,\"\",IF(User_Stage_Area=0,Basin!K244,IF(B215=\"\",\"\",Basin!L244)))","v":""},{"$f":"IF(Basin_CountA=0,\"\",Basin!N244)","v":""},null,{"$f":"IF(B215=\"\",\"\",IF(D215=\"\",\"\",2*D215))","v":""},{"$f":"IF(B215=\"\",\"\",\nIF(OR(Underdrain_Invert=\"\",Underdrain_Invert=\"N/A\",Underdrain_Diameter=\"\",Underdrain_Diameter=\"N/A\"),0,\nIF(B215+Underdrain_Invert<=Underdrain_Orifice_Centroid,0,IF(B215=0,0,0.6*Underdrain_Orifice_Area*(64.4*(B215+Underdrain_Invert-Underdrain_Orifice_Centroid))^0.5))))","v":""},{"$f":"IF(B215=\"\",\"\",\nIF(OR(WQ_Plate_Invert=\"\",WQ_Plate_Invert=\"N/A\",Required_Depth=\"\",Required_Depth=\"N/A\",Ao_OC_or_ESLOT_H=\"\",Ao_or_ESLOT_W=\"\"),0,\nIF(ESLOT_RATIO=\"\",AR215,IF(ESLOT_RATIO<>\"\",BC215,0))))","v":""},{"$f":"IF(B215=\"\",\"\",IF(Vertical_Orifice1_Boolean=0,0,\nIF(B215<=Orifice1_Invert,0,\nIF(B215<Orifice1_Invert+Orifice1_Height/12,\n(0.6*Vertical_Orifice1_Area*(64.4*Vertical_Orifice1_Centroid)^0.5)*((B215-Orifice1_Invert)/(Orifice1_Height/12))^1.81,\n0.6*Vertical_Orifice1_Area*(64.4*(B215-Orifice1_Invert-Vertical_Orifice1_Centroid))^0.5))))","v":""},{"$f":"IF(B215=\"\",\"\",IF(Vertical_Orifice2_Boolean=0,0,\nIF(B215<=Orifice2_Invert,0,\nIF(B215<Orifice2_Invert+Orifice2_Height/12,\n(0.6*Vertical_Orifice2_Area*(64.4*Vertical_Orifice2_Centroid)^0.5)*((B215-Orifice2_Invert)/(Orifice2_Height/12))^1.81,\n0.6*Vertical_Orifice2_Area*(64.4*(B215-Orifice2_Invert-Vertical_Orifice2_Centroid))^0.5))))","v":""},{"$f":"IF(B215=\"\",\"\",IF(Overflow_Weir1_Boolean=0,0,IF((B215-Weir1_Ho)<=0,0,\n\nIF(OR(Weir1_horiz_length_of_grate=0,Weir1_horiz_length_of_grate=\"N/A\"),\nCd_BCW*Weir1_W*(B215-Weir1_Ho)^1.5+(0.8*Cd_BCW)*Weir1_Grate_Slope*(B215-Weir1_Ho)^2.5,\n\nIF(Angle1=0,\n2*(2/3*CLOG1*n_Cdw_1*(64.4^0.5)*Weir1_horiz_length_of_grate*(B215-Weir1_Ho)^1.5)+2*(2/3*CLOG1*n_Cdw_1*(64.4^0.5)*Weir1_W*(B215-Weir1_Ho)^1.5),\n\nIF((B215-Weir1_Ho)<(Ht_1-Weir1_Ho),\n2*(4/15*CLOG1*n_Cdw_1*(64.4^0.5)*(COS(Angle1)/SIN(Angle1))*(B215-Weir1_Ho)^2.5)+(2/3*CLOG1*n_Cdw_1*(64.4^0.5)*Weir1_W*(B215-Weir1_Ho)^1.5),\n\n2*(4/15*CLOG1*n_Cdw_1*(64.4^0.5)*Weir1_horiz_length_of_grate*COS(Angle1)*(B215-Weir1_Ho)^1.5*((B215-Weir1_Ho)^2.5/(B215-Weir1_Ho)^1.5/(Ht_1-Weir1_Ho)-((B215-Weir1_Ho)-(Ht_1-Weir1_Ho))^2.5/(B215-Weir1_Ho)^1.5/(Ht_1-Weir1_Ho))) +(2/3*CLOG1*n_Cdw_1*(64.4^0.5)*Weir1_W*(B215-Weir1_Ho)^1.5)))))))","v":""},{"$f":"IF(B215=\"\",\"\",IF(Overflow_Weir1_Boolean=0,0,IF((B215-Weir1_Ho)<=0,0,IF(OR(Weir1_horiz_length_of_grate=0,Weir1_horiz_length_of_grate=\"N/A\"),0,\n\nIF(Angle1=0,\n(2/3*CLOG1*n_Cdo_1*Weir1_W*Weir1_horiz_length_of_grate*(64.4*(B215-Weir1_Ho))^0.5),\n\nIF((B215-Weir1_Ho)<(Ht_1-Weir1_Ho),\n(2/3*CLOG1*n_Cdo_1*Weir1_W*(B215-Weir1_Ho)*(COS(Angle1)/SIN(Angle1))*(64.4*(B215-Weir1_Ho))^0.5),\n\n(2/3*CLOG1*n_Cdo_1*Weir1_W*Weir1_horiz_length_of_grate*COS(Angle1)*(64.4*(B215-Weir1_Ho))^0.5*((B215-Weir1_Ho)^1.5/(Ht_1-Weir1_Ho)/(B215-Weir1_Ho)^0.5-((B215-Weir1_Ho)-(Ht_1-Weir1_Ho))^1.5/(B215-Weir1_Ho)^0.5/(Ht_1-Weir1_Ho)))))))))","v":""},"",{"$f":"IF(B215=\"\",\"\",IF(OR(Weir1_horiz_length_of_grate=0,Weir1_horiz_length_of_grate=\"N/A\"),K215,MIN(K215,L215,M215)))","v":""},{"$f":"IF(B215=\"\",\"\",IF(Overflow_Weir2_Boolean=0,0,IF((B215-Weir2_Ho)<=0,0,\n\nIF(OR(Weir2_horiz_length_of_grate=0,Weir2_horiz_length_of_grate=\"N/A\"),\nIF(AND(Weir1_horiz_length_of_grate=\"N/A\",Weir2_Position=\"Overlapping\"),\nIF((Cd_BCW*Weir2_W*(B215-Weir2_Ho)^1.5+(0.8*Cd_BCW)*Weir2_Grate_Slope*(B215-Weir2_Ho)^2.5)-(Cd_BCW*(Weir1_W+2*(Weir2_Ho-Weir1_Ho)*Weir1_Grate_Slope)*(B215-Weir2_Ho)^1.5+(0.8*Cd_BCW)*Weir1_Grate_Slope*(B215-Weir2_Ho)^2.5)<0,0,\n(Cd_BCW*Weir2_W*(B215-Weir2_Ho)^1.5+(0.8*Cd_BCW)*Weir2_Grate_Slope*(B215-Weir2_Ho)^2.5)-(Cd_BCW*(Weir1_W+2*(Weir2_Ho-Weir1_Ho)*Weir1_Grate_Slope)*(B215-Weir2_Ho)^1.5+(0.8*Cd_BCW)*Weir1_Grate_Slope*(B215-Weir2_Ho)^2.5)),\nCd_BCW*Weir2_W*(B215-Weir2_Ho)^1.5+(0.8*Cd_BCW)*Weir2_Grate_Slope*(B215-Weir2_Ho)^2.5),\n\nIF(Angle2=0,\n2*(2/3*CLOG2*n_Cdw_2*(64.4^0.5)*Weir2_horiz_length_of_grate*(B215-Weir2_Ho)^1.5)+2*(2/3*CLOG2*n_Cdw_2*(64.4^0.5)*Weir2_W*(B215-Weir2_Ho)^1.5),\n\nIF((B215-Weir2_Ho)<(Ht_2-Weir2_Ho),\n2*(4/15*CLOG2*n_Cdw_2*(64.4^0.5)*(COS(Angle2)/SIN(Angle2))*(B215-Weir2_Ho)^2.5)+(2/3*CLOG2*n_Cdw_2*(64.4^0.5)*Weir2_W*(B215-Weir2_Ho)^1.5),\n\n2*(4/15*CLOG2*n_Cdw_2*(64.4^0.5)*Weir2_horiz_length_of_grate*COS(Angle2)*(B215-Weir2_Ho)^1.5*((B215-Weir2_Ho)^2.5/(B215-Weir2_Ho)^1.5/(Ht_2-Weir2_Ho)-((B215-Weir2_Ho)-(Ht_2-Weir2_Ho))^2.5/(B215-Weir2_Ho)^1.5/(Ht_2-Weir2_Ho))) +(2/3*CLOG2*n_Cdw_2*(64.4^0.5)*Weir2_W*(B215-Weir2_Ho)^1.5)))))))","v":""},{"$f":"IF(B215=\"\",\"\",IF(Overflow_Weir2_Boolean=0,0,IF((B215-Weir2_Ho)<=0,0,IF(OR(Weir2_horiz_length_of_grate=0,Weir2_horiz_length_of_grate=\"N/A\"),0,\n\nIF(Angle2=0,\n(2/3*CLOG2*n_Cdo_2*Weir2_W*Weir2_horiz_length_of_grate*(64.4*(B215-Weir2_Ho))^0.5),\n\nIF((B215-Weir2_Ho)<(Ht_2-Weir2_Ho),\n(2/3*CLOG2*n_Cdo_2*Weir2_W*(B215-Weir2_Ho)*(COS(Angle2)/SIN(Angle2))*(64.4*(B215-Weir2_Ho))^0.5),\n\n(2/3*CLOG2*n_Cdo_2*Weir2_W*Weir2_horiz_length_of_grate*COS(Angle2)*(64.4*(B215-Weir2_Ho))^0.5*((B215-Weir2_Ho)^1.5/(Ht_2-Weir2_Ho)/(B215-Weir2_Ho)^0.5-((B215-Weir2_Ho)-(Ht_2-Weir2_Ho))^1.5/(B215-Weir2_Ho)^0.5/(Ht_2-Weir2_Ho)))))))))","v":""},"",{"$f":"IF(B215=\"\",\"\",IF(OR(Weir2_horiz_length_of_grate=0,Weir2_horiz_length_of_grate=\"N/A\"),O215,MIN(O215,P215,Q215)))","v":""},{"$f":"IF(B215=\"\",\"\",\nIF(Outlet_Pipe1_Boolean=0,0,\nIF(B215+Outlet1_Orifice_Invert<2*Outlet1_Orifice_Centroid,\nIF((0.6*Outlet1_Orifice_Area*(64.4*Outlet1_Orifice_Centroid)^0.5)*((B215+Outlet1_Orifice_Invert)/(2*Outlet1_Orifice_Centroid))^1.81<H215,H215,\n(0.6*Outlet1_Orifice_Area*(64.4*Outlet1_Orifice_Centroid)^0.5)*((B215+Outlet1_Orifice_Invert)/(2*Outlet1_Orifice_Centroid))^1.81),\n0.6*Outlet1_Orifice_Area*(64.4*(B215+Outlet1_Orifice_Invert-Outlet1_Orifice_Centroid))^0.5)))","v":""},{"$f":"IF(B215=\"\",\"\",IF(Outlet_Pipe1_Boolean=0,0,\nIF(Outlet_Pipe1_Rank=3,MIN(S215,G215+H215+I215+J215+N215),\nIF(Outlet_Pipe1_Rank=2,IF(Vertical_Orifice1_Rank=1,MIN(S215,G215+H215+I215+N215),MIN(S215,G215+H215+J215+N215)),\nIF(Outlet_Pipe1_Rank=1,MIN(S215,G215+H215+N215),\nMIN(S215,G215+H215+I215+J215))))))","v":""},{"$f":"IF(B215=\"\",\"\",\nIF(Outlet_Pipe2_Boolean=0,0,\nIF(B215+Outlet2_Orifice_Invert<2*Outlet2_Orifice_Centroid,\nIF((0.6*Outlet2_Orifice_Area*(64.4*Outlet2_Orifice_Centroid)^0.5)*((B215+Outlet2_Orifice_Invert)/(2*Outlet2_Orifice_Centroid))^1.81<H215,H215,\n(0.6*Outlet2_Orifice_Area*(64.4*Outlet2_Orifice_Centroid)^0.5)*((B215+Outlet2_Orifice_Invert)/(2*Outlet2_Orifice_Centroid))^1.81),\n0.6*Outlet2_Orifice_Area*(64.4*(B215+Outlet2_Orifice_Invert-Outlet2_Orifice_Centroid))^0.5)))","v":""},{"$f":"IF(B215=\"\",\"\",IF(OR(Outlet_Pipe1_Boolean=0,Outlet_Pipe2_Boolean=0),0,\nIF(Outlet_Pipe2_Rank=4,\nIF(Outlet_Pipe1_Rank=3,MIN(U215,R215+T215),\nIF(AND(Outlet_Pipe1_Rank=2,Vertical_Orifice2_Rank=3),MIN(U215,J215+R215+T215),\nIF(AND(Outlet_Pipe1_Rank=2,Vertical_Orifice1_Rank=3),MIN(U215,I215+R215+T215),MIN(U215,I215+J215+R215+T215)))),\n\nIF(Outlet_Pipe2_Rank=3,\nIF(Outlet_Pipe1_Rank=2,MIN(U215,R215+T215),\nIF(Vertical_Orifice2_Rank=2,MIN(U215,J215+R215+T215),MIN(U215,I215+R215+T215))),\n\nMIN(U215,R215+T215)))))","v":""},{"$f":"IF(B215=\"\",\"\",\nIF(OR(Spillway_Invert=\"\",Spillway_Length=\"\",Spillway_Side_Slopes=\"\",Freeboard_above_Spillway=\"\",B215<=Spillway_Invert),0,\n\nIF(OR(Spillway_Position=\"\",Spillway_Position=\"Offset\"),\n(Cd_BCW*Spillway_Length*(B215-Spillway_Invert)^1.5)+((0.8*Cd_BCW)*Spillway_Side_Slopes*(B215-Spillway_Invert)^2.5),\n\nIF(AND(Weir2_Ho<>\"N/A\",Weir2_horiz_length_of_grate=\"N/A\"),\nIF((Cd_BCW*Spillway_Length*(B215-Spillway_Invert)^1.5)+((0.8*Cd_BCW)*Spillway_Side_Slopes*(B215-Spillway_Invert)^2.5)-(Cd_BCW*(Weir2_W+2*(Spillway_Invert-Weir2_Ho)*Weir2_Grate_Slope)*(B215-Spillway_Invert)^1.5)+((0.8*Cd_BCW)*Weir2_Grate_Slope*(B215-Spillway_Invert)^2.5)<0,0,\n(Cd_BCW*Spillway_Length*(B215-Spillway_Invert)^1.5)+((0.8*Cd_BCW)*Spillway_Side_Slopes*(B215-Spillway_Invert)^2.5)-(Cd_BCW*(Weir2_W+2*(Spillway_Invert-Weir2_Ho)*Weir2_Grate_Slope)*(B215-Spillway_Invert)^1.5)+((0.8*Cd_BCW)*Weir2_Grate_Slope*(B215-Spillway_Invert)^2.5)),\n\nIF((Cd_BCW*Spillway_Length*(B215-Spillway_Invert)^1.5)+((0.8*Cd_BCW)*Spillway_Side_Slopes*(B215-Spillway_Invert)^2.5)-(Cd_BCW*(Weir1_W+2*(Spillway_Invert-Weir1_Ho)*Weir1_Grate_Slope)*(B215-Spillway_Invert)^1.5)+((0.8*Cd_BCW)*Weir1_Grate_Slope*(B215-Spillway_Invert)^2.5)<0,0,\n(Cd_BCW*Spillway_Length*(B215-Spillway_Invert)^1.5)+((0.8*Cd_BCW)*Spillway_Side_Slopes*(B215-Spillway_Invert)^2.5)-(Cd_BCW*(Weir1_W+2*(Spillway_Invert-Weir1_Ho)*Weir1_Grate_Slope)*(B215-Spillway_Invert)^1.5)+((0.8*Cd_BCW)*Weir1_Grate_Slope*(B215-Spillway_Invert)^2.5))))))","v":""},"",{"$f":"IF(B215=\"\",\"\",IF(X215=\"\",\"\",IF(D215=\"\",\"\",X215*$C$3089*60+F215)))","v":""},"","",{"$f":"IF($B215=\"\",\"\",IF(OR(Row1_Stage=\"\",Row1_Stage=\"N/A\"),0,IF($B215<=Row1_Stage,0,0.6*(Row1_Area/144)*(64.4*($B215-Row1_Stage))^0.5)))","v":""},{"$f":"IF($B215=\"\",\"\",IF(OR(Row2_Stage=\"\",Row2_Stage=\"N/A\"),0,IF($B215<=Row2_Stage,0,0.6*(Row2_Area/144)*(64.4*($B215-Row2_Stage))^0.5)))","v":""},{"$f":"IF($B215=\"\",\"\",IF(OR(Row3_Stage=\"\",Row3_Stage=\"N/A\"),0,IF($B215<=Row3_Stage,0,0.6*(Row3_Area/144)*(64.4*($B215-Row3_Stage))^0.5)))","v":""},{"$f":"IF($B215=\"\",\"\",IF(OR(Row4_Stage=\"\",Row4_Stage=\"N/A\"),0,IF($B215<=Row4_Stage,0,0.6*(Row4_Area/144)*(64.4*($B215-Row4_Stage))^0.5)))","v":""},{"$f":"IF($B215=\"\",\"\",IF(OR(Row5_Stage=\"\",Row5_Stage=\"N/A\"),0,IF($B215<=Row5_Stage,0,0.6*(Row5_Area/144)*(64.4*($B215-Row5_Stage))^0.5)))","v":""},{"$f":"IF($B215=\"\",\"\",IF(OR(Row6_Stage=\"\",Row6_Stage=\"N/A\"),0,IF($B215<=Row6_Stage,0,0.6*(Row6_Area/144)*(64.4*($B215-Row6_Stage))^0.5)))","v":""},{"$f":"IF($B215=\"\",\"\",IF(OR(Row7_Stage=\"\",Row7_Stage=\"N/A\"),0,IF($B215<=Row7_Stage,0,0.6*(Row7_Area/144)*(64.4*($B215-Row7_Stage))^0.5)))","v":""},{"$f":"IF($B215=\"\",\"\",IF(OR(Row8_Stage=\"\",Row8_Stage=\"N/A\"),0,IF($B215<=Row8_Stage,0,0.6*(Row8_Area/144)*(64.4*($B215-Row8_Stage))^0.5)))","v":""},{"$f":"IF($B215=\"\",\"\",IF(OR(Row9_Stage=\"\",Row9_Stage=\"N/A\"),0,IF($B215<=Row9_Stage,0,0.6*(Row9_Area/144)*(64.4*($B215-Row9_Stage))^0.5)))","v":""},{"$f":"IF($B215=\"\",\"\",IF(OR(Row10_Stage=\"\",Row10_Stage=\"N/A\"),0,IF($B215<=Row10_Stage,0,0.6*(Row10_Area/144)*(64.4*($B215-Row10_Stage))^0.5)))","v":""},{"$f":"IF($B215=\"\",\"\",IF(OR(Row11_Stage=\"\",Row11_Stage=\"N/A\"),0,IF($B215<=Row11_Stage,0,0.6*(Row11_Area/144)*(64.4*($B215-Row11_Stage))^0.5)))","v":""},{"$f":"IF($B215=\"\",\"\",IF(OR(Row12_Stage=\"\",Row12_Stage=\"N/A\"),0,IF($B215<=Row12_Stage,0,0.6*(Row12_Area/144)*(64.4*($B215-Row12_Stage))^0.5)))","v":""},{"$f":"IF($B215=\"\",\"\",IF(OR(Row13_Stage=\"\",Row13_Stage=\"N/A\"),0,IF($B215<=Row13_Stage,0,0.6*(Row13_Area/144)*(64.4*($B215-Row13_Stage))^0.5)))","v":""},{"$f":"IF($B215=\"\",\"\",IF(OR(Row14_Stage=\"\",Row14_Stage=\"N/A\"),0,IF($B215<=Row14_Stage,0,0.6*(Row14_Area/144)*(64.4*($B215-Row14_Stage))^0.5)))","v":""},{"$f":"IF($B215=\"\",\"\",IF(OR(Row15_Stage=\"\",Row15_Stage=\"N/A\"),0,IF($B215<=Row15_Stage,0,0.6*(Row15_Area/144)*(64.4*($B215-Row15_Stage))^0.5)))","v":""},{"$f":"IF($B215=\"\",\"\",IF(OR(Row16_Stage=\"\",Row16_Stage=\"N/A\"),0,IF($B215<=Row16_Stage,0,0.6*(Row16_Area/144)*(64.4*($B215-Row16_Stage))^0.5)))","v":""},{"$f":"IF(B215=\"\",\"\",SUM(AB215:AQ215))","v":""},"","","","",{"$f":"IF($B215=\"\",\"\",IF(OR(Zone1_Outlet_Type=4,Zone2_Outlet_Type=4),IF($B215<WQ_Plate_Invert,0,IF($B215<WQ_Plate_Invert+Ao_OC_or_ESLOT_H,(2*32.2*($B215-WQ_Plate_Invert-AS215))^0.5*(2*Ao_OC_or_ESLOT_H/ESLOT_RATIO*(1-(1-AS215^2/Ao_OC_or_ESLOT_H^2)^0.5)+Ao_or_ESLOT_W/12),0)),\"\"))","v":""},{"$f":"IF($B215=\"\",\"\",IF(OR(Zone1_Outlet_Type=4,Zone2_Outlet_Type=4),IF($B215<WQ_Plate_Invert,0,IF($B215<WQ_Plate_Invert+Ao_OC_or_ESLOT_H,(2*32.2*($B215-WQ_Plate_Invert-AT215))^0.5*(2*Ao_OC_or_ESLOT_H/ESLOT_RATIO*(1-(1-AT215^2/Ao_OC_or_ESLOT_H^2)^0.5)+Ao_or_ESLOT_W/12),0)),\"\"))","v":""},{"$f":"IF($B215=\"\",\"\",IF(OR(Zone1_Outlet_Type=4,Zone2_Outlet_Type=4),IF($B215<WQ_Plate_Invert,0,IF($B215<WQ_Plate_Invert+Ao_OC_or_ESLOT_H,(2*32.2*($B215-WQ_Plate_Invert-AU215))^0.5*(2*Ao_OC_or_ESLOT_H/ESLOT_RATIO*(1-(1-AU215^2/Ao_OC_or_ESLOT_H^2)^0.5)+Ao_or_ESLOT_W/12),0)),\"\"))","v":""},{"$f":"IF($B215=\"\",\"\",IF(OR(Zone1_Outlet_Type=4,Zone2_Outlet_Type=4),IF($B215<WQ_Plate_Invert,0,IF($B215<WQ_Plate_Invert+Ao_OC_or_ESLOT_H,(2*32.2*($B215-WQ_Plate_Invert-AV215))^0.5*(2*Ao_OC_or_ESLOT_H/ESLOT_RATIO*(1-(1-AV215^2/Ao_OC_or_ESLOT_H^2)^0.5)+Ao_or_ESLOT_W/12),0)),\"\"))","v":""},{"$f":"IF(B215=\"\",\"\",IF(OR(Zone1_Outlet_Type=4,Zone2_Outlet_Type=4),IF(B215<WQ_Plate_Invert+Ao_OC_or_ESLOT_H, 0.642*(0.3015*(B215-WQ_Plate_Invert)*(AW215+AX215)+0.1415*(B215-WQ_Plate_Invert)*(AX215+AY215)+0.057*(B215-WQ_Plate_Invert)*AY215),\"N/A\"),\"\"))","v":""},{"$f":"IF(B215=\"\",\"\",IF(OR(Zone1_Outlet_Type=4,Zone2_Outlet_Type=4),IF(B215>=WQ_Plate_Invert+Ao_OC_or_ESLOT_H, 0.6*Elliptical_Slot_Area*(2*32.2*(B215-WQ_Plate_Invert-Elliptical_Slot_Centroid))^0.5,\"N/A\"),\"\"))","v":""},{"$f":"IF(B215=\"\",\"\",IF(OR(Zone1_Outlet_Type=4,Zone2_Outlet_Type=4),IF(B215<WQ_Plate_Invert+Ao_OC_or_ESLOT_H, BA215,BB215),\"\"))","v":""},"","","","","","","","",""]
[null,{"$f":"IF(Basin_CountA=0,\"\",IF(User_Stage_Area=0,Basin!G245,Basin!H245))","v":""},{"$f":"IF(Basin_CountA=0,\"\",IF(User_Stage_Area=0,Basin!K245,IF(B216=\"\",\"\",Basin!L245)))","v":""},{"$f":"IF(Basin_CountA=0,\"\",Basin!N245)","v":""},null,"","","","","","","",{"$f":"IF(B216=\"\",\"\",K216+L216-1.11*(K216*L216)^0.5)","v":""},"","","",{"$f":"IF(B216=\"\",\"\",O216+P216-1.11*(O216*P216)^0.5)","v":""},"","","","","","",{"$f":"IF(B216=\"\",\"\",IF(E216<>\"\",E216,\nIF(V216<>0,V216+W216,\nIF(T216<>0,T216+W216,\nG216+H216+I216+J216+N216+R216+W216))))","v":""},"",{"$f":"IF(B216=\"\",\"\",IF(Y216<=0,0,IF(Y216=\"\",Z215,((X216-X215)/(Y216-Y215)))))","v":""},{"$f":"IF(B216=\"\",\"\",IF(Y216<=0,0,IF(Y216=\"\",AA215,((B216-B215)/(Y216-Y215)))))","v":""},"","","","","","","","","","","","","","","","",{"$f":"IF(B216=\"\",\"\",SUM(AB216:AQ216))","v":""},"","","","","","","","","","","",{"$f":"IF(B216=\"\",\"\",IF(G216=0,0,IF(X216=G216,1,0)))","v":""},{"$f":"IF(B216=\"\",\"\",IF(H216=0,0,IF(ROUND(X216-G216,3)=ROUND(H216,3),1,0)))","v":""},{"$f":"IF(B216=\"\",\"\",IF(I216=0,0,\nIF(Vertical_Orifice1_Rank=1,IF(ROUND(X216-H216-G216,3)=ROUND(I216,3),1,0),\nIF(Vertical_Orifice1_Rank=2,IF(ROUND(X216-T216,3)=ROUND(I216,3),1,0),\nIF(ROUND(X216-V216,3)=ROUND(I216,3),1,0)))))","v":""},{"$f":"IF(B216=\"\",\"\",IF(J216=0,0,\nIF(Vertical_Orifice2_Rank=2,IF(ROUND(X216-I216-H216-G216,3)=ROUND(J216,3),1,0),\nIF(Vertical_Orifice2_Rank=3,\nIF(Vertical_Orifice1_Rank=1,IF(ROUND(X216-T216,3)=ROUND(J216,3),1,0),IF(ROUND(X216-T216-I216,3)=ROUND(J216,3),1,0)),\nIF(OR(Vertical_Orifice1_Rank=1,Vertical_Orifice1_Rank=2),IF(ROUND(X216-T216,3)=ROUND(J216,3),1,0),IF(ROUND(X216-T216-I216,3)=ROUND(J216,3),1,0))))))","v":""},{"$f":"IF(B216=\"\",\"\",IF(N216=0,0,\nIF(Overflow_Weir1_Rank=1,IF(ROUND(X216-H216-G216,3)=ROUND(N216,3),1,0),\nIF(Overflow_Weir1_Rank=2,IF(ROUND(X216-I216-H216-G216,3)=ROUND(N216,3),1,0),\nIF(ROUND(X216-J216-I216-H216-G216,3)=ROUND(N216,3),1,0)))))","v":""},{"$f":"IF(B216=\"\",\"\",IF(R216=0,0,\nIF(Weir2_Position=\"Overlapping\",IF(ROUND(X216-N216-J216-I216-H216-G216,3)=ROUND(R216,3),1,0),\nIF(Overflow_Weir2_Rank=2,\nIF(ROUND(X216-T216,3)=ROUND(R216,3),1,0),\nIF(Overflow_Weir2_Rank=3,\nIF(Overflow_Weir1_Rank=2,IF(ROUND(X216-T216,3)=ROUND(R216,3),1,0),IF(ROUND(X216-T216-I216,3)=ROUND(R216,3),1,0)),\nIF(Overflow_Weir1_Rank=3,IF(ROUND(X216-T216,3)=ROUND(R216,3),1,0),\nIF(Overflow_Weir1_Rank=2,IF(ROUND(X216-T216-I216,3)=ROUND(R216,3),1,0),IF(ROUND(X216-T216-J216-I216,3)=ROUND(R216,3),1,0))))))))","v":""},"","",{"$f":"IF(B216=\"\",\"\",IF(W216=0,0,1))","v":""}]
[null,{"$f":"IF(Basin_CountA=0,\"\",IF(User_Stage_Area=0,Basin!G246,Basin!H246))","v":""},{"$f":"IF(Basin_CountA=0,\"\",IF(User_Stage_Area=0,Basin!K246,IF(B217=\"\",\"\",Basin!L246)))","v":""},{"$f":"IF(Basin_CountA=0,\"\",Basin!N246)","v":""},null,"","","","","","","","","","","","","","","","","","","","","","","","","","","","","","","","","","","","","","",{"$f":"IF(B217=\"\",\"\",SUM(AB217:AQ217))","v":""},"","","","","","","","","","","","","","","","","",{"$f":"IF(B217=\"\",\"\",IF(T217=0,0,IF(ROUND(X217,3)=ROUND(S217,3),1,0)))","v":""},{"$f":"IF(B217=\"\",\"\",IF(V217=0,0,IF(ROUND(X217,3)=ROUND(U217,3),1,0)))","v":""},""]
[null,{"$f":"IF(Basin_CountA=0,\"\",IF(User_Stage_Area=0,Basin!G247,Basin!H247))","v":""},{"$f":"IF(Basin_CountA=0,\"\",IF(User_Stage_Area=0,Basin!K247,IF(B218=\"\",\"\",Basin!L247)))","v":""},{"$f":"IF(Basin_CountA=0,\"\",Basin!N247)","v":""},null,"","","","","","","","","","","","","","","","","","","","","","","","","","","","","","","","","","","","","","",{"$f":"IF(B218=\"\",\"\",SUM(AB218:AQ218))","v":""},"","","","","","","","","","","","","","","","","","","",""]
[null,{"$f":"IF(Basin_CountA=0,\"\",IF(User_Stage_Area=0,Basin!G248,Basin!H248))","v":""},{"$f":"IF(Basin_CountA=0,\"\",IF(User_Stage_Area=0,Basin!K248,IF(B219=\"\",\"\",Basin!L248)))","v":""},{"$f":"IF(Basin_CountA=0,\"\",Basin!N248)","v":""},null,"","","","","","","","","","","","","","","","","","","","","","","","","","","","","","","","","","","","","","",{"$f":"IF(B219=\"\",\"\",SUM(AB219:AQ219))","v":""},"","","","","","","","","","","","","","","","","","","",""]
[null,{"$f":"IF(Basin_CountA=0,\"\",IF(User_Stage_Area=0,Basin!G249,Basin!H249))","v":""},{"$f":"IF(Basin_CountA=0,\"\",IF(User_Stage_Area=0,Basin!K249,IF(B220=\"\",\"\",Basin!L249)))","v":""},{"$f":"IF(Basin_CountA=0,\"\",Basin!N249)","v":""},null,"","","","","","","","","","","","","","","","","","","","","","","","","","","","","","","","","","","","","","",{"$f":"IF(B220=\"\",\"\",SUM(AB220:AQ220))","v":""},"","","","","","","","","","","","","","","","","","","",""]
[null,{"$f":"IF(Basin_CountA=0,\"\",IF(User_Stage_Area=0,Basin!G250,Basin!H250))","v":""},{"$f":"IF(Basin_CountA=0,\"\",IF(User_Stage_Area=0,Basin!K250,IF(B221=\"\",\"\",Basin!L250)))","v":""},{"$f":"IF(Basin_CountA=0,\"\",Basin!N250)","v":""},null,"","","","","","","","","","","","","","","","","","","","","","","","","","","","","","","","","","","","","","","","","","","","","","","","","","","","","","","","","","",""]
[null,{"$f":"IF(Basin_CountA=0,\"\",IF(User_Stage_Area=0,Basin!G251,Basin!H251))","v":""},{"$f":"IF(Basin_CountA=0,\"\",IF(User_Stage_Area=0,Basin!K251,IF(B222=\"\",\"\",Basin!L251)))","v":""},{"$f":"IF(Basin_CountA=0,\"\",Basin!N251)","v":""},null,"","","","","","","","","","","","","","","","","","","","","","","","","","","","","","","","","","","","","","","","","","","","","","","","","","","","","","","","","","",""]
[null,{"$f":"IF(Basin_CountA=0,\"\",IF(User_Stage_Area=0,Basin!G252,Basin!H252))","v":""},{"$f":"IF(Basin_CountA=0,\"\",IF(User_Stage_Area=0,Basin!K252,IF(B223=\"\",\"\",Basin!L252)))","v":""},{"$f":"IF(Basin_CountA=0,\"\",Basin!N252)","v":""},null,"","","","","","","","","","","","","","","","","","","","","","","","","","","","","","","","","","","","","","","","","","","","","","","","","","","","","","","","","","",""]
[null,{"$f":"IF(Basin_CountA=0,\"\",IF(User_Stage_Area=0,Basin!G253,Basin!H253))","v":""},{"$f":"IF(Basin_CountA=0,\"\",IF(User_Stage_Area=0,Basin!K253,IF(B224=\"\",\"\",Basin!L253)))","v":""},{"$f":"IF(Basin_CountA=0,\"\",Basin!N253)","v":""},null,"","","","","","","","","","","","","","","","","","","","","","","","","","","","","","","","","","","","","","","","","","","","","","","","","","","","","","","","","","",""]
[null,{"$f":"IF(Basin_CountA=0,\"\",IF(User_Stage_Area=0,Basin!G254,Basin!H254))","v":""},{"$f":"IF(Basin_CountA=0,\"\",IF(User_Stage_Area=0,Basin!K254,IF(B225=\"\",\"\",Basin!L254)))","v":""},{"$f":"IF(Basin_CountA=0,\"\",Basin!N254)","v":""},null,"","","","","","","","","","","","","","","","","","","","","","","","","","","","","","","","","","","","","","","","","","","","","","","","","","","","","","","","","","",""]
[null,{"$f":"IF(Basin_CountA=0,\"\",IF(User_Stage_Area=0,Basin!G255,Basin!H255))","v":""},{"$f":"IF(Basin_CountA=0,\"\",IF(User_Stage_Area=0,Basin!K255,IF(B226=\"\",\"\",Basin!L255)))","v":""},{"$f":"IF(Basin_CountA=0,\"\",Basin!N255)","v":""},null,"","","","","","","","","","","","","","","","","","","","","","","","","","","","","","","","","","","","","","","","","","","","","","","","","","","","","","","","","","",""]
[null,{"$f":"IF(Basin_CountA=0,\"\",IF(User_Stage_Area=0,Basin!G256,Basin!H256))","v":""},{"$f":"IF(Basin_CountA=0,\"\",IF(User_Stage_Area=0,Basin!K256,IF(B227=\"\",\"\",Basin!L256)))","v":""},{"$f":"IF(Basin_CountA=0,\"\",Basin!N256)","v":""},null,"","","","","","","","","","","","","","","","","","","","","","","","","","","","","","","","","","","","","","","",{"$f":"IF($B227=\"\",\"\",IF(OR(Zone1_Outlet_Type=4,Zone2_Outlet_Type=4),IF($B227<WQ_Plate_Invert,0,($B227-WQ_Plate_Invert)*AS$86),\"\"))","v":""},"","","","","","","","","","","","","","","","","","",""]
[null,{"$f":"IF(Basin_CountA=0,\"\",IF(User_Stage_Area=0,Basin!G257,Basin!H257))","v":""},{"$f":"IF(Basin_CountA=0,\"\",IF(User_Stage_Area=0,Basin!K257,IF(B228=\"\",\"\",Basin!L257)))","v":""},{"$f":"IF(Basin_CountA=0,\"\",Basin!N257)","v":""},null,"","","","","","","","","","","","","","","","","","","","","","","","","","","","","","","","","","","","","","","","","","","","","","","","","","","","","","","","","","",""]
[null,{"$f":"IF(Basin_CountA=0,\"\",IF(User_Stage_Area=0,Basin!G258,Basin!H258))","v":""},{"$f":"IF(Basin_CountA=0,\"\",IF(User_Stage_Area=0,Basin!K258,IF(B229=\"\",\"\",Basin!L258)))","v":""},{"$f":"IF(Basin_CountA=0,\"\",Basin!N258)","v":""},null,"","","","","","","","","","","","","","","","","","","","","","","","","","","","","","","","","","","","","","","","","","","","","","","","","","","","","","","","","","",""]
[null,{"$f":"IF(Basin_CountA=0,\"\",IF(User_Stage_Area=0,Basin!G259,Basin!H259))","v":""},{"$f":"IF(Basin_CountA=0,\"\",IF(User_Stage_Area=0,Basin!K259,IF(B230=\"\",\"\",Basin!L259)))","v":""},{"$f":"IF(Basin_CountA=0,\"\",Basin!N259)","v":""},null,"","","","","","","","","","","","","","","","","","","","","","","","","","","","","","","","","","","","","","","","","","","","","","","","","","","","","","","","","","",""]
[null,{"$f":"IF(Basin_CountA=0,\"\",IF(User_Stage_Area=0,Basin!G260,Basin!H260))","v":""},{"$f":"IF(Basin_CountA=0,\"\",IF(User_Stage_Area=0,Basin!K260,IF(B231=\"\",\"\",Basin!L260)))","v":""},{"$f":"IF(Basin_CountA=0,\"\",Basin!N260)","v":""},null,"","","","","","","","","","","","","","","","","","","","","","","","","","","","","","","","","","","","","","","","","","","","","","","","","","","","","","","","","","",""]
[null,{"$f":"IF(Basin_CountA=0,\"\",IF(User_Stage_Area=0,Basin!G261,Basin!H261))","v":""},{"$f":"IF(Basin_CountA=0,\"\",IF(User_Stage_Area=0,Basin!K261,IF(B232=\"\",\"\",Basin!L261)))","v":""},{"$f":"IF(Basin_CountA=0,\"\",Basin!N261)","v":""},null,"","","","","","","","","","","","","","","","","","","","","","","","","","","","","","","","","","","","","","","","","","","","","","","","","","","","","","","","","","",""]
[null,{"$f":"IF(Basin_CountA=0,\"\",IF(User_Stage_Area=0,Basin!G262,Basin!H262))","v":""},{"$f":"IF(Basin_CountA=0,\"\",IF(User_Stage_Area=0,Basin!K262,IF(B233=\"\",\"\",Basin!L262)))","v":""},{"$f":"IF(Basin_CountA=0,\"\",Basin!N262)","v":""},null,"","","","","","","","","","","","","","","","","","","","","","","","","","","","","","","","","","","","","","","","","","","","","","","","","","","","","","","","","","",""]
[null,{"$f":"IF(Basin_CountA=0,\"\",IF(User_Stage_Area=0,Basin!G263,Basin!H263))","v":""},{"$f":"IF(Basin_CountA=0,\"\",IF(User_Stage_Area=0,Basin!K263,IF(B234=\"\",\"\",Basin!L263)))","v":""},{"$f":"IF(Basin_CountA=0,\"\",Basin!N263)","v":""},null,"","","","","","","","","","","","","","","","","","","","","","","","","","","","","","","","","","","","","","","","","","","","","","","","","","","","","","","","","","",""]
[null,{"$f":"IF(Basin_CountA=0,\"\",IF(User_Stage_Area=0,Basin!G264,Basin!H264))","v":""},{"$f":"IF(Basin_CountA=0,\"\",IF(User_Stage_Area=0,Basin!K264,IF(B235=\"\",\"\",Basin!L264)))","v":""},{"$f":"IF(Basin_CountA=0,\"\",Basin!N264)","v":""},null,"","","","","","","","","","","","","","","","","","","","","","","","","","","","","","","","","","","","","","","","","","","","","","","","","","","","","","","","","","",""]
[null,{"$f":"IF(Basin_CountA=0,\"\",IF(User_Stage_Area=0,Basin!G265,Basin!H265))","v":""},{"$f":"IF(Basin_CountA=0,\"\",IF(User_Stage_Area=0,Basin!K265,IF(B236=\"\",\"\",Basin!L265)))","v":""},{"$f":"IF(Basin_CountA=0,\"\",Basin!N265)","v":""},null,"","","","","","","","","","","","","","","","","","","","","","","","","","","","","","","","","","","","","","","","","","","","","","","","","","","","","","","","","","",""]
[null,{"$f":"IF(Basin_CountA=0,\"\",IF(User_Stage_Area=0,Basin!G266,Basin!H266))","v":""},{"$f":"IF(Basin_CountA=0,\"\",IF(User_Stage_Area=0,Basin!K266,IF(B237=\"\",\"\",Basin!L266)))","v":""},{"$f":"IF(Basin_CountA=0,\"\",Basin!N266)","v":""},null,"","","","","","","","","","","","","","","","","","","","","","","","","","","","","","","","","","","","","","","","","","","","","","","","","","","","","","","","","","",""]
[null,{"$f":"IF(Basin_CountA=0,\"\",IF(User_Stage_Area=0,Basin!G267,Basin!H267))","v":""},{"$f":"IF(Basin_CountA=0,\"\",IF(User_Stage_Area=0,Basin!K267,IF(B238=\"\",\"\",Basin!L267)))","v":""},{"$f":"IF(Basin_CountA=0,\"\",Basin!N267)","v":""},null,"","","","","","","","","","","","","","","","","","","","","","","","","","","","","","","","","","","","","","","","","","","","","","","","","","","","","","","","","","",""]
[null,{"$f":"IF(Basin_CountA=0,\"\",IF(User_Stage_Area=0,Basin!G268,Basin!H268))","v":""},{"$f":"IF(Basin_CountA=0,\"\",IF(User_Stage_Area=0,Basin!K268,IF(B239=\"\",\"\",Basin!L268)))","v":""},{"$f":"IF(Basin_CountA=0,\"\",Basin!N268)","v":""},null,"","","","","","","","","","","","","","","","","","","","","","","","","","","","","","","","","","","","","","","","","","","","","","","","","","","","","","","","","","",""]
[null,{"$f":"IF(Basin_CountA=0,\"\",IF(User_Stage_Area=0,Basin!G269,Basin!H269))","v":""},{"$f":"IF(Basin_CountA=0,\"\",IF(User_Stage_Area=0,Basin!K269,IF(B240=\"\",\"\",Basin!L269)))","v":""},{"$f":"IF(Basin_CountA=0,\"\",Basin!N269)","v":""},null,"","","","","","","","","","","","","","","","","","","","","","","","","","","","","","","","","","","","","","","","","","","","","","","","","","","","","","","","","","",""]
[null,{"$f":"IF(Basin_CountA=0,\"\",IF(User_Stage_Area=0,Basin!G270,Basin!H270))","v":""},{"$f":"IF(Basin_CountA=0,\"\",IF(User_Stage_Area=0,Basin!K270,IF(B241=\"\",\"\",Basin!L270)))","v":""},{"$f":"IF(Basin_CountA=0,\"\",Basin!N270)","v":""},null,"","","","","","","","","","","","","","","","","","","","","","","","","","","","","","","","","","","","","","","","","","","","","","","","","","","","","","","","","","",""]
[null,{"$f":"IF(Basin_CountA=0,\"\",IF(User_Stage_Area=0,Basin!G271,Basin!H271))","v":""},{"$f":"IF(Basin_CountA=0,\"\",IF(User_Stage_Area=0,Basin!K271,IF(B242=\"\",\"\",Basin!L271)))","v":""},{"$f":"IF(Basin_CountA=0,\"\",Basin!N271)","v":""},null,"","","","","","","","","","","","","","","","","","","","","","","","","","","","","","","","","","","","","","","","","","","","","","","","","","","","","","","","","","",""]
[null,{"$f":"IF(Basin_CountA=0,\"\",IF(User_Stage_Area=0,Basin!G272,Basin!H272))","v":""},{"$f":"IF(Basin_CountA=0,\"\",IF(User_Stage_Area=0,Basin!K272,IF(B243=\"\",\"\",Basin!L272)))","v":""},{"$f":"IF(Basin_CountA=0,\"\",Basin!N272)","v":""},null,"","","","","","","","","","","","","","","","","","","","","","","","","","","","","","","","","","","","","","","","","","","","","","","","","","","","","","","","","","",""]
[null,{"$f":"IF(Basin_CountA=0,\"\",IF(User_Stage_Area=0,Basin!G273,Basin!H273))","v":""},{"$f":"IF(Basin_CountA=0,\"\",IF(User_Stage_Area=0,Basin!K273,IF(B244=\"\",\"\",Basin!L273)))","v":""},{"$f":"IF(Basin_CountA=0,\"\",Basin!N273)","v":""},null,"","","","","","","","","","","","","","","","","","","","","","","","","","","","","","","","","","","","","","","","","","","","","","","","","","","","","","","","","","",""]
[null,{"$f":"IF(Basin_CountA=0,\"\",IF(User_Stage_Area=0,Basin!G274,Basin!H274))","v":""},{"$f":"IF(Basin_CountA=0,\"\",IF(User_Stage_Area=0,Basin!K274,IF(B245=\"\",\"\",Basin!L274)))","v":""},{"$f":"IF(Basin_CountA=0,\"\",Basin!N274)","v":""},null,"","","","","","","","","","","","","","","","","","","","","","","","","","","","","","","","","","","","","","","","","","","","","","","","","","","","","","","","","","",""]
[null,{"$f":"IF(Basin_CountA=0,\"\",IF(User_Stage_Area=0,Basin!G275,Basin!H275))","v":""},{"$f":"IF(Basin_CountA=0,\"\",IF(User_Stage_Area=0,Basin!K275,IF(B246=\"\",\"\",Basin!L275)))","v":""},{"$f":"IF(Basin_CountA=0,\"\",Basin!N275)","v":""},null,"","","","","","","","","","","","","","","","","","","","","","","","","","","","","","","","","","","","","","","","","","","","","","","","","","","","","","","","","","",""]
[null,{"$f":"IF(Basin_CountA=0,\"\",IF(User_Stage_Area=0,Basin!G276,Basin!H276))","v":""},{"$f":"IF(Basin_CountA=0,\"\",IF(User_Stage_Area=0,Basin!K276,IF(B247=\"\",\"\",Basin!L276)))","v":""},{"$f":"IF(Basin_CountA=0,\"\",Basin!N276)","v":""},null,"","","","","","","","","","","","","","","","","","","","","","","","","","","","","","","","","","","","","","","",{"$f":"IF($B247=\"\",\"\",IF(OR(Zone1_Outlet_Type=4,Zone2_Outlet_Type=4),IF($B247<WQ_Plate_Invert,0,($B247-WQ_Plate_Invert)*AS$86),\"\"))","v":""},"","","","","","","","","","","","","","","","","","",""]
[null,{"$f":"IF(Basin_CountA=0,\"\",IF(User_Stage_Area=0,Basin!G277,Basin!H277))","v":""},{"$f":"IF(Basin_CountA=0,\"\",IF(User_Stage_Area=0,Basin!K277,IF(B248=\"\",\"\",Basin!L277)))","v":""},{"$f":"IF(Basin_CountA=0,\"\",Basin!N277)","v":""},null,"","","","","","","","","","","","","","","","","","","","","","","","","","","","","","","","","","","","","","","","","","","","","","","","","","","","","","","","","","",""]
[null,{"$f":"IF(Basin_CountA=0,\"\",IF(User_Stage_Area=0,Basin!G278,Basin!H278))","v":""},{"$f":"IF(Basin_CountA=0,\"\",IF(User_Stage_Area=0,Basin!K278,IF(B249=\"\",\"\",Basin!L278)))","v":""},{"$f":"IF(Basin_CountA=0,\"\",Basin!N278)","v":""},null,"","","","","","","","","","","","","","","","","","","","","","","","","","","","","","","","","","","","","","","","","","","","","","","","","","","","","","","","","","",""]
[null,{"$f":"IF(Basin_CountA=0,\"\",IF(User_Stage_Area=0,Basin!G279,Basin!H279))","v":""},{"$f":"IF(Basin_CountA=0,\"\",IF(User_Stage_Area=0,Basin!K279,IF(B250=\"\",\"\",Basin!L279)))","v":""},{"$f":"IF(Basin_CountA=0,\"\",Basin!N279)","v":""},null,"","","","","","","","","","","","","","","","","","","","","","","","","","","","","","","","","","","","","","","","","","","","","","","","","","","","","","","","","","",""]
[null,{"$f":"IF(Basin_CountA=0,\"\",IF(User_Stage_Area=0,Basin!G280,Basin!H280))","v":""},{"$f":"IF(Basin_CountA=0,\"\",IF(User_Stage_Area=0,Basin!K280,IF(B251=\"\",\"\",Basin!L280)))","v":""},{"$f":"IF(Basin_CountA=0,\"\",Basin!N280)","v":""},null,"","","","","","","","","","","","","","","","","","","","","","","","","","","","","","","","","","","","","","","","","","","","","","","","","","","","","","","","","","",""]
[null,{"$f":"IF(Basin_CountA=0,\"\",IF(User_Stage_Area=0,Basin!G281,Basin!H281))","v":""},{"$f":"IF(Basin_CountA=0,\"\",IF(User_Stage_Area=0,Basin!K281,IF(B252=\"\",\"\",Basin!L281)))","v":""},{"$f":"IF(Basin_CountA=0,\"\",Basin!N281)","v":""},null,"","","","","","","","","","","","","","","","","","","","","","","","","","","","","","","","","","","","","","","","","","","","","","","","","","","","","","","","","","",""]
[null,{"$f":"IF(Basin_CountA=0,\"\",IF(User_Stage_Area=0,Basin!G282,Basin!H282))","v":""},{"$f":"IF(Basin_CountA=0,\"\",IF(User_Stage_Area=0,Basin!K282,IF(B253=\"\",\"\",Basin!L282)))","v":""},{"$f":"IF(Basin_CountA=0,\"\",Basin!N282)","v":""},null,"","","","","","","","","","","","","","","","","","","","","","","","","","","","","","","","","","","","","","","","","","","","","","","","","","","","","","","","","","",""]
[null,{"$f":"IF(Basin_CountA=0,\"\",IF(User_Stage_Area=0,Basin!G283,Basin!H283))","v":""},{"$f":"IF(Basin_CountA=0,\"\",IF(User_Stage_Area=0,Basin!K283,IF(B254=\"\",\"\",Basin!L283)))","v":""},{"$f":"IF(Basin_CountA=0,\"\",Basin!N283)","v":""},null,"","","","","","","","","","","","","","","","","","","","","","","","","","","","","","","","","","","","","","","","","","","","","","","","","","","","","","","","","","",""]
[null,{"$f":"IF(Basin_CountA=0,\"\",IF(User_Stage_Area=0,Basin!G284,Basin!H284))","v":""},{"$f":"IF(Basin_CountA=0,\"\",IF(User_Stage_Area=0,Basin!K284,IF(B255=\"\",\"\",Basin!L284)))","v":""},{"$f":"IF(Basin_CountA=0,\"\",Basin!N284)","v":""},null,"","","","","","","","","","","","","","","","","","","","","","","","","","","","","","","","","","","","","","","","","","","","","","","","","","","","","","","","","","",""]
[null,{"$f":"IF(Basin_CountA=0,\"\",IF(User_Stage_Area=0,Basin!G285,Basin!H285))","v":""},{"$f":"IF(Basin_CountA=0,\"\",IF(User_Stage_Area=0,Basin!K285,IF(B256=\"\",\"\",Basin!L285)))","v":""},{"$f":"IF(Basin_CountA=0,\"\",Basin!N285)","v":""},null,"","","","","","","","","","","","","","","","","","","","","","","","","","","","","","","","","","","","","","","","","","","","","","","","","","","","","","","","","","",""]
[null,{"$f":"IF(Basin_CountA=0,\"\",IF(User_Stage_Area=0,Basin!G286,Basin!H286))","v":""},{"$f":"IF(Basin_CountA=0,\"\",IF(User_Stage_Area=0,Basin!K286,IF(B257=\"\",\"\",Basin!L286)))","v":""},{"$f":"IF(Basin_CountA=0,\"\",Basin!N286)","v":""},null,"","","","","","","","","","","","","","","","","","","","","","","","","","","","","","","","","","","","","","","","","","","","","","","","","","","","","","","","","","",""]
[null,{"$f":"IF(Basin_CountA=0,\"\",IF(User_Stage_Area=0,Basin!G287,Basin!H287))","v":""},{"$f":"IF(Basin_CountA=0,\"\",IF(User_Stage_Area=0,Basin!K287,IF(B258=\"\",\"\",Basin!L287)))","v":""},{"$f":"IF(Basin_CountA=0,\"\",Basin!N287)","v":""},null,"","","","","","","","","","","","","","","","","","","","","","","","","","","","","","","","","","","","","","","","","","","","","","","","","","","","","","","","","","",""]
[null,{"$f":"IF(Basin_CountA=0,\"\",IF(User_Stage_Area=0,Basin!G288,Basin!H288))","v":""},{"$f":"IF(Basin_CountA=0,\"\",IF(User_Stage_Area=0,Basin!K288,IF(B259=\"\",\"\",Basin!L288)))","v":""},{"$f":"IF(Basin_CountA=0,\"\",Basin!N288)","v":""},null,"","","","","","","","","","","","","","","","","","","","","","","","","","","","","","","","","","","","","","","","","","","","","","","","","","","","","","","","","","",""]
[null,{"$f":"IF(Basin_CountA=0,\"\",IF(User_Stage_Area=0,Basin!G289,Basin!H289))","v":""},{"$f":"IF(Basin_CountA=0,\"\",IF(User_Stage_Area=0,Basin!K289,IF(B260=\"\",\"\",Basin!L289)))","v":""},{"$f":"IF(Basin_CountA=0,\"\",Basin!N289)","v":""},null,"","","","","","","","","","","","","","","","","","","","","","","","","","","","","","","","","","","","","","","","","","","","","","","","","","","","","","","","","","",""]
[null,{"$f":"IF(Basin_CountA=0,\"\",IF(User_Stage_Area=0,Basin!G290,Basin!H290))","v":""},{"$f":"IF(Basin_CountA=0,\"\",IF(User_Stage_Area=0,Basin!K290,IF(B261=\"\",\"\",Basin!L290)))","v":""},{"$f":"IF(Basin_CountA=0,\"\",Basin!N290)","v":""},null,"","","","","","","","","","","","","","","","","","","","","","","","","","","","","","","","","","","","","","","","","","","","","","","","","","","","","","","","","","",""]
[null,{"$f":"IF(Basin_CountA=0,\"\",IF(User_Stage_Area=0,Basin!G291,Basin!H291))","v":""},{"$f":"IF(Basin_CountA=0,\"\",IF(User_Stage_Area=0,Basin!K291,IF(B262=\"\",\"\",Basin!L291)))","v":""},{"$f":"IF(Basin_CountA=0,\"\",Basin!N291)","v":""},null,"","","","","","","","","","","","","","","","","","","","","","","","","","","","","","","","","","","","","","","","","","","","","","","","","","","","","","","","","","",""]
[null,{"$f":"IF(Basin_CountA=0,\"\",IF(User_Stage_Area=0,Basin!G292,Basin!H292))","v":""},{"$f":"IF(Basin_CountA=0,\"\",IF(User_Stage_Area=0,Basin!K292,IF(B263=\"\",\"\",Basin!L292)))","v":""},{"$f":"IF(Basin_CountA=0,\"\",Basin!N292)","v":""},null,"","","","","","","","","","","","","","","","","","","","","","","","","","","","","","","","","","","","","","","","","","","","","","","","","","","","","","","","","","",""]
[null,{"$f":"IF(Basin_CountA=0,\"\",IF(User_Stage_Area=0,Basin!G293,Basin!H293))","v":""},{"$f":"IF(Basin_CountA=0,\"\",IF(User_Stage_Area=0,Basin!K293,IF(B264=\"\",\"\",Basin!L293)))","v":""},{"$f":"IF(Basin_CountA=0,\"\",Basin!N293)","v":""},null,"","","","","","","","","","","","","","","","","","","","","","","","","","","","","","","","","","","","","","","","","","","","","","","","","","","","","","","","","","",""]
[null,{"$f":"IF(Basin_CountA=0,\"\",IF(User_Stage_Area=0,Basin!G294,Basin!H294))","v":""},{"$f":"IF(Basin_CountA=0,\"\",IF(User_Stage_Area=0,Basin!K294,IF(B265=\"\",\"\",Basin!L294)))","v":""},{"$f":"IF(Basin_CountA=0,\"\",Basin!N294)","v":""},null,"","","","","","","","","","","","","","","","","","","","","","","","","","","","","","","","","","","","","","","","","","","","","","","","","","","","","","","","","","",""]
[null,{"$f":"IF(Basin_CountA=0,\"\",IF(User_Stage_Area=0,Basin!G295,Basin!H295))","v":""},{"$f":"IF(Basin_CountA=0,\"\",IF(User_Stage_Area=0,Basin!K295,IF(B266=\"\",\"\",Basin!L295)))","v":""},{"$f":"IF(Basin_CountA=0,\"\",Basin!N295)","v":""},null,"","","","","","","","","","","","","","","","","","","","","","","","","","","","","","","","","","","","","","","","","","","","","","","","","","","","","","","","","","",""]
[null,{"$f":"IF(Basin_CountA=0,\"\",IF(User_Stage_Area=0,Basin!G296,Basin!H296))","v":""},{"$f":"IF(Basin_CountA=0,\"\",IF(User_Stage_Area=0,Basin!K296,IF(B267=\"\",\"\",Basin!L296)))","v":""},{"$f":"IF(Basin_CountA=0,\"\",Basin!N296)","v":""},null,"","","","","","","","","","","","","","","","","","","","","","","","","","","","","","","","","","","","","","","",{"$f":"IF($B267=\"\",\"\",IF(OR(Zone1_Outlet_Type=4,Zone2_Outlet_Type=4),IF($B267<WQ_Plate_Invert,0,($B267-WQ_Plate_Invert)*AS$86),\"\"))","v":""},"","","","","","","","","","","","","","","","","","",""]
[null,{"$f":"IF(Basin_CountA=0,\"\",IF(User_Stage_Area=0,Basin!G297,Basin!H297))","v":""},{"$f":"IF(Basin_CountA=0,\"\",IF(User_Stage_Area=0,Basin!K297,IF(B268=\"\",\"\",Basin!L297)))","v":""},{"$f":"IF(Basin_CountA=0,\"\",Basin!N297)","v":""},null,"","","","","","","","","","","","","","","","","","","","","","","","","","","","","","","","","","","","","","","","","","","","","","","","","","","","","","","","","","",""]
[null,{"$f":"IF(Basin_CountA=0,\"\",IF(User_Stage_Area=0,Basin!G298,Basin!H298))","v":""},{"$f":"IF(Basin_CountA=0,\"\",IF(User_Stage_Area=0,Basin!K298,IF(B269=\"\",\"\",Basin!L298)))","v":""},{"$f":"IF(Basin_CountA=0,\"\",Basin!N298)","v":""},null,"","","","","","","","","","","","","","","","","","","","","","","","","","","","","","","","","","","","","","","","","","","","","","","","","","","","","","","","","","",""]
[null,{"$f":"IF(Basin_CountA=0,\"\",IF(User_Stage_Area=0,Basin!G299,Basin!H299))","v":""},{"$f":"IF(Basin_CountA=0,\"\",IF(User_Stage_Area=0,Basin!K299,IF(B270=\"\",\"\",Basin!L299)))","v":""},{"$f":"IF(Basin_CountA=0,\"\",Basin!N299)","v":""},null,"","","","","","","","","","","","","","","","","","","","","","","","","","","","","","","","","","","","","","","","","","","","","","","","","","","","","","","","","","",""]
[null,{"$f":"IF(Basin_CountA=0,\"\",IF(User_Stage_Area=0,Basin!G300,Basin!H300))","v":""},{"$f":"IF(Basin_CountA=0,\"\",IF(User_Stage_Area=0,Basin!K300,IF(B271=\"\",\"\",Basin!L300)))","v":""},{"$f":"IF(Basin_CountA=0,\"\",Basin!N300)","v":""},null,"","","","","","","","","","","","","","","","","","","","","","","","","","","","","","","","","","","","","","","","","","","","","","","","","","","","","","","","","","",""]
[null,{"$f":"IF(Basin_CountA=0,\"\",IF(User_Stage_Area=0,Basin!G301,Basin!H301))","v":""},{"$f":"IF(Basin_CountA=0,\"\",IF(User_Stage_Area=0,Basin!K301,IF(B272=\"\",\"\",Basin!L301)))","v":""},{"$f":"IF(Basin_CountA=0,\"\",Basin!N301)","v":""},null,"","","","","","","","","","","","","","","","","","","","","","","","","","","","","","","","","","","","","","","","","","","","","","","","","","","","","","","","","","",""]
[null,{"$f":"IF(Basin_CountA=0,\"\",IF(User_Stage_Area=0,Basin!G302,Basin!H302))","v":""},{"$f":"IF(Basin_CountA=0,\"\",IF(User_Stage_Area=0,Basin!K302,IF(B273=\"\",\"\",Basin!L302)))","v":""},{"$f":"IF(Basin_CountA=0,\"\",Basin!N302)","v":""},null,"","","","","","","","","","","","","","","","","","","","","","","","","","","","","","","","","","","","","","","","","","","","","","","","","","","","","","","","","","",""]
[null,{"$f":"IF(Basin_CountA=0,\"\",IF(User_Stage_Area=0,Basin!G303,Basin!H303))","v":""},{"$f":"IF(Basin_CountA=0,\"\",IF(User_Stage_Area=0,Basin!K303,IF(B274=\"\",\"\",Basin!L303)))","v":""},{"$f":"IF(Basin_CountA=0,\"\",Basin!N303)","v":""},null,"","","","","","","","","","","","","","","","","","","","","","","","","","","","","","","","","","","","","","","","","","","","","","","","","","","","","","","","","","",""]
[null,{"$f":"IF(Basin_CountA=0,\"\",IF(User_Stage_Area=0,Basin!G304,Basin!H304))","v":""},{"$f":"IF(Basin_CountA=0,\"\",IF(User_Stage_Area=0,Basin!K304,IF(B275=\"\",\"\",Basin!L304)))","v":""},{"$f":"IF(Basin_CountA=0,\"\",Basin!N304)","v":""},null,"","","","","","","","","","","","","","","","","","","","","","","","","","","","","","","","","","","","","","","","","","","","","","","","","","","","","","","","","","",""]
[null,{"$f":"IF(Basin_CountA=0,\"\",IF(User_Stage_Area=0,Basin!G305,Basin!H305))","v":""},{"$f":"IF(Basin_CountA=0,\"\",IF(User_Stage_Area=0,Basin!K305,IF(B276=\"\",\"\",Basin!L305)))","v":""},{"$f":"IF(Basin_CountA=0,\"\",Basin!N305)","v":""},null,"","","","","","","","","","","","","","","","","","","","","","","","","","","","","","","","","","","","","","","","","","","","","","","","","","","","","","","","","","",""]
[null,{"$f":"IF(Basin_CountA=0,\"\",IF(User_Stage_Area=0,Basin!G306,Basin!H306))","v":""},{"$f":"IF(Basin_CountA=0,\"\",IF(User_Stage_Area=0,Basin!K306,IF(B277=\"\",\"\",Basin!L306)))","v":""},{"$f":"IF(Basin_CountA=0,\"\",Basin!N306)","v":""},null,"","","","","","","","","","","","","","","","","","","","","","","","","","","","","","","","","","","","","","","","","","","","","","","","","","","","","","","","","","",""]
[null,{"$f":"IF(Basin_CountA=0,\"\",IF(User_Stage_Area=0,Basin!G307,Basin!H307))","v":""},{"$f":"IF(Basin_CountA=0,\"\",IF(User_Stage_Area=0,Basin!K307,IF(B278=\"\",\"\",Basin!L307)))","v":""},{"$f":"IF(Basin_CountA=0,\"\",Basin!N307)","v":""},null,"","","","","","","","","","","","","","","","","","","","","","","","","","","","","","","","","","","","","","","","","","","","","","","","","","","","","","","","","","",""]
[null,{"$f":"IF(Basin_CountA=0,\"\",IF(User_Stage_Area=0,Basin!G308,Basin!H308))","v":""},{"$f":"IF(Basin_CountA=0,\"\",IF(User_Stage_Area=0,Basin!K308,IF(B279=\"\",\"\",Basin!L308)))","v":""},{"$f":"IF(Basin_CountA=0,\"\",Basin!N308)","v":""},null,{"$f":"IF(B279=\"\",\"\",IF(D279=\"\",\"\",2*D279))","v":""},{"$f":"IF(B279=\"\",\"\",\nIF(OR(Underdrain_Invert=\"\",Underdrain_Invert=\"N/A\",Underdrain_Diameter=\"\",Underdrain_Diameter=\"N/A\"),0,\nIF(B279+Underdrain_Invert<=Underdrain_Orifice_Centroid,0,IF(B279=0,0,0.6*Underdrain_Orifice_Area*(64.4*(B279+Underdrain_Invert-Underdrain_Orifice_Centroid))^0.5))))","v":""},{"$f":"IF(B279=\"\",\"\",\nIF(OR(WQ_Plate_Invert=\"\",WQ_Plate_Invert=\"N/A\",Required_Depth=\"\",Required_Depth=\"N/A\",Ao_OC_or_ESLOT_H=\"\",Ao_or_ESLOT_W=\"\"),0,\nIF(ESLOT_RATIO=\"\",AR279,IF(ESLOT_RATIO<>\"\",BC279,0))))","v":""},{"$f":"IF(B279=\"\",\"\",IF(Vertical_Orifice1_Boolean=0,0,\nIF(B279<=Orifice1_Invert,0,\nIF(B279<Orifice1_Invert+Orifice1_Height/12,\n(0.6*Vertical_Orifice1_Area*(64.4*Vertical_Orifice1_Centroid)^0.5)*((B279-Orifice1_Invert)/(Orifice1_Height/12))^1.81,\n0.6*Vertical_Orifice1_Area*(64.4*(B279-Orifice1_Invert-Vertical_Orifice1_Centroid))^0.5))))","v":""},{"$f":"IF(B279=\"\",\"\",IF(Vertical_Orifice2_Boolean=0,0,\nIF(B279<=Orifice2_Invert,0,\nIF(B279<Orifice2_Invert+Orifice2_Height/12,\n(0.6*Vertical_Orifice2_Area*(64.4*Vertical_Orifice2_Centroid)^0.5)*((B279-Orifice2_Invert)/(Orifice2_Height/12))^1.81,\n0.6*Vertical_Orifice2_Area*(64.4*(B279-Orifice2_Invert-Vertical_Orifice2_Centroid))^0.5))))","v":""},{"$f":"IF(B279=\"\",\"\",IF(Overflow_Weir1_Boolean=0,0,IF((B279-Weir1_Ho)<=0,0,\n\nIF(OR(Weir1_horiz_length_of_grate=0,Weir1_horiz_length_of_grate=\"N/A\"),\nCd_BCW*Weir1_W*(B279-Weir1_Ho)^1.5+(0.8*Cd_BCW)*Weir1_Grate_Slope*(B279-Weir1_Ho)^2.5,\n\nIF(Angle1=0,\n2*(2/3*CLOG1*n_Cdw_1*(64.4^0.5)*Weir1_horiz_length_of_grate*(B279-Weir1_Ho)^1.5)+2*(2/3*CLOG1*n_Cdw_1*(64.4^0.5)*Weir1_W*(B279-Weir1_Ho)^1.5),\n\nIF((B279-Weir1_Ho)<(Ht_1-Weir1_Ho),\n2*(4/15*CLOG1*n_Cdw_1*(64.4^0.5)*(COS(Angle1)/SIN(Angle1))*(B279-Weir1_Ho)^2.5)+(2/3*CLOG1*n_Cdw_1*(64.4^0.5)*Weir1_W*(B279-Weir1_Ho)^1.5),\n\n2*(4/15*CLOG1*n_Cdw_1*(64.4^0.5)*Weir1_horiz_length_of_grate*COS(Angle1)*(B279-Weir1_Ho)^1.5*((B279-Weir1_Ho)^2.5/(B279-Weir1_Ho)^1.5/(Ht_1-Weir1_Ho)-((B279-Weir1_Ho)-(Ht_1-Weir1_Ho))^2.5/(B279-Weir1_Ho)^1.5/(Ht_1-Weir1_Ho))) +(2/3*CLOG1*n_Cdw_1*(64.4^0.5)*Weir1_W*(B279-Weir1_Ho)^1.5)))))))","v":""},{"$f":"IF(B279=\"\",\"\",IF(Overflow_Weir1_Boolean=0,0,IF((B279-Weir1_Ho)<=0,0,IF(OR(Weir1_horiz_length_of_grate=0,Weir1_horiz_length_of_grate=\"N/A\"),0,\n\nIF(Angle1=0,\n(2/3*CLOG1*n_Cdo_1*Weir1_W*Weir1_horiz_length_of_grate*(64.4*(B279-Weir1_Ho))^0.5),\n\nIF((B279-Weir1_Ho)<(Ht_1-Weir1_Ho),\n(2/3*CLOG1*n_Cdo_1*Weir1_W*(B279-Weir1_Ho)*(COS(Angle1)/SIN(Angle1))*(64.4*(B279-Weir1_Ho))^0.5),\n\n(2/3*CLOG1*n_Cdo_1*Weir1_W*Weir1_horiz_length_of_grate*COS(Angle1)*(64.4*(B279-Weir1_Ho))^0.5*((B279-Weir1_Ho)^1.5/(Ht_1-Weir1_Ho)/(B279-Weir1_Ho)^0.5-((B279-Weir1_Ho)-(Ht_1-Weir1_Ho))^1.5/(B279-Weir1_Ho)^0.5/(Ht_1-Weir1_Ho)))))))))","v":""},"",{"$f":"IF(B279=\"\",\"\",IF(OR(Weir1_horiz_length_of_grate=0,Weir1_horiz_length_of_grate=\"N/A\"),K279,MIN(K279,L279,M279)))","v":""},{"$f":"IF(B279=\"\",\"\",IF(Overflow_Weir2_Boolean=0,0,IF((B279-Weir2_Ho)<=0,0,\n\nIF(OR(Weir2_horiz_length_of_grate=0,Weir2_horiz_length_of_grate=\"N/A\"),\nIF(AND(Weir1_horiz_length_of_grate=\"N/A\",Weir2_Position=\"Overlapping\"),\nIF((Cd_BCW*Weir2_W*(B279-Weir2_Ho)^1.5+(0.8*Cd_BCW)*Weir2_Grate_Slope*(B279-Weir2_Ho)^2.5)-(Cd_BCW*(Weir1_W+2*(Weir2_Ho-Weir1_Ho)*Weir1_Grate_Slope)*(B279-Weir2_Ho)^1.5+(0.8*Cd_BCW)*Weir1_Grate_Slope*(B279-Weir2_Ho)^2.5)<0,0,\n(Cd_BCW*Weir2_W*(B279-Weir2_Ho)^1.5+(0.8*Cd_BCW)*Weir2_Grate_Slope*(B279-Weir2_Ho)^2.5)-(Cd_BCW*(Weir1_W+2*(Weir2_Ho-Weir1_Ho)*Weir1_Grate_Slope)*(B279-Weir2_Ho)^1.5+(0.8*Cd_BCW)*Weir1_Grate_Slope*(B279-Weir2_Ho)^2.5)),\nCd_BCW*Weir2_W*(B279-Weir2_Ho)^1.5+(0.8*Cd_BCW)*Weir2_Grate_Slope*(B279-Weir2_Ho)^2.5),\n\nIF(Angle2=0,\n2*(2/3*CLOG2*n_Cdw_2*(64.4^0.5)*Weir2_horiz_length_of_grate*(B279-Weir2_Ho)^1.5)+2*(2/3*CLOG2*n_Cdw_2*(64.4^0.5)*Weir2_W*(B279-Weir2_Ho)^1.5),\n\nIF((B279-Weir2_Ho)<(Ht_2-Weir2_Ho),\n2*(4/15*CLOG2*n_Cdw_2*(64.4^0.5)*(COS(Angle2)/SIN(Angle2))*(B279-Weir2_Ho)^2.5)+(2/3*CLOG2*n_Cdw_2*(64.4^0.5)*Weir2_W*(B279-Weir2_Ho)^1.5),\n\n2*(4/15*CLOG2*n_Cdw_2*(64.4^0.5)*Weir2_horiz_length_of_grate*COS(Angle2)*(B279-Weir2_Ho)^1.5*((B279-Weir2_Ho)^2.5/(B279-Weir2_Ho)^1.5/(Ht_2-Weir2_Ho)-((B279-Weir2_Ho)-(Ht_2-Weir2_Ho))^2.5/(B279-Weir2_Ho)^1.5/(Ht_2-Weir2_Ho))) +(2/3*CLOG2*n_Cdw_2*(64.4^0.5)*Weir2_W*(B279-Weir2_Ho)^1.5)))))))","v":""},{"$f":"IF(B279=\"\",\"\",IF(Overflow_Weir2_Boolean=0,0,IF((B279-Weir2_Ho)<=0,0,IF(OR(Weir2_horiz_length_of_grate=0,Weir2_horiz_length_of_grate=\"N/A\"),0,\n\nIF(Angle2=0,\n(2/3*CLOG2*n_Cdo_2*Weir2_W*Weir2_horiz_length_of_grate*(64.4*(B279-Weir2_Ho))^0.5),\n\nIF((B279-Weir2_Ho)<(Ht_2-Weir2_Ho),\n(2/3*CLOG2*n_Cdo_2*Weir2_W*(B279-Weir2_Ho)*(COS(Angle2)/SIN(Angle2))*(64.4*(B279-Weir2_Ho))^0.5),\n\n(2/3*CLOG2*n_Cdo_2*Weir2_W*Weir2_horiz_length_of_grate*COS(Angle2)*(64.4*(B279-Weir2_Ho))^0.5*((B279-Weir2_Ho)^1.5/(Ht_2-Weir2_Ho)/(B279-Weir2_Ho)^0.5-((B279-Weir2_Ho)-(Ht_2-Weir2_Ho))^1.5/(B279-Weir2_Ho)^0.5/(Ht_2-Weir2_Ho)))))))))","v":""},"",{"$f":"IF(B279=\"\",\"\",IF(OR(Weir2_horiz_length_of_grate=0,Weir2_horiz_length_of_grate=\"N/A\"),O279,MIN(O279,P279,Q279)))","v":""},{"$f":"IF(B279=\"\",\"\",\nIF(Outlet_Pipe1_Boolean=0,0,\nIF(B279+Outlet1_Orifice_Invert<2*Outlet1_Orifice_Centroid,\nIF((0.6*Outlet1_Orifice_Area*(64.4*Outlet1_Orifice_Centroid)^0.5)*((B279+Outlet1_Orifice_Invert)/(2*Outlet1_Orifice_Centroid))^1.81<H279,H279,\n(0.6*Outlet1_Orifice_Area*(64.4*Outlet1_Orifice_Centroid)^0.5)*((B279+Outlet1_Orifice_Invert)/(2*Outlet1_Orifice_Centroid))^1.81),\n0.6*Outlet1_Orifice_Area*(64.4*(B279+Outlet1_Orifice_Invert-Outlet1_Orifice_Centroid))^0.5)))","v":""},{"$f":"IF(B279=\"\",\"\",IF(Outlet_Pipe1_Boolean=0,0,\nIF(Outlet_Pipe1_Rank=3,MIN(S279,G279+H279+I279+J279+N279),\nIF(Outlet_Pipe1_Rank=2,IF(Vertical_Orifice1_Rank=1,MIN(S279,G279+H279+I279+N279),MIN(S279,G279+H279+J279+N279)),\nIF(Outlet_Pipe1_Rank=1,MIN(S279,G279+H279+N279),\nMIN(S279,G279+H279+I279+J279))))))","v":""},{"$f":"IF(B279=\"\",\"\",\nIF(Outlet_Pipe2_Boolean=0,0,\nIF(B279+Outlet2_Orifice_Invert<2*Outlet2_Orifice_Centroid,\nIF((0.6*Outlet2_Orifice_Area*(64.4*Outlet2_Orifice_Centroid)^0.5)*((B279+Outlet2_Orifice_Invert)/(2*Outlet2_Orifice_Centroid))^1.81<H279,H279,\n(0.6*Outlet2_Orifice_Area*(64.4*Outlet2_Orifice_Centroid)^0.5)*((B279+Outlet2_Orifice_Invert)/(2*Outlet2_Orifice_Centroid))^1.81),\n0.6*Outlet2_Orifice_Area*(64.4*(B279+Outlet2_Orifice_Invert-Outlet2_Orifice_Centroid))^0.5)))","v":""},{"$f":"IF(B279=\"\",\"\",IF(OR(Outlet_Pipe1_Boolean=0,Outlet_Pipe2_Boolean=0),0,\nIF(Outlet_Pipe2_Rank=4,\nIF(Outlet_Pipe1_Rank=3,MIN(U279,R279+T279),\nIF(AND(Outlet_Pipe1_Rank=2,Vertical_Orifice2_Rank=3),MIN(U279,J279+R279+T279),\nIF(AND(Outlet_Pipe1_Rank=2,Vertical_Orifice1_Rank=3),MIN(U279,I279+R279+T279),MIN(U279,I279+J279+R279+T279)))),\n\nIF(Outlet_Pipe2_Rank=3,\nIF(Outlet_Pipe1_Rank=2,MIN(U279,R279+T279),\nIF(Vertical_Orifice2_Rank=2,MIN(U279,J279+R279+T279),MIN(U279,I279+R279+T279))),\n\nMIN(U279,R279+T279)))))","v":""},{"$f":"IF(B279=\"\",\"\",\nIF(OR(Spillway_Invert=\"\",Spillway_Length=\"\",Spillway_Side_Slopes=\"\",Freeboard_above_Spillway=\"\",B279<=Spillway_Invert),0,\n\nIF(OR(Spillway_Position=\"\",Spillway_Position=\"Offset\"),\n(Cd_BCW*Spillway_Length*(B279-Spillway_Invert)^1.5)+((0.8*Cd_BCW)*Spillway_Side_Slopes*(B279-Spillway_Invert)^2.5),\n\nIF(AND(Weir2_Ho<>\"N/A\",Weir2_horiz_length_of_grate=\"N/A\"),\nIF((Cd_BCW*Spillway_Length*(B279-Spillway_Invert)^1.5)+((0.8*Cd_BCW)*Spillway_Side_Slopes*(B279-Spillway_Invert)^2.5)-(Cd_BCW*(Weir2_W+2*(Spillway_Invert-Weir2_Ho)*Weir2_Grate_Slope)*(B279-Spillway_Invert)^1.5)+((0.8*Cd_BCW)*Weir2_Grate_Slope*(B279-Spillway_Invert)^2.5)<0,0,\n(Cd_BCW*Spillway_Length*(B279-Spillway_Invert)^1.5)+((0.8*Cd_BCW)*Spillway_Side_Slopes*(B279-Spillway_Invert)^2.5)-(Cd_BCW*(Weir2_W+2*(Spillway_Invert-Weir2_Ho)*Weir2_Grate_Slope)*(B279-Spillway_Invert)^1.5)+((0.8*Cd_BCW)*Weir2_Grate_Slope*(B279-Spillway_Invert)^2.5)),\n\nIF((Cd_BCW*Spillway_Length*(B279-Spillway_Invert)^1.5)+((0.8*Cd_BCW)*Spillway_Side_Slopes*(B279-Spillway_Invert)^2.5)-(Cd_BCW*(Weir1_W+2*(Spillway_Invert-Weir1_Ho)*Weir1_Grate_Slope)*(B279-Spillway_Invert)^1.5)+((0.8*Cd_BCW)*Weir1_Grate_Slope*(B279-Spillway_Invert)^2.5)<0,0,\n(Cd_BCW*Spillway_Length*(B279-Spillway_Invert)^1.5)+((0.8*Cd_BCW)*Spillway_Side_Slopes*(B279-Spillway_Invert)^2.5)-(Cd_BCW*(Weir1_W+2*(Spillway_Invert-Weir1_Ho)*Weir1_Grate_Slope)*(B279-Spillway_Invert)^1.5)+((0.8*Cd_BCW)*Weir1_Grate_Slope*(B279-Spillway_Invert)^2.5))))))","v":""},"",{"$f":"IF(B279=\"\",\"\",IF(X279=\"\",\"\",IF(D279=\"\",\"\",X279*$C$3089*60+F279)))","v":""},"","",{"$f":"IF($B279=\"\",\"\",IF(OR(Row1_Stage=\"\",Row1_Stage=\"N/A\"),0,IF($B279<=Row1_Stage,0,0.6*(Row1_Area/144)*(64.4*($B279-Row1_Stage))^0.5)))","v":""},{"$f":"IF($B279=\"\",\"\",IF(OR(Row2_Stage=\"\",Row2_Stage=\"N/A\"),0,IF($B279<=Row2_Stage,0,0.6*(Row2_Area/144)*(64.4*($B279-Row2_Stage))^0.5)))","v":""},{"$f":"IF($B279=\"\",\"\",IF(OR(Row3_Stage=\"\",Row3_Stage=\"N/A\"),0,IF($B279<=Row3_Stage,0,0.6*(Row3_Area/144)*(64.4*($B279-Row3_Stage))^0.5)))","v":""},{"$f":"IF($B279=\"\",\"\",IF(OR(Row4_Stage=\"\",Row4_Stage=\"N/A\"),0,IF($B279<=Row4_Stage,0,0.6*(Row4_Area/144)*(64.4*($B279-Row4_Stage))^0.5)))","v":""},{"$f":"IF($B279=\"\",\"\",IF(OR(Row5_Stage=\"\",Row5_Stage=\"N/A\"),0,IF($B279<=Row5_Stage,0,0.6*(Row5_Area/144)*(64.4*($B279-Row5_Stage))^0.5)))","v":""},{"$f":"IF($B279=\"\",\"\",IF(OR(Row6_Stage=\"\",Row6_Stage=\"N/A\"),0,IF($B279<=Row6_Stage,0,0.6*(Row6_Area/144)*(64.4*($B279-Row6_Stage))^0.5)))","v":""},{"$f":"IF($B279=\"\",\"\",IF(OR(Row7_Stage=\"\",Row7_Stage=\"N/A\"),0,IF($B279<=Row7_Stage,0,0.6*(Row7_Area/144)*(64.4*($B279-Row7_Stage))^0.5)))","v":""},{"$f":"IF($B279=\"\",\"\",IF(OR(Row8_Stage=\"\",Row8_Stage=\"N/A\"),0,IF($B279<=Row8_Stage,0,0.6*(Row8_Area/144)*(64.4*($B279-Row8_Stage))^0.5)))","v":""},{"$f":"IF($B279=\"\",\"\",IF(OR(Row9_Stage=\"\",Row9_Stage=\"N/A\"),0,IF($B279<=Row9_Stage,0,0.6*(Row9_Area/144)*(64.4*($B279-Row9_Stage))^0.5)))","v":""},{"$f":"IF($B279=\"\",\"\",IF(OR(Row10_Stage=\"\",Row10_Stage=\"N/A\"),0,IF($B279<=Row10_Stage,0,0.6*(Row10_Area/144)*(64.4*($B279-Row10_Stage))^0.5)))","v":""},{"$f":"IF($B279=\"\",\"\",IF(OR(Row11_Stage=\"\",Row11_Stage=\"N/A\"),0,IF($B279<=Row11_Stage,0,0.6*(Row11_Area/144)*(64.4*($B279-Row11_Stage))^0.5)))","v":""},{"$f":"IF($B279=\"\",\"\",IF(OR(Row12_Stage=\"\",Row12_Stage=\"N/A\"),0,IF($B279<=Row12_Stage,0,0.6*(Row12_Area/144)*(64.4*($B279-Row12_Stage))^0.5)))","v":""},{"$f":"IF($B279=\"\",\"\",IF(OR(Row13_Stage=\"\",Row13_Stage=\"N/A\"),0,IF($B279<=Row13_Stage,0,0.6*(Row13_Area/144)*(64.4*($B279-Row13_Stage))^0.5)))","v":""},{"$f":"IF($B279=\"\",\"\",IF(OR(Row14_Stage=\"\",Row14_Stage=\"N/A\"),0,IF($B279<=Row14_Stage,0,0.6*(Row14_Area/144)*(64.4*($B279-Row14_Stage))^0.5)))","v":""},{"$f":"IF($B279=\"\",\"\",IF(OR(Row15_Stage=\"\",Row15_Stage=\"N/A\"),0,IF($B279<=Row15_Stage,0,0.6*(Row15_Area/144)*(64.4*($B279-Row15_Stage))^0.5)))","v":""},{"$f":"IF($B279=\"\",\"\",IF(OR(Row16_Stage=\"\",Row16_Stage=\"N/A\"),0,IF($B279<=Row16_Stage,0,0.6*(Row16_Area/144)*(64.4*($B279-Row16_Stage))^0.5)))","v":""},{"$f":"IF(B279=\"\",\"\",SUM(AB279:AQ279))","v":""},"","","","",{"$f":"IF($B279=\"\",\"\",IF(OR(Zone1_Outlet_Type=4,Zone2_Outlet_Type=4),IF($B279<WQ_Plate_Invert,0,IF($B279<WQ_Plate_Invert+Ao_OC_or_ESLOT_H,(2*32.2*($B279-WQ_Plate_Invert-AS279))^0.5*(2*Ao_OC_or_ESLOT_H/ESLOT_RATIO*(1-(1-AS279^2/Ao_OC_or_ESLOT_H^2)^0.5)+Ao_or_ESLOT_W/12),0)),\"\"))","v":""},{"$f":"IF($B279=\"\",\"\",IF(OR(Zone1_Outlet_Type=4,Zone2_Outlet_Type=4),IF($B279<WQ_Plate_Invert,0,IF($B279<WQ_Plate_Invert+Ao_OC_or_ESLOT_H,(2*32.2*($B279-WQ_Plate_Invert-AT279))^0.5*(2*Ao_OC_or_ESLOT_H/ESLOT_RATIO*(1-(1-AT279^2/Ao_OC_or_ESLOT_H^2)^0.5)+Ao_or_ESLOT_W/12),0)),\"\"))","v":""},{"$f":"IF($B279=\"\",\"\",IF(OR(Zone1_Outlet_Type=4,Zone2_Outlet_Type=4),IF($B279<WQ_Plate_Invert,0,IF($B279<WQ_Plate_Invert+Ao_OC_or_ESLOT_H,(2*32.2*($B279-WQ_Plate_Invert-AU279))^0.5*(2*Ao_OC_or_ESLOT_H/ESLOT_RATIO*(1-(1-AU279^2/Ao_OC_or_ESLOT_H^2)^0.5)+Ao_or_ESLOT_W/12),0)),\"\"))","v":""},{"$f":"IF($B279=\"\",\"\",IF(OR(Zone1_Outlet_Type=4,Zone2_Outlet_Type=4),IF($B279<WQ_Plate_Invert,0,IF($B279<WQ_Plate_Invert+Ao_OC_or_ESLOT_H,(2*32.2*($B279-WQ_Plate_Invert-AV279))^0.5*(2*Ao_OC_or_ESLOT_H/ESLOT_RATIO*(1-(1-AV279^2/Ao_OC_or_ESLOT_H^2)^0.5)+Ao_or_ESLOT_W/12),0)),\"\"))","v":""},{"$f":"IF(B279=\"\",\"\",IF(OR(Zone1_Outlet_Type=4,Zone2_Outlet_Type=4),IF(B279<WQ_Plate_Invert+Ao_OC_or_ESLOT_H, 0.642*(0.3015*(B279-WQ_Plate_Invert)*(AW279+AX279)+0.1415*(B279-WQ_Plate_Invert)*(AX279+AY279)+0.057*(B279-WQ_Plate_Invert)*AY279),\"N/A\"),\"\"))","v":""},{"$f":"IF(B279=\"\",\"\",IF(OR(Zone1_Outlet_Type=4,Zone2_Outlet_Type=4),IF(B279>=WQ_Plate_Invert+Ao_OC_or_ESLOT_H, 0.6*Elliptical_Slot_Area*(2*32.2*(B279-WQ_Plate_Invert-Elliptical_Slot_Centroid))^0.5,\"N/A\"),\"\"))","v":""},{"$f":"IF(B279=\"\",\"\",IF(OR(Zone1_Outlet_Type=4,Zone2_Outlet_Type=4),IF(B279<WQ_Plate_Invert+Ao_OC_or_ESLOT_H, BA279,BB279),\"\"))","v":""},"","","","","","","","",""]
[null,{"$f":"IF(Basin_CountA=0,\"\",IF(User_Stage_Area=0,Basin!G309,Basin!H309))","v":""},{"$f":"IF(Basin_CountA=0,\"\",IF(User_Stage_Area=0,Basin!K309,IF(B280=\"\",\"\",Basin!L309)))","v":""},{"$f":"IF(Basin_CountA=0,\"\",Basin!N309)","v":""},null,"","","","","","","",{"$f":"IF(B280=\"\",\"\",K280+L280-1.11*(K280*L280)^0.5)","v":""},"","","",{"$f":"IF(B280=\"\",\"\",O280+P280-1.11*(O280*P280)^0.5)","v":""},"","","","","","",{"$f":"IF(B280=\"\",\"\",IF(E280<>\"\",E280,\nIF(V280<>0,V280+W280,\nIF(T280<>0,T280+W280,\nG280+H280+I280+J280+N280+R280+W280))))","v":""},"",{"$f":"IF(B280=\"\",\"\",IF(Y280<=0,0,IF(Y280=\"\",Z279,((X280-X279)/(Y280-Y279)))))","v":""},{"$f":"IF(B280=\"\",\"\",IF(Y280<=0,0,IF(Y280=\"\",AA279,((B280-B279)/(Y280-Y279)))))","v":""},"","","","","","","","","","","","","","","","","","","","","","","","","","","","",{"$f":"IF(B280=\"\",\"\",IF(G280=0,0,IF(X280=G280,1,0)))","v":""},{"$f":"IF(B280=\"\",\"\",IF(H280=0,0,IF(ROUND(X280-G280,3)=ROUND(H280,3),1,0)))","v":""},{"$f":"IF(B280=\"\",\"\",IF(I280=0,0,\nIF(Vertical_Orifice1_Rank=1,IF(ROUND(X280-H280-G280,3)=ROUND(I280,3),1,0),\nIF(Vertical_Orifice1_Rank=2,IF(ROUND(X280-T280,3)=ROUND(I280,3),1,0),\nIF(ROUND(X280-V280,3)=ROUND(I280,3),1,0)))))","v":""},{"$f":"IF(B280=\"\",\"\",IF(J280=0,0,\nIF(Vertical_Orifice2_Rank=2,IF(ROUND(X280-I280-H280-G280,3)=ROUND(J280,3),1,0),\nIF(Vertical_Orifice2_Rank=3,\nIF(Vertical_Orifice1_Rank=1,IF(ROUND(X280-T280,3)=ROUND(J280,3),1,0),IF(ROUND(X280-T280-I280,3)=ROUND(J280,3),1,0)),\nIF(OR(Vertical_Orifice1_Rank=1,Vertical_Orifice1_Rank=2),IF(ROUND(X280-T280,3)=ROUND(J280,3),1,0),IF(ROUND(X280-T280-I280,3)=ROUND(J280,3),1,0))))))","v":""},{"$f":"IF(B280=\"\",\"\",IF(N280=0,0,\nIF(Overflow_Weir1_Rank=1,IF(ROUND(X280-H280-G280,3)=ROUND(N280,3),1,0),\nIF(Overflow_Weir1_Rank=2,IF(ROUND(X280-I280-H280-G280,3)=ROUND(N280,3),1,0),\nIF(ROUND(X280-J280-I280-H280-G280,3)=ROUND(N280,3),1,0)))))","v":""},{"$f":"IF(B280=\"\",\"\",IF(R280=0,0,\nIF(Weir2_Position=\"Overlapping\",IF(ROUND(X280-N280-J280-I280-H280-G280,3)=ROUND(R280,3),1,0),\nIF(Overflow_Weir2_Rank=2,\nIF(ROUND(X280-T280,3)=ROUND(R280,3),1,0),\nIF(Overflow_Weir2_Rank=3,\nIF(Overflow_Weir1_Rank=2,IF(ROUND(X280-T280,3)=ROUND(R280,3),1,0),IF(ROUND(X280-T280-I280,3)=ROUND(R280,3),1,0)),\nIF(Overflow_Weir1_Rank=3,IF(ROUND(X280-T280,3)=ROUND(R280,3),1,0),\nIF(Overflow_Weir1_Rank=2,IF(ROUND(X280-T280-I280,3)=ROUND(R280,3),1,0),IF(ROUND(X280-T280-J280-I280,3)=ROUND(R280,3),1,0))))))))","v":""},"","",{"$f":"IF(B280=\"\",\"\",IF(W280=0,0,1))","v":""}]
[null,{"$f":"IF(Basin_CountA=0,\"\",IF(User_Stage_Area=0,Basin!G310,Basin!H310))","v":""},{"$f":"IF(Basin_CountA=0,\"\",IF(User_Stage_Area=0,Basin!K310,IF(B281=\"\",\"\",Basin!L310)))","v":""},{"$f":"IF(Basin_CountA=0,\"\",Basin!N310)","v":""},null,"","","","","","","","","","","","","","","","","","","","","","","","","","","","","","","","","","","","","","","","","","","","","","","","","","","","","","","","",{"$f":"IF(B281=\"\",\"\",IF(T281=0,0,IF(ROUND(X281,3)=ROUND(S281,3),1,0)))","v":""},{"$f":"IF(B281=\"\",\"\",IF(V281=0,0,IF(ROUND(X281,3)=ROUND(U281,3),1,0)))","v":""},""]
[null,{"$f":"IF(Basin_CountA=0,\"\",IF(User_Stage_Area=0,Basin!G311,Basin!H311))","v":""},{"$f":"IF(Basin_CountA=0,\"\",IF(User_Stage_Area=0,Basin!K311,IF(B282=\"\",\"\",Basin!L311)))","v":""},{"$f":"IF(Basin_CountA=0,\"\",Basin!N311)","v":""},null,"","","","","","","","","","","","","","","","","","","","","","","","","","","","","","","","","","","","","","","","","","","","","","","","","","","","","","","","","","",""]
[null,{"$f":"IF(Basin_CountA=0,\"\",IF(User_Stage_Area=0,Basin!G312,Basin!H312))","v":""},{"$f":"IF(Basin_CountA=0,\"\",IF(User_Stage_Area=0,Basin!K312,IF(B283=\"\",\"\",Basin!L312)))","v":""},{"$f":"IF(Basin_CountA=0,\"\",Basin!N312)","v":""},null,"","","","","","","","","","","","","","","","","","","","","","","","","","","","","","","","","","","","","","","","","","","","","","","","","","","","","","","","","","",""]
[null,{"$f":"IF(Basin_CountA=0,\"\",IF(User_Stage_Area=0,Basin!G313,Basin!H313))","v":""},{"$f":"IF(Basin_CountA=0,\"\",IF(User_Stage_Area=0,Basin!K313,IF(B284=\"\",\"\",Basin!L313)))","v":""},{"$f":"IF(Basin_CountA=0,\"\",Basin!N313)","v":""},null,"","","","","","","","","","","","","","","","","","","","","","","","","","","","","","","","","","","","","","","","","","","","","","","","","","","","","","","","","","",""]
[null,{"$f":"IF(Basin_CountA=0,\"\",IF(User_Stage_Area=0,Basin!G314,Basin!H314))","v":""},{"$f":"IF(Basin_CountA=0,\"\",IF(User_Stage_Area=0,Basin!K314,IF(B285=\"\",\"\",Basin!L314)))","v":""},{"$f":"IF(Basin_CountA=0,\"\",Basin!N314)","v":""},null,"","","","","","","","","","","","","","","","","","","","","","","","","","","","","","","","","","","","","","","","","","","","","","","","","","","","","","","","","","",""]
[null,{"$f":"IF(Basin_CountA=0,\"\",IF(User_Stage_Area=0,Basin!G315,Basin!H315))","v":""},{"$f":"IF(Basin_CountA=0,\"\",IF(User_Stage_Area=0,Basin!K315,IF(B286=\"\",\"\",Basin!L315)))","v":""},{"$f":"IF(Basin_CountA=0,\"\",Basin!N315)","v":""},null,"","","","","","","","","","","","","","","","","","","","","","","","","","","","","","","","","","","","","","","","","","","","","","","","","","","","","","","","","","",""]
[null,{"$f":"IF(Basin_CountA=0,\"\",IF(User_Stage_Area=0,Basin!G316,Basin!H316))","v":""},{"$f":"IF(Basin_CountA=0,\"\",IF(User_Stage_Area=0,Basin!K316,IF(B287=\"\",\"\",Basin!L316)))","v":""},{"$f":"IF(Basin_CountA=0,\"\",Basin!N316)","v":""},null,"","","","","","","","","","","","","","","","","","","","","","","","","","","","","","","","","","","","","","","",{"$f":"IF($B287=\"\",\"\",IF(OR(Zone1_Outlet_Type=4,Zone2_Outlet_Type=4),IF($B287<WQ_Plate_Invert,0,($B287-WQ_Plate_Invert)*AS$86),\"\"))","v":""},"","","","","","","","","","","","","","","","","","",""]
[null,{"$f":"IF(Basin_CountA=0,\"\",IF(User_Stage_Area=0,Basin!G317,Basin!H317))","v":""},{"$f":"IF(Basin_CountA=0,\"\",IF(User_Stage_Area=0,Basin!K317,IF(B288=\"\",\"\",Basin!L317)))","v":""},{"$f":"IF(Basin_CountA=0,\"\",Basin!N317)","v":""},null,"","","","","","","","","","","","","","","","","","","","","","","","","","","","","","","","","","","","","","","","","","","","","","","","","","","","","","","","","","",""]
[null,{"$f":"IF(Basin_CountA=0,\"\",IF(User_Stage_Area=0,Basin!G318,Basin!H318))","v":""},{"$f":"IF(Basin_CountA=0,\"\",IF(User_Stage_Area=0,Basin!K318,IF(B289=\"\",\"\",Basin!L318)))","v":""},{"$f":"IF(Basin_CountA=0,\"\",Basin!N318)","v":""},null,"","","","","","","","","","","","","","","","","","","","","","","","","","","","","","","","","","","","","","","","","","","","","","","","","","","","","","","","","","",""]
[null,{"$f":"IF(Basin_CountA=0,\"\",IF(User_Stage_Area=0,Basin!G319,Basin!H319))","v":""},{"$f":"IF(Basin_CountA=0,\"\",IF(User_Stage_Area=0,Basin!K319,IF(B290=\"\",\"\",Basin!L319)))","v":""},{"$f":"IF(Basin_CountA=0,\"\",Basin!N319)","v":""},null,"","","","","","","","","","","","","","","","","","","","","","","","","","","","","","","","","","","","","","","","","","","","","","","","","","","","","","","","","","",""]
[null,{"$f":"IF(Basin_CountA=0,\"\",IF(User_Stage_Area=0,Basin!G320,Basin!H320))","v":""},{"$f":"IF(Basin_CountA=0,\"\",IF(User_Stage_Area=0,Basin!K320,IF(B291=\"\",\"\",Basin!L320)))","v":""},{"$f":"IF(Basin_CountA=0,\"\",Basin!N320)","v":""},null,"","","","","","","","","","","","","","","","","","","","","","","","","","","","","","","","","","","","","","","","","","","","","","","","","","","","","","","","","","",""]
[null,{"$f":"IF(Basin_CountA=0,\"\",IF(User_Stage_Area=0,Basin!G321,Basin!H321))","v":""},{"$f":"IF(Basin_CountA=0,\"\",IF(User_Stage_Area=0,Basin!K321,IF(B292=\"\",\"\",Basin!L321)))","v":""},{"$f":"IF(Basin_CountA=0,\"\",Basin!N321)","v":""},null,"","","","","","","","","","","","","","","","","","","","","","","","","","","","","","","","","","","","","","","","","","","","","","","","","","","","","","","","","","",""]
[null,{"$f":"IF(Basin_CountA=0,\"\",IF(User_Stage_Area=0,Basin!G322,Basin!H322))","v":""},{"$f":"IF(Basin_CountA=0,\"\",IF(User_Stage_Area=0,Basin!K322,IF(B293=\"\",\"\",Basin!L322)))","v":""},{"$f":"IF(Basin_CountA=0,\"\",Basin!N322)","v":""},null,"","","","","","","","","","","","","","","","","","","","","","","","","","","","","","","","","","","","","","","","","","","","","","","","","","","","","","","","","","",""]
[null,{"$f":"IF(Basin_CountA=0,\"\",IF(User_Stage_Area=0,Basin!G323,Basin!H323))","v":""},{"$f":"IF(Basin_CountA=0,\"\",IF(User_Stage_Area=0,Basin!K323,IF(B294=\"\",\"\",Basin!L323)))","v":""},{"$f":"IF(Basin_CountA=0,\"\",Basin!N323)","v":""},null,"","","","","","","","","","","","","","","","","","","","","","","","","","","","","","","","","","","","","","","","","","","","","","","","","","","","","","","","","","",""]
[null,{"$f":"IF(Basin_CountA=0,\"\",IF(User_Stage_Area=0,Basin!G324,Basin!H324))","v":""},{"$f":"IF(Basin_CountA=0,\"\",IF(User_Stage_Area=0,Basin!K324,IF(B295=\"\",\"\",Basin!L324)))","v":""},{"$f":"IF(Basin_CountA=0,\"\",Basin!N324)","v":""},null,"","","","","","","","","","","","","","","","","","","","","","","","","","","","","","","","","","","","","","","","","","","","","","","","","","","","","","","","","","",""]
[null,{"$f":"IF(Basin_CountA=0,\"\",IF(User_Stage_Area=0,Basin!G325,Basin!H325))","v":""},{"$f":"IF(Basin_CountA=0,\"\",IF(User_Stage_Area=0,Basin!K325,IF(B296=\"\",\"\",Basin!L325)))","v":""},{"$f":"IF(Basin_CountA=0,\"\",Basin!N325)","v":""},null,"","","","","","","","","","","","","","","","","","","","","","","","","","","","","","","","","","","","","","","","","","","","","","","","","","","","","","","","","","",""]
[null,{"$f":"IF(Basin_CountA=0,\"\",IF(User_Stage_Area=0,Basin!G326,Basin!H326))","v":""},{"$f":"IF(Basin_CountA=0,\"\",IF(User_Stage_Area=0,Basin!K326,IF(B297=\"\",\"\",Basin!L326)))","v":""},{"$f":"IF(Basin_CountA=0,\"\",Basin!N326)","v":""},null,"","","","","","","","","","","","","","","","","","","","","","","","","","","","","","","","","","","","","","","","","","","","","","","","","","","","","","","","","","",""]
[null,{"$f":"IF(Basin_CountA=0,\"\",IF(User_Stage_Area=0,Basin!G327,Basin!H327))","v":""},{"$f":"IF(Basin_CountA=0,\"\",IF(User_Stage_Area=0,Basin!K327,IF(B298=\"\",\"\",Basin!L327)))","v":""},{"$f":"IF(Basin_CountA=0,\"\",Basin!N327)","v":""},null,"","","","","","","","","","","","","","","","","","","","","","","","","","","","","","","","","","","","","","","","","","","","","","","","","","","","","","","","","","",""]
[null,{"$f":"IF(Basin_CountA=0,\"\",IF(User_Stage_Area=0,Basin!G328,Basin!H328))","v":""},{"$f":"IF(Basin_CountA=0,\"\",IF(User_Stage_Area=0,Basin!K328,IF(B299=\"\",\"\",Basin!L328)))","v":""},{"$f":"IF(Basin_CountA=0,\"\",Basin!N328)","v":""},null,"","","","","","","","","","","","","","","","","","","","","","","","","","","","","","","","","","","","","","","","","","","","","","","","","","","","","","","","","","",""]
[null,{"$f":"IF(Basin_CountA=0,\"\",IF(User_Stage_Area=0,Basin!G329,Basin!H329))","v":""},{"$f":"IF(Basin_CountA=0,\"\",IF(User_Stage_Area=0,Basin!K329,IF(B300=\"\",\"\",Basin!L329)))","v":""},{"$f":"IF(Basin_CountA=0,\"\",Basin!N329)","v":""},null,"","","","","","","","","","","","","","","","","","","","","","","","","","","","","","","","","","","","","","","","","","","","","","","","","","","","","","","","","","",""]
[null,{"$f":"IF(Basin_CountA=0,\"\",IF(User_Stage_Area=0,Basin!G330,Basin!H330))","v":""},{"$f":"IF(Basin_CountA=0,\"\",IF(User_Stage_Area=0,Basin!K330,IF(B301=\"\",\"\",Basin!L330)))","v":""},{"$f":"IF(Basin_CountA=0,\"\",Basin!N330)","v":""},null,"","","","","","","","","","","","","","","","","","","","","","","","","","","","","","","","","","","","","","","","","","","","","","","","","","","","","","","","","","",""]
[null,{"$f":"IF(Basin_CountA=0,\"\",IF(User_Stage_Area=0,Basin!G331,Basin!H331))","v":""},{"$f":"IF(Basin_CountA=0,\"\",IF(User_Stage_Area=0,Basin!K331,IF(B302=\"\",\"\",Basin!L331)))","v":""},{"$f":"IF(Basin_CountA=0,\"\",Basin!N331)","v":""},null,"","","","","","","","","","","","","","","","","","","","","","","","","","","","","","","","","","","","","","","","","","","","","","","","","","","","","","","","","","",""]
[null,{"$f":"IF(Basin_CountA=0,\"\",IF(User_Stage_Area=0,Basin!G332,Basin!H332))","v":""},{"$f":"IF(Basin_CountA=0,\"\",IF(User_Stage_Area=0,Basin!K332,IF(B303=\"\",\"\",Basin!L332)))","v":""},{"$f":"IF(Basin_CountA=0,\"\",Basin!N332)","v":""},null,"","","","","","","","","","","","","","","","","","","","","","","","","","","","","","","","","","","","","","","","","","","","","","","","","","","","","","","","","","",""]
[null,{"$f":"IF(Basin_CountA=0,\"\",IF(User_Stage_Area=0,Basin!G333,Basin!H333))","v":""},{"$f":"IF(Basin_CountA=0,\"\",IF(User_Stage_Area=0,Basin!K333,IF(B304=\"\",\"\",Basin!L333)))","v":""},{"$f":"IF(Basin_CountA=0,\"\",Basin!N333)","v":""},null,"","","","","","","","","","","","","","","","","","","","","","","","","","","","","","","","","","","","","","","","","","","","","","","","","","","","","","","","","","",""]
[null,{"$f":"IF(Basin_CountA=0,\"\",IF(User_Stage_Area=0,Basin!G334,Basin!H334))","v":""},{"$f":"IF(Basin_CountA=0,\"\",IF(User_Stage_Area=0,Basin!K334,IF(B305=\"\",\"\",Basin!L334)))","v":""},{"$f":"IF(Basin_CountA=0,\"\",Basin!N334)","v":""},null,"","","","","","","","","","","","","","","","","","","","","","","","","","","","","","","","","","","","","","","","","","","","","","","","","","","","","","","","","","",""]
[null,{"$f":"IF(Basin_CountA=0,\"\",IF(User_Stage_Area=0,Basin!G335,Basin!H335))","v":""},{"$f":"IF(Basin_CountA=0,\"\",IF(User_Stage_Area=0,Basin!K335,IF(B306=\"\",\"\",Basin!L335)))","v":""},{"$f":"IF(Basin_CountA=0,\"\",Basin!N335)","v":""},null,"","","","","","","","","","","","","","","","","","","","","","","","","","","","","","","","","","","","","","","","","","","","","","","","","","","","","","","","","","",""]
[null,{"$f":"IF(Basin_CountA=0,\"\",IF(User_Stage_Area=0,Basin!G336,Basin!H336))","v":""},{"$f":"IF(Basin_CountA=0,\"\",IF(User_Stage_Area=0,Basin!K336,IF(B307=\"\",\"\",Basin!L336)))","v":""},{"$f":"IF(Basin_CountA=0,\"\",Basin!N336)","v":""},null,"","","","","","","","","","","","","","","","","","","","","","","","","","","","","","","","","","","","","","","",{"$f":"IF($B307=\"\",\"\",IF(OR(Zone1_Outlet_Type=4,Zone2_Outlet_Type=4),IF($B307<WQ_Plate_Invert,0,($B307-WQ_Plate_Invert)*AS$86),\"\"))","v":""},"","","","","","","","","","","","","","","","","","",""]
[null,{"$f":"IF(Basin_CountA=0,\"\",IF(User_Stage_Area=0,Basin!G337,Basin!H337))","v":""},{"$f":"IF(Basin_CountA=0,\"\",IF(User_Stage_Area=0,Basin!K337,IF(B308=\"\",\"\",Basin!L337)))","v":""},{"$f":"IF(Basin_CountA=0,\"\",Basin!N337)","v":""},null,"","","","","","","","","","","","","","","","","","","","","","","","","","","","","","","","","","","","","","","","","","","","","","","","","","","","","","","","","","",""]
[null,{"$f":"IF(Basin_CountA=0,\"\",IF(User_Stage_Area=0,Basin!G338,Basin!H338))","v":""},{"$f":"IF(Basin_CountA=0,\"\",IF(User_Stage_Area=0,Basin!K338,IF(B309=\"\",\"\",Basin!L338)))","v":""},{"$f":"IF(Basin_CountA=0,\"\",Basin!N338)","v":""},null,"","","","","","","","","","","","","","","","","","","","","","","","","","","","","","","","","","","","","","","","","","","","","","","","","","","","","","","","","","",""]
[null,{"$f":"IF(Basin_CountA=0,\"\",IF(User_Stage_Area=0,Basin!G339,Basin!H339))","v":""},{"$f":"IF(Basin_CountA=0,\"\",IF(User_Stage_Area=0,Basin!K339,IF(B310=\"\",\"\",Basin!L339)))","v":""},{"$f":"IF(Basin_CountA=0,\"\",Basin!N339)","v":""},null,"","","","","","","","","","","","","","","","","","","","","","","","","","","","","","","","","","","","","","","","","","","","","","","","","","","","","","","","","","",""]
[null,{"$f":"IF(Basin_CountA=0,\"\",IF(User_Stage_Area=0,Basin!G340,Basin!H340))","v":""},{"$f":"IF(Basin_CountA=0,\"\",IF(User_Stage_Area=0,Basin!K340,IF(B311=\"\",\"\",Basin!L340)))","v":""},{"$f":"IF(Basin_CountA=0,\"\",Basin!N340)","v":""},null,"","","","","","","","","","","","","","","","","","","","","","","","","","","","","","","","","","","","","","","","","","","","","","","","","","","","","","","","","","",""]
[null,{"$f":"IF(Basin_CountA=0,\"\",IF(User_Stage_Area=0,Basin!G341,Basin!H341))","v":""},{"$f":"IF(Basin_CountA=0,\"\",IF(User_Stage_Area=0,Basin!K341,IF(B312=\"\",\"\",Basin!L341)))","v":""},{"$f":"IF(Basin_CountA=0,\"\",Basin!N341)","v":""},null,"","","","","","","","","","","","","","","","","","","","","","","","","","","","","","","","","","","","","","","","","","","","","","","","","","","","","","","","","","",""]
[null,{"$f":"IF(Basin_CountA=0,\"\",IF(User_Stage_Area=0,Basin!G342,Basin!H342))","v":""},{"$f":"IF(Basin_CountA=0,\"\",IF(User_Stage_Area=0,Basin!K342,IF(B313=\"\",\"\",Basin!L342)))","v":""},{"$f":"IF(Basin_CountA=0,\"\",Basin!N342)","v":""},null,"","","","","","","","","","","","","","","","","","","","","","","","","","","","","","","","","","","","","","","","","","","","","","","","","","","","","","","","","","",""]
[null,{"$f":"IF(Basin_CountA=0,\"\",IF(User_Stage_Area=0,Basin!G343,Basin!H343))","v":""},{"$f":"IF(Basin_CountA=0,\"\",IF(User_Stage_Area=0,Basin!K343,IF(B314=\"\",\"\",Basin!L343)))","v":""},{"$f":"IF(Basin_CountA=0,\"\",Basin!N343)","v":""},null,"","","","","","","","","","","","","","","","","","","","","","","","","","","","","","","","","","","","","","","","","","","","","","","","","","","","","","","","","","",""]
[null,{"$f":"IF(Basin_CountA=0,\"\",IF(User_Stage_Area=0,Basin!G344,Basin!H344))","v":""},{"$f":"IF(Basin_CountA=0,\"\",IF(User_Stage_Area=0,Basin!K344,IF(B315=\"\",\"\",Basin!L344)))","v":""},{"$f":"IF(Basin_CountA=0,\"\",Basin!N344)","v":""},null,"","","","","","","","","","","","","","","","","","","","","","","","","","","","","","","","","","","","","","","","","","","","","","","","","","","","","","","","","","",""]
[null,{"$f":"IF(Basin_CountA=0,\"\",IF(User_Stage_Area=0,Basin!G345,Basin!H345))","v":""},{"$f":"IF(Basin_CountA=0,\"\",IF(User_Stage_Area=0,Basin!K345,IF(B316=\"\",\"\",Basin!L345)))","v":""},{"$f":"IF(Basin_CountA=0,\"\",Basin!N345)","v":""},null,"","","","","","","","","","","","","","","","","","","","","","","","","","","","","","","","","","","","","","","","","","","","","","","","","","","","","","","","","","",""]
[null,{"$f":"IF(Basin_CountA=0,\"\",IF(User_Stage_Area=0,Basin!G346,Basin!H346))","v":""},{"$f":"IF(Basin_CountA=0,\"\",IF(User_Stage_Area=0,Basin!K346,IF(B317=\"\",\"\",Basin!L346)))","v":""},{"$f":"IF(Basin_CountA=0,\"\",Basin!N346)","v":""},null,"","","","","","","","","","","","","","","","","","","","","","","","","","","","","","","","","","","","","","","","","","","","","","","","","","","","","","","","","","",""]
[null,{"$f":"IF(Basin_CountA=0,\"\",IF(User_Stage_Area=0,Basin!G347,Basin!H347))","v":""},{"$f":"IF(Basin_CountA=0,\"\",IF(User_Stage_Area=0,Basin!K347,IF(B318=\"\",\"\",Basin!L347)))","v":""},{"$f":"IF(Basin_CountA=0,\"\",Basin!N347)","v":""},null,"","","","","","","","","","","","","","","","","","","","","","","","","","","","","","","","","","","","","","","","","","","","","","","","","","","","","","","","","","",""]
[null,{"$f":"IF(Basin_CountA=0,\"\",IF(User_Stage_Area=0,Basin!G348,Basin!H348))","v":""},{"$f":"IF(Basin_CountA=0,\"\",IF(User_Stage_Area=0,Basin!K348,IF(B319=\"\",\"\",Basin!L348)))","v":""},{"$f":"IF(Basin_CountA=0,\"\",Basin!N348)","v":""},null,"","","","","","","","","","","","","","","","","","","","","","","","","","","","","","","","","","","","","","","","","","","","","","","","","","","","","","","","","","",""]
[null,{"$f":"IF(Basin_CountA=0,\"\",IF(User_Stage_Area=0,Basin!G349,Basin!H349))","v":""},{"$f":"IF(Basin_CountA=0,\"\",IF(User_Stage_Area=0,Basin!K349,IF(B320=\"\",\"\",Basin!L349)))","v":""},{"$f":"IF(Basin_CountA=0,\"\",Basin!N349)","v":""},null,"","","","","","","","","","","","","","","","","","","","","","","","","","","","","","","","","","","","","","","","","","","","","","","","","","","","","","","","","","",""]
[null,{"$f":"IF(Basin_CountA=0,\"\",IF(User_Stage_Area=0,Basin!G350,Basin!H350))","v":""},{"$f":"IF(Basin_CountA=0,\"\",IF(User_Stage_Area=0,Basin!K350,IF(B321=\"\",\"\",Basin!L350)))","v":""},{"$f":"IF(Basin_CountA=0,\"\",Basin!N350)","v":""},null,"","","","","","","","","","","","","","","","","","","","","","","","","","","","","","","","","","","","","","","","","","","","","","","","","","","","","","","","","","",""]
[null,{"$f":"IF(Basin_CountA=0,\"\",IF(User_Stage_Area=0,Basin!G351,Basin!H351))","v":""},{"$f":"IF(Basin_CountA=0,\"\",IF(User_Stage_Area=0,Basin!K351,IF(B322=\"\",\"\",Basin!L351)))","v":""},{"$f":"IF(Basin_CountA=0,\"\",Basin!N351)","v":""},null,"","","","","","","","","","","","","","","","","","","","","","","","","","","","","","","","","","","","","","","","","","","","","","","","","","","","","","","","","","",""]
[null,{"$f":"IF(Basin_CountA=0,\"\",IF(User_Stage_Area=0,Basin!G352,Basin!H352))","v":""},{"$f":"IF(Basin_CountA=0,\"\",IF(User_Stage_Area=0,Basin!K352,IF(B323=\"\",\"\",Basin!L352)))","v":""},{"$f":"IF(Basin_CountA=0,\"\",Basin!N352)","v":""},null,"","","","","","","","","","","","","","","","","","","","","","","","","","","","","","","","","","","","","","","","","","","","","","","","","","","","","","","","","","",""]
[null,{"$f":"IF(Basin_CountA=0,\"\",IF(User_Stage_Area=0,Basin!G353,Basin!H353))","v":""},{"$f":"IF(Basin_CountA=0,\"\",IF(User_Stage_Area=0,Basin!K353,IF(B324=\"\",\"\",Basin!L353)))","v":""},{"$f":"IF(Basin_CountA=0,\"\",Basin!N353)","v":""},null,"","","","","","","","","","","","","","","","","","","","","","","","","","","","","","","","","","","","","","","","","","","","","","","","","","","","","","","","","","",""]
[null,{"$f":"IF(Basin_CountA=0,\"\",IF(User_Stage_Area=0,Basin!G354,Basin!H354))","v":""},{"$f":"IF(Basin_CountA=0,\"\",IF(User_Stage_Area=0,Basin!K354,IF(B325=\"\",\"\",Basin!L354)))","v":""},{"$f":"IF(Basin_CountA=0,\"\",Basin!N354)","v":""},null,"","","","","","","","","","","","","","","","","","","","","","","","","","","","","","","","","","","","","","","","","","","","","","","","","","","","","","","","","","",""]
[null,{"$f":"IF(Basin_CountA=0,\"\",IF(User_Stage_Area=0,Basin!G355,Basin!H355))","v":""},{"$f":"IF(Basin_CountA=0,\"\",IF(User_Stage_Area=0,Basin!K355,IF(B326=\"\",\"\",Basin!L355)))","v":""},{"$f":"IF(Basin_CountA=0,\"\",Basin!N355)","v":""},null,"","","","","","","","","","","","","","","","","","","","","","","","","","","","","","","","","","","","","","","","","","","","","","","","","","","","","","","","","","",""]
[null,{"$f":"IF(Basin_CountA=0,\"\",IF(User_Stage_Area=0,Basin!G356,Basin!H356))","v":""},{"$f":"IF(Basin_CountA=0,\"\",IF(User_Stage_Area=0,Basin!K356,IF(B327=\"\",\"\",Basin!L356)))","v":""},{"$f":"IF(Basin_CountA=0,\"\",Basin!N356)","v":""},null,"","","","","","","","","","","","","","","","","","","","","","","","","","","","","","","","","","","","","","","",{"$f":"IF($B327=\"\",\"\",IF(OR(Zone1_Outlet_Type=4,Zone2_Outlet_Type=4),IF($B327<WQ_Plate_Invert,0,($B327-WQ_Plate_Invert)*AS$86),\"\"))","v":""},"","","","","","","","","","","","","","","","","","",""]
[null,{"$f":"IF(Basin_CountA=0,\"\",IF(User_Stage_Area=0,Basin!G357,Basin!H357))","v":""},{"$f":"IF(Basin_CountA=0,\"\",IF(User_Stage_Area=0,Basin!K357,IF(B328=\"\",\"\",Basin!L357)))","v":""},{"$f":"IF(Basin_CountA=0,\"\",Basin!N357)","v":""},null,"","","","","","","","","","","","","","","","","","","","","","","","","","","","","","","","","","","","","","","","","","","","","","","","","","","","","","","","","","",""]
[null,{"$f":"IF(Basin_CountA=0,\"\",IF(User_Stage_Area=0,Basin!G358,Basin!H358))","v":""},{"$f":"IF(Basin_CountA=0,\"\",IF(User_Stage_Area=0,Basin!K358,IF(B329=\"\",\"\",Basin!L358)))","v":""},{"$f":"IF(Basin_CountA=0,\"\",Basin!N358)","v":""},null,"","","","","","","","","","","","","","","","","","","","","","","","","","","","","","","","","","","","","","","","","","","","","","","","","","","","","","","","","","",""]
[null,{"$f":"IF(Basin_CountA=0,\"\",IF(User_Stage_Area=0,Basin!G359,Basin!H359))","v":""},{"$f":"IF(Basin_CountA=0,\"\",IF(User_Stage_Area=0,Basin!K359,IF(B330=\"\",\"\",Basin!L359)))","v":""},{"$f":"IF(Basin_CountA=0,\"\",Basin!N359)","v":""},null,"","","","","","","","","","","","","","","","","","","","","","","","","","","","","","","","","","","","","","","","","","","","","","","","","","","","","","","","","","",""]
[null,{"$f":"IF(Basin_CountA=0,\"\",IF(User_Stage_Area=0,Basin!G360,Basin!H360))","v":""},{"$f":"IF(Basin_CountA=0,\"\",IF(User_Stage_Area=0,Basin!K360,IF(B331=\"\",\"\",Basin!L360)))","v":""},{"$f":"IF(Basin_CountA=0,\"\",Basin!N360)","v":""},null,"","","","","","","","","","","","","","","","","","","","","","","","","","","","","","","","","","","","","","","","","","","","","","","","","","","","","","","","","","",""]
[null,{"$f":"IF(Basin_CountA=0,\"\",IF(User_Stage_Area=0,Basin!G361,Basin!H361))","v":""},{"$f":"IF(Basin_CountA=0,\"\",IF(User_Stage_Area=0,Basin!K361,IF(B332=\"\",\"\",Basin!L361)))","v":""},{"$f":"IF(Basin_CountA=0,\"\",Basin!N361)","v":""},null,"","","","","","","","","","","","","","","","","","","","","","","","","","","","","","","","","","","","","","","","","","","","","","","","","","","","","","","","","","",""]
[null,{"$f":"IF(Basin_CountA=0,\"\",IF(User_Stage_Area=0,Basin!G362,Basin!H362))","v":""},{"$f":"IF(Basin_CountA=0,\"\",IF(User_Stage_Area=0,Basin!K362,IF(B333=\"\",\"\",Basin!L362)))","v":""},{"$f":"IF(Basin_CountA=0,\"\",Basin!N362)","v":""},null,"","","","","","","","","","","","","","","","","","","","","","","","","","","","","","","","","","","","","","","","","","","","","","","","","","","","","","","","","","",""]
[null,{"$f":"IF(Basin_CountA=0,\"\",IF(User_Stage_Area=0,Basin!G363,Basin!H363))","v":""},{"$f":"IF(Basin_CountA=0,\"\",IF(User_Stage_Area=0,Basin!K363,IF(B334=\"\",\"\",Basin!L363)))","v":""},{"$f":"IF(Basin_CountA=0,\"\",Basin!N363)","v":""},null,"","","","","","","","","","","","","","","","","","","","","","","","","","","","","","","","","","","","","","","","","","","","","","","","","","","","","","","","","","",""]
[null,{"$f":"IF(Basin_CountA=0,\"\",IF(User_Stage_Area=0,Basin!G364,Basin!H364))","v":""},{"$f":"IF(Basin_CountA=0,\"\",IF(User_Stage_Area=0,Basin!K364,IF(B335=\"\",\"\",Basin!L364)))","v":""},{"$f":"IF(Basin_CountA=0,\"\",Basin!N364)","v":""},null,"","","","","","","","","","","","","","","","","","","","","","","","","","","","","","","","","","","","","","","","","","","","","","","","","","","","","","","","","","",""]
[null,{"$f":"IF(Basin_CountA=0,\"\",IF(User_Stage_Area=0,Basin!G365,Basin!H365))","v":""},{"$f":"IF(Basin_CountA=0,\"\",IF(User_Stage_Area=0,Basin!K365,IF(B336=\"\",\"\",Basin!L365)))","v":""},{"$f":"IF(Basin_CountA=0,\"\",Basin!N365)","v":""},null,"","","","","","","","","","","","","","","","","","","","","","","","","","","","","","","","","","","","","","","","","","","","","","","","","","","","","","","","","","",""]
[null,{"$f":"IF(Basin_CountA=0,\"\",IF(User_Stage_Area=0,Basin!G366,Basin!H366))","v":""},{"$f":"IF(Basin_CountA=0,\"\",IF(User_Stage_Area=0,Basin!K366,IF(B337=\"\",\"\",Basin!L366)))","v":""},{"$f":"IF(Basin_CountA=0,\"\",Basin!N366)","v":""},null,"","","","","","","","","","","","","","","","","","","","","","","","","","","","","","","","","","","","","","","","","","","","","","","","","","","","","","","","","","",""]
[null,{"$f":"IF(Basin_CountA=0,\"\",IF(User_Stage_Area=0,Basin!G367,Basin!H367))","v":""},{"$f":"IF(Basin_CountA=0,\"\",IF(User_Stage_Area=0,Basin!K367,IF(B338=\"\",\"\",Basin!L367)))","v":""},{"$f":"IF(Basin_CountA=0,\"\",Basin!N367)","v":""},null,"","","","","","","","","","","","","","","","","","","","","","","","","","","","","","","","","","","","","","","","","","","","","","","","","","","","","","","","","","",""]
[null,{"$f":"IF(Basin_CountA=0,\"\",IF(User_Stage_Area=0,Basin!G368,Basin!H368))","v":""},{"$f":"IF(Basin_CountA=0,\"\",IF(User_Stage_Area=0,Basin!K368,IF(B339=\"\",\"\",Basin!L368)))","v":""},{"$f":"IF(Basin_CountA=0,\"\",Basin!N368)","v":""},null,"","","","","","","","","","","","","","","","","","","","","","","","","","","","","","","","","","","","","","","","","","","","","","","","","","","","","","","","","","",""]
[null,{"$f":"IF(Basin_CountA=0,\"\",IF(User_Stage_Area=0,Basin!G369,Basin!H369))","v":""},{"$f":"IF(Basin_CountA=0,\"\",IF(User_Stage_Area=0,Basin!K369,IF(B340=\"\",\"\",Basin!L369)))","v":""},{"$f":"IF(Basin_CountA=0,\"\",Basin!N369)","v":""},null,"","","","","","","","","","","","","","","","","","","","","","","","","","","","","","","","","","","","","","","","","","","","","","","","","","","","","","","","","","",""]
[null,{"$f":"IF(Basin_CountA=0,\"\",IF(User_Stage_Area=0,Basin!G370,Basin!H370))","v":""},{"$f":"IF(Basin_CountA=0,\"\",IF(User_Stage_Area=0,Basin!K370,IF(B341=\"\",\"\",Basin!L370)))","v":""},{"$f":"IF(Basin_CountA=0,\"\",Basin!N370)","v":""},null,"","","","","","","","","","","","","","","","","","","","","","","","","","","","","","","","","","","","","","","","","","","","","","","","","","","","","","","","","","",""]
[null,{"$f":"IF(Basin_CountA=0,\"\",IF(User_Stage_Area=0,Basin!G371,Basin!H371))","v":""},{"$f":"IF(Basin_CountA=0,\"\",IF(User_Stage_Area=0,Basin!K371,IF(B342=\"\",\"\",Basin!L371)))","v":""},{"$f":"IF(Basin_CountA=0,\"\",Basin!N371)","v":""},null,"","","","","","","","","","","","","","","","","","","","","","","","","","","","","","","","","","","","","","","","","","","","","","","","","","","","","","","","","","",""]
[null,{"$f":"IF(Basin_CountA=0,\"\",IF(User_Stage_Area=0,Basin!G372,Basin!H372))","v":""},{"$f":"IF(Basin_CountA=0,\"\",IF(User_Stage_Area=0,Basin!K372,IF(B343=\"\",\"\",Basin!L372)))","v":""},{"$f":"IF(Basin_CountA=0,\"\",Basin!N372)","v":""},null,{"$f":"IF(B343=\"\",\"\",IF(D343=\"\",\"\",2*D343))","v":""},{"$f":"IF(B343=\"\",\"\",\nIF(OR(Underdrain_Invert=\"\",Underdrain_Invert=\"N/A\",Underdrain_Diameter=\"\",Underdrain_Diameter=\"N/A\"),0,\nIF(B343+Underdrain_Invert<=Underdrain_Orifice_Centroid,0,IF(B343=0,0,0.6*Underdrain_Orifice_Area*(64.4*(B343+Underdrain_Invert-Underdrain_Orifice_Centroid))^0.5))))","v":""},{"$f":"IF(B343=\"\",\"\",\nIF(OR(WQ_Plate_Invert=\"\",WQ_Plate_Invert=\"N/A\",Required_Depth=\"\",Required_Depth=\"N/A\",Ao_OC_or_ESLOT_H=\"\",Ao_or_ESLOT_W=\"\"),0,\nIF(ESLOT_RATIO=\"\",AR343,IF(ESLOT_RATIO<>\"\",BC343,0))))","v":""},{"$f":"IF(B343=\"\",\"\",IF(Vertical_Orifice1_Boolean=0,0,\nIF(B343<=Orifice1_Invert,0,\nIF(B343<Orifice1_Invert+Orifice1_Height/12,\n(0.6*Vertical_Orifice1_Area*(64.4*Vertical_Orifice1_Centroid)^0.5)*((B343-Orifice1_Invert)/(Orifice1_Height/12))^1.81,\n0.6*Vertical_Orifice1_Area*(64.4*(B343-Orifice1_Invert-Vertical_Orifice1_Centroid))^0.5))))","v":""},{"$f":"IF(B343=\"\",\"\",IF(Vertical_Orifice2_Boolean=0,0,\nIF(B343<=Orifice2_Invert,0,\nIF(B343<Orifice2_Invert+Orifice2_Height/12,\n(0.6*Vertical_Orifice2_Area*(64.4*Vertical_Orifice2_Centroid)^0.5)*((B343-Orifice2_Invert)/(Orifice2_Height/12))^1.81,\n0.6*Vertical_Orifice2_Area*(64.4*(B343-Orifice2_Invert-Vertical_Orifice2_Centroid))^0.5))))","v":""},{"$f":"IF(B343=\"\",\"\",IF(Overflow_Weir1_Boolean=0,0,IF((B343-Weir1_Ho)<=0,0,\n\nIF(OR(Weir1_horiz_length_of_grate=0,Weir1_horiz_length_of_grate=\"N/A\"),\nCd_BCW*Weir1_W*(B343-Weir1_Ho)^1.5+(0.8*Cd_BCW)*Weir1_Grate_Slope*(B343-Weir1_Ho)^2.5,\n\nIF(Angle1=0,\n2*(2/3*CLOG1*n_Cdw_1*(64.4^0.5)*Weir1_horiz_length_of_grate*(B343-Weir1_Ho)^1.5)+2*(2/3*CLOG1*n_Cdw_1*(64.4^0.5)*Weir1_W*(B343-Weir1_Ho)^1.5),\n\nIF((B343-Weir1_Ho)<(Ht_1-Weir1_Ho),\n2*(4/15*CLOG1*n_Cdw_1*(64.4^0.5)*(COS(Angle1)/SIN(Angle1))*(B343-Weir1_Ho)^2.5)+(2/3*CLOG1*n_Cdw_1*(64.4^0.5)*Weir1_W*(B343-Weir1_Ho)^1.5),\n\n2*(4/15*CLOG1*n_Cdw_1*(64.4^0.5)*Weir1_horiz_length_of_grate*COS(Angle1)*(B343-Weir1_Ho)^1.5*((B343-Weir1_Ho)^2.5/(B343-Weir1_Ho)^1.5/(Ht_1-Weir1_Ho)-((B343-Weir1_Ho)-(Ht_1-Weir1_Ho))^2.5/(B343-Weir1_Ho)^1.5/(Ht_1-Weir1_Ho))) +(2/3*CLOG1*n_Cdw_1*(64.4^0.5)*Weir1_W*(B343-Weir1_Ho)^1.5)))))))","v":""},{"$f":"IF(B343=\"\",\"\",IF(Overflow_Weir1_Boolean=0,0,IF((B343-Weir1_Ho)<=0,0,IF(OR(Weir1_horiz_length_of_grate=0,Weir1_horiz_length_of_grate=\"N/A\"),0,\n\nIF(Angle1=0,\n(2/3*CLOG1*n_Cdo_1*Weir1_W*Weir1_horiz_length_of_grate*(64.4*(B343-Weir1_Ho))^0.5),\n\nIF((B343-Weir1_Ho)<(Ht_1-Weir1_Ho),\n(2/3*CLOG1*n_Cdo_1*Weir1_W*(B343-Weir1_Ho)*(COS(Angle1)/SIN(Angle1))*(64.4*(B343-Weir1_Ho))^0.5),\n\n(2/3*CLOG1*n_Cdo_1*Weir1_W*Weir1_horiz_length_of_grate*COS(Angle1)*(64.4*(B343-Weir1_Ho))^0.5*((B343-Weir1_Ho)^1.5/(Ht_1-Weir1_Ho)/(B343-Weir1_Ho)^0.5-((B343-Weir1_Ho)-(Ht_1-Weir1_Ho))^1.5/(B343-Weir1_Ho)^0.5/(Ht_1-Weir1_Ho)))))))))","v":""},"",{"$f":"IF(B343=\"\",\"\",IF(OR(Weir1_horiz_length_of_grate=0,Weir1_horiz_length_of_grate=\"N/A\"),K343,MIN(K343,L343,M343)))","v":""},{"$f":"IF(B343=\"\",\"\",IF(Overflow_Weir2_Boolean=0,0,IF((B343-Weir2_Ho)<=0,0,\n\nIF(OR(Weir2_horiz_length_of_grate=0,Weir2_horiz_length_of_grate=\"N/A\"),\nIF(AND(Weir1_horiz_length_of_grate=\"N/A\",Weir2_Position=\"Overlapping\"),\nIF((Cd_BCW*Weir2_W*(B343-Weir2_Ho)^1.5+(0.8*Cd_BCW)*Weir2_Grate_Slope*(B343-Weir2_Ho)^2.5)-(Cd_BCW*(Weir1_W+2*(Weir2_Ho-Weir1_Ho)*Weir1_Grate_Slope)*(B343-Weir2_Ho)^1.5+(0.8*Cd_BCW)*Weir1_Grate_Slope*(B343-Weir2_Ho)^2.5)<0,0,\n(Cd_BCW*Weir2_W*(B343-Weir2_Ho)^1.5+(0.8*Cd_BCW)*Weir2_Grate_Slope*(B343-Weir2_Ho)^2.5)-(Cd_BCW*(Weir1_W+2*(Weir2_Ho-Weir1_Ho)*Weir1_Grate_Slope)*(B343-Weir2_Ho)^1.5+(0.8*Cd_BCW)*Weir1_Grate_Slope*(B343-Weir2_Ho)^2.5)),\nCd_BCW*Weir2_W*(B343-Weir2_Ho)^1.5+(0.8*Cd_BCW)*Weir2_Grate_Slope*(B343-Weir2_Ho)^2.5),\n\nIF(Angle2=0,\n2*(2/3*CLOG2*n_Cdw_2*(64.4^0.5)*Weir2_horiz_length_of_grate*(B343-Weir2_Ho)^1.5)+2*(2/3*CLOG2*n_Cdw_2*(64.4^0.5)*Weir2_W*(B343-Weir2_Ho)^1.5),\n\nIF((B343-Weir2_Ho)<(Ht_2-Weir2_Ho),\n2*(4/15*CLOG2*n_Cdw_2*(64.4^0.5)*(COS(Angle2)/SIN(Angle2))*(B343-Weir2_Ho)^2.5)+(2/3*CLOG2*n_Cdw_2*(64.4^0.5)*Weir2_W*(B343-Weir2_Ho)^1.5),\n\n2*(4/15*CLOG2*n_Cdw_2*(64.4^0.5)*Weir2_horiz_length_of_grate*COS(Angle2)*(B343-Weir2_Ho)^1.5*((B343-Weir2_Ho)^2.5/(B343-Weir2_Ho)^1.5/(Ht_2-Weir2_Ho)-((B343-Weir2_Ho)-(Ht_2-Weir2_Ho))^2.5/(B343-Weir2_Ho)^1.5/(Ht_2-Weir2_Ho))) +(2/3*CLOG2*n_Cdw_2*(64.4^0.5)*Weir2_W*(B343-Weir2_Ho)^1.5)))))))","v":""},{"$f":"IF(B343=\"\",\"\",IF(Overflow_Weir2_Boolean=0,0,IF((B343-Weir2_Ho)<=0,0,IF(OR(Weir2_horiz_length_of_grate=0,Weir2_horiz_length_of_grate=\"N/A\"),0,\n\nIF(Angle2=0,\n(2/3*CLOG2*n_Cdo_2*Weir2_W*Weir2_horiz_length_of_grate*(64.4*(B343-Weir2_Ho))^0.5),\n\nIF((B343-Weir2_Ho)<(Ht_2-Weir2_Ho),\n(2/3*CLOG2*n_Cdo_2*Weir2_W*(B343-Weir2_Ho)*(COS(Angle2)/SIN(Angle2))*(64.4*(B343-Weir2_Ho))^0.5),\n\n(2/3*CLOG2*n_Cdo_2*Weir2_W*Weir2_horiz_length_of_grate*COS(Angle2)*(64.4*(B343-Weir2_Ho))^0.5*((B343-Weir2_Ho)^1.5/(Ht_2-Weir2_Ho)/(B343-Weir2_Ho)^0.5-((B343-Weir2_Ho)-(Ht_2-Weir2_Ho))^1.5/(B343-Weir2_Ho)^0.5/(Ht_2-Weir2_Ho)))))))))","v":""},"",{"$f":"IF(B343=\"\",\"\",IF(OR(Weir2_horiz_length_of_grate=0,Weir2_horiz_length_of_grate=\"N/A\"),O343,MIN(O343,P343,Q343)))","v":""},{"$f":"IF(B343=\"\",\"\",\nIF(Outlet_Pipe1_Boolean=0,0,\nIF(B343+Outlet1_Orifice_Invert<2*Outlet1_Orifice_Centroid,\nIF((0.6*Outlet1_Orifice_Area*(64.4*Outlet1_Orifice_Centroid)^0.5)*((B343+Outlet1_Orifice_Invert)/(2*Outlet1_Orifice_Centroid))^1.81<H343,H343,\n(0.6*Outlet1_Orifice_Area*(64.4*Outlet1_Orifice_Centroid)^0.5)*((B343+Outlet1_Orifice_Invert)/(2*Outlet1_Orifice_Centroid))^1.81),\n0.6*Outlet1_Orifice_Area*(64.4*(B343+Outlet1_Orifice_Invert-Outlet1_Orifice_Centroid))^0.5)))","v":""},{"$f":"IF(B343=\"\",\"\",IF(Outlet_Pipe1_Boolean=0,0,\nIF(Outlet_Pipe1_Rank=3,MIN(S343,G343+H343+I343+J343+N343),\nIF(Outlet_Pipe1_Rank=2,IF(Vertical_Orifice1_Rank=1,MIN(S343,G343+H343+I343+N343),MIN(S343,G343+H343+J343+N343)),\nIF(Outlet_Pipe1_Rank=1,MIN(S343,G343+H343+N343),\nMIN(S343,G343+H343+I343+J343))))))","v":""},{"$f":"IF(B343=\"\",\"\",\nIF(Outlet_Pipe2_Boolean=0,0,\nIF(B343+Outlet2_Orifice_Invert<2*Outlet2_Orifice_Centroid,\nIF((0.6*Outlet2_Orifice_Area*(64.4*Outlet2_Orifice_Centroid)^0.5)*((B343+Outlet2_Orifice_Invert)/(2*Outlet2_Orifice_Centroid))^1.81<H343,H343,\n(0.6*Outlet2_Orifice_Area*(64.4*Outlet2_Orifice_Centroid)^0.5)*((B343+Outlet2_Orifice_Invert)/(2*Outlet2_Orifice_Centroid))^1.81),\n0.6*Outlet2_Orifice_Area*(64.4*(B343+Outlet2_Orifice_Invert-Outlet2_Orifice_Centroid))^0.5)))","v":""},{"$f":"IF(B343=\"\",\"\",IF(OR(Outlet_Pipe1_Boolean=0,Outlet_Pipe2_Boolean=0),0,\nIF(Outlet_Pipe2_Rank=4,\nIF(Outlet_Pipe1_Rank=3,MIN(U343,R343+T343),\nIF(AND(Outlet_Pipe1_Rank=2,Vertical_Orifice2_Rank=3),MIN(U343,J343+R343+T343),\nIF(AND(Outlet_Pipe1_Rank=2,Vertical_Orifice1_Rank=3),MIN(U343,I343+R343+T343),MIN(U343,I343+J343+R343+T343)))),\n\nIF(Outlet_Pipe2_Rank=3,\nIF(Outlet_Pipe1_Rank=2,MIN(U343,R343+T343),\nIF(Vertical_Orifice2_Rank=2,MIN(U343,J343+R343+T343),MIN(U343,I343+R343+T343))),\n\nMIN(U343,R343+T343)))))","v":""},{"$f":"IF(B343=\"\",\"\",\nIF(OR(Spillway_Invert=\"\",Spillway_Length=\"\",Spillway_Side_Slopes=\"\",Freeboard_above_Spillway=\"\",B343<=Spillway_Invert),0,\n\nIF(OR(Spillway_Position=\"\",Spillway_Position=\"Offset\"),\n(Cd_BCW*Spillway_Length*(B343-Spillway_Invert)^1.5)+((0.8*Cd_BCW)*Spillway_Side_Slopes*(B343-Spillway_Invert)^2.5),\n\nIF(AND(Weir2_Ho<>\"N/A\",Weir2_horiz_length_of_grate=\"N/A\"),\nIF((Cd_BCW*Spillway_Length*(B343-Spillway_Invert)^1.5)+((0.8*Cd_BCW)*Spillway_Side_Slopes*(B343-Spillway_Invert)^2.5)-(Cd_BCW*(Weir2_W+2*(Spillway_Invert-Weir2_Ho)*Weir2_Grate_Slope)*(B343-Spillway_Invert)^1.5)+((0.8*Cd_BCW)*Weir2_Grate_Slope*(B343-Spillway_Invert)^2.5)<0,0,\n(Cd_BCW*Spillway_Length*(B343-Spillway_Invert)^1.5)+((0.8*Cd_BCW)*Spillway_Side_Slopes*(B343-Spillway_Invert)^2.5)-(Cd_BCW*(Weir2_W+2*(Spillway_Invert-Weir2_Ho)*Weir2_Grate_Slope)*(B343-Spillway_Invert)^1.5)+((0.8*Cd_BCW)*Weir2_Grate_Slope*(B343-Spillway_Invert)^2.5)),\n\nIF((Cd_BCW*Spillway_Length*(B343-Spillway_Invert)^1.5)+((0.8*Cd_BCW)*Spillway_Side_Slopes*(B343-Spillway_Invert)^2.5)-(Cd_BCW*(Weir1_W+2*(Spillway_Invert-Weir1_Ho)*Weir1_Grate_Slope)*(B343-Spillway_Invert)^1.5)+((0.8*Cd_BCW)*Weir1_Grate_Slope*(B343-Spillway_Invert)^2.5)<0,0,\n(Cd_BCW*Spillway_Length*(B343-Spillway_Invert)^1.5)+((0.8*Cd_BCW)*Spillway_Side_Slopes*(B343-Spillway_Invert)^2.5)-(Cd_BCW*(Weir1_W+2*(Spillway_Invert-Weir1_Ho)*Weir1_Grate_Slope)*(B343-Spillway_Invert)^1.5)+((0.8*Cd_BCW)*Weir1_Grate_Slope*(B343-Spillway_Invert)^2.5))))))","v":""},"",{"$f":"IF(B343=\"\",\"\",IF(X343=\"\",\"\",IF(D343=\"\",\"\",X343*$C$3089*60+F343)))","v":""},"","",{"$f":"IF($B343=\"\",\"\",IF(OR(Row1_Stage=\"\",Row1_Stage=\"N/A\"),0,IF($B343<=Row1_Stage,0,0.6*(Row1_Area/144)*(64.4*($B343-Row1_Stage))^0.5)))","v":""},{"$f":"IF($B343=\"\",\"\",IF(OR(Row2_Stage=\"\",Row2_Stage=\"N/A\"),0,IF($B343<=Row2_Stage,0,0.6*(Row2_Area/144)*(64.4*($B343-Row2_Stage))^0.5)))","v":""},{"$f":"IF($B343=\"\",\"\",IF(OR(Row3_Stage=\"\",Row3_Stage=\"N/A\"),0,IF($B343<=Row3_Stage,0,0.6*(Row3_Area/144)*(64.4*($B343-Row3_Stage))^0.5)))","v":""},{"$f":"IF($B343=\"\",\"\",IF(OR(Row4_Stage=\"\",Row4_Stage=\"N/A\"),0,IF($B343<=Row4_Stage,0,0.6*(Row4_Area/144)*(64.4*($B343-Row4_Stage))^0.5)))","v":""},{"$f":"IF($B343=\"\",\"\",IF(OR(Row5_Stage=\"\",Row5_Stage=\"N/A\"),0,IF($B343<=Row5_Stage,0,0.6*(Row5_Area/144)*(64.4*($B343-Row5_Stage))^0.5)))","v":""},{"$f":"IF($B343=\"\",\"\",IF(OR(Row6_Stage=\"\",Row6_Stage=\"N/A\"),0,IF($B343<=Row6_Stage,0,0.6*(Row6_Area/144)*(64.4*($B343-Row6_Stage))^0.5)))","v":""},{"$f":"IF($B343=\"\",\"\",IF(OR(Row7_Stage=\"\",Row7_Stage=\"N/A\"),0,IF($B343<=Row7_Stage,0,0.6*(Row7_Area/144)*(64.4*($B343-Row7_Stage))^0.5)))","v":""},{"$f":"IF($B343=\"\",\"\",IF(OR(Row8_Stage=\"\",Row8_Stage=\"N/A\"),0,IF($B343<=Row8_Stage,0,0.6*(Row8_Area/144)*(64.4*($B343-Row8_Stage))^0.5)))","v":""},{"$f":"IF($B343=\"\",\"\",IF(OR(Row9_Stage=\"\",Row9_Stage=\"N/A\"),0,IF($B343<=Row9_Stage,0,0.6*(Row9_Area/144)*(64.4*($B343-Row9_Stage))^0.5)))","v":""},{"$f":"IF($B343=\"\",\"\",IF(OR(Row10_Stage=\"\",Row10_Stage=\"N/A\"),0,IF($B343<=Row10_Stage,0,0.6*(Row10_Area/144)*(64.4*($B343-Row10_Stage))^0.5)))","v":""},{"$f":"IF($B343=\"\",\"\",IF(OR(Row11_Stage=\"\",Row11_Stage=\"N/A\"),0,IF($B343<=Row11_Stage,0,0.6*(Row11_Area/144)*(64.4*($B343-Row11_Stage))^0.5)))","v":""},{"$f":"IF($B343=\"\",\"\",IF(OR(Row12_Stage=\"\",Row12_Stage=\"N/A\"),0,IF($B343<=Row12_Stage,0,0.6*(Row12_Area/144)*(64.4*($B343-Row12_Stage))^0.5)))","v":""},{"$f":"IF($B343=\"\",\"\",IF(OR(Row13_Stage=\"\",Row13_Stage=\"N/A\"),0,IF($B343<=Row13_Stage,0,0.6*(Row13_Area/144)*(64.4*($B343-Row13_Stage))^0.5)))","v":""},{"$f":"IF($B343=\"\",\"\",IF(OR(Row14_Stage=\"\",Row14_Stage=\"N/A\"),0,IF($B343<=Row14_Stage,0,0.6*(Row14_Area/144)*(64.4*($B343-Row14_Stage))^0.5)))","v":""},{"$f":"IF($B343=\"\",\"\",IF(OR(Row15_Stage=\"\",Row15_Stage=\"N/A\"),0,IF($B343<=Row15_Stage,0,0.6*(Row15_Area/144)*(64.4*($B343-Row15_Stage))^0.5)))","v":""},{"$f":"IF($B343=\"\",\"\",IF(OR(Row16_Stage=\"\",Row16_Stage=\"N/A\"),0,IF($B343<=Row16_Stage,0,0.6*(Row16_Area/144)*(64.4*($B343-Row16_Stage))^0.5)))","v":""},{"$f":"IF(B343=\"\",\"\",SUM(AB343:AQ343))","v":""},"","","","",{"$f":"IF($B343=\"\",\"\",IF(OR(Zone1_Outlet_Type=4,Zone2_Outlet_Type=4),IF($B343<WQ_Plate_Invert,0,IF($B343<WQ_Plate_Invert+Ao_OC_or_ESLOT_H,(2*32.2*($B343-WQ_Plate_Invert-AS343))^0.5*(2*Ao_OC_or_ESLOT_H/ESLOT_RATIO*(1-(1-AS343^2/Ao_OC_or_ESLOT_H^2)^0.5)+Ao_or_ESLOT_W/12),0)),\"\"))","v":""},{"$f":"IF($B343=\"\",\"\",IF(OR(Zone1_Outlet_Type=4,Zone2_Outlet_Type=4),IF($B343<WQ_Plate_Invert,0,IF($B343<WQ_Plate_Invert+Ao_OC_or_ESLOT_H,(2*32.2*($B343-WQ_Plate_Invert-AT343))^0.5*(2*Ao_OC_or_ESLOT_H/ESLOT_RATIO*(1-(1-AT343^2/Ao_OC_or_ESLOT_H^2)^0.5)+Ao_or_ESLOT_W/12),0)),\"\"))","v":""},{"$f":"IF($B343=\"\",\"\",IF(OR(Zone1_Outlet_Type=4,Zone2_Outlet_Type=4),IF($B343<WQ_Plate_Invert,0,IF($B343<WQ_Plate_Invert+Ao_OC_or_ESLOT_H,(2*32.2*($B343-WQ_Plate_Invert-AU343))^0.5*(2*Ao_OC_or_ESLOT_H/ESLOT_RATIO*(1-(1-AU343^2/Ao_OC_or_ESLOT_H^2)^0.5)+Ao_or_ESLOT_W/12),0)),\"\"))","v":""},{"$f":"IF($B343=\"\",\"\",IF(OR(Zone1_Outlet_Type=4,Zone2_Outlet_Type=4),IF($B343<WQ_Plate_Invert,0,IF($B343<WQ_Plate_Invert+Ao_OC_or_ESLOT_H,(2*32.2*($B343-WQ_Plate_Invert-AV343))^0.5*(2*Ao_OC_or_ESLOT_H/ESLOT_RATIO*(1-(1-AV343^2/Ao_OC_or_ESLOT_H^2)^0.5)+Ao_or_ESLOT_W/12),0)),\"\"))","v":""},{"$f":"IF(B343=\"\",\"\",IF(OR(Zone1_Outlet_Type=4,Zone2_Outlet_Type=4),IF(B343<WQ_Plate_Invert+Ao_OC_or_ESLOT_H, 0.642*(0.3015*(B343-WQ_Plate_Invert)*(AW343+AX343)+0.1415*(B343-WQ_Plate_Invert)*(AX343+AY343)+0.057*(B343-WQ_Plate_Invert)*AY343),\"N/A\"),\"\"))","v":""},{"$f":"IF(B343=\"\",\"\",IF(OR(Zone1_Outlet_Type=4,Zone2_Outlet_Type=4),IF(B343>=WQ_Plate_Invert+Ao_OC_or_ESLOT_H, 0.6*Elliptical_Slot_Area*(2*32.2*(B343-WQ_Plate_Invert-Elliptical_Slot_Centroid))^0.5,\"N/A\"),\"\"))","v":""},{"$f":"IF(B343=\"\",\"\",IF(OR(Zone1_Outlet_Type=4,Zone2_Outlet_Type=4),IF(B343<WQ_Plate_Invert+Ao_OC_or_ESLOT_H, BA343,BB343),\"\"))","v":""},"","","","","","","","",""]
[null,{"$f":"IF(Basin_CountA=0,\"\",IF(User_Stage_Area=0,Basin!G373,Basin!H373))","v":""},{"$f":"IF(Basin_CountA=0,\"\",IF(User_Stage_Area=0,Basin!K373,IF(B344=\"\",\"\",Basin!L373)))","v":""},{"$f":"IF(Basin_CountA=0,\"\",Basin!N373)","v":""},null,"","","","","","","",{"$f":"IF(B344=\"\",\"\",K344+L344-1.11*(K344*L344)^0.5)","v":""},"","","",{"$f":"IF(B344=\"\",\"\",O344+P344-1.11*(O344*P344)^0.5)","v":""},"","","","","","",{"$f":"IF(B344=\"\",\"\",IF(E344<>\"\",E344,\nIF(V344<>0,V344+W344,\nIF(T344<>0,T344+W344,\nG344+H344+I344+J344+N344+R344+W344))))","v":""},"",{"$f":"IF(B344=\"\",\"\",IF(Y344<=0,0,IF(Y344=\"\",Z343,((X344-X343)/(Y344-Y343)))))","v":""},{"$f":"IF(B344=\"\",\"\",IF(Y344<=0,0,IF(Y344=\"\",AA343,((B344-B343)/(Y344-Y343)))))","v":""},"","","","","","","","","","","","","","","","","","","","","","","","","","","","",{"$f":"IF(B344=\"\",\"\",IF(G344=0,0,IF(X344=G344,1,0)))","v":""},{"$f":"IF(B344=\"\",\"\",IF(H344=0,0,IF(ROUND(X344-G344,3)=ROUND(H344,3),1,0)))","v":""},{"$f":"IF(B344=\"\",\"\",IF(I344=0,0,\nIF(Vertical_Orifice1_Rank=1,IF(ROUND(X344-H344-G344,3)=ROUND(I344,3),1,0),\nIF(Vertical_Orifice1_Rank=2,IF(ROUND(X344-T344,3)=ROUND(I344,3),1,0),\nIF(ROUND(X344-V344,3)=ROUND(I344,3),1,0)))))","v":""},{"$f":"IF(B344=\"\",\"\",IF(J344=0,0,\nIF(Vertical_Orifice2_Rank=2,IF(ROUND(X344-I344-H344-G344,3)=ROUND(J344,3),1,0),\nIF(Vertical_Orifice2_Rank=3,\nIF(Vertical_Orifice1_Rank=1,IF(ROUND(X344-T344,3)=ROUND(J344,3),1,0),IF(ROUND(X344-T344-I344,3)=ROUND(J344,3),1,0)),\nIF(OR(Vertical_Orifice1_Rank=1,Vertical_Orifice1_Rank=2),IF(ROUND(X344-T344,3)=ROUND(J344,3),1,0),IF(ROUND(X344-T344-I344,3)=ROUND(J344,3),1,0))))))","v":""},{"$f":"IF(B344=\"\",\"\",IF(N344=0,0,\nIF(Overflow_Weir1_Rank=1,IF(ROUND(X344-H344-G344,3)=ROUND(N344,3),1,0),\nIF(Overflow_Weir1_Rank=2,IF(ROUND(X344-I344-H344-G344,3)=ROUND(N344,3),1,0),\nIF(ROUND(X344-J344-I344-H344-G344,3)=ROUND(N344,3),1,0)))))","v":""},{"$f":"IF(B344=\"\",\"\",IF(R344=0,0,\nIF(Weir2_Position=\"Overlapping\",IF(ROUND(X344-N344-J344-I344-H344-G344,3)=ROUND(R344,3),1,0),\nIF(Overflow_Weir2_Rank=2,\nIF(ROUND(X344-T344,3)=ROUND(R344,3),1,0),\nIF(Overflow_Weir2_Rank=3,\nIF(Overflow_Weir1_Rank=2,IF(ROUND(X344-T344,3)=ROUND(R344,3),1,0),IF(ROUND(X344-T344-I344,3)=ROUND(R344,3),1,0)),\nIF(Overflow_Weir1_Rank=3,IF(ROUND(X344-T344,3)=ROUND(R344,3),1,0),\nIF(Overflow_Weir1_Rank=2,IF(ROUND(X344-T344-I344,3)=ROUND(R344,3),1,0),IF(ROUND(X344-T344-J344-I344,3)=ROUND(R344,3),1,0))))))))","v":""},"","",{"$f":"IF(B344=\"\",\"\",IF(W344=0,0,1))","v":""}]
[null,{"$f":"IF(Basin_CountA=0,\"\",IF(User_Stage_Area=0,Basin!G374,Basin!H374))","v":""},{"$f":"IF(Basin_CountA=0,\"\",IF(User_Stage_Area=0,Basin!K374,IF(B345=\"\",\"\",Basin!L374)))","v":""},{"$f":"IF(Basin_CountA=0,\"\",Basin!N374)","v":""},null,"","","","","","","","","","","","","","","","","","","","","","","","","","","","","","","","","","","","","","","","","","","","","","","","","","","","","","","","",{"$f":"IF(B345=\"\",\"\",IF(T345=0,0,IF(ROUND(X345,3)=ROUND(S345,3),1,0)))","v":""},{"$f":"IF(B345=\"\",\"\",IF(V345=0,0,IF(ROUND(X345,3)=ROUND(U345,3),1,0)))","v":""},""]
[null,{"$f":"IF(Basin_CountA=0,\"\",IF(User_Stage_Area=0,Basin!G375,Basin!H375))","v":""},{"$f":"IF(Basin_CountA=0,\"\",IF(User_Stage_Area=0,Basin!K375,IF(B346=\"\",\"\",Basin!L375)))","v":""},{"$f":"IF(Basin_CountA=0,\"\",Basin!N375)","v":""},null,"","","","","","","","","","","","","","","","","","","","","","","","","","","","","","","","","","","","","","","","","","","","","","","","","","","","","","","","","","",""]
[null,{"$f":"IF(Basin_CountA=0,\"\",IF(User_Stage_Area=0,Basin!G376,Basin!H376))","v":""},{"$f":"IF(Basin_CountA=0,\"\",IF(User_Stage_Area=0,Basin!K376,IF(B347=\"\",\"\",Basin!L376)))","v":""},{"$f":"IF(Basin_CountA=0,\"\",Basin!N376)","v":""},null,"","","","","","","","","","","","","","","","","","","","","","","","","","","","","","","","","","","","","","","",{"$f":"IF($B347=\"\",\"\",IF(OR(Zone1_Outlet_Type=4,Zone2_Outlet_Type=4),IF($B347<WQ_Plate_Invert,0,($B347-WQ_Plate_Invert)*AS$86),\"\"))","v":""},"","","","","","","","","","","","","","","","","","",""]
[null,{"$f":"IF(Basin_CountA=0,\"\",IF(User_Stage_Area=0,Basin!G377,Basin!H377))","v":""},{"$f":"IF(Basin_CountA=0,\"\",IF(User_Stage_Area=0,Basin!K377,IF(B348=\"\",\"\",Basin!L377)))","v":""},{"$f":"IF(Basin_CountA=0,\"\",Basin!N377)","v":""},null,"","","","","","","","","","","","","","","","","","","","","","","","","","","","","","","","","","","","","","","","","","","","","","","","","","","","","","","","","","",""]
[null,{"$f":"IF(Basin_CountA=0,\"\",IF(User_Stage_Area=0,Basin!G378,Basin!H378))","v":""},{"$f":"IF(Basin_CountA=0,\"\",IF(User_Stage_Area=0,Basin!K378,IF(B349=\"\",\"\",Basin!L378)))","v":""},{"$f":"IF(Basin_CountA=0,\"\",Basin!N378)","v":""},null,"","","","","","","","","","","","","","","","","","","","","","","","","","","","","","","","","","","","","","","","","","","","","","","","","","","","","","","","","","",""]
[null,{"$f":"IF(Basin_CountA=0,\"\",IF(User_Stage_Area=0,Basin!G379,Basin!H379))","v":""},{"$f":"IF(Basin_CountA=0,\"\",IF(User_Stage_Area=0,Basin!K379,IF(B350=\"\",\"\",Basin!L379)))","v":""},{"$f":"IF(Basin_CountA=0,\"\",Basin!N379)","v":""},null,"","","","","","","","","","","","","","","","","","","","","","","","","","","","","","","","","","","","","","","","","","","","","","","","","","","","","","","","","","",""]
[null,{"$f":"IF(Basin_CountA=0,\"\",IF(User_Stage_Area=0,Basin!G380,Basin!H380))","v":""},{"$f":"IF(Basin_CountA=0,\"\",IF(User_Stage_Area=0,Basin!K380,IF(B351=\"\",\"\",Basin!L380)))","v":""},{"$f":"IF(Basin_CountA=0,\"\",Basin!N380)","v":""},null,"","","","","","","","","","","","","","","","","","","","","","","","","","","","","","","","","","","","","","","","","","","","","","","","","","","","","","","","","","",""]
[null,{"$f":"IF(Basin_CountA=0,\"\",IF(User_Stage_Area=0,Basin!G381,Basin!H381))","v":""},{"$f":"IF(Basin_CountA=0,\"\",IF(User_Stage_Area=0,Basin!K381,IF(B352=\"\",\"\",Basin!L381)))","v":""},{"$f":"IF(Basin_CountA=0,\"\",Basin!N381)","v":""},null,"","","","","","","","","","","","","","","","","","","","","","","","","","","","","","","","","","","","","","","","","","","","","","","","","","","","","","","","","","",""]
[null,{"$f":"IF(Basin_CountA=0,\"\",IF(User_Stage_Area=0,Basin!G382,Basin!H382))","v":""},{"$f":"IF(Basin_CountA=0,\"\",IF(User_Stage_Area=0,Basin!K382,IF(B353=\"\",\"\",Basin!L382)))","v":""},{"$f":"IF(Basin_CountA=0,\"\",Basin!N382)","v":""},null,"","","","","","","","","","","","","","","","","","","","","","","","","","","","","","","","","","","","","","","","","","","","","","","","","","","","","","","","","","",""]
[null,{"$f":"IF(Basin_CountA=0,\"\",IF(User_Stage_Area=0,Basin!G383,Basin!H383))","v":""},{"$f":"IF(Basin_CountA=0,\"\",IF(User_Stage_Area=0,Basin!K383,IF(B354=\"\",\"\",Basin!L383)))","v":""},{"$f":"IF(Basin_CountA=0,\"\",Basin!N383)","v":""},null,"","","","","","","","","","","","","","","","","","","","","","","","","","","","","","","","","","","","","","","","","","","","","","","","","","","","","","","","","","",""]
[null,{"$f":"IF(Basin_CountA=0,\"\",IF(User_Stage_Area=0,Basin!G384,Basin!H384))","v":""},{"$f":"IF(Basin_CountA=0,\"\",IF(User_Stage_Area=0,Basin!K384,IF(B355=\"\",\"\",Basin!L384)))","v":""},{"$f":"IF(Basin_CountA=0,\"\",Basin!N384)","v":""},null,"","","","","","","","","","","","","","","","","","","","","","","","","","","","","","","","","","","","","","","","","","","","","","","","","","","","","","","","","","",""]
[null,{"$f":"IF(Basin_CountA=0,\"\",IF(User_Stage_Area=0,Basin!G385,Basin!H385))","v":""},{"$f":"IF(Basin_CountA=0,\"\",IF(User_Stage_Area=0,Basin!K385,IF(B356=\"\",\"\",Basin!L385)))","v":""},{"$f":"IF(Basin_CountA=0,\"\",Basin!N385)","v":""},null,"","","","","","","","","","","","","","","","","","","","","","","","","","","","","","","","","","","","","","","","","","","","","","","","","","","","","","","","","","",""]
[null,{"$f":"IF(Basin_CountA=0,\"\",IF(User_Stage_Area=0,Basin!G386,Basin!H386))","v":""},{"$f":"IF(Basin_CountA=0,\"\",IF(User_Stage_Area=0,Basin!K386,IF(B357=\"\",\"\",Basin!L386)))","v":""},{"$f":"IF(Basin_CountA=0,\"\",Basin!N386)","v":""},null,"","","","","","","","","","","","","","","","","","","","","","","","","","","","","","","","","","","","","","","","","","","","","","","","","","","","","","","","","","",""]
[null,{"$f":"IF(Basin_CountA=0,\"\",IF(User_Stage_Area=0,Basin!G387,Basin!H387))","v":""},{"$f":"IF(Basin_CountA=0,\"\",IF(User_Stage_Area=0,Basin!K387,IF(B358=\"\",\"\",Basin!L387)))","v":""},{"$f":"IF(Basin_CountA=0,\"\",Basin!N387)","v":""},null,"","","","","","","","","","","","","","","","","","","","","","","","","","","","","","","","","","","","","","","","","","","","","","","","","","","","","","","","","","",""]
[null,{"$f":"IF(Basin_CountA=0,\"\",IF(User_Stage_Area=0,Basin!G388,Basin!H388))","v":""},{"$f":"IF(Basin_CountA=0,\"\",IF(User_Stage_Area=0,Basin!K388,IF(B359=\"\",\"\",Basin!L388)))","v":""},{"$f":"IF(Basin_CountA=0,\"\",Basin!N388)","v":""},null,"","","","","","","","","","","","","","","","","","","","","","","","","","","","","","","","","","","","","","","","","","","","","","","","","","","","","","","","","","",""]
[null,{"$f":"IF(Basin_CountA=0,\"\",IF(User_Stage_Area=0,Basin!G389,Basin!H389))","v":""},{"$f":"IF(Basin_CountA=0,\"\",IF(User_Stage_Area=0,Basin!K389,IF(B360=\"\",\"\",Basin!L389)))","v":""},{"$f":"IF(Basin_CountA=0,\"\",Basin!N389)","v":""},null,"","","","","","","","","","","","","","","","","","","","","","","","","","","","","","","","","","","","","","","","","","","","","","","","","","","","","","","","","","",""]
[null,{"$f":"IF(Basin_CountA=0,\"\",IF(User_Stage_Area=0,Basin!G390,Basin!H390))","v":""},{"$f":"IF(Basin_CountA=0,\"\",IF(User_Stage_Area=0,Basin!K390,IF(B361=\"\",\"\",Basin!L390)))","v":""},{"$f":"IF(Basin_CountA=0,\"\",Basin!N390)","v":""},null,"","","","","","","","","","","","","","","","","","","","","","","","","","","","","","","","","","","","","","","","","","","","","","","","","","","","","","","","","","",""]
[null,{"$f":"IF(Basin_CountA=0,\"\",IF(User_Stage_Area=0,Basin!G391,Basin!H391))","v":""},{"$f":"IF(Basin_CountA=0,\"\",IF(User_Stage_Area=0,Basin!K391,IF(B362=\"\",\"\",Basin!L391)))","v":""},{"$f":"IF(Basin_CountA=0,\"\",Basin!N391)","v":""},null,"","","","","","","","","","","","","","","","","","","","","","","","","","","","","","","","","","","","","","","","","","","","","","","","","","","","","","","","","","",""]
[null,{"$f":"IF(Basin_CountA=0,\"\",IF(User_Stage_Area=0,Basin!G392,Basin!H392))","v":""},{"$f":"IF(Basin_CountA=0,\"\",IF(User_Stage_Area=0,Basin!K392,IF(B363=\"\",\"\",Basin!L392)))","v":""},{"$f":"IF(Basin_CountA=0,\"\",Basin!N392)","v":""},null,"","","","","","","","","","","","","","","","","","","","","","","","","","","","","","","","","","","","","","","","","","","","","","","","","","","","","","","","","","",""]
[null,{"$f":"IF(Basin_CountA=0,\"\",IF(User_Stage_Area=0,Basin!G393,Basin!H393))","v":""},{"$f":"IF(Basin_CountA=0,\"\",IF(User_Stage_Area=0,Basin!K393,IF(B364=\"\",\"\",Basin!L393)))","v":""},{"$f":"IF(Basin_CountA=0,\"\",Basin!N393)","v":""},null,"","","","","","","","","","","","","","","","","","","","","","","","","","","","","","","","","","","","","","","","","","","","","","","","","","","","","","","","","","",""]
[null,{"$f":"IF(Basin_CountA=0,\"\",IF(User_Stage_Area=0,Basin!G394,Basin!H394))","v":""},{"$f":"IF(Basin_CountA=0,\"\",IF(User_Stage_Area=0,Basin!K394,IF(B365=\"\",\"\",Basin!L394)))","v":""},{"$f":"IF(Basin_CountA=0,\"\",Basin!N394)","v":""},null,"","","","","","","","","","","","","","","","","","","","","","","","","","","","","","","","","","","","","","","","","","","","","","","","","","","","","","","","","","",""]
[null,{"$f":"IF(Basin_CountA=0,\"\",IF(User_Stage_Area=0,Basin!G395,Basin!H395))","v":""},{"$f":"IF(Basin_CountA=0,\"\",IF(User_Stage_Area=0,Basin!K395,IF(B366=\"\",\"\",Basin!L395)))","v":""},{"$f":"IF(Basin_CountA=0,\"\",Basin!N395)","v":""},null,"","","","","","","","","","","","","","","","","","","","","","","","","","","","","","","","","","","","","","","","","","","","","","","","","","","","","","","","","","",""]
[null,{"$f":"IF(Basin_CountA=0,\"\",IF(User_Stage_Area=0,Basin!G396,Basin!H396))","v":""},{"$f":"IF(Basin_CountA=0,\"\",IF(User_Stage_Area=0,Basin!K396,IF(B367=\"\",\"\",Basin!L396)))","v":""},{"$f":"IF(Basin_CountA=0,\"\",Basin!N396)","v":""},null,"","","","","","","","","","","","","","","","","","","","","","","","","","","","","","","","","","","","","","","",{"$f":"IF($B367=\"\",\"\",IF(OR(Zone1_Outlet_Type=4,Zone2_Outlet_Type=4),IF($B367<WQ_Plate_Invert,0,($B367-WQ_Plate_Invert)*AS$86),\"\"))","v":""},"","","","","","","","","","","","","","","","","","",""]
[null,{"$f":"IF(Basin_CountA=0,\"\",IF(User_Stage_Area=0,Basin!G397,Basin!H397))","v":""},{"$f":"IF(Basin_CountA=0,\"\",IF(User_Stage_Area=0,Basin!K397,IF(B368=\"\",\"\",Basin!L397)))","v":""},{"$f":"IF(Basin_CountA=0,\"\",Basin!N397)","v":""},null,"","","","","","","","","","","","","","","","","","","","","","","","","","","","","","","","","","","","","","","","","","","","","","","","","","","","","","","","","","",""]
[null,{"$f":"IF(Basin_CountA=0,\"\",IF(User_Stage_Area=0,Basin!G398,Basin!H398))","v":""},{"$f":"IF(Basin_CountA=0,\"\",IF(User_Stage_Area=0,Basin!K398,IF(B369=\"\",\"\",Basin!L398)))","v":""},{"$f":"IF(Basin_CountA=0,\"\",Basin!N398)","v":""},null,"","","","","","","","","","","","","","","","","","","","","","","","","","","","","","","","","","","","","","","","","","","","","","","","","","","","","","","","","","",""]
[null,{"$f":"IF(Basin_CountA=0,\"\",IF(User_Stage_Area=0,Basin!G399,Basin!H399))","v":""},{"$f":"IF(Basin_CountA=0,\"\",IF(User_Stage_Area=0,Basin!K399,IF(B370=\"\",\"\",Basin!L399)))","v":""},{"$f":"IF(Basin_CountA=0,\"\",Basin!N399)","v":""},null,"","","","","","","","","","","","","","","","","","","","","","","","","","","","","","","","","","","","","","","","","","","","","","","","","","","","","","","","","","",""]
[null,{"$f":"IF(Basin_CountA=0,\"\",IF(User_Stage_Area=0,Basin!G400,Basin!H400))","v":""},{"$f":"IF(Basin_CountA=0,\"\",IF(User_Stage_Area=0,Basin!K400,IF(B371=\"\",\"\",Basin!L400)))","v":""},{"$f":"IF(Basin_CountA=0,\"\",Basin!N400)","v":""},null,"","","","","","","","","","","","","","","","","","","","","","","","","","","","","","","","","","","","","","","","","","","","","","","","","","","","","","","","","","",""]
[null,{"$f":"IF(Basin_CountA=0,\"\",IF(User_Stage_Area=0,Basin!G401,Basin!H401))","v":""},{"$f":"IF(Basin_CountA=0,\"\",IF(User_Stage_Area=0,Basin!K401,IF(B372=\"\",\"\",Basin!L401)))","v":""},{"$f":"IF(Basin_CountA=0,\"\",Basin!N401)","v":""},null,"","","","","","","","","","","","","","","","","","","","","","","","","","","","","","","","","","","","","","","","","","","","","","","","","","","","","","","","","","",""]
[null,{"$f":"IF(Basin_CountA=0,\"\",IF(User_Stage_Area=0,Basin!G402,Basin!H402))","v":""},{"$f":"IF(Basin_CountA=0,\"\",IF(User_Stage_Area=0,Basin!K402,IF(B373=\"\",\"\",Basin!L402)))","v":""},{"$f":"IF(Basin_CountA=0,\"\",Basin!N402)","v":""},null,"","","","","","","","","","","","","","","","","","","","","","","","","","","","","","","","","","","","","","","","","","","","","","","","","","","","","","","","","","",""]
[null,{"$f":"IF(Basin_CountA=0,\"\",IF(User_Stage_Area=0,Basin!G403,Basin!H403))","v":""},{"$f":"IF(Basin_CountA=0,\"\",IF(User_Stage_Area=0,Basin!K403,IF(B374=\"\",\"\",Basin!L403)))","v":""},{"$f":"IF(Basin_CountA=0,\"\",Basin!N403)","v":""},null,"","","","","","","","","","","","","","","","","","","","","","","","","","","","","","","","","","","","","","","","","","","","","","","","","","","","","","","","","","",""]
[null,{"$f":"IF(Basin_CountA=0,\"\",IF(User_Stage_Area=0,Basin!G404,Basin!H404))","v":""},{"$f":"IF(Basin_CountA=0,\"\",IF(User_Stage_Area=0,Basin!K404,IF(B375=\"\",\"\",Basin!L404)))","v":""},{"$f":"IF(Basin_CountA=0,\"\",Basin!N404)","v":""},null,"","","","","","","","","","","","","","","","","","","","","","","","","","","","","","","","","","","","","","","","","","","","","","","","","","","","","","","","","","",""]
[null,{"$f":"IF(Basin_CountA=0,\"\",IF(User_Stage_Area=0,Basin!G405,Basin!H405))","v":""},{"$f":"IF(Basin_CountA=0,\"\",IF(User_Stage_Area=0,Basin!K405,IF(B376=\"\",\"\",Basin!L405)))","v":""},{"$f":"IF(Basin_CountA=0,\"\",Basin!N405)","v":""},null,"","","","","","","","","","","","","","","","","","","","","","","","","","","","","","","","","","","","","","","","","","","","","","","","","","","","","","","","","","",""]
[null,{"$f":"IF(Basin_CountA=0,\"\",IF(User_Stage_Area=0,Basin!G406,Basin!H406))","v":""},{"$f":"IF(Basin_CountA=0,\"\",IF(User_Stage_Area=0,Basin!K406,IF(B377=\"\",\"\",Basin!L406)))","v":""},{"$f":"IF(Basin_CountA=0,\"\",Basin!N406)","v":""},null,"","","","","","","","","","","","","","","","","","","","","","","","","","","","","","","","","","","","","","","","","","","","","","","","","","","","","","","","","","",""]
[null,{"$f":"IF(Basin_CountA=0,\"\",IF(User_Stage_Area=0,Basin!G407,Basin!H407))","v":""},{"$f":"IF(Basin_CountA=0,\"\",IF(User_Stage_Area=0,Basin!K407,IF(B378=\"\",\"\",Basin!L407)))","v":""},{"$f":"IF(Basin_CountA=0,\"\",Basin!N407)","v":""},null,"","","","","","","","","","","","","","","","","","","","","","","","","","","","","","","","","","","","","","","","","","","","","","","","","","","","","","","","","","",""]
[null,{"$f":"IF(Basin_CountA=0,\"\",IF(User_Stage_Area=0,Basin!G408,Basin!H408))","v":""},{"$f":"IF(Basin_CountA=0,\"\",IF(User_Stage_Area=0,Basin!K408,IF(B379=\"\",\"\",Basin!L408)))","v":""},{"$f":"IF(Basin_CountA=0,\"\",Basin!N408)","v":""},null,"","","","","","","","","","","","","","","","","","","","","","","","","","","","","","","","","","","","","","","","","","","","","","","","","","","","","","","","","","",""]
[null,{"$f":"IF(Basin_CountA=0,\"\",IF(User_Stage_Area=0,Basin!G409,Basin!H409))","v":""},{"$f":"IF(Basin_CountA=0,\"\",IF(User_Stage_Area=0,Basin!K409,IF(B380=\"\",\"\",Basin!L409)))","v":""},{"$f":"IF(Basin_CountA=0,\"\",Basin!N409)","v":""},null,"","","","","","","","","","","","","","","","","","","","","","","","","","","","","","","","","","","","","","","","","","","","","","","","","","","","","","","","","","",""]
[null,{"$f":"IF(Basin_CountA=0,\"\",IF(User_Stage_Area=0,Basin!G410,Basin!H410))","v":""},{"$f":"IF(Basin_CountA=0,\"\",IF(User_Stage_Area=0,Basin!K410,IF(B381=\"\",\"\",Basin!L410)))","v":""},{"$f":"IF(Basin_CountA=0,\"\",Basin!N410)","v":""},null,"","","","","","","","","","","","","","","","","","","","","","","","","","","","","","","","","","","","","","","","","","","","","","","","","","","","","","","","","","",""]
[null,{"$f":"IF(Basin_CountA=0,\"\",IF(User_Stage_Area=0,Basin!G411,Basin!H411))","v":""},{"$f":"IF(Basin_CountA=0,\"\",IF(User_Stage_Area=0,Basin!K411,IF(B382=\"\",\"\",Basin!L411)))","v":""},{"$f":"IF(Basin_CountA=0,\"\",Basin!N411)","v":""},null,"","","","","","","","","","","","","","","","","","","","","","","","","","","","","","","","","","","","","","","","","","","","","","","","","","","","","","","","","","",""]
[null,{"$f":"IF(Basin_CountA=0,\"\",IF(User_Stage_Area=0,Basin!G412,Basin!H412))","v":""},{"$f":"IF(Basin_CountA=0,\"\",IF(User_Stage_Area=0,Basin!K412,IF(B383=\"\",\"\",Basin!L412)))","v":""},{"$f":"IF(Basin_CountA=0,\"\",Basin!N412)","v":""},null,"","","","","","","","","","","","","","","","","","","","","","","","","","","","","","","","","","","","","","","","","","","","","","","","","","","","","","","","","","",""]
[null,{"$f":"IF(Basin_CountA=0,\"\",IF(User_Stage_Area=0,Basin!G413,Basin!H413))","v":""},{"$f":"IF(Basin_CountA=0,\"\",IF(User_Stage_Area=0,Basin!K413,IF(B384=\"\",\"\",Basin!L413)))","v":""},{"$f":"IF(Basin_CountA=0,\"\",Basin!N413)","v":""},null,"","","","","","","","","","","","","","","","","","","","","","","","","","","","","","","","","","","","","","","","","","","","","","","","","","","","","","","","","","",""]
[null,{"$f":"IF(Basin_CountA=0,\"\",IF(User_Stage_Area=0,Basin!G414,Basin!H414))","v":""},{"$f":"IF(Basin_CountA=0,\"\",IF(User_Stage_Area=0,Basin!K414,IF(B385=\"\",\"\",Basin!L414)))","v":""},{"$f":"IF(Basin_CountA=0,\"\",Basin!N414)","v":""},null,"","","","","","","","","","","","","","","","","","","","","","","","","","","","","","","","","","","","","","","","","","","","","","","","","","","","","","","","","","",""]
[null,{"$f":"IF(Basin_CountA=0,\"\",IF(User_Stage_Area=0,Basin!G415,Basin!H415))","v":""},{"$f":"IF(Basin_CountA=0,\"\",IF(User_Stage_Area=0,Basin!K415,IF(B386=\"\",\"\",Basin!L415)))","v":""},{"$f":"IF(Basin_CountA=0,\"\",Basin!N415)","v":""},null,"","","","","","","","","","","","","","","","","","","","","","","","","","","","","","","","","","","","","","","","","","","","","","","","","","","","","","","","","","",""]
[null,{"$f":"IF(Basin_CountA=0,\"\",IF(User_Stage_Area=0,Basin!G416,Basin!H416))","v":""},{"$f":"IF(Basin_CountA=0,\"\",IF(User_Stage_Area=0,Basin!K416,IF(B387=\"\",\"\",Basin!L416)))","v":""},{"$f":"IF(Basin_CountA=0,\"\",Basin!N416)","v":""},null,"","","","","","","","","","","","","","","","","","","","","","","","","","","","","","","","","","","","","","","",{"$f":"IF($B387=\"\",\"\",IF(OR(Zone1_Outlet_Type=4,Zone2_Outlet_Type=4),IF($B387<WQ_Plate_Invert,0,($B387-WQ_Plate_Invert)*AS$86),\"\"))","v":""},"","","","","","","","","","","","","","","","","","",""]
[null,{"$f":"IF(Basin_CountA=0,\"\",IF(User_Stage_Area=0,Basin!G417,Basin!H417))","v":""},{"$f":"IF(Basin_CountA=0,\"\",IF(User_Stage_Area=0,Basin!K417,IF(B388=\"\",\"\",Basin!L417)))","v":""},{"$f":"IF(Basin_CountA=0,\"\",Basin!N417)","v":""},null,"","","","","","","","","","","","","","","","","","","","","","","","","","","","","","","","","","","","","","","","","","","","","","","","","","","","","","","","","","",""]
[null,{"$f":"IF(Basin_CountA=0,\"\",IF(User_Stage_Area=0,Basin!G418,Basin!H418))","v":""},{"$f":"IF(Basin_CountA=0,\"\",IF(User_Stage_Area=0,Basin!K418,IF(B389=\"\",\"\",Basin!L418)))","v":""},{"$f":"IF(Basin_CountA=0,\"\",Basin!N418)","v":""},null,"","","","","","","","","","","","","","","","","","","","","","","","","","","","","","","","","","","","","","","","","","","","","","","","","","","","","","","","","","",""]
[null,{"$f":"IF(Basin_CountA=0,\"\",IF(User_Stage_Area=0,Basin!G419,Basin!H419))","v":""},{"$f":"IF(Basin_CountA=0,\"\",IF(User_Stage_Area=0,Basin!K419,IF(B390=\"\",\"\",Basin!L419)))","v":""},{"$f":"IF(Basin_CountA=0,\"\",Basin!N419)","v":""},null,"","","","","","","","","","","","","","","","","","","","","","","","","","","","","","","","","","","","","","","","","","","","","","","","","","","","","","","","","","",""]
[null,{"$f":"IF(Basin_CountA=0,\"\",IF(User_Stage_Area=0,Basin!G420,Basin!H420))","v":""},{"$f":"IF(Basin_CountA=0,\"\",IF(User_Stage_Area=0,Basin!K420,IF(B391=\"\",\"\",Basin!L420)))","v":""},{"$f":"IF(Basin_CountA=0,\"\",Basin!N420)","v":""},null,"","","","","","","","","","","","","","","","","","","","","","","","","","","","","","","","","","","","","","","","","","","","","","","","","","","","","","","","","","",""]
[null,{"$f":"IF(Basin_CountA=0,\"\",IF(User_Stage_Area=0,Basin!G421,Basin!H421))","v":""},{"$f":"IF(Basin_CountA=0,\"\",IF(User_Stage_Area=0,Basin!K421,IF(B392=\"\",\"\",Basin!L421)))","v":""},{"$f":"IF(Basin_CountA=0,\"\",Basin!N421)","v":""},null,"","","","","","","","","","","","","","","","","","","","","","","","","","","","","","","","","","","","","","","","","","","","","","","","","","","","","","","","","","",""]
[null,{"$f":"IF(Basin_CountA=0,\"\",IF(User_Stage_Area=0,Basin!G422,Basin!H422))","v":""},{"$f":"IF(Basin_CountA=0,\"\",IF(User_Stage_Area=0,Basin!K422,IF(B393=\"\",\"\",Basin!L422)))","v":""},{"$f":"IF(Basin_CountA=0,\"\",Basin!N422)","v":""},null,"","","","","","","","","","","","","","","","","","","","","","","","","","","","","","","","","","","","","","","","","","","","","","","","","","","","","","","","","","",""]
[null,{"$f":"IF(Basin_CountA=0,\"\",IF(User_Stage_Area=0,Basin!G423,Basin!H423))","v":""},{"$f":"IF(Basin_CountA=0,\"\",IF(User_Stage_Area=0,Basin!K423,IF(B394=\"\",\"\",Basin!L423)))","v":""},{"$f":"IF(Basin_CountA=0,\"\",Basin!N423)","v":""},null,"","","","","","","","","","","","","","","","","","","","","","","","","","","","","","","","","","","","","","","","","","","","","","","","","","","","","","","","","","",""]
[null,{"$f":"IF(Basin_CountA=0,\"\",IF(User_Stage_Area=0,Basin!G424,Basin!H424))","v":""},{"$f":"IF(Basin_CountA=0,\"\",IF(User_Stage_Area=0,Basin!K424,IF(B395=\"\",\"\",Basin!L424)))","v":""},{"$f":"IF(Basin_CountA=0,\"\",Basin!N424)","v":""},null,"","","","","","","","","","","","","","","","","","","","","","","","","","","","","","","","","","","","","","","","","","","","","","","","","","","","","","","","","","",""]
[null,{"$f":"IF(Basin_CountA=0,\"\",IF(User_Stage_Area=0,Basin!G425,Basin!H425))","v":""},{"$f":"IF(Basin_CountA=0,\"\",IF(User_Stage_Area=0,Basin!K425,IF(B396=\"\",\"\",Basin!L425)))","v":""},{"$f":"IF(Basin_CountA=0,\"\",Basin!N425)","v":""},null,"","","","","","","","","","","","","","","","","","","","","","","","","","","","","","","","","","","","","","","","","","","","","","","","","","","","","","","","","","",""]
[null,{"$f":"IF(Basin_CountA=0,\"\",IF(User_Stage_Area=0,Basin!G426,Basin!H426))","v":""},{"$f":"IF(Basin_CountA=0,\"\",IF(User_Stage_Area=0,Basin!K426,IF(B397=\"\",\"\",Basin!L426)))","v":""},{"$f":"IF(Basin_CountA=0,\"\",Basin!N426)","v":""},null,"","","","","","","","","","","","","","","","","","","","","","","","","","","","","","","","","","","","","","","","","","","","","","","","","","","","","","","","","","",""]
[null,{"$f":"IF(Basin_CountA=0,\"\",IF(User_Stage_Area=0,Basin!G427,Basin!H427))","v":""},{"$f":"IF(Basin_CountA=0,\"\",IF(User_Stage_Area=0,Basin!K427,IF(B398=\"\",\"\",Basin!L427)))","v":""},{"$f":"IF(Basin_CountA=0,\"\",Basin!N427)","v":""},null,"","","","","","","","","","","","","","","","","","","","","","","","","","","","","","","","","","","","","","","","","","","","","","","","","","","","","","","","","","",""]
[null,{"$f":"IF(Basin_CountA=0,\"\",IF(User_Stage_Area=0,Basin!G428,Basin!H428))","v":""},{"$f":"IF(Basin_CountA=0,\"\",IF(User_Stage_Area=0,Basin!K428,IF(B399=\"\",\"\",Basin!L428)))","v":""},{"$f":"IF(Basin_CountA=0,\"\",Basin!N428)","v":""},null,"","","","","","","","","","","","","","","","","","","","","","","","","","","","","","","","","","","","","","","","","","","","","","","","","","","","","","","","","","",""]
[null,{"$f":"IF(Basin_CountA=0,\"\",IF(User_Stage_Area=0,Basin!G429,Basin!H429))","v":""},{"$f":"IF(Basin_CountA=0,\"\",IF(User_Stage_Area=0,Basin!K429,IF(B400=\"\",\"\",Basin!L429)))","v":""},{"$f":"IF(Basin_CountA=0,\"\",Basin!N429)","v":""},null,"","","","","","","","","","","","","","","","","","","","","","","","","","","","","","","","","","","","","","","","","","","","","","","","","","","","","","","","","","",""]
[null,{"$f":"IF(Basin_CountA=0,\"\",IF(User_Stage_Area=0,Basin!G430,Basin!H430))","v":""},{"$f":"IF(Basin_CountA=0,\"\",IF(User_Stage_Area=0,Basin!K430,IF(B401=\"\",\"\",Basin!L430)))","v":""},{"$f":"IF(Basin_CountA=0,\"\",Basin!N430)","v":""},null,"","","","","","","","","","","","","","","","","","","","","","","","","","","","","","","","","","","","","","","","","","","","","","","","","","","","","","","","","","",""]
[null,{"$f":"IF(Basin_CountA=0,\"\",IF(User_Stage_Area=0,Basin!G431,Basin!H431))","v":""},{"$f":"IF(Basin_CountA=0,\"\",IF(User_Stage_Area=0,Basin!K431,IF(B402=\"\",\"\",Basin!L431)))","v":""},{"$f":"IF(Basin_CountA=0,\"\",Basin!N431)","v":""},null,"","","","","","","","","","","","","","","","","","","","","","","","","","","","","","","","","","","","","","","","","","","","","","","","","","","","","","","","","","",""]
[null,{"$f":"IF(Basin_CountA=0,\"\",IF(User_Stage_Area=0,Basin!G432,Basin!H432))","v":""},{"$f":"IF(Basin_CountA=0,\"\",IF(User_Stage_Area=0,Basin!K432,IF(B403=\"\",\"\",Basin!L432)))","v":""},{"$f":"IF(Basin_CountA=0,\"\",Basin!N432)","v":""},null,"","","","","","","","","","","","","","","","","","","","","","","","","","","","","","","","","","","","","","","","","","","","","","","","","","","","","","","","","","",""]
[null,{"$f":"IF(Basin_CountA=0,\"\",IF(User_Stage_Area=0,Basin!G433,Basin!H433))","v":""},{"$f":"IF(Basin_CountA=0,\"\",IF(User_Stage_Area=0,Basin!K433,IF(B404=\"\",\"\",Basin!L433)))","v":""},{"$f":"IF(Basin_CountA=0,\"\",Basin!N433)","v":""},null,"","","","","","","","","","","","","","","","","","","","","","","","","","","","","","","","","","","","","","","","","","","","","","","","","","","","","","","","","","",""]
[null,{"$f":"IF(Basin_CountA=0,\"\",IF(User_Stage_Area=0,Basin!G434,Basin!H434))","v":""},{"$f":"IF(Basin_CountA=0,\"\",IF(User_Stage_Area=0,Basin!K434,IF(B405=\"\",\"\",Basin!L434)))","v":""},{"$f":"IF(Basin_CountA=0,\"\",Basin!N434)","v":""},null,"","","","","","","","","","","","","","","","","","","","","","","","","","","","","","","","","","","","","","","","","","","","","","","","","","","","","","","","","","",""]
[null,{"$f":"IF(Basin_CountA=0,\"\",IF(User_Stage_Area=0,Basin!G435,Basin!H435))","v":""},{"$f":"IF(Basin_CountA=0,\"\",IF(User_Stage_Area=0,Basin!K435,IF(B406=\"\",\"\",Basin!L435)))","v":""},{"$f":"IF(Basin_CountA=0,\"\",Basin!N435)","v":""},null,"","","","","","","","","","","","","","","","","","","","","","","","","","","","","","","","","","","","","","","","","","","","","","","","","","","","","","","","","","",""]
[null,{"$f":"IF(Basin_CountA=0,\"\",IF(User_Stage_Area=0,Basin!G436,Basin!H436))","v":""},{"$f":"IF(Basin_CountA=0,\"\",IF(User_Stage_Area=0,Basin!K436,IF(B407=\"\",\"\",Basin!L436)))","v":""},{"$f":"IF(Basin_CountA=0,\"\",Basin!N436)","v":""},null,{"$f":"IF(B407=\"\",\"\",IF(D407=\"\",\"\",2*D407))","v":""},{"$f":"IF(B407=\"\",\"\",\nIF(OR(Underdrain_Invert=\"\",Underdrain_Invert=\"N/A\",Underdrain_Diameter=\"\",Underdrain_Diameter=\"N/A\"),0,\nIF(B407+Underdrain_Invert<=Underdrain_Orifice_Centroid,0,IF(B407=0,0,0.6*Underdrain_Orifice_Area*(64.4*(B407+Underdrain_Invert-Underdrain_Orifice_Centroid))^0.5))))","v":""},{"$f":"IF(B407=\"\",\"\",\nIF(OR(WQ_Plate_Invert=\"\",WQ_Plate_Invert=\"N/A\",Required_Depth=\"\",Required_Depth=\"N/A\",Ao_OC_or_ESLOT_H=\"\",Ao_or_ESLOT_W=\"\"),0,\nIF(ESLOT_RATIO=\"\",AR407,IF(ESLOT_RATIO<>\"\",BC407,0))))","v":""},{"$f":"IF(B407=\"\",\"\",IF(Vertical_Orifice1_Boolean=0,0,\nIF(B407<=Orifice1_Invert,0,\nIF(B407<Orifice1_Invert+Orifice1_Height/12,\n(0.6*Vertical_Orifice1_Area*(64.4*Vertical_Orifice1_Centroid)^0.5)*((B407-Orifice1_Invert)/(Orifice1_Height/12))^1.81,\n0.6*Vertical_Orifice1_Area*(64.4*(B407-Orifice1_Invert-Vertical_Orifice1_Centroid))^0.5))))","v":""},{"$f":"IF(B407=\"\",\"\",IF(Vertical_Orifice2_Boolean=0,0,\nIF(B407<=Orifice2_Invert,0,\nIF(B407<Orifice2_Invert+Orifice2_Height/12,\n(0.6*Vertical_Orifice2_Area*(64.4*Vertical_Orifice2_Centroid)^0.5)*((B407-Orifice2_Invert)/(Orifice2_Height/12))^1.81,\n0.6*Vertical_Orifice2_Area*(64.4*(B407-Orifice2_Invert-Vertical_Orifice2_Centroid))^0.5))))","v":""},{"$f":"IF(B407=\"\",\"\",IF(Overflow_Weir1_Boolean=0,0,IF((B407-Weir1_Ho)<=0,0,\n\nIF(OR(Weir1_horiz_length_of_grate=0,Weir1_horiz_length_of_grate=\"N/A\"),\nCd_BCW*Weir1_W*(B407-Weir1_Ho)^1.5+(0.8*Cd_BCW)*Weir1_Grate_Slope*(B407-Weir1_Ho)^2.5,\n\nIF(Angle1=0,\n2*(2/3*CLOG1*n_Cdw_1*(64.4^0.5)*Weir1_horiz_length_of_grate*(B407-Weir1_Ho)^1.5)+2*(2/3*CLOG1*n_Cdw_1*(64.4^0.5)*Weir1_W*(B407-Weir1_Ho)^1.5),\n\nIF((B407-Weir1_Ho)<(Ht_1-Weir1_Ho),\n2*(4/15*CLOG1*n_Cdw_1*(64.4^0.5)*(COS(Angle1)/SIN(Angle1))*(B407-Weir1_Ho)^2.5)+(2/3*CLOG1*n_Cdw_1*(64.4^0.5)*Weir1_W*(B407-Weir1_Ho)^1.5),\n\n2*(4/15*CLOG1*n_Cdw_1*(64.4^0.5)*Weir1_horiz_length_of_grate*COS(Angle1)*(B407-Weir1_Ho)^1.5*((B407-Weir1_Ho)^2.5/(B407-Weir1_Ho)^1.5/(Ht_1-Weir1_Ho)-((B407-Weir1_Ho)-(Ht_1-Weir1_Ho))^2.5/(B407-Weir1_Ho)^1.5/(Ht_1-Weir1_Ho))) +(2/3*CLOG1*n_Cdw_1*(64.4^0.5)*Weir1_W*(B407-Weir1_Ho)^1.5)))))))","v":""},{"$f":"IF(B407=\"\",\"\",IF(Overflow_Weir1_Boolean=0,0,IF((B407-Weir1_Ho)<=0,0,IF(OR(Weir1_horiz_length_of_grate=0,Weir1_horiz_length_of_grate=\"N/A\"),0,\n\nIF(Angle1=0,\n(2/3*CLOG1*n_Cdo_1*Weir1_W*Weir1_horiz_length_of_grate*(64.4*(B407-Weir1_Ho))^0.5),\n\nIF((B407-Weir1_Ho)<(Ht_1-Weir1_Ho),\n(2/3*CLOG1*n_Cdo_1*Weir1_W*(B407-Weir1_Ho)*(COS(Angle1)/SIN(Angle1))*(64.4*(B407-Weir1_Ho))^0.5),\n\n(2/3*CLOG1*n_Cdo_1*Weir1_W*Weir1_horiz_length_of_grate*COS(Angle1)*(64.4*(B407-Weir1_Ho))^0.5*((B407-Weir1_Ho)^1.5/(Ht_1-Weir1_Ho)/(B407-Weir1_Ho)^0.5-((B407-Weir1_Ho)-(Ht_1-Weir1_Ho))^1.5/(B407-Weir1_Ho)^0.5/(Ht_1-Weir1_Ho)))))))))","v":""},"",{"$f":"IF(B407=\"\",\"\",IF(OR(Weir1_horiz_length_of_grate=0,Weir1_horiz_length_of_grate=\"N/A\"),K407,MIN(K407,L407,M407)))","v":""},{"$f":"IF(B407=\"\",\"\",IF(Overflow_Weir2_Boolean=0,0,IF((B407-Weir2_Ho)<=0,0,\n\nIF(OR(Weir2_horiz_length_of_grate=0,Weir2_horiz_length_of_grate=\"N/A\"),\nIF(AND(Weir1_horiz_length_of_grate=\"N/A\",Weir2_Position=\"Overlapping\"),\nIF((Cd_BCW*Weir2_W*(B407-Weir2_Ho)^1.5+(0.8*Cd_BCW)*Weir2_Grate_Slope*(B407-Weir2_Ho)^2.5)-(Cd_BCW*(Weir1_W+2*(Weir2_Ho-Weir1_Ho)*Weir1_Grate_Slope)*(B407-Weir2_Ho)^1.5+(0.8*Cd_BCW)*Weir1_Grate_Slope*(B407-Weir2_Ho)^2.5)<0,0,\n(Cd_BCW*Weir2_W*(B407-Weir2_Ho)^1.5+(0.8*Cd_BCW)*Weir2_Grate_Slope*(B407-Weir2_Ho)^2.5)-(Cd_BCW*(Weir1_W+2*(Weir2_Ho-Weir1_Ho)*Weir1_Grate_Slope)*(B407-Weir2_Ho)^1.5+(0.8*Cd_BCW)*Weir1_Grate_Slope*(B407-Weir2_Ho)^2.5)),\nCd_BCW*Weir2_W*(B407-Weir2_Ho)^1.5+(0.8*Cd_BCW)*Weir2_Grate_Slope*(B407-Weir2_Ho)^2.5),\n\nIF(Angle2=0,\n2*(2/3*CLOG2*n_Cdw_2*(64.4^0.5)*Weir2_horiz_length_of_grate*(B407-Weir2_Ho)^1.5)+2*(2/3*CLOG2*n_Cdw_2*(64.4^0.5)*Weir2_W*(B407-Weir2_Ho)^1.5),\n\nIF((B407-Weir2_Ho)<(Ht_2-Weir2_Ho),\n2*(4/15*CLOG2*n_Cdw_2*(64.4^0.5)*(COS(Angle2)/SIN(Angle2))*(B407-Weir2_Ho)^2.5)+(2/3*CLOG2*n_Cdw_2*(64.4^0.5)*Weir2_W*(B407-Weir2_Ho)^1.5),\n\n2*(4/15*CLOG2*n_Cdw_2*(64.4^0.5)*Weir2_horiz_length_of_grate*COS(Angle2)*(B407-Weir2_Ho)^1.5*((B407-Weir2_Ho)^2.5/(B407-Weir2_Ho)^1.5/(Ht_2-Weir2_Ho)-((B407-Weir2_Ho)-(Ht_2-Weir2_Ho))^2.5/(B407-Weir2_Ho)^1.5/(Ht_2-Weir2_Ho))) +(2/3*CLOG2*n_Cdw_2*(64.4^0.5)*Weir2_W*(B407-Weir2_Ho)^1.5)))))))","v":""},{"$f":"IF(B407=\"\",\"\",IF(Overflow_Weir2_Boolean=0,0,IF((B407-Weir2_Ho)<=0,0,IF(OR(Weir2_horiz_length_of_grate=0,Weir2_horiz_length_of_grate=\"N/A\"),0,\n\nIF(Angle2=0,\n(2/3*CLOG2*n_Cdo_2*Weir2_W*Weir2_horiz_length_of_grate*(64.4*(B407-Weir2_Ho))^0.5),\n\nIF((B407-Weir2_Ho)<(Ht_2-Weir2_Ho),\n(2/3*CLOG2*n_Cdo_2*Weir2_W*(B407-Weir2_Ho)*(COS(Angle2)/SIN(Angle2))*(64.4*(B407-Weir2_Ho))^0.5),\n\n(2/3*CLOG2*n_Cdo_2*Weir2_W*Weir2_horiz_length_of_grate*COS(Angle2)*(64.4*(B407-Weir2_Ho))^0.5*((B407-Weir2_Ho)^1.5/(Ht_2-Weir2_Ho)/(B407-Weir2_Ho)^0.5-((B407-Weir2_Ho)-(Ht_2-Weir2_Ho))^1.5/(B407-Weir2_Ho)^0.5/(Ht_2-Weir2_Ho)))))))))","v":""},"",{"$f":"IF(B407=\"\",\"\",IF(OR(Weir2_horiz_length_of_grate=0,Weir2_horiz_length_of_grate=\"N/A\"),O407,MIN(O407,P407,Q407)))","v":""},{"$f":"IF(B407=\"\",\"\",\nIF(Outlet_Pipe1_Boolean=0,0,\nIF(B407+Outlet1_Orifice_Invert<2*Outlet1_Orifice_Centroid,\nIF((0.6*Outlet1_Orifice_Area*(64.4*Outlet1_Orifice_Centroid)^0.5)*((B407+Outlet1_Orifice_Invert)/(2*Outlet1_Orifice_Centroid))^1.81<H407,H407,\n(0.6*Outlet1_Orifice_Area*(64.4*Outlet1_Orifice_Centroid)^0.5)*((B407+Outlet1_Orifice_Invert)/(2*Outlet1_Orifice_Centroid))^1.81),\n0.6*Outlet1_Orifice_Area*(64.4*(B407+Outlet1_Orifice_Invert-Outlet1_Orifice_Centroid))^0.5)))","v":""},{"$f":"IF(B407=\"\",\"\",IF(Outlet_Pipe1_Boolean=0,0,\nIF(Outlet_Pipe1_Rank=3,MIN(S407,G407+H407+I407+J407+N407),\nIF(Outlet_Pipe1_Rank=2,IF(Vertical_Orifice1_Rank=1,MIN(S407,G407+H407+I407+N407),MIN(S407,G407+H407+J407+N407)),\nIF(Outlet_Pipe1_Rank=1,MIN(S407,G407+H407+N407),\nMIN(S407,G407+H407+I407+J407))))))","v":""},{"$f":"IF(B407=\"\",\"\",\nIF(Outlet_Pipe2_Boolean=0,0,\nIF(B407+Outlet2_Orifice_Invert<2*Outlet2_Orifice_Centroid,\nIF((0.6*Outlet2_Orifice_Area*(64.4*Outlet2_Orifice_Centroid)^0.5)*((B407+Outlet2_Orifice_Invert)/(2*Outlet2_Orifice_Centroid))^1.81<H407,H407,\n(0.6*Outlet2_Orifice_Area*(64.4*Outlet2_Orifice_Centroid)^0.5)*((B407+Outlet2_Orifice_Invert)/(2*Outlet2_Orifice_Centroid))^1.81),\n0.6*Outlet2_Orifice_Area*(64.4*(B407+Outlet2_Orifice_Invert-Outlet2_Orifice_Centroid))^0.5)))","v":""},{"$f":"IF(B407=\"\",\"\",IF(OR(Outlet_Pipe1_Boolean=0,Outlet_Pipe2_Boolean=0),0,\nIF(Outlet_Pipe2_Rank=4,\nIF(Outlet_Pipe1_Rank=3,MIN(U407,R407+T407),\nIF(AND(Outlet_Pipe1_Rank=2,Vertical_Orifice2_Rank=3),MIN(U407,J407+R407+T407),\nIF(AND(Outlet_Pipe1_Rank=2,Vertical_Orifice1_Rank=3),MIN(U407,I407+R407+T407),MIN(U407,I407+J407+R407+T407)))),\n\nIF(Outlet_Pipe2_Rank=3,\nIF(Outlet_Pipe1_Rank=2,MIN(U407,R407+T407),\nIF(Vertical_Orifice2_Rank=2,MIN(U407,J407+R407+T407),MIN(U407,I407+R407+T407))),\n\nMIN(U407,R407+T407)))))","v":""},{"$f":"IF(B407=\"\",\"\",\nIF(OR(Spillway_Invert=\"\",Spillway_Length=\"\",Spillway_Side_Slopes=\"\",Freeboard_above_Spillway=\"\",B407<=Spillway_Invert),0,\n\nIF(OR(Spillway_Position=\"\",Spillway_Position=\"Offset\"),\n(Cd_BCW*Spillway_Length*(B407-Spillway_Invert)^1.5)+((0.8*Cd_BCW)*Spillway_Side_Slopes*(B407-Spillway_Invert)^2.5),\n\nIF(AND(Weir2_Ho<>\"N/A\",Weir2_horiz_length_of_grate=\"N/A\"),\nIF((Cd_BCW*Spillway_Length*(B407-Spillway_Invert)^1.5)+((0.8*Cd_BCW)*Spillway_Side_Slopes*(B407-Spillway_Invert)^2.5)-(Cd_BCW*(Weir2_W+2*(Spillway_Invert-Weir2_Ho)*Weir2_Grate_Slope)*(B407-Spillway_Invert)^1.5)+((0.8*Cd_BCW)*Weir2_Grate_Slope*(B407-Spillway_Invert)^2.5)<0,0,\n(Cd_BCW*Spillway_Length*(B407-Spillway_Invert)^1.5)+((0.8*Cd_BCW)*Spillway_Side_Slopes*(B407-Spillway_Invert)^2.5)-(Cd_BCW*(Weir2_W+2*(Spillway_Invert-Weir2_Ho)*Weir2_Grate_Slope)*(B407-Spillway_Invert)^1.5)+((0.8*Cd_BCW)*Weir2_Grate_Slope*(B407-Spillway_Invert)^2.5)),\n\nIF((Cd_BCW*Spillway_Length*(B407-Spillway_Invert)^1.5)+((0.8*Cd_BCW)*Spillway_Side_Slopes*(B407-Spillway_Invert)^2.5)-(Cd_BCW*(Weir1_W+2*(Spillway_Invert-Weir1_Ho)*Weir1_Grate_Slope)*(B407-Spillway_Invert)^1.5)+((0.8*Cd_BCW)*Weir1_Grate_Slope*(B407-Spillway_Invert)^2.5)<0,0,\n(Cd_BCW*Spillway_Length*(B407-Spillway_Invert)^1.5)+((0.8*Cd_BCW)*Spillway_Side_Slopes*(B407-Spillway_Invert)^2.5)-(Cd_BCW*(Weir1_W+2*(Spillway_Invert-Weir1_Ho)*Weir1_Grate_Slope)*(B407-Spillway_Invert)^1.5)+((0.8*Cd_BCW)*Weir1_Grate_Slope*(B407-Spillway_Invert)^2.5))))))","v":""},"",{"$f":"IF(B407=\"\",\"\",IF(X407=\"\",\"\",IF(D407=\"\",\"\",X407*$C$3089*60+F407)))","v":""},"","",{"$f":"IF($B407=\"\",\"\",IF(OR(Row1_Stage=\"\",Row1_Stage=\"N/A\"),0,IF($B407<=Row1_Stage,0,0.6*(Row1_Area/144)*(64.4*($B407-Row1_Stage))^0.5)))","v":""},{"$f":"IF($B407=\"\",\"\",IF(OR(Row2_Stage=\"\",Row2_Stage=\"N/A\"),0,IF($B407<=Row2_Stage,0,0.6*(Row2_Area/144)*(64.4*($B407-Row2_Stage))^0.5)))","v":""},{"$f":"IF($B407=\"\",\"\",IF(OR(Row3_Stage=\"\",Row3_Stage=\"N/A\"),0,IF($B407<=Row3_Stage,0,0.6*(Row3_Area/144)*(64.4*($B407-Row3_Stage))^0.5)))","v":""},{"$f":"IF($B407=\"\",\"\",IF(OR(Row4_Stage=\"\",Row4_Stage=\"N/A\"),0,IF($B407<=Row4_Stage,0,0.6*(Row4_Area/144)*(64.4*($B407-Row4_Stage))^0.5)))","v":""},{"$f":"IF($B407=\"\",\"\",IF(OR(Row5_Stage=\"\",Row5_Stage=\"N/A\"),0,IF($B407<=Row5_Stage,0,0.6*(Row5_Area/144)*(64.4*($B407-Row5_Stage))^0.5)))","v":""},{"$f":"IF($B407=\"\",\"\",IF(OR(Row6_Stage=\"\",Row6_Stage=\"N/A\"),0,IF($B407<=Row6_Stage,0,0.6*(Row6_Area/144)*(64.4*($B407-Row6_Stage))^0.5)))","v":""},{"$f":"IF($B407=\"\",\"\",IF(OR(Row7_Stage=\"\",Row7_Stage=\"N/A\"),0,IF($B407<=Row7_Stage,0,0.6*(Row7_Area/144)*(64.4*($B407-Row7_Stage))^0.5)))","v":""},{"$f":"IF($B407=\"\",\"\",IF(OR(Row8_Stage=\"\",Row8_Stage=\"N/A\"),0,IF($B407<=Row8_Stage,0,0.6*(Row8_Area/144)*(64.4*($B407-Row8_Stage))^0.5)))","v":""},{"$f":"IF($B407=\"\",\"\",IF(OR(Row9_Stage=\"\",Row9_Stage=\"N/A\"),0,IF($B407<=Row9_Stage,0,0.6*(Row9_Area/144)*(64.4*($B407-Row9_Stage))^0.5)))","v":""},{"$f":"IF($B407=\"\",\"\",IF(OR(Row10_Stage=\"\",Row10_Stage=\"N/A\"),0,IF($B407<=Row10_Stage,0,0.6*(Row10_Area/144)*(64.4*($B407-Row10_Stage))^0.5)))","v":""},{"$f":"IF($B407=\"\",\"\",IF(OR(Row11_Stage=\"\",Row11_Stage=\"N/A\"),0,IF($B407<=Row11_Stage,0,0.6*(Row11_Area/144)*(64.4*($B407-Row11_Stage))^0.5)))","v":""},{"$f":"IF($B407=\"\",\"\",IF(OR(Row12_Stage=\"\",Row12_Stage=\"N/A\"),0,IF($B407<=Row12_Stage,0,0.6*(Row12_Area/144)*(64.4*($B407-Row12_Stage))^0.5)))","v":""},{"$f":"IF($B407=\"\",\"\",IF(OR(Row13_Stage=\"\",Row13_Stage=\"N/A\"),0,IF($B407<=Row13_Stage,0,0.6*(Row13_Area/144)*(64.4*($B407-Row13_Stage))^0.5)))","v":""},{"$f":"IF($B407=\"\",\"\",IF(OR(Row14_Stage=\"\",Row14_Stage=\"N/A\"),0,IF($B407<=Row14_Stage,0,0.6*(Row14_Area/144)*(64.4*($B407-Row14_Stage))^0.5)))","v":""},{"$f":"IF($B407=\"\",\"\",IF(OR(Row15_Stage=\"\",Row15_Stage=\"N/A\"),0,IF($B407<=Row15_Stage,0,0.6*(Row15_Area/144)*(64.4*($B407-Row15_Stage))^0.5)))","v":""},{"$f":"IF($B407=\"\",\"\",IF(OR(Row16_Stage=\"\",Row16_Stage=\"N/A\"),0,IF($B407<=Row16_Stage,0,0.6*(Row16_Area/144)*(64.4*($B407-Row16_Stage))^0.5)))","v":""},{"$f":"IF(B407=\"\",\"\",SUM(AB407:AQ407))","v":""},{"$f":"IF($B407=\"\",\"\",IF(OR(Zone1_Outlet_Type=4,Zone2_Outlet_Type=4),IF($B407<WQ_Plate_Invert,0,($B407-WQ_Plate_Invert)*AS$86),\"\"))","v":""},"","","",{"$f":"IF($B407=\"\",\"\",IF(OR(Zone1_Outlet_Type=4,Zone2_Outlet_Type=4),IF($B407<WQ_Plate_Invert,0,IF($B407<WQ_Plate_Invert+Ao_OC_or_ESLOT_H,(2*32.2*($B407-WQ_Plate_Invert-AS407))^0.5*(2*Ao_OC_or_ESLOT_H/ESLOT_RATIO*(1-(1-AS407^2/Ao_OC_or_ESLOT_H^2)^0.5)+Ao_or_ESLOT_W/12),0)),\"\"))","v":""},{"$f":"IF($B407=\"\",\"\",IF(OR(Zone1_Outlet_Type=4,Zone2_Outlet_Type=4),IF($B407<WQ_Plate_Invert,0,IF($B407<WQ_Plate_Invert+Ao_OC_or_ESLOT_H,(2*32.2*($B407-WQ_Plate_Invert-AT407))^0.5*(2*Ao_OC_or_ESLOT_H/ESLOT_RATIO*(1-(1-AT407^2/Ao_OC_or_ESLOT_H^2)^0.5)+Ao_or_ESLOT_W/12),0)),\"\"))","v":""},{"$f":"IF($B407=\"\",\"\",IF(OR(Zone1_Outlet_Type=4,Zone2_Outlet_Type=4),IF($B407<WQ_Plate_Invert,0,IF($B407<WQ_Plate_Invert+Ao_OC_or_ESLOT_H,(2*32.2*($B407-WQ_Plate_Invert-AU407))^0.5*(2*Ao_OC_or_ESLOT_H/ESLOT_RATIO*(1-(1-AU407^2/Ao_OC_or_ESLOT_H^2)^0.5)+Ao_or_ESLOT_W/12),0)),\"\"))","v":""},{"$f":"IF($B407=\"\",\"\",IF(OR(Zone1_Outlet_Type=4,Zone2_Outlet_Type=4),IF($B407<WQ_Plate_Invert,0,IF($B407<WQ_Plate_Invert+Ao_OC_or_ESLOT_H,(2*32.2*($B407-WQ_Plate_Invert-AV407))^0.5*(2*Ao_OC_or_ESLOT_H/ESLOT_RATIO*(1-(1-AV407^2/Ao_OC_or_ESLOT_H^2)^0.5)+Ao_or_ESLOT_W/12),0)),\"\"))","v":""},{"$f":"IF(B407=\"\",\"\",IF(OR(Zone1_Outlet_Type=4,Zone2_Outlet_Type=4),IF(B407<WQ_Plate_Invert+Ao_OC_or_ESLOT_H, 0.642*(0.3015*(B407-WQ_Plate_Invert)*(AW407+AX407)+0.1415*(B407-WQ_Plate_Invert)*(AX407+AY407)+0.057*(B407-WQ_Plate_Invert)*AY407),\"N/A\"),\"\"))","v":""},{"$f":"IF(B407=\"\",\"\",IF(OR(Zone1_Outlet_Type=4,Zone2_Outlet_Type=4),IF(B407>=WQ_Plate_Invert+Ao_OC_or_ESLOT_H, 0.6*Elliptical_Slot_Area*(2*32.2*(B407-WQ_Plate_Invert-Elliptical_Slot_Centroid))^0.5,\"N/A\"),\"\"))","v":""},{"$f":"IF(B407=\"\",\"\",IF(OR(Zone1_Outlet_Type=4,Zone2_Outlet_Type=4),IF(B407<WQ_Plate_Invert+Ao_OC_or_ESLOT_H, BA407,BB407),\"\"))","v":""},"","","","","","","","",""]
[null,{"$f":"IF(Basin_CountA=0,\"\",IF(User_Stage_Area=0,Basin!G437,Basin!H437))","v":""},{"$f":"IF(Basin_CountA=0,\"\",IF(User_Stage_Area=0,Basin!K437,IF(B408=\"\",\"\",Basin!L437)))","v":""},{"$f":"IF(Basin_CountA=0,\"\",Basin!N437)","v":""},null,"","","","","","","",{"$f":"IF(B408=\"\",\"\",K408+L408-1.11*(K408*L408)^0.5)","v":""},"","","",{"$f":"IF(B408=\"\",\"\",O408+P408-1.11*(O408*P408)^0.5)","v":""},"","","","","","",{"$f":"IF(B408=\"\",\"\",IF(E408<>\"\",E408,\nIF(V408<>0,V408+W408,\nIF(T408<>0,T408+W408,\nG408+H408+I408+J408+N408+R408+W408))))","v":""},"",{"$f":"IF(B408=\"\",\"\",IF(Y408<=0,0,IF(Y408=\"\",Z407,((X408-X407)/(Y408-Y407)))))","v":""},{"$f":"IF(B408=\"\",\"\",IF(Y408<=0,0,IF(Y408=\"\",AA407,((B408-B407)/(Y408-Y407)))))","v":""},"","","","","","","","","","","","","","","","","","","","","","","","","","","","",{"$f":"IF(B408=\"\",\"\",IF(G408=0,0,IF(X408=G408,1,0)))","v":""},{"$f":"IF(B408=\"\",\"\",IF(H408=0,0,IF(ROUND(X408-G408,3)=ROUND(H408,3),1,0)))","v":""},{"$f":"IF(B408=\"\",\"\",IF(I408=0,0,\nIF(Vertical_Orifice1_Rank=1,IF(ROUND(X408-H408-G408,3)=ROUND(I408,3),1,0),\nIF(Vertical_Orifice1_Rank=2,IF(ROUND(X408-T408,3)=ROUND(I408,3),1,0),\nIF(ROUND(X408-V408,3)=ROUND(I408,3),1,0)))))","v":""},{"$f":"IF(B408=\"\",\"\",IF(J408=0,0,\nIF(Vertical_Orifice2_Rank=2,IF(ROUND(X408-I408-H408-G408,3)=ROUND(J408,3),1,0),\nIF(Vertical_Orifice2_Rank=3,\nIF(Vertical_Orifice1_Rank=1,IF(ROUND(X408-T408,3)=ROUND(J408,3),1,0),IF(ROUND(X408-T408-I408,3)=ROUND(J408,3),1,0)),\nIF(OR(Vertical_Orifice1_Rank=1,Vertical_Orifice1_Rank=2),IF(ROUND(X408-T408,3)=ROUND(J408,3),1,0),IF(ROUND(X408-T408-I408,3)=ROUND(J408,3),1,0))))))","v":""},{"$f":"IF(B408=\"\",\"\",IF(N408=0,0,\nIF(Overflow_Weir1_Rank=1,IF(ROUND(X408-H408-G408,3)=ROUND(N408,3),1,0),\nIF(Overflow_Weir1_Rank=2,IF(ROUND(X408-I408-H408-G408,3)=ROUND(N408,3),1,0),\nIF(ROUND(X408-J408-I408-H408-G408,3)=ROUND(N408,3),1,0)))))","v":""},{"$f":"IF(B408=\"\",\"\",IF(R408=0,0,\nIF(Weir2_Position=\"Overlapping\",IF(ROUND(X408-N408-J408-I408-H408-G408,3)=ROUND(R408,3),1,0),\nIF(Overflow_Weir2_Rank=2,\nIF(ROUND(X408-T408,3)=ROUND(R408,3),1,0),\nIF(Overflow_Weir2_Rank=3,\nIF(Overflow_Weir1_Rank=2,IF(ROUND(X408-T408,3)=ROUND(R408,3),1,0),IF(ROUND(X408-T408-I408,3)=ROUND(R408,3),1,0)),\nIF(Overflow_Weir1_Rank=3,IF(ROUND(X408-T408,3)=ROUND(R408,3),1,0),\nIF(Overflow_Weir1_Rank=2,IF(ROUND(X408-T408-I408,3)=ROUND(R408,3),1,0),IF(ROUND(X408-T408-J408-I408,3)=ROUND(R408,3),1,0))))))))","v":""},"","",{"$f":"IF(B408=\"\",\"\",IF(W408=0,0,1))","v":""}]
[null,{"$f":"IF(Basin_CountA=0,\"\",IF(User_Stage_Area=0,Basin!G438,Basin!H438))","v":""},{"$f":"IF(Basin_CountA=0,\"\",IF(User_Stage_Area=0,Basin!K438,IF(B409=\"\",\"\",Basin!L438)))","v":""},{"$f":"IF(Basin_CountA=0,\"\",Basin!N438)","v":""},null,"","","","","","","","","","","","","","","","","","","","","","","","","","","","","","","","","","","","","","","","","","","","","","","","","","","","","","","","",{"$f":"IF(B409=\"\",\"\",IF(T409=0,0,IF(ROUND(X409,3)=ROUND(S409,3),1,0)))","v":""},{"$f":"IF(B409=\"\",\"\",IF(V409=0,0,IF(ROUND(X409,3)=ROUND(U409,3),1,0)))","v":""},""]
[null,{"$f":"IF(Basin_CountA=0,\"\",IF(User_Stage_Area=0,Basin!G439,Basin!H439))","v":""},{"$f":"IF(Basin_CountA=0,\"\",IF(User_Stage_Area=0,Basin!K439,IF(B410=\"\",\"\",Basin!L439)))","v":""},{"$f":"IF(Basin_CountA=0,\"\",Basin!N439)","v":""},null,"","","","","","","","","","","","","","","","","","","","","","","","","","","","","","","","","","","","","","","","","","","","","","","","","","","","","","","","","","",""]
[null,{"$f":"IF(Basin_CountA=0,\"\",IF(User_Stage_Area=0,Basin!G440,Basin!H440))","v":""},{"$f":"IF(Basin_CountA=0,\"\",IF(User_Stage_Area=0,Basin!K440,IF(B411=\"\",\"\",Basin!L440)))","v":""},{"$f":"IF(Basin_CountA=0,\"\",Basin!N440)","v":""},null,"","","","","","","","","","","","","","","","","","","","","","","","","","","","","","","","","","","","","","","","","","","","","","","","","","","","","","","","","","",""]
[null,{"$f":"IF(Basin_CountA=0,\"\",IF(User_Stage_Area=0,Basin!G441,Basin!H441))","v":""},{"$f":"IF(Basin_CountA=0,\"\",IF(User_Stage_Area=0,Basin!K441,IF(B412=\"\",\"\",Basin!L441)))","v":""},{"$f":"IF(Basin_CountA=0,\"\",Basin!N441)","v":""},null,"","","","","","","","","","","","","","","","","","","","","","","","","","","","","","","","","","","","","","","","","","","","","","","","","","","","","","","","","","",""]
[null,{"$f":"IF(Basin_CountA=0,\"\",IF(User_Stage_Area=0,Basin!G442,Basin!H442))","v":""},{"$f":"IF(Basin_CountA=0,\"\",IF(User_Stage_Area=0,Basin!K442,IF(B413=\"\",\"\",Basin!L442)))","v":""},{"$f":"IF(Basin_CountA=0,\"\",Basin!N442)","v":""},null,"","","","","","","","","","","","","","","","","","","","","","","","","","","","","","","","","","","","","","","","","","","","","","","","","","","","","","","","","","",""]
[null,{"$f":"IF(Basin_CountA=0,\"\",IF(User_Stage_Area=0,Basin!G443,Basin!H443))","v":""},{"$f":"IF(Basin_CountA=0,\"\",IF(User_Stage_Area=0,Basin!K443,IF(B414=\"\",\"\",Basin!L443)))","v":""},{"$f":"IF(Basin_CountA=0,\"\",Basin!N443)","v":""},null,"","","","","","","","","","","","","","","","","","","","","","","","","","","","","","","","","","","","","","","","","","","","","","","","","","","","","","","","","","",""]
[null,{"$f":"IF(Basin_CountA=0,\"\",IF(User_Stage_Area=0,Basin!G444,Basin!H444))","v":""},{"$f":"IF(Basin_CountA=0,\"\",IF(User_Stage_Area=0,Basin!K444,IF(B415=\"\",\"\",Basin!L444)))","v":""},{"$f":"IF(Basin_CountA=0,\"\",Basin!N444)","v":""},null,"","","","","","","","","","","","","","","","","","","","","","","","","","","","","","","","","","","","","","","","","","","","","","","","","","","","","","","","","","",""]
[null,{"$f":"IF(Basin_CountA=0,\"\",IF(User_Stage_Area=0,Basin!G445,Basin!H445))","v":""},{"$f":"IF(Basin_CountA=0,\"\",IF(User_Stage_Area=0,Basin!K445,IF(B416=\"\",\"\",Basin!L445)))","v":""},{"$f":"IF(Basin_CountA=0,\"\",Basin!N445)","v":""},null,"","","","","","","","","","","","","","","","","","","","","","","","","","","","","","","","","","","","","","","","","","","","","","","","","","","","","","","","","","",""]
[null,{"$f":"IF(Basin_CountA=0,\"\",IF(User_Stage_Area=0,Basin!G446,Basin!H446))","v":""},{"$f":"IF(Basin_CountA=0,\"\",IF(User_Stage_Area=0,Basin!K446,IF(B417=\"\",\"\",Basin!L446)))","v":""},{"$f":"IF(Basin_CountA=0,\"\",Basin!N446)","v":""},null,"","","","","","","","","","","","","","","","","","","","","","","","","","","","","","","","","","","","","","","","","","","","","","","","","","","","","","","","","","",""]
[null,{"$f":"IF(Basin_CountA=0,\"\",IF(User_Stage_Area=0,Basin!G447,Basin!H447))","v":""},{"$f":"IF(Basin_CountA=0,\"\",IF(User_Stage_Area=0,Basin!K447,IF(B418=\"\",\"\",Basin!L447)))","v":""},{"$f":"IF(Basin_CountA=0,\"\",Basin!N447)","v":""},null,"","","","","","","","","","","","","","","","","","","","","","","","","","","","","","","","","","","","","","","","","","","","","","","","","","","","","","","","","","",""]
[null,{"$f":"IF(Basin_CountA=0,\"\",IF(User_Stage_Area=0,Basin!G448,Basin!H448))","v":""},{"$f":"IF(Basin_CountA=0,\"\",IF(User_Stage_Area=0,Basin!K448,IF(B419=\"\",\"\",Basin!L448)))","v":""},{"$f":"IF(Basin_CountA=0,\"\",Basin!N448)","v":""},null,"","","","","","","","","","","","","","","","","","","","","","","","","","","","","","","","","","","","","","","","","","","","","","","","","","","","","","","","","","",""]
[null,{"$f":"IF(Basin_CountA=0,\"\",IF(User_Stage_Area=0,Basin!G449,Basin!H449))","v":""},{"$f":"IF(Basin_CountA=0,\"\",IF(User_Stage_Area=0,Basin!K449,IF(B420=\"\",\"\",Basin!L449)))","v":""},{"$f":"IF(Basin_CountA=0,\"\",Basin!N449)","v":""},null,"","","","","","","","","","","","","","","","","","","","","","","","","","","","","","","","","","","","","","","","","","","","","","","","","","","","","","","","","","",""]
[null,{"$f":"IF(Basin_CountA=0,\"\",IF(User_Stage_Area=0,Basin!G450,Basin!H450))","v":""},{"$f":"IF(Basin_CountA=0,\"\",IF(User_Stage_Area=0,Basin!K450,IF(B421=\"\",\"\",Basin!L450)))","v":""},{"$f":"IF(Basin_CountA=0,\"\",Basin!N450)","v":""},null,"","","","","","","","","","","","","","","","","","","","","","","","","","","","","","","","","","","","","","","","","","","","","","","","","","","","","","","","","","",""]
[null,{"$f":"IF(Basin_CountA=0,\"\",IF(User_Stage_Area=0,Basin!G451,Basin!H451))","v":""},{"$f":"IF(Basin_CountA=0,\"\",IF(User_Stage_Area=0,Basin!K451,IF(B422=\"\",\"\",Basin!L451)))","v":""},{"$f":"IF(Basin_CountA=0,\"\",Basin!N451)","v":""},null,"","","","","","","","","","","","","","","","","","","","","","","","","","","","","","","","","","","","","","","","","","","","","","","","","","","","","","","","","","",""]
[null,{"$f":"IF(Basin_CountA=0,\"\",IF(User_Stage_Area=0,Basin!G452,Basin!H452))","v":""},{"$f":"IF(Basin_CountA=0,\"\",IF(User_Stage_Area=0,Basin!K452,IF(B423=\"\",\"\",Basin!L452)))","v":""},{"$f":"IF(Basin_CountA=0,\"\",Basin!N452)","v":""},null,"","","","","","","","","","","","","","","","","","","","","","","","","","","","","","","","","","","","","","","","","","","","","","","","","","","","","","","","","","",""]
[null,{"$f":"IF(Basin_CountA=0,\"\",IF(User_Stage_Area=0,Basin!G453,Basin!H453))","v":""},{"$f":"IF(Basin_CountA=0,\"\",IF(User_Stage_Area=0,Basin!K453,IF(B424=\"\",\"\",Basin!L453)))","v":""},{"$f":"IF(Basin_CountA=0,\"\",Basin!N453)","v":""},null,"","","","","","","","","","","","","","","","","","","","","","","","","","","","","","","","","","","","","","","","","","","","","","","","","","","","","","","","","","",""]
[null,{"$f":"IF(Basin_CountA=0,\"\",IF(User_Stage_Area=0,Basin!G454,Basin!H454))","v":""},{"$f":"IF(Basin_CountA=0,\"\",IF(User_Stage_Area=0,Basin!K454,IF(B425=\"\",\"\",Basin!L454)))","v":""},{"$f":"IF(Basin_CountA=0,\"\",Basin!N454)","v":""},null,"","","","","","","","","","","","","","","","","","","","","","","","","","","","","","","","","","","","","","","","","","","","","","","","","","","","","","","","","","",""]
[null,{"$f":"IF(Basin_CountA=0,\"\",IF(User_Stage_Area=0,Basin!G455,Basin!H455))","v":""},{"$f":"IF(Basin_CountA=0,\"\",IF(User_Stage_Area=0,Basin!K455,IF(B426=\"\",\"\",Basin!L455)))","v":""},{"$f":"IF(Basin_CountA=0,\"\",Basin!N455)","v":""},null,"","","","","","","","","","","","","","","","","","","","","","","","","","","","","","","","","","","","","","","","","","","","","","","","","","","","","","","","","","",""]
[null,{"$f":"IF(Basin_CountA=0,\"\",IF(User_Stage_Area=0,Basin!G456,Basin!H456))","v":""},{"$f":"IF(Basin_CountA=0,\"\",IF(User_Stage_Area=0,Basin!K456,IF(B427=\"\",\"\",Basin!L456)))","v":""},{"$f":"IF(Basin_CountA=0,\"\",Basin!N456)","v":""},null,"","","","","","","","","","","","","","","","","","","","","","","","","","","","","","","","","","","","","","","",{"$f":"IF($B427=\"\",\"\",IF(OR(Zone1_Outlet_Type=4,Zone2_Outlet_Type=4),IF($B427<WQ_Plate_Invert,0,($B427-WQ_Plate_Invert)*AS$86),\"\"))","v":""},"","","","","","","","","","","","","","","","","","",""]
[null,{"$f":"IF(Basin_CountA=0,\"\",IF(User_Stage_Area=0,Basin!G457,Basin!H457))","v":""},{"$f":"IF(Basin_CountA=0,\"\",IF(User_Stage_Area=0,Basin!K457,IF(B428=\"\",\"\",Basin!L457)))","v":""},{"$f":"IF(Basin_CountA=0,\"\",Basin!N457)","v":""},null,"","","","","","","","","","","","","","","","","","","","","","","","","","","","","","","","","","","","","","","","","","","","","","","","","","","","","","","","","","",""]
[null,{"$f":"IF(Basin_CountA=0,\"\",IF(User_Stage_Area=0,Basin!G458,Basin!H458))","v":""},{"$f":"IF(Basin_CountA=0,\"\",IF(User_Stage_Area=0,Basin!K458,IF(B429=\"\",\"\",Basin!L458)))","v":""},{"$f":"IF(Basin_CountA=0,\"\",Basin!N458)","v":""},null,"","","","","","","","","","","","","","","","","","","","","","","","","","","","","","","","","","","","","","","","","","","","","","","","","","","","","","","","","","",""]
[null,{"$f":"IF(Basin_CountA=0,\"\",IF(User_Stage_Area=0,Basin!G459,Basin!H459))","v":""},{"$f":"IF(Basin_CountA=0,\"\",IF(User_Stage_Area=0,Basin!K459,IF(B430=\"\",\"\",Basin!L459)))","v":""},{"$f":"IF(Basin_CountA=0,\"\",Basin!N459)","v":""},null,"","","","","","","","","","","","","","","","","","","","","","","","","","","","","","","","","","","","","","","","","","","","","","","","","","","","","","","","","","",""]
[null,{"$f":"IF(Basin_CountA=0,\"\",IF(User_Stage_Area=0,Basin!G460,Basin!H460))","v":""},{"$f":"IF(Basin_CountA=0,\"\",IF(User_Stage_Area=0,Basin!K460,IF(B431=\"\",\"\",Basin!L460)))","v":""},{"$f":"IF(Basin_CountA=0,\"\",Basin!N460)","v":""},null,"","","","","","","","","","","","","","","","","","","","","","","","","","","","","","","","","","","","","","","","","","","","","","","","","","","","","","","","","","",""]
[null,{"$f":"IF(Basin_CountA=0,\"\",IF(User_Stage_Area=0,Basin!G461,Basin!H461))","v":""},{"$f":"IF(Basin_CountA=0,\"\",IF(User_Stage_Area=0,Basin!K461,IF(B432=\"\",\"\",Basin!L461)))","v":""},{"$f":"IF(Basin_CountA=0,\"\",Basin!N461)","v":""},null,"","","","","","","","","","","","","","","","","","","","","","","","","","","","","","","","","","","","","","","","","","","","","","","","","","","","","","","","","","",""]
[null,{"$f":"IF(Basin_CountA=0,\"\",IF(User_Stage_Area=0,Basin!G462,Basin!H462))","v":""},{"$f":"IF(Basin_CountA=0,\"\",IF(User_Stage_Area=0,Basin!K462,IF(B433=\"\",\"\",Basin!L462)))","v":""},{"$f":"IF(Basin_CountA=0,\"\",Basin!N462)","v":""},null,"","","","","","","","","","","","","","","","","","","","","","","","","","","","","","","","","","","","","","","","","","","","","","","","","","","","","","","","","","",""]
[null,{"$f":"IF(Basin_CountA=0,\"\",IF(User_Stage_Area=0,Basin!G463,Basin!H463))","v":""},{"$f":"IF(Basin_CountA=0,\"\",IF(User_Stage_Area=0,Basin!K463,IF(B434=\"\",\"\",Basin!L463)))","v":""},{"$f":"IF(Basin_CountA=0,\"\",Basin!N463)","v":""},null,"","","","","","","","","","","","","","","","","","","","","","","","","","","","","","","","","","","","","","","","","","","","","","","","","","","","","","","","","","",""]
[null,{"$f":"IF(Basin_CountA=0,\"\",IF(User_Stage_Area=0,Basin!G464,Basin!H464))","v":""},{"$f":"IF(Basin_CountA=0,\"\",IF(User_Stage_Area=0,Basin!K464,IF(B435=\"\",\"\",Basin!L464)))","v":""},{"$f":"IF(Basin_CountA=0,\"\",Basin!N464)","v":""},null,"","","","","","","","","","","","","","","","","","","","","","","","","","","","","","","","","","","","","","","","","","","","","","","","","","","","","","","","","","",""]
[null,{"$f":"IF(Basin_CountA=0,\"\",IF(User_Stage_Area=0,Basin!G465,Basin!H465))","v":""},{"$f":"IF(Basin_CountA=0,\"\",IF(User_Stage_Area=0,Basin!K465,IF(B436=\"\",\"\",Basin!L465)))","v":""},{"$f":"IF(Basin_CountA=0,\"\",Basin!N465)","v":""},null,"","","","","","","","","","","","","","","","","","","","","","","","","","","","","","","","","","","","","","","","","","","","","","","","","","","","","","","","","","",""]
[null,{"$f":"IF(Basin_CountA=0,\"\",IF(User_Stage_Area=0,Basin!G466,Basin!H466))","v":""},{"$f":"IF(Basin_CountA=0,\"\",IF(User_Stage_Area=0,Basin!K466,IF(B437=\"\",\"\",Basin!L466)))","v":""},{"$f":"IF(Basin_CountA=0,\"\",Basin!N466)","v":""},null,"","","","","","","","","","","","","","","","","","","","","","","","","","","","","","","","","","","","","","","","","","","","","","","","","","","","","","","","","","",""]
[null,{"$f":"IF(Basin_CountA=0,\"\",IF(User_Stage_Area=0,Basin!G467,Basin!H467))","v":""},{"$f":"IF(Basin_CountA=0,\"\",IF(User_Stage_Area=0,Basin!K467,IF(B438=\"\",\"\",Basin!L467)))","v":""},{"$f":"IF(Basin_CountA=0,\"\",Basin!N467)","v":""},null,"","","","","","","","","","","","","","","","","","","","","","","","","","","","","","","","","","","","","","","","","","","","","","","","","","","","","","","","","","",""]
[null,{"$f":"IF(Basin_CountA=0,\"\",IF(User_Stage_Area=0,Basin!G468,Basin!H468))","v":""},{"$f":"IF(Basin_CountA=0,\"\",IF(User_Stage_Area=0,Basin!K468,IF(B439=\"\",\"\",Basin!L468)))","v":""},{"$f":"IF(Basin_CountA=0,\"\",Basin!N468)","v":""},null,"","","","","","","","","","","","","","","","","","","","","","","","","","","","","","","","","","","","","","","","","","","","","","","","","","","","","","","","","","",""]
[null,{"$f":"IF(Basin_CountA=0,\"\",IF(User_Stage_Area=0,Basin!G469,Basin!H469))","v":""},{"$f":"IF(Basin_CountA=0,\"\",IF(User_Stage_Area=0,Basin!K469,IF(B440=\"\",\"\",Basin!L469)))","v":""},{"$f":"IF(Basin_CountA=0,\"\",Basin!N469)","v":""},null,"","","","","","","","","","","","","","","","","","","","","","","","","","","","","","","","","","","","","","","","","","","","","","","","","","","","","","","","","","",""]
[null,{"$f":"IF(Basin_CountA=0,\"\",IF(User_Stage_Area=0,Basin!G470,Basin!H470))","v":""},{"$f":"IF(Basin_CountA=0,\"\",IF(User_Stage_Area=0,Basin!K470,IF(B441=\"\",\"\",Basin!L470)))","v":""},{"$f":"IF(Basin_CountA=0,\"\",Basin!N470)","v":""},null,"","","","","","","","","","","","","","","","","","","","","","","","","","","","","","","","","","","","","","","","","","","","","","","","","","","","","","","","","","",""]
[null,{"$f":"IF(Basin_CountA=0,\"\",IF(User_Stage_Area=0,Basin!G471,Basin!H471))","v":""},{"$f":"IF(Basin_CountA=0,\"\",IF(User_Stage_Area=0,Basin!K471,IF(B442=\"\",\"\",Basin!L471)))","v":""},{"$f":"IF(Basin_CountA=0,\"\",Basin!N471)","v":""},null,"","","","","","","","","","","","","","","","","","","","","","","","","","","","","","","","","","","","","","","","","","","","","","","","","","","","","","","","","","",""]
[null,{"$f":"IF(Basin_CountA=0,\"\",IF(User_Stage_Area=0,Basin!G472,Basin!H472))","v":""},{"$f":"IF(Basin_CountA=0,\"\",IF(User_Stage_Area=0,Basin!K472,IF(B443=\"\",\"\",Basin!L472)))","v":""},{"$f":"IF(Basin_CountA=0,\"\",Basin!N472)","v":""},null,"","","","","","","","","","","","","","","","","","","","","","","","","","","","","","","","","","","","","","","","","","","","","","","","","","","","","","","","","","",""]
[null,{"$f":"IF(Basin_CountA=0,\"\",IF(User_Stage_Area=0,Basin!G473,Basin!H473))","v":""},{"$f":"IF(Basin_CountA=0,\"\",IF(User_Stage_Area=0,Basin!K473,IF(B444=\"\",\"\",Basin!L473)))","v":""},{"$f":"IF(Basin_CountA=0,\"\",Basin!N473)","v":""},null,"","","","","","","","","","","","","","","","","","","","","","","","","","","","","","","","","","","","","","","","","","","","","","","","","","","","","","","","","","",""]
[null,{"$f":"IF(Basin_CountA=0,\"\",IF(User_Stage_Area=0,Basin!G474,Basin!H474))","v":""},{"$f":"IF(Basin_CountA=0,\"\",IF(User_Stage_Area=0,Basin!K474,IF(B445=\"\",\"\",Basin!L474)))","v":""},{"$f":"IF(Basin_CountA=0,\"\",Basin!N474)","v":""},null,"","","","","","","","","","","","","","","","","","","","","","","","","","","","","","","","","","","","","","","","","","","","","","","","","","","","","","","","","","",""]
[null,{"$f":"IF(Basin_CountA=0,\"\",IF(User_Stage_Area=0,Basin!G475,Basin!H475))","v":""},{"$f":"IF(Basin_CountA=0,\"\",IF(User_Stage_Area=0,Basin!K475,IF(B446=\"\",\"\",Basin!L475)))","v":""},{"$f":"IF(Basin_CountA=0,\"\",Basin!N475)","v":""},null,"","","","","","","","","","","","","","","","","","","","","","","","","","","","","","","","","","","","","","","","","","","","","","","","","","","","","","","","","","",""]
[null,{"$f":"IF(Basin_CountA=0,\"\",IF(User_Stage_Area=0,Basin!G476,Basin!H476))","v":""},{"$f":"IF(Basin_CountA=0,\"\",IF(User_Stage_Area=0,Basin!K476,IF(B447=\"\",\"\",Basin!L476)))","v":""},{"$f":"IF(Basin_CountA=0,\"\",Basin!N476)","v":""},null,"","","","","","","","","","","","","","","","","","","","","","","","","","","","","","","","","","","","","","","",{"$f":"IF($B447=\"\",\"\",IF(OR(Zone1_Outlet_Type=4,Zone2_Outlet_Type=4),IF($B447<WQ_Plate_Invert,0,($B447-WQ_Plate_Invert)*AS$86),\"\"))","v":""},"","","","","","","","","","","","","","","","","","",""]
[null,{"$f":"IF(Basin_CountA=0,\"\",IF(User_Stage_Area=0,Basin!G477,Basin!H477))","v":""},{"$f":"IF(Basin_CountA=0,\"\",IF(User_Stage_Area=0,Basin!K477,IF(B448=\"\",\"\",Basin!L477)))","v":""},{"$f":"IF(Basin_CountA=0,\"\",Basin!N477)","v":""},null,"","","","","","","","","","","","","","","","","","","","","","","","","","","","","","","","","","","","","","","","","","","","","","","","","","","","","","","","","","",""]
[null,{"$f":"IF(Basin_CountA=0,\"\",IF(User_Stage_Area=0,Basin!G478,Basin!H478))","v":""},{"$f":"IF(Basin_CountA=0,\"\",IF(User_Stage_Area=0,Basin!K478,IF(B449=\"\",\"\",Basin!L478)))","v":""},{"$f":"IF(Basin_CountA=0,\"\",Basin!N478)","v":""},null,"","","","","","","","","","","","","","","","","","","","","","","","","","","","","","","","","","","","","","","","","","","","","","","","","","","","","","","","","","",""]
[null,{"$f":"IF(Basin_CountA=0,\"\",IF(User_Stage_Area=0,Basin!G479,Basin!H479))","v":""},{"$f":"IF(Basin_CountA=0,\"\",IF(User_Stage_Area=0,Basin!K479,IF(B450=\"\",\"\",Basin!L479)))","v":""},{"$f":"IF(Basin_CountA=0,\"\",Basin!N479)","v":""},null,"","","","","","","","","","","","","","","","","","","","","","","","","","","","","","","","","","","","","","","","","","","","","","","","","","","","","","","","","","",""]
[null,{"$f":"IF(Basin_CountA=0,\"\",IF(User_Stage_Area=0,Basin!G480,Basin!H480))","v":""},{"$f":"IF(Basin_CountA=0,\"\",IF(User_Stage_Area=0,Basin!K480,IF(B451=\"\",\"\",Basin!L480)))","v":""},{"$f":"IF(Basin_CountA=0,\"\",Basin!N480)","v":""},null,"","","","","","","","","","","","","","","","","","","","","","","","","","","","","","","","","","","","","","","","","","","","","","","","","","","","","","","","","","",""]
[null,{"$f":"IF(Basin_CountA=0,\"\",IF(User_Stage_Area=0,Basin!G481,Basin!H481))","v":""},{"$f":"IF(Basin_CountA=0,\"\",IF(User_Stage_Area=0,Basin!K481,IF(B452=\"\",\"\",Basin!L481)))","v":""},{"$f":"IF(Basin_CountA=0,\"\",Basin!N481)","v":""},null,"","","","","","","","","","","","","","","","","","","","","","","","","","","","","","","","","","","","","","","","","","","","","","","","","","","","","","","","","","",""]
[null,{"$f":"IF(Basin_CountA=0,\"\",IF(User_Stage_Area=0,Basin!G482,Basin!H482))","v":""},{"$f":"IF(Basin_CountA=0,\"\",IF(User_Stage_Area=0,Basin!K482,IF(B453=\"\",\"\",Basin!L482)))","v":""},{"$f":"IF(Basin_CountA=0,\"\",Basin!N482)","v":""},null,"","","","","","","","","","","","","","","","","","","","","","","","","","","","","","","","","","","","","","","","","","","","","","","","","","","","","","","","","","",""]
[null,{"$f":"IF(Basin_CountA=0,\"\",IF(User_Stage_Area=0,Basin!G483,Basin!H483))","v":""},{"$f":"IF(Basin_CountA=0,\"\",IF(User_Stage_Area=0,Basin!K483,IF(B454=\"\",\"\",Basin!L483)))","v":""},{"$f":"IF(Basin_CountA=0,\"\",Basin!N483)","v":""},null,"","","","","","","","","","","","","","","","","","","","","","","","","","","","","","","","","","","","","","","","","","","","","","","","","","","","","","","","","","",""]
[null,{"$f":"IF(Basin_CountA=0,\"\",IF(User_Stage_Area=0,Basin!G484,Basin!H484))","v":""},{"$f":"IF(Basin_CountA=0,\"\",IF(User_Stage_Area=0,Basin!K484,IF(B455=\"\",\"\",Basin!L484)))","v":""},{"$f":"IF(Basin_CountA=0,\"\",Basin!N484)","v":""},null,"","","","","","","","","","","","","","","","","","","","","","","","","","","","","","","","","","","","","","","","","","","","","","","","","","","","","","","","","","",""]
[null,{"$f":"IF(Basin_CountA=0,\"\",IF(User_Stage_Area=0,Basin!G485,Basin!H485))","v":""},{"$f":"IF(Basin_CountA=0,\"\",IF(User_Stage_Area=0,Basin!K485,IF(B456=\"\",\"\",Basin!L485)))","v":""},{"$f":"IF(Basin_CountA=0,\"\",Basin!N485)","v":""},null,"","","","","","","","","","","","","","","","","","","","","","","","","","","","","","","","","","","","","","","","","","","","","","","","","","","","","","","","","","",""]
[null,{"$f":"IF(Basin_CountA=0,\"\",IF(User_Stage_Area=0,Basin!G486,Basin!H486))","v":""},{"$f":"IF(Basin_CountA=0,\"\",IF(User_Stage_Area=0,Basin!K486,IF(B457=\"\",\"\",Basin!L486)))","v":""},{"$f":"IF(Basin_CountA=0,\"\",Basin!N486)","v":""},null,"","","","","","","","","","","","","","","","","","","","","","","","","","","","","","","","","","","","","","","","","","","","","","","","","","","","","","","","","","",""]
[null,{"$f":"IF(Basin_CountA=0,\"\",IF(User_Stage_Area=0,Basin!G487,Basin!H487))","v":""},{"$f":"IF(Basin_CountA=0,\"\",IF(User_Stage_Area=0,Basin!K487,IF(B458=\"\",\"\",Basin!L487)))","v":""},{"$f":"IF(Basin_CountA=0,\"\",Basin!N487)","v":""},null,"","","","","","","","","","","","","","","","","","","","","","","","","","","","","","","","","","","","","","","","","","","","","","","","","","","","","","","","","","",""]
[null,{"$f":"IF(Basin_CountA=0,\"\",IF(User_Stage_Area=0,Basin!G488,Basin!H488))","v":""},{"$f":"IF(Basin_CountA=0,\"\",IF(User_Stage_Area=0,Basin!K488,IF(B459=\"\",\"\",Basin!L488)))","v":""},{"$f":"IF(Basin_CountA=0,\"\",Basin!N488)","v":""},null,"","","","","","","","","","","","","","","","","","","","","","","","","","","","","","","","","","","","","","","","","","","","","","","","","","","","","","","","","","",""]
[null,{"$f":"IF(Basin_CountA=0,\"\",IF(User_Stage_Area=0,Basin!G489,Basin!H489))","v":""},{"$f":"IF(Basin_CountA=0,\"\",IF(User_Stage_Area=0,Basin!K489,IF(B460=\"\",\"\",Basin!L489)))","v":""},{"$f":"IF(Basin_CountA=0,\"\",Basin!N489)","v":""},null,"","","","","","","","","","","","","","","","","","","","","","","","","","","","","","","","","","","","","","","","","","","","","","","","","","","","","","","","","","",""]
[null,{"$f":"IF(Basin_CountA=0,\"\",IF(User_Stage_Area=0,Basin!G490,Basin!H490))","v":""},{"$f":"IF(Basin_CountA=0,\"\",IF(User_Stage_Area=0,Basin!K490,IF(B461=\"\",\"\",Basin!L490)))","v":""},{"$f":"IF(Basin_CountA=0,\"\",Basin!N490)","v":""},null,"","","","","","","","","","","","","","","","","","","","","","","","","","","","","","","","","","","","","","","","","","","","","","","","","","","","","","","","","","",""]
[null,{"$f":"IF(Basin_CountA=0,\"\",IF(User_Stage_Area=0,Basin!G491,Basin!H491))","v":""},{"$f":"IF(Basin_CountA=0,\"\",IF(User_Stage_Area=0,Basin!K491,IF(B462=\"\",\"\",Basin!L491)))","v":""},{"$f":"IF(Basin_CountA=0,\"\",Basin!N491)","v":""},null,"","","","","","","","","","","","","","","","","","","","","","","","","","","","","","","","","","","","","","","","","","","","","","","","","","","","","","","","","","",""]
[null,{"$f":"IF(Basin_CountA=0,\"\",IF(User_Stage_Area=0,Basin!G492,Basin!H492))","v":""},{"$f":"IF(Basin_CountA=0,\"\",IF(User_Stage_Area=0,Basin!K492,IF(B463=\"\",\"\",Basin!L492)))","v":""},{"$f":"IF(Basin_CountA=0,\"\",Basin!N492)","v":""},null,"","","","","","","","","","","","","","","","","","","","","","","","","","","","","","","","","","","","","","","","","","","","","","","","","","","","","","","","","","",""]
[null,{"$f":"IF(Basin_CountA=0,\"\",IF(User_Stage_Area=0,Basin!G493,Basin!H493))","v":""},{"$f":"IF(Basin_CountA=0,\"\",IF(User_Stage_Area=0,Basin!K493,IF(B464=\"\",\"\",Basin!L493)))","v":""},{"$f":"IF(Basin_CountA=0,\"\",Basin!N493)","v":""},null,"","","","","","","","","","","","","","","","","","","","","","","","","","","","","","","","","","","","","","","","","","","","","","","","","","","","","","","","","","",""]
[null,{"$f":"IF(Basin_CountA=0,\"\",IF(User_Stage_Area=0,Basin!G494,Basin!H494))","v":""},{"$f":"IF(Basin_CountA=0,\"\",IF(User_Stage_Area=0,Basin!K494,IF(B465=\"\",\"\",Basin!L494)))","v":""},{"$f":"IF(Basin_CountA=0,\"\",Basin!N494)","v":""},null,"","","","","","","","","","","","","","","","","","","","","","","","","","","","","","","","","","","","","","","","","","","","","","","","","","","","","","","","","","",""]
[null,{"$f":"IF(Basin_CountA=0,\"\",IF(User_Stage_Area=0,Basin!G495,Basin!H495))","v":""},{"$f":"IF(Basin_CountA=0,\"\",IF(User_Stage_Area=0,Basin!K495,IF(B466=\"\",\"\",Basin!L495)))","v":""},{"$f":"IF(Basin_CountA=0,\"\",Basin!N495)","v":""},null,"","","","","","","","","","","","","","","","","","","","","","","","","","","","","","","","","","","","","","","","","","","","","","","","","","","","","","","","","","",""]
[null,{"$f":"IF(Basin_CountA=0,\"\",IF(User_Stage_Area=0,Basin!G496,Basin!H496))","v":""},{"$f":"IF(Basin_CountA=0,\"\",IF(User_Stage_Area=0,Basin!K496,IF(B467=\"\",\"\",Basin!L496)))","v":""},{"$f":"IF(Basin_CountA=0,\"\",Basin!N496)","v":""},null,"","","","","","","","","","","","","","","","","","","","","","","","","","","","","","","","","","","","","","","",{"$f":"IF($B467=\"\",\"\",IF(OR(Zone1_Outlet_Type=4,Zone2_Outlet_Type=4),IF($B467<WQ_Plate_Invert,0,($B467-WQ_Plate_Invert)*AS$86),\"\"))","v":""},"","","","","","","","","","","","","","","","","","",""]
[null,{"$f":"IF(Basin_CountA=0,\"\",IF(User_Stage_Area=0,Basin!G497,Basin!H497))","v":""},{"$f":"IF(Basin_CountA=0,\"\",IF(User_Stage_Area=0,Basin!K497,IF(B468=\"\",\"\",Basin!L497)))","v":""},{"$f":"IF(Basin_CountA=0,\"\",Basin!N497)","v":""},null,"","","","","","","","","","","","","","","","","","","","","","","","","","","","","","","","","","","","","","","","","","","","","","","","","","","","","","","","","","",""]
[null,{"$f":"IF(Basin_CountA=0,\"\",IF(User_Stage_Area=0,Basin!G498,Basin!H498))","v":""},{"$f":"IF(Basin_CountA=0,\"\",IF(User_Stage_Area=0,Basin!K498,IF(B469=\"\",\"\",Basin!L498)))","v":""},{"$f":"IF(Basin_CountA=0,\"\",Basin!N498)","v":""},null,"","","","","","","","","","","","","","","","","","","","","","","","","","","","","","","","","","","","","","","","","","","","","","","","","","","","","","","","","","",""]
[null,{"$f":"IF(Basin_CountA=0,\"\",IF(User_Stage_Area=0,Basin!G499,Basin!H499))","v":""},{"$f":"IF(Basin_CountA=0,\"\",IF(User_Stage_Area=0,Basin!K499,IF(B470=\"\",\"\",Basin!L499)))","v":""},{"$f":"IF(Basin_CountA=0,\"\",Basin!N499)","v":""},null,"","","","","","","","","","","","","","","","","","","","","","","","","","","","","","","","","","","","","","","","","","","","","","","","","","","","","","","","","","",""]
[null,{"$f":"IF(Basin_CountA=0,\"\",IF(User_Stage_Area=0,Basin!G500,Basin!H500))","v":""},{"$f":"IF(Basin_CountA=0,\"\",IF(User_Stage_Area=0,Basin!K500,IF(B471=\"\",\"\",Basin!L500)))","v":""},{"$f":"IF(Basin_CountA=0,\"\",Basin!N500)","v":""},null,{"$f":"IF(B471=\"\",\"\",IF(D471=\"\",\"\",2*D471))","v":""},{"$f":"IF(B471=\"\",\"\",\nIF(OR(Underdrain_Invert=\"\",Underdrain_Invert=\"N/A\",Underdrain_Diameter=\"\",Underdrain_Diameter=\"N/A\"),0,\nIF(B471+Underdrain_Invert<=Underdrain_Orifice_Centroid,0,IF(B471=0,0,0.6*Underdrain_Orifice_Area*(64.4*(B471+Underdrain_Invert-Underdrain_Orifice_Centroid))^0.5))))","v":""},{"$f":"IF(B471=\"\",\"\",\nIF(OR(WQ_Plate_Invert=\"\",WQ_Plate_Invert=\"N/A\",Required_Depth=\"\",Required_Depth=\"N/A\",Ao_OC_or_ESLOT_H=\"\",Ao_or_ESLOT_W=\"\"),0,\nIF(ESLOT_RATIO=\"\",AR471,IF(ESLOT_RATIO<>\"\",BC471,0))))","v":""},{"$f":"IF(B471=\"\",\"\",IF(Vertical_Orifice1_Boolean=0,0,\nIF(B471<=Orifice1_Invert,0,\nIF(B471<Orifice1_Invert+Orifice1_Height/12,\n(0.6*Vertical_Orifice1_Area*(64.4*Vertical_Orifice1_Centroid)^0.5)*((B471-Orifice1_Invert)/(Orifice1_Height/12))^1.81,\n0.6*Vertical_Orifice1_Area*(64.4*(B471-Orifice1_Invert-Vertical_Orifice1_Centroid))^0.5))))","v":""},{"$f":"IF(B471=\"\",\"\",IF(Vertical_Orifice2_Boolean=0,0,\nIF(B471<=Orifice2_Invert,0,\nIF(B471<Orifice2_Invert+Orifice2_Height/12,\n(0.6*Vertical_Orifice2_Area*(64.4*Vertical_Orifice2_Centroid)^0.5)*((B471-Orifice2_Invert)/(Orifice2_Height/12))^1.81,\n0.6*Vertical_Orifice2_Area*(64.4*(B471-Orifice2_Invert-Vertical_Orifice2_Centroid))^0.5))))","v":""},{"$f":"IF(B471=\"\",\"\",IF(Overflow_Weir1_Boolean=0,0,IF((B471-Weir1_Ho)<=0,0,\n\nIF(OR(Weir1_horiz_length_of_grate=0,Weir1_horiz_length_of_grate=\"N/A\"),\nCd_BCW*Weir1_W*(B471-Weir1_Ho)^1.5+(0.8*Cd_BCW)*Weir1_Grate_Slope*(B471-Weir1_Ho)^2.5,\n\nIF(Angle1=0,\n2*(2/3*CLOG1*n_Cdw_1*(64.4^0.5)*Weir1_horiz_length_of_grate*(B471-Weir1_Ho)^1.5)+2*(2/3*CLOG1*n_Cdw_1*(64.4^0.5)*Weir1_W*(B471-Weir1_Ho)^1.5),\n\nIF((B471-Weir1_Ho)<(Ht_1-Weir1_Ho),\n2*(4/15*CLOG1*n_Cdw_1*(64.4^0.5)*(COS(Angle1)/SIN(Angle1))*(B471-Weir1_Ho)^2.5)+(2/3*CLOG1*n_Cdw_1*(64.4^0.5)*Weir1_W*(B471-Weir1_Ho)^1.5),\n\n2*(4/15*CLOG1*n_Cdw_1*(64.4^0.5)*Weir1_horiz_length_of_grate*COS(Angle1)*(B471-Weir1_Ho)^1.5*((B471-Weir1_Ho)^2.5/(B471-Weir1_Ho)^1.5/(Ht_1-Weir1_Ho)-((B471-Weir1_Ho)-(Ht_1-Weir1_Ho))^2.5/(B471-Weir1_Ho)^1.5/(Ht_1-Weir1_Ho))) +(2/3*CLOG1*n_Cdw_1*(64.4^0.5)*Weir1_W*(B471-Weir1_Ho)^1.5)))))))","v":""},{"$f":"IF(B471=\"\",\"\",IF(Overflow_Weir1_Boolean=0,0,IF((B471-Weir1_Ho)<=0,0,IF(OR(Weir1_horiz_length_of_grate=0,Weir1_horiz_length_of_grate=\"N/A\"),0,\n\nIF(Angle1=0,\n(2/3*CLOG1*n_Cdo_1*Weir1_W*Weir1_horiz_length_of_grate*(64.4*(B471-Weir1_Ho))^0.5),\n\nIF((B471-Weir1_Ho)<(Ht_1-Weir1_Ho),\n(2/3*CLOG1*n_Cdo_1*Weir1_W*(B471-Weir1_Ho)*(COS(Angle1)/SIN(Angle1))*(64.4*(B471-Weir1_Ho))^0.5),\n\n(2/3*CLOG1*n_Cdo_1*Weir1_W*Weir1_horiz_length_of_grate*COS(Angle1)*(64.4*(B471-Weir1_Ho))^0.5*((B471-Weir1_Ho)^1.5/(Ht_1-Weir1_Ho)/(B471-Weir1_Ho)^0.5-((B471-Weir1_Ho)-(Ht_1-Weir1_Ho))^1.5/(B471-Weir1_Ho)^0.5/(Ht_1-Weir1_Ho)))))))))","v":""},"",{"$f":"IF(B471=\"\",\"\",IF(OR(Weir1_horiz_length_of_grate=0,Weir1_horiz_length_of_grate=\"N/A\"),K471,MIN(K471,L471,M471)))","v":""},{"$f":"IF(B471=\"\",\"\",IF(Overflow_Weir2_Boolean=0,0,IF((B471-Weir2_Ho)<=0,0,\n\nIF(OR(Weir2_horiz_length_of_grate=0,Weir2_horiz_length_of_grate=\"N/A\"),\nIF(AND(Weir1_horiz_length_of_grate=\"N/A\",Weir2_Position=\"Overlapping\"),\nIF((Cd_BCW*Weir2_W*(B471-Weir2_Ho)^1.5+(0.8*Cd_BCW)*Weir2_Grate_Slope*(B471-Weir2_Ho)^2.5)-(Cd_BCW*(Weir1_W+2*(Weir2_Ho-Weir1_Ho)*Weir1_Grate_Slope)*(B471-Weir2_Ho)^1.5+(0.8*Cd_BCW)*Weir1_Grate_Slope*(B471-Weir2_Ho)^2.5)<0,0,\n(Cd_BCW*Weir2_W*(B471-Weir2_Ho)^1.5+(0.8*Cd_BCW)*Weir2_Grate_Slope*(B471-Weir2_Ho)^2.5)-(Cd_BCW*(Weir1_W+2*(Weir2_Ho-Weir1_Ho)*Weir1_Grate_Slope)*(B471-Weir2_Ho)^1.5+(0.8*Cd_BCW)*Weir1_Grate_Slope*(B471-Weir2_Ho)^2.5)),\nCd_BCW*Weir2_W*(B471-Weir2_Ho)^1.5+(0.8*Cd_BCW)*Weir2_Grate_Slope*(B471-Weir2_Ho)^2.5),\n\nIF(Angle2=0,\n2*(2/3*CLOG2*n_Cdw_2*(64.4^0.5)*Weir2_horiz_length_of_grate*(B471-Weir2_Ho)^1.5)+2*(2/3*CLOG2*n_Cdw_2*(64.4^0.5)*Weir2_W*(B471-Weir2_Ho)^1.5),\n\nIF((B471-Weir2_Ho)<(Ht_2-Weir2_Ho),\n2*(4/15*CLOG2*n_Cdw_2*(64.4^0.5)*(COS(Angle2)/SIN(Angle2))*(B471-Weir2_Ho)^2.5)+(2/3*CLOG2*n_Cdw_2*(64.4^0.5)*Weir2_W*(B471-Weir2_Ho)^1.5),\n\n2*(4/15*CLOG2*n_Cdw_2*(64.4^0.5)*Weir2_horiz_length_of_grate*COS(Angle2)*(B471-Weir2_Ho)^1.5*((B471-Weir2_Ho)^2.5/(B471-Weir2_Ho)^1.5/(Ht_2-Weir2_Ho)-((B471-Weir2_Ho)-(Ht_2-Weir2_Ho))^2.5/(B471-Weir2_Ho)^1.5/(Ht_2-Weir2_Ho))) +(2/3*CLOG2*n_Cdw_2*(64.4^0.5)*Weir2_W*(B471-Weir2_Ho)^1.5)))))))","v":""},{"$f":"IF(B471=\"\",\"\",IF(Overflow_Weir2_Boolean=0,0,IF((B471-Weir2_Ho)<=0,0,IF(OR(Weir2_horiz_length_of_grate=0,Weir2_horiz_length_of_grate=\"N/A\"),0,\n\nIF(Angle2=0,\n(2/3*CLOG2*n_Cdo_2*Weir2_W*Weir2_horiz_length_of_grate*(64.4*(B471-Weir2_Ho))^0.5),\n\nIF((B471-Weir2_Ho)<(Ht_2-Weir2_Ho),\n(2/3*CLOG2*n_Cdo_2*Weir2_W*(B471-Weir2_Ho)*(COS(Angle2)/SIN(Angle2))*(64.4*(B471-Weir2_Ho))^0.5),\n\n(2/3*CLOG2*n_Cdo_2*Weir2_W*Weir2_horiz_length_of_grate*COS(Angle2)*(64.4*(B471-Weir2_Ho))^0.5*((B471-Weir2_Ho)^1.5/(Ht_2-Weir2_Ho)/(B471-Weir2_Ho)^0.5-((B471-Weir2_Ho)-(Ht_2-Weir2_Ho))^1.5/(B471-Weir2_Ho)^0.5/(Ht_2-Weir2_Ho)))))))))","v":""},"",{"$f":"IF(B471=\"\",\"\",IF(OR(Weir2_horiz_length_of_grate=0,Weir2_horiz_length_of_grate=\"N/A\"),O471,MIN(O471,P471,Q471)))","v":""},{"$f":"IF(B471=\"\",\"\",\nIF(Outlet_Pipe1_Boolean=0,0,\nIF(B471+Outlet1_Orifice_Invert<2*Outlet1_Orifice_Centroid,\nIF((0.6*Outlet1_Orifice_Area*(64.4*Outlet1_Orifice_Centroid)^0.5)*((B471+Outlet1_Orifice_Invert)/(2*Outlet1_Orifice_Centroid))^1.81<H471,H471,\n(0.6*Outlet1_Orifice_Area*(64.4*Outlet1_Orifice_Centroid)^0.5)*((B471+Outlet1_Orifice_Invert)/(2*Outlet1_Orifice_Centroid))^1.81),\n0.6*Outlet1_Orifice_Area*(64.4*(B471+Outlet1_Orifice_Invert-Outlet1_Orifice_Centroid))^0.5)))","v":""},{"$f":"IF(B471=\"\",\"\",IF(Outlet_Pipe1_Boolean=0,0,\nIF(Outlet_Pipe1_Rank=3,MIN(S471,G471+H471+I471+J471+N471),\nIF(Outlet_Pipe1_Rank=2,IF(Vertical_Orifice1_Rank=1,MIN(S471,G471+H471+I471+N471),MIN(S471,G471+H471+J471+N471)),\nIF(Outlet_Pipe1_Rank=1,MIN(S471,G471+H471+N471),\nMIN(S471,G471+H471+I471+J471))))))","v":""},{"$f":"IF(B471=\"\",\"\",\nIF(Outlet_Pipe2_Boolean=0,0,\nIF(B471+Outlet2_Orifice_Invert<2*Outlet2_Orifice_Centroid,\nIF((0.6*Outlet2_Orifice_Area*(64.4*Outlet2_Orifice_Centroid)^0.5)*((B471+Outlet2_Orifice_Invert)/(2*Outlet2_Orifice_Centroid))^1.81<H471,H471,\n(0.6*Outlet2_Orifice_Area*(64.4*Outlet2_Orifice_Centroid)^0.5)*((B471+Outlet2_Orifice_Invert)/(2*Outlet2_Orifice_Centroid))^1.81),\n0.6*Outlet2_Orifice_Area*(64.4*(B471+Outlet2_Orifice_Invert-Outlet2_Orifice_Centroid))^0.5)))","v":""},{"$f":"IF(B471=\"\",\"\",IF(OR(Outlet_Pipe1_Boolean=0,Outlet_Pipe2_Boolean=0),0,\nIF(Outlet_Pipe2_Rank=4,\nIF(Outlet_Pipe1_Rank=3,MIN(U471,R471+T471),\nIF(AND(Outlet_Pipe1_Rank=2,Vertical_Orifice2_Rank=3),MIN(U471,J471+R471+T471),\nIF(AND(Outlet_Pipe1_Rank=2,Vertical_Orifice1_Rank=3),MIN(U471,I471+R471+T471),MIN(U471,I471+J471+R471+T471)))),\n\nIF(Outlet_Pipe2_Rank=3,\nIF(Outlet_Pipe1_Rank=2,MIN(U471,R471+T471),\nIF(Vertical_Orifice2_Rank=2,MIN(U471,J471+R471+T471),MIN(U471,I471+R471+T471))),\n\nMIN(U471,R471+T471)))))","v":""},{"$f":"IF(B471=\"\",\"\",\nIF(OR(Spillway_Invert=\"\",Spillway_Length=\"\",Spillway_Side_Slopes=\"\",Freeboard_above_Spillway=\"\",B471<=Spillway_Invert),0,\n\nIF(OR(Spillway_Position=\"\",Spillway_Position=\"Offset\"),\n(Cd_BCW*Spillway_Length*(B471-Spillway_Invert)^1.5)+((0.8*Cd_BCW)*Spillway_Side_Slopes*(B471-Spillway_Invert)^2.5),\n\nIF(AND(Weir2_Ho<>\"N/A\",Weir2_horiz_length_of_grate=\"N/A\"),\nIF((Cd_BCW*Spillway_Length*(B471-Spillway_Invert)^1.5)+((0.8*Cd_BCW)*Spillway_Side_Slopes*(B471-Spillway_Invert)^2.5)-(Cd_BCW*(Weir2_W+2*(Spillway_Invert-Weir2_Ho)*Weir2_Grate_Slope)*(B471-Spillway_Invert)^1.5)+((0.8*Cd_BCW)*Weir2_Grate_Slope*(B471-Spillway_Invert)^2.5)<0,0,\n(Cd_BCW*Spillway_Length*(B471-Spillway_Invert)^1.5)+((0.8*Cd_BCW)*Spillway_Side_Slopes*(B471-Spillway_Invert)^2.5)-(Cd_BCW*(Weir2_W+2*(Spillway_Invert-Weir2_Ho)*Weir2_Grate_Slope)*(B471-Spillway_Invert)^1.5)+((0.8*Cd_BCW)*Weir2_Grate_Slope*(B471-Spillway_Invert)^2.5)),\n\nIF((Cd_BCW*Spillway_Length*(B471-Spillway_Invert)^1.5)+((0.8*Cd_BCW)*Spillway_Side_Slopes*(B471-Spillway_Invert)^2.5)-(Cd_BCW*(Weir1_W+2*(Spillway_Invert-Weir1_Ho)*Weir1_Grate_Slope)*(B471-Spillway_Invert)^1.5)+((0.8*Cd_BCW)*Weir1_Grate_Slope*(B471-Spillway_Invert)^2.5)<0,0,\n(Cd_BCW*Spillway_Length*(B471-Spillway_Invert)^1.5)+((0.8*Cd_BCW)*Spillway_Side_Slopes*(B471-Spillway_Invert)^2.5)-(Cd_BCW*(Weir1_W+2*(Spillway_Invert-Weir1_Ho)*Weir1_Grate_Slope)*(B471-Spillway_Invert)^1.5)+((0.8*Cd_BCW)*Weir1_Grate_Slope*(B471-Spillway_Invert)^2.5))))))","v":""},"",{"$f":"IF(B471=\"\",\"\",IF(X471=\"\",\"\",IF(D471=\"\",\"\",X471*$C$3089*60+F471)))","v":""},"","",{"$f":"IF($B471=\"\",\"\",IF(OR(Row1_Stage=\"\",Row1_Stage=\"N/A\"),0,IF($B471<=Row1_Stage,0,0.6*(Row1_Area/144)*(64.4*($B471-Row1_Stage))^0.5)))","v":""},{"$f":"IF($B471=\"\",\"\",IF(OR(Row2_Stage=\"\",Row2_Stage=\"N/A\"),0,IF($B471<=Row2_Stage,0,0.6*(Row2_Area/144)*(64.4*($B471-Row2_Stage))^0.5)))","v":""},{"$f":"IF($B471=\"\",\"\",IF(OR(Row3_Stage=\"\",Row3_Stage=\"N/A\"),0,IF($B471<=Row3_Stage,0,0.6*(Row3_Area/144)*(64.4*($B471-Row3_Stage))^0.5)))","v":""},{"$f":"IF($B471=\"\",\"\",IF(OR(Row4_Stage=\"\",Row4_Stage=\"N/A\"),0,IF($B471<=Row4_Stage,0,0.6*(Row4_Area/144)*(64.4*($B471-Row4_Stage))^0.5)))","v":""},{"$f":"IF($B471=\"\",\"\",IF(OR(Row5_Stage=\"\",Row5_Stage=\"N/A\"),0,IF($B471<=Row5_Stage,0,0.6*(Row5_Area/144)*(64.4*($B471-Row5_Stage))^0.5)))","v":""},{"$f":"IF($B471=\"\",\"\",IF(OR(Row6_Stage=\"\",Row6_Stage=\"N/A\"),0,IF($B471<=Row6_Stage,0,0.6*(Row6_Area/144)*(64.4*($B471-Row6_Stage))^0.5)))","v":""},{"$f":"IF($B471=\"\",\"\",IF(OR(Row7_Stage=\"\",Row7_Stage=\"N/A\"),0,IF($B471<=Row7_Stage,0,0.6*(Row7_Area/144)*(64.4*($B471-Row7_Stage))^0.5)))","v":""},{"$f":"IF($B471=\"\",\"\",IF(OR(Row8_Stage=\"\",Row8_Stage=\"N/A\"),0,IF($B471<=Row8_Stage,0,0.6*(Row8_Area/144)*(64.4*($B471-Row8_Stage))^0.5)))","v":""},{"$f":"IF($B471=\"\",\"\",IF(OR(Row9_Stage=\"\",Row9_Stage=\"N/A\"),0,IF($B471<=Row9_Stage,0,0.6*(Row9_Area/144)*(64.4*($B471-Row9_Stage))^0.5)))","v":""},{"$f":"IF($B471=\"\",\"\",IF(OR(Row10_Stage=\"\",Row10_Stage=\"N/A\"),0,IF($B471<=Row10_Stage,0,0.6*(Row10_Area/144)*(64.4*($B471-Row10_Stage))^0.5)))","v":""},{"$f":"IF($B471=\"\",\"\",IF(OR(Row11_Stage=\"\",Row11_Stage=\"N/A\"),0,IF($B471<=Row11_Stage,0,0.6*(Row11_Area/144)*(64.4*($B471-Row11_Stage))^0.5)))","v":""},{"$f":"IF($B471=\"\",\"\",IF(OR(Row12_Stage=\"\",Row12_Stage=\"N/A\"),0,IF($B471<=Row12_Stage,0,0.6*(Row12_Area/144)*(64.4*($B471-Row12_Stage))^0.5)))","v":""},{"$f":"IF($B471=\"\",\"\",IF(OR(Row13_Stage=\"\",Row13_Stage=\"N/A\"),0,IF($B471<=Row13_Stage,0,0.6*(Row13_Area/144)*(64.4*($B471-Row13_Stage))^0.5)))","v":""},{"$f":"IF($B471=\"\",\"\",IF(OR(Row14_Stage=\"\",Row14_Stage=\"N/A\"),0,IF($B471<=Row14_Stage,0,0.6*(Row14_Area/144)*(64.4*($B471-Row14_Stage))^0.5)))","v":""},{"$f":"IF($B471=\"\",\"\",IF(OR(Row15_Stage=\"\",Row15_Stage=\"N/A\"),0,IF($B471<=Row15_Stage,0,0.6*(Row15_Area/144)*(64.4*($B471-Row15_Stage))^0.5)))","v":""},{"$f":"IF($B471=\"\",\"\",IF(OR(Row16_Stage=\"\",Row16_Stage=\"N/A\"),0,IF($B471<=Row16_Stage,0,0.6*(Row16_Area/144)*(64.4*($B471-Row16_Stage))^0.5)))","v":""},{"$f":"IF(B471=\"\",\"\",SUM(AB471:AQ471))","v":""},"","","","",{"$f":"IF($B471=\"\",\"\",IF(OR(Zone1_Outlet_Type=4,Zone2_Outlet_Type=4),IF($B471<WQ_Plate_Invert,0,IF($B471<WQ_Plate_Invert+Ao_OC_or_ESLOT_H,(2*32.2*($B471-WQ_Plate_Invert-AS471))^0.5*(2*Ao_OC_or_ESLOT_H/ESLOT_RATIO*(1-(1-AS471^2/Ao_OC_or_ESLOT_H^2)^0.5)+Ao_or_ESLOT_W/12),0)),\"\"))","v":""},{"$f":"IF($B471=\"\",\"\",IF(OR(Zone1_Outlet_Type=4,Zone2_Outlet_Type=4),IF($B471<WQ_Plate_Invert,0,IF($B471<WQ_Plate_Invert+Ao_OC_or_ESLOT_H,(2*32.2*($B471-WQ_Plate_Invert-AT471))^0.5*(2*Ao_OC_or_ESLOT_H/ESLOT_RATIO*(1-(1-AT471^2/Ao_OC_or_ESLOT_H^2)^0.5)+Ao_or_ESLOT_W/12),0)),\"\"))","v":""},{"$f":"IF($B471=\"\",\"\",IF(OR(Zone1_Outlet_Type=4,Zone2_Outlet_Type=4),IF($B471<WQ_Plate_Invert,0,IF($B471<WQ_Plate_Invert+Ao_OC_or_ESLOT_H,(2*32.2*($B471-WQ_Plate_Invert-AU471))^0.5*(2*Ao_OC_or_ESLOT_H/ESLOT_RATIO*(1-(1-AU471^2/Ao_OC_or_ESLOT_H^2)^0.5)+Ao_or_ESLOT_W/12),0)),\"\"))","v":""},{"$f":"IF($B471=\"\",\"\",IF(OR(Zone1_Outlet_Type=4,Zone2_Outlet_Type=4),IF($B471<WQ_Plate_Invert,0,IF($B471<WQ_Plate_Invert+Ao_OC_or_ESLOT_H,(2*32.2*($B471-WQ_Plate_Invert-AV471))^0.5*(2*Ao_OC_or_ESLOT_H/ESLOT_RATIO*(1-(1-AV471^2/Ao_OC_or_ESLOT_H^2)^0.5)+Ao_or_ESLOT_W/12),0)),\"\"))","v":""},{"$f":"IF(B471=\"\",\"\",IF(OR(Zone1_Outlet_Type=4,Zone2_Outlet_Type=4),IF(B471<WQ_Plate_Invert+Ao_OC_or_ESLOT_H, 0.642*(0.3015*(B471-WQ_Plate_Invert)*(AW471+AX471)+0.1415*(B471-WQ_Plate_Invert)*(AX471+AY471)+0.057*(B471-WQ_Plate_Invert)*AY471),\"N/A\"),\"\"))","v":""},{"$f":"IF(B471=\"\",\"\",IF(OR(Zone1_Outlet_Type=4,Zone2_Outlet_Type=4),IF(B471>=WQ_Plate_Invert+Ao_OC_or_ESLOT_H, 0.6*Elliptical_Slot_Area*(2*32.2*(B471-WQ_Plate_Invert-Elliptical_Slot_Centroid))^0.5,\"N/A\"),\"\"))","v":""},{"$f":"IF(B471=\"\",\"\",IF(OR(Zone1_Outlet_Type=4,Zone2_Outlet_Type=4),IF(B471<WQ_Plate_Invert+Ao_OC_or_ESLOT_H, BA471,BB471),\"\"))","v":""},"","","","","","","","",""]
[null,{"$f":"IF(Basin_CountA=0,\"\",IF(User_Stage_Area=0,Basin!G501,Basin!H501))","v":""},{"$f":"IF(Basin_CountA=0,\"\",IF(User_Stage_Area=0,Basin!K501,IF(B472=\"\",\"\",Basin!L501)))","v":""},{"$f":"IF(Basin_CountA=0,\"\",Basin!N501)","v":""},null,"","","","","","","",{"$f":"IF(B472=\"\",\"\",K472+L472-1.11*(K472*L472)^0.5)","v":""},"","","",{"$f":"IF(B472=\"\",\"\",O472+P472-1.11*(O472*P472)^0.5)","v":""},"","","","","","",{"$f":"IF(B472=\"\",\"\",IF(E472<>\"\",E472,\nIF(V472<>0,V472+W472,\nIF(T472<>0,T472+W472,\nG472+H472+I472+J472+N472+R472+W472))))","v":""},"",{"$f":"IF(B472=\"\",\"\",IF(Y472<=0,0,IF(Y472=\"\",Z471,((X472-X471)/(Y472-Y471)))))","v":""},{"$f":"IF(B472=\"\",\"\",IF(Y472<=0,0,IF(Y472=\"\",AA471,((B472-B471)/(Y472-Y471)))))","v":""},"","","","","","","","","","","","","","","","","","","","","","","","","","","","",{"$f":"IF(B472=\"\",\"\",IF(G472=0,0,IF(X472=G472,1,0)))","v":""},{"$f":"IF(B472=\"\",\"\",IF(H472=0,0,IF(ROUND(X472-G472,3)=ROUND(H472,3),1,0)))","v":""},{"$f":"IF(B472=\"\",\"\",IF(I472=0,0,\nIF(Vertical_Orifice1_Rank=1,IF(ROUND(X472-H472-G472,3)=ROUND(I472,3),1,0),\nIF(Vertical_Orifice1_Rank=2,IF(ROUND(X472-T472,3)=ROUND(I472,3),1,0),\nIF(ROUND(X472-V472,3)=ROUND(I472,3),1,0)))))","v":""},{"$f":"IF(B472=\"\",\"\",IF(J472=0,0,\nIF(Vertical_Orifice2_Rank=2,IF(ROUND(X472-I472-H472-G472,3)=ROUND(J472,3),1,0),\nIF(Vertical_Orifice2_Rank=3,\nIF(Vertical_Orifice1_Rank=1,IF(ROUND(X472-T472,3)=ROUND(J472,3),1,0),IF(ROUND(X472-T472-I472,3)=ROUND(J472,3),1,0)),\nIF(OR(Vertical_Orifice1_Rank=1,Vertical_Orifice1_Rank=2),IF(ROUND(X472-T472,3)=ROUND(J472,3),1,0),IF(ROUND(X472-T472-I472,3)=ROUND(J472,3),1,0))))))","v":""},{"$f":"IF(B472=\"\",\"\",IF(N472=0,0,\nIF(Overflow_Weir1_Rank=1,IF(ROUND(X472-H472-G472,3)=ROUND(N472,3),1,0),\nIF(Overflow_Weir1_Rank=2,IF(ROUND(X472-I472-H472-G472,3)=ROUND(N472,3),1,0),\nIF(ROUND(X472-J472-I472-H472-G472,3)=ROUND(N472,3),1,0)))))","v":""},{"$f":"IF(B472=\"\",\"\",IF(R472=0,0,\nIF(Weir2_Position=\"Overlapping\",IF(ROUND(X472-N472-J472-I472-H472-G472,3)=ROUND(R472,3),1,0),\nIF(Overflow_Weir2_Rank=2,\nIF(ROUND(X472-T472,3)=ROUND(R472,3),1,0),\nIF(Overflow_Weir2_Rank=3,\nIF(Overflow_Weir1_Rank=2,IF(ROUND(X472-T472,3)=ROUND(R472,3),1,0),IF(ROUND(X472-T472-I472,3)=ROUND(R472,3),1,0)),\nIF(Overflow_Weir1_Rank=3,IF(ROUND(X472-T472,3)=ROUND(R472,3),1,0),\nIF(Overflow_Weir1_Rank=2,IF(ROUND(X472-T472-I472,3)=ROUND(R472,3),1,0),IF(ROUND(X472-T472-J472-I472,3)=ROUND(R472,3),1,0))))))))","v":""},"","",{"$f":"IF(B472=\"\",\"\",IF(W472=0,0,1))","v":""}]
[null,{"$f":"IF(Basin_CountA=0,\"\",IF(User_Stage_Area=0,Basin!G502,Basin!H502))","v":""},{"$f":"IF(Basin_CountA=0,\"\",IF(User_Stage_Area=0,Basin!K502,IF(B473=\"\",\"\",Basin!L502)))","v":""},{"$f":"IF(Basin_CountA=0,\"\",Basin!N502)","v":""},null,"","","","","","","","","","","","","","","","","","","","","","","","","","","","","","","","","","","","","","","","","","","","","","","","","","","","","","","","",{"$f":"IF(B473=\"\",\"\",IF(T473=0,0,IF(ROUND(X473,3)=ROUND(S473,3),1,0)))","v":""},{"$f":"IF(B473=\"\",\"\",IF(V473=0,0,IF(ROUND(X473,3)=ROUND(U473,3),1,0)))","v":""},""]
[null,{"$f":"IF(Basin_CountA=0,\"\",IF(User_Stage_Area=0,Basin!G503,Basin!H503))","v":""},{"$f":"IF(Basin_CountA=0,\"\",IF(User_Stage_Area=0,Basin!K503,IF(B474=\"\",\"\",Basin!L503)))","v":""},{"$f":"IF(Basin_CountA=0,\"\",Basin!N503)","v":""},null,"","","","","","","","","","","","","","","","","","","","","","","","","","","","","","","","","","","","","","","","","","","","","","","","","","","","","","","","","","",""]
[null,{"$f":"IF(Basin_CountA=0,\"\",IF(User_Stage_Area=0,Basin!G504,Basin!H504))","v":""},{"$f":"IF(Basin_CountA=0,\"\",IF(User_Stage_Area=0,Basin!K504,IF(B475=\"\",\"\",Basin!L504)))","v":""},{"$f":"IF(Basin_CountA=0,\"\",Basin!N504)","v":""},null,"","","","","","","","","","","","","","","","","","","","","","","","","","","","","","","","","","","","","","","","","","","","","","","","","","","","","","","","","","",""]
[null,{"$f":"IF(Basin_CountA=0,\"\",IF(User_Stage_Area=0,Basin!G505,Basin!H505))","v":""},{"$f":"IF(Basin_CountA=0,\"\",IF(User_Stage_Area=0,Basin!K505,IF(B476=\"\",\"\",Basin!L505)))","v":""},{"$f":"IF(Basin_CountA=0,\"\",Basin!N505)","v":""},null,"","","","","","","","","","","","","","","","","","","","","","","","","","","","","","","","","","","","","","","","","","","","","","","","","","","","","","","","","","",""]
[null,{"$f":"IF(Basin_CountA=0,\"\",IF(User_Stage_Area=0,Basin!G506,Basin!H506))","v":""},{"$f":"IF(Basin_CountA=0,\"\",IF(User_Stage_Area=0,Basin!K506,IF(B477=\"\",\"\",Basin!L506)))","v":""},{"$f":"IF(Basin_CountA=0,\"\",Basin!N506)","v":""},null,"","","","","","","","","","","","","","","","","","","","","","","","","","","","","","","","","","","","","","","","","","","","","","","","","","","","","","","","","","",""]
[null,{"$f":"IF(Basin_CountA=0,\"\",IF(User_Stage_Area=0,Basin!G507,Basin!H507))","v":""},{"$f":"IF(Basin_CountA=0,\"\",IF(User_Stage_Area=0,Basin!K507,IF(B478=\"\",\"\",Basin!L507)))","v":""},{"$f":"IF(Basin_CountA=0,\"\",Basin!N507)","v":""},null,"","","","","","","","","","","","","","","","","","","","","","","","","","","","","","","","","","","","","","","","","","","","","","","","","","","","","","","","","","",""]
[null,{"$f":"IF(Basin_CountA=0,\"\",IF(User_Stage_Area=0,Basin!G508,Basin!H508))","v":""},{"$f":"IF(Basin_CountA=0,\"\",IF(User_Stage_Area=0,Basin!K508,IF(B479=\"\",\"\",Basin!L508)))","v":""},{"$f":"IF(Basin_CountA=0,\"\",Basin!N508)","v":""},null,"","","","","","","","","","","","","","","","","","","","","","","","","","","","","","","","","","","","","","","","","","","","","","","","","","","","","","","","","","",""]
[null,{"$f":"IF(Basin_CountA=0,\"\",IF(User_Stage_Area=0,Basin!G509,Basin!H509))","v":""},{"$f":"IF(Basin_CountA=0,\"\",IF(User_Stage_Area=0,Basin!K509,IF(B480=\"\",\"\",Basin!L509)))","v":""},{"$f":"IF(Basin_CountA=0,\"\",Basin!N509)","v":""},null,"","","","","","","","","","","","","","","","","","","","","","","","","","","","","","","","","","","","","","","","","","","","","","","","","","","","","","","","","","",""]
[null,{"$f":"IF(Basin_CountA=0,\"\",IF(User_Stage_Area=0,Basin!G510,Basin!H510))","v":""},{"$f":"IF(Basin_CountA=0,\"\",IF(User_Stage_Area=0,Basin!K510,IF(B481=\"\",\"\",Basin!L510)))","v":""},{"$f":"IF(Basin_CountA=0,\"\",Basin!N510)","v":""},null,"","","","","","","","","","","","","","","","","","","","","","","","","","","","","","","","","","","","","","","","","","","","","","","","","","","","","","","","","","",""]
[null,{"$f":"IF(Basin_CountA=0,\"\",IF(User_Stage_Area=0,Basin!G511,Basin!H511))","v":""},{"$f":"IF(Basin_CountA=0,\"\",IF(User_Stage_Area=0,Basin!K511,IF(B482=\"\",\"\",Basin!L511)))","v":""},{"$f":"IF(Basin_CountA=0,\"\",Basin!N511)","v":""},null,"","","","","","","","","","","","","","","","","","","","","","","","","","","","","","","","","","","","","","","","","","","","","","","","","","","","","","","","","","",""]
[null,{"$f":"IF(Basin_CountA=0,\"\",IF(User_Stage_Area=0,Basin!G512,Basin!H512))","v":""},{"$f":"IF(Basin_CountA=0,\"\",IF(User_Stage_Area=0,Basin!K512,IF(B483=\"\",\"\",Basin!L512)))","v":""},{"$f":"IF(Basin_CountA=0,\"\",Basin!N512)","v":""},null,"","","","","","","","","","","","","","","","","","","","","","","","","","","","","","","","","","","","","","","","","","","","","","","","","","","","","","","","","","",""]
[null,{"$f":"IF(Basin_CountA=0,\"\",IF(User_Stage_Area=0,Basin!G513,Basin!H513))","v":""},{"$f":"IF(Basin_CountA=0,\"\",IF(User_Stage_Area=0,Basin!K513,IF(B484=\"\",\"\",Basin!L513)))","v":""},{"$f":"IF(Basin_CountA=0,\"\",Basin!N513)","v":""},null,"","","","","","","","","","","","","","","","","","","","","","","","","","","","","","","","","","","","","","","","","","","","","","","","","","","","","","","","","","",""]
[null,{"$f":"IF(Basin_CountA=0,\"\",IF(User_Stage_Area=0,Basin!G514,Basin!H514))","v":""},{"$f":"IF(Basin_CountA=0,\"\",IF(User_Stage_Area=0,Basin!K514,IF(B485=\"\",\"\",Basin!L514)))","v":""},{"$f":"IF(Basin_CountA=0,\"\",Basin!N514)","v":""},null,"","","","","","","","","","","","","","","","","","","","","","","","","","","","","","","","","","","","","","","","","","","","","","","","","","","","","","","","","","",""]
[null,{"$f":"IF(Basin_CountA=0,\"\",IF(User_Stage_Area=0,Basin!G515,Basin!H515))","v":""},{"$f":"IF(Basin_CountA=0,\"\",IF(User_Stage_Area=0,Basin!K515,IF(B486=\"\",\"\",Basin!L515)))","v":""},{"$f":"IF(Basin_CountA=0,\"\",Basin!N515)","v":""},null,"","","","","","","","","","","","","","","","","","","","","","","","","","","","","","","","","","","","","","","","","","","","","","","","","","","","","","","","","","",""]
[null,{"$f":"IF(Basin_CountA=0,\"\",IF(User_Stage_Area=0,Basin!G516,Basin!H516))","v":""},{"$f":"IF(Basin_CountA=0,\"\",IF(User_Stage_Area=0,Basin!K516,IF(B487=\"\",\"\",Basin!L516)))","v":""},{"$f":"IF(Basin_CountA=0,\"\",Basin!N516)","v":""},null,"","","","","","","","","","","","","","","","","","","","","","","","","","","","","","","","","","","","","","","",{"$f":"IF($B487=\"\",\"\",IF(OR(Zone1_Outlet_Type=4,Zone2_Outlet_Type=4),IF($B487<WQ_Plate_Invert,0,($B487-WQ_Plate_Invert)*AS$86),\"\"))","v":""},"","","","","","","","","","","","","","","","","","",""]
[null,{"$f":"IF(Basin_CountA=0,\"\",IF(User_Stage_Area=0,Basin!G517,Basin!H517))","v":""},{"$f":"IF(Basin_CountA=0,\"\",IF(User_Stage_Area=0,Basin!K517,IF(B488=\"\",\"\",Basin!L517)))","v":""},{"$f":"IF(Basin_CountA=0,\"\",Basin!N517)","v":""},null,"","","","","","","","","","","","","","","","","","","","","","","","","","","","","","","","","","","","","","","","","","","","","","","","","","","","","","","","","","",""]
[null,{"$f":"IF(Basin_CountA=0,\"\",IF(User_Stage_Area=0,Basin!G518,Basin!H518))","v":""},{"$f":"IF(Basin_CountA=0,\"\",IF(User_Stage_Area=0,Basin!K518,IF(B489=\"\",\"\",Basin!L518)))","v":""},{"$f":"IF(Basin_CountA=0,\"\",Basin!N518)","v":""},null,"","","","","","","","","","","","","","","","","","","","","","","","","","","","","","","","","","","","","","","","","","","","","","","","","","","","","","","","","","",""]
[null,{"$f":"IF(Basin_CountA=0,\"\",IF(User_Stage_Area=0,Basin!G519,Basin!H519))","v":""},{"$f":"IF(Basin_CountA=0,\"\",IF(User_Stage_Area=0,Basin!K519,IF(B490=\"\",\"\",Basin!L519)))","v":""},{"$f":"IF(Basin_CountA=0,\"\",Basin!N519)","v":""},null,"","","","","","","","","","","","","","","","","","","","","","","","","","","","","","","","","","","","","","","","","","","","","","","","","","","","","","","","","","",""]
[null,{"$f":"IF(Basin_CountA=0,\"\",IF(User_Stage_Area=0,Basin!G520,Basin!H520))","v":""},{"$f":"IF(Basin_CountA=0,\"\",IF(User_Stage_Area=0,Basin!K520,IF(B491=\"\",\"\",Basin!L520)))","v":""},{"$f":"IF(Basin_CountA=0,\"\",Basin!N520)","v":""},null,"","","","","","","","","","","","","","","","","","","","","","","","","","","","","","","","","","","","","","","","","","","","","","","","","","","","","","","","","","",""]
[null,{"$f":"IF(Basin_CountA=0,\"\",IF(User_Stage_Area=0,Basin!G521,Basin!H521))","v":""},{"$f":"IF(Basin_CountA=0,\"\",IF(User_Stage_Area=0,Basin!K521,IF(B492=\"\",\"\",Basin!L521)))","v":""},{"$f":"IF(Basin_CountA=0,\"\",Basin!N521)","v":""},null,"","","","","","","","","","","","","","","","","","","","","","","","","","","","","","","","","","","","","","","","","","","","","","","","","","","","","","","","","","",""]
[null,{"$f":"IF(Basin_CountA=0,\"\",IF(User_Stage_Area=0,Basin!G522,Basin!H522))","v":""},{"$f":"IF(Basin_CountA=0,\"\",IF(User_Stage_Area=0,Basin!K522,IF(B493=\"\",\"\",Basin!L522)))","v":""},{"$f":"IF(Basin_CountA=0,\"\",Basin!N522)","v":""},null,"","","","","","","","","","","","","","","","","","","","","","","","","","","","","","","","","","","","","","","","","","","","","","","","","","","","","","","","","","",""]
[null,{"$f":"IF(Basin_CountA=0,\"\",IF(User_Stage_Area=0,Basin!G523,Basin!H523))","v":""},{"$f":"IF(Basin_CountA=0,\"\",IF(User_Stage_Area=0,Basin!K523,IF(B494=\"\",\"\",Basin!L523)))","v":""},{"$f":"IF(Basin_CountA=0,\"\",Basin!N523)","v":""},null,"","","","","","","","","","","","","","","","","","","","","","","","","","","","","","","","","","","","","","","","","","","","","","","","","","","","","","","","","","",""]
[null,{"$f":"IF(Basin_CountA=0,\"\",IF(User_Stage_Area=0,Basin!G524,Basin!H524))","v":""},{"$f":"IF(Basin_CountA=0,\"\",IF(User_Stage_Area=0,Basin!K524,IF(B495=\"\",\"\",Basin!L524)))","v":""},{"$f":"IF(Basin_CountA=0,\"\",Basin!N524)","v":""},null,"","","","","","","","","","","","","","","","","","","","","","","","","","","","","","","","","","","","","","","","","","","","","","","","","","","","","","","","","","",""]
[null,{"$f":"IF(Basin_CountA=0,\"\",IF(User_Stage_Area=0,Basin!G525,Basin!H525))","v":""},{"$f":"IF(Basin_CountA=0,\"\",IF(User_Stage_Area=0,Basin!K525,IF(B496=\"\",\"\",Basin!L525)))","v":""},{"$f":"IF(Basin_CountA=0,\"\",Basin!N525)","v":""},null,"","","","","","","","","","","","","","","","","","","","","","","","","","","","","","","","","","","","","","","","","","","","","","","","","","","","","","","","","","",""]
[null,{"$f":"IF(Basin_CountA=0,\"\",IF(User_Stage_Area=0,Basin!G526,Basin!H526))","v":""},{"$f":"IF(Basin_CountA=0,\"\",IF(User_Stage_Area=0,Basin!K526,IF(B497=\"\",\"\",Basin!L526)))","v":""},{"$f":"IF(Basin_CountA=0,\"\",Basin!N526)","v":""},null,"","","","","","","","","","","","","","","","","","","","","","","","","","","","","","","","","","","","","","","","","","","","","","","","","","","","","","","","","","",""]
[null,{"$f":"IF(Basin_CountA=0,\"\",IF(User_Stage_Area=0,Basin!G527,Basin!H527))","v":""},{"$f":"IF(Basin_CountA=0,\"\",IF(User_Stage_Area=0,Basin!K527,IF(B498=\"\",\"\",Basin!L527)))","v":""},{"$f":"IF(Basin_CountA=0,\"\",Basin!N527)","v":""},null,"","","","","","","","","","","","","","","","","","","","","","","","","","","","","","","","","","","","","","","","","","","","","","","","","","","","","","","","","","",""]
[null,{"$f":"IF(Basin_CountA=0,\"\",IF(User_Stage_Area=0,Basin!G528,Basin!H528))","v":""},{"$f":"IF(Basin_CountA=0,\"\",IF(User_Stage_Area=0,Basin!K528,IF(B499=\"\",\"\",Basin!L528)))","v":""},{"$f":"IF(Basin_CountA=0,\"\",Basin!N528)","v":""},null,"","","","","","","","","","","","","","","","","","","","","","","","","","","","","","","","","","","","","","","","","","","","","","","","","","","","","","","","","","",""]
[null,{"$f":"IF(Basin_CountA=0,\"\",IF(User_Stage_Area=0,Basin!G529,Basin!H529))","v":""},{"$f":"IF(Basin_CountA=0,\"\",IF(User_Stage_Area=0,Basin!K529,IF(B500=\"\",\"\",Basin!L529)))","v":""},{"$f":"IF(Basin_CountA=0,\"\",Basin!N529)","v":""},null,"","","","","","","","","","","","","","","","","","","","","","","","","","","","","","","","","","","","","","","","","","","","","","","","","","","","","","","","","","",""]
[null,{"$f":"IF(Basin_CountA=0,\"\",IF(User_Stage_Area=0,Basin!G534,Basin!H534))","v":""},{"$f":"IF(Basin_CountA=0,\"\",IF(User_Stage_Area=0,Basin!K534,IF(B505=\"\",\"\",Basin!L534)))","v":""},{"$f":"IF(Basin_CountA=0,\"\",Basin!N534)","v":""},null,"","","","","","","","","","","","","","","","","","","","","","","","","","","","","","","","","","","","","","","","","","","","","","","","","","","","","","","","","","",""]
[null,{"$f":"IF(Basin_CountA=0,\"\",IF(User_Stage_Area=0,Basin!G539,Basin!H539))","v":""},{"$f":"IF(Basin_CountA=0,\"\",IF(User_Stage_Area=0,Basin!K539,IF(B510=\"\",\"\",Basin!L539)))","v":""},{"$f":"IF(Basin_CountA=0,\"\",Basin!N539)","v":""},null,"","","","","","","","","","","","","","","","","","","","","","","","","","","","","","","","","","","","","","","","","","","","","","","","","","","","","","","","","","",""]
[null,{"$f":"IF(Basin_CountA=0,\"\",IF(User_Stage_Area=0,Basin!G548,Basin!H548))","v":""},{"$f":"IF(Basin_CountA=0,\"\",IF(User_Stage_Area=0,Basin!K548,IF(B519=\"\",\"\",Basin!L548)))","v":""},{"$f":"IF(Basin_CountA=0,\"\",Basin!N548)","v":""},null,"","","","","","","","","","","","","","","","","","","","","","","","","","","","","","","","","","","","","","","","","","","","","","","","","","","","","","","","","","",""]
[null,{"$f":"IF(Basin_CountA=0,\"\",IF(User_Stage_Area=0,Basin!G557,Basin!H557))","v":""},{"$f":"IF(Basin_CountA=0,\"\",IF(User_Stage_Area=0,Basin!K557,IF(B528=\"\",\"\",Basin!L557)))","v":""},{"$f":"IF(Basin_CountA=0,\"\",Basin!N557)","v":""},null,"","","","","","","","","","","","","","","","","","","","","","","","","","","","","","","","","","","","","","","","","","","","","","","","","","","","","","","","","","",""]
[null,{"$f":"IF(Basin_CountA=0,\"\",IF(User_Stage_Area=0,Basin!G566,Basin!H566))","v":""},{"$f":"IF(Basin_CountA=0,\"\",IF(User_Stage_Area=0,Basin!K566,IF(B537=\"\",\"\",Basin!L566)))","v":""},{"$f":"IF(Basin_CountA=0,\"\",Basin!N566)","v":""},null,"","","","","","","","","","","","","","","","","","","","","","","","","","","","","","","","","","","","","","","","","","","","","","","","","","","","","","","","",{"$f":"IF(B537=\"\",\"\",IF(T537=0,0,IF(ROUND(X537,3)=ROUND(S537,3),1,0)))","v":""},{"$f":"IF(B537=\"\",\"\",IF(V537=0,0,IF(ROUND(X537,3)=ROUND(U537,3),1,0)))","v":""},""]
[null,{"$f":"IF(Basin_CountA=0,\"\",IF(User_Stage_Area=0,Basin!G575,Basin!H575))","v":""},{"$f":"IF(Basin_CountA=0,\"\",IF(User_Stage_Area=0,Basin!K575,IF(B546=\"\",\"\",Basin!L575)))","v":""},{"$f":"IF(Basin_CountA=0,\"\",Basin!N575)","v":""},null,"","","","","","","","","","","","","","","","","","","","","","","","","","","","","","","","","","","","","","","","","","","","","","","","","","","","","","","","","","",""]
[null,{"$f":"IF(Basin_CountA=0,\"\",IF(User_Stage_Area=0,Basin!G584,Basin!H584))","v":""},{"$f":"IF(Basin_CountA=0,\"\",IF(User_Stage_Area=0,Basin!K584,IF(B555=\"\",\"\",Basin!L584)))","v":""},{"$f":"IF(Basin_CountA=0,\"\",Basin!N584)","v":""},null,"","","","","","","","","","","","","","","","","","","","","","","","","","","","","","","","","","","","","","","","","","","","","","","","","","","","","","","","","","",""]
[null,{"$f":"IF(Basin_CountA=0,\"\",IF(User_Stage_Area=0,Basin!G585,Basin!H585))","v":""},{"$f":"IF(Basin_CountA=0,\"\",IF(User_Stage_Area=0,Basin!K585,IF(B556=\"\",\"\",Basin!L585)))","v":""},{"$f":"IF(Basin_CountA=0,\"\",Basin!N585)","v":""},null,"","","","","","","","","","","","","","","","","","","","","","","","","","","","","","","","","","","","","","","","","","","","","","","","","","","","","","","","","","",""]
[null,{"$f":"IF(Basin_CountA=0,\"\",IF(User_Stage_Area=0,Basin!G594,Basin!H594))","v":""},{"$f":"IF(Basin_CountA=0,\"\",IF(User_Stage_Area=0,Basin!K594,IF(B565=\"\",\"\",Basin!L594)))","v":""},{"$f":"IF(Basin_CountA=0,\"\",Basin!N594)","v":""},null,"","","","","","","","","","","","","","","","","","","","","","","","","","","","","","","","","","","","","","","","","","","","","","","","","","","","","","","","","","",""]
[null,{"$f":"IF(Basin_CountA=0,\"\",IF(User_Stage_Area=0,Basin!G603,Basin!H603))","v":""},{"$f":"IF(Basin_CountA=0,\"\",IF(User_Stage_Area=0,Basin!K603,IF(B574=\"\",\"\",Basin!L603)))","v":""},{"$f":"IF(Basin_CountA=0,\"\",Basin!N603)","v":""},null,"","","","","","","","","","","","","","","","","","","","","","","","","","","","","","","","","","","","","","","","","","","","","","","","","","","","","","","","","","",""]
[null,{"$f":"IF(Basin_CountA=0,\"\",IF(User_Stage_Area=0,Basin!G612,Basin!H612))","v":""},{"$f":"IF(Basin_CountA=0,\"\",IF(User_Stage_Area=0,Basin!K612,IF(B583=\"\",\"\",Basin!L612)))","v":""},{"$f":"IF(Basin_CountA=0,\"\",Basin!N612)","v":""},null,"","","","","","","","","","","","","","","","","","","","","","","","","","","","","","","","","","","","","","","","","","","","","","","","","","","","","","","","","","",""]
[null,{"$f":"IF(Basin_CountA=0,\"\",IF(User_Stage_Area=0,Basin!G621,Basin!H621))","v":""},{"$f":"IF(Basin_CountA=0,\"\",IF(User_Stage_Area=0,Basin!K621,IF(B592=\"\",\"\",Basin!L621)))","v":""},{"$f":"IF(Basin_CountA=0,\"\",Basin!N621)","v":""},null,"","","","","","","","","","","","","","","","","","","","","","","","","","","","","","","","","","","","","","","","","","","","","","","","","","","","","","","","","","",""]
[null,{"$f":"IF(Basin_CountA=0,\"\",IF(User_Stage_Area=0,Basin!G630,Basin!H630))","v":""},{"$f":"IF(Basin_CountA=0,\"\",IF(User_Stage_Area=0,Basin!K630,IF(B601=\"\",\"\",Basin!L630)))","v":""},{"$f":"IF(Basin_CountA=0,\"\",Basin!N630)","v":""},null,"","","","","","","","","","","","","","","","","","","","","","","","","","","","","","","","","","","","","","","","","","","","","","","","","","","","","","","","",{"$f":"IF(B601=\"\",\"\",IF(T601=0,0,IF(ROUND(X601,3)=ROUND(S601,3),1,0)))","v":""},{"$f":"IF(B601=\"\",\"\",IF(V601=0,0,IF(ROUND(X601,3)=ROUND(U601,3),1,0)))","v":""},""]
[null,{"$f":"IF(Basin_CountA=0,\"\",IF(User_Stage_Area=0,Basin!G639,Basin!H639))","v":""},{"$f":"IF(Basin_CountA=0,\"\",IF(User_Stage_Area=0,Basin!K639,IF(B610=\"\",\"\",Basin!L639)))","v":""},{"$f":"IF(Basin_CountA=0,\"\",Basin!N639)","v":""},null,"","","","","","","","","","","","","","","","","","","","","","","","","","","","","","","","","","","","","","","","","","","","","","","","","","","","","","","","","","",""]
[null,{"$f":"IF(Basin_CountA=0,\"\",IF(User_Stage_Area=0,Basin!G648,Basin!H648))","v":""},{"$f":"IF(Basin_CountA=0,\"\",IF(User_Stage_Area=0,Basin!K648,IF(B619=\"\",\"\",Basin!L648)))","v":""},{"$f":"IF(Basin_CountA=0,\"\",Basin!N648)","v":""},null,"","","","","","","","","","","","","","","","","","","","","","","","","","","","","","","","","","","","","","","","","","","","","","","","","","","","","","","","","","",""]
[null,{"$f":"IF(Basin_CountA=0,\"\",IF(User_Stage_Area=0,Basin!G649,Basin!H649))","v":""},{"$f":"IF(Basin_CountA=0,\"\",IF(User_Stage_Area=0,Basin!K649,IF(B620=\"\",\"\",Basin!L649)))","v":""},{"$f":"IF(Basin_CountA=0,\"\",Basin!N649)","v":""},null,"","","","","","","","","","","","","","","","","","","","","","","","","","","","","","","","","","","","","","","","","","","","","","","","","","","","","","","","","","",""]
[null,{"$f":"IF(Basin_CountA=0,\"\",IF(User_Stage_Area=0,Basin!G658,Basin!H658))","v":""},{"$f":"IF(Basin_CountA=0,\"\",IF(User_Stage_Area=0,Basin!K658,IF(B629=\"\",\"\",Basin!L658)))","v":""},{"$f":"IF(Basin_CountA=0,\"\",Basin!N658)","v":""},null,"","","","","","","","","","","","","","","","","","","","","","","","","","","","","","","","","","","","","","","","","","","","","","","","","","","","","","","","","","",""]
[null,{"$f":"IF(Basin_CountA=0,\"\",IF(User_Stage_Area=0,Basin!G667,Basin!H667))","v":""},{"$f":"IF(Basin_CountA=0,\"\",IF(User_Stage_Area=0,Basin!K667,IF(B638=\"\",\"\",Basin!L667)))","v":""},{"$f":"IF(Basin_CountA=0,\"\",Basin!N667)","v":""},null,"","","","","","","","","","","","","","","","","","","","","","","","","","","","","","","","","","","","","","","","","","","","","","","","","","","","","","","","","","",""]
[null,{"$f":"IF(Basin_CountA=0,\"\",IF(User_Stage_Area=0,Basin!G676,Basin!H676))","v":""},{"$f":"IF(Basin_CountA=0,\"\",IF(User_Stage_Area=0,Basin!K676,IF(B647=\"\",\"\",Basin!L676)))","v":""},{"$f":"IF(Basin_CountA=0,\"\",Basin!N676)","v":""},null,"","","","","","","","","","","","","","","","","","","","","","","","","","","","","","","","","","","","","","","",{"$f":"IF($B647=\"\",\"\",IF(OR(Zone1_Outlet_Type=4,Zone2_Outlet_Type=4),IF($B647<WQ_Plate_Invert,0,($B647-WQ_Plate_Invert)*AS$86),\"\"))","v":""},"","","","","","","","","","","","","","","","","","",""]
[null,{"$f":"IF(Basin_CountA=0,\"\",IF(User_Stage_Area=0,Basin!G685,Basin!H685))","v":""},{"$f":"IF(Basin_CountA=0,\"\",IF(User_Stage_Area=0,Basin!K685,IF(B656=\"\",\"\",Basin!L685)))","v":""},{"$f":"IF(Basin_CountA=0,\"\",Basin!N685)","v":""},null,"","","","","","","","","","","","","","","","","","","","","","","","","","","","","","","","","","","","","","","","","","","","","","","","","","","","","","","","","","",""]
[null,{"$f":"IF(Basin_CountA=0,\"\",IF(User_Stage_Area=0,Basin!G694,Basin!H694))","v":""},{"$f":"IF(Basin_CountA=0,\"\",IF(User_Stage_Area=0,Basin!K694,IF(B665=\"\",\"\",Basin!L694)))","v":""},{"$f":"IF(Basin_CountA=0,\"\",Basin!N694)","v":""},null,"","","","","","","","","","","","","","","","","","","","","","","","","","","","","","","","","","","","","","","","","","","","","","","","","","","","","","","","",{"$f":"IF(B665=\"\",\"\",IF(T665=0,0,IF(ROUND(X665,3)=ROUND(S665,3),1,0)))","v":""},{"$f":"IF(B665=\"\",\"\",IF(V665=0,0,IF(ROUND(X665,3)=ROUND(U665,3),1,0)))","v":""},""]
[null,{"$f":"IF(Basin_CountA=0,\"\",IF(User_Stage_Area=0,Basin!G703,Basin!H703))","v":""},{"$f":"IF(Basin_CountA=0,\"\",IF(User_Stage_Area=0,Basin!K703,IF(B674=\"\",\"\",Basin!L703)))","v":""},{"$f":"IF(Basin_CountA=0,\"\",Basin!N703)","v":""},null,"","","","","","","","","","","","","","","","","","","","","","","","","","","","","","","","","","","","","","","","","","","","","","","","","","","","","","","","","","",""]
[null,{"$f":"IF(Basin_CountA=0,\"\",IF(User_Stage_Area=0,Basin!G712,Basin!H712))","v":""},{"$f":"IF(Basin_CountA=0,\"\",IF(User_Stage_Area=0,Basin!K712,IF(B683=\"\",\"\",Basin!L712)))","v":""},{"$f":"IF(Basin_CountA=0,\"\",Basin!N712)","v":""},null,"","","","","","","","","","","","","","","","","","","","","","","","","","","","","","","","","","","","","","","","","","","","","","","","","","","","","","","","","","",""]
[null,{"$f":"IF(Basin_CountA=0,\"\",IF(User_Stage_Area=0,Basin!G713,Basin!H713))","v":""},{"$f":"IF(Basin_CountA=0,\"\",IF(User_Stage_Area=0,Basin!K713,IF(B684=\"\",\"\",Basin!L713)))","v":""},{"$f":"IF(Basin_CountA=0,\"\",Basin!N713)","v":""},null,"","","","","","","","","","","","","","","","","","","","","","","","","","","","","","","","","","","","","","","","","","","","","","","","","","","","","","","","","","",""]
[null,{"$f":"IF(Basin_CountA=0,\"\",IF(User_Stage_Area=0,Basin!G722,Basin!H722))","v":""},{"$f":"IF(Basin_CountA=0,\"\",IF(User_Stage_Area=0,Basin!K722,IF(B693=\"\",\"\",Basin!L722)))","v":""},{"$f":"IF(Basin_CountA=0,\"\",Basin!N722)","v":""},null,"","","","","","","","","","","","","","","","","","","","","","","","","","","","","","","","","","","","","","","","","","","","","","","","","","","","","","","","","","",""]
[null,{"$f":"IF(Basin_CountA=0,\"\",IF(User_Stage_Area=0,Basin!G731,Basin!H731))","v":""},{"$f":"IF(Basin_CountA=0,\"\",IF(User_Stage_Area=0,Basin!K731,IF(B702=\"\",\"\",Basin!L731)))","v":""},{"$f":"IF(Basin_CountA=0,\"\",Basin!N731)","v":""},null,"","","","","","","","","","","","","","","","","","","","","","","","","","","","","","","","","","","","","","","","","","","","","","","","","","","","","","","","","","",""]
[null,{"$f":"IF(Basin_CountA=0,\"\",IF(User_Stage_Area=0,Basin!G740,Basin!H740))","v":""},{"$f":"IF(Basin_CountA=0,\"\",IF(User_Stage_Area=0,Basin!K740,IF(B711=\"\",\"\",Basin!L740)))","v":""},{"$f":"IF(Basin_CountA=0,\"\",Basin!N740)","v":""},null,"","","","","","","","","","","","","","","","","","","","","","","","","","","","","","","","","","","","","","","","","","","","","","","","","","","","","","","","","","",""]
[null,{"$f":"IF(Basin_CountA=0,\"\",IF(User_Stage_Area=0,Basin!G749,Basin!H749))","v":""},{"$f":"IF(Basin_CountA=0,\"\",IF(User_Stage_Area=0,Basin!K749,IF(B720=\"\",\"\",Basin!L749)))","v":""},{"$f":"IF(Basin_CountA=0,\"\",Basin!N749)","v":""},null,"","","","","","","","","","","","","","","","","","","","","","","","","","","","","","","","","","","","","","","","","","","","","","","","","","","","","","","","","","",""]
[null,{"$f":"IF(Basin_CountA=0,\"\",IF(User_Stage_Area=0,Basin!G758,Basin!H758))","v":""},{"$f":"IF(Basin_CountA=0,\"\",IF(User_Stage_Area=0,Basin!K758,IF(B729=\"\",\"\",Basin!L758)))","v":""},{"$f":"IF(Basin_CountA=0,\"\",Basin!N758)","v":""},null,"","","","","","","","","","","","","","","","","","","","","","","","","","","","","","","","","","","","","","","","","","","","","","","","","","","","","","","","",{"$f":"IF(B729=\"\",\"\",IF(T729=0,0,IF(ROUND(X729,3)=ROUND(S729,3),1,0)))","v":""},{"$f":"IF(B729=\"\",\"\",IF(V729=0,0,IF(ROUND(X729,3)=ROUND(U729,3),1,0)))","v":""},""]
[null,{"$f":"IF(Basin_CountA=0,\"\",IF(User_Stage_Area=0,Basin!G767,Basin!H767))","v":""},{"$f":"IF(Basin_CountA=0,\"\",IF(User_Stage_Area=0,Basin!K767,IF(B738=\"\",\"\",Basin!L767)))","v":""},{"$f":"IF(Basin_CountA=0,\"\",Basin!N767)","v":""},null,"","","","","","","","","","","","","","","","","","","","","","","","","","","","","","","","","","","","","","","","","","","","","","","","","","","","","","","","","","",""]
[null,{"$f":"IF(Basin_CountA=0,\"\",IF(User_Stage_Area=0,Basin!G776,Basin!H776))","v":""},{"$f":"IF(Basin_CountA=0,\"\",IF(User_Stage_Area=0,Basin!K776,IF(B747=\"\",\"\",Basin!L776)))","v":""},{"$f":"IF(Basin_CountA=0,\"\",Basin!N776)","v":""},null,"","","","","","","","","","","","","","","","","","","","","","","","","","","","","","","","","","","","","","","",{"$f":"IF($B747=\"\",\"\",IF(OR(Zone1_Outlet_Type=4,Zone2_Outlet_Type=4),IF($B747<WQ_Plate_Invert,0,($B747-WQ_Plate_Invert)*AS$86),\"\"))","v":""},"","","","","","","","","","","","","","","","","","",""]
[null,{"$f":"IF(Basin_CountA=0,\"\",IF(User_Stage_Area=0,Basin!G783,Basin!H783))","v":""},{"$f":"IF(Basin_CountA=0,\"\",IF(User_Stage_Area=0,Basin!K783,IF(B754=\"\",\"\",Basin!L783)))","v":""},{"$f":"IF(Basin_CountA=0,\"\",Basin!N783)","v":""},null,"","","","","","","","","","","","","","","","","","","","","","","","","","","","","","","","","","","","","","","","","","","","","","","","","","","","","","","","","","",""]
[null,{"$f":"IF(Basin_CountA=0,\"\",IF(User_Stage_Area=0,Basin!G785,Basin!H785))","v":""},{"$f":"IF(Basin_CountA=0,\"\",IF(User_Stage_Area=0,Basin!K785,IF(B756=\"\",\"\",Basin!L785)))","v":""},{"$f":"IF(Basin_CountA=0,\"\",Basin!N785)","v":""},null,"","","","","","","","","","","","","","","","","","","","","","","","","","","","","","","","","","","","","","","","","","","","","","","","","","","","","","","","","","",""]
[null,{"$f":"IF(Basin_CountA=0,\"\",IF(User_Stage_Area=0,Basin!G794,Basin!H794))","v":""},{"$f":"IF(Basin_CountA=0,\"\",IF(User_Stage_Area=0,Basin!K794,IF(B765=\"\",\"\",Basin!L794)))","v":""},{"$f":"IF(Basin_CountA=0,\"\",Basin!N794)","v":""},null,"","","","","","","","","","","","","","","","","","","","","","","","","","","","","","","","","","","","","","","","","","","","","","","","","","","","","","","","","","",""]
[null,{"$f":"IF(Basin_CountA=0,\"\",IF(User_Stage_Area=0,Basin!G803,Basin!H803))","v":""},{"$f":"IF(Basin_CountA=0,\"\",IF(User_Stage_Area=0,Basin!K803,IF(B774=\"\",\"\",Basin!L803)))","v":""},{"$f":"IF(Basin_CountA=0,\"\",Basin!N803)","v":""},null,"","","","","","","","","","","","","","","","","","","","","","","","","","","","","","","","","","","","","","","","","","","","","","","","","","","","","","","","","","",""]
[null,{"$f":"IF(Basin_CountA=0,\"\",IF(User_Stage_Area=0,Basin!G812,Basin!H812))","v":""},{"$f":"IF(Basin_CountA=0,\"\",IF(User_Stage_Area=0,Basin!K812,IF(B783=\"\",\"\",Basin!L812)))","v":""},{"$f":"IF(Basin_CountA=0,\"\",Basin!N812)","v":""},null,"","","","","","","","","","","","","","","","","","","","","","","","","","","","","","","","","","","","","","","","","","","","","","","","","","","","","","","","","","",""]
[null,{"$f":"IF(Basin_CountA=0,\"\",IF(User_Stage_Area=0,Basin!G821,Basin!H821))","v":""},{"$f":"IF(Basin_CountA=0,\"\",IF(User_Stage_Area=0,Basin!K821,IF(B792=\"\",\"\",Basin!L821)))","v":""},{"$f":"IF(Basin_CountA=0,\"\",Basin!N821)","v":""},null,"","","","","","","",{"$f":"IF(B792=\"\",\"\",K792+L792-1.11*(K792*L792)^0.5)","v":""},"","","",{"$f":"IF(B792=\"\",\"\",O792+P792-1.11*(O792*P792)^0.5)","v":""},"","","","","","",{"$f":"IF(B792=\"\",\"\",IF(E792<>\"\",E792,\nIF(V792<>0,V792+W792,\nIF(T792<>0,T792+W792,\nG792+H792+I792+J792+N792+R792+W792))))","v":""},"",{"$f":"IF(B792=\"\",\"\",IF(Y792<=0,0,IF(Y792=\"\",Z791,((X792-X791)/(Y792-Y791)))))","v":""},{"$f":"IF(B792=\"\",\"\",IF(Y792<=0,0,IF(Y792=\"\",AA791,((B792-B791)/(Y792-Y791)))))","v":""},"","","","","","","","","","","","","","","","","","","","","","","","","","","","",{"$f":"IF(B792=\"\",\"\",IF(G792=0,0,IF(X792=G792,1,0)))","v":""},{"$f":"IF(B792=\"\",\"\",IF(H792=0,0,IF(ROUND(X792-G792,3)=ROUND(H792,3),1,0)))","v":""},{"$f":"IF(B792=\"\",\"\",IF(I792=0,0,\nIF(Vertical_Orifice1_Rank=1,IF(ROUND(X792-H792-G792,3)=ROUND(I792,3),1,0),\nIF(Vertical_Orifice1_Rank=2,IF(ROUND(X792-T792,3)=ROUND(I792,3),1,0),\nIF(ROUND(X792-V792,3)=ROUND(I792,3),1,0)))))","v":""},{"$f":"IF(B792=\"\",\"\",IF(J792=0,0,\nIF(Vertical_Orifice2_Rank=2,IF(ROUND(X792-I792-H792-G792,3)=ROUND(J792,3),1,0),\nIF(Vertical_Orifice2_Rank=3,\nIF(Vertical_Orifice1_Rank=1,IF(ROUND(X792-T792,3)=ROUND(J792,3),1,0),IF(ROUND(X792-T792-I792,3)=ROUND(J792,3),1,0)),\nIF(OR(Vertical_Orifice1_Rank=1,Vertical_Orifice1_Rank=2),IF(ROUND(X792-T792,3)=ROUND(J792,3),1,0),IF(ROUND(X792-T792-I792,3)=ROUND(J792,3),1,0))))))","v":""},{"$f":"IF(B792=\"\",\"\",IF(N792=0,0,\nIF(Overflow_Weir1_Rank=1,IF(ROUND(X792-H792-G792,3)=ROUND(N792,3),1,0),\nIF(Overflow_Weir1_Rank=2,IF(ROUND(X792-I792-H792-G792,3)=ROUND(N792,3),1,0),\nIF(ROUND(X792-J792-I792-H792-G792,3)=ROUND(N792,3),1,0)))))","v":""},{"$f":"IF(B792=\"\",\"\",IF(R792=0,0,\nIF(Weir2_Position=\"Overlapping\",IF(ROUND(X792-N792-J792-I792-H792-G792,3)=ROUND(R792,3),1,0),\nIF(Overflow_Weir2_Rank=2,\nIF(ROUND(X792-T792,3)=ROUND(R792,3),1,0),\nIF(Overflow_Weir2_Rank=3,\nIF(Overflow_Weir1_Rank=2,IF(ROUND(X792-T792,3)=ROUND(R792,3),1,0),IF(ROUND(X792-T792-I792,3)=ROUND(R792,3),1,0)),\nIF(Overflow_Weir1_Rank=3,IF(ROUND(X792-T792,3)=ROUND(R792,3),1,0),\nIF(Overflow_Weir1_Rank=2,IF(ROUND(X792-T792-I792,3)=ROUND(R792,3),1,0),IF(ROUND(X792-T792-J792-I792,3)=ROUND(R792,3),1,0))))))))","v":""},"","",{"$f":"IF(B792=\"\",\"\",IF(W792=0,0,1))","v":""}]
[null,{"$f":"IF(Basin_CountA=0,\"\",IF(User_Stage_Area=0,Basin!G830,Basin!H830))","v":""},{"$f":"IF(Basin_CountA=0,\"\",IF(User_Stage_Area=0,Basin!K830,IF(B801=\"\",\"\",Basin!L830)))","v":""},{"$f":"IF(Basin_CountA=0,\"\",Basin!N830)","v":""},null,"","","","","","","","","","","","","","","","","","","","","","","","","","","","","","","","","","","","","","","","","","","","","","","","","","","","","","","","","","",""]
[null,{"$f":"IF(Basin_CountA=0,\"\",IF(User_Stage_Area=0,Basin!G839,Basin!H839))","v":""},{"$f":"IF(Basin_CountA=0,\"\",IF(User_Stage_Area=0,Basin!K839,IF(B810=\"\",\"\",Basin!L839)))","v":""},{"$f":"IF(Basin_CountA=0,\"\",Basin!N839)","v":""},null,"","","","","","","","","","","","","","","","","","","","","","","","","","","","","","","","","","","","","","","","","","","","","","","","","","","","","","","","","","",""]
[null,{"$f":"IF(Basin_CountA=0,\"\",IF(User_Stage_Area=0,Basin!G840,Basin!H840))","v":""},{"$f":"IF(Basin_CountA=0,\"\",IF(User_Stage_Area=0,Basin!K840,IF(B811=\"\",\"\",Basin!L840)))","v":""},{"$f":"IF(Basin_CountA=0,\"\",Basin!N840)","v":""},null,"","","","","","","","","","","","","","","","","","","","","","","","","","","","","","","","","","","","","","","","","","","","","","","","","","","","","","","","","","",""]
[null,{"$f":"IF(Basin_CountA=0,\"\",IF(User_Stage_Area=0,Basin!G849,Basin!H849))","v":""},{"$f":"IF(Basin_CountA=0,\"\",IF(User_Stage_Area=0,Basin!K849,IF(B820=\"\",\"\",Basin!L849)))","v":""},{"$f":"IF(Basin_CountA=0,\"\",Basin!N849)","v":""},null,"","","","","","","","","","","","","","","","","","","","","","","","","","","","","","","","","","","","","","","","","","","","","","","","","","","","","","","","","","",""]
[null,{"$f":"IF(Basin_CountA=0,\"\",IF(User_Stage_Area=0,Basin!G858,Basin!H858))","v":""},{"$f":"IF(Basin_CountA=0,\"\",IF(User_Stage_Area=0,Basin!K858,IF(B829=\"\",\"\",Basin!L858)))","v":""},{"$f":"IF(Basin_CountA=0,\"\",Basin!N858)","v":""},null,"","","","","","","","","","","","","","","","","","","","","","","","","","","","","","","","","","","","","","","","","","","","","","","","","","","","","","","","","","",""]
[null,{"$f":"IF(Basin_CountA=0,\"\",IF(User_Stage_Area=0,Basin!G867,Basin!H867))","v":""},{"$f":"IF(Basin_CountA=0,\"\",IF(User_Stage_Area=0,Basin!K867,IF(B838=\"\",\"\",Basin!L867)))","v":""},{"$f":"IF(Basin_CountA=0,\"\",Basin!N867)","v":""},null,"","","","","","","","","","","","","","","","","","","","","","","","","","","","","","","","","","","","","","","","","","","","","","","","","","","","","","","","","","",""]
[null,{"$f":"IF(Basin_CountA=0,\"\",IF(User_Stage_Area=0,Basin!G876,Basin!H876))","v":""},{"$f":"IF(Basin_CountA=0,\"\",IF(User_Stage_Area=0,Basin!K876,IF(B847=\"\",\"\",Basin!L876)))","v":""},{"$f":"IF(Basin_CountA=0,\"\",Basin!N876)","v":""},null,"","","","","","","","","","","","","","","","","","","","","","","","","","","","","","","","","","","","","","","",{"$f":"IF($B847=\"\",\"\",IF(OR(Zone1_Outlet_Type=4,Zone2_Outlet_Type=4),IF($B847<WQ_Plate_Invert,0,($B847-WQ_Plate_Invert)*AS$86),\"\"))","v":""},"","","","","","","","","","","","","","","","","","",""]
[null,{"$f":"IF(Basin_CountA=0,\"\",IF(User_Stage_Area=0,Basin!G885,Basin!H885))","v":""},{"$f":"IF(Basin_CountA=0,\"\",IF(User_Stage_Area=0,Basin!K885,IF(B856=\"\",\"\",Basin!L885)))","v":""},{"$f":"IF(Basin_CountA=0,\"\",Basin!N885)","v":""},null,"","","","","","","",{"$f":"IF(B856=\"\",\"\",K856+L856-1.11*(K856*L856)^0.5)","v":""},"","","",{"$f":"IF(B856=\"\",\"\",O856+P856-1.11*(O856*P856)^0.5)","v":""},"","","","","","",{"$f":"IF(B856=\"\",\"\",IF(E856<>\"\",E856,\nIF(V856<>0,V856+W856,\nIF(T856<>0,T856+W856,\nG856+H856+I856+J856+N856+R856+W856))))","v":""},"",{"$f":"IF(B856=\"\",\"\",IF(Y856<=0,0,IF(Y856=\"\",Z855,((X856-X855)/(Y856-Y855)))))","v":""},{"$f":"IF(B856=\"\",\"\",IF(Y856<=0,0,IF(Y856=\"\",AA855,((B856-B855)/(Y856-Y855)))))","v":""},"","","","","","","","","","","","","","","","","","","","","","","","","","","","",{"$f":"IF(B856=\"\",\"\",IF(G856=0,0,IF(X856=G856,1,0)))","v":""},{"$f":"IF(B856=\"\",\"\",IF(H856=0,0,IF(ROUND(X856-G856,3)=ROUND(H856,3),1,0)))","v":""},{"$f":"IF(B856=\"\",\"\",IF(I856=0,0,\nIF(Vertical_Orifice1_Rank=1,IF(ROUND(X856-H856-G856,3)=ROUND(I856,3),1,0),\nIF(Vertical_Orifice1_Rank=2,IF(ROUND(X856-T856,3)=ROUND(I856,3),1,0),\nIF(ROUND(X856-V856,3)=ROUND(I856,3),1,0)))))","v":""},{"$f":"IF(B856=\"\",\"\",IF(J856=0,0,\nIF(Vertical_Orifice2_Rank=2,IF(ROUND(X856-I856-H856-G856,3)=ROUND(J856,3),1,0),\nIF(Vertical_Orifice2_Rank=3,\nIF(Vertical_Orifice1_Rank=1,IF(ROUND(X856-T856,3)=ROUND(J856,3),1,0),IF(ROUND(X856-T856-I856,3)=ROUND(J856,3),1,0)),\nIF(OR(Vertical_Orifice1_Rank=1,Vertical_Orifice1_Rank=2),IF(ROUND(X856-T856,3)=ROUND(J856,3),1,0),IF(ROUND(X856-T856-I856,3)=ROUND(J856,3),1,0))))))","v":""},{"$f":"IF(B856=\"\",\"\",IF(N856=0,0,\nIF(Overflow_Weir1_Rank=1,IF(ROUND(X856-H856-G856,3)=ROUND(N856,3),1,0),\nIF(Overflow_Weir1_Rank=2,IF(ROUND(X856-I856-H856-G856,3)=ROUND(N856,3),1,0),\nIF(ROUND(X856-J856-I856-H856-G856,3)=ROUND(N856,3),1,0)))))","v":""},{"$f":"IF(B856=\"\",\"\",IF(R856=0,0,\nIF(Weir2_Position=\"Overlapping\",IF(ROUND(X856-N856-J856-I856-H856-G856,3)=ROUND(R856,3),1,0),\nIF(Overflow_Weir2_Rank=2,\nIF(ROUND(X856-T856,3)=ROUND(R856,3),1,0),\nIF(Overflow_Weir2_Rank=3,\nIF(Overflow_Weir1_Rank=2,IF(ROUND(X856-T856,3)=ROUND(R856,3),1,0),IF(ROUND(X856-T856-I856,3)=ROUND(R856,3),1,0)),\nIF(Overflow_Weir1_Rank=3,IF(ROUND(X856-T856,3)=ROUND(R856,3),1,0),\nIF(Overflow_Weir1_Rank=2,IF(ROUND(X856-T856-I856,3)=ROUND(R856,3),1,0),IF(ROUND(X856-T856-J856-I856,3)=ROUND(R856,3),1,0))))))))","v":""},"","",{"$f":"IF(B856=\"\",\"\",IF(W856=0,0,1))","v":""}]
[null,{"$f":"IF(Basin_CountA=0,\"\",IF(User_Stage_Area=0,Basin!G894,Basin!H894))","v":""},{"$f":"IF(Basin_CountA=0,\"\",IF(User_Stage_Area=0,Basin!K894,IF(B865=\"\",\"\",Basin!L894)))","v":""},{"$f":"IF(Basin_CountA=0,\"\",Basin!N894)","v":""},null,"","","","","","","","","","","","","","","","","","","","","","","","","","","","","","","","","","","","","","","","","","","","","","","","","","","","","","","","","","",""]
[null,{"$f":"IF(Basin_CountA=0,\"\",IF(User_Stage_Area=0,Basin!G903,Basin!H903))","v":""},{"$f":"IF(Basin_CountA=0,\"\",IF(User_Stage_Area=0,Basin!K903,IF(B874=\"\",\"\",Basin!L903)))","v":""},{"$f":"IF(Basin_CountA=0,\"\",Basin!N903)","v":""},null,"","","","","","","","","","","","","","","","","","","","","","","","","","","","","","","","","","","","","","","","","","","","","","","","","","","","","","","","","","",""]
[null,{"$f":"IF(Basin_CountA=0,\"\",IF(User_Stage_Area=0,Basin!G904,Basin!H904))","v":""},{"$f":"IF(Basin_CountA=0,\"\",IF(User_Stage_Area=0,Basin!K904,IF(B875=\"\",\"\",Basin!L904)))","v":""},{"$f":"IF(Basin_CountA=0,\"\",Basin!N904)","v":""},null,"","","","","","","","","","","","","","","","","","","","","","","","","","","","","","","","","","","","","","","","","","","","","","","","","","","","","","","","","","",""]
[null,{"$f":"IF(Basin_CountA=0,\"\",IF(User_Stage_Area=0,Basin!G913,Basin!H913))","v":""},{"$f":"IF(Basin_CountA=0,\"\",IF(User_Stage_Area=0,Basin!K913,IF(B884=\"\",\"\",Basin!L913)))","v":""},{"$f":"IF(Basin_CountA=0,\"\",Basin!N913)","v":""},null,"","","","","","","","","","","","","","","","","","","","","","","","","","","","","","","","","","","","","","","","","","","","","","","","","","","","","","","","","","",""]
[null,{"$f":"IF(Basin_CountA=0,\"\",IF(User_Stage_Area=0,Basin!G922,Basin!H922))","v":""},{"$f":"IF(Basin_CountA=0,\"\",IF(User_Stage_Area=0,Basin!K922,IF(B893=\"\",\"\",Basin!L922)))","v":""},{"$f":"IF(Basin_CountA=0,\"\",Basin!N922)","v":""},null,"","","","","","","","","","","","","","","","","","","","","","","","","","","","","","","","","","","","","","","","","","","","","","","","","","","","","","","","","","",""]
[null,{"$f":"IF(Basin_CountA=0,\"\",IF(User_Stage_Area=0,Basin!G931,Basin!H931))","v":""},{"$f":"IF(Basin_CountA=0,\"\",IF(User_Stage_Area=0,Basin!K931,IF(B902=\"\",\"\",Basin!L931)))","v":""},{"$f":"IF(Basin_CountA=0,\"\",Basin!N931)","v":""},null,"","","","","","","","","","","","","","","","","","","","","","","","","","","","","","","","","","","","","","","","","","","","","","","","","","","","","","","","","","",""]
[null,{"$f":"IF(Basin_CountA=0,\"\",IF(User_Stage_Area=0,Basin!G940,Basin!H940))","v":""},{"$f":"IF(Basin_CountA=0,\"\",IF(User_Stage_Area=0,Basin!K940,IF(B911=\"\",\"\",Basin!L940)))","v":""},{"$f":"IF(Basin_CountA=0,\"\",Basin!N940)","v":""},null,"","","","","","","","","","","","","","","","","","","","","","","","","","","","","","","","","","","","","","","","","","","","","","","","","","","","","","","","","","",""]
[null,{"$f":"IF(Basin_CountA=0,\"\",IF(User_Stage_Area=0,Basin!G949,Basin!H949))","v":""},{"$f":"IF(Basin_CountA=0,\"\",IF(User_Stage_Area=0,Basin!K949,IF(B920=\"\",\"\",Basin!L949)))","v":""},{"$f":"IF(Basin_CountA=0,\"\",Basin!N949)","v":""},null,"","","","","","","",{"$f":"IF(B920=\"\",\"\",K920+L920-1.11*(K920*L920)^0.5)","v":""},"","","",{"$f":"IF(B920=\"\",\"\",O920+P920-1.11*(O920*P920)^0.5)","v":""},"","","","","","",{"$f":"IF(B920=\"\",\"\",IF(E920<>\"\",E920,\nIF(V920<>0,V920+W920,\nIF(T920<>0,T920+W920,\nG920+H920+I920+J920+N920+R920+W920))))","v":""},"",{"$f":"IF(B920=\"\",\"\",IF(Y920<=0,0,IF(Y920=\"\",Z919,((X920-X919)/(Y920-Y919)))))","v":""},{"$f":"IF(B920=\"\",\"\",IF(Y920<=0,0,IF(Y920=\"\",AA919,((B920-B919)/(Y920-Y919)))))","v":""},"","","","","","","","","","","","","","","","","","","","","","","","","","","","",{"$f":"IF(B920=\"\",\"\",IF(G920=0,0,IF(X920=G920,1,0)))","v":""},{"$f":"IF(B920=\"\",\"\",IF(H920=0,0,IF(ROUND(X920-G920,3)=ROUND(H920,3),1,0)))","v":""},{"$f":"IF(B920=\"\",\"\",IF(I920=0,0,\nIF(Vertical_Orifice1_Rank=1,IF(ROUND(X920-H920-G920,3)=ROUND(I920,3),1,0),\nIF(Vertical_Orifice1_Rank=2,IF(ROUND(X920-T920,3)=ROUND(I920,3),1,0),\nIF(ROUND(X920-V920,3)=ROUND(I920,3),1,0)))))","v":""},{"$f":"IF(B920=\"\",\"\",IF(J920=0,0,\nIF(Vertical_Orifice2_Rank=2,IF(ROUND(X920-I920-H920-G920,3)=ROUND(J920,3),1,0),\nIF(Vertical_Orifice2_Rank=3,\nIF(Vertical_Orifice1_Rank=1,IF(ROUND(X920-T920,3)=ROUND(J920,3),1,0),IF(ROUND(X920-T920-I920,3)=ROUND(J920,3),1,0)),\nIF(OR(Vertical_Orifice1_Rank=1,Vertical_Orifice1_Rank=2),IF(ROUND(X920-T920,3)=ROUND(J920,3),1,0),IF(ROUND(X920-T920-I920,3)=ROUND(J920,3),1,0))))))","v":""},{"$f":"IF(B920=\"\",\"\",IF(N920=0,0,\nIF(Overflow_Weir1_Rank=1,IF(ROUND(X920-H920-G920,3)=ROUND(N920,3),1,0),\nIF(Overflow_Weir1_Rank=2,IF(ROUND(X920-I920-H920-G920,3)=ROUND(N920,3),1,0),\nIF(ROUND(X920-J920-I920-H920-G920,3)=ROUND(N920,3),1,0)))))","v":""},{"$f":"IF(B920=\"\",\"\",IF(R920=0,0,\nIF(Weir2_Position=\"Overlapping\",IF(ROUND(X920-N920-J920-I920-H920-G920,3)=ROUND(R920,3),1,0),\nIF(Overflow_Weir2_Rank=2,\nIF(ROUND(X920-T920,3)=ROUND(R920,3),1,0),\nIF(Overflow_Weir2_Rank=3,\nIF(Overflow_Weir1_Rank=2,IF(ROUND(X920-T920,3)=ROUND(R920,3),1,0),IF(ROUND(X920-T920-I920,3)=ROUND(R920,3),1,0)),\nIF(Overflow_Weir1_Rank=3,IF(ROUND(X920-T920,3)=ROUND(R920,3),1,0),\nIF(Overflow_Weir1_Rank=2,IF(ROUND(X920-T920-I920,3)=ROUND(R920,3),1,0),IF(ROUND(X920-T920-J920-I920,3)=ROUND(R920,3),1,0))))))))","v":""},"","",{"$f":"IF(B920=\"\",\"\",IF(W920=0,0,1))","v":""}]
[null,{"$f":"IF(Basin_CountA=0,\"\",IF(User_Stage_Area=0,Basin!G958,Basin!H958))","v":""},{"$f":"IF(Basin_CountA=0,\"\",IF(User_Stage_Area=0,Basin!K958,IF(B929=\"\",\"\",Basin!L958)))","v":""},{"$f":"IF(Basin_CountA=0,\"\",Basin!N958)","v":""},null,"","","","","","","","","","","","","","","","","","","","","","","","","","","","","","","","","","","","","","","","","","","","","","","","","","","","","","","","","","",""]
[null,{"$f":"IF(Basin_CountA=0,\"\",IF(User_Stage_Area=0,Basin!G967,Basin!H967))","v":""},{"$f":"IF(Basin_CountA=0,\"\",IF(User_Stage_Area=0,Basin!K967,IF(B938=\"\",\"\",Basin!L967)))","v":""},{"$f":"IF(Basin_CountA=0,\"\",Basin!N967)","v":""},null,"","","","","","","","","","","","","","","","","","","","","","","","","","","","","","","","","","","","","","","","","","","","","","","","","","","","","","","","","","",""]
[null,{"$f":"IF(Basin_CountA=0,\"\",IF(User_Stage_Area=0,Basin!G968,Basin!H968))","v":""},{"$f":"IF(Basin_CountA=0,\"\",IF(User_Stage_Area=0,Basin!K968,IF(B939=\"\",\"\",Basin!L968)))","v":""},{"$f":"IF(Basin_CountA=0,\"\",Basin!N968)","v":""},null,"","","","","","","","","","","","","","","","","","","","","","","","","","","","","","","","","","","","","","","","","","","","","","","","","","","","","","","","","","",""]
[null,{"$f":"IF(Basin_CountA=0,\"\",IF(User_Stage_Area=0,Basin!G977,Basin!H977))","v":""},{"$f":"IF(Basin_CountA=0,\"\",IF(User_Stage_Area=0,Basin!K977,IF(B948=\"\",\"\",Basin!L977)))","v":""},{"$f":"IF(Basin_CountA=0,\"\",Basin!N977)","v":""},null,"","","","","","","","","","","","","","","","","","","","","","","","","","","","","","","","","","","","","","","","","","","","","","","","","","","","","","","","","","",""]
[null,{"$f":"IF(Basin_CountA=0,\"\",IF(User_Stage_Area=0,Basin!G986,Basin!H986))","v":""},{"$f":"IF(Basin_CountA=0,\"\",IF(User_Stage_Area=0,Basin!K986,IF(B957=\"\",\"\",Basin!L986)))","v":""},{"$f":"IF(Basin_CountA=0,\"\",Basin!N986)","v":""},null,"","","","","","","","","","","","","","","","","","","","","","","","","","","","","","","","","","","","","","","","","","","","","","","","","","","","","","","","","","",""]
[null,{"$f":"IF(Basin_CountA=0,\"\",IF(User_Stage_Area=0,Basin!G995,Basin!H995))","v":""},{"$f":"IF(Basin_CountA=0,\"\",IF(User_Stage_Area=0,Basin!K995,IF(B966=\"\",\"\",Basin!L995)))","v":""},{"$f":"IF(Basin_CountA=0,\"\",Basin!N995)","v":""},null,"","","","","","","","","","","","","","","","","","","","","","","","","","","","","","","","","","","","","","","","","","","","","","","","","","","","","","","","","","",""]
[null,{"$f":"IF(Basin_CountA=0,\"\",IF(User_Stage_Area=0,Basin!G1004,Basin!H1004))","v":""},{"$f":"IF(Basin_CountA=0,\"\",IF(User_Stage_Area=0,Basin!K1004,IF(B975=\"\",\"\",Basin!L1004)))","v":""},{"$f":"IF(Basin_CountA=0,\"\",Basin!N1004)","v":""},null,"","","","","","","","","","","","","","","","","","","","","","","","","","","","","","","","","","","","","","","","","","","","","","","","","","","","","","","","","","",""]
[null,{"$f":"IF(Basin_CountA=0,\"\",IF(User_Stage_Area=0,Basin!G1013,Basin!H1013))","v":""},{"$f":"IF(Basin_CountA=0,\"\",IF(User_Stage_Area=0,Basin!K1013,IF(B984=\"\",\"\",Basin!L1013)))","v":""},{"$f":"IF(Basin_CountA=0,\"\",Basin!N1013)","v":""},null,"","","","","","","",{"$f":"IF(B984=\"\",\"\",K984+L984-1.11*(K984*L984)^0.5)","v":""},"","","",{"$f":"IF(B984=\"\",\"\",O984+P984-1.11*(O984*P984)^0.5)","v":""},"","","","","","",{"$f":"IF(B984=\"\",\"\",IF(E984<>\"\",E984,\nIF(V984<>0,V984+W984,\nIF(T984<>0,T984+W984,\nG984+H984+I984+J984+N984+R984+W984))))","v":""},"",{"$f":"IF(B984=\"\",\"\",IF(Y984<=0,0,IF(Y984=\"\",Z983,((X984-X983)/(Y984-Y983)))))","v":""},{"$f":"IF(B984=\"\",\"\",IF(Y984<=0,0,IF(Y984=\"\",AA983,((B984-B983)/(Y984-Y983)))))","v":""},"","","","","","","","","","","","","","","","","","","","","","","","","","","","",{"$f":"IF(B984=\"\",\"\",IF(G984=0,0,IF(X984=G984,1,0)))","v":""},{"$f":"IF(B984=\"\",\"\",IF(H984=0,0,IF(ROUND(X984-G984,3)=ROUND(H984,3),1,0)))","v":""},{"$f":"IF(B984=\"\",\"\",IF(I984=0,0,\nIF(Vertical_Orifice1_Rank=1,IF(ROUND(X984-H984-G984,3)=ROUND(I984,3),1,0),\nIF(Vertical_Orifice1_Rank=2,IF(ROUND(X984-T984,3)=ROUND(I984,3),1,0),\nIF(ROUND(X984-V984,3)=ROUND(I984,3),1,0)))))","v":""},{"$f":"IF(B984=\"\",\"\",IF(J984=0,0,\nIF(Vertical_Orifice2_Rank=2,IF(ROUND(X984-I984-H984-G984,3)=ROUND(J984,3),1,0),\nIF(Vertical_Orifice2_Rank=3,\nIF(Vertical_Orifice1_Rank=1,IF(ROUND(X984-T984,3)=ROUND(J984,3),1,0),IF(ROUND(X984-T984-I984,3)=ROUND(J984,3),1,0)),\nIF(OR(Vertical_Orifice1_Rank=1,Vertical_Orifice1_Rank=2),IF(ROUND(X984-T984,3)=ROUND(J984,3),1,0),IF(ROUND(X984-T984-I984,3)=ROUND(J984,3),1,0))))))","v":""},{"$f":"IF(B984=\"\",\"\",IF(N984=0,0,\nIF(Overflow_Weir1_Rank=1,IF(ROUND(X984-H984-G984,3)=ROUND(N984,3),1,0),\nIF(Overflow_Weir1_Rank=2,IF(ROUND(X984-I984-H984-G984,3)=ROUND(N984,3),1,0),\nIF(ROUND(X984-J984-I984-H984-G984,3)=ROUND(N984,3),1,0)))))","v":""},{"$f":"IF(B984=\"\",\"\",IF(R984=0,0,\nIF(Weir2_Position=\"Overlapping\",IF(ROUND(X984-N984-J984-I984-H984-G984,3)=ROUND(R984,3),1,0),\nIF(Overflow_Weir2_Rank=2,\nIF(ROUND(X984-T984,3)=ROUND(R984,3),1,0),\nIF(Overflow_Weir2_Rank=3,\nIF(Overflow_Weir1_Rank=2,IF(ROUND(X984-T984,3)=ROUND(R984,3),1,0),IF(ROUND(X984-T984-I984,3)=ROUND(R984,3),1,0)),\nIF(Overflow_Weir1_Rank=3,IF(ROUND(X984-T984,3)=ROUND(R984,3),1,0),\nIF(Overflow_Weir1_Rank=2,IF(ROUND(X984-T984-I984,3)=ROUND(R984,3),1,0),IF(ROUND(X984-T984-J984-I984,3)=ROUND(R984,3),1,0))))))))","v":""},"","",{"$f":"IF(B984=\"\",\"\",IF(W984=0,0,1))","v":""}]
[null,{"$f":"IF(Basin_CountA=0,\"\",IF(User_Stage_Area=0,Basin!G1022,Basin!H1022))","v":""},{"$f":"IF(Basin_CountA=0,\"\",IF(User_Stage_Area=0,Basin!K1022,IF(B993=\"\",\"\",Basin!L1022)))","v":""},{"$f":"IF(Basin_CountA=0,\"\",Basin!N1022)","v":""},null,"","","","","","","","","","","","","","","","","","","","","","","","","","","","","","","","","","","","","","","","","","","","","","","","","","","","","","","","","","",""]
[null,{"$f":"IF(Basin_CountA=0,\"\",IF(User_Stage_Area=0,Basin!G1025,Basin!H1025))","v":""},{"$f":"IF(Basin_CountA=0,\"\",IF(User_Stage_Area=0,Basin!K1025,IF(B996=\"\",\"\",Basin!L1025)))","v":""},{"$f":"IF(Basin_CountA=0,\"\",Basin!N1025)","v":""},null,"","","","","","","","","","","","","","","","","","","","","","","","","","","","","","","","","","","","","","","","","","","","","","","","","","","","","","","","","","",""]
[null,{"$f":"IF(Basin_CountA=0,\"\",IF(User_Stage_Area=0,Basin!G1031,Basin!H1031))","v":""},{"$f":"IF(Basin_CountA=0,\"\",IF(User_Stage_Area=0,Basin!K1031,IF(B1002=\"\",\"\",Basin!L1031)))","v":""},{"$f":"IF(Basin_CountA=0,\"\",Basin!N1031)","v":""},null,"","","","","","","","","","","","","","","","","","","","","","","","","","","","","","","","","","","","","","","","","","","","","","","","","","","","","","","","","","",""]
[null,{"$f":"IF(Basin_CountA=0,\"\",IF(User_Stage_Area=0,Basin!G1040,Basin!H1040))","v":""},{"$f":"IF(Basin_CountA=0,\"\",IF(User_Stage_Area=0,Basin!K1040,IF(B1011=\"\",\"\",Basin!L1040)))","v":""},{"$f":"IF(Basin_CountA=0,\"\",Basin!N1040)","v":""},null,"","","","","","","","","","","","","","","","","","","","","","","","","","","","","","","","","","","","","","","","","","","","","","","","","","","","","","","","","","",""]
[null,{"$f":"IF(Basin_CountA=0,\"\",IF(User_Stage_Area=0,Basin!G1049,Basin!H1049))","v":""},{"$f":"IF(Basin_CountA=0,\"\",IF(User_Stage_Area=0,Basin!K1049,IF(B1020=\"\",\"\",Basin!L1049)))","v":""},{"$f":"IF(Basin_CountA=0,\"\",Basin!N1049)","v":""},null,"","","","","","","","","","","","","","","","","","","","","","","","","","","","","","","","","","","","","","","","","","","","","","","","","","","","","","","","","","",""]
[null,{"$f":"IF(Basin_CountA=0,\"\",IF(User_Stage_Area=0,Basin!G1058,Basin!H1058))","v":""},{"$f":"IF(Basin_CountA=0,\"\",IF(User_Stage_Area=0,Basin!K1058,IF(B1029=\"\",\"\",Basin!L1058)))","v":""},{"$f":"IF(Basin_CountA=0,\"\",Basin!N1058)","v":""},null,"","","","","","","","","","","","","","","","","","","","","","","","","","","","","","","","","","","","","","","","","","","","","","","","","","","","","","","","","","",""]
[null,{"$f":"IF(Basin_CountA=0,\"\",IF(User_Stage_Area=0,Basin!G1067,Basin!H1067))","v":""},{"$f":"IF(Basin_CountA=0,\"\",IF(User_Stage_Area=0,Basin!K1067,IF(B1038=\"\",\"\",Basin!L1067)))","v":""},{"$f":"IF(Basin_CountA=0,\"\",Basin!N1067)","v":""},null,"","","","","","","","","","","","","","","","","","","","","","","","","","","","","","","","","","","","","","","","","","","","","","","","","","","","","","","","","","",""]
[null,{"$f":"IF(Basin_CountA=0,\"\",IF(User_Stage_Area=0,Basin!G1076,Basin!H1076))","v":""},{"$f":"IF(Basin_CountA=0,\"\",IF(User_Stage_Area=0,Basin!K1076,IF(B1047=\"\",\"\",Basin!L1076)))","v":""},{"$f":"IF(Basin_CountA=0,\"\",Basin!N1076)","v":""},null,{"$f":"IF(B1047=\"\",\"\",IF(D1047=\"\",\"\",2*D1047))","v":""},{"$f":"IF(B1047=\"\",\"\",\nIF(OR(Underdrain_Invert=\"\",Underdrain_Invert=\"N/A\",Underdrain_Diameter=\"\",Underdrain_Diameter=\"N/A\"),0,\nIF(B1047+Underdrain_Invert<=Underdrain_Orifice_Centroid,0,IF(B1047=0,0,0.6*Underdrain_Orifice_Area*(64.4*(B1047+Underdrain_Invert-Underdrain_Orifice_Centroid))^0.5))))","v":""},{"$f":"IF(B1047=\"\",\"\",\nIF(OR(WQ_Plate_Invert=\"\",WQ_Plate_Invert=\"N/A\",Required_Depth=\"\",Required_Depth=\"N/A\",Ao_OC_or_ESLOT_H=\"\",Ao_or_ESLOT_W=\"\"),0,\nIF(ESLOT_RATIO=\"\",AR1047,IF(ESLOT_RATIO<>\"\",BC1047,0))))","v":""},{"$f":"IF(B1047=\"\",\"\",IF(Vertical_Orifice1_Boolean=0,0,\nIF(B1047<=Orifice1_Invert,0,\nIF(B1047<Orifice1_Invert+Orifice1_Height/12,\n(0.6*Vertical_Orifice1_Area*(64.4*Vertical_Orifice1_Centroid)^0.5)*((B1047-Orifice1_Invert)/(Orifice1_Height/12))^1.81,\n0.6*Vertical_Orifice1_Area*(64.4*(B1047-Orifice1_Invert-Vertical_Orifice1_Centroid))^0.5))))","v":""},{"$f":"IF(B1047=\"\",\"\",IF(Vertical_Orifice2_Boolean=0,0,\nIF(B1047<=Orifice2_Invert,0,\nIF(B1047<Orifice2_Invert+Orifice2_Height/12,\n(0.6*Vertical_Orifice2_Area*(64.4*Vertical_Orifice2_Centroid)^0.5)*((B1047-Orifice2_Invert)/(Orifice2_Height/12))^1.81,\n0.6*Vertical_Orifice2_Area*(64.4*(B1047-Orifice2_Invert-Vertical_Orifice2_Centroid))^0.5))))","v":""},{"$f":"IF(B1047=\"\",\"\",IF(Overflow_Weir1_Boolean=0,0,IF((B1047-Weir1_Ho)<=0,0,\n\nIF(OR(Weir1_horiz_length_of_grate=0,Weir1_horiz_length_of_grate=\"N/A\"),\nCd_BCW*Weir1_W*(B1047-Weir1_Ho)^1.5+(0.8*Cd_BCW)*Weir1_Grate_Slope*(B1047-Weir1_Ho)^2.5,\n\nIF(Angle1=0,\n2*(2/3*CLOG1*n_Cdw_1*(64.4^0.5)*Weir1_horiz_length_of_grate*(B1047-Weir1_Ho)^1.5)+2*(2/3*CLOG1*n_Cdw_1*(64.4^0.5)*Weir1_W*(B1047-Weir1_Ho)^1.5),\n\nIF((B1047-Weir1_Ho)<(Ht_1-Weir1_Ho),\n2*(4/15*CLOG1*n_Cdw_1*(64.4^0.5)*(COS(Angle1)/SIN(Angle1))*(B1047-Weir1_Ho)^2.5)+(2/3*CLOG1*n_Cdw_1*(64.4^0.5)*Weir1_W*(B1047-Weir1_Ho)^1.5),\n\n2*(4/15*CLOG1*n_Cdw_1*(64.4^0.5)*Weir1_horiz_length_of_grate*COS(Angle1)*(B1047-Weir1_Ho)^1.5*((B1047-Weir1_Ho)^2.5/(B1047-Weir1_Ho)^1.5/(Ht_1-Weir1_Ho)-((B1047-Weir1_Ho)-(Ht_1-Weir1_Ho))^2.5/(B1047-Weir1_Ho)^1.5/(Ht_1-Weir1_Ho))) +(2/3*CLOG1*n_Cdw_1*(64.4^0.5)*Weir1_W*(B1047-Weir1_Ho)^1.5)))))))","v":""},{"$f":"IF(B1047=\"\",\"\",IF(Overflow_Weir1_Boolean=0,0,IF((B1047-Weir1_Ho)<=0,0,IF(OR(Weir1_horiz_length_of_grate=0,Weir1_horiz_length_of_grate=\"N/A\"),0,\n\nIF(Angle1=0,\n(2/3*CLOG1*n_Cdo_1*Weir1_W*Weir1_horiz_length_of_grate*(64.4*(B1047-Weir1_Ho))^0.5),\n\nIF((B1047-Weir1_Ho)<(Ht_1-Weir1_Ho),\n(2/3*CLOG1*n_Cdo_1*Weir1_W*(B1047-Weir1_Ho)*(COS(Angle1)/SIN(Angle1))*(64.4*(B1047-Weir1_Ho))^0.5),\n\n(2/3*CLOG1*n_Cdo_1*Weir1_W*Weir1_horiz_length_of_grate*COS(Angle1)*(64.4*(B1047-Weir1_Ho))^0.5*((B1047-Weir1_Ho)^1.5/(Ht_1-Weir1_Ho)/(B1047-Weir1_Ho)^0.5-((B1047-Weir1_Ho)-(Ht_1-Weir1_Ho))^1.5/(B1047-Weir1_Ho)^0.5/(Ht_1-Weir1_Ho)))))))))","v":""},"",{"$f":"IF(B1047=\"\",\"\",IF(OR(Weir1_horiz_length_of_grate=0,Weir1_horiz_length_of_grate=\"N/A\"),K1047,MIN(K1047,L1047,M1047)))","v":""},{"$f":"IF(B1047=\"\",\"\",IF(Overflow_Weir2_Boolean=0,0,IF((B1047-Weir2_Ho)<=0,0,\n\nIF(OR(Weir2_horiz_length_of_grate=0,Weir2_horiz_length_of_grate=\"N/A\"),\nIF(AND(Weir1_horiz_length_of_grate=\"N/A\",Weir2_Position=\"Overlapping\"),\nIF((Cd_BCW*Weir2_W*(B1047-Weir2_Ho)^1.5+(0.8*Cd_BCW)*Weir2_Grate_Slope*(B1047-Weir2_Ho)^2.5)-(Cd_BCW*(Weir1_W+2*(Weir2_Ho-Weir1_Ho)*Weir1_Grate_Slope)*(B1047-Weir2_Ho)^1.5+(0.8*Cd_BCW)*Weir1_Grate_Slope*(B1047-Weir2_Ho)^2.5)<0,0,\n(Cd_BCW*Weir2_W*(B1047-Weir2_Ho)^1.5+(0.8*Cd_BCW)*Weir2_Grate_Slope*(B1047-Weir2_Ho)^2.5)-(Cd_BCW*(Weir1_W+2*(Weir2_Ho-Weir1_Ho)*Weir1_Grate_Slope)*(B1047-Weir2_Ho)^1.5+(0.8*Cd_BCW)*Weir1_Grate_Slope*(B1047-Weir2_Ho)^2.5)),\nCd_BCW*Weir2_W*(B1047-Weir2_Ho)^1.5+(0.8*Cd_BCW)*Weir2_Grate_Slope*(B1047-Weir2_Ho)^2.5),\n\nIF(Angle2=0,\n2*(2/3*CLOG2*n_Cdw_2*(64.4^0.5)*Weir2_horiz_length_of_grate*(B1047-Weir2_Ho)^1.5)+2*(2/3*CLOG2*n_Cdw_2*(64.4^0.5)*Weir2_W*(B1047-Weir2_Ho)^1.5),\n\nIF((B1047-Weir2_Ho)<(Ht_2-Weir2_Ho),\n2*(4/15*CLOG2*n_Cdw_2*(64.4^0.5)*(COS(Angle2)/SIN(Angle2))*(B1047-Weir2_Ho)^2.5)+(2/3*CLOG2*n_Cdw_2*(64.4^0.5)*Weir2_W*(B1047-Weir2_Ho)^1.5),\n\n2*(4/15*CLOG2*n_Cdw_2*(64.4^0.5)*Weir2_horiz_length_of_grate*COS(Angle2)*(B1047-Weir2_Ho)^1.5*((B1047-Weir2_Ho)^2.5/(B1047-Weir2_Ho)^1.5/(Ht_2-Weir2_Ho)-((B1047-Weir2_Ho)-(Ht_2-Weir2_Ho))^2.5/(B1047-Weir2_Ho)^1.5/(Ht_2-Weir2_Ho))) +(2/3*CLOG2*n_Cdw_2*(64.4^0.5)*Weir2_W*(B1047-Weir2_Ho)^1.5)))))))","v":""},{"$f":"IF(B1047=\"\",\"\",IF(Overflow_Weir2_Boolean=0,0,IF((B1047-Weir2_Ho)<=0,0,IF(OR(Weir2_horiz_length_of_grate=0,Weir2_horiz_length_of_grate=\"N/A\"),0,\n\nIF(Angle2=0,\n(2/3*CLOG2*n_Cdo_2*Weir2_W*Weir2_horiz_length_of_grate*(64.4*(B1047-Weir2_Ho))^0.5),\n\nIF((B1047-Weir2_Ho)<(Ht_2-Weir2_Ho),\n(2/3*CLOG2*n_Cdo_2*Weir2_W*(B1047-Weir2_Ho)*(COS(Angle2)/SIN(Angle2))*(64.4*(B1047-Weir2_Ho))^0.5),\n\n(2/3*CLOG2*n_Cdo_2*Weir2_W*Weir2_horiz_length_of_grate*COS(Angle2)*(64.4*(B1047-Weir2_Ho))^0.5*((B1047-Weir2_Ho)^1.5/(Ht_2-Weir2_Ho)/(B1047-Weir2_Ho)^0.5-((B1047-Weir2_Ho)-(Ht_2-Weir2_Ho))^1.5/(B1047-Weir2_Ho)^0.5/(Ht_2-Weir2_Ho)))))))))","v":""},"",{"$f":"IF(B1047=\"\",\"\",IF(OR(Weir2_horiz_length_of_grate=0,Weir2_horiz_length_of_grate=\"N/A\"),O1047,MIN(O1047,P1047,Q1047)))","v":""},{"$f":"IF(B1047=\"\",\"\",\nIF(Outlet_Pipe1_Boolean=0,0,\nIF(B1047+Outlet1_Orifice_Invert<2*Outlet1_Orifice_Centroid,\nIF((0.6*Outlet1_Orifice_Area*(64.4*Outlet1_Orifice_Centroid)^0.5)*((B1047+Outlet1_Orifice_Invert)/(2*Outlet1_Orifice_Centroid))^1.81<H1047,H1047,\n(0.6*Outlet1_Orifice_Area*(64.4*Outlet1_Orifice_Centroid)^0.5)*((B1047+Outlet1_Orifice_Invert)/(2*Outlet1_Orifice_Centroid))^1.81),\n0.6*Outlet1_Orifice_Area*(64.4*(B1047+Outlet1_Orifice_Invert-Outlet1_Orifice_Centroid))^0.5)))","v":""},{"$f":"IF(B1047=\"\",\"\",IF(Outlet_Pipe1_Boolean=0,0,\nIF(Outlet_Pipe1_Rank=3,MIN(S1047,G1047+H1047+I1047+J1047+N1047),\nIF(Outlet_Pipe1_Rank=2,IF(Vertical_Orifice1_Rank=1,MIN(S1047,G1047+H1047+I1047+N1047),MIN(S1047,G1047+H1047+J1047+N1047)),\nIF(Outlet_Pipe1_Rank=1,MIN(S1047,G1047+H1047+N1047),\nMIN(S1047,G1047+H1047+I1047+J1047))))))","v":""},{"$f":"IF(B1047=\"\",\"\",\nIF(Outlet_Pipe2_Boolean=0,0,\nIF(B1047+Outlet2_Orifice_Invert<2*Outlet2_Orifice_Centroid,\nIF((0.6*Outlet2_Orifice_Area*(64.4*Outlet2_Orifice_Centroid)^0.5)*((B1047+Outlet2_Orifice_Invert)/(2*Outlet2_Orifice_Centroid))^1.81<H1047,H1047,\n(0.6*Outlet2_Orifice_Area*(64.4*Outlet2_Orifice_Centroid)^0.5)*((B1047+Outlet2_Orifice_Invert)/(2*Outlet2_Orifice_Centroid))^1.81),\n0.6*Outlet2_Orifice_Area*(64.4*(B1047+Outlet2_Orifice_Invert-Outlet2_Orifice_Centroid))^0.5)))","v":""},{"$f":"IF(B1047=\"\",\"\",IF(OR(Outlet_Pipe1_Boolean=0,Outlet_Pipe2_Boolean=0),0,\nIF(Outlet_Pipe2_Rank=4,\nIF(Outlet_Pipe1_Rank=3,MIN(U1047,R1047+T1047),\nIF(AND(Outlet_Pipe1_Rank=2,Vertical_Orifice2_Rank=3),MIN(U1047,J1047+R1047+T1047),\nIF(AND(Outlet_Pipe1_Rank=2,Vertical_Orifice1_Rank=3),MIN(U1047,I1047+R1047+T1047),MIN(U1047,I1047+J1047+R1047+T1047)))),\n\nIF(Outlet_Pipe2_Rank=3,\nIF(Outlet_Pipe1_Rank=2,MIN(U1047,R1047+T1047),\nIF(Vertical_Orifice2_Rank=2,MIN(U1047,J1047+R1047+T1047),MIN(U1047,I1047+R1047+T1047))),\n\nMIN(U1047,R1047+T1047)))))","v":""},{"$f":"IF(B1047=\"\",\"\",\nIF(OR(Spillway_Invert=\"\",Spillway_Length=\"\",Spillway_Side_Slopes=\"\",Freeboard_above_Spillway=\"\",B1047<=Spillway_Invert),0,\n\nIF(OR(Spillway_Position=\"\",Spillway_Position=\"Offset\"),\n(Cd_BCW*Spillway_Length*(B1047-Spillway_Invert)^1.5)+((0.8*Cd_BCW)*Spillway_Side_Slopes*(B1047-Spillway_Invert)^2.5),\n\nIF(AND(Weir2_Ho<>\"N/A\",Weir2_horiz_length_of_grate=\"N/A\"),\nIF((Cd_BCW*Spillway_Length*(B1047-Spillway_Invert)^1.5)+((0.8*Cd_BCW)*Spillway_Side_Slopes*(B1047-Spillway_Invert)^2.5)-(Cd_BCW*(Weir2_W+2*(Spillway_Invert-Weir2_Ho)*Weir2_Grate_Slope)*(B1047-Spillway_Invert)^1.5)+((0.8*Cd_BCW)*Weir2_Grate_Slope*(B1047-Spillway_Invert)^2.5)<0,0,\n(Cd_BCW*Spillway_Length*(B1047-Spillway_Invert)^1.5)+((0.8*Cd_BCW)*Spillway_Side_Slopes*(B1047-Spillway_Invert)^2.5)-(Cd_BCW*(Weir2_W+2*(Spillway_Invert-Weir2_Ho)*Weir2_Grate_Slope)*(B1047-Spillway_Invert)^1.5)+((0.8*Cd_BCW)*Weir2_Grate_Slope*(B1047-Spillway_Invert)^2.5)),\n\nIF((Cd_BCW*Spillway_Length*(B1047-Spillway_Invert)^1.5)+((0.8*Cd_BCW)*Spillway_Side_Slopes*(B1047-Spillway_Invert)^2.5)-(Cd_BCW*(Weir1_W+2*(Spillway_Invert-Weir1_Ho)*Weir1_Grate_Slope)*(B1047-Spillway_Invert)^1.5)+((0.8*Cd_BCW)*Weir1_Grate_Slope*(B1047-Spillway_Invert)^2.5)<0,0,\n(Cd_BCW*Spillway_Length*(B1047-Spillway_Invert)^1.5)+((0.8*Cd_BCW)*Spillway_Side_Slopes*(B1047-Spillway_Invert)^2.5)-(Cd_BCW*(Weir1_W+2*(Spillway_Invert-Weir1_Ho)*Weir1_Grate_Slope)*(B1047-Spillway_Invert)^1.5)+((0.8*Cd_BCW)*Weir1_Grate_Slope*(B1047-Spillway_Invert)^2.5))))))","v":""},"",{"$f":"IF(B1047=\"\",\"\",IF(X1047=\"\",\"\",IF(D1047=\"\",\"\",X1047*$C$3089*60+F1047)))","v":""},"","",{"$f":"IF($B1047=\"\",\"\",IF(OR(Row1_Stage=\"\",Row1_Stage=\"N/A\"),0,IF($B1047<=Row1_Stage,0,0.6*(Row1_Area/144)*(64.4*($B1047-Row1_Stage))^0.5)))","v":""},{"$f":"IF($B1047=\"\",\"\",IF(OR(Row2_Stage=\"\",Row2_Stage=\"N/A\"),0,IF($B1047<=Row2_Stage,0,0.6*(Row2_Area/144)*(64.4*($B1047-Row2_Stage))^0.5)))","v":""},{"$f":"IF($B1047=\"\",\"\",IF(OR(Row3_Stage=\"\",Row3_Stage=\"N/A\"),0,IF($B1047<=Row3_Stage,0,0.6*(Row3_Area/144)*(64.4*($B1047-Row3_Stage))^0.5)))","v":""},{"$f":"IF($B1047=\"\",\"\",IF(OR(Row4_Stage=\"\",Row4_Stage=\"N/A\"),0,IF($B1047<=Row4_Stage,0,0.6*(Row4_Area/144)*(64.4*($B1047-Row4_Stage))^0.5)))","v":""},{"$f":"IF($B1047=\"\",\"\",IF(OR(Row5_Stage=\"\",Row5_Stage=\"N/A\"),0,IF($B1047<=Row5_Stage,0,0.6*(Row5_Area/144)*(64.4*($B1047-Row5_Stage))^0.5)))","v":""},{"$f":"IF($B1047=\"\",\"\",IF(OR(Row6_Stage=\"\",Row6_Stage=\"N/A\"),0,IF($B1047<=Row6_Stage,0,0.6*(Row6_Area/144)*(64.4*($B1047-Row6_Stage))^0.5)))","v":""},{"$f":"IF($B1047=\"\",\"\",IF(OR(Row7_Stage=\"\",Row7_Stage=\"N/A\"),0,IF($B1047<=Row7_Stage,0,0.6*(Row7_Area/144)*(64.4*($B1047-Row7_Stage))^0.5)))","v":""},{"$f":"IF($B1047=\"\",\"\",IF(OR(Row8_Stage=\"\",Row8_Stage=\"N/A\"),0,IF($B1047<=Row8_Stage,0,0.6*(Row8_Area/144)*(64.4*($B1047-Row8_Stage))^0.5)))","v":""},{"$f":"IF($B1047=\"\",\"\",IF(OR(Row9_Stage=\"\",Row9_Stage=\"N/A\"),0,IF($B1047<=Row9_Stage,0,0.6*(Row9_Area/144)*(64.4*($B1047-Row9_Stage))^0.5)))","v":""},{"$f":"IF($B1047=\"\",\"\",IF(OR(Row10_Stage=\"\",Row10_Stage=\"N/A\"),0,IF($B1047<=Row10_Stage,0,0.6*(Row10_Area/144)*(64.4*($B1047-Row10_Stage))^0.5)))","v":""},{"$f":"IF($B1047=\"\",\"\",IF(OR(Row11_Stage=\"\",Row11_Stage=\"N/A\"),0,IF($B1047<=Row11_Stage,0,0.6*(Row11_Area/144)*(64.4*($B1047-Row11_Stage))^0.5)))","v":""},{"$f":"IF($B1047=\"\",\"\",IF(OR(Row12_Stage=\"\",Row12_Stage=\"N/A\"),0,IF($B1047<=Row12_Stage,0,0.6*(Row12_Area/144)*(64.4*($B1047-Row12_Stage))^0.5)))","v":""},{"$f":"IF($B1047=\"\",\"\",IF(OR(Row13_Stage=\"\",Row13_Stage=\"N/A\"),0,IF($B1047<=Row13_Stage,0,0.6*(Row13_Area/144)*(64.4*($B1047-Row13_Stage))^0.5)))","v":""},{"$f":"IF($B1047=\"\",\"\",IF(OR(Row14_Stage=\"\",Row14_Stage=\"N/A\"),0,IF($B1047<=Row14_Stage,0,0.6*(Row14_Area/144)*(64.4*($B1047-Row14_Stage))^0.5)))","v":""},{"$f":"IF($B1047=\"\",\"\",IF(OR(Row15_Stage=\"\",Row15_Stage=\"N/A\"),0,IF($B1047<=Row15_Stage,0,0.6*(Row15_Area/144)*(64.4*($B1047-Row15_Stage))^0.5)))","v":""},{"$f":"IF($B1047=\"\",\"\",IF(OR(Row16_Stage=\"\",Row16_Stage=\"N/A\"),0,IF($B1047<=Row16_Stage,0,0.6*(Row16_Area/144)*(64.4*($B1047-Row16_Stage))^0.5)))","v":""},{"$f":"IF(B1047=\"\",\"\",SUM(AB1047:AQ1047))","v":""},{"$f":"IF($B1047=\"\",\"\",IF(OR(Zone1_Outlet_Type=4,Zone2_Outlet_Type=4),IF($B1047<WQ_Plate_Invert,0,($B1047-WQ_Plate_Invert)*AS$86),\"\"))","v":""},"","","",{"$f":"IF($B1047=\"\",\"\",IF(OR(Zone1_Outlet_Type=4,Zone2_Outlet_Type=4),IF($B1047<WQ_Plate_Invert,0,IF($B1047<WQ_Plate_Invert+Ao_OC_or_ESLOT_H,(2*32.2*($B1047-WQ_Plate_Invert-AS1047))^0.5*(2*Ao_OC_or_ESLOT_H/ESLOT_RATIO*(1-(1-AS1047^2/Ao_OC_or_ESLOT_H^2)^0.5)+Ao_or_ESLOT_W/12),0)),\"\"))","v":""},{"$f":"IF($B1047=\"\",\"\",IF(OR(Zone1_Outlet_Type=4,Zone2_Outlet_Type=4),IF($B1047<WQ_Plate_Invert,0,IF($B1047<WQ_Plate_Invert+Ao_OC_or_ESLOT_H,(2*32.2*($B1047-WQ_Plate_Invert-AT1047))^0.5*(2*Ao_OC_or_ESLOT_H/ESLOT_RATIO*(1-(1-AT1047^2/Ao_OC_or_ESLOT_H^2)^0.5)+Ao_or_ESLOT_W/12),0)),\"\"))","v":""},{"$f":"IF($B1047=\"\",\"\",IF(OR(Zone1_Outlet_Type=4,Zone2_Outlet_Type=4),IF($B1047<WQ_Plate_Invert,0,IF($B1047<WQ_Plate_Invert+Ao_OC_or_ESLOT_H,(2*32.2*($B1047-WQ_Plate_Invert-AU1047))^0.5*(2*Ao_OC_or_ESLOT_H/ESLOT_RATIO*(1-(1-AU1047^2/Ao_OC_or_ESLOT_H^2)^0.5)+Ao_or_ESLOT_W/12),0)),\"\"))","v":""},{"$f":"IF($B1047=\"\",\"\",IF(OR(Zone1_Outlet_Type=4,Zone2_Outlet_Type=4),IF($B1047<WQ_Plate_Invert,0,IF($B1047<WQ_Plate_Invert+Ao_OC_or_ESLOT_H,(2*32.2*($B1047-WQ_Plate_Invert-AV1047))^0.5*(2*Ao_OC_or_ESLOT_H/ESLOT_RATIO*(1-(1-AV1047^2/Ao_OC_or_ESLOT_H^2)^0.5)+Ao_or_ESLOT_W/12),0)),\"\"))","v":""},{"$f":"IF(B1047=\"\",\"\",IF(OR(Zone1_Outlet_Type=4,Zone2_Outlet_Type=4),IF(B1047<WQ_Plate_Invert+Ao_OC_or_ESLOT_H, 0.642*(0.3015*(B1047-WQ_Plate_Invert)*(AW1047+AX1047)+0.1415*(B1047-WQ_Plate_Invert)*(AX1047+AY1047)+0.057*(B1047-WQ_Plate_Invert)*AY1047),\"N/A\"),\"\"))","v":""},{"$f":"IF(B1047=\"\",\"\",IF(OR(Zone1_Outlet_Type=4,Zone2_Outlet_Type=4),IF(B1047>=WQ_Plate_Invert+Ao_OC_or_ESLOT_H, 0.6*Elliptical_Slot_Area*(2*32.2*(B1047-WQ_Plate_Invert-Elliptical_Slot_Centroid))^0.5,\"N/A\"),\"\"))","v":""},{"$f":"IF(B1047=\"\",\"\",IF(OR(Zone1_Outlet_Type=4,Zone2_Outlet_Type=4),IF(B1047<WQ_Plate_Invert+Ao_OC_or_ESLOT_H, BA1047,BB1047),\"\"))","v":""},"","","","","","","","",""]
[null,{"$f":"IF(Basin_CountA=0,\"\",IF(User_Stage_Area=0,Basin!G1085,Basin!H1085))","v":""},{"$f":"IF(Basin_CountA=0,\"\",IF(User_Stage_Area=0,Basin!K1085,IF(B1056=\"\",\"\",Basin!L1085)))","v":""},{"$f":"IF(Basin_CountA=0,\"\",Basin!N1085)","v":""},null,"","","","","","","","","","","","","","","","","","","","","","","","","","","","","","","","","","","","","","","","","","","","","","","","","","","","","","","","","","",""]
[null,{"$f":"IF(Basin_CountA=0,\"\",IF(User_Stage_Area=0,Basin!G1094,Basin!H1094))","v":""},{"$f":"IF(Basin_CountA=0,\"\",IF(User_Stage_Area=0,Basin!K1094,IF(B1065=\"\",\"\",Basin!L1094)))","v":""},{"$f":"IF(Basin_CountA=0,\"\",Basin!N1094)","v":""},null,"","","","","","","","","","","","","","","","","","","","","","","","","","","","","","","","","","","","","","","","","","","","","","","","","","","","","","","","","","",""]
[null,{"$f":"IF(Basin_CountA=0,\"\",IF(User_Stage_Area=0,Basin!G1095,Basin!H1095))","v":""},{"$f":"IF(Basin_CountA=0,\"\",IF(User_Stage_Area=0,Basin!K1095,IF(B1066=\"\",\"\",Basin!L1095)))","v":""},{"$f":"IF(Basin_CountA=0,\"\",Basin!N1095)","v":""},null,"","","","","","","","","","","","","","","","","","","","","","","","","","","","","","","","","","","","","","","","","","","","","","","","","","","","","","","","","","",""]
[null,{"$f":"IF(Basin_CountA=0,\"\",IF(User_Stage_Area=0,Basin!G1104,Basin!H1104))","v":""},{"$f":"IF(Basin_CountA=0,\"\",IF(User_Stage_Area=0,Basin!K1104,IF(B1075=\"\",\"\",Basin!L1104)))","v":""},{"$f":"IF(Basin_CountA=0,\"\",Basin!N1104)","v":""},null,"","","","","","","","","","","","","","","","","","","","","","","","","","","","","","","","","","","","","","","","","","","","","","","","","","","","","","","","","","",""]
[null,{"$f":"IF(Basin_CountA=0,\"\",IF(User_Stage_Area=0,Basin!G1113,Basin!H1113))","v":""},{"$f":"IF(Basin_CountA=0,\"\",IF(User_Stage_Area=0,Basin!K1113,IF(B1084=\"\",\"\",Basin!L1113)))","v":""},{"$f":"IF(Basin_CountA=0,\"\",Basin!N1113)","v":""},null,"","","","","","","","","","","","","","","","","","","","","","","","","","","","","","","","","","","","","","","","","","","","","","","","","","","","","","","","","","",""]
[null,{"$f":"IF(Basin_CountA=0,\"\",IF(User_Stage_Area=0,Basin!G1122,Basin!H1122))","v":""},{"$f":"IF(Basin_CountA=0,\"\",IF(User_Stage_Area=0,Basin!K1122,IF(B1093=\"\",\"\",Basin!L1122)))","v":""},{"$f":"IF(Basin_CountA=0,\"\",Basin!N1122)","v":""},null,"","","","","","","","","","","","","","","","","","","","","","","","","","","","","","","","","","","","","","","","","","","","","","","","","","","","","","","","","","",""]
[null,{"$f":"IF(Basin_CountA=0,\"\",IF(User_Stage_Area=0,Basin!G1131,Basin!H1131))","v":""},{"$f":"IF(Basin_CountA=0,\"\",IF(User_Stage_Area=0,Basin!K1131,IF(B1102=\"\",\"\",Basin!L1131)))","v":""},{"$f":"IF(Basin_CountA=0,\"\",Basin!N1131)","v":""},null,"","","","","","","","","","","","","","","","","","","","","","","","","","","","","","","","","","","","","","","","","","","","","","","","","","","","","","","","","","",""]
[null,{"$f":"IF(Basin_CountA=0,\"\",IF(User_Stage_Area=0,Basin!G1140,Basin!H1140))","v":""},{"$f":"IF(Basin_CountA=0,\"\",IF(User_Stage_Area=0,Basin!K1140,IF(B1111=\"\",\"\",Basin!L1140)))","v":""},{"$f":"IF(Basin_CountA=0,\"\",Basin!N1140)","v":""},null,{"$f":"IF(B1111=\"\",\"\",IF(D1111=\"\",\"\",2*D1111))","v":""},{"$f":"IF(B1111=\"\",\"\",\nIF(OR(Underdrain_Invert=\"\",Underdrain_Invert=\"N/A\",Underdrain_Diameter=\"\",Underdrain_Diameter=\"N/A\"),0,\nIF(B1111+Underdrain_Invert<=Underdrain_Orifice_Centroid,0,IF(B1111=0,0,0.6*Underdrain_Orifice_Area*(64.4*(B1111+Underdrain_Invert-Underdrain_Orifice_Centroid))^0.5))))","v":""},{"$f":"IF(B1111=\"\",\"\",\nIF(OR(WQ_Plate_Invert=\"\",WQ_Plate_Invert=\"N/A\",Required_Depth=\"\",Required_Depth=\"N/A\",Ao_OC_or_ESLOT_H=\"\",Ao_or_ESLOT_W=\"\"),0,\nIF(ESLOT_RATIO=\"\",AR1111,IF(ESLOT_RATIO<>\"\",BC1111,0))))","v":""},{"$f":"IF(B1111=\"\",\"\",IF(Vertical_Orifice1_Boolean=0,0,\nIF(B1111<=Orifice1_Invert,0,\nIF(B1111<Orifice1_Invert+Orifice1_Height/12,\n(0.6*Vertical_Orifice1_Area*(64.4*Vertical_Orifice1_Centroid)^0.5)*((B1111-Orifice1_Invert)/(Orifice1_Height/12))^1.81,\n0.6*Vertical_Orifice1_Area*(64.4*(B1111-Orifice1_Invert-Vertical_Orifice1_Centroid))^0.5))))","v":""},{"$f":"IF(B1111=\"\",\"\",IF(Vertical_Orifice2_Boolean=0,0,\nIF(B1111<=Orifice2_Invert,0,\nIF(B1111<Orifice2_Invert+Orifice2_Height/12,\n(0.6*Vertical_Orifice2_Area*(64.4*Vertical_Orifice2_Centroid)^0.5)*((B1111-Orifice2_Invert)/(Orifice2_Height/12))^1.81,\n0.6*Vertical_Orifice2_Area*(64.4*(B1111-Orifice2_Invert-Vertical_Orifice2_Centroid))^0.5))))","v":""},{"$f":"IF(B1111=\"\",\"\",IF(Overflow_Weir1_Boolean=0,0,IF((B1111-Weir1_Ho)<=0,0,\n\nIF(OR(Weir1_horiz_length_of_grate=0,Weir1_horiz_length_of_grate=\"N/A\"),\nCd_BCW*Weir1_W*(B1111-Weir1_Ho)^1.5+(0.8*Cd_BCW)*Weir1_Grate_Slope*(B1111-Weir1_Ho)^2.5,\n\nIF(Angle1=0,\n2*(2/3*CLOG1*n_Cdw_1*(64.4^0.5)*Weir1_horiz_length_of_grate*(B1111-Weir1_Ho)^1.5)+2*(2/3*CLOG1*n_Cdw_1*(64.4^0.5)*Weir1_W*(B1111-Weir1_Ho)^1.5),\n\nIF((B1111-Weir1_Ho)<(Ht_1-Weir1_Ho),\n2*(4/15*CLOG1*n_Cdw_1*(64.4^0.5)*(COS(Angle1)/SIN(Angle1))*(B1111-Weir1_Ho)^2.5)+(2/3*CLOG1*n_Cdw_1*(64.4^0.5)*Weir1_W*(B1111-Weir1_Ho)^1.5),\n\n2*(4/15*CLOG1*n_Cdw_1*(64.4^0.5)*Weir1_horiz_length_of_grate*COS(Angle1)*(B1111-Weir1_Ho)^1.5*((B1111-Weir1_Ho)^2.5/(B1111-Weir1_Ho)^1.5/(Ht_1-Weir1_Ho)-((B1111-Weir1_Ho)-(Ht_1-Weir1_Ho))^2.5/(B1111-Weir1_Ho)^1.5/(Ht_1-Weir1_Ho))) +(2/3*CLOG1*n_Cdw_1*(64.4^0.5)*Weir1_W*(B1111-Weir1_Ho)^1.5)))))))","v":""},{"$f":"IF(B1111=\"\",\"\",IF(Overflow_Weir1_Boolean=0,0,IF((B1111-Weir1_Ho)<=0,0,IF(OR(Weir1_horiz_length_of_grate=0,Weir1_horiz_length_of_grate=\"N/A\"),0,\n\nIF(Angle1=0,\n(2/3*CLOG1*n_Cdo_1*Weir1_W*Weir1_horiz_length_of_grate*(64.4*(B1111-Weir1_Ho))^0.5),\n\nIF((B1111-Weir1_Ho)<(Ht_1-Weir1_Ho),\n(2/3*CLOG1*n_Cdo_1*Weir1_W*(B1111-Weir1_Ho)*(COS(Angle1)/SIN(Angle1))*(64.4*(B1111-Weir1_Ho))^0.5),\n\n(2/3*CLOG1*n_Cdo_1*Weir1_W*Weir1_horiz_length_of_grate*COS(Angle1)*(64.4*(B1111-Weir1_Ho))^0.5*((B1111-Weir1_Ho)^1.5/(Ht_1-Weir1_Ho)/(B1111-Weir1_Ho)^0.5-((B1111-Weir1_Ho)-(Ht_1-Weir1_Ho))^1.5/(B1111-Weir1_Ho)^0.5/(Ht_1-Weir1_Ho)))))))))","v":""},"",{"$f":"IF(B1111=\"\",\"\",IF(OR(Weir1_horiz_length_of_grate=0,Weir1_horiz_length_of_grate=\"N/A\"),K1111,MIN(K1111,L1111,M1111)))","v":""},{"$f":"IF(B1111=\"\",\"\",IF(Overflow_Weir2_Boolean=0,0,IF((B1111-Weir2_Ho)<=0,0,\n\nIF(OR(Weir2_horiz_length_of_grate=0,Weir2_horiz_length_of_grate=\"N/A\"),\nIF(AND(Weir1_horiz_length_of_grate=\"N/A\",Weir2_Position=\"Overlapping\"),\nIF((Cd_BCW*Weir2_W*(B1111-Weir2_Ho)^1.5+(0.8*Cd_BCW)*Weir2_Grate_Slope*(B1111-Weir2_Ho)^2.5)-(Cd_BCW*(Weir1_W+2*(Weir2_Ho-Weir1_Ho)*Weir1_Grate_Slope)*(B1111-Weir2_Ho)^1.5+(0.8*Cd_BCW)*Weir1_Grate_Slope*(B1111-Weir2_Ho)^2.5)<0,0,\n(Cd_BCW*Weir2_W*(B1111-Weir2_Ho)^1.5+(0.8*Cd_BCW)*Weir2_Grate_Slope*(B1111-Weir2_Ho)^2.5)-(Cd_BCW*(Weir1_W+2*(Weir2_Ho-Weir1_Ho)*Weir1_Grate_Slope)*(B1111-Weir2_Ho)^1.5+(0.8*Cd_BCW)*Weir1_Grate_Slope*(B1111-Weir2_Ho)^2.5)),\nCd_BCW*Weir2_W*(B1111-Weir2_Ho)^1.5+(0.8*Cd_BCW)*Weir2_Grate_Slope*(B1111-Weir2_Ho)^2.5),\n\nIF(Angle2=0,\n2*(2/3*CLOG2*n_Cdw_2*(64.4^0.5)*Weir2_horiz_length_of_grate*(B1111-Weir2_Ho)^1.5)+2*(2/3*CLOG2*n_Cdw_2*(64.4^0.5)*Weir2_W*(B1111-Weir2_Ho)^1.5),\n\nIF((B1111-Weir2_Ho)<(Ht_2-Weir2_Ho),\n2*(4/15*CLOG2*n_Cdw_2*(64.4^0.5)*(COS(Angle2)/SIN(Angle2))*(B1111-Weir2_Ho)^2.5)+(2/3*CLOG2*n_Cdw_2*(64.4^0.5)*Weir2_W*(B1111-Weir2_Ho)^1.5),\n\n2*(4/15*CLOG2*n_Cdw_2*(64.4^0.5)*Weir2_horiz_length_of_grate*COS(Angle2)*(B1111-Weir2_Ho)^1.5*((B1111-Weir2_Ho)^2.5/(B1111-Weir2_Ho)^1.5/(Ht_2-Weir2_Ho)-((B1111-Weir2_Ho)-(Ht_2-Weir2_Ho))^2.5/(B1111-Weir2_Ho)^1.5/(Ht_2-Weir2_Ho))) +(2/3*CLOG2*n_Cdw_2*(64.4^0.5)*Weir2_W*(B1111-Weir2_Ho)^1.5)))))))","v":""},{"$f":"IF(B1111=\"\",\"\",IF(Overflow_Weir2_Boolean=0,0,IF((B1111-Weir2_Ho)<=0,0,IF(OR(Weir2_horiz_length_of_grate=0,Weir2_horiz_length_of_grate=\"N/A\"),0,\n\nIF(Angle2=0,\n(2/3*CLOG2*n_Cdo_2*Weir2_W*Weir2_horiz_length_of_grate*(64.4*(B1111-Weir2_Ho))^0.5),\n\nIF((B1111-Weir2_Ho)<(Ht_2-Weir2_Ho),\n(2/3*CLOG2*n_Cdo_2*Weir2_W*(B1111-Weir2_Ho)*(COS(Angle2)/SIN(Angle2))*(64.4*(B1111-Weir2_Ho))^0.5),\n\n(2/3*CLOG2*n_Cdo_2*Weir2_W*Weir2_horiz_length_of_grate*COS(Angle2)*(64.4*(B1111-Weir2_Ho))^0.5*((B1111-Weir2_Ho)^1.5/(Ht_2-Weir2_Ho)/(B1111-Weir2_Ho)^0.5-((B1111-Weir2_Ho)-(Ht_2-Weir2_Ho))^1.5/(B1111-Weir2_Ho)^0.5/(Ht_2-Weir2_Ho)))))))))","v":""},"",{"$f":"IF(B1111=\"\",\"\",IF(OR(Weir2_horiz_length_of_grate=0,Weir2_horiz_length_of_grate=\"N/A\"),O1111,MIN(O1111,P1111,Q1111)))","v":""},{"$f":"IF(B1111=\"\",\"\",\nIF(Outlet_Pipe1_Boolean=0,0,\nIF(B1111+Outlet1_Orifice_Invert<2*Outlet1_Orifice_Centroid,\nIF((0.6*Outlet1_Orifice_Area*(64.4*Outlet1_Orifice_Centroid)^0.5)*((B1111+Outlet1_Orifice_Invert)/(2*Outlet1_Orifice_Centroid))^1.81<H1111,H1111,\n(0.6*Outlet1_Orifice_Area*(64.4*Outlet1_Orifice_Centroid)^0.5)*((B1111+Outlet1_Orifice_Invert)/(2*Outlet1_Orifice_Centroid))^1.81),\n0.6*Outlet1_Orifice_Area*(64.4*(B1111+Outlet1_Orifice_Invert-Outlet1_Orifice_Centroid))^0.5)))","v":""},{"$f":"IF(B1111=\"\",\"\",IF(Outlet_Pipe1_Boolean=0,0,\nIF(Outlet_Pipe1_Rank=3,MIN(S1111,G1111+H1111+I1111+J1111+N1111),\nIF(Outlet_Pipe1_Rank=2,IF(Vertical_Orifice1_Rank=1,MIN(S1111,G1111+H1111+I1111+N1111),MIN(S1111,G1111+H1111+J1111+N1111)),\nIF(Outlet_Pipe1_Rank=1,MIN(S1111,G1111+H1111+N1111),\nMIN(S1111,G1111+H1111+I1111+J1111))))))","v":""},{"$f":"IF(B1111=\"\",\"\",\nIF(Outlet_Pipe2_Boolean=0,0,\nIF(B1111+Outlet2_Orifice_Invert<2*Outlet2_Orifice_Centroid,\nIF((0.6*Outlet2_Orifice_Area*(64.4*Outlet2_Orifice_Centroid)^0.5)*((B1111+Outlet2_Orifice_Invert)/(2*Outlet2_Orifice_Centroid))^1.81<H1111,H1111,\n(0.6*Outlet2_Orifice_Area*(64.4*Outlet2_Orifice_Centroid)^0.5)*((B1111+Outlet2_Orifice_Invert)/(2*Outlet2_Orifice_Centroid))^1.81),\n0.6*Outlet2_Orifice_Area*(64.4*(B1111+Outlet2_Orifice_Invert-Outlet2_Orifice_Centroid))^0.5)))","v":""},{"$f":"IF(B1111=\"\",\"\",IF(OR(Outlet_Pipe1_Boolean=0,Outlet_Pipe2_Boolean=0),0,\nIF(Outlet_Pipe2_Rank=4,\nIF(Outlet_Pipe1_Rank=3,MIN(U1111,R1111+T1111),\nIF(AND(Outlet_Pipe1_Rank=2,Vertical_Orifice2_Rank=3),MIN(U1111,J1111+R1111+T1111),\nIF(AND(Outlet_Pipe1_Rank=2,Vertical_Orifice1_Rank=3),MIN(U1111,I1111+R1111+T1111),MIN(U1111,I1111+J1111+R1111+T1111)))),\n\nIF(Outlet_Pipe2_Rank=3,\nIF(Outlet_Pipe1_Rank=2,MIN(U1111,R1111+T1111),\nIF(Vertical_Orifice2_Rank=2,MIN(U1111,J1111+R1111+T1111),MIN(U1111,I1111+R1111+T1111))),\n\nMIN(U1111,R1111+T1111)))))","v":""},{"$f":"IF(B1111=\"\",\"\",\nIF(OR(Spillway_Invert=\"\",Spillway_Length=\"\",Spillway_Side_Slopes=\"\",Freeboard_above_Spillway=\"\",B1111<=Spillway_Invert),0,\n\nIF(OR(Spillway_Position=\"\",Spillway_Position=\"Offset\"),\n(Cd_BCW*Spillway_Length*(B1111-Spillway_Invert)^1.5)+((0.8*Cd_BCW)*Spillway_Side_Slopes*(B1111-Spillway_Invert)^2.5),\n\nIF(AND(Weir2_Ho<>\"N/A\",Weir2_horiz_length_of_grate=\"N/A\"),\nIF((Cd_BCW*Spillway_Length*(B1111-Spillway_Invert)^1.5)+((0.8*Cd_BCW)*Spillway_Side_Slopes*(B1111-Spillway_Invert)^2.5)-(Cd_BCW*(Weir2_W+2*(Spillway_Invert-Weir2_Ho)*Weir2_Grate_Slope)*(B1111-Spillway_Invert)^1.5)+((0.8*Cd_BCW)*Weir2_Grate_Slope*(B1111-Spillway_Invert)^2.5)<0,0,\n(Cd_BCW*Spillway_Length*(B1111-Spillway_Invert)^1.5)+((0.8*Cd_BCW)*Spillway_Side_Slopes*(B1111-Spillway_Invert)^2.5)-(Cd_BCW*(Weir2_W+2*(Spillway_Invert-Weir2_Ho)*Weir2_Grate_Slope)*(B1111-Spillway_Invert)^1.5)+((0.8*Cd_BCW)*Weir2_Grate_Slope*(B1111-Spillway_Invert)^2.5)),\n\nIF((Cd_BCW*Spillway_Length*(B1111-Spillway_Invert)^1.5)+((0.8*Cd_BCW)*Spillway_Side_Slopes*(B1111-Spillway_Invert)^2.5)-(Cd_BCW*(Weir1_W+2*(Spillway_Invert-Weir1_Ho)*Weir1_Grate_Slope)*(B1111-Spillway_Invert)^1.5)+((0.8*Cd_BCW)*Weir1_Grate_Slope*(B1111-Spillway_Invert)^2.5)<0,0,\n(Cd_BCW*Spillway_Length*(B1111-Spillway_Invert)^1.5)+((0.8*Cd_BCW)*Spillway_Side_Slopes*(B1111-Spillway_Invert)^2.5)-(Cd_BCW*(Weir1_W+2*(Spillway_Invert-Weir1_Ho)*Weir1_Grate_Slope)*(B1111-Spillway_Invert)^1.5)+((0.8*Cd_BCW)*Weir1_Grate_Slope*(B1111-Spillway_Invert)^2.5))))))","v":""},"",{"$f":"IF(B1111=\"\",\"\",IF(X1111=\"\",\"\",IF(D1111=\"\",\"\",X1111*$C$3089*60+F1111)))","v":""},"","",{"$f":"IF($B1111=\"\",\"\",IF(OR(Row1_Stage=\"\",Row1_Stage=\"N/A\"),0,IF($B1111<=Row1_Stage,0,0.6*(Row1_Area/144)*(64.4*($B1111-Row1_Stage))^0.5)))","v":""},{"$f":"IF($B1111=\"\",\"\",IF(OR(Row2_Stage=\"\",Row2_Stage=\"N/A\"),0,IF($B1111<=Row2_Stage,0,0.6*(Row2_Area/144)*(64.4*($B1111-Row2_Stage))^0.5)))","v":""},{"$f":"IF($B1111=\"\",\"\",IF(OR(Row3_Stage=\"\",Row3_Stage=\"N/A\"),0,IF($B1111<=Row3_Stage,0,0.6*(Row3_Area/144)*(64.4*($B1111-Row3_Stage))^0.5)))","v":""},{"$f":"IF($B1111=\"\",\"\",IF(OR(Row4_Stage=\"\",Row4_Stage=\"N/A\"),0,IF($B1111<=Row4_Stage,0,0.6*(Row4_Area/144)*(64.4*($B1111-Row4_Stage))^0.5)))","v":""},{"$f":"IF($B1111=\"\",\"\",IF(OR(Row5_Stage=\"\",Row5_Stage=\"N/A\"),0,IF($B1111<=Row5_Stage,0,0.6*(Row5_Area/144)*(64.4*($B1111-Row5_Stage))^0.5)))","v":""},{"$f":"IF($B1111=\"\",\"\",IF(OR(Row6_Stage=\"\",Row6_Stage=\"N/A\"),0,IF($B1111<=Row6_Stage,0,0.6*(Row6_Area/144)*(64.4*($B1111-Row6_Stage))^0.5)))","v":""},{"$f":"IF($B1111=\"\",\"\",IF(OR(Row7_Stage=\"\",Row7_Stage=\"N/A\"),0,IF($B1111<=Row7_Stage,0,0.6*(Row7_Area/144)*(64.4*($B1111-Row7_Stage))^0.5)))","v":""},{"$f":"IF($B1111=\"\",\"\",IF(OR(Row8_Stage=\"\",Row8_Stage=\"N/A\"),0,IF($B1111<=Row8_Stage,0,0.6*(Row8_Area/144)*(64.4*($B1111-Row8_Stage))^0.5)))","v":""},{"$f":"IF($B1111=\"\",\"\",IF(OR(Row9_Stage=\"\",Row9_Stage=\"N/A\"),0,IF($B1111<=Row9_Stage,0,0.6*(Row9_Area/144)*(64.4*($B1111-Row9_Stage))^0.5)))","v":""},{"$f":"IF($B1111=\"\",\"\",IF(OR(Row10_Stage=\"\",Row10_Stage=\"N/A\"),0,IF($B1111<=Row10_Stage,0,0.6*(Row10_Area/144)*(64.4*($B1111-Row10_Stage))^0.5)))","v":""},{"$f":"IF($B1111=\"\",\"\",IF(OR(Row11_Stage=\"\",Row11_Stage=\"N/A\"),0,IF($B1111<=Row11_Stage,0,0.6*(Row11_Area/144)*(64.4*($B1111-Row11_Stage))^0.5)))","v":""},{"$f":"IF($B1111=\"\",\"\",IF(OR(Row12_Stage=\"\",Row12_Stage=\"N/A\"),0,IF($B1111<=Row12_Stage,0,0.6*(Row12_Area/144)*(64.4*($B1111-Row12_Stage))^0.5)))","v":""},{"$f":"IF($B1111=\"\",\"\",IF(OR(Row13_Stage=\"\",Row13_Stage=\"N/A\"),0,IF($B1111<=Row13_Stage,0,0.6*(Row13_Area/144)*(64.4*($B1111-Row13_Stage))^0.5)))","v":""},{"$f":"IF($B1111=\"\",\"\",IF(OR(Row14_Stage=\"\",Row14_Stage=\"N/A\"),0,IF($B1111<=Row14_Stage,0,0.6*(Row14_Area/144)*(64.4*($B1111-Row14_Stage))^0.5)))","v":""},{"$f":"IF($B1111=\"\",\"\",IF(OR(Row15_Stage=\"\",Row15_Stage=\"N/A\"),0,IF($B1111<=Row15_Stage,0,0.6*(Row15_Area/144)*(64.4*($B1111-Row15_Stage))^0.5)))","v":""},{"$f":"IF($B1111=\"\",\"\",IF(OR(Row16_Stage=\"\",Row16_Stage=\"N/A\"),0,IF($B1111<=Row16_Stage,0,0.6*(Row16_Area/144)*(64.4*($B1111-Row16_Stage))^0.5)))","v":""},{"$f":"IF(B1111=\"\",\"\",SUM(AB1111:AQ1111))","v":""},"","","","",{"$f":"IF($B1111=\"\",\"\",IF(OR(Zone1_Outlet_Type=4,Zone2_Outlet_Type=4),IF($B1111<WQ_Plate_Invert,0,IF($B1111<WQ_Plate_Invert+Ao_OC_or_ESLOT_H,(2*32.2*($B1111-WQ_Plate_Invert-AS1111))^0.5*(2*Ao_OC_or_ESLOT_H/ESLOT_RATIO*(1-(1-AS1111^2/Ao_OC_or_ESLOT_H^2)^0.5)+Ao_or_ESLOT_W/12),0)),\"\"))","v":""},{"$f":"IF($B1111=\"\",\"\",IF(OR(Zone1_Outlet_Type=4,Zone2_Outlet_Type=4),IF($B1111<WQ_Plate_Invert,0,IF($B1111<WQ_Plate_Invert+Ao_OC_or_ESLOT_H,(2*32.2*($B1111-WQ_Plate_Invert-AT1111))^0.5*(2*Ao_OC_or_ESLOT_H/ESLOT_RATIO*(1-(1-AT1111^2/Ao_OC_or_ESLOT_H^2)^0.5)+Ao_or_ESLOT_W/12),0)),\"\"))","v":""},{"$f":"IF($B1111=\"\",\"\",IF(OR(Zone1_Outlet_Type=4,Zone2_Outlet_Type=4),IF($B1111<WQ_Plate_Invert,0,IF($B1111<WQ_Plate_Invert+Ao_OC_or_ESLOT_H,(2*32.2*($B1111-WQ_Plate_Invert-AU1111))^0.5*(2*Ao_OC_or_ESLOT_H/ESLOT_RATIO*(1-(1-AU1111^2/Ao_OC_or_ESLOT_H^2)^0.5)+Ao_or_ESLOT_W/12),0)),\"\"))","v":""},{"$f":"IF($B1111=\"\",\"\",IF(OR(Zone1_Outlet_Type=4,Zone2_Outlet_Type=4),IF($B1111<WQ_Plate_Invert,0,IF($B1111<WQ_Plate_Invert+Ao_OC_or_ESLOT_H,(2*32.2*($B1111-WQ_Plate_Invert-AV1111))^0.5*(2*Ao_OC_or_ESLOT_H/ESLOT_RATIO*(1-(1-AV1111^2/Ao_OC_or_ESLOT_H^2)^0.5)+Ao_or_ESLOT_W/12),0)),\"\"))","v":""},{"$f":"IF(B1111=\"\",\"\",IF(OR(Zone1_Outlet_Type=4,Zone2_Outlet_Type=4),IF(B1111<WQ_Plate_Invert+Ao_OC_or_ESLOT_H, 0.642*(0.3015*(B1111-WQ_Plate_Invert)*(AW1111+AX1111)+0.1415*(B1111-WQ_Plate_Invert)*(AX1111+AY1111)+0.057*(B1111-WQ_Plate_Invert)*AY1111),\"N/A\"),\"\"))","v":""},{"$f":"IF(B1111=\"\",\"\",IF(OR(Zone1_Outlet_Type=4,Zone2_Outlet_Type=4),IF(B1111>=WQ_Plate_Invert+Ao_OC_or_ESLOT_H, 0.6*Elliptical_Slot_Area*(2*32.2*(B1111-WQ_Plate_Invert-Elliptical_Slot_Centroid))^0.5,\"N/A\"),\"\"))","v":""},{"$f":"IF(B1111=\"\",\"\",IF(OR(Zone1_Outlet_Type=4,Zone2_Outlet_Type=4),IF(B1111<WQ_Plate_Invert+Ao_OC_or_ESLOT_H, BA1111,BB1111),\"\"))","v":""},"","","","","","","","",""]
[null,{"$f":"IF(Basin_CountA=0,\"\",IF(User_Stage_Area=0,Basin!G1149,Basin!H1149))","v":""},{"$f":"IF(Basin_CountA=0,\"\",IF(User_Stage_Area=0,Basin!K1149,IF(B1120=\"\",\"\",Basin!L1149)))","v":""},{"$f":"IF(Basin_CountA=0,\"\",Basin!N1149)","v":""},null,"","","","","","","","","","","","","","","","","","","","","","","","","","","","","","","","","","","","","","","","","","","","","","","","","","","","","","","","","","",""]
[null,{"$f":"IF(Basin_CountA=0,\"\",IF(User_Stage_Area=0,Basin!G1158,Basin!H1158))","v":""},{"$f":"IF(Basin_CountA=0,\"\",IF(User_Stage_Area=0,Basin!K1158,IF(B1129=\"\",\"\",Basin!L1158)))","v":""},{"$f":"IF(Basin_CountA=0,\"\",Basin!N1158)","v":""},null,"","","","","","","","","","","","","","","","","","","","","","","","","","","","","","","","","","","","","","","","","","","","","","","","","","","","","","","","","","",""]
[null,{"$f":"IF(Basin_CountA=0,\"\",IF(User_Stage_Area=0,Basin!G1159,Basin!H1159))","v":""},{"$f":"IF(Basin_CountA=0,\"\",IF(User_Stage_Area=0,Basin!K1159,IF(B1130=\"\",\"\",Basin!L1159)))","v":""},{"$f":"IF(Basin_CountA=0,\"\",Basin!N1159)","v":""},null,"","","","","","","","","","","","","","","","","","","","","","","","","","","","","","","","","","","","","","","","","","","","","","","","","","","","","","","","","","",""]
[null,{"$f":"IF(Basin_CountA=0,\"\",IF(User_Stage_Area=0,Basin!G1168,Basin!H1168))","v":""},{"$f":"IF(Basin_CountA=0,\"\",IF(User_Stage_Area=0,Basin!K1168,IF(B1139=\"\",\"\",Basin!L1168)))","v":""},{"$f":"IF(Basin_CountA=0,\"\",Basin!N1168)","v":""},null,"","","","","","","","","","","","","","","","","","","","","","","","","","","","","","","","","","","","","","","","","","","","","","","","","","","","","","","","","","",""]
[null,{"$f":"IF(Basin_CountA=0,\"\",IF(User_Stage_Area=0,Basin!G1177,Basin!H1177))","v":""},{"$f":"IF(Basin_CountA=0,\"\",IF(User_Stage_Area=0,Basin!K1177,IF(B1148=\"\",\"\",Basin!L1177)))","v":""},{"$f":"IF(Basin_CountA=0,\"\",Basin!N1177)","v":""},null,"","","","","","","","","","","","","","","","","","","","","","","","","","","","","","","","","","","","","","","","","","","","","","","","","","","","","","","","","","",""]
[null,{"$f":"IF(Basin_CountA=0,\"\",IF(User_Stage_Area=0,Basin!G1186,Basin!H1186))","v":""},{"$f":"IF(Basin_CountA=0,\"\",IF(User_Stage_Area=0,Basin!K1186,IF(B1157=\"\",\"\",Basin!L1186)))","v":""},{"$f":"IF(Basin_CountA=0,\"\",Basin!N1186)","v":""},null,"","","","","","","","","","","","","","","","","","","","","","","","","","","","","","","","","","","","","","","","","","","","","","","","","","","","","","","","","","",""]
[null,{"$f":"IF(Basin_CountA=0,\"\",IF(User_Stage_Area=0,Basin!G1195,Basin!H1195))","v":""},{"$f":"IF(Basin_CountA=0,\"\",IF(User_Stage_Area=0,Basin!K1195,IF(B1166=\"\",\"\",Basin!L1195)))","v":""},{"$f":"IF(Basin_CountA=0,\"\",Basin!N1195)","v":""},null,"","","","","","","","","","","","","","","","","","","","","","","","","","","","","","","","","","","","","","","","","","","","","","","","","","","","","","","","","","",""]
[null,{"$f":"IF(Basin_CountA=0,\"\",IF(User_Stage_Area=0,Basin!G1204,Basin!H1204))","v":""},{"$f":"IF(Basin_CountA=0,\"\",IF(User_Stage_Area=0,Basin!K1204,IF(B1175=\"\",\"\",Basin!L1204)))","v":""},{"$f":"IF(Basin_CountA=0,\"\",Basin!N1204)","v":""},null,{"$f":"IF(B1175=\"\",\"\",IF(D1175=\"\",\"\",2*D1175))","v":""},{"$f":"IF(B1175=\"\",\"\",\nIF(OR(Underdrain_Invert=\"\",Underdrain_Invert=\"N/A\",Underdrain_Diameter=\"\",Underdrain_Diameter=\"N/A\"),0,\nIF(B1175+Underdrain_Invert<=Underdrain_Orifice_Centroid,0,IF(B1175=0,0,0.6*Underdrain_Orifice_Area*(64.4*(B1175+Underdrain_Invert-Underdrain_Orifice_Centroid))^0.5))))","v":""},{"$f":"IF(B1175=\"\",\"\",\nIF(OR(WQ_Plate_Invert=\"\",WQ_Plate_Invert=\"N/A\",Required_Depth=\"\",Required_Depth=\"N/A\",Ao_OC_or_ESLOT_H=\"\",Ao_or_ESLOT_W=\"\"),0,\nIF(ESLOT_RATIO=\"\",AR1175,IF(ESLOT_RATIO<>\"\",BC1175,0))))","v":""},{"$f":"IF(B1175=\"\",\"\",IF(Vertical_Orifice1_Boolean=0,0,\nIF(B1175<=Orifice1_Invert,0,\nIF(B1175<Orifice1_Invert+Orifice1_Height/12,\n(0.6*Vertical_Orifice1_Area*(64.4*Vertical_Orifice1_Centroid)^0.5)*((B1175-Orifice1_Invert)/(Orifice1_Height/12))^1.81,\n0.6*Vertical_Orifice1_Area*(64.4*(B1175-Orifice1_Invert-Vertical_Orifice1_Centroid))^0.5))))","v":""},{"$f":"IF(B1175=\"\",\"\",IF(Vertical_Orifice2_Boolean=0,0,\nIF(B1175<=Orifice2_Invert,0,\nIF(B1175<Orifice2_Invert+Orifice2_Height/12,\n(0.6*Vertical_Orifice2_Area*(64.4*Vertical_Orifice2_Centroid)^0.5)*((B1175-Orifice2_Invert)/(Orifice2_Height/12))^1.81,\n0.6*Vertical_Orifice2_Area*(64.4*(B1175-Orifice2_Invert-Vertical_Orifice2_Centroid))^0.5))))","v":""},{"$f":"IF(B1175=\"\",\"\",IF(Overflow_Weir1_Boolean=0,0,IF((B1175-Weir1_Ho)<=0,0,\n\nIF(OR(Weir1_horiz_length_of_grate=0,Weir1_horiz_length_of_grate=\"N/A\"),\nCd_BCW*Weir1_W*(B1175-Weir1_Ho)^1.5+(0.8*Cd_BCW)*Weir1_Grate_Slope*(B1175-Weir1_Ho)^2.5,\n\nIF(Angle1=0,\n2*(2/3*CLOG1*n_Cdw_1*(64.4^0.5)*Weir1_horiz_length_of_grate*(B1175-Weir1_Ho)^1.5)+2*(2/3*CLOG1*n_Cdw_1*(64.4^0.5)*Weir1_W*(B1175-Weir1_Ho)^1.5),\n\nIF((B1175-Weir1_Ho)<(Ht_1-Weir1_Ho),\n2*(4/15*CLOG1*n_Cdw_1*(64.4^0.5)*(COS(Angle1)/SIN(Angle1))*(B1175-Weir1_Ho)^2.5)+(2/3*CLOG1*n_Cdw_1*(64.4^0.5)*Weir1_W*(B1175-Weir1_Ho)^1.5),\n\n2*(4/15*CLOG1*n_Cdw_1*(64.4^0.5)*Weir1_horiz_length_of_grate*COS(Angle1)*(B1175-Weir1_Ho)^1.5*((B1175-Weir1_Ho)^2.5/(B1175-Weir1_Ho)^1.5/(Ht_1-Weir1_Ho)-((B1175-Weir1_Ho)-(Ht_1-Weir1_Ho))^2.5/(B1175-Weir1_Ho)^1.5/(Ht_1-Weir1_Ho))) +(2/3*CLOG1*n_Cdw_1*(64.4^0.5)*Weir1_W*(B1175-Weir1_Ho)^1.5)))))))","v":""},{"$f":"IF(B1175=\"\",\"\",IF(Overflow_Weir1_Boolean=0,0,IF((B1175-Weir1_Ho)<=0,0,IF(OR(Weir1_horiz_length_of_grate=0,Weir1_horiz_length_of_grate=\"N/A\"),0,\n\nIF(Angle1=0,\n(2/3*CLOG1*n_Cdo_1*Weir1_W*Weir1_horiz_length_of_grate*(64.4*(B1175-Weir1_Ho))^0.5),\n\nIF((B1175-Weir1_Ho)<(Ht_1-Weir1_Ho),\n(2/3*CLOG1*n_Cdo_1*Weir1_W*(B1175-Weir1_Ho)*(COS(Angle1)/SIN(Angle1))*(64.4*(B1175-Weir1_Ho))^0.5),\n\n(2/3*CLOG1*n_Cdo_1*Weir1_W*Weir1_horiz_length_of_grate*COS(Angle1)*(64.4*(B1175-Weir1_Ho))^0.5*((B1175-Weir1_Ho)^1.5/(Ht_1-Weir1_Ho)/(B1175-Weir1_Ho)^0.5-((B1175-Weir1_Ho)-(Ht_1-Weir1_Ho))^1.5/(B1175-Weir1_Ho)^0.5/(Ht_1-Weir1_Ho)))))))))","v":""},"",{"$f":"IF(B1175=\"\",\"\",IF(OR(Weir1_horiz_length_of_grate=0,Weir1_horiz_length_of_grate=\"N/A\"),K1175,MIN(K1175,L1175,M1175)))","v":""},{"$f":"IF(B1175=\"\",\"\",IF(Overflow_Weir2_Boolean=0,0,IF((B1175-Weir2_Ho)<=0,0,\n\nIF(OR(Weir2_horiz_length_of_grate=0,Weir2_horiz_length_of_grate=\"N/A\"),\nIF(AND(Weir1_horiz_length_of_grate=\"N/A\",Weir2_Position=\"Overlapping\"),\nIF((Cd_BCW*Weir2_W*(B1175-Weir2_Ho)^1.5+(0.8*Cd_BCW)*Weir2_Grate_Slope*(B1175-Weir2_Ho)^2.5)-(Cd_BCW*(Weir1_W+2*(Weir2_Ho-Weir1_Ho)*Weir1_Grate_Slope)*(B1175-Weir2_Ho)^1.5+(0.8*Cd_BCW)*Weir1_Grate_Slope*(B1175-Weir2_Ho)^2.5)<0,0,\n(Cd_BCW*Weir2_W*(B1175-Weir2_Ho)^1.5+(0.8*Cd_BCW)*Weir2_Grate_Slope*(B1175-Weir2_Ho)^2.5)-(Cd_BCW*(Weir1_W+2*(Weir2_Ho-Weir1_Ho)*Weir1_Grate_Slope)*(B1175-Weir2_Ho)^1.5+(0.8*Cd_BCW)*Weir1_Grate_Slope*(B1175-Weir2_Ho)^2.5)),\nCd_BCW*Weir2_W*(B1175-Weir2_Ho)^1.5+(0.8*Cd_BCW)*Weir2_Grate_Slope*(B1175-Weir2_Ho)^2.5),\n\nIF(Angle2=0,\n2*(2/3*CLOG2*n_Cdw_2*(64.4^0.5)*Weir2_horiz_length_of_grate*(B1175-Weir2_Ho)^1.5)+2*(2/3*CLOG2*n_Cdw_2*(64.4^0.5)*Weir2_W*(B1175-Weir2_Ho)^1.5),\n\nIF((B1175-Weir2_Ho)<(Ht_2-Weir2_Ho),\n2*(4/15*CLOG2*n_Cdw_2*(64.4^0.5)*(COS(Angle2)/SIN(Angle2))*(B1175-Weir2_Ho)^2.5)+(2/3*CLOG2*n_Cdw_2*(64.4^0.5)*Weir2_W*(B1175-Weir2_Ho)^1.5),\n\n2*(4/15*CLOG2*n_Cdw_2*(64.4^0.5)*Weir2_horiz_length_of_grate*COS(Angle2)*(B1175-Weir2_Ho)^1.5*((B1175-Weir2_Ho)^2.5/(B1175-Weir2_Ho)^1.5/(Ht_2-Weir2_Ho)-((B1175-Weir2_Ho)-(Ht_2-Weir2_Ho))^2.5/(B1175-Weir2_Ho)^1.5/(Ht_2-Weir2_Ho))) +(2/3*CLOG2*n_Cdw_2*(64.4^0.5)*Weir2_W*(B1175-Weir2_Ho)^1.5)))))))","v":""},{"$f":"IF(B1175=\"\",\"\",IF(Overflow_Weir2_Boolean=0,0,IF((B1175-Weir2_Ho)<=0,0,IF(OR(Weir2_horiz_length_of_grate=0,Weir2_horiz_length_of_grate=\"N/A\"),0,\n\nIF(Angle2=0,\n(2/3*CLOG2*n_Cdo_2*Weir2_W*Weir2_horiz_length_of_grate*(64.4*(B1175-Weir2_Ho))^0.5),\n\nIF((B1175-Weir2_Ho)<(Ht_2-Weir2_Ho),\n(2/3*CLOG2*n_Cdo_2*Weir2_W*(B1175-Weir2_Ho)*(COS(Angle2)/SIN(Angle2))*(64.4*(B1175-Weir2_Ho))^0.5),\n\n(2/3*CLOG2*n_Cdo_2*Weir2_W*Weir2_horiz_length_of_grate*COS(Angle2)*(64.4*(B1175-Weir2_Ho))^0.5*((B1175-Weir2_Ho)^1.5/(Ht_2-Weir2_Ho)/(B1175-Weir2_Ho)^0.5-((B1175-Weir2_Ho)-(Ht_2-Weir2_Ho))^1.5/(B1175-Weir2_Ho)^0.5/(Ht_2-Weir2_Ho)))))))))","v":""},"",{"$f":"IF(B1175=\"\",\"\",IF(OR(Weir2_horiz_length_of_grate=0,Weir2_horiz_length_of_grate=\"N/A\"),O1175,MIN(O1175,P1175,Q1175)))","v":""},{"$f":"IF(B1175=\"\",\"\",\nIF(Outlet_Pipe1_Boolean=0,0,\nIF(B1175+Outlet1_Orifice_Invert<2*Outlet1_Orifice_Centroid,\nIF((0.6*Outlet1_Orifice_Area*(64.4*Outlet1_Orifice_Centroid)^0.5)*((B1175+Outlet1_Orifice_Invert)/(2*Outlet1_Orifice_Centroid))^1.81<H1175,H1175,\n(0.6*Outlet1_Orifice_Area*(64.4*Outlet1_Orifice_Centroid)^0.5)*((B1175+Outlet1_Orifice_Invert)/(2*Outlet1_Orifice_Centroid))^1.81),\n0.6*Outlet1_Orifice_Area*(64.4*(B1175+Outlet1_Orifice_Invert-Outlet1_Orifice_Centroid))^0.5)))","v":""},{"$f":"IF(B1175=\"\",\"\",IF(Outlet_Pipe1_Boolean=0,0,\nIF(Outlet_Pipe1_Rank=3,MIN(S1175,G1175+H1175+I1175+J1175+N1175),\nIF(Outlet_Pipe1_Rank=2,IF(Vertical_Orifice1_Rank=1,MIN(S1175,G1175+H1175+I1175+N1175),MIN(S1175,G1175+H1175+J1175+N1175)),\nIF(Outlet_Pipe1_Rank=1,MIN(S1175,G1175+H1175+N1175),\nMIN(S1175,G1175+H1175+I1175+J1175))))))","v":""},{"$f":"IF(B1175=\"\",\"\",\nIF(Outlet_Pipe2_Boolean=0,0,\nIF(B1175+Outlet2_Orifice_Invert<2*Outlet2_Orifice_Centroid,\nIF((0.6*Outlet2_Orifice_Area*(64.4*Outlet2_Orifice_Centroid)^0.5)*((B1175+Outlet2_Orifice_Invert)/(2*Outlet2_Orifice_Centroid))^1.81<H1175,H1175,\n(0.6*Outlet2_Orifice_Area*(64.4*Outlet2_Orifice_Centroid)^0.5)*((B1175+Outlet2_Orifice_Invert)/(2*Outlet2_Orifice_Centroid))^1.81),\n0.6*Outlet2_Orifice_Area*(64.4*(B1175+Outlet2_Orifice_Invert-Outlet2_Orifice_Centroid))^0.5)))","v":""},{"$f":"IF(B1175=\"\",\"\",IF(OR(Outlet_Pipe1_Boolean=0,Outlet_Pipe2_Boolean=0),0,\nIF(Outlet_Pipe2_Rank=4,\nIF(Outlet_Pipe1_Rank=3,MIN(U1175,R1175+T1175),\nIF(AND(Outlet_Pipe1_Rank=2,Vertical_Orifice2_Rank=3),MIN(U1175,J1175+R1175+T1175),\nIF(AND(Outlet_Pipe1_Rank=2,Vertical_Orifice1_Rank=3),MIN(U1175,I1175+R1175+T1175),MIN(U1175,I1175+J1175+R1175+T1175)))),\n\nIF(Outlet_Pipe2_Rank=3,\nIF(Outlet_Pipe1_Rank=2,MIN(U1175,R1175+T1175),\nIF(Vertical_Orifice2_Rank=2,MIN(U1175,J1175+R1175+T1175),MIN(U1175,I1175+R1175+T1175))),\n\nMIN(U1175,R1175+T1175)))))","v":""},{"$f":"IF(B1175=\"\",\"\",\nIF(OR(Spillway_Invert=\"\",Spillway_Length=\"\",Spillway_Side_Slopes=\"\",Freeboard_above_Spillway=\"\",B1175<=Spillway_Invert),0,\n\nIF(OR(Spillway_Position=\"\",Spillway_Position=\"Offset\"),\n(Cd_BCW*Spillway_Length*(B1175-Spillway_Invert)^1.5)+((0.8*Cd_BCW)*Spillway_Side_Slopes*(B1175-Spillway_Invert)^2.5),\n\nIF(AND(Weir2_Ho<>\"N/A\",Weir2_horiz_length_of_grate=\"N/A\"),\nIF((Cd_BCW*Spillway_Length*(B1175-Spillway_Invert)^1.5)+((0.8*Cd_BCW)*Spillway_Side_Slopes*(B1175-Spillway_Invert)^2.5)-(Cd_BCW*(Weir2_W+2*(Spillway_Invert-Weir2_Ho)*Weir2_Grate_Slope)*(B1175-Spillway_Invert)^1.5)+((0.8*Cd_BCW)*Weir2_Grate_Slope*(B1175-Spillway_Invert)^2.5)<0,0,\n(Cd_BCW*Spillway_Length*(B1175-Spillway_Invert)^1.5)+((0.8*Cd_BCW)*Spillway_Side_Slopes*(B1175-Spillway_Invert)^2.5)-(Cd_BCW*(Weir2_W+2*(Spillway_Invert-Weir2_Ho)*Weir2_Grate_Slope)*(B1175-Spillway_Invert)^1.5)+((0.8*Cd_BCW)*Weir2_Grate_Slope*(B1175-Spillway_Invert)^2.5)),\n\nIF((Cd_BCW*Spillway_Length*(B1175-Spillway_Invert)^1.5)+((0.8*Cd_BCW)*Spillway_Side_Slopes*(B1175-Spillway_Invert)^2.5)-(Cd_BCW*(Weir1_W+2*(Spillway_Invert-Weir1_Ho)*Weir1_Grate_Slope)*(B1175-Spillway_Invert)^1.5)+((0.8*Cd_BCW)*Weir1_Grate_Slope*(B1175-Spillway_Invert)^2.5)<0,0,\n(Cd_BCW*Spillway_Length*(B1175-Spillway_Invert)^1.5)+((0.8*Cd_BCW)*Spillway_Side_Slopes*(B1175-Spillway_Invert)^2.5)-(Cd_BCW*(Weir1_W+2*(Spillway_Invert-Weir1_Ho)*Weir1_Grate_Slope)*(B1175-Spillway_Invert)^1.5)+((0.8*Cd_BCW)*Weir1_Grate_Slope*(B1175-Spillway_Invert)^2.5))))))","v":""},"",{"$f":"IF(B1175=\"\",\"\",IF(X1175=\"\",\"\",IF(D1175=\"\",\"\",X1175*$C$3089*60+F1175)))","v":""},"","",{"$f":"IF($B1175=\"\",\"\",IF(OR(Row1_Stage=\"\",Row1_Stage=\"N/A\"),0,IF($B1175<=Row1_Stage,0,0.6*(Row1_Area/144)*(64.4*($B1175-Row1_Stage))^0.5)))","v":""},{"$f":"IF($B1175=\"\",\"\",IF(OR(Row2_Stage=\"\",Row2_Stage=\"N/A\"),0,IF($B1175<=Row2_Stage,0,0.6*(Row2_Area/144)*(64.4*($B1175-Row2_Stage))^0.5)))","v":""},{"$f":"IF($B1175=\"\",\"\",IF(OR(Row3_Stage=\"\",Row3_Stage=\"N/A\"),0,IF($B1175<=Row3_Stage,0,0.6*(Row3_Area/144)*(64.4*($B1175-Row3_Stage))^0.5)))","v":""},{"$f":"IF($B1175=\"\",\"\",IF(OR(Row4_Stage=\"\",Row4_Stage=\"N/A\"),0,IF($B1175<=Row4_Stage,0,0.6*(Row4_Area/144)*(64.4*($B1175-Row4_Stage))^0.5)))","v":""},{"$f":"IF($B1175=\"\",\"\",IF(OR(Row5_Stage=\"\",Row5_Stage=\"N/A\"),0,IF($B1175<=Row5_Stage,0,0.6*(Row5_Area/144)*(64.4*($B1175-Row5_Stage))^0.5)))","v":""},{"$f":"IF($B1175=\"\",\"\",IF(OR(Row6_Stage=\"\",Row6_Stage=\"N/A\"),0,IF($B1175<=Row6_Stage,0,0.6*(Row6_Area/144)*(64.4*($B1175-Row6_Stage))^0.5)))","v":""},{"$f":"IF($B1175=\"\",\"\",IF(OR(Row7_Stage=\"\",Row7_Stage=\"N/A\"),0,IF($B1175<=Row7_Stage,0,0.6*(Row7_Area/144)*(64.4*($B1175-Row7_Stage))^0.5)))","v":""},{"$f":"IF($B1175=\"\",\"\",IF(OR(Row8_Stage=\"\",Row8_Stage=\"N/A\"),0,IF($B1175<=Row8_Stage,0,0.6*(Row8_Area/144)*(64.4*($B1175-Row8_Stage))^0.5)))","v":""},{"$f":"IF($B1175=\"\",\"\",IF(OR(Row9_Stage=\"\",Row9_Stage=\"N/A\"),0,IF($B1175<=Row9_Stage,0,0.6*(Row9_Area/144)*(64.4*($B1175-Row9_Stage))^0.5)))","v":""},{"$f":"IF($B1175=\"\",\"\",IF(OR(Row10_Stage=\"\",Row10_Stage=\"N/A\"),0,IF($B1175<=Row10_Stage,0,0.6*(Row10_Area/144)*(64.4*($B1175-Row10_Stage))^0.5)))","v":""},{"$f":"IF($B1175=\"\",\"\",IF(OR(Row11_Stage=\"\",Row11_Stage=\"N/A\"),0,IF($B1175<=Row11_Stage,0,0.6*(Row11_Area/144)*(64.4*($B1175-Row11_Stage))^0.5)))","v":""},{"$f":"IF($B1175=\"\",\"\",IF(OR(Row12_Stage=\"\",Row12_Stage=\"N/A\"),0,IF($B1175<=Row12_Stage,0,0.6*(Row12_Area/144)*(64.4*($B1175-Row12_Stage))^0.5)))","v":""},{"$f":"IF($B1175=\"\",\"\",IF(OR(Row13_Stage=\"\",Row13_Stage=\"N/A\"),0,IF($B1175<=Row13_Stage,0,0.6*(Row13_Area/144)*(64.4*($B1175-Row13_Stage))^0.5)))","v":""},{"$f":"IF($B1175=\"\",\"\",IF(OR(Row14_Stage=\"\",Row14_Stage=\"N/A\"),0,IF($B1175<=Row14_Stage,0,0.6*(Row14_Area/144)*(64.4*($B1175-Row14_Stage))^0.5)))","v":""},{"$f":"IF($B1175=\"\",\"\",IF(OR(Row15_Stage=\"\",Row15_Stage=\"N/A\"),0,IF($B1175<=Row15_Stage,0,0.6*(Row15_Area/144)*(64.4*($B1175-Row15_Stage))^0.5)))","v":""},{"$f":"IF($B1175=\"\",\"\",IF(OR(Row16_Stage=\"\",Row16_Stage=\"N/A\"),0,IF($B1175<=Row16_Stage,0,0.6*(Row16_Area/144)*(64.4*($B1175-Row16_Stage))^0.5)))","v":""},{"$f":"IF(B1175=\"\",\"\",SUM(AB1175:AQ1175))","v":""},"","","","",{"$f":"IF($B1175=\"\",\"\",IF(OR(Zone1_Outlet_Type=4,Zone2_Outlet_Type=4),IF($B1175<WQ_Plate_Invert,0,IF($B1175<WQ_Plate_Invert+Ao_OC_or_ESLOT_H,(2*32.2*($B1175-WQ_Plate_Invert-AS1175))^0.5*(2*Ao_OC_or_ESLOT_H/ESLOT_RATIO*(1-(1-AS1175^2/Ao_OC_or_ESLOT_H^2)^0.5)+Ao_or_ESLOT_W/12),0)),\"\"))","v":""},{"$f":"IF($B1175=\"\",\"\",IF(OR(Zone1_Outlet_Type=4,Zone2_Outlet_Type=4),IF($B1175<WQ_Plate_Invert,0,IF($B1175<WQ_Plate_Invert+Ao_OC_or_ESLOT_H,(2*32.2*($B1175-WQ_Plate_Invert-AT1175))^0.5*(2*Ao_OC_or_ESLOT_H/ESLOT_RATIO*(1-(1-AT1175^2/Ao_OC_or_ESLOT_H^2)^0.5)+Ao_or_ESLOT_W/12),0)),\"\"))","v":""},{"$f":"IF($B1175=\"\",\"\",IF(OR(Zone1_Outlet_Type=4,Zone2_Outlet_Type=4),IF($B1175<WQ_Plate_Invert,0,IF($B1175<WQ_Plate_Invert+Ao_OC_or_ESLOT_H,(2*32.2*($B1175-WQ_Plate_Invert-AU1175))^0.5*(2*Ao_OC_or_ESLOT_H/ESLOT_RATIO*(1-(1-AU1175^2/Ao_OC_or_ESLOT_H^2)^0.5)+Ao_or_ESLOT_W/12),0)),\"\"))","v":""},{"$f":"IF($B1175=\"\",\"\",IF(OR(Zone1_Outlet_Type=4,Zone2_Outlet_Type=4),IF($B1175<WQ_Plate_Invert,0,IF($B1175<WQ_Plate_Invert+Ao_OC_or_ESLOT_H,(2*32.2*($B1175-WQ_Plate_Invert-AV1175))^0.5*(2*Ao_OC_or_ESLOT_H/ESLOT_RATIO*(1-(1-AV1175^2/Ao_OC_or_ESLOT_H^2)^0.5)+Ao_or_ESLOT_W/12),0)),\"\"))","v":""},{"$f":"IF(B1175=\"\",\"\",IF(OR(Zone1_Outlet_Type=4,Zone2_Outlet_Type=4),IF(B1175<WQ_Plate_Invert+Ao_OC_or_ESLOT_H, 0.642*(0.3015*(B1175-WQ_Plate_Invert)*(AW1175+AX1175)+0.1415*(B1175-WQ_Plate_Invert)*(AX1175+AY1175)+0.057*(B1175-WQ_Plate_Invert)*AY1175),\"N/A\"),\"\"))","v":""},{"$f":"IF(B1175=\"\",\"\",IF(OR(Zone1_Outlet_Type=4,Zone2_Outlet_Type=4),IF(B1175>=WQ_Plate_Invert+Ao_OC_or_ESLOT_H, 0.6*Elliptical_Slot_Area*(2*32.2*(B1175-WQ_Plate_Invert-Elliptical_Slot_Centroid))^0.5,\"N/A\"),\"\"))","v":""},{"$f":"IF(B1175=\"\",\"\",IF(OR(Zone1_Outlet_Type=4,Zone2_Outlet_Type=4),IF(B1175<WQ_Plate_Invert+Ao_OC_or_ESLOT_H, BA1175,BB1175),\"\"))","v":""},"","","","","","","","",""]
[null,{"$f":"IF(Basin_CountA=0,\"\",IF(User_Stage_Area=0,Basin!G1213,Basin!H1213))","v":""},{"$f":"IF(Basin_CountA=0,\"\",IF(User_Stage_Area=0,Basin!K1213,IF(B1184=\"\",\"\",Basin!L1213)))","v":""},{"$f":"IF(Basin_CountA=0,\"\",Basin!N1213)","v":""},null,"","","","","","","","","","","","","","","","","","","","","","","","","","","","","","","","","","","","","","","","","","","","","","","","","","","","","","","","","","",""]
[null,{"$f":"IF(Basin_CountA=0,\"\",IF(User_Stage_Area=0,Basin!G1222,Basin!H1222))","v":""},{"$f":"IF(Basin_CountA=0,\"\",IF(User_Stage_Area=0,Basin!K1222,IF(B1193=\"\",\"\",Basin!L1222)))","v":""},{"$f":"IF(Basin_CountA=0,\"\",Basin!N1222)","v":""},null,"","","","","","","","","","","","","","","","","","","","","","","","","","","","","","","","","","","","","","","","","","","","","","","","","","","","","","","","","","",""]
[null,{"$f":"IF(Basin_CountA=0,\"\",IF(User_Stage_Area=0,Basin!G1223,Basin!H1223))","v":""},{"$f":"IF(Basin_CountA=0,\"\",IF(User_Stage_Area=0,Basin!K1223,IF(B1194=\"\",\"\",Basin!L1223)))","v":""},{"$f":"IF(Basin_CountA=0,\"\",Basin!N1223)","v":""},null,"","","","","","","","","","","","","","","","","","","","","","","","","","","","","","","","","","","","","","","","","","","","","","","","","","","","","","","","","","",""]
[null,{"$f":"IF(Basin_CountA=0,\"\",IF(User_Stage_Area=0,Basin!G1232,Basin!H1232))","v":""},{"$f":"IF(Basin_CountA=0,\"\",IF(User_Stage_Area=0,Basin!K1232,IF(B1203=\"\",\"\",Basin!L1232)))","v":""},{"$f":"IF(Basin_CountA=0,\"\",Basin!N1232)","v":""},null,"","","","","","","","","","","","","","","","","","","","","","","","","","","","","","","","","","","","","","","","","","","","","","","","","","","","","","","","","","",""]
[null,{"$f":"IF(Basin_CountA=0,\"\",IF(User_Stage_Area=0,Basin!G1241,Basin!H1241))","v":""},{"$f":"IF(Basin_CountA=0,\"\",IF(User_Stage_Area=0,Basin!K1241,IF(B1212=\"\",\"\",Basin!L1241)))","v":""},{"$f":"IF(Basin_CountA=0,\"\",Basin!N1241)","v":""},null,"","","","","","","","","","","","","","","","","","","","","","","","","","","","","","","","","","","","","","","","","","","","","","","","","","","","","","","","","","",""]
[null,{"$f":"IF(Basin_CountA=0,\"\",IF(User_Stage_Area=0,Basin!G1250,Basin!H1250))","v":""},{"$f":"IF(Basin_CountA=0,\"\",IF(User_Stage_Area=0,Basin!K1250,IF(B1221=\"\",\"\",Basin!L1250)))","v":""},{"$f":"IF(Basin_CountA=0,\"\",Basin!N1250)","v":""},null,"","","","","","","","","","","","","","","","","","","","","","","","","","","","","","","","","","","","","","","","","","","","","","","","","","","","","","","","","","",""]
[null,{"$f":"IF(Basin_CountA=0,\"\",IF(User_Stage_Area=0,Basin!G1259,Basin!H1259))","v":""},{"$f":"IF(Basin_CountA=0,\"\",IF(User_Stage_Area=0,Basin!K1259,IF(B1230=\"\",\"\",Basin!L1259)))","v":""},{"$f":"IF(Basin_CountA=0,\"\",Basin!N1259)","v":""},null,"","","","","","","","","","","","","","","","","","","","","","","","","","","","","","","","","","","","","","","","","","","","","","","","","","","","","","","","","","",""]
[null,{"$f":"IF(Basin_CountA=0,\"\",IF(User_Stage_Area=0,Basin!G1268,Basin!H1268))","v":""},{"$f":"IF(Basin_CountA=0,\"\",IF(User_Stage_Area=0,Basin!K1268,IF(B1239=\"\",\"\",Basin!L1268)))","v":""},{"$f":"IF(Basin_CountA=0,\"\",Basin!N1268)","v":""},null,{"$f":"IF(B1239=\"\",\"\",IF(D1239=\"\",\"\",2*D1239))","v":""},{"$f":"IF(B1239=\"\",\"\",\nIF(OR(Underdrain_Invert=\"\",Underdrain_Invert=\"N/A\",Underdrain_Diameter=\"\",Underdrain_Diameter=\"N/A\"),0,\nIF(B1239+Underdrain_Invert<=Underdrain_Orifice_Centroid,0,IF(B1239=0,0,0.6*Underdrain_Orifice_Area*(64.4*(B1239+Underdrain_Invert-Underdrain_Orifice_Centroid))^0.5))))","v":""},{"$f":"IF(B1239=\"\",\"\",\nIF(OR(WQ_Plate_Invert=\"\",WQ_Plate_Invert=\"N/A\",Required_Depth=\"\",Required_Depth=\"N/A\",Ao_OC_or_ESLOT_H=\"\",Ao_or_ESLOT_W=\"\"),0,\nIF(ESLOT_RATIO=\"\",AR1239,IF(ESLOT_RATIO<>\"\",BC1239,0))))","v":""},{"$f":"IF(B1239=\"\",\"\",IF(Vertical_Orifice1_Boolean=0,0,\nIF(B1239<=Orifice1_Invert,0,\nIF(B1239<Orifice1_Invert+Orifice1_Height/12,\n(0.6*Vertical_Orifice1_Area*(64.4*Vertical_Orifice1_Centroid)^0.5)*((B1239-Orifice1_Invert)/(Orifice1_Height/12))^1.81,\n0.6*Vertical_Orifice1_Area*(64.4*(B1239-Orifice1_Invert-Vertical_Orifice1_Centroid))^0.5))))","v":""},{"$f":"IF(B1239=\"\",\"\",IF(Vertical_Orifice2_Boolean=0,0,\nIF(B1239<=Orifice2_Invert,0,\nIF(B1239<Orifice2_Invert+Orifice2_Height/12,\n(0.6*Vertical_Orifice2_Area*(64.4*Vertical_Orifice2_Centroid)^0.5)*((B1239-Orifice2_Invert)/(Orifice2_Height/12))^1.81,\n0.6*Vertical_Orifice2_Area*(64.4*(B1239-Orifice2_Invert-Vertical_Orifice2_Centroid))^0.5))))","v":""},{"$f":"IF(B1239=\"\",\"\",IF(Overflow_Weir1_Boolean=0,0,IF((B1239-Weir1_Ho)<=0,0,\n\nIF(OR(Weir1_horiz_length_of_grate=0,Weir1_horiz_length_of_grate=\"N/A\"),\nCd_BCW*Weir1_W*(B1239-Weir1_Ho)^1.5+(0.8*Cd_BCW)*Weir1_Grate_Slope*(B1239-Weir1_Ho)^2.5,\n\nIF(Angle1=0,\n2*(2/3*CLOG1*n_Cdw_1*(64.4^0.5)*Weir1_horiz_length_of_grate*(B1239-Weir1_Ho)^1.5)+2*(2/3*CLOG1*n_Cdw_1*(64.4^0.5)*Weir1_W*(B1239-Weir1_Ho)^1.5),\n\nIF((B1239-Weir1_Ho)<(Ht_1-Weir1_Ho),\n2*(4/15*CLOG1*n_Cdw_1*(64.4^0.5)*(COS(Angle1)/SIN(Angle1))*(B1239-Weir1_Ho)^2.5)+(2/3*CLOG1*n_Cdw_1*(64.4^0.5)*Weir1_W*(B1239-Weir1_Ho)^1.5),\n\n2*(4/15*CLOG1*n_Cdw_1*(64.4^0.5)*Weir1_horiz_length_of_grate*COS(Angle1)*(B1239-Weir1_Ho)^1.5*((B1239-Weir1_Ho)^2.5/(B1239-Weir1_Ho)^1.5/(Ht_1-Weir1_Ho)-((B1239-Weir1_Ho)-(Ht_1-Weir1_Ho))^2.5/(B1239-Weir1_Ho)^1.5/(Ht_1-Weir1_Ho))) +(2/3*CLOG1*n_Cdw_1*(64.4^0.5)*Weir1_W*(B1239-Weir1_Ho)^1.5)))))))","v":""},{"$f":"IF(B1239=\"\",\"\",IF(Overflow_Weir1_Boolean=0,0,IF((B1239-Weir1_Ho)<=0,0,IF(OR(Weir1_horiz_length_of_grate=0,Weir1_horiz_length_of_grate=\"N/A\"),0,\n\nIF(Angle1=0,\n(2/3*CLOG1*n_Cdo_1*Weir1_W*Weir1_horiz_length_of_grate*(64.4*(B1239-Weir1_Ho))^0.5),\n\nIF((B1239-Weir1_Ho)<(Ht_1-Weir1_Ho),\n(2/3*CLOG1*n_Cdo_1*Weir1_W*(B1239-Weir1_Ho)*(COS(Angle1)/SIN(Angle1))*(64.4*(B1239-Weir1_Ho))^0.5),\n\n(2/3*CLOG1*n_Cdo_1*Weir1_W*Weir1_horiz_length_of_grate*COS(Angle1)*(64.4*(B1239-Weir1_Ho))^0.5*((B1239-Weir1_Ho)^1.5/(Ht_1-Weir1_Ho)/(B1239-Weir1_Ho)^0.5-((B1239-Weir1_Ho)-(Ht_1-Weir1_Ho))^1.5/(B1239-Weir1_Ho)^0.5/(Ht_1-Weir1_Ho)))))))))","v":""},"",{"$f":"IF(B1239=\"\",\"\",IF(OR(Weir1_horiz_length_of_grate=0,Weir1_horiz_length_of_grate=\"N/A\"),K1239,MIN(K1239,L1239,M1239)))","v":""},{"$f":"IF(B1239=\"\",\"\",IF(Overflow_Weir2_Boolean=0,0,IF((B1239-Weir2_Ho)<=0,0,\n\nIF(OR(Weir2_horiz_length_of_grate=0,Weir2_horiz_length_of_grate=\"N/A\"),\nIF(AND(Weir1_horiz_length_of_grate=\"N/A\",Weir2_Position=\"Overlapping\"),\nIF((Cd_BCW*Weir2_W*(B1239-Weir2_Ho)^1.5+(0.8*Cd_BCW)*Weir2_Grate_Slope*(B1239-Weir2_Ho)^2.5)-(Cd_BCW*(Weir1_W+2*(Weir2_Ho-Weir1_Ho)*Weir1_Grate_Slope)*(B1239-Weir2_Ho)^1.5+(0.8*Cd_BCW)*Weir1_Grate_Slope*(B1239-Weir2_Ho)^2.5)<0,0,\n(Cd_BCW*Weir2_W*(B1239-Weir2_Ho)^1.5+(0.8*Cd_BCW)*Weir2_Grate_Slope*(B1239-Weir2_Ho)^2.5)-(Cd_BCW*(Weir1_W+2*(Weir2_Ho-Weir1_Ho)*Weir1_Grate_Slope)*(B1239-Weir2_Ho)^1.5+(0.8*Cd_BCW)*Weir1_Grate_Slope*(B1239-Weir2_Ho)^2.5)),\nCd_BCW*Weir2_W*(B1239-Weir2_Ho)^1.5+(0.8*Cd_BCW)*Weir2_Grate_Slope*(B1239-Weir2_Ho)^2.5),\n\nIF(Angle2=0,\n2*(2/3*CLOG2*n_Cdw_2*(64.4^0.5)*Weir2_horiz_length_of_grate*(B1239-Weir2_Ho)^1.5)+2*(2/3*CLOG2*n_Cdw_2*(64.4^0.5)*Weir2_W*(B1239-Weir2_Ho)^1.5),\n\nIF((B1239-Weir2_Ho)<(Ht_2-Weir2_Ho),\n2*(4/15*CLOG2*n_Cdw_2*(64.4^0.5)*(COS(Angle2)/SIN(Angle2))*(B1239-Weir2_Ho)^2.5)+(2/3*CLOG2*n_Cdw_2*(64.4^0.5)*Weir2_W*(B1239-Weir2_Ho)^1.5),\n\n2*(4/15*CLOG2*n_Cdw_2*(64.4^0.5)*Weir2_horiz_length_of_grate*COS(Angle2)*(B1239-Weir2_Ho)^1.5*((B1239-Weir2_Ho)^2.5/(B1239-Weir2_Ho)^1.5/(Ht_2-Weir2_Ho)-((B1239-Weir2_Ho)-(Ht_2-Weir2_Ho))^2.5/(B1239-Weir2_Ho)^1.5/(Ht_2-Weir2_Ho))) +(2/3*CLOG2*n_Cdw_2*(64.4^0.5)*Weir2_W*(B1239-Weir2_Ho)^1.5)))))))","v":""},{"$f":"IF(B1239=\"\",\"\",IF(Overflow_Weir2_Boolean=0,0,IF((B1239-Weir2_Ho)<=0,0,IF(OR(Weir2_horiz_length_of_grate=0,Weir2_horiz_length_of_grate=\"N/A\"),0,\n\nIF(Angle2=0,\n(2/3*CLOG2*n_Cdo_2*Weir2_W*Weir2_horiz_length_of_grate*(64.4*(B1239-Weir2_Ho))^0.5),\n\nIF((B1239-Weir2_Ho)<(Ht_2-Weir2_Ho),\n(2/3*CLOG2*n_Cdo_2*Weir2_W*(B1239-Weir2_Ho)*(COS(Angle2)/SIN(Angle2))*(64.4*(B1239-Weir2_Ho))^0.5),\n\n(2/3*CLOG2*n_Cdo_2*Weir2_W*Weir2_horiz_length_of_grate*COS(Angle2)*(64.4*(B1239-Weir2_Ho))^0.5*((B1239-Weir2_Ho)^1.5/(Ht_2-Weir2_Ho)/(B1239-Weir2_Ho)^0.5-((B1239-Weir2_Ho)-(Ht_2-Weir2_Ho))^1.5/(B1239-Weir2_Ho)^0.5/(Ht_2-Weir2_Ho)))))))))","v":""},"",{"$f":"IF(B1239=\"\",\"\",IF(OR(Weir2_horiz_length_of_grate=0,Weir2_horiz_length_of_grate=\"N/A\"),O1239,MIN(O1239,P1239,Q1239)))","v":""},{"$f":"IF(B1239=\"\",\"\",\nIF(Outlet_Pipe1_Boolean=0,0,\nIF(B1239+Outlet1_Orifice_Invert<2*Outlet1_Orifice_Centroid,\nIF((0.6*Outlet1_Orifice_Area*(64.4*Outlet1_Orifice_Centroid)^0.5)*((B1239+Outlet1_Orifice_Invert)/(2*Outlet1_Orifice_Centroid))^1.81<H1239,H1239,\n(0.6*Outlet1_Orifice_Area*(64.4*Outlet1_Orifice_Centroid)^0.5)*((B1239+Outlet1_Orifice_Invert)/(2*Outlet1_Orifice_Centroid))^1.81),\n0.6*Outlet1_Orifice_Area*(64.4*(B1239+Outlet1_Orifice_Invert-Outlet1_Orifice_Centroid))^0.5)))","v":""},{"$f":"IF(B1239=\"\",\"\",IF(Outlet_Pipe1_Boolean=0,0,\nIF(Outlet_Pipe1_Rank=3,MIN(S1239,G1239+H1239+I1239+J1239+N1239),\nIF(Outlet_Pipe1_Rank=2,IF(Vertical_Orifice1_Rank=1,MIN(S1239,G1239+H1239+I1239+N1239),MIN(S1239,G1239+H1239+J1239+N1239)),\nIF(Outlet_Pipe1_Rank=1,MIN(S1239,G1239+H1239+N1239),\nMIN(S1239,G1239+H1239+I1239+J1239))))))","v":""},{"$f":"IF(B1239=\"\",\"\",\nIF(Outlet_Pipe2_Boolean=0,0,\nIF(B1239+Outlet2_Orifice_Invert<2*Outlet2_Orifice_Centroid,\nIF((0.6*Outlet2_Orifice_Area*(64.4*Outlet2_Orifice_Centroid)^0.5)*((B1239+Outlet2_Orifice_Invert)/(2*Outlet2_Orifice_Centroid))^1.81<H1239,H1239,\n(0.6*Outlet2_Orifice_Area*(64.4*Outlet2_Orifice_Centroid)^0.5)*((B1239+Outlet2_Orifice_Invert)/(2*Outlet2_Orifice_Centroid))^1.81),\n0.6*Outlet2_Orifice_Area*(64.4*(B1239+Outlet2_Orifice_Invert-Outlet2_Orifice_Centroid))^0.5)))","v":""},{"$f":"IF(B1239=\"\",\"\",IF(OR(Outlet_Pipe1_Boolean=0,Outlet_Pipe2_Boolean=0),0,\nIF(Outlet_Pipe2_Rank=4,\nIF(Outlet_Pipe1_Rank=3,MIN(U1239,R1239+T1239),\nIF(AND(Outlet_Pipe1_Rank=2,Vertical_Orifice2_Rank=3),MIN(U1239,J1239+R1239+T1239),\nIF(AND(Outlet_Pipe1_Rank=2,Vertical_Orifice1_Rank=3),MIN(U1239,I1239+R1239+T1239),MIN(U1239,I1239+J1239+R1239+T1239)))),\n\nIF(Outlet_Pipe2_Rank=3,\nIF(Outlet_Pipe1_Rank=2,MIN(U1239,R1239+T1239),\nIF(Vertical_Orifice2_Rank=2,MIN(U1239,J1239+R1239+T1239),MIN(U1239,I1239+R1239+T1239))),\n\nMIN(U1239,R1239+T1239)))))","v":""},{"$f":"IF(B1239=\"\",\"\",\nIF(OR(Spillway_Invert=\"\",Spillway_Length=\"\",Spillway_Side_Slopes=\"\",Freeboard_above_Spillway=\"\",B1239<=Spillway_Invert),0,\n\nIF(OR(Spillway_Position=\"\",Spillway_Position=\"Offset\"),\n(Cd_BCW*Spillway_Length*(B1239-Spillway_Invert)^1.5)+((0.8*Cd_BCW)*Spillway_Side_Slopes*(B1239-Spillway_Invert)^2.5),\n\nIF(AND(Weir2_Ho<>\"N/A\",Weir2_horiz_length_of_grate=\"N/A\"),\nIF((Cd_BCW*Spillway_Length*(B1239-Spillway_Invert)^1.5)+((0.8*Cd_BCW)*Spillway_Side_Slopes*(B1239-Spillway_Invert)^2.5)-(Cd_BCW*(Weir2_W+2*(Spillway_Invert-Weir2_Ho)*Weir2_Grate_Slope)*(B1239-Spillway_Invert)^1.5)+((0.8*Cd_BCW)*Weir2_Grate_Slope*(B1239-Spillway_Invert)^2.5)<0,0,\n(Cd_BCW*Spillway_Length*(B1239-Spillway_Invert)^1.5)+((0.8*Cd_BCW)*Spillway_Side_Slopes*(B1239-Spillway_Invert)^2.5)-(Cd_BCW*(Weir2_W+2*(Spillway_Invert-Weir2_Ho)*Weir2_Grate_Slope)*(B1239-Spillway_Invert)^1.5)+((0.8*Cd_BCW)*Weir2_Grate_Slope*(B1239-Spillway_Invert)^2.5)),\n\nIF((Cd_BCW*Spillway_Length*(B1239-Spillway_Invert)^1.5)+((0.8*Cd_BCW)*Spillway_Side_Slopes*(B1239-Spillway_Invert)^2.5)-(Cd_BCW*(Weir1_W+2*(Spillway_Invert-Weir1_Ho)*Weir1_Grate_Slope)*(B1239-Spillway_Invert)^1.5)+((0.8*Cd_BCW)*Weir1_Grate_Slope*(B1239-Spillway_Invert)^2.5)<0,0,\n(Cd_BCW*Spillway_Length*(B1239-Spillway_Invert)^1.5)+((0.8*Cd_BCW)*Spillway_Side_Slopes*(B1239-Spillway_Invert)^2.5)-(Cd_BCW*(Weir1_W+2*(Spillway_Invert-Weir1_Ho)*Weir1_Grate_Slope)*(B1239-Spillway_Invert)^1.5)+((0.8*Cd_BCW)*Weir1_Grate_Slope*(B1239-Spillway_Invert)^2.5))))))","v":""},"",{"$f":"IF(B1239=\"\",\"\",IF(X1239=\"\",\"\",IF(D1239=\"\",\"\",X1239*$C$3089*60+F1239)))","v":""},"","",{"$f":"IF($B1239=\"\",\"\",IF(OR(Row1_Stage=\"\",Row1_Stage=\"N/A\"),0,IF($B1239<=Row1_Stage,0,0.6*(Row1_Area/144)*(64.4*($B1239-Row1_Stage))^0.5)))","v":""},{"$f":"IF($B1239=\"\",\"\",IF(OR(Row2_Stage=\"\",Row2_Stage=\"N/A\"),0,IF($B1239<=Row2_Stage,0,0.6*(Row2_Area/144)*(64.4*($B1239-Row2_Stage))^0.5)))","v":""},{"$f":"IF($B1239=\"\",\"\",IF(OR(Row3_Stage=\"\",Row3_Stage=\"N/A\"),0,IF($B1239<=Row3_Stage,0,0.6*(Row3_Area/144)*(64.4*($B1239-Row3_Stage))^0.5)))","v":""},{"$f":"IF($B1239=\"\",\"\",IF(OR(Row4_Stage=\"\",Row4_Stage=\"N/A\"),0,IF($B1239<=Row4_Stage,0,0.6*(Row4_Area/144)*(64.4*($B1239-Row4_Stage))^0.5)))","v":""},{"$f":"IF($B1239=\"\",\"\",IF(OR(Row5_Stage=\"\",Row5_Stage=\"N/A\"),0,IF($B1239<=Row5_Stage,0,0.6*(Row5_Area/144)*(64.4*($B1239-Row5_Stage))^0.5)))","v":""},{"$f":"IF($B1239=\"\",\"\",IF(OR(Row6_Stage=\"\",Row6_Stage=\"N/A\"),0,IF($B1239<=Row6_Stage,0,0.6*(Row6_Area/144)*(64.4*($B1239-Row6_Stage))^0.5)))","v":""},{"$f":"IF($B1239=\"\",\"\",IF(OR(Row7_Stage=\"\",Row7_Stage=\"N/A\"),0,IF($B1239<=Row7_Stage,0,0.6*(Row7_Area/144)*(64.4*($B1239-Row7_Stage))^0.5)))","v":""},{"$f":"IF($B1239=\"\",\"\",IF(OR(Row8_Stage=\"\",Row8_Stage=\"N/A\"),0,IF($B1239<=Row8_Stage,0,0.6*(Row8_Area/144)*(64.4*($B1239-Row8_Stage))^0.5)))","v":""},{"$f":"IF($B1239=\"\",\"\",IF(OR(Row9_Stage=\"\",Row9_Stage=\"N/A\"),0,IF($B1239<=Row9_Stage,0,0.6*(Row9_Area/144)*(64.4*($B1239-Row9_Stage))^0.5)))","v":""},{"$f":"IF($B1239=\"\",\"\",IF(OR(Row10_Stage=\"\",Row10_Stage=\"N/A\"),0,IF($B1239<=Row10_Stage,0,0.6*(Row10_Area/144)*(64.4*($B1239-Row10_Stage))^0.5)))","v":""},{"$f":"IF($B1239=\"\",\"\",IF(OR(Row11_Stage=\"\",Row11_Stage=\"N/A\"),0,IF($B1239<=Row11_Stage,0,0.6*(Row11_Area/144)*(64.4*($B1239-Row11_Stage))^0.5)))","v":""},{"$f":"IF($B1239=\"\",\"\",IF(OR(Row12_Stage=\"\",Row12_Stage=\"N/A\"),0,IF($B1239<=Row12_Stage,0,0.6*(Row12_Area/144)*(64.4*($B1239-Row12_Stage))^0.5)))","v":""},{"$f":"IF($B1239=\"\",\"\",IF(OR(Row13_Stage=\"\",Row13_Stage=\"N/A\"),0,IF($B1239<=Row13_Stage,0,0.6*(Row13_Area/144)*(64.4*($B1239-Row13_Stage))^0.5)))","v":""},{"$f":"IF($B1239=\"\",\"\",IF(OR(Row14_Stage=\"\",Row14_Stage=\"N/A\"),0,IF($B1239<=Row14_Stage,0,0.6*(Row14_Area/144)*(64.4*($B1239-Row14_Stage))^0.5)))","v":""},{"$f":"IF($B1239=\"\",\"\",IF(OR(Row15_Stage=\"\",Row15_Stage=\"N/A\"),0,IF($B1239<=Row15_Stage,0,0.6*(Row15_Area/144)*(64.4*($B1239-Row15_Stage))^0.5)))","v":""},{"$f":"IF($B1239=\"\",\"\",IF(OR(Row16_Stage=\"\",Row16_Stage=\"N/A\"),0,IF($B1239<=Row16_Stage,0,0.6*(Row16_Area/144)*(64.4*($B1239-Row16_Stage))^0.5)))","v":""},{"$f":"IF(B1239=\"\",\"\",SUM(AB1239:AQ1239))","v":""},"","","","",{"$f":"IF($B1239=\"\",\"\",IF(OR(Zone1_Outlet_Type=4,Zone2_Outlet_Type=4),IF($B1239<WQ_Plate_Invert,0,IF($B1239<WQ_Plate_Invert+Ao_OC_or_ESLOT_H,(2*32.2*($B1239-WQ_Plate_Invert-AS1239))^0.5*(2*Ao_OC_or_ESLOT_H/ESLOT_RATIO*(1-(1-AS1239^2/Ao_OC_or_ESLOT_H^2)^0.5)+Ao_or_ESLOT_W/12),0)),\"\"))","v":""},{"$f":"IF($B1239=\"\",\"\",IF(OR(Zone1_Outlet_Type=4,Zone2_Outlet_Type=4),IF($B1239<WQ_Plate_Invert,0,IF($B1239<WQ_Plate_Invert+Ao_OC_or_ESLOT_H,(2*32.2*($B1239-WQ_Plate_Invert-AT1239))^0.5*(2*Ao_OC_or_ESLOT_H/ESLOT_RATIO*(1-(1-AT1239^2/Ao_OC_or_ESLOT_H^2)^0.5)+Ao_or_ESLOT_W/12),0)),\"\"))","v":""},{"$f":"IF($B1239=\"\",\"\",IF(OR(Zone1_Outlet_Type=4,Zone2_Outlet_Type=4),IF($B1239<WQ_Plate_Invert,0,IF($B1239<WQ_Plate_Invert+Ao_OC_or_ESLOT_H,(2*32.2*($B1239-WQ_Plate_Invert-AU1239))^0.5*(2*Ao_OC_or_ESLOT_H/ESLOT_RATIO*(1-(1-AU1239^2/Ao_OC_or_ESLOT_H^2)^0.5)+Ao_or_ESLOT_W/12),0)),\"\"))","v":""},{"$f":"IF($B1239=\"\",\"\",IF(OR(Zone1_Outlet_Type=4,Zone2_Outlet_Type=4),IF($B1239<WQ_Plate_Invert,0,IF($B1239<WQ_Plate_Invert+Ao_OC_or_ESLOT_H,(2*32.2*($B1239-WQ_Plate_Invert-AV1239))^0.5*(2*Ao_OC_or_ESLOT_H/ESLOT_RATIO*(1-(1-AV1239^2/Ao_OC_or_ESLOT_H^2)^0.5)+Ao_or_ESLOT_W/12),0)),\"\"))","v":""},{"$f":"IF(B1239=\"\",\"\",IF(OR(Zone1_Outlet_Type=4,Zone2_Outlet_Type=4),IF(B1239<WQ_Plate_Invert+Ao_OC_or_ESLOT_H, 0.642*(0.3015*(B1239-WQ_Plate_Invert)*(AW1239+AX1239)+0.1415*(B1239-WQ_Plate_Invert)*(AX1239+AY1239)+0.057*(B1239-WQ_Plate_Invert)*AY1239),\"N/A\"),\"\"))","v":""},{"$f":"IF(B1239=\"\",\"\",IF(OR(Zone1_Outlet_Type=4,Zone2_Outlet_Type=4),IF(B1239>=WQ_Plate_Invert+Ao_OC_or_ESLOT_H, 0.6*Elliptical_Slot_Area*(2*32.2*(B1239-WQ_Plate_Invert-Elliptical_Slot_Centroid))^0.5,\"N/A\"),\"\"))","v":""},{"$f":"IF(B1239=\"\",\"\",IF(OR(Zone1_Outlet_Type=4,Zone2_Outlet_Type=4),IF(B1239<WQ_Plate_Invert+Ao_OC_or_ESLOT_H, BA1239,BB1239),\"\"))","v":""},"","","","","","","","",""]
[null,{"$f":"IF(Basin_CountA=0,\"\",IF(User_Stage_Area=0,Basin!G1274,Basin!H1274))","v":""},{"$f":"IF(Basin_CountA=0,\"\",IF(User_Stage_Area=0,Basin!K1274,IF(B1245=\"\",\"\",Basin!L1274)))","v":""},{"$f":"IF(Basin_CountA=0,\"\",Basin!N1274)","v":""},null,"","","","","","","","","","","","","","","","","","","","","","","","","","","","","","","","","","","","","","","","","","","","","","","","","","","","","","","","","","",""]
[null,{"$f":"IF(Basin_CountA=0,\"\",IF(User_Stage_Area=0,Basin!G1285,Basin!H1285))","v":""},{"$f":"IF(Basin_CountA=0,\"\",IF(User_Stage_Area=0,Basin!K1285,IF(B1256=\"\",\"\",Basin!L1285)))","v":""},{"$f":"IF(Basin_CountA=0,\"\",Basin!N1285)","v":""},null,"","","","","","","","","","","","","","","","","","","","","","","","","","","","","","","","","","","","","","","","","","","","","","","","","","","","","","","","","","",""]
[null,{"$f":"IF(Basin_CountA=0,\"\",IF(User_Stage_Area=0,Basin!G1286,Basin!H1286))","v":""},{"$f":"IF(Basin_CountA=0,\"\",IF(User_Stage_Area=0,Basin!K1286,IF(B1257=\"\",\"\",Basin!L1286)))","v":""},{"$f":"IF(Basin_CountA=0,\"\",Basin!N1286)","v":""},null,"","","","","","","","","","","","","","","","","","","","","","","","","","","","","","","","","","","","","","","","","","","","","","","","","","","","","","","","","","",""]
[null,{"$f":"IF(Basin_CountA=0,\"\",IF(User_Stage_Area=0,Basin!G1295,Basin!H1295))","v":""},{"$f":"IF(Basin_CountA=0,\"\",IF(User_Stage_Area=0,Basin!K1295,IF(B1266=\"\",\"\",Basin!L1295)))","v":""},{"$f":"IF(Basin_CountA=0,\"\",Basin!N1295)","v":""},null,"","","","","","","","","","","","","","","","","","","","","","","","","","","","","","","","","","","","","","","","","","","","","","","","","","","","","","","","","","",""]
[null,{"$f":"IF(Basin_CountA=0,\"\",IF(User_Stage_Area=0,Basin!G1304,Basin!H1304))","v":""},{"$f":"IF(Basin_CountA=0,\"\",IF(User_Stage_Area=0,Basin!K1304,IF(B1275=\"\",\"\",Basin!L1304)))","v":""},{"$f":"IF(Basin_CountA=0,\"\",Basin!N1304)","v":""},null,"","","","","","","","","","","","","","","","","","","","","","","","","","","","","","","","","","","","","","","","","","","","","","","","","","","","","","","","","","",""]
[null,{"$f":"IF(Basin_CountA=0,\"\",IF(User_Stage_Area=0,Basin!G1313,Basin!H1313))","v":""},{"$f":"IF(Basin_CountA=0,\"\",IF(User_Stage_Area=0,Basin!K1313,IF(B1284=\"\",\"\",Basin!L1313)))","v":""},{"$f":"IF(Basin_CountA=0,\"\",Basin!N1313)","v":""},null,"","","","","","","","","","","","","","","","","","","","","","","","","","","","","","","","","","","","","","","","","","","","","","","","","","","","","","","","","","",""]
[null,{"$f":"IF(Basin_CountA=0,\"\",IF(User_Stage_Area=0,Basin!G1322,Basin!H1322))","v":""},{"$f":"IF(Basin_CountA=0,\"\",IF(User_Stage_Area=0,Basin!K1322,IF(B1293=\"\",\"\",Basin!L1322)))","v":""},{"$f":"IF(Basin_CountA=0,\"\",Basin!N1322)","v":""},null,"","","","","","","","","","","","","","","","","","","","","","","","","","","","","","","","","","","","","","","","","","","","","","","","","","","","","","","","","","",""]
[null,{"$f":"IF(Basin_CountA=0,\"\",IF(User_Stage_Area=0,Basin!G1331,Basin!H1331))","v":""},{"$f":"IF(Basin_CountA=0,\"\",IF(User_Stage_Area=0,Basin!K1331,IF(B1302=\"\",\"\",Basin!L1331)))","v":""},{"$f":"IF(Basin_CountA=0,\"\",Basin!N1331)","v":""},null,"","","","","","","","","","","","","","","","","","","","","","","","","","","","","","","","","","","","","","","","","","","","","","","","","","","","","","","","","","",""]
[null,{"$f":"IF(Basin_CountA=0,\"\",IF(User_Stage_Area=0,Basin!G1340,Basin!H1340))","v":""},{"$f":"IF(Basin_CountA=0,\"\",IF(User_Stage_Area=0,Basin!K1340,IF(B1311=\"\",\"\",Basin!L1340)))","v":""},{"$f":"IF(Basin_CountA=0,\"\",Basin!N1340)","v":""},null,"","","","","","","","","","","","","","","","","","","","","","","","","","","","","","","","","","","","","","","","","","","","","","","","","","","","","","","","","","",""]
[null,{"$f":"IF(Basin_CountA=0,\"\",IF(User_Stage_Area=0,Basin!G1349,Basin!H1349))","v":""},{"$f":"IF(Basin_CountA=0,\"\",IF(User_Stage_Area=0,Basin!K1349,IF(B1320=\"\",\"\",Basin!L1349)))","v":""},{"$f":"IF(Basin_CountA=0,\"\",Basin!N1349)","v":""},null,"","","","","","","","","","","","","","","","","","","","","","","","","","","","","","","","","","","","","","","","","","","","","","","","","","","","","","","","","","",""]
[null,{"$f":"IF(Basin_CountA=0,\"\",IF(User_Stage_Area=0,Basin!G1350,Basin!H1350))","v":""},{"$f":"IF(Basin_CountA=0,\"\",IF(User_Stage_Area=0,Basin!K1350,IF(B1321=\"\",\"\",Basin!L1350)))","v":""},{"$f":"IF(Basin_CountA=0,\"\",Basin!N1350)","v":""},null,"","","","","","","","","","","","","","","","","","","","","","","","","","","","","","","","","","","","","","","","","","","","","","","","","","","","","","","","","","",""]
[null,{"$f":"IF(Basin_CountA=0,\"\",IF(User_Stage_Area=0,Basin!G1359,Basin!H1359))","v":""},{"$f":"IF(Basin_CountA=0,\"\",IF(User_Stage_Area=0,Basin!K1359,IF(B1330=\"\",\"\",Basin!L1359)))","v":""},{"$f":"IF(Basin_CountA=0,\"\",Basin!N1359)","v":""},null,"","","","","","","","","","","","","","","","","","","","","","","","","","","","","","","","","","","","","","","","","","","","","","","","","","","","","","","","","","",""]
[null,{"$f":"IF(Basin_CountA=0,\"\",IF(User_Stage_Area=0,Basin!G1368,Basin!H1368))","v":""},{"$f":"IF(Basin_CountA=0,\"\",IF(User_Stage_Area=0,Basin!K1368,IF(B1339=\"\",\"\",Basin!L1368)))","v":""},{"$f":"IF(Basin_CountA=0,\"\",Basin!N1368)","v":""},null,"","","","","","","","","","","","","","","","","","","","","","","","","","","","","","","","","","","","","","","","","","","","","","","","","","","","","","","","","","",""]
[null,{"$f":"IF(Basin_CountA=0,\"\",IF(User_Stage_Area=0,Basin!G1377,Basin!H1377))","v":""},{"$f":"IF(Basin_CountA=0,\"\",IF(User_Stage_Area=0,Basin!K1377,IF(B1348=\"\",\"\",Basin!L1377)))","v":""},{"$f":"IF(Basin_CountA=0,\"\",Basin!N1377)","v":""},null,"","","","","","","","","","","","","","","","","","","","","","","","","","","","","","","","","","","","","","","","","","","","","","","","","","","","","","","","","","",""]
[null,{"$f":"IF(Basin_CountA=0,\"\",IF(User_Stage_Area=0,Basin!G1386,Basin!H1386))","v":""},{"$f":"IF(Basin_CountA=0,\"\",IF(User_Stage_Area=0,Basin!K1386,IF(B1357=\"\",\"\",Basin!L1386)))","v":""},{"$f":"IF(Basin_CountA=0,\"\",Basin!N1386)","v":""},null,"","","","","","","","","","","","","","","","","","","","","","","","","","","","","","","","","","","","","","","","","","","","","","","","","","","","","","","","","","",""]
[null,{"$f":"IF(Basin_CountA=0,\"\",IF(User_Stage_Area=0,Basin!G1395,Basin!H1395))","v":""},{"$f":"IF(Basin_CountA=0,\"\",IF(User_Stage_Area=0,Basin!K1395,IF(B1366=\"\",\"\",Basin!L1395)))","v":""},{"$f":"IF(Basin_CountA=0,\"\",Basin!N1395)","v":""},null,"","","","","","","","","","","","","","","","","","","","","","","","","","","","","","","","","","","","","","","","","","","","","","","","","","","","","","","","","","",""]
[null,{"$f":"IF(Basin_CountA=0,\"\",IF(User_Stage_Area=0,Basin!G1404,Basin!H1404))","v":""},{"$f":"IF(Basin_CountA=0,\"\",IF(User_Stage_Area=0,Basin!K1404,IF(B1375=\"\",\"\",Basin!L1404)))","v":""},{"$f":"IF(Basin_CountA=0,\"\",Basin!N1404)","v":""},null,"","","","","","","","","","","","","","","","","","","","","","","","","","","","","","","","","","","","","","","","","","","","","","","","","","","","","","","","","","",""]
[null,{"$f":"IF(Basin_CountA=0,\"\",IF(User_Stage_Area=0,Basin!G1413,Basin!H1413))","v":""},{"$f":"IF(Basin_CountA=0,\"\",IF(User_Stage_Area=0,Basin!K1413,IF(B1384=\"\",\"\",Basin!L1413)))","v":""},{"$f":"IF(Basin_CountA=0,\"\",Basin!N1413)","v":""},null,"","","","","","","","","","","","","","","","","","","","","","","","","","","","","","","","","","","","","","","","","","","","","","","","","","","","","","","","","","",""]
[null,{"$f":"IF(Basin_CountA=0,\"\",IF(User_Stage_Area=0,Basin!G1414,Basin!H1414))","v":""},{"$f":"IF(Basin_CountA=0,\"\",IF(User_Stage_Area=0,Basin!K1414,IF(B1385=\"\",\"\",Basin!L1414)))","v":""},{"$f":"IF(Basin_CountA=0,\"\",Basin!N1414)","v":""},null,"","","","","","","","","","","","","","","","","","","","","","","","","","","","","","","","","","","","","","","","","","","","","","","","","","","","","","","","","","",""]
[null,{"$f":"IF(Basin_CountA=0,\"\",IF(User_Stage_Area=0,Basin!G1423,Basin!H1423))","v":""},{"$f":"IF(Basin_CountA=0,\"\",IF(User_Stage_Area=0,Basin!K1423,IF(B1394=\"\",\"\",Basin!L1423)))","v":""},{"$f":"IF(Basin_CountA=0,\"\",Basin!N1423)","v":""},null,"","","","","","","","","","","","","","","","","","","","","","","","","","","","","","","","","","","","","","","","","","","","","","","","","","","","","","","","","","",""]
[null,{"$f":"IF(Basin_CountA=0,\"\",IF(User_Stage_Area=0,Basin!G1432,Basin!H1432))","v":""},{"$f":"IF(Basin_CountA=0,\"\",IF(User_Stage_Area=0,Basin!K1432,IF(B1403=\"\",\"\",Basin!L1432)))","v":""},{"$f":"IF(Basin_CountA=0,\"\",Basin!N1432)","v":""},null,"","","","","","","","","","","","","","","","","","","","","","","","","","","","","","","","","","","","","","","","","","","","","","","","","","","","","","","","","","",""]
[null,{"$f":"IF(Basin_CountA=0,\"\",IF(User_Stage_Area=0,Basin!G1441,Basin!H1441))","v":""},{"$f":"IF(Basin_CountA=0,\"\",IF(User_Stage_Area=0,Basin!K1441,IF(B1412=\"\",\"\",Basin!L1441)))","v":""},{"$f":"IF(Basin_CountA=0,\"\",Basin!N1441)","v":""},null,"","","","","","","","","","","","","","","","","","","","","","","","","","","","","","","","","","","","","","","","","","","","","","","","","","","","","","","","","","",""]
[null,{"$f":"IF(Basin_CountA=0,\"\",IF(User_Stage_Area=0,Basin!G1450,Basin!H1450))","v":""},{"$f":"IF(Basin_CountA=0,\"\",IF(User_Stage_Area=0,Basin!K1450,IF(B1421=\"\",\"\",Basin!L1450)))","v":""},{"$f":"IF(Basin_CountA=0,\"\",Basin!N1450)","v":""},null,"","","","","","","","","","","","","","","","","","","","","","","","","","","","","","","","","","","","","","","","","","","","","","","","","","","","","","","","","","",""]
[null,{"$f":"IF(Basin_CountA=0,\"\",IF(User_Stage_Area=0,Basin!G1459,Basin!H1459))","v":""},{"$f":"IF(Basin_CountA=0,\"\",IF(User_Stage_Area=0,Basin!K1459,IF(B1430=\"\",\"\",Basin!L1459)))","v":""},{"$f":"IF(Basin_CountA=0,\"\",Basin!N1459)","v":""},null,"","","","","","","","","","","","","","","","","","","","","","","","","","","","","","","","","","","","","","","","","","","","","","","","","","","","","","","","","","",""]
[null,{"$f":"IF(Basin_CountA=0,\"\",IF(User_Stage_Area=0,Basin!G1468,Basin!H1468))","v":""},{"$f":"IF(Basin_CountA=0,\"\",IF(User_Stage_Area=0,Basin!K1468,IF(B1439=\"\",\"\",Basin!L1468)))","v":""},{"$f":"IF(Basin_CountA=0,\"\",Basin!N1468)","v":""},null,"","","","","","","","","","","","","","","","","","","","","","","","","","","","","","","","","","","","","","","","","","","","","","","","","","","","","","","","","","",""]
[null,{"$f":"IF(Basin_CountA=0,\"\",IF(User_Stage_Area=0,Basin!G1477,Basin!H1477))","v":""},{"$f":"IF(Basin_CountA=0,\"\",IF(User_Stage_Area=0,Basin!K1477,IF(B1448=\"\",\"\",Basin!L1477)))","v":""},{"$f":"IF(Basin_CountA=0,\"\",Basin!N1477)","v":""},null,"","","","","","","","","","","","","","","","","","","","","","","","","","","","","","","","","","","","","","","","","","","","","","","","","","","","","","","","","","",""]
[null,{"$f":"IF(Basin_CountA=0,\"\",IF(User_Stage_Area=0,Basin!G1478,Basin!H1478))","v":""},{"$f":"IF(Basin_CountA=0,\"\",IF(User_Stage_Area=0,Basin!K1478,IF(B1449=\"\",\"\",Basin!L1478)))","v":""},{"$f":"IF(Basin_CountA=0,\"\",Basin!N1478)","v":""},null,"","","","","","","","","","","","","","","","","","","","","","","","","","","","","","","","","","","","","","","","","","","","","","","","","","","","","","","","","","",""]
[null,{"$f":"IF(Basin_CountA=0,\"\",IF(User_Stage_Area=0,Basin!G1487,Basin!H1487))","v":""},{"$f":"IF(Basin_CountA=0,\"\",IF(User_Stage_Area=0,Basin!K1487,IF(B1458=\"\",\"\",Basin!L1487)))","v":""},{"$f":"IF(Basin_CountA=0,\"\",Basin!N1487)","v":""},null,"","","","","","","","","","","","","","","","","","","","","","","","","","","","","","","","","","","","","","","","","","","","","","","","","","","","","","","","","","",""]
[null,{"$f":"IF(Basin_CountA=0,\"\",IF(User_Stage_Area=0,Basin!G1496,Basin!H1496))","v":""},{"$f":"IF(Basin_CountA=0,\"\",IF(User_Stage_Area=0,Basin!K1496,IF(B1467=\"\",\"\",Basin!L1496)))","v":""},{"$f":"IF(Basin_CountA=0,\"\",Basin!N1496)","v":""},null,"","","","","","","","","","","","","","","","","","","","","","","","","","","","","","","","","","","","","","","",{"$f":"IF($B1467=\"\",\"\",IF(OR(Zone1_Outlet_Type=4,Zone2_Outlet_Type=4),IF($B1467<WQ_Plate_Invert,0,($B1467-WQ_Plate_Invert)*AS$86),\"\"))","v":""},"","","","","","","","","","","","","","","","","","",""]
[null,{"$f":"IF(Basin_CountA=0,\"\",IF(User_Stage_Area=0,Basin!G1505,Basin!H1505))","v":""},{"$f":"IF(Basin_CountA=0,\"\",IF(User_Stage_Area=0,Basin!K1505,IF(B1476=\"\",\"\",Basin!L1505)))","v":""},{"$f":"IF(Basin_CountA=0,\"\",Basin!N1505)","v":""},null,"","","","","","","","","","","","","","","","","","","","","","","","","","","","","","","","","","","","","","","","","","","","","","","","","","","","","","","","","","",""]
[null,{"$f":"IF(Basin_CountA=0,\"\",IF(User_Stage_Area=0,Basin!G1514,Basin!H1514))","v":""},{"$f":"IF(Basin_CountA=0,\"\",IF(User_Stage_Area=0,Basin!K1514,IF(B1485=\"\",\"\",Basin!L1514)))","v":""},{"$f":"IF(Basin_CountA=0,\"\",Basin!N1514)","v":""},null,"","","","","","","","","","","","","","","","","","","","","","","","","","","","","","","","","","","","","","","","","","","","","","","","","","","","","","","","","","",""]
[null,{"$f":"IF(Basin_CountA=0,\"\",IF(User_Stage_Area=0,Basin!G1523,Basin!H1523))","v":""},{"$f":"IF(Basin_CountA=0,\"\",IF(User_Stage_Area=0,Basin!K1523,IF(B1494=\"\",\"\",Basin!L1523)))","v":""},{"$f":"IF(Basin_CountA=0,\"\",Basin!N1523)","v":""},null,"","","","","","","","","","","","","","","","","","","","","","","","","","","","","","","","","","","","","","","","","","","","","","","","","","","","","","","","","","",""]
[null,{"$f":"IF(Basin_CountA=0,\"\",IF(User_Stage_Area=0,Basin!G1532,Basin!H1532))","v":""},{"$f":"IF(Basin_CountA=0,\"\",IF(User_Stage_Area=0,Basin!K1532,IF(B1503=\"\",\"\",Basin!L1532)))","v":""},{"$f":"IF(Basin_CountA=0,\"\",Basin!N1532)","v":""},null,"","","","","","","","","","","","","","","","","","","","","","","","","","","","","","","","","","","","","","","","","","","","","","","","","","","","","","","","","","",""]
[null,{"$f":"IF(Basin_CountA=0,\"\",IF(User_Stage_Area=0,Basin!G1540,Basin!H1540))","v":""},{"$f":"IF(Basin_CountA=0,\"\",IF(User_Stage_Area=0,Basin!K1540,IF(B1511=\"\",\"\",Basin!L1540)))","v":""},{"$f":"IF(Basin_CountA=0,\"\",Basin!N1540)","v":""},null,"","","","","","","","","","","","","","","","","","","","","","","","","","","","","","","","","","","","","","","","","","","","","","","","","","","","","","","","","","",""]
[null,{"$f":"IF(Basin_CountA=0,\"\",IF(User_Stage_Area=0,Basin!G1541,Basin!H1541))","v":""},{"$f":"IF(Basin_CountA=0,\"\",IF(User_Stage_Area=0,Basin!K1541,IF(B1512=\"\",\"\",Basin!L1541)))","v":""},{"$f":"IF(Basin_CountA=0,\"\",Basin!N1541)","v":""},null,"","","","","","","","","","","","","","","","","","","","","","","","","","","","","","","","","","","","","","","","","","","","","","","","","","","","","","","","","","",""]
[null,{"$f":"IF(Basin_CountA=0,\"\",IF(User_Stage_Area=0,Basin!G1550,Basin!H1550))","v":""},{"$f":"IF(Basin_CountA=0,\"\",IF(User_Stage_Area=0,Basin!K1550,IF(B1521=\"\",\"\",Basin!L1550)))","v":""},{"$f":"IF(Basin_CountA=0,\"\",Basin!N1550)","v":""},null,"","","","","","","","","","","","","","","","","","","","","","","","","","","","","","","","","","","","","","","","","","","","","","","","","","","","","","","","","","",""]
[null,{"$f":"IF(Basin_CountA=0,\"\",IF(User_Stage_Area=0,Basin!G1559,Basin!H1559))","v":""},{"$f":"IF(Basin_CountA=0,\"\",IF(User_Stage_Area=0,Basin!K1559,IF(B1530=\"\",\"\",Basin!L1559)))","v":""},{"$f":"IF(Basin_CountA=0,\"\",Basin!N1559)","v":""},null,"","","","","","","","","","","","","","","","","","","","","","","","","","","","","","","","","","","","","","","","","","","","","","","","","","","","","","","","","","",""]
[null,{"$f":"IF(Basin_CountA=0,\"\",IF(User_Stage_Area=0,Basin!G1568,Basin!H1568))","v":""},{"$f":"IF(Basin_CountA=0,\"\",IF(User_Stage_Area=0,Basin!K1568,IF(B1539=\"\",\"\",Basin!L1568)))","v":""},{"$f":"IF(Basin_CountA=0,\"\",Basin!N1568)","v":""},null,"","","","","","","","","","","","","","","","","","","","","","","","","","","","","","","","","","","","","","","","","","","","","","","","","","","","","","","","","","",""]
[null,{"$f":"IF(Basin_CountA=0,\"\",IF(User_Stage_Area=0,Basin!G1577,Basin!H1577))","v":""},{"$f":"IF(Basin_CountA=0,\"\",IF(User_Stage_Area=0,Basin!K1577,IF(B1548=\"\",\"\",Basin!L1577)))","v":""},{"$f":"IF(Basin_CountA=0,\"\",Basin!N1577)","v":""},null,"","","","","","","","","","","","","","","","","","","","","","","","","","","","","","","","","","","","","","","","","","","","","","","","","","","","","","","","","","",""]
[null,{"$f":"IF(Basin_CountA=0,\"\",IF(User_Stage_Area=0,Basin!G1586,Basin!H1586))","v":""},{"$f":"IF(Basin_CountA=0,\"\",IF(User_Stage_Area=0,Basin!K1586,IF(B1557=\"\",\"\",Basin!L1586)))","v":""},{"$f":"IF(Basin_CountA=0,\"\",Basin!N1586)","v":""},null,"","","","","","","","","","","","","","","","","","","","","","","","","","","","","","","","","","","","","","","","","","","","","","","","","","","","","","","","","","",""]
[null,{"$f":"IF(Basin_CountA=0,\"\",IF(User_Stage_Area=0,Basin!G1595,Basin!H1595))","v":""},{"$f":"IF(Basin_CountA=0,\"\",IF(User_Stage_Area=0,Basin!K1595,IF(B1566=\"\",\"\",Basin!L1595)))","v":""},{"$f":"IF(Basin_CountA=0,\"\",Basin!N1595)","v":""},null,"","","","","","","","","","","","","","","","","","","","","","","","","","","","","","","","","","","","","","","","","","","","","","","","","","","","","","","","","","",""]
[null,{"$f":"IF(Basin_CountA=0,\"\",IF(User_Stage_Area=0,Basin!G1604,Basin!H1604))","v":""},{"$f":"IF(Basin_CountA=0,\"\",IF(User_Stage_Area=0,Basin!K1604,IF(B1575=\"\",\"\",Basin!L1604)))","v":""},{"$f":"IF(Basin_CountA=0,\"\",Basin!N1604)","v":""},null,"","","","","","","","","","","","","","","","","","","","","","","","","","","","","","","","","","","","","","","","","","","","","","","","","","","","","","","","","","",""]
[null,{"$f":"IF(Basin_CountA=0,\"\",IF(User_Stage_Area=0,Basin!G1605,Basin!H1605))","v":""},{"$f":"IF(Basin_CountA=0,\"\",IF(User_Stage_Area=0,Basin!K1605,IF(B1576=\"\",\"\",Basin!L1605)))","v":""},{"$f":"IF(Basin_CountA=0,\"\",Basin!N1605)","v":""},null,"","","","","","","","","","","","","","","","","","","","","","","","","","","","","","","","","","","","","","","","","","","","","","","","","","","","","","","","","","",""]
[null,{"$f":"IF(Basin_CountA=0,\"\",IF(User_Stage_Area=0,Basin!G1614,Basin!H1614))","v":""},{"$f":"IF(Basin_CountA=0,\"\",IF(User_Stage_Area=0,Basin!K1614,IF(B1585=\"\",\"\",Basin!L1614)))","v":""},{"$f":"IF(Basin_CountA=0,\"\",Basin!N1614)","v":""},null,"","","","","","","","","","","","","","","","","","","","","","","","","","","","","","","","","","","","","","","","","","","","","","","","","","","","","","","","","","",""]
[null,{"$f":"IF(Basin_CountA=0,\"\",IF(User_Stage_Area=0,Basin!G1623,Basin!H1623))","v":""},{"$f":"IF(Basin_CountA=0,\"\",IF(User_Stage_Area=0,Basin!K1623,IF(B1594=\"\",\"\",Basin!L1623)))","v":""},{"$f":"IF(Basin_CountA=0,\"\",Basin!N1623)","v":""},null,"","","","","","","","","","","","","","","","","","","","","","","","","","","","","","","","","","","","","","","","","","","","","","","","","","","","","","","","","","",""]
[null,{"$f":"IF(Basin_CountA=0,\"\",IF(User_Stage_Area=0,Basin!G1632,Basin!H1632))","v":""},{"$f":"IF(Basin_CountA=0,\"\",IF(User_Stage_Area=0,Basin!K1632,IF(B1603=\"\",\"\",Basin!L1632)))","v":""},{"$f":"IF(Basin_CountA=0,\"\",Basin!N1632)","v":""},null,"","","","","","","","","","","","","","","","","","","","","","","","","","","","","","","","","","","","","","","","","","","","","","","","","","","","","","","","","","",""]
[null,{"$f":"IF(Basin_CountA=0,\"\",IF(User_Stage_Area=0,Basin!G1641,Basin!H1641))","v":""},{"$f":"IF(Basin_CountA=0,\"\",IF(User_Stage_Area=0,Basin!K1641,IF(B1612=\"\",\"\",Basin!L1641)))","v":""},{"$f":"IF(Basin_CountA=0,\"\",Basin!N1641)","v":""},null,"","","","","","","","","","","","","","","","","","","","","","","","","","","","","","","","","","","","","","","","","","","","","","","","","","","","","","","","","","",""]
[null,{"$f":"IF(Basin_CountA=0,\"\",IF(User_Stage_Area=0,Basin!G1650,Basin!H1650))","v":""},{"$f":"IF(Basin_CountA=0,\"\",IF(User_Stage_Area=0,Basin!K1650,IF(B1621=\"\",\"\",Basin!L1650)))","v":""},{"$f":"IF(Basin_CountA=0,\"\",Basin!N1650)","v":""},null,"","","","","","","","","","","","","","","","","","","","","","","","","","","","","","","","","","","","","","","","","","","","","","","","","","","","","","","","","","",""]
[null,{"$f":"IF(Basin_CountA=0,\"\",IF(User_Stage_Area=0,Basin!G1659,Basin!H1659))","v":""},{"$f":"IF(Basin_CountA=0,\"\",IF(User_Stage_Area=0,Basin!K1659,IF(B1630=\"\",\"\",Basin!L1659)))","v":""},{"$f":"IF(Basin_CountA=0,\"\",Basin!N1659)","v":""},null,"","","","","","","","","","","","","","","","","","","","","","","","","","","","","","","","","","","","","","","","","","","","","","","","","","","","","","","","","","",""]
[null,{"$f":"IF(Basin_CountA=0,\"\",IF(User_Stage_Area=0,Basin!G1668,Basin!H1668))","v":""},{"$f":"IF(Basin_CountA=0,\"\",IF(User_Stage_Area=0,Basin!K1668,IF(B1639=\"\",\"\",Basin!L1668)))","v":""},{"$f":"IF(Basin_CountA=0,\"\",Basin!N1668)","v":""},null,"","","","","","","","","","","","","","","","","","","","","","","","","","","","","","","","","","","","","","","","","","","","","","","","","","","","","","","","","","",""]
[null,{"$f":"IF(Basin_CountA=0,\"\",IF(User_Stage_Area=0,Basin!G1669,Basin!H1669))","v":""},{"$f":"IF(Basin_CountA=0,\"\",IF(User_Stage_Area=0,Basin!K1669,IF(B1640=\"\",\"\",Basin!L1669)))","v":""},{"$f":"IF(Basin_CountA=0,\"\",Basin!N1669)","v":""},null,"","","","","","","","","","","","","","","","","","","","","","","","","","","","","","","","","","","","","","","","","","","","","","","","","","","","","","","","","","",""]
[null,{"$f":"IF(Basin_CountA=0,\"\",IF(User_Stage_Area=0,Basin!G1678,Basin!H1678))","v":""},{"$f":"IF(Basin_CountA=0,\"\",IF(User_Stage_Area=0,Basin!K1678,IF(B1649=\"\",\"\",Basin!L1678)))","v":""},{"$f":"IF(Basin_CountA=0,\"\",Basin!N1678)","v":""},null,"","","","","","","","","","","","","","","","","","","","","","","","","","","","","","","","","","","","","","","","","","","","","","","","","","","","","","","","","","",""]
[null,{"$f":"IF(Basin_CountA=0,\"\",IF(User_Stage_Area=0,Basin!G1687,Basin!H1687))","v":""},{"$f":"IF(Basin_CountA=0,\"\",IF(User_Stage_Area=0,Basin!K1687,IF(B1658=\"\",\"\",Basin!L1687)))","v":""},{"$f":"IF(Basin_CountA=0,\"\",Basin!N1687)","v":""},null,"","","","","","","","","","","","","","","","","","","","","","","","","","","","","","","","","","","","","","","","","","","","","","","","","","","","","","","","","","",""]
[null,{"$f":"IF(Basin_CountA=0,\"\",IF(User_Stage_Area=0,Basin!G1696,Basin!H1696))","v":""},{"$f":"IF(Basin_CountA=0,\"\",IF(User_Stage_Area=0,Basin!K1696,IF(B1667=\"\",\"\",Basin!L1696)))","v":""},{"$f":"IF(Basin_CountA=0,\"\",Basin!N1696)","v":""},null,"","","","","","","","","","","","","","","","","","","","","","","","","","","","","","","","","","","","","","","",{"$f":"IF($B1667=\"\",\"\",IF(OR(Zone1_Outlet_Type=4,Zone2_Outlet_Type=4),IF($B1667<WQ_Plate_Invert,0,($B1667-WQ_Plate_Invert)*AS$86),\"\"))","v":""},"","","","","","","","","","","","","","","","","","",""]
[null,{"$f":"IF(Basin_CountA=0,\"\",IF(User_Stage_Area=0,Basin!G1705,Basin!H1705))","v":""},{"$f":"IF(Basin_CountA=0,\"\",IF(User_Stage_Area=0,Basin!K1705,IF(B1676=\"\",\"\",Basin!L1705)))","v":""},{"$f":"IF(Basin_CountA=0,\"\",Basin!N1705)","v":""},null,"","","","","","","","","","","","","","","","","","","","","","","","","","","","","","","","","","","","","","","","","","","","","","","","","","","","","","","","","","",""]
[null,{"$f":"IF(Basin_CountA=0,\"\",IF(User_Stage_Area=0,Basin!G1714,Basin!H1714))","v":""},{"$f":"IF(Basin_CountA=0,\"\",IF(User_Stage_Area=0,Basin!K1714,IF(B1685=\"\",\"\",Basin!L1714)))","v":""},{"$f":"IF(Basin_CountA=0,\"\",Basin!N1714)","v":""},null,"","","","","","","","","","","","","","","","","","","","","","","","","","","","","","","","","","","","","","","","","","","","","","","","","","","","","","","","","","",""]
[null,{"$f":"IF(Basin_CountA=0,\"\",IF(User_Stage_Area=0,Basin!G1723,Basin!H1723))","v":""},{"$f":"IF(Basin_CountA=0,\"\",IF(User_Stage_Area=0,Basin!K1723,IF(B1694=\"\",\"\",Basin!L1723)))","v":""},{"$f":"IF(Basin_CountA=0,\"\",Basin!N1723)","v":""},null,"","","","","","","","","","","","","","","","","","","","","","","","","","","","","","","","","","","","","","","","","","","","","","","","","","","","","","","","","","",""]
[null,{"$f":"IF(Basin_CountA=0,\"\",IF(User_Stage_Area=0,Basin!G1732,Basin!H1732))","v":""},{"$f":"IF(Basin_CountA=0,\"\",IF(User_Stage_Area=0,Basin!K1732,IF(B1703=\"\",\"\",Basin!L1732)))","v":""},{"$f":"IF(Basin_CountA=0,\"\",Basin!N1732)","v":""},null,"","","","","","","","","","","","","","","","","","","","","","","","","","","","","","","","","","","","","","","","","","","","","","","","","","","","","","","","","","",""]
[null,{"$f":"IF(Basin_CountA=0,\"\",IF(User_Stage_Area=0,Basin!G1733,Basin!H1733))","v":""},{"$f":"IF(Basin_CountA=0,\"\",IF(User_Stage_Area=0,Basin!K1733,IF(B1704=\"\",\"\",Basin!L1733)))","v":""},{"$f":"IF(Basin_CountA=0,\"\",Basin!N1733)","v":""},null,"","","","","","","","","","","","","","","","","","","","","","","","","","","","","","","","","","","","","","","","","","","","","","","","","","","","","","","","","","",""]
[null,{"$f":"IF(Basin_CountA=0,\"\",IF(User_Stage_Area=0,Basin!G1742,Basin!H1742))","v":""},{"$f":"IF(Basin_CountA=0,\"\",IF(User_Stage_Area=0,Basin!K1742,IF(B1713=\"\",\"\",Basin!L1742)))","v":""},{"$f":"IF(Basin_CountA=0,\"\",Basin!N1742)","v":""},null,"","","","","","","","","","","","","","","","","","","","","","","","","","","","","","","","","","","","","","","","","","","","","","","","","","","","","","","","","","",""]
[null,{"$f":"IF(Basin_CountA=0,\"\",IF(User_Stage_Area=0,Basin!G1751,Basin!H1751))","v":""},{"$f":"IF(Basin_CountA=0,\"\",IF(User_Stage_Area=0,Basin!K1751,IF(B1722=\"\",\"\",Basin!L1751)))","v":""},{"$f":"IF(Basin_CountA=0,\"\",Basin!N1751)","v":""},null,"","","","","","","","","","","","","","","","","","","","","","","","","","","","","","","","","","","","","","","","","","","","","","","","","","","","","","","","","","",""]
[null,{"$f":"IF(Basin_CountA=0,\"\",IF(User_Stage_Area=0,Basin!G1760,Basin!H1760))","v":""},{"$f":"IF(Basin_CountA=0,\"\",IF(User_Stage_Area=0,Basin!K1760,IF(B1731=\"\",\"\",Basin!L1760)))","v":""},{"$f":"IF(Basin_CountA=0,\"\",Basin!N1760)","v":""},null,"","","","","","","","","","","","","","","","","","","","","","","","","","","","","","","","","","","","","","","","","","","","","","","","","","","","","","","","","","",""]
[null,{"$f":"IF(Basin_CountA=0,\"\",IF(User_Stage_Area=0,Basin!G1769,Basin!H1769))","v":""},{"$f":"IF(Basin_CountA=0,\"\",IF(User_Stage_Area=0,Basin!K1769,IF(B1740=\"\",\"\",Basin!L1769)))","v":""},{"$f":"IF(Basin_CountA=0,\"\",Basin!N1769)","v":""},null,"","","","","","","","","","","","","","","","","","","","","","","","","","","","","","","","","","","","","","","","","","","","","","","","","","","","","","","","","","",""]
[null,{"$f":"IF(Basin_CountA=0,\"\",IF(User_Stage_Area=0,Basin!G1774,Basin!H1774))","v":""},{"$f":"IF(Basin_CountA=0,\"\",IF(User_Stage_Area=0,Basin!K1774,IF(B1745=\"\",\"\",Basin!L1774)))","v":""},{"$f":"IF(Basin_CountA=0,\"\",Basin!N1774)","v":""},null,"","","","","","","","","","","","","","","","","","","","","","","","","","","","","","","","","","","","","","","","","","","","","","","","","","","","","","","","","","",""]
[null,{"$f":"IF(Basin_CountA=0,\"\",IF(User_Stage_Area=0,Basin!G1786,Basin!H1786))","v":""},{"$f":"IF(Basin_CountA=0,\"\",IF(User_Stage_Area=0,Basin!K1786,IF(B1757=\"\",\"\",Basin!L1786)))","v":""},{"$f":"IF(Basin_CountA=0,\"\",Basin!N1786)","v":""},null,"","","","","","","","","","","","","","","","","","","","","","","","","","","","","","","","","","","","","","","","","","","","","","","","","","","","","","","","","","",""]
[null,{"$f":"IF(Basin_CountA=0,\"\",IF(User_Stage_Area=0,Basin!G1795,Basin!H1795))","v":""},{"$f":"IF(Basin_CountA=0,\"\",IF(User_Stage_Area=0,Basin!K1795,IF(B1766=\"\",\"\",Basin!L1795)))","v":""},{"$f":"IF(Basin_CountA=0,\"\",Basin!N1795)","v":""},null,"","","","","","","","","","","","","","","","","","","","","","","","","","","","","","","","","","","","","","","","","","","","","","","","","","","","","","","","","","",""]
[null,{"$f":"IF(Basin_CountA=0,\"\",IF(User_Stage_Area=0,Basin!G1796,Basin!H1796))","v":""},{"$f":"IF(Basin_CountA=0,\"\",IF(User_Stage_Area=0,Basin!K1796,IF(B1767=\"\",\"\",Basin!L1796)))","v":""},{"$f":"IF(Basin_CountA=0,\"\",Basin!N1796)","v":""},null,"","","","","","","","","","","","","","","","","","","","","","","","","","","","","","","","","","","","","","","",{"$f":"IF($B1767=\"\",\"\",IF(OR(Zone1_Outlet_Type=4,Zone2_Outlet_Type=4),IF($B1767<WQ_Plate_Invert,0,($B1767-WQ_Plate_Invert)*AS$86),\"\"))","v":""},"","","","","","","","","","","","","","","","","","",""]
[null,{"$f":"IF(Basin_CountA=0,\"\",IF(User_Stage_Area=0,Basin!G1805,Basin!H1805))","v":""},{"$f":"IF(Basin_CountA=0,\"\",IF(User_Stage_Area=0,Basin!K1805,IF(B1776=\"\",\"\",Basin!L1805)))","v":""},{"$f":"IF(Basin_CountA=0,\"\",Basin!N1805)","v":""},null,"","","","","","","","","","","","","","","","","","","","","","","","","","","","","","","","","","","","","","","","","","","","","","","","","","","","","","","","","","",""]
[null,{"$f":"IF(Basin_CountA=0,\"\",IF(User_Stage_Area=0,Basin!G1814,Basin!H1814))","v":""},{"$f":"IF(Basin_CountA=0,\"\",IF(User_Stage_Area=0,Basin!K1814,IF(B1785=\"\",\"\",Basin!L1814)))","v":""},{"$f":"IF(Basin_CountA=0,\"\",Basin!N1814)","v":""},null,"","","","","","","","","","","","","","","","","","","","","","","","","","","","","","","","","","","","","","","","","","","","","","","","","","","","","","","","","","",""]
[null,{"$f":"IF(Basin_CountA=0,\"\",IF(User_Stage_Area=0,Basin!G1823,Basin!H1823))","v":""},{"$f":"IF(Basin_CountA=0,\"\",IF(User_Stage_Area=0,Basin!K1823,IF(B1794=\"\",\"\",Basin!L1823)))","v":""},{"$f":"IF(Basin_CountA=0,\"\",Basin!N1823)","v":""},null,"","","","","","","","","","","","","","","","","","","","","","","","","","","","","","","","","","","","","","","","","","","","","","","","","","","","","","","","","","",""]
[null,{"$f":"IF(Basin_CountA=0,\"\",IF(User_Stage_Area=0,Basin!G1832,Basin!H1832))","v":""},{"$f":"IF(Basin_CountA=0,\"\",IF(User_Stage_Area=0,Basin!K1832,IF(B1803=\"\",\"\",Basin!L1832)))","v":""},{"$f":"IF(Basin_CountA=0,\"\",Basin!N1832)","v":""},null,"","","","","","","","","","","","","","","","","","","","","","","","","","","","","","","","","","","","","","","","","","","","","","","","","","","","","","","","","","",""]
[null,{"$f":"IF(Basin_CountA=0,\"\",IF(User_Stage_Area=0,Basin!G1841,Basin!H1841))","v":""},{"$f":"IF(Basin_CountA=0,\"\",IF(User_Stage_Area=0,Basin!K1841,IF(B1812=\"\",\"\",Basin!L1841)))","v":""},{"$f":"IF(Basin_CountA=0,\"\",Basin!N1841)","v":""},null,"","","","","","","","","","","","","","","","","","","","","","","","","","","","","","","","","","","","","","","","","","","","","","","","","","","","","","","","","","",""]
[null,{"$f":"IF(Basin_CountA=0,\"\",IF(User_Stage_Area=0,Basin!G1850,Basin!H1850))","v":""},{"$f":"IF(Basin_CountA=0,\"\",IF(User_Stage_Area=0,Basin!K1850,IF(B1821=\"\",\"\",Basin!L1850)))","v":""},{"$f":"IF(Basin_CountA=0,\"\",Basin!N1850)","v":""},null,"","","","","","","","","","","","","","","","","","","","","","","","","","","","","","","","","","","","","","","","","","","","","","","","","","","","","","","","","","",""]
[null,{"$f":"IF(Basin_CountA=0,\"\",IF(User_Stage_Area=0,Basin!G1859,Basin!H1859))","v":""},{"$f":"IF(Basin_CountA=0,\"\",IF(User_Stage_Area=0,Basin!K1859,IF(B1830=\"\",\"\",Basin!L1859)))","v":""},{"$f":"IF(Basin_CountA=0,\"\",Basin!N1859)","v":""},null,"","","","","","","","","","","","","","","","","","","","","","","","","","","","","","","","","","","","","","","","","","","","","","","","","","","","","","","","","","",""]
[null,{"$f":"IF(Basin_CountA=0,\"\",IF(User_Stage_Area=0,Basin!G1860,Basin!H1860))","v":""},{"$f":"IF(Basin_CountA=0,\"\",IF(User_Stage_Area=0,Basin!K1860,IF(B1831=\"\",\"\",Basin!L1860)))","v":""},{"$f":"IF(Basin_CountA=0,\"\",Basin!N1860)","v":""},null,"","","","","","","","","","","","","","","","","","","","","","","","","","","","","","","","","","","","","","","","","","","","","","","","","","","","","","","","","","",""]
[null,{"$f":"IF(Basin_CountA=0,\"\",IF(User_Stage_Area=0,Basin!G1869,Basin!H1869))","v":""},{"$f":"IF(Basin_CountA=0,\"\",IF(User_Stage_Area=0,Basin!K1869,IF(B1840=\"\",\"\",Basin!L1869)))","v":""},{"$f":"IF(Basin_CountA=0,\"\",Basin!N1869)","v":""},null,"","","","","","","","","","","","","","","","","","","","","","","","","","","","","","","","","","","","","","","","","","","","","","","","","","","","","","","","","","",""]
[null,{"$f":"IF(Basin_CountA=0,\"\",IF(User_Stage_Area=0,Basin!G1878,Basin!H1878))","v":""},{"$f":"IF(Basin_CountA=0,\"\",IF(User_Stage_Area=0,Basin!K1878,IF(B1849=\"\",\"\",Basin!L1878)))","v":""},{"$f":"IF(Basin_CountA=0,\"\",Basin!N1878)","v":""},null,"","","","","","","","","","","","","","","","","","","","","","","","","","","","","","","","","","","","","","","","","","","","","","","","","","","","","","","","","","",""]
[null,{"$f":"IF(Basin_CountA=0,\"\",IF(User_Stage_Area=0,Basin!G1887,Basin!H1887))","v":""},{"$f":"IF(Basin_CountA=0,\"\",IF(User_Stage_Area=0,Basin!K1887,IF(B1858=\"\",\"\",Basin!L1887)))","v":""},{"$f":"IF(Basin_CountA=0,\"\",Basin!N1887)","v":""},null,"","","","","","","","","","","","","","","","","","","","","","","","","","","","","","","","","","","","","","","","","","","","","","","","","","","","","","","","","","",""]
[null,{"$f":"IF(Basin_CountA=0,\"\",IF(User_Stage_Area=0,Basin!G1896,Basin!H1896))","v":""},{"$f":"IF(Basin_CountA=0,\"\",IF(User_Stage_Area=0,Basin!K1896,IF(B1867=\"\",\"\",Basin!L1896)))","v":""},{"$f":"IF(Basin_CountA=0,\"\",Basin!N1896)","v":""},null,"","","","","","","","","","","","","","","","","","","","","","","","","","","","","","","","","","","","","","","",{"$f":"IF($B1867=\"\",\"\",IF(OR(Zone1_Outlet_Type=4,Zone2_Outlet_Type=4),IF($B1867<WQ_Plate_Invert,0,($B1867-WQ_Plate_Invert)*AS$86),\"\"))","v":""},"","","","","","","","","","","","","","","","","","",""]
[null,{"$f":"IF(Basin_CountA=0,\"\",IF(User_Stage_Area=0,Basin!G1905,Basin!H1905))","v":""},{"$f":"IF(Basin_CountA=0,\"\",IF(User_Stage_Area=0,Basin!K1905,IF(B1876=\"\",\"\",Basin!L1905)))","v":""},{"$f":"IF(Basin_CountA=0,\"\",Basin!N1905)","v":""},null,"","","","","","","","","","","","","","","","","","","","","","","","","","","","","","","","","","","","","","","","","","","","","","","","","","","","","","","","","","",""]
[null,{"$f":"IF(Basin_CountA=0,\"\",IF(User_Stage_Area=0,Basin!G1914,Basin!H1914))","v":""},{"$f":"IF(Basin_CountA=0,\"\",IF(User_Stage_Area=0,Basin!K1914,IF(B1885=\"\",\"\",Basin!L1914)))","v":""},{"$f":"IF(Basin_CountA=0,\"\",Basin!N1914)","v":""},null,"","","","","","","","","","","","","","","","","","","","","","","","","","","","","","","","","","","","","","","","","","","","","","","","","","","","","","","","","","",""]
[null,{"$f":"IF(Basin_CountA=0,\"\",IF(User_Stage_Area=0,Basin!G1923,Basin!H1923))","v":""},{"$f":"IF(Basin_CountA=0,\"\",IF(User_Stage_Area=0,Basin!K1923,IF(B1894=\"\",\"\",Basin!L1923)))","v":""},{"$f":"IF(Basin_CountA=0,\"\",Basin!N1923)","v":""},null,"","","","","","","","","","","","","","","","","","","","","","","","","","","","","","","","","","","","","","","","","","","","","","","","","","","","","","","","","","",""]
[null,{"$f":"IF(Basin_CountA=0,\"\",IF(User_Stage_Area=0,Basin!G1924,Basin!H1924))","v":""},{"$f":"IF(Basin_CountA=0,\"\",IF(User_Stage_Area=0,Basin!K1924,IF(B1895=\"\",\"\",Basin!L1924)))","v":""},{"$f":"IF(Basin_CountA=0,\"\",Basin!N1924)","v":""},null,"","","","","","","","","","","","","","","","","","","","","","","","","","","","","","","","","","","","","","","","","","","","","","","","","","","","","","","","","","",""]
[null,{"$f":"IF(Basin_CountA=0,\"\",IF(User_Stage_Area=0,Basin!G1933,Basin!H1933))","v":""},{"$f":"IF(Basin_CountA=0,\"\",IF(User_Stage_Area=0,Basin!K1933,IF(B1904=\"\",\"\",Basin!L1933)))","v":""},{"$f":"IF(Basin_CountA=0,\"\",Basin!N1933)","v":""},null,"","","","","","","","","","","","","","","","","","","","","","","","","","","","","","","","","","","","","","","","","","","","","","","","","","","","","","","","","","",""]
[null,{"$f":"IF(Basin_CountA=0,\"\",IF(User_Stage_Area=0,Basin!G1942,Basin!H1942))","v":""},{"$f":"IF(Basin_CountA=0,\"\",IF(User_Stage_Area=0,Basin!K1942,IF(B1913=\"\",\"\",Basin!L1942)))","v":""},{"$f":"IF(Basin_CountA=0,\"\",Basin!N1942)","v":""},null,"","","","","","","","","","","","","","","","","","","","","","","","","","","","","","","","","","","","","","","","","","","","","","","","","","","","","","","","","","",""]
[null,{"$f":"IF(Basin_CountA=0,\"\",IF(User_Stage_Area=0,Basin!G1951,Basin!H1951))","v":""},{"$f":"IF(Basin_CountA=0,\"\",IF(User_Stage_Area=0,Basin!K1951,IF(B1922=\"\",\"\",Basin!L1951)))","v":""},{"$f":"IF(Basin_CountA=0,\"\",Basin!N1951)","v":""},null,"","","","","","","","","","","","","","","","","","","","","","","","","","","","","","","","","","","","","","","","","","","","","","","","","","","","","","","","","","",""]
[null,{"$f":"IF(Basin_CountA=0,\"\",IF(User_Stage_Area=0,Basin!G1960,Basin!H1960))","v":""},{"$f":"IF(Basin_CountA=0,\"\",IF(User_Stage_Area=0,Basin!K1960,IF(B1931=\"\",\"\",Basin!L1960)))","v":""},{"$f":"IF(Basin_CountA=0,\"\",Basin!N1960)","v":""},null,"","","","","","","","","","","","","","","","","","","","","","","","","","","","","","","","","","","","","","","","","","","","","","","","","","","","","","","","","","",""]
[null,{"$f":"IF(Basin_CountA=0,\"\",IF(User_Stage_Area=0,Basin!G1969,Basin!H1969))","v":""},{"$f":"IF(Basin_CountA=0,\"\",IF(User_Stage_Area=0,Basin!K1969,IF(B1940=\"\",\"\",Basin!L1969)))","v":""},{"$f":"IF(Basin_CountA=0,\"\",Basin!N1969)","v":""},null,"","","","","","","","","","","","","","","","","","","","","","","","","","","","","","","","","","","","","","","","","","","","","","","","","","","","","","","","","","",""]
[null,{"$f":"IF(Basin_CountA=0,\"\",IF(User_Stage_Area=0,Basin!G1978,Basin!H1978))","v":""},{"$f":"IF(Basin_CountA=0,\"\",IF(User_Stage_Area=0,Basin!K1978,IF(B1949=\"\",\"\",Basin!L1978)))","v":""},{"$f":"IF(Basin_CountA=0,\"\",Basin!N1978)","v":""},null,"","","","","","","","","","","","","","","","","","","","","","","","","","","","","","","","","","","","","","","","","","","","","","","","","","","","","","","","","","",""]
[null,{"$f":"IF(Basin_CountA=0,\"\",IF(User_Stage_Area=0,Basin!G1987,Basin!H1987))","v":""},{"$f":"IF(Basin_CountA=0,\"\",IF(User_Stage_Area=0,Basin!K1987,IF(B1958=\"\",\"\",Basin!L1987)))","v":""},{"$f":"IF(Basin_CountA=0,\"\",Basin!N1987)","v":""},null,"","","","","","","","","","","","","","","","","","","","","","","","","","","","","","","","","","","","","","","","","","","","","","","","","","","","","","","","","","",""]
[null,{"$f":"IF(Basin_CountA=0,\"\",IF(User_Stage_Area=0,Basin!G1988,Basin!H1988))","v":""},{"$f":"IF(Basin_CountA=0,\"\",IF(User_Stage_Area=0,Basin!K1988,IF(B1959=\"\",\"\",Basin!L1988)))","v":""},{"$f":"IF(Basin_CountA=0,\"\",Basin!N1988)","v":""},null,"","","","","","","","","","","","","","","","","","","","","","","","","","","","","","","","","","","","","","","","","","","","","","","","","","","","","","","","","","",""]
[null,{"$f":"IF(Basin_CountA=0,\"\",IF(User_Stage_Area=0,Basin!G1997,Basin!H1997))","v":""},{"$f":"IF(Basin_CountA=0,\"\",IF(User_Stage_Area=0,Basin!K1997,IF(B1968=\"\",\"\",Basin!L1997)))","v":""},{"$f":"IF(Basin_CountA=0,\"\",Basin!N1997)","v":""},null,"","","","","","","","","","","","","","","","","","","","","","","","","","","","","","","","","","","","","","","","","","","","","","","","","","","","","","","","","","",""]
[null,{"$f":"IF(Basin_CountA=0,\"\",IF(User_Stage_Area=0,Basin!G2006,Basin!H2006))","v":""},{"$f":"IF(Basin_CountA=0,\"\",IF(User_Stage_Area=0,Basin!K2006,IF(B1977=\"\",\"\",Basin!L2006)))","v":""},{"$f":"IF(Basin_CountA=0,\"\",Basin!N2006)","v":""},null,"","","","","","","","","","","","","","","","","","","","","","","","","","","","","","","","","","","","","","","","","","","","","","","","","","","","","","","","","","",""]
[null,{"$f":"IF(Basin_CountA=0,\"\",IF(User_Stage_Area=0,Basin!G2015,Basin!H2015))","v":""},{"$f":"IF(Basin_CountA=0,\"\",IF(User_Stage_Area=0,Basin!K2015,IF(B1986=\"\",\"\",Basin!L2015)))","v":""},{"$f":"IF(Basin_CountA=0,\"\",Basin!N2015)","v":""},null,"","","","","","","","","","","","","","","","","","","","","","","","","","","","","","","","","","","","","","","","","","","","","","","","","","","","","","","","","","",""]
[null,{"$f":"IF(Basin_CountA=0,\"\",IF(User_Stage_Area=0,Basin!G2023,Basin!H2023))","v":""},{"$f":"IF(Basin_CountA=0,\"\",IF(User_Stage_Area=0,Basin!K2023,IF(B1994=\"\",\"\",Basin!L2023)))","v":""},{"$f":"IF(Basin_CountA=0,\"\",Basin!N2023)","v":""},null,"","","","","","","","","","","","","","","","","","","","","","","","","","","","","","","","","","","","","","","","","","","","","","","","","","","","","","","","","","",""]
[null,{"$f":"IF(Basin_CountA=0,\"\",IF(User_Stage_Area=0,Basin!G2032,Basin!H2032))","v":""},{"$f":"IF(Basin_CountA=0,\"\",IF(User_Stage_Area=0,Basin!K2032,IF(B2003=\"\",\"\",Basin!L2032)))","v":""},{"$f":"IF(Basin_CountA=0,\"\",Basin!N2032)","v":""},null,"","","","","","","","","","","","","","","","","","","","","","","","","","","","","","","","","","","","","","","","","","","","","","","","","","","","","","","","","","",""]
[null,{"$f":"IF(Basin_CountA=0,\"\",IF(User_Stage_Area=0,Basin!G2041,Basin!H2041))","v":""},{"$f":"IF(Basin_CountA=0,\"\",IF(User_Stage_Area=0,Basin!K2041,IF(B2012=\"\",\"\",Basin!L2041)))","v":""},{"$f":"IF(Basin_CountA=0,\"\",Basin!N2041)","v":""},null,"","","","","","","","","","","","","","","","","","","","","","","","","","","","","","","","","","","","","","","","","","","","","","","","","","","","","","","","","","",""]
[null,{"$f":"IF(Basin_CountA=0,\"\",IF(User_Stage_Area=0,Basin!G2050,Basin!H2050))","v":""},{"$f":"IF(Basin_CountA=0,\"\",IF(User_Stage_Area=0,Basin!K2050,IF(B2021=\"\",\"\",Basin!L2050)))","v":""},{"$f":"IF(Basin_CountA=0,\"\",Basin!N2050)","v":""},null,"","","","","","","","","","","","","","","","","","","","","","","","","","","","","","","","","","","","","","","","","","","","","","","","","","","","","","","","","","",""]
[null,{"$f":"IF(Basin_CountA=0,\"\",IF(User_Stage_Area=0,Basin!G2051,Basin!H2051))","v":""},{"$f":"IF(Basin_CountA=0,\"\",IF(User_Stage_Area=0,Basin!K2051,IF(B2022=\"\",\"\",Basin!L2051)))","v":""},{"$f":"IF(Basin_CountA=0,\"\",Basin!N2051)","v":""},null,"","","","","","","","","","","","","","","","","","","","","","","","","","","","","","","","","","","","","","","","","","","","","","","","","","","","","","","","","","",""]
[null,{"$f":"IF(Basin_CountA=0,\"\",IF(User_Stage_Area=0,Basin!G2060,Basin!H2060))","v":""},{"$f":"IF(Basin_CountA=0,\"\",IF(User_Stage_Area=0,Basin!K2060,IF(B2031=\"\",\"\",Basin!L2060)))","v":""},{"$f":"IF(Basin_CountA=0,\"\",Basin!N2060)","v":""},null,"","","","","","","","","","","","","","","","","","","","","","","","","","","","","","","","","","","","","","","","","","","","","","","","","","","","","","","","","","",""]
[null,{"$f":"IF(Basin_CountA=0,\"\",IF(User_Stage_Area=0,Basin!G2069,Basin!H2069))","v":""},{"$f":"IF(Basin_CountA=0,\"\",IF(User_Stage_Area=0,Basin!K2069,IF(B2040=\"\",\"\",Basin!L2069)))","v":""},{"$f":"IF(Basin_CountA=0,\"\",Basin!N2069)","v":""},null,"","","","","","","","","","","","","","","","","","","","","","","","","","","","","","","","","","","","","","","","","","","","","","","","","","","","","","","","","","",""]
[null,{"$f":"IF(Basin_CountA=0,\"\",IF(User_Stage_Area=0,Basin!G2078,Basin!H2078))","v":""},{"$f":"IF(Basin_CountA=0,\"\",IF(User_Stage_Area=0,Basin!K2078,IF(B2049=\"\",\"\",Basin!L2078)))","v":""},{"$f":"IF(Basin_CountA=0,\"\",Basin!N2078)","v":""},null,"","","","","","","","","","","","","","","","","","","","","","","","","","","","","","","","","","","","","","","","","","","","","","","","","","","","","","","","","","",""]
[null,{"$f":"IF(Basin_CountA=0,\"\",IF(User_Stage_Area=0,Basin!G2087,Basin!H2087))","v":""},{"$f":"IF(Basin_CountA=0,\"\",IF(User_Stage_Area=0,Basin!K2087,IF(B2058=\"\",\"\",Basin!L2087)))","v":""},{"$f":"IF(Basin_CountA=0,\"\",Basin!N2087)","v":""},null,"","","","","","","","","","","","","","","","","","","","","","","","","","","","","","","","","","","","","","","","","","","","","","","","","","","","","","","","","","",""]
[null,{"$f":"IF(Basin_CountA=0,\"\",IF(User_Stage_Area=0,Basin!G2096,Basin!H2096))","v":""},{"$f":"IF(Basin_CountA=0,\"\",IF(User_Stage_Area=0,Basin!K2096,IF(B2067=\"\",\"\",Basin!L2096)))","v":""},{"$f":"IF(Basin_CountA=0,\"\",Basin!N2096)","v":""},null,"","","","","","","","","","","","","","","","","","","","","","","","","","","","","","","","","","","","","","","",{"$f":"IF($B2067=\"\",\"\",IF(OR(Zone1_Outlet_Type=4,Zone2_Outlet_Type=4),IF($B2067<WQ_Plate_Invert,0,($B2067-WQ_Plate_Invert)*AS$86),\"\"))","v":""},"","","","","","","","","","","","","","","","","","",""]
[null,{"$f":"IF(Basin_CountA=0,\"\",IF(User_Stage_Area=0,Basin!G2105,Basin!H2105))","v":""},{"$f":"IF(Basin_CountA=0,\"\",IF(User_Stage_Area=0,Basin!K2105,IF(B2076=\"\",\"\",Basin!L2105)))","v":""},{"$f":"IF(Basin_CountA=0,\"\",Basin!N2105)","v":""},null,"","","","","","","","","","","","","","","","","","","","","","","","","","","","","","","","","","","","","","","","","","","","","","","","","","","","","","","","","","",""]
[null,{"$f":"IF(Basin_CountA=0,\"\",IF(User_Stage_Area=0,Basin!G2114,Basin!H2114))","v":""},{"$f":"IF(Basin_CountA=0,\"\",IF(User_Stage_Area=0,Basin!K2114,IF(B2085=\"\",\"\",Basin!L2114)))","v":""},{"$f":"IF(Basin_CountA=0,\"\",Basin!N2114)","v":""},null,"","","","","","","","","","","","","","","","","","","","","","","","","","","","","","","","","","","","","","","","","","","","","","","","","","","","","","","","","","",""]
[null,{"$f":"IF(Basin_CountA=0,\"\",IF(User_Stage_Area=0,Basin!G2115,Basin!H2115))","v":""},{"$f":"IF(Basin_CountA=0,\"\",IF(User_Stage_Area=0,Basin!K2115,IF(B2086=\"\",\"\",Basin!L2115)))","v":""},{"$f":"IF(Basin_CountA=0,\"\",Basin!N2115)","v":""},null,"","","","","","","","","","","","","","","","","","","","","","","","","","","","","","","","","","","","","","","","","","","","","","","","","","","","","","","","","","",""]
[null,{"$f":"IF(Basin_CountA=0,\"\",IF(User_Stage_Area=0,Basin!G2124,Basin!H2124))","v":""},{"$f":"IF(Basin_CountA=0,\"\",IF(User_Stage_Area=0,Basin!K2124,IF(B2095=\"\",\"\",Basin!L2124)))","v":""},{"$f":"IF(Basin_CountA=0,\"\",Basin!N2124)","v":""},null,"","","","","","","","","","","","","","","","","","","","","","","","","","","","","","","","","","","","","","","","","","","","","","","","","","","","","","","","","","",""]
[null,{"$f":"IF(Basin_CountA=0,\"\",IF(User_Stage_Area=0,Basin!G2133,Basin!H2133))","v":""},{"$f":"IF(Basin_CountA=0,\"\",IF(User_Stage_Area=0,Basin!K2133,IF(B2104=\"\",\"\",Basin!L2133)))","v":""},{"$f":"IF(Basin_CountA=0,\"\",Basin!N2133)","v":""},null,"","","","","","","","","","","","","","","","","","","","","","","","","","","","","","","","","","","","","","","","","","","","","","","","","","","","","","","","","","",""]
[null,{"$f":"IF(Basin_CountA=0,\"\",IF(User_Stage_Area=0,Basin!G2142,Basin!H2142))","v":""},{"$f":"IF(Basin_CountA=0,\"\",IF(User_Stage_Area=0,Basin!K2142,IF(B2113=\"\",\"\",Basin!L2142)))","v":""},{"$f":"IF(Basin_CountA=0,\"\",Basin!N2142)","v":""},null,"","","","","","","","","","","","","","","","","","","","","","","","","","","","","","","","","","","","","","","","","","","","","","","","","","","","","","","","","","",""]
[null,{"$f":"IF(Basin_CountA=0,\"\",IF(User_Stage_Area=0,Basin!G2151,Basin!H2151))","v":""},{"$f":"IF(Basin_CountA=0,\"\",IF(User_Stage_Area=0,Basin!K2151,IF(B2122=\"\",\"\",Basin!L2151)))","v":""},{"$f":"IF(Basin_CountA=0,\"\",Basin!N2151)","v":""},null,"","","","","","","","","","","","","","","","","","","","","","","","","","","","","","","","","","","","","","","","","","","","","","","","","","","","","","","","","","",""]
[null,{"$f":"IF(Basin_CountA=0,\"\",IF(User_Stage_Area=0,Basin!G2160,Basin!H2160))","v":""},{"$f":"IF(Basin_CountA=0,\"\",IF(User_Stage_Area=0,Basin!K2160,IF(B2131=\"\",\"\",Basin!L2160)))","v":""},{"$f":"IF(Basin_CountA=0,\"\",Basin!N2160)","v":""},null,"","","","","","","","","","","","","","","","","","","","","","","","","","","","","","","","","","","","","","","","","","","","","","","","","","","","","","","","","","",""]
[null,{"$f":"IF(Basin_CountA=0,\"\",IF(User_Stage_Area=0,Basin!G2169,Basin!H2169))","v":""},{"$f":"IF(Basin_CountA=0,\"\",IF(User_Stage_Area=0,Basin!K2169,IF(B2140=\"\",\"\",Basin!L2169)))","v":""},{"$f":"IF(Basin_CountA=0,\"\",Basin!N2169)","v":""},null,"","","","","","","","","","","","","","","","","","","","","","","","","","","","","","","","","","","","","","","","","","","","","","","","","","","","","","","","","","",""]
[null,{"$f":"IF(Basin_CountA=0,\"\",IF(User_Stage_Area=0,Basin!G2178,Basin!H2178))","v":""},{"$f":"IF(Basin_CountA=0,\"\",IF(User_Stage_Area=0,Basin!K2178,IF(B2149=\"\",\"\",Basin!L2178)))","v":""},{"$f":"IF(Basin_CountA=0,\"\",Basin!N2178)","v":""},null,"","","","","","","","","","","","","","","","","","","","","","","","","","","","","","","","","","","","","","","","","","","","","","","","","","","","","","","","","","",""]
[null,{"$f":"IF(Basin_CountA=0,\"\",IF(User_Stage_Area=0,Basin!G2179,Basin!H2179))","v":""},{"$f":"IF(Basin_CountA=0,\"\",IF(User_Stage_Area=0,Basin!K2179,IF(B2150=\"\",\"\",Basin!L2179)))","v":""},{"$f":"IF(Basin_CountA=0,\"\",Basin!N2179)","v":""},null,"","","","","","","","","","","","","","","","","","","","","","","","","","","","","","","","","","","","","","","","","","","","","","","","","","","","","","","","","","",""]
[null,{"$f":"IF(Basin_CountA=0,\"\",IF(User_Stage_Area=0,Basin!G2188,Basin!H2188))","v":""},{"$f":"IF(Basin_CountA=0,\"\",IF(User_Stage_Area=0,Basin!K2188,IF(B2159=\"\",\"\",Basin!L2188)))","v":""},{"$f":"IF(Basin_CountA=0,\"\",Basin!N2188)","v":""},null,"","","","","","","","","","","","","","","","","","","","","","","","","","","","","","","","","","","","","","","","","","","","","","","","","","","","","","","","","","",""]
[null,{"$f":"IF(Basin_CountA=0,\"\",IF(User_Stage_Area=0,Basin!G2197,Basin!H2197))","v":""},{"$f":"IF(Basin_CountA=0,\"\",IF(User_Stage_Area=0,Basin!K2197,IF(B2168=\"\",\"\",Basin!L2197)))","v":""},{"$f":"IF(Basin_CountA=0,\"\",Basin!N2197)","v":""},null,"","","","","","","","","","","","","","","","","","","","","","","","","","","","","","","","","","","","","","","","","","","","","","","","","","","","","","","","","","",""]
[null,{"$f":"IF(Basin_CountA=0,\"\",IF(User_Stage_Area=0,Basin!G2206,Basin!H2206))","v":""},{"$f":"IF(Basin_CountA=0,\"\",IF(User_Stage_Area=0,Basin!K2206,IF(B2177=\"\",\"\",Basin!L2206)))","v":""},{"$f":"IF(Basin_CountA=0,\"\",Basin!N2206)","v":""},null,"","","","","","","","","","","","","","","","","","","","","","","","","","","","","","","","","","","","","","","","","","","","","","","","","","","","","","","","","","",""]
[null,{"$f":"IF(Basin_CountA=0,\"\",IF(User_Stage_Area=0,Basin!G2215,Basin!H2215))","v":""},{"$f":"IF(Basin_CountA=0,\"\",IF(User_Stage_Area=0,Basin!K2215,IF(B2186=\"\",\"\",Basin!L2215)))","v":""},{"$f":"IF(Basin_CountA=0,\"\",Basin!N2215)","v":""},null,"","","","","","","","","","","","","","","","","","","","","","","","","","","","","","","","","","","","","","","","","","","","","","","","","","","","","","","","","","",""]
[null,{"$f":"IF(Basin_CountA=0,\"\",IF(User_Stage_Area=0,Basin!G2224,Basin!H2224))","v":""},{"$f":"IF(Basin_CountA=0,\"\",IF(User_Stage_Area=0,Basin!K2224,IF(B2195=\"\",\"\",Basin!L2224)))","v":""},{"$f":"IF(Basin_CountA=0,\"\",Basin!N2224)","v":""},null,"","","","","","","","","","","","","","","","","","","","","","","","","","","","","","","","","","","","","","","","","","","","","","","","","","","","","","","","","","",""]
[null,{"$f":"IF(Basin_CountA=0,\"\",IF(User_Stage_Area=0,Basin!G2233,Basin!H2233))","v":""},{"$f":"IF(Basin_CountA=0,\"\",IF(User_Stage_Area=0,Basin!K2233,IF(B2204=\"\",\"\",Basin!L2233)))","v":""},{"$f":"IF(Basin_CountA=0,\"\",Basin!N2233)","v":""},null,"","","","","","","","","","","","","","","","","","","","","","","","","","","","","","","","","","","","","","","","","","","","","","","","","","","","","","","","","","",""]
[null,{"$f":"IF(Basin_CountA=0,\"\",IF(User_Stage_Area=0,Basin!G2242,Basin!H2242))","v":""},{"$f":"IF(Basin_CountA=0,\"\",IF(User_Stage_Area=0,Basin!K2242,IF(B2213=\"\",\"\",Basin!L2242)))","v":""},{"$f":"IF(Basin_CountA=0,\"\",Basin!N2242)","v":""},null,"","","","","","","","","","","","","","","","","","","","","","","","","","","","","","","","","","","","","","","","","","","","","","","","","","","","","","","","","","",""]
[null,{"$f":"IF(Basin_CountA=0,\"\",IF(User_Stage_Area=0,Basin!G2243,Basin!H2243))","v":""},{"$f":"IF(Basin_CountA=0,\"\",IF(User_Stage_Area=0,Basin!K2243,IF(B2214=\"\",\"\",Basin!L2243)))","v":""},{"$f":"IF(Basin_CountA=0,\"\",Basin!N2243)","v":""},null,"","","","","","","","","","","","","","","","","","","","","","","","","","","","","","","","","","","","","","","","","","","","","","","","","","","","","","","","","","",""]
[null,{"$f":"IF(Basin_CountA=0,\"\",IF(User_Stage_Area=0,Basin!G2252,Basin!H2252))","v":""},{"$f":"IF(Basin_CountA=0,\"\",IF(User_Stage_Area=0,Basin!K2252,IF(B2223=\"\",\"\",Basin!L2252)))","v":""},{"$f":"IF(Basin_CountA=0,\"\",Basin!N2252)","v":""},null,"","","","","","","","","","","","","","","","","","","","","","","","","","","","","","","","","","","","","","","","","","","","","","","","","","","","","","","","","","",""]
[null,{"$f":"IF(Basin_CountA=0,\"\",IF(User_Stage_Area=0,Basin!G2261,Basin!H2261))","v":""},{"$f":"IF(Basin_CountA=0,\"\",IF(User_Stage_Area=0,Basin!K2261,IF(B2232=\"\",\"\",Basin!L2261)))","v":""},{"$f":"IF(Basin_CountA=0,\"\",Basin!N2261)","v":""},null,"","","","","","","","","","","","","","","","","","","","","","","","","","","","","","","","","","","","","","","","","","","","","","","","","","","","","","","","","","",""]
[null,{"$f":"IF(Basin_CountA=0,\"\",IF(User_Stage_Area=0,Basin!G2272,Basin!H2272))","v":""},{"$f":"IF(Basin_CountA=0,\"\",IF(User_Stage_Area=0,Basin!K2272,IF(B2243=\"\",\"\",Basin!L2272)))","v":""},{"$f":"IF(Basin_CountA=0,\"\",Basin!N2272)","v":""},null,"","","","","","","","","","","","","","","","","","","","","","","","","","","","","","","","","","","","","","","","","","","","","","","","","","","","","","","","","","",""]
[null,{"$f":"IF(Basin_CountA=0,\"\",IF(User_Stage_Area=0,Basin!G2278,Basin!H2278))","v":""},{"$f":"IF(Basin_CountA=0,\"\",IF(User_Stage_Area=0,Basin!K2278,IF(B2249=\"\",\"\",Basin!L2278)))","v":""},{"$f":"IF(Basin_CountA=0,\"\",Basin!N2278)","v":""},null,"","","","","","","","","","","","","","","","","","","","","","","","","","","","","","","","","","","","","","","","","","","","","","","","","","","","","","","","","","",""]
[null,{"$f":"IF(Basin_CountA=0,\"\",IF(User_Stage_Area=0,Basin!G2287,Basin!H2287))","v":""},{"$f":"IF(Basin_CountA=0,\"\",IF(User_Stage_Area=0,Basin!K2287,IF(B2258=\"\",\"\",Basin!L2287)))","v":""},{"$f":"IF(Basin_CountA=0,\"\",Basin!N2287)","v":""},null,"","","","","","","","","","","","","","","","","","","","","","","","","","","","","","","","","","","","","","","","","","","","","","","","","","","","","","","","","","",""]
[null,{"$f":"IF(Basin_CountA=0,\"\",IF(User_Stage_Area=0,Basin!G2296,Basin!H2296))","v":""},{"$f":"IF(Basin_CountA=0,\"\",IF(User_Stage_Area=0,Basin!K2296,IF(B2267=\"\",\"\",Basin!L2296)))","v":""},{"$f":"IF(Basin_CountA=0,\"\",Basin!N2296)","v":""},null,"","","","","","","","","","","","","","","","","","","","","","","","","","","","","","","","","","","","","","","",{"$f":"IF($B2267=\"\",\"\",IF(OR(Zone1_Outlet_Type=4,Zone2_Outlet_Type=4),IF($B2267<WQ_Plate_Invert,0,($B2267-WQ_Plate_Invert)*AS$86),\"\"))","v":""},"","","","","","","","","","","","","","","","","","",""]
[null,{"$f":"IF(Basin_CountA=0,\"\",IF(User_Stage_Area=0,Basin!G2305,Basin!H2305))","v":""},{"$f":"IF(Basin_CountA=0,\"\",IF(User_Stage_Area=0,Basin!K2305,IF(B2276=\"\",\"\",Basin!L2305)))","v":""},{"$f":"IF(Basin_CountA=0,\"\",Basin!N2305)","v":""},null,"","","","","","","","","","","","","","","","","","","","","","","","","","","","","","","","","","","","","","","","","","","","","","","","","","","","","","","","","","",""]
[null,{"$f":"IF(Basin_CountA=0,\"\",IF(User_Stage_Area=0,Basin!G2306,Basin!H2306))","v":""},{"$f":"IF(Basin_CountA=0,\"\",IF(User_Stage_Area=0,Basin!K2306,IF(B2277=\"\",\"\",Basin!L2306)))","v":""},{"$f":"IF(Basin_CountA=0,\"\",Basin!N2306)","v":""},null,"","","","","","","","","","","","","","","","","","","","","","","","","","","","","","","","","","","","","","","","","","","","","","","","","","","","","","","","","","",""]
[null,{"$f":"IF(Basin_CountA=0,\"\",IF(User_Stage_Area=0,Basin!G2315,Basin!H2315))","v":""},{"$f":"IF(Basin_CountA=0,\"\",IF(User_Stage_Area=0,Basin!K2315,IF(B2286=\"\",\"\",Basin!L2315)))","v":""},{"$f":"IF(Basin_CountA=0,\"\",Basin!N2315)","v":""},null,"","","","","","","","","","","","","","","","","","","","","","","","","","","","","","","","","","","","","","","","","","","","","","","","","","","","","","","","","","",""]
[null,{"$f":"IF(Basin_CountA=0,\"\",IF(User_Stage_Area=0,Basin!G2324,Basin!H2324))","v":""},{"$f":"IF(Basin_CountA=0,\"\",IF(User_Stage_Area=0,Basin!K2324,IF(B2295=\"\",\"\",Basin!L2324)))","v":""},{"$f":"IF(Basin_CountA=0,\"\",Basin!N2324)","v":""},null,"","","","","","","","","","","","","","","","","","","","","","","","","","","","","","","","","","","","","","","","","","","","","","","","","","","","","","","","","","",""]
[null,{"$f":"IF(Basin_CountA=0,\"\",IF(User_Stage_Area=0,Basin!G2333,Basin!H2333))","v":""},{"$f":"IF(Basin_CountA=0,\"\",IF(User_Stage_Area=0,Basin!K2333,IF(B2304=\"\",\"\",Basin!L2333)))","v":""},{"$f":"IF(Basin_CountA=0,\"\",Basin!N2333)","v":""},null,"","","","","","","","","","","","","","","","","","","","","","","","","","","","","","","","","","","","","","","","","","","","","","","","","","","","","","","","","","",""]
[null,{"$f":"IF(Basin_CountA=0,\"\",IF(User_Stage_Area=0,Basin!G2342,Basin!H2342))","v":""},{"$f":"IF(Basin_CountA=0,\"\",IF(User_Stage_Area=0,Basin!K2342,IF(B2313=\"\",\"\",Basin!L2342)))","v":""},{"$f":"IF(Basin_CountA=0,\"\",Basin!N2342)","v":""},null,"","","","","","","","","","","","","","","","","","","","","","","","","","","","","","","","","","","","","","","","","","","","","","","","","","","","","","","","","","",""]
[null,{"$f":"IF(Basin_CountA=0,\"\",IF(User_Stage_Area=0,Basin!G2351,Basin!H2351))","v":""},{"$f":"IF(Basin_CountA=0,\"\",IF(User_Stage_Area=0,Basin!K2351,IF(B2322=\"\",\"\",Basin!L2351)))","v":""},{"$f":"IF(Basin_CountA=0,\"\",Basin!N2351)","v":""},null,"","","","","","","","","","","","","","","","","","","","","","","","","","","","","","","","","","","","","","","","","","","","","","","","","","","","","","","","","","",""]
[null,{"$f":"IF(Basin_CountA=0,\"\",IF(User_Stage_Area=0,Basin!G2360,Basin!H2360))","v":""},{"$f":"IF(Basin_CountA=0,\"\",IF(User_Stage_Area=0,Basin!K2360,IF(B2331=\"\",\"\",Basin!L2360)))","v":""},{"$f":"IF(Basin_CountA=0,\"\",Basin!N2360)","v":""},null,"","","","","","","","","","","","","","","","","","","","","","","","","","","","","","","","","","","","","","","","","","","","","","","","","","","","","","","","","","",""]
[null,{"$f":"IF(Basin_CountA=0,\"\",IF(User_Stage_Area=0,Basin!G2369,Basin!H2369))","v":""},{"$f":"IF(Basin_CountA=0,\"\",IF(User_Stage_Area=0,Basin!K2369,IF(B2340=\"\",\"\",Basin!L2369)))","v":""},{"$f":"IF(Basin_CountA=0,\"\",Basin!N2369)","v":""},null,"","","","","","","","","","","","","","","","","","","","","","","","","","","","","","","","","","","","","","","","","","","","","","","","","","","","","","","","","","",""]
[null,{"$f":"IF(Basin_CountA=0,\"\",IF(User_Stage_Area=0,Basin!G2370,Basin!H2370))","v":""},{"$f":"IF(Basin_CountA=0,\"\",IF(User_Stage_Area=0,Basin!K2370,IF(B2341=\"\",\"\",Basin!L2370)))","v":""},{"$f":"IF(Basin_CountA=0,\"\",Basin!N2370)","v":""},null,"","","","","","","","","","","","","","","","","","","","","","","","","","","","","","","","","","","","","","","","","","","","","","","","","","","","","","","","","","",""]
[null,{"$f":"IF(Basin_CountA=0,\"\",IF(User_Stage_Area=0,Basin!G2379,Basin!H2379))","v":""},{"$f":"IF(Basin_CountA=0,\"\",IF(User_Stage_Area=0,Basin!K2379,IF(B2350=\"\",\"\",Basin!L2379)))","v":""},{"$f":"IF(Basin_CountA=0,\"\",Basin!N2379)","v":""},null,"","","","","","","","","","","","","","","","","","","","","","","","","","","","","","","","","","","","","","","","","","","","","","","","","","","","","","","","","","",""]
[null,{"$f":"IF(Basin_CountA=0,\"\",IF(User_Stage_Area=0,Basin!G2388,Basin!H2388))","v":""},{"$f":"IF(Basin_CountA=0,\"\",IF(User_Stage_Area=0,Basin!K2388,IF(B2359=\"\",\"\",Basin!L2388)))","v":""},{"$f":"IF(Basin_CountA=0,\"\",Basin!N2388)","v":""},null,"","","","","","","","","","","","","","","","","","","","","","","","","","","","","","","","","","","","","","","","","","","","","","","","","","","","","","","","","","",""]
[null,{"$f":"IF(Basin_CountA=0,\"\",IF(User_Stage_Area=0,Basin!G2397,Basin!H2397))","v":""},{"$f":"IF(Basin_CountA=0,\"\",IF(User_Stage_Area=0,Basin!K2397,IF(B2368=\"\",\"\",Basin!L2397)))","v":""},{"$f":"IF(Basin_CountA=0,\"\",Basin!N2397)","v":""},null,"","","","","","","","","","","","","","","","","","","","","","","","","","","","","","","","","","","","","","","","","","","","","","","","","","","","","","","","","","",""]
[null,{"$f":"IF(Basin_CountA=0,\"\",IF(User_Stage_Area=0,Basin!G2406,Basin!H2406))","v":""},{"$f":"IF(Basin_CountA=0,\"\",IF(User_Stage_Area=0,Basin!K2406,IF(B2377=\"\",\"\",Basin!L2406)))","v":""},{"$f":"IF(Basin_CountA=0,\"\",Basin!N2406)","v":""},null,"","","","","","","","","","","","","","","","","","","","","","","","","","","","","","","","","","","","","","","","","","","","","","","","","","","","","","","","","","",""]
[null,{"$f":"IF(Basin_CountA=0,\"\",IF(User_Stage_Area=0,Basin!G2415,Basin!H2415))","v":""},{"$f":"IF(Basin_CountA=0,\"\",IF(User_Stage_Area=0,Basin!K2415,IF(B2386=\"\",\"\",Basin!L2415)))","v":""},{"$f":"IF(Basin_CountA=0,\"\",Basin!N2415)","v":""},null,"","","","","","","","","","","","","","","","","","","","","","","","","","","","","","","","","","","","","","","","","","","","","","","","","","","","","","","","","","",""]
[null,{"$f":"IF(Basin_CountA=0,\"\",IF(User_Stage_Area=0,Basin!G2424,Basin!H2424))","v":""},{"$f":"IF(Basin_CountA=0,\"\",IF(User_Stage_Area=0,Basin!K2424,IF(B2395=\"\",\"\",Basin!L2424)))","v":""},{"$f":"IF(Basin_CountA=0,\"\",Basin!N2424)","v":""},null,"","","","","","","","","","","","","","","","","","","","","","","","","","","","","","","","","","","","","","","","","","","","","","","","","","","","","","","","","","",""]
[null,{"$f":"IF(Basin_CountA=0,\"\",IF(User_Stage_Area=0,Basin!G2433,Basin!H2433))","v":""},{"$f":"IF(Basin_CountA=0,\"\",IF(User_Stage_Area=0,Basin!K2433,IF(B2404=\"\",\"\",Basin!L2433)))","v":""},{"$f":"IF(Basin_CountA=0,\"\",Basin!N2433)","v":""},null,"","","","","","","","","","","","","","","","","","","","","","","","","","","","","","","","","","","","","","","","","","","","","","","","","","","","","","","","","","",""]
[null,{"$f":"IF(Basin_CountA=0,\"\",IF(User_Stage_Area=0,Basin!G2434,Basin!H2434))","v":""},{"$f":"IF(Basin_CountA=0,\"\",IF(User_Stage_Area=0,Basin!K2434,IF(B2405=\"\",\"\",Basin!L2434)))","v":""},{"$f":"IF(Basin_CountA=0,\"\",Basin!N2434)","v":""},null,"","","","","","","","","","","","","","","","","","","","","","","","","","","","","","","","","","","","","","","","","","","","","","","","","","","","","","","","","","",""]
[null,{"$f":"IF(Basin_CountA=0,\"\",IF(User_Stage_Area=0,Basin!G2443,Basin!H2443))","v":""},{"$f":"IF(Basin_CountA=0,\"\",IF(User_Stage_Area=0,Basin!K2443,IF(B2414=\"\",\"\",Basin!L2443)))","v":""},{"$f":"IF(Basin_CountA=0,\"\",Basin!N2443)","v":""},null,"","","","","","","","","","","","","","","","","","","","","","","","","","","","","","","","","","","","","","","","","","","","","","","","","","","","","","","","","","",""]
[null,{"$f":"IF(Basin_CountA=0,\"\",IF(User_Stage_Area=0,Basin!G2452,Basin!H2452))","v":""},{"$f":"IF(Basin_CountA=0,\"\",IF(User_Stage_Area=0,Basin!K2452,IF(B2423=\"\",\"\",Basin!L2452)))","v":""},{"$f":"IF(Basin_CountA=0,\"\",Basin!N2452)","v":""},null,"","","","","","","","","","","","","","","","","","","","","","","","","","","","","","","","","","","","","","","","","","","","","","","","","","","","","","","","","","",""]
[null,{"$f":"IF(Basin_CountA=0,\"\",IF(User_Stage_Area=0,Basin!G2461,Basin!H2461))","v":""},{"$f":"IF(Basin_CountA=0,\"\",IF(User_Stage_Area=0,Basin!K2461,IF(B2432=\"\",\"\",Basin!L2461)))","v":""},{"$f":"IF(Basin_CountA=0,\"\",Basin!N2461)","v":""},null,"","","","","","","","","","","","","","","","","","","","","","","","","","","","","","","","","","","","","","","","","","","","","","","","","","","","","","","","","","",""]
[null,{"$f":"IF(Basin_CountA=0,\"\",IF(User_Stage_Area=0,Basin!G2470,Basin!H2470))","v":""},{"$f":"IF(Basin_CountA=0,\"\",IF(User_Stage_Area=0,Basin!K2470,IF(B2441=\"\",\"\",Basin!L2470)))","v":""},{"$f":"IF(Basin_CountA=0,\"\",Basin!N2470)","v":""},null,"","","","","","","","","","","","","","","","","","","","","","","","","","","","","","","","","","","","","","","","","","","","","","","","","","","","","","","","","","",""]
[null,{"$f":"IF(Basin_CountA=0,\"\",IF(User_Stage_Area=0,Basin!G2479,Basin!H2479))","v":""},{"$f":"IF(Basin_CountA=0,\"\",IF(User_Stage_Area=0,Basin!K2479,IF(B2450=\"\",\"\",Basin!L2479)))","v":""},{"$f":"IF(Basin_CountA=0,\"\",Basin!N2479)","v":""},null,"","","","","","","","","","","","","","","","","","","","","","","","","","","","","","","","","","","","","","","","","","","","","","","","","","","","","","","","","","",""]
[null,{"$f":"IF(Basin_CountA=0,\"\",IF(User_Stage_Area=0,Basin!G2488,Basin!H2488))","v":""},{"$f":"IF(Basin_CountA=0,\"\",IF(User_Stage_Area=0,Basin!K2488,IF(B2459=\"\",\"\",Basin!L2488)))","v":""},{"$f":"IF(Basin_CountA=0,\"\",Basin!N2488)","v":""},null,"","","","","","","","","","","","","","","","","","","","","","","","","","","","","","","","","","","","","","","","","","","","","","","","","","","","","","","","","","",""]
[null,{"$f":"IF(Basin_CountA=0,\"\",IF(User_Stage_Area=0,Basin!G2497,Basin!H2497))","v":""},{"$f":"IF(Basin_CountA=0,\"\",IF(User_Stage_Area=0,Basin!K2497,IF(B2468=\"\",\"\",Basin!L2497)))","v":""},{"$f":"IF(Basin_CountA=0,\"\",Basin!N2497)","v":""},null,"","","","","","","","","","","","","","","","","","","","","","","","","","","","","","","","","","","","","","","","","","","","","","","","","","","","","","","","","","",""]
[null,{"$f":"IF(Basin_CountA=0,\"\",IF(User_Stage_Area=0,Basin!G2498,Basin!H2498))","v":""},{"$f":"IF(Basin_CountA=0,\"\",IF(User_Stage_Area=0,Basin!K2498,IF(B2469=\"\",\"\",Basin!L2498)))","v":""},{"$f":"IF(Basin_CountA=0,\"\",Basin!N2498)","v":""},null,"","","","","","","","","","","","","","","","","","","","","","","","","","","","","","","","","","","","","","","","","","","","","","","","","","","","","","","","","","",""]
[null,{"$f":"IF(Basin_CountA=0,\"\",IF(User_Stage_Area=0,Basin!G2507,Basin!H2507))","v":""},{"$f":"IF(Basin_CountA=0,\"\",IF(User_Stage_Area=0,Basin!K2507,IF(B2478=\"\",\"\",Basin!L2507)))","v":""},{"$f":"IF(Basin_CountA=0,\"\",Basin!N2507)","v":""},null,"","","","","","","","","","","","","","","","","","","","","","","","","","","","","","","","","","","","","","","","","","","","","","","","","","","","","","","","","","",""]
[null,{"$f":"IF(Basin_CountA=0,\"\",IF(User_Stage_Area=0,Basin!G2516,Basin!H2516))","v":""},{"$f":"IF(Basin_CountA=0,\"\",IF(User_Stage_Area=0,Basin!K2516,IF(B2487=\"\",\"\",Basin!L2516)))","v":""},{"$f":"IF(Basin_CountA=0,\"\",Basin!N2516)","v":""},null,"","","","","","","","","","","","","","","","","","","","","","","","","","","","","","","","","","","","","","","",{"$f":"IF($B2487=\"\",\"\",IF(OR(Zone1_Outlet_Type=4,Zone2_Outlet_Type=4),IF($B2487<WQ_Plate_Invert,0,($B2487-WQ_Plate_Invert)*AS$86),\"\"))","v":""},"","","","","","","","","","","","","","","","","","",""]
[null,{"$f":"IF(Basin_CountA=0,\"\",IF(User_Stage_Area=0,Basin!G2523,Basin!H2523))","v":""},{"$f":"IF(Basin_CountA=0,\"\",IF(User_Stage_Area=0,Basin!K2523,IF(B2494=\"\",\"\",Basin!L2523)))","v":""},{"$f":"IF(Basin_CountA=0,\"\",Basin!N2523)","v":""},null,"","","","","","","","","","","","","","","","","","","","","","","","","","","","","","","","","","","","","","","","","","","","","","","","","","","","","","","","","","",""]
[null,{"$f":"IF(Basin_CountA=0,\"\",IF(User_Stage_Area=0,Basin!G2533,Basin!H2533))","v":""},{"$f":"IF(Basin_CountA=0,\"\",IF(User_Stage_Area=0,Basin!K2533,IF(B2504=\"\",\"\",Basin!L2533)))","v":""},{"$f":"IF(Basin_CountA=0,\"\",Basin!N2533)","v":""},null,"","","","","","","","","","","","","","","","","","","","","","","","","","","","","","","","","","","","","","","","","","","","","","","","","","","","","","","","","","",""]
[null,{"$f":"IF(Basin_CountA=0,\"\",IF(User_Stage_Area=0,Basin!G2542,Basin!H2542))","v":""},{"$f":"IF(Basin_CountA=0,\"\",IF(User_Stage_Area=0,Basin!K2542,IF(B2513=\"\",\"\",Basin!L2542)))","v":""},{"$f":"IF(Basin_CountA=0,\"\",Basin!N2542)","v":""},null,"","","","","","","","","","","","","","","","","","","","","","","","","","","","","","","","","","","","","","","","","","","","","","","","","","","","","","","","","","",""]
[null,{"$f":"IF(Basin_CountA=0,\"\",IF(User_Stage_Area=0,Basin!G2551,Basin!H2551))","v":""},{"$f":"IF(Basin_CountA=0,\"\",IF(User_Stage_Area=0,Basin!K2551,IF(B2522=\"\",\"\",Basin!L2551)))","v":""},{"$f":"IF(Basin_CountA=0,\"\",Basin!N2551)","v":""},null,"","","","","","","","","","","","","","","","","","","","","","","","","","","","","","","","","","","","","","","","","","","","","","","","","","","","","","","","","","",""]
[null,{"$f":"IF(Basin_CountA=0,\"\",IF(User_Stage_Area=0,Basin!G2560,Basin!H2560))","v":""},{"$f":"IF(Basin_CountA=0,\"\",IF(User_Stage_Area=0,Basin!K2560,IF(B2531=\"\",\"\",Basin!L2560)))","v":""},{"$f":"IF(Basin_CountA=0,\"\",Basin!N2560)","v":""},null,"","","","","","","","","","","","","","","","","","","","","","","","","","","","","","","","","","","","","","","","","","","","","","","","","","","","","","","","","","",""]
[null,{"$f":"IF(Basin_CountA=0,\"\",IF(User_Stage_Area=0,Basin!G2561,Basin!H2561))","v":""},{"$f":"IF(Basin_CountA=0,\"\",IF(User_Stage_Area=0,Basin!K2561,IF(B2532=\"\",\"\",Basin!L2561)))","v":""},{"$f":"IF(Basin_CountA=0,\"\",Basin!N2561)","v":""},null,"","","","","","","","","","","","","","","","","","","","","","","","","","","","","","","","","","","","","","","","","","","","","","","","","","","","","","","","","","",""]
[null,{"$f":"IF(Basin_CountA=0,\"\",IF(User_Stage_Area=0,Basin!G2570,Basin!H2570))","v":""},{"$f":"IF(Basin_CountA=0,\"\",IF(User_Stage_Area=0,Basin!K2570,IF(B2541=\"\",\"\",Basin!L2570)))","v":""},{"$f":"IF(Basin_CountA=0,\"\",Basin!N2570)","v":""},null,"","","","","","","","","","","","","","","","","","","","","","","","","","","","","","","","","","","","","","","","","","","","","","","","","","","","","","","","","","",""]
[null,{"$f":"IF(Basin_CountA=0,\"\",IF(User_Stage_Area=0,Basin!G2579,Basin!H2579))","v":""},{"$f":"IF(Basin_CountA=0,\"\",IF(User_Stage_Area=0,Basin!K2579,IF(B2550=\"\",\"\",Basin!L2579)))","v":""},{"$f":"IF(Basin_CountA=0,\"\",Basin!N2579)","v":""},null,"","","","","","","","","","","","","","","","","","","","","","","","","","","","","","","","","","","","","","","","","","","","","","","","","","","","","","","","","","",""]
[null,{"$f":"IF(Basin_CountA=0,\"\",IF(User_Stage_Area=0,Basin!G2588,Basin!H2588))","v":""},{"$f":"IF(Basin_CountA=0,\"\",IF(User_Stage_Area=0,Basin!K2588,IF(B2559=\"\",\"\",Basin!L2588)))","v":""},{"$f":"IF(Basin_CountA=0,\"\",Basin!N2588)","v":""},null,"","","","","","","","","","","","","","","","","","","","","","","","","","","","","","","","","","","","","","","","","","","","","","","","","","","","","","","","","","",""]
[null,{"$f":"IF(Basin_CountA=0,\"\",IF(User_Stage_Area=0,Basin!G2597,Basin!H2597))","v":""},{"$f":"IF(Basin_CountA=0,\"\",IF(User_Stage_Area=0,Basin!K2597,IF(B2568=\"\",\"\",Basin!L2597)))","v":""},{"$f":"IF(Basin_CountA=0,\"\",Basin!N2597)","v":""},null,"","","","","","","","","","","","","","","","","","","","","","","","","","","","","","","","","","","","","","","","","","","","","","","","","","","","","","","","","","",""]
[null,{"$f":"IF(Basin_CountA=0,\"\",IF(User_Stage_Area=0,Basin!G2606,Basin!H2606))","v":""},{"$f":"IF(Basin_CountA=0,\"\",IF(User_Stage_Area=0,Basin!K2606,IF(B2577=\"\",\"\",Basin!L2606)))","v":""},{"$f":"IF(Basin_CountA=0,\"\",Basin!N2606)","v":""},null,"","","","","","","","","","","","","","","","","","","","","","","","","","","","","","","","","","","","","","","","","","","","","","","","","","","","","","","","","","",""]
[null,{"$f":"IF(Basin_CountA=0,\"\",IF(User_Stage_Area=0,Basin!G2615,Basin!H2615))","v":""},{"$f":"IF(Basin_CountA=0,\"\",IF(User_Stage_Area=0,Basin!K2615,IF(B2586=\"\",\"\",Basin!L2615)))","v":""},{"$f":"IF(Basin_CountA=0,\"\",Basin!N2615)","v":""},null,"","","","","","","","","","","","","","","","","","","","","","","","","","","","","","","","","","","","","","","","","","","","","","","","","","","","","","","","","","",""]
[null,{"$f":"IF(Basin_CountA=0,\"\",IF(User_Stage_Area=0,Basin!G2624,Basin!H2624))","v":""},{"$f":"IF(Basin_CountA=0,\"\",IF(User_Stage_Area=0,Basin!K2624,IF(B2595=\"\",\"\",Basin!L2624)))","v":""},{"$f":"IF(Basin_CountA=0,\"\",Basin!N2624)","v":""},null,"","","","","","","","","","","","","","","","","","","","","","","","","","","","","","","","","","","","","","","","","","","","","","","","","","","","","","","","","","",""]
[null,{"$f":"IF(Basin_CountA=0,\"\",IF(User_Stage_Area=0,Basin!G2625,Basin!H2625))","v":""},{"$f":"IF(Basin_CountA=0,\"\",IF(User_Stage_Area=0,Basin!K2625,IF(B2596=\"\",\"\",Basin!L2625)))","v":""},{"$f":"IF(Basin_CountA=0,\"\",Basin!N2625)","v":""},null,"","","","","","","","","","","","","","","","","","","","","","","","","","","","","","","","","","","","","","","","","","","","","","","","","","","","","","","","","","",""]
[null,{"$f":"IF(Basin_CountA=0,\"\",IF(User_Stage_Area=0,Basin!G2634,Basin!H2634))","v":""},{"$f":"IF(Basin_CountA=0,\"\",IF(User_Stage_Area=0,Basin!K2634,IF(B2605=\"\",\"\",Basin!L2634)))","v":""},{"$f":"IF(Basin_CountA=0,\"\",Basin!N2634)","v":""},null,"","","","","","","","","","","","","","","","","","","","","","","","","","","","","","","","","","","","","","","","","","","","","","","","","","","","","","","","","","",""]
[null,{"$f":"IF(Basin_CountA=0,\"\",IF(User_Stage_Area=0,Basin!G2643,Basin!H2643))","v":""},{"$f":"IF(Basin_CountA=0,\"\",IF(User_Stage_Area=0,Basin!K2643,IF(B2614=\"\",\"\",Basin!L2643)))","v":""},{"$f":"IF(Basin_CountA=0,\"\",Basin!N2643)","v":""},null,"","","","","","","","","","","","","","","","","","","","","","","","","","","","","","","","","","","","","","","","","","","","","","","","","","","","","","","","","","",""]
[null,{"$f":"IF(Basin_CountA=0,\"\",IF(User_Stage_Area=0,Basin!G2652,Basin!H2652))","v":""},{"$f":"IF(Basin_CountA=0,\"\",IF(User_Stage_Area=0,Basin!K2652,IF(B2623=\"\",\"\",Basin!L2652)))","v":""},{"$f":"IF(Basin_CountA=0,\"\",Basin!N2652)","v":""},null,"","","","","","","","","","","","","","","","","","","","","","","","","","","","","","","","","","","","","","","","","","","","","","","","","","","","","","","","","","",""]
[null,{"$f":"IF(Basin_CountA=0,\"\",IF(User_Stage_Area=0,Basin!G2661,Basin!H2661))","v":""},{"$f":"IF(Basin_CountA=0,\"\",IF(User_Stage_Area=0,Basin!K2661,IF(B2632=\"\",\"\",Basin!L2661)))","v":""},{"$f":"IF(Basin_CountA=0,\"\",Basin!N2661)","v":""},null,"","","","","","","","","","","","","","","","","","","","","","","","","","","","","","","","","","","","","","","","","","","","","","","","","","","","","","","","","","",""]
[null,{"$f":"IF(Basin_CountA=0,\"\",IF(User_Stage_Area=0,Basin!G2670,Basin!H2670))","v":""},{"$f":"IF(Basin_CountA=0,\"\",IF(User_Stage_Area=0,Basin!K2670,IF(B2641=\"\",\"\",Basin!L2670)))","v":""},{"$f":"IF(Basin_CountA=0,\"\",Basin!N2670)","v":""},null,"","","","","","","","","","","","","","","","","","","","","","","","","","","","","","","","","","","","","","","","","","","","","","","","","","","","","","","","","","",""]
[null,{"$f":"IF(Basin_CountA=0,\"\",IF(User_Stage_Area=0,Basin!G2679,Basin!H2679))","v":""},{"$f":"IF(Basin_CountA=0,\"\",IF(User_Stage_Area=0,Basin!K2679,IF(B2650=\"\",\"\",Basin!L2679)))","v":""},{"$f":"IF(Basin_CountA=0,\"\",Basin!N2679)","v":""},null,"","","","","","","","","","","","","","","","","","","","","","","","","","","","","","","","","","","","","","","","","","","","","","","","","","","","","","","","","","",""]
[null,{"$f":"IF(Basin_CountA=0,\"\",IF(User_Stage_Area=0,Basin!G2688,Basin!H2688))","v":""},{"$f":"IF(Basin_CountA=0,\"\",IF(User_Stage_Area=0,Basin!K2688,IF(B2659=\"\",\"\",Basin!L2688)))","v":""},{"$f":"IF(Basin_CountA=0,\"\",Basin!N2688)","v":""},null,"","","","","","","","","","","","","","","","","","","","","","","","","","","","","","","","","","","","","","","","","","","","","","","","","","","","","","","","","","",""]
[null,{"$f":"IF(Basin_CountA=0,\"\",IF(User_Stage_Area=0,Basin!G2689,Basin!H2689))","v":""},{"$f":"IF(Basin_CountA=0,\"\",IF(User_Stage_Area=0,Basin!K2689,IF(B2660=\"\",\"\",Basin!L2689)))","v":""},{"$f":"IF(Basin_CountA=0,\"\",Basin!N2689)","v":""},null,"","","","","","","","","","","","","","","","","","","","","","","","","","","","","","","","","","","","","","","","","","","","","","","","","","","","","","","","","","",""]
[null,{"$f":"IF(Basin_CountA=0,\"\",IF(User_Stage_Area=0,Basin!G2698,Basin!H2698))","v":""},{"$f":"IF(Basin_CountA=0,\"\",IF(User_Stage_Area=0,Basin!K2698,IF(B2669=\"\",\"\",Basin!L2698)))","v":""},{"$f":"IF(Basin_CountA=0,\"\",Basin!N2698)","v":""},null,"","","","","","","","","","","","","","","","","","","","","","","","","","","","","","","","","","","","","","","","","","","","","","","","","","","","","","","","","","",""]
[null,{"$f":"IF(Basin_CountA=0,\"\",IF(User_Stage_Area=0,Basin!G2707,Basin!H2707))","v":""},{"$f":"IF(Basin_CountA=0,\"\",IF(User_Stage_Area=0,Basin!K2707,IF(B2678=\"\",\"\",Basin!L2707)))","v":""},{"$f":"IF(Basin_CountA=0,\"\",Basin!N2707)","v":""},null,"","","","","","","","","","","","","","","","","","","","","","","","","","","","","","","","","","","","","","","","","","","","","","","","","","","","","","","","","","",""]
[null,{"$f":"IF(Basin_CountA=0,\"\",IF(User_Stage_Area=0,Basin!G2716,Basin!H2716))","v":""},{"$f":"IF(Basin_CountA=0,\"\",IF(User_Stage_Area=0,Basin!K2716,IF(B2687=\"\",\"\",Basin!L2716)))","v":""},{"$f":"IF(Basin_CountA=0,\"\",Basin!N2716)","v":""},null,"","","","","","","","","","","","","","","","","","","","","","","","","","","","","","","","","","","","","","","",{"$f":"IF($B2687=\"\",\"\",IF(OR(Zone1_Outlet_Type=4,Zone2_Outlet_Type=4),IF($B2687<WQ_Plate_Invert,0,($B2687-WQ_Plate_Invert)*AS$86),\"\"))","v":""},"","","","","","","","","","","","","","","","","","",""]
[null,{"$f":"IF(Basin_CountA=0,\"\",IF(User_Stage_Area=0,Basin!G2725,Basin!H2725))","v":""},{"$f":"IF(Basin_CountA=0,\"\",IF(User_Stage_Area=0,Basin!K2725,IF(B2696=\"\",\"\",Basin!L2725)))","v":""},{"$f":"IF(Basin_CountA=0,\"\",Basin!N2725)","v":""},null,"","","","","","","","","","","","","","","","","","","","","","","","","","","","","","","","","","","","","","","","","","","","","","","","","","","","","","","","","","",""]
[null,{"$f":"IF(Basin_CountA=0,\"\",IF(User_Stage_Area=0,Basin!G2734,Basin!H2734))","v":""},{"$f":"IF(Basin_CountA=0,\"\",IF(User_Stage_Area=0,Basin!K2734,IF(B2705=\"\",\"\",Basin!L2734)))","v":""},{"$f":"IF(Basin_CountA=0,\"\",Basin!N2734)","v":""},null,"","","","","","","","","","","","","","","","","","","","","","","","","","","","","","","","","","","","","","","","","","","","","","","","","","","","","","","","","","",""]
[null,{"$f":"IF(Basin_CountA=0,\"\",IF(User_Stage_Area=0,Basin!G2743,Basin!H2743))","v":""},{"$f":"IF(Basin_CountA=0,\"\",IF(User_Stage_Area=0,Basin!K2743,IF(B2714=\"\",\"\",Basin!L2743)))","v":""},{"$f":"IF(Basin_CountA=0,\"\",Basin!N2743)","v":""},null,"","","","","","","","","","","","","","","","","","","","","","","","","","","","","","","","","","","","","","","","","","","","","","","","","","","","","","","","","","",""]
[null,{"$f":"IF(Basin_CountA=0,\"\",IF(User_Stage_Area=0,Basin!G2752,Basin!H2752))","v":""},{"$f":"IF(Basin_CountA=0,\"\",IF(User_Stage_Area=0,Basin!K2752,IF(B2723=\"\",\"\",Basin!L2752)))","v":""},{"$f":"IF(Basin_CountA=0,\"\",Basin!N2752)","v":""},null,"","","","","","","","","","","","","","","","","","","","","","","","","","","","","","","","","","","","","","","","","","","","","","","","","","","","","","","","","","",""]
[null,{"$f":"IF(Basin_CountA=0,\"\",IF(User_Stage_Area=0,Basin!G2753,Basin!H2753))","v":""},{"$f":"IF(Basin_CountA=0,\"\",IF(User_Stage_Area=0,Basin!K2753,IF(B2724=\"\",\"\",Basin!L2753)))","v":""},{"$f":"IF(Basin_CountA=0,\"\",Basin!N2753)","v":""},null,"","","","","","","","","","","","","","","","","","","","","","","","","","","","","","","","","","","","","","","","","","","","","","","","","","","","","","","","","","",""]
[null,{"$f":"IF(Basin_CountA=0,\"\",IF(User_Stage_Area=0,Basin!G2762,Basin!H2762))","v":""},{"$f":"IF(Basin_CountA=0,\"\",IF(User_Stage_Area=0,Basin!K2762,IF(B2733=\"\",\"\",Basin!L2762)))","v":""},{"$f":"IF(Basin_CountA=0,\"\",Basin!N2762)","v":""},null,"","","","","","","","","","","","","","","","","","","","","","","","","","","","","","","","","","","","","","","","","","","","","","","","","","","","","","","","","","",""]
[null,{"$f":"IF(Basin_CountA=0,\"\",IF(User_Stage_Area=0,Basin!G2772,Basin!H2772))","v":""},{"$f":"IF(Basin_CountA=0,\"\",IF(User_Stage_Area=0,Basin!K2772,IF(B2743=\"\",\"\",Basin!L2772)))","v":""},{"$f":"IF(Basin_CountA=0,\"\",Basin!N2772)","v":""},null,"","","","","","","","","","","","","","","","","","","","","","","","","","","","","","","","","","","","","","","","","","","","","","","","","","","","","","","","","","",""]
[null,{"$f":"IF(Basin_CountA=0,\"\",IF(User_Stage_Area=0,Basin!G2779,Basin!H2779))","v":""},{"$f":"IF(Basin_CountA=0,\"\",IF(User_Stage_Area=0,Basin!K2779,IF(B2750=\"\",\"\",Basin!L2779)))","v":""},{"$f":"IF(Basin_CountA=0,\"\",Basin!N2779)","v":""},null,"","","","","","","","","","","","","","","","","","","","","","","","","","","","","","","","","","","","","","","","","","","","","","","","","","","","","","","","","","",""]
[null,{"$f":"IF(Basin_CountA=0,\"\",IF(User_Stage_Area=0,Basin!G2788,Basin!H2788))","v":""},{"$f":"IF(Basin_CountA=0,\"\",IF(User_Stage_Area=0,Basin!K2788,IF(B2759=\"\",\"\",Basin!L2788)))","v":""},{"$f":"IF(Basin_CountA=0,\"\",Basin!N2788)","v":""},null,"","","","","","","","","","","","","","","","","","","","","","","","","","","","","","","","","","","","","","","","","","","","","","","","","","","","","","","","","","",""]
[null,{"$f":"IF(Basin_CountA=0,\"\",IF(User_Stage_Area=0,Basin!G2797,Basin!H2797))","v":""},{"$f":"IF(Basin_CountA=0,\"\",IF(User_Stage_Area=0,Basin!K2797,IF(B2768=\"\",\"\",Basin!L2797)))","v":""},{"$f":"IF(Basin_CountA=0,\"\",Basin!N2797)","v":""},null,"","","","","","","","","","","","","","","","","","","","","","","","","","","","","","","","","","","","","","","","","","","","","","","","","","","","","","","","","","",""]
[null,{"$f":"IF(Basin_CountA=0,\"\",IF(User_Stage_Area=0,Basin!G2806,Basin!H2806))","v":""},{"$f":"IF(Basin_CountA=0,\"\",IF(User_Stage_Area=0,Basin!K2806,IF(B2777=\"\",\"\",Basin!L2806)))","v":""},{"$f":"IF(Basin_CountA=0,\"\",Basin!N2806)","v":""},null,"","","","","","","","","","","","","","","","","","","","","","","","","","","","","","","","","","","","","","","","","","","","","","","","","","","","","","","","","","",""]
[null,{"$f":"IF(Basin_CountA=0,\"\",IF(User_Stage_Area=0,Basin!G2815,Basin!H2815))","v":""},{"$f":"IF(Basin_CountA=0,\"\",IF(User_Stage_Area=0,Basin!K2815,IF(B2786=\"\",\"\",Basin!L2815)))","v":""},{"$f":"IF(Basin_CountA=0,\"\",Basin!N2815)","v":""},null,"","","","","","","","","","","","","","","","","","","","","","","","","","","","","","","","","","","","","","","","","","","","","","","","","","","","","","","","","","",""]
[null,{"$f":"IF(Basin_CountA=0,\"\",IF(User_Stage_Area=0,Basin!G2816,Basin!H2816))","v":""},{"$f":"IF(Basin_CountA=0,\"\",IF(User_Stage_Area=0,Basin!K2816,IF(B2787=\"\",\"\",Basin!L2816)))","v":""},{"$f":"IF(Basin_CountA=0,\"\",Basin!N2816)","v":""},null,"","","","","","","","","","","","","","","","","","","","","","","","","","","","","","","","","","","","","","","",{"$f":"IF($B2787=\"\",\"\",IF(OR(Zone1_Outlet_Type=4,Zone2_Outlet_Type=4),IF($B2787<WQ_Plate_Invert,0,($B2787-WQ_Plate_Invert)*AS$86),\"\"))","v":""},"","","","","","","","","","","","","","","","","","",""]
[null,{"$f":"IF(Basin_CountA=0,\"\",IF(User_Stage_Area=0,Basin!G2825,Basin!H2825))","v":""},{"$f":"IF(Basin_CountA=0,\"\",IF(User_Stage_Area=0,Basin!K2825,IF(B2796=\"\",\"\",Basin!L2825)))","v":""},{"$f":"IF(Basin_CountA=0,\"\",Basin!N2825)","v":""},null,"","","","","","","","","","","","","","","","","","","","","","","","","","","","","","","","","","","","","","","","","","","","","","","","","","","","","","","","","","",""]
[null,{"$f":"IF(Basin_CountA=0,\"\",IF(User_Stage_Area=0,Basin!G2834,Basin!H2834))","v":""},{"$f":"IF(Basin_CountA=0,\"\",IF(User_Stage_Area=0,Basin!K2834,IF(B2805=\"\",\"\",Basin!L2834)))","v":""},{"$f":"IF(Basin_CountA=0,\"\",Basin!N2834)","v":""},null,"","","","","","","","","","","","","","","","","","","","","","","","","","","","","","","","","","","","","","","","","","","","","","","","","","","","","","","","","","",""]
[null,{"$f":"IF(Basin_CountA=0,\"\",IF(User_Stage_Area=0,Basin!G2843,Basin!H2843))","v":""},{"$f":"IF(Basin_CountA=0,\"\",IF(User_Stage_Area=0,Basin!K2843,IF(B2814=\"\",\"\",Basin!L2843)))","v":""},{"$f":"IF(Basin_CountA=0,\"\",Basin!N2843)","v":""},null,"","","","","","","","","","","","","","","","","","","","","","","","","","","","","","","","","","","","","","","","","","","","","","","","","","","","","","","","","","",""]
[null,{"$f":"IF(Basin_CountA=0,\"\",IF(User_Stage_Area=0,Basin!G2852,Basin!H2852))","v":""},{"$f":"IF(Basin_CountA=0,\"\",IF(User_Stage_Area=0,Basin!K2852,IF(B2823=\"\",\"\",Basin!L2852)))","v":""},{"$f":"IF(Basin_CountA=0,\"\",Basin!N2852)","v":""},null,"","","","","","","","","","","","","","","","","","","","","","","","","","","","","","","","","","","","","","","","","","","","","","","","","","","","","","","","","","",""]
[null,{"$f":"IF(Basin_CountA=0,\"\",IF(User_Stage_Area=0,Basin!G2861,Basin!H2861))","v":""},{"$f":"IF(Basin_CountA=0,\"\",IF(User_Stage_Area=0,Basin!K2861,IF(B2832=\"\",\"\",Basin!L2861)))","v":""},{"$f":"IF(Basin_CountA=0,\"\",Basin!N2861)","v":""},null,"","","","","","","","","","","","","","","","","","","","","","","","","","","","","","","","","","","","","","","","","","","","","","","","","","","","","","","","","","",""]
[null,{"$f":"IF(Basin_CountA=0,\"\",IF(User_Stage_Area=0,Basin!G2870,Basin!H2870))","v":""},{"$f":"IF(Basin_CountA=0,\"\",IF(User_Stage_Area=0,Basin!K2870,IF(B2841=\"\",\"\",Basin!L2870)))","v":""},{"$f":"IF(Basin_CountA=0,\"\",Basin!N2870)","v":""},null,"","","","","","","","","","","","","","","","","","","","","","","","","","","","","","","","","","","","","","","","","","","","","","","","","","","","","","","","","","",""]
[null,{"$f":"IF(Basin_CountA=0,\"\",IF(User_Stage_Area=0,Basin!G2879,Basin!H2879))","v":""},{"$f":"IF(Basin_CountA=0,\"\",IF(User_Stage_Area=0,Basin!K2879,IF(B2850=\"\",\"\",Basin!L2879)))","v":""},{"$f":"IF(Basin_CountA=0,\"\",Basin!N2879)","v":""},null,"","","","","","","","","","","","","","","","","","","","","","","","","","","","","","","","","","","","","","","","","","","","","","","","","","","","","","","","","","",""]
[null,{"$f":"IF(Basin_CountA=0,\"\",IF(User_Stage_Area=0,Basin!G2880,Basin!H2880))","v":""},{"$f":"IF(Basin_CountA=0,\"\",IF(User_Stage_Area=0,Basin!K2880,IF(B2851=\"\",\"\",Basin!L2880)))","v":""},{"$f":"IF(Basin_CountA=0,\"\",Basin!N2880)","v":""},null,"","","","","","","","","","","","","","","","","","","","","","","","","","","","","","","","","","","","","","","","","","","","","","","","","","","","","","","","","","",""]
[null,{"$f":"IF(Basin_CountA=0,\"\",IF(User_Stage_Area=0,Basin!G2889,Basin!H2889))","v":""},{"$f":"IF(Basin_CountA=0,\"\",IF(User_Stage_Area=0,Basin!K2889,IF(B2860=\"\",\"\",Basin!L2889)))","v":""},{"$f":"IF(Basin_CountA=0,\"\",Basin!N2889)","v":""},null,"","","","","","","","","","","","","","","","","","","","","","","","","","","","","","","","","","","","","","","","","","","","","","","","","","","","","","","","","","",""]
[null,{"$f":"IF(Basin_CountA=0,\"\",IF(User_Stage_Area=0,Basin!G2898,Basin!H2898))","v":""},{"$f":"IF(Basin_CountA=0,\"\",IF(User_Stage_Area=0,Basin!K2898,IF(B2869=\"\",\"\",Basin!L2898)))","v":""},{"$f":"IF(Basin_CountA=0,\"\",Basin!N2898)","v":""},null,"","","","","","","","","","","","","","","","","","","","","","","","","","","","","","","","","","","","","","","","","","","","","","","","","","","","","","","","","","",""]
[null,{"$f":"IF(Basin_CountA=0,\"\",IF(User_Stage_Area=0,Basin!G2907,Basin!H2907))","v":""},{"$f":"IF(Basin_CountA=0,\"\",IF(User_Stage_Area=0,Basin!K2907,IF(B2878=\"\",\"\",Basin!L2907)))","v":""},{"$f":"IF(Basin_CountA=0,\"\",Basin!N2907)","v":""},null,"","","","","","","","","","","","","","","","","","","","","","","","","","","","","","","","","","","","","","","","","","","","","","","","","","","","","","","","","","",""]
[null,{"$f":"IF(Basin_CountA=0,\"\",IF(User_Stage_Area=0,Basin!G2916,Basin!H2916))","v":""},{"$f":"IF(Basin_CountA=0,\"\",IF(User_Stage_Area=0,Basin!K2916,IF(B2887=\"\",\"\",Basin!L2916)))","v":""},{"$f":"IF(Basin_CountA=0,\"\",Basin!N2916)","v":""},null,"","","","","","","","","","","","","","","","","","","","","","","","","","","","","","","","","","","","","","","",{"$f":"IF($B2887=\"\",\"\",IF(OR(Zone1_Outlet_Type=4,Zone2_Outlet_Type=4),IF($B2887<WQ_Plate_Invert,0,($B2887-WQ_Plate_Invert)*AS$86),\"\"))","v":""},"","","","","","","","","","","","","","","","","","",""]
[null,{"$f":"IF(Basin_CountA=0,\"\",IF(User_Stage_Area=0,Basin!G2925,Basin!H2925))","v":""},{"$f":"IF(Basin_CountA=0,\"\",IF(User_Stage_Area=0,Basin!K2925,IF(B2896=\"\",\"\",Basin!L2925)))","v":""},{"$f":"IF(Basin_CountA=0,\"\",Basin!N2925)","v":""},null,"","","","","","","","","","","","","","","","","","","","","","","","","","","","","","","","","","","","","","","","","","","","","","","","","","","","","","","","","","",""]
[null,{"$f":"IF(Basin_CountA=0,\"\",IF(User_Stage_Area=0,Basin!G2934,Basin!H2934))","v":""},{"$f":"IF(Basin_CountA=0,\"\",IF(User_Stage_Area=0,Basin!K2934,IF(B2905=\"\",\"\",Basin!L2934)))","v":""},{"$f":"IF(Basin_CountA=0,\"\",Basin!N2934)","v":""},null,"","","","","","","","","","","","","","","","","","","","","","","","","","","","","","","","","","","","","","","","","","","","","","","","","","","","","","","","","","",""]
[null,{"$f":"IF(Basin_CountA=0,\"\",IF(User_Stage_Area=0,Basin!G2943,Basin!H2943))","v":""},{"$f":"IF(Basin_CountA=0,\"\",IF(User_Stage_Area=0,Basin!K2943,IF(B2914=\"\",\"\",Basin!L2943)))","v":""},{"$f":"IF(Basin_CountA=0,\"\",Basin!N2943)","v":""},null,"","","","","","","","","","","","","","","","","","","","","","","","","","","","","","","","","","","","","","","","","","","","","","","","","","","","","","","","","","",""]
[null,{"$f":"IF(Basin_CountA=0,\"\",IF(User_Stage_Area=0,Basin!G2944,Basin!H2944))","v":""},{"$f":"IF(Basin_CountA=0,\"\",IF(User_Stage_Area=0,Basin!K2944,IF(B2915=\"\",\"\",Basin!L2944)))","v":""},{"$f":"IF(Basin_CountA=0,\"\",Basin!N2944)","v":""},null,"","","","","","","","","","","","","","","","","","","","","","","","","","","","","","","","","","","","","","","","","","","","","","","","","","","","","","","","","","",""]
[null,{"$f":"IF(Basin_CountA=0,\"\",IF(User_Stage_Area=0,Basin!G2953,Basin!H2953))","v":""},{"$f":"IF(Basin_CountA=0,\"\",IF(User_Stage_Area=0,Basin!K2953,IF(B2924=\"\",\"\",Basin!L2953)))","v":""},{"$f":"IF(Basin_CountA=0,\"\",Basin!N2953)","v":""},null,"","","","","","","","","","","","","","","","","","","","","","","","","","","","","","","","","","","","","","","","","","","","","","","","","","","","","","","","","","",""]
[null,{"$f":"IF(Basin_CountA=0,\"\",IF(User_Stage_Area=0,Basin!G2962,Basin!H2962))","v":""},{"$f":"IF(Basin_CountA=0,\"\",IF(User_Stage_Area=0,Basin!K2962,IF(B2933=\"\",\"\",Basin!L2962)))","v":""},{"$f":"IF(Basin_CountA=0,\"\",Basin!N2962)","v":""},null,"","","","","","","","","","","","","","","","","","","","","","","","","","","","","","","","","","","","","","","","","","","","","","","","","","","","","","","","","","",""]
[null,{"$f":"IF(Basin_CountA=0,\"\",IF(User_Stage_Area=0,Basin!G2971,Basin!H2971))","v":""},{"$f":"IF(Basin_CountA=0,\"\",IF(User_Stage_Area=0,Basin!K2971,IF(B2942=\"\",\"\",Basin!L2971)))","v":""},{"$f":"IF(Basin_CountA=0,\"\",Basin!N2971)","v":""},null,"","","","","","","","","","","","","","","","","","","","","","","","","","","","","","","","","","","","","","","","","","","","","","","","","","","","","","","","","","",""]
[null,{"$f":"IF(Basin_CountA=0,\"\",IF(User_Stage_Area=0,Basin!G2980,Basin!H2980))","v":""},{"$f":"IF(Basin_CountA=0,\"\",IF(User_Stage_Area=0,Basin!K2980,IF(B2951=\"\",\"\",Basin!L2980)))","v":""},{"$f":"IF(Basin_CountA=0,\"\",Basin!N2980)","v":""},null,"","","","","","","","","","","","","","","","","","","","","","","","","","","","","","","","","","","","","","","","","","","","","","","","","","","","","","","","","","",""]
[null,{"$f":"IF(Basin_CountA=0,\"\",IF(User_Stage_Area=0,Basin!G2989,Basin!H2989))","v":""},{"$f":"IF(Basin_CountA=0,\"\",IF(User_Stage_Area=0,Basin!K2989,IF(B2960=\"\",\"\",Basin!L2989)))","v":""},{"$f":"IF(Basin_CountA=0,\"\",Basin!N2989)","v":""},null,"","","","","","","","","","","","","","","","","","","","","","","","","","","","","","","","","","","","","","","","","","","","","","","","","","","","","","","","","","",""]
[null,{"$f":"IF(Basin_CountA=0,\"\",IF(User_Stage_Area=0,Basin!G2998,Basin!H2998))","v":""},{"$f":"IF(Basin_CountA=0,\"\",IF(User_Stage_Area=0,Basin!K2998,IF(B2969=\"\",\"\",Basin!L2998)))","v":""},{"$f":"IF(Basin_CountA=0,\"\",Basin!N2998)","v":""},null,"","","","","","","","","","","","","","","","","","","","","","","","","","","","","","","","","","","","","","","","","","","","","","","","","","","","","","","","","","",""]
[null,{"$f":"IF(Basin_CountA=0,\"\",IF(User_Stage_Area=0,Basin!G3007,Basin!H3007))","v":""},{"$f":"IF(Basin_CountA=0,\"\",IF(User_Stage_Area=0,Basin!K3007,IF(B2978=\"\",\"\",Basin!L3007)))","v":""},{"$f":"IF(Basin_CountA=0,\"\",Basin!N3007)","v":""},null,"","","","","","","","","","","","","","","","","","","","","","","","","","","","","","","","","","","","","","","","","","","","","","","","","","","","","","","","","","",""]
[null,{"$f":"IF(Basin_CountA=0,\"\",IF(User_Stage_Area=0,Basin!G3008,Basin!H3008))","v":""},{"$f":"IF(Basin_CountA=0,\"\",IF(User_Stage_Area=0,Basin!K3008,IF(B2979=\"\",\"\",Basin!L3008)))","v":""},{"$f":"IF(Basin_CountA=0,\"\",Basin!N3008)","v":""},null,"","","","","","","","","","","","","","","","","","","","","","","","","","","","","","","","","","","","","","","","","","","","","","","","","","","","","","","","","","",""]
[null,{"$f":"IF(Basin_CountA=0,\"\",IF(User_Stage_Area=0,Basin!G3021,Basin!H3021))","v":""},{"$f":"IF(Basin_CountA=0,\"\",IF(User_Stage_Area=0,Basin!K3021,IF(B2992=\"\",\"\",Basin!L3021)))","v":""},{"$f":"IF(Basin_CountA=0,\"\",Basin!N3021)","v":""},null,"","","","","","","","","","","","","","","","","","","","","","","","","","","","","","","","","","","","","","","","","","","","","","","","","","","","","","","","","","",""]
[null,{"$f":"IF(Basin_CountA=0,\"\",IF(User_Stage_Area=0,Basin!G3025,Basin!H3025))","v":""},{"$f":"IF(Basin_CountA=0,\"\",IF(User_Stage_Area=0,Basin!K3025,IF(B2996=\"\",\"\",Basin!L3025)))","v":""},{"$f":"IF(Basin_CountA=0,\"\",Basin!N3025)","v":""},null,"","","","","","","","","","","","","","","","","","","","","","","","","","","","","","","","","","","","","","","","","","","","","","","","","","","","","","","","","","",""]
[null,{"$f":"IF(Basin_CountA=0,\"\",IF(User_Stage_Area=0,Basin!G3034,Basin!H3034))","v":""},{"$f":"IF(Basin_CountA=0,\"\",IF(User_Stage_Area=0,Basin!K3034,IF(B3005=\"\",\"\",Basin!L3034)))","v":""},{"$f":"IF(Basin_CountA=0,\"\",Basin!N3034)","v":""},null,"","","","","","","","","","","","","","","","","","","","","","","","","","","","","","","","","","","","","","","","","","","","","","","","","","","","","","","","","","",""]
[null,{"$f":"IF(Basin_CountA=0,\"\",IF(User_Stage_Area=0,Basin!G3043,Basin!H3043))","v":""},{"$f":"IF(Basin_CountA=0,\"\",IF(User_Stage_Area=0,Basin!K3043,IF(B3014=\"\",\"\",Basin!L3043)))","v":""},{"$f":"IF(Basin_CountA=0,\"\",Basin!N3043)","v":""},null,"","","","","","","","","","","","","","","","","","","","","","","","","","","","","","","","","","","","","","","","","","","","","","","","","","","","","","","","","","",""]
[null,{"$f":"IF(Basin_CountA=0,\"\",IF(User_Stage_Area=0,Basin!G3052,Basin!H3052))","v":""},{"$f":"IF(Basin_CountA=0,\"\",IF(User_Stage_Area=0,Basin!K3052,IF(B3023=\"\",\"\",Basin!L3052)))","v":""},{"$f":"IF(Basin_CountA=0,\"\",Basin!N3052)","v":""},null,"","","","","","","","","","","","","","","","","","","","","","","","","","","","","","","","","","","","","","","","","","","","","","","","","","","","","","","","","","",""]
[null,{"$f":"IF(Basin_CountA=0,\"\",IF(User_Stage_Area=0,Basin!G3061,Basin!H3061))","v":""},{"$f":"IF(Basin_CountA=0,\"\",IF(User_Stage_Area=0,Basin!K3061,IF(B3032=\"\",\"\",Basin!L3061)))","v":""},{"$f":"IF(Basin_CountA=0,\"\",Basin!N3061)","v":""},null,"","","","","","","","","","","","","","","","","","","","","","","","","","","","","","","","","","","","","","","","","","","","","","","","","","","","","","","",{"$f":"IF(B3032=\"\",\"\",IF(R3032=0,0,\nIF(Weir2_Position=\"Overlapping\",IF(ROUND(X3032-N3032-J3032-I3032-H3032-G3032,3)=ROUND(R3032,3),1,0),\nIF(Overflow_Weir2_Rank=2,\nIF(ROUND(X3032-T3032,3)=ROUND(R3032,3),1,0),\nIF(Overflow_Weir2_Rank=3,\nIF(Overflow_Weir1_Rank=2,IF(ROUND(X3032-T3032,3)=ROUND(R3032,3),1,0),IF(ROUND(X3032-T3032-I3032,3)=ROUND(R3032,3),1,0)),\nIF(Overflow_Weir1_Rank=3,IF(ROUND(X3032-T3032,3)=ROUND(R3032,3),1,0),\nIF(Overflow_Weir1_Rank=2,IF(ROUND(X3032-T3032-I3032,3)=ROUND(R3032,3),1,0),IF(ROUND(X3032-T3032-J3032-I3032,3)=ROUND(R3032,3),1,0))))))))","v":""},"","",""]
[null,{"$f":"IF(Basin_CountA=0,\"\",IF(User_Stage_Area=0,Basin!G3070,Basin!H3070))","v":""},{"$f":"IF(Basin_CountA=0,\"\",IF(User_Stage_Area=0,Basin!K3070,IF(B3041=\"\",\"\",Basin!L3070)))","v":""},{"$f":"IF(Basin_CountA=0,\"\",Basin!N3070)","v":""},null,"","","","","","","","","","","","","","","","","","","","","","","","","","","","","","","","","","","","","","","","","","","","","","","","","","","","","","","","","","",""]
[null,{"$f":"IF(Basin_CountA=0,\"\",IF(User_Stage_Area=0,Basin!G3071,Basin!H3071))","v":""},{"$f":"IF(Basin_CountA=0,\"\",IF(User_Stage_Area=0,Basin!K3071,IF(B3042=\"\",\"\",Basin!L3071)))","v":""},{"$f":"IF(Basin_CountA=0,\"\",Basin!N3071)","v":""},null,"","","","","","","","","","","","","","","","","","","","","","","","","","","","","","","","","","","","","","","","","","","","","","","","","","","","","","","","","","",""]
[null,{"$f":"IF(Basin_CountA=0,\"\",IF(User_Stage_Area=0,Basin!G3080,Basin!H3080))","v":""},{"$f":"IF(Basin_CountA=0,\"\",IF(User_Stage_Area=0,Basin!K3080,IF(B3051=\"\",\"\",Basin!L3080)))","v":""},{"$f":"IF(Basin_CountA=0,\"\",Basin!N3080)","v":""},null,"","","","","","","","","","","","","","","","","","","","","","","","","","","","","","","","","","","","","","","","","","","","","","","","","","","","","","","","","","",""]
[null,{"$f":"IF(Basin_CountA=0,\"\",IF(User_Stage_Area=0,Basin!G3089,Basin!H3089))","v":""},{"$f":"IF(Basin_CountA=0,\"\",IF(User_Stage_Area=0,Basin!K3089,IF(B3060=\"\",\"\",Basin!L3089)))","v":""},{"$f":"IF(Basin_CountA=0,\"\",Basin!N3089)","v":""},null,"","","","","","","","","","","","","","","","","","","","","","","","","","","","","","","","","","","","","","","","","","","","","","","","","","","","","","","","","","",""]
[null,{"$f":"IF(Basin_CountA=0,\"\",IF(User_Stage_Area=0,Basin!G3098,Basin!H3098))","v":""},{"$f":"IF(Basin_CountA=0,\"\",IF(User_Stage_Area=0,Basin!K3098,IF(B3069=\"\",\"\",Basin!L3098)))","v":""},{"$f":"IF(Basin_CountA=0,\"\",Basin!N3098)","v":""},null,"","","","","","","","","","","","","","","","","","","","","","","","","","","","","","","","","","","","","","","","","","","","","","","","","","","","","","","","","","",""]
[null,{"$f":"IF(Basin_CountA=0,\"\",IF(User_Stage_Area=0,Basin!G3107,Basin!H3107))","v":""},{"$f":"IF(Basin_CountA=0,\"\",IF(User_Stage_Area=0,Basin!K3107,IF(B3078=\"\",\"\",Basin!L3107)))","v":""},{"$f":"IF(Basin_CountA=0,\"\",Basin!N3107)","v":""},null,"","","","","","","","","","","","","","","","","","","","","","","","","","","","","","","","","","","","","","","","","","","","","","","","","","","","","","","","","","",""]
[null,{"$f":"IF(Basin_CountA=0,\"\",IF(User_Stage_Area=0,Basin!G3116,Basin!H3116))","v":""},{"$f":"IF(Basin_CountA=0,\"\",IF(User_Stage_Area=0,Basin!K3116,IF(B3087=\"\",\"\",Basin!L3116)))","v":""},{"$f":"IF(Basin_CountA=0,\"\",Basin!N3116)","v":""},null,{"$f":"IF(B3087=\"\",\"\",IF(D3087=\"\",\"\",2*D3087))","v":""},{"$f":"IF(B3087=\"\",\"\",\nIF(OR(Underdrain_Invert=\"\",Underdrain_Invert=\"N/A\",Underdrain_Diameter=\"\",Underdrain_Diameter=\"N/A\"),0,\nIF(B3087+Underdrain_Invert<=Underdrain_Orifice_Centroid,0,IF(B3087=0,0,0.6*Underdrain_Orifice_Area*(64.4*(B3087+Underdrain_Invert-Underdrain_Orifice_Centroid))^0.5))))","v":""},{"$f":"IF(B3087=\"\",\"\",\nIF(OR(WQ_Plate_Invert=\"\",WQ_Plate_Invert=\"N/A\",Required_Depth=\"\",Required_Depth=\"N/A\",Ao_OC_or_ESLOT_H=\"\",Ao_or_ESLOT_W=\"\"),0,\nIF(ESLOT_RATIO=\"\",AR3087,IF(ESLOT_RATIO<>\"\",BC3087,0))))","v":""},{"$f":"IF(B3087=\"\",\"\",IF(Vertical_Orifice1_Boolean=0,0,\nIF(B3087<=Orifice1_Invert,0,\nIF(B3087<Orifice1_Invert+Orifice1_Height/12,\n(0.6*Vertical_Orifice1_Area*(64.4*Vertical_Orifice1_Centroid)^0.5)*((B3087-Orifice1_Invert)/(Orifice1_Height/12))^1.81,\n0.6*Vertical_Orifice1_Area*(64.4*(B3087-Orifice1_Invert-Vertical_Orifice1_Centroid))^0.5))))","v":""},{"$f":"IF(B3087=\"\",\"\",IF(Vertical_Orifice2_Boolean=0,0,\nIF(B3087<=Orifice2_Invert,0,\nIF(B3087<Orifice2_Invert+Orifice2_Height/12,\n(0.6*Vertical_Orifice2_Area*(64.4*Vertical_Orifice2_Centroid)^0.5)*((B3087-Orifice2_Invert)/(Orifice2_Height/12))^1.81,\n0.6*Vertical_Orifice2_Area*(64.4*(B3087-Orifice2_Invert-Vertical_Orifice2_Centroid))^0.5))))","v":""},"","",{"$f":"IF(B3087=\"\",\"\",K3087+L3087-1.11*(K3087*L3087)^0.5)","v":""},"","","",{"$f":"IF(B3087=\"\",\"\",O3087+P3087-1.11*(O3087*P3087)^0.5)","v":""},"",{"$f":"IF(B3087=\"\",\"\",\nIF(Outlet_Pipe1_Boolean=0,0,\nIF(B3087+Outlet1_Orifice_Invert<2*Outlet1_Orifice_Centroid,\nIF((0.6*Outlet1_Orifice_Area*(64.4*Outlet1_Orifice_Centroid)^0.5)*((B3087+Outlet1_Orifice_Invert)/(2*Outlet1_Orifice_Centroid))^1.81<H3087,H3087,\n(0.6*Outlet1_Orifice_Area*(64.4*Outlet1_Orifice_Centroid)^0.5)*((B3087+Outlet1_Orifice_Invert)/(2*Outlet1_Orifice_Centroid))^1.81),\n0.6*Outlet1_Orifice_Area*(64.4*(B3087+Outlet1_Orifice_Invert-Outlet1_Orifice_Centroid))^0.5)))","v":""},{"$f":"IF(B3087=\"\",\"\",IF(Outlet_Pipe1_Boolean=0,0,\nIF(Outlet_Pipe1_Rank=3,MIN(S3087,G3087+H3087+I3087+J3087+N3087),\nIF(Outlet_Pipe1_Rank=2,IF(Vertical_Orifice1_Rank=1,MIN(S3087,G3087+H3087+I3087+N3087),MIN(S3087,G3087+H3087+J3087+N3087)),\nIF(Outlet_Pipe1_Rank=1,MIN(S3087,G3087+H3087+N3087),\nMIN(S3087,G3087+H3087+I3087+J3087))))))","v":""},{"$f":"IF(B3087=\"\",\"\",\nIF(Outlet_Pipe2_Boolean=0,0,\nIF(B3087+Outlet2_Orifice_Invert<2*Outlet2_Orifice_Centroid,\nIF((0.6*Outlet2_Orifice_Area*(64.4*Outlet2_Orifice_Centroid)^0.5)*((B3087+Outlet2_Orifice_Invert)/(2*Outlet2_Orifice_Centroid))^1.81<H3087,H3087,\n(0.6*Outlet2_Orifice_Area*(64.4*Outlet2_Orifice_Centroid)^0.5)*((B3087+Outlet2_Orifice_Invert)/(2*Outlet2_Orifice_Centroid))^1.81),\n0.6*Outlet2_Orifice_Area*(64.4*(B3087+Outlet2_Orifice_Invert-Outlet2_Orifice_Centroid))^0.5)))","v":""},{"$f":"IF(B3087=\"\",\"\",IF(OR(Outlet_Pipe1_Boolean=0,Outlet_Pipe2_Boolean=0),0,\nIF(Outlet_Pipe2_Rank=4,\nIF(Outlet_Pipe1_Rank=3,MIN(U3087,R3087+T3087),\nIF(AND(Outlet_Pipe1_Rank=2,Vertical_Orifice2_Rank=3),MIN(U3087,J3087+R3087+T3087),\nIF(AND(Outlet_Pipe1_Rank=2,Vertical_Orifice1_Rank=3),MIN(U3087,I3087+R3087+T3087),MIN(U3087,I3087+J3087+R3087+T3087)))),\n\nIF(Outlet_Pipe2_Rank=3,\nIF(Outlet_Pipe1_Rank=2,MIN(U3087,R3087+T3087),\nIF(Vertical_Orifice2_Rank=2,MIN(U3087,J3087+R3087+T3087),MIN(U3087,I3087+R3087+T3087))),\n\nMIN(U3087,R3087+T3087)))))","v":""},"",{"$f":"IF(B3087=\"\",\"\",IF(E3087<>\"\",E3087,\nIF(V3087<>0,V3087+W3087,\nIF(T3087<>0,T3087+W3087,\nG3087+H3087+I3087+J3087+N3087+R3087+W3087))))","v":""},{"$f":"IF(B3087=\"\",\"\",IF(X3087=\"\",\"\",IF(D3087=\"\",\"\",X3087*$C$3089*60+F3087)))","v":""},{"$f":"IF(B3087=\"\",\"\",IF(Y3087<=0,0,IF(Y3087=\"\",Z1586,((X3087-X1586)/(Y3087-Y1586)))))","v":""},{"$f":"IF(B3087=\"\",\"\",IF(Y3087<=0,0,IF(Y3087=\"\",AA1586,((B3087-B1586)/(Y3087-Y1586)))))","v":""},{"$f":"IF($B3087=\"\",\"\",IF(OR(Row1_Stage=\"\",Row1_Stage=\"N/A\"),0,IF($B3087<=Row1_Stage,0,0.6*(Row1_Area/144)*(64.4*($B3087-Row1_Stage))^0.5)))","v":""},{"$f":"IF($B3087=\"\",\"\",IF(OR(Row2_Stage=\"\",Row2_Stage=\"N/A\"),0,IF($B3087<=Row2_Stage,0,0.6*(Row2_Area/144)*(64.4*($B3087-Row2_Stage))^0.5)))","v":""},{"$f":"IF($B3087=\"\",\"\",IF(OR(Row3_Stage=\"\",Row3_Stage=\"N/A\"),0,IF($B3087<=Row3_Stage,0,0.6*(Row3_Area/144)*(64.4*($B3087-Row3_Stage))^0.5)))","v":""},{"$f":"IF($B3087=\"\",\"\",IF(OR(Row4_Stage=\"\",Row4_Stage=\"N/A\"),0,IF($B3087<=Row4_Stage,0,0.6*(Row4_Area/144)*(64.4*($B3087-Row4_Stage))^0.5)))","v":""},{"$f":"IF($B3087=\"\",\"\",IF(OR(Row5_Stage=\"\",Row5_Stage=\"N/A\"),0,IF($B3087<=Row5_Stage,0,0.6*(Row5_Area/144)*(64.4*($B3087-Row5_Stage))^0.5)))","v":""},{"$f":"IF($B3087=\"\",\"\",IF(OR(Row6_Stage=\"\",Row6_Stage=\"N/A\"),0,IF($B3087<=Row6_Stage,0,0.6*(Row6_Area/144)*(64.4*($B3087-Row6_Stage))^0.5)))","v":""},{"$f":"IF($B3087=\"\",\"\",IF(OR(Row7_Stage=\"\",Row7_Stage=\"N/A\"),0,IF($B3087<=Row7_Stage,0,0.6*(Row7_Area/144)*(64.4*($B3087-Row7_Stage))^0.5)))","v":""},{"$f":"IF($B3087=\"\",\"\",IF(OR(Row8_Stage=\"\",Row8_Stage=\"N/A\"),0,IF($B3087<=Row8_Stage,0,0.6*(Row8_Area/144)*(64.4*($B3087-Row8_Stage))^0.5)))","v":""},{"$f":"IF($B3087=\"\",\"\",IF(OR(Row9_Stage=\"\",Row9_Stage=\"N/A\"),0,IF($B3087<=Row9_Stage,0,0.6*(Row9_Area/144)*(64.4*($B3087-Row9_Stage))^0.5)))","v":""},{"$f":"IF($B3087=\"\",\"\",IF(OR(Row10_Stage=\"\",Row10_Stage=\"N/A\"),0,IF($B3087<=Row10_Stage,0,0.6*(Row10_Area/144)*(64.4*($B3087-Row10_Stage))^0.5)))","v":""},{"$f":"IF($B3087=\"\",\"\",IF(OR(Row11_Stage=\"\",Row11_Stage=\"N/A\"),0,IF($B3087<=Row11_Stage,0,0.6*(Row11_Area/144)*(64.4*($B3087-Row11_Stage))^0.5)))","v":""},{"$f":"IF($B3087=\"\",\"\",IF(OR(Row12_Stage=\"\",Row12_Stage=\"N/A\"),0,IF($B3087<=Row12_Stage,0,0.6*(Row12_Area/144)*(64.4*($B3087-Row12_Stage))^0.5)))","v":""},{"$f":"IF($B3087=\"\",\"\",IF(OR(Row13_Stage=\"\",Row13_Stage=\"N/A\"),0,IF($B3087<=Row13_Stage,0,0.6*(Row13_Area/144)*(64.4*($B3087-Row13_Stage))^0.5)))","v":""},{"$f":"IF($B3087=\"\",\"\",IF(OR(Row14_Stage=\"\",Row14_Stage=\"N/A\"),0,IF($B3087<=Row14_Stage,0,0.6*(Row14_Area/144)*(64.4*($B3087-Row14_Stage))^0.5)))","v":""},{"$f":"IF($B3087=\"\",\"\",IF(OR(Row15_Stage=\"\",Row15_Stage=\"N/A\"),0,IF($B3087<=Row15_Stage,0,0.6*(Row15_Area/144)*(64.4*($B3087-Row15_Stage))^0.5)))","v":""},{"$f":"IF($B3087=\"\",\"\",IF(OR(Row16_Stage=\"\",Row16_Stage=\"N/A\"),0,IF($B3087<=Row16_Stage,0,0.6*(Row16_Area/144)*(64.4*($B3087-Row16_Stage))^0.5)))","v":""},{"$f":"IF(B3087=\"\",\"\",SUM(AB3087:AQ3087))","v":""},"","","","","","","","","","","",{"$f":"IF(B3087=\"\",\"\",IF(G3087=0,0,IF(X3087=G3087,1,0)))","v":""},{"$f":"IF(B3087=\"\",\"\",IF(H3087=0,0,IF(ROUND(X3087-G3087,3)=ROUND(H3087,3),1,0)))","v":""},{"$f":"IF(B3087=\"\",\"\",IF(I3087=0,0,\nIF(Vertical_Orifice1_Rank=1,IF(ROUND(X3087-H3087-G3087,3)=ROUND(I3087,3),1,0),\nIF(Vertical_Orifice1_Rank=2,IF(ROUND(X3087-T3087,3)=ROUND(I3087,3),1,0),\nIF(ROUND(X3087-V3087,3)=ROUND(I3087,3),1,0)))))","v":""},{"$f":"IF(B3087=\"\",\"\",IF(J3087=0,0,\nIF(Vertical_Orifice2_Rank=2,IF(ROUND(X3087-I3087-H3087-G3087,3)=ROUND(J3087,3),1,0),\nIF(Vertical_Orifice2_Rank=3,\nIF(Vertical_Orifice1_Rank=1,IF(ROUND(X3087-T3087,3)=ROUND(J3087,3),1,0),IF(ROUND(X3087-T3087-I3087,3)=ROUND(J3087,3),1,0)),\nIF(OR(Vertical_Orifice1_Rank=1,Vertical_Orifice1_Rank=2),IF(ROUND(X3087-T3087,3)=ROUND(J3087,3),1,0),IF(ROUND(X3087-T3087-I3087,3)=ROUND(J3087,3),1,0))))))","v":""},{"$f":"IF(B3087=\"\",\"\",IF(N3087=0,0,\nIF(Overflow_Weir1_Rank=1,IF(ROUND(X3087-H3087-G3087,3)=ROUND(N3087,3),1,0),\nIF(Overflow_Weir1_Rank=2,IF(ROUND(X3087-I3087-H3087-G3087,3)=ROUND(N3087,3),1,0),\nIF(ROUND(X3087-J3087-I3087-H3087-G3087,3)=ROUND(N3087,3),1,0)))))","v":""},"",{"$f":"IF(B3087=\"\",\"\",IF(T3087=0,0,IF(ROUND(X3087,3)=ROUND(S3087,3),1,0)))","v":""},{"$f":"IF(B3087=\"\",\"\",IF(V3087=0,0,IF(ROUND(X3087,3)=ROUND(U3087,3),1,0)))","v":""},{"$f":"IF(B3087=\"\",\"\",IF(W3087=0,0,1))","v":""}]
[null,0.41666666666666669,25,"","",0,0,0,0,0,{"$error":"#VALUE!"},0,{"$error":"#VALUE!"},{"$error":"#VALUE!"},{"$error":"#VALUE!"},{"$error":"#VALUE!"},{"$error":"#VALUE!"},{"$error":"#VALUE!"},{"$f":"IF(SUM(S$3091:S3095)>0,0,\nIF(MAX(L3096:L$4531)=MAX(L$3091:L$4531),0,\nIF(Hydrograph_Source_WQCV=\"USER\",IF(J3096>0.03*D$4532,0,$C3096/60),\nIF(J3096>0.03*J$4532,0,$C3096/60))))","v":0},{"$f":"IF(SUM(T$3091:T3095)>0,0,\nIF(MAX(L3096:L$4531)=MAX(L$3091:L$4531),0,\nIF(Hydrograph_Source_WQCV=\"USER\",IF(J3096>0.01*D$4532,0,$C3096/60),\nIF(J3096>0.01*J$4532,0,$C3096/60))))","v":0},"","",0,0,0,0,0,{"$error":"#VALUE!"},0,{"$error":"#VALUE!"},{"$error":"#VALUE!"},{"$error":"#VALUE!"},{"$error":"#VALUE!"},{"$error":"#VALUE!"},{"$error":"#VALUE!"},{"$f":"IF(SUM(AJ$3091:AJ3095)>0,0,\nIF(MAX(AC3096:AC$4531)=MAX(AC$3091:AC$4531),0,\nIF(Hydrograph_Source_EURV=\"USER\",IF(AA3096>0.03*U$4532,0,$C3096/60),\nIF(AA3096>0.03*AA$4532,0,$C3096/60))))","v":0},{"$f":"IF(SUM(AK$3091:AK3095)>0,0,\nIF(MAX(AC3096:AC$4531)=MAX(AC$3091:AC$4531),0,\nIF(Hydrograph_Source_EURV=\"USER\",IF(AA3096>0.01*U$4532,0,$C3096/60),\nIF(AA3096>0.01*AA$4532,0,$C3096/60))))","v":0},0,0,0,0,0,0,0,0,0,{"$error":"#N/A"},{"$error":"#N/A"},{"$error":"#N/A"},{"$error":"#N/A"},{"$error":"#N/A"},{"$error":"#N/A"},{"$f":"IF(SUM(BA$3091:BA3095)>0,0,IF(MAX(AT3096:AT$4531)=MAX(AT$3091:AT$4531),0,IF(AR3096>0.03*AL$4532,0,$C3096/60)))","v":0},{"$f":"IF(SUM(BB$3091:BB3095)>0,0,IF(MAX(AT3096:AT$4531)=MAX(AT$3091:AT$4531),0,IF(AR3096>0.01*AL$4532,0,$C3096/60)))","v":0},0,0,0,0,0,0,0,0,0,{"$error":"#N/A"},{"$error":"#N/A"},{"$error":"#N/A"},{"$error":"#N/A"},{"$error":"#N/A"},{"$error":"#N/A"},{"$f":"IF(SUM(BR$3091:BR3095)>0,0,IF(MAX(BK3096:BK$4531)=MAX(BK$3091:BK$4531),0,IF(BI3096>0.03*BC$4532,0,$C3096/60)))","v":0},{"$f":"IF(SUM(BS$3091:BS3095)>0,0,IF(MAX(BK3096:BK$4531)=MAX(BK$3091:BK$4531),0,IF(BI3096>0.01*BC$4532,0,$C3096/60)))","v":0},0,0,0,0,0,0,0,0,0,{"$error":"#N/A"},{"$error":"#N/A"},{"$error":"#N/A"},{"$error":"#N/A"},{"$error":"#N/A"},{"$error":"#N/A"},{"$f":"IF(SUM(CI$3091:CI3095)>0,0,IF(MAX(CB3096:CB$4531)=MAX(CB$3091:CB$4531),0,IF(BZ3096>0.03*BT$4532,0,$C3096/60)))","v":0},{"$f":"IF(SUM(CJ$3091:CJ3095)>0,0,IF(MAX(CB3096:CB$4531)=MAX(CB$3091:CB$4531),0,IF(BZ3096>0.01*BT$4532,0,$C3096/60)))","v":0},0,0,0,0,0,0,0,0,0,{"$error":"#N/A"},{"$error":"#N/A"},{"$error":"#N/A"},{"$error":"#N/A"},{"$error":"#N/A"},{"$error":"#N/A"},{"$f":"IF(SUM(CZ$3091:CZ3095)>0,0,IF(MAX(CS3096:CS$4531)=MAX(CS$3091:CS$4531),0,IF(CQ3096>0.03*CK$4532,0,$C3096/60)))","v":0},{"$f":"IF(SUM(DA$3091:DA3095)>0,0,IF(MAX(CS3096:CS$4531)=MAX(CS$3091:CS$4531),0,IF(CQ3096>0.01*CK$4532,0,$C3096/60)))","v":0},0,0,0,0,0,0,0,0,0,{"$error":"#N/A"},{"$error":"#N/A"},{"$error":"#N/A"},{"$error":"#N/A"},{"$error":"#N/A"},{"$error":"#N/A"},{"$f":"IF(SUM(DQ$3091:DQ3095)>0,0,IF(MAX(DJ3096:DJ$4531)=MAX(DJ$3091:DJ$4531),0,IF(DH3096>0.03*DB$4532,0,$C3096/60)))","v":0},{"$f":"IF(SUM(DR$3091:DR3095)>0,0,IF(MAX(DJ3096:DJ$4531)=MAX(DJ$3091:DJ$4531),0,IF(DH3096>0.01*DB$4532,0,$C3096/60)))","v":0},0,0,0,0,0,0,0,0,0,{"$error":"#N/A"},{"$error":"#N/A"},{"$error":"#N/A"},{"$error":"#N/A"},{"$error":"#N/A"},{"$error":"#N/A"},{"$f":"IF(SUM(EH$3091:EH3095)>0,0,IF(MAX(EA3096:EA$4531)=MAX(EA$3091:EA$4531),0,IF(DY3096>0.03*DS$4532,0,$C3096/60)))","v":0},{"$f":"IF(SUM(EI$3091:EI3095)>0,0,IF(MAX(EA3096:EA$4531)=MAX(EA$3091:EA$4531),0,IF(DY3096>0.01*DS$4532,0,$C3096/60)))","v":0},0,0,0,0,0,0,0,0,0,{"$error":"#N/A"},{"$error":"#N/A"},{"$error":"#N/A"},{"$error":"#N/A"},{"$error":"#N/A"},{"$error":"#N/A"},{"$f":"IF(SUM(EY$3091:EY3095)>0,0,IF(MAX(ER3096:ER$4531)=MAX(ER$3091:ER$4531),0,IF(EP3096>0.03*EJ$4532,0,$C3096/60)))","v":0},{"$f":"IF(SUM(EZ$3091:EZ3095)>0,0,IF(MAX(ER3096:ER$4531)=MAX(ER$3091:ER$4531),0,IF(EP3096>0.01*EJ$4532,0,$C3096/60)))","v":0}]
[null,1.1666666666666667,70,"","",0,0,0,0,0,{"$error":"#VALUE!"},0,{"$error":"#VALUE!"},{"$error":"#VALUE!"},{"$error":"#VALUE!"},{"$error":"#VALUE!"},{"$error":"#VALUE!"},{"$error":"#VALUE!"},{"$f":"IF(SUM(S$3091:S3104)>0,0,\nIF(MAX(L3105:L$4531)=MAX(L$3091:L$4531),0,\nIF(Hydrograph_Source_WQCV=\"USER\",IF(J3105>0.03*D$4532,0,$C3105/60),\nIF(J3105>0.03*J$4532,0,$C3105/60))))","v":0},{"$f":"IF(SUM(T$3091:T3104)>0,0,\nIF(MAX(L3105:L$4531)=MAX(L$3091:L$4531),0,\nIF(Hydrograph_Source_WQCV=\"USER\",IF(J3105>0.01*D$4532,0,$C3105/60),\nIF(J3105>0.01*J$4532,0,$C3105/60))))","v":0},"","",0,0,0,0,0,{"$error":"#VALUE!"},0,{"$error":"#VALUE!"},{"$error":"#VALUE!"},{"$error":"#VALUE!"},{"$error":"#VALUE!"},{"$error":"#VALUE!"},{"$error":"#VALUE!"},{"$f":"IF(SUM(AJ$3091:AJ3104)>0,0,\nIF(MAX(AC3105:AC$4531)=MAX(AC$3091:AC$4531),0,\nIF(Hydrograph_Source_EURV=\"USER\",IF(AA3105>0.03*U$4532,0,$C3105/60),\nIF(AA3105>0.03*AA$4532,0,$C3105/60))))","v":0},{"$f":"IF(SUM(AK$3091:AK3104)>0,0,\nIF(MAX(AC3105:AC$4531)=MAX(AC$3091:AC$4531),0,\nIF(Hydrograph_Source_EURV=\"USER\",IF(AA3105>0.01*U$4532,0,$C3105/60),\nIF(AA3105>0.01*AA$4532,0,$C3105/60))))","v":0},0,0,0,0,0,0,0,0,0,{"$error":"#N/A"},{"$error":"#N/A"},{"$error":"#N/A"},{"$error":"#N/A"},{"$error":"#N/A"},{"$error":"#N/A"},{"$f":"IF(SUM(BA$3091:BA3104)>0,0,IF(MAX(AT3105:AT$4531)=MAX(AT$3091:AT$4531),0,IF(AR3105>0.03*AL$4532,0,$C3105/60)))","v":0},{"$f":"IF(SUM(BB$3091:BB3104)>0,0,IF(MAX(AT3105:AT$4531)=MAX(AT$3091:AT$4531),0,IF(AR3105>0.01*AL$4532,0,$C3105/60)))","v":0},0,0,0,0,0,0,0,0,0,{"$error":"#N/A"},{"$error":"#N/A"},{"$error":"#N/A"},{"$error":"#N/A"},{"$error":"#N/A"},{"$error":"#N/A"},{"$f":"IF(SUM(BR$3091:BR3104)>0,0,IF(MAX(BK3105:BK$4531)=MAX(BK$3091:BK$4531),0,IF(BI3105>0.03*BC$4532,0,$C3105/60)))","v":0},{"$f":"IF(SUM(BS$3091:BS3104)>0,0,IF(MAX(BK3105:BK$4531)=MAX(BK$3091:BK$4531),0,IF(BI3105>0.01*BC$4532,0,$C3105/60)))","v":0},0,0,0,0,0,0,0,0,0,{"$error":"#N/A"},{"$error":"#N/A"},{"$error":"#N/A"},{"$error":"#N/A"},{"$error":"#N/A"},{"$error":"#N/A"},{"$f":"IF(SUM(CI$3091:CI3104)>0,0,IF(MAX(CB3105:CB$4531)=MAX(CB$3091:CB$4531),0,IF(BZ3105>0.03*BT$4532,0,$C3105/60)))","v":0},{"$f":"IF(SUM(CJ$3091:CJ3104)>0,0,IF(MAX(CB3105:CB$4531)=MAX(CB$3091:CB$4531),0,IF(BZ3105>0.01*BT$4532,0,$C3105/60)))","v":0},0,0,0,0,0,0,0,0,0,{"$error":"#N/A"},{"$error":"#N/A"},{"$error":"#N/A"},{"$error":"#N/A"},{"$error":"#N/A"},{"$error":"#N/A"},{"$f":"IF(SUM(CZ$3091:CZ3104)>0,0,IF(MAX(CS3105:CS$4531)=MAX(CS$3091:CS$4531),0,IF(CQ3105>0.03*CK$4532,0,$C3105/60)))","v":0},{"$f":"IF(SUM(DA$3091:DA3104)>0,0,IF(MAX(CS3105:CS$4531)=MAX(CS$3091:CS$4531),0,IF(CQ3105>0.01*CK$4532,0,$C3105/60)))","v":0},0,0,0,0,0,0,0,0,0,{"$error":"#N/A"},{"$error":"#N/A"},{"$error":"#N/A"},{"$error":"#N/A"},{"$error":"#N/A"},{"$error":"#N/A"},{"$f":"IF(SUM(DQ$3091:DQ3104)>0,0,IF(MAX(DJ3105:DJ$4531)=MAX(DJ$3091:DJ$4531),0,IF(DH3105>0.03*DB$4532,0,$C3105/60)))","v":0},{"$f":"IF(SUM(DR$3091:DR3104)>0,0,IF(MAX(DJ3105:DJ$4531)=MAX(DJ$3091:DJ$4531),0,IF(DH3105>0.01*DB$4532,0,$C3105/60)))","v":0},0,0,0,0,0,0,0,0,0,{"$error":"#N/A"},{"$error":"#N/A"},{"$error":"#N/A"},{"$error":"#N/A"},{"$error":"#N/A"},{"$error":"#N/A"},{"$f":"IF(SUM(EH$3091:EH3104)>0,0,IF(MAX(EA3105:EA$4531)=MAX(EA$3091:EA$4531),0,IF(DY3105>0.03*DS$4532,0,$C3105/60)))","v":0},{"$f":"IF(SUM(EI$3091:EI3104)>0,0,IF(MAX(EA3105:EA$4531)=MAX(EA$3091:EA$4531),0,IF(DY3105>0.01*DS$4532,0,$C3105/60)))","v":0},0,0,0,0,0,0,0,0,0,{"$error":"#N/A"},{"$error":"#N/A"},{"$error":"#N/A"},{"$error":"#N/A"},{"$error":"#N/A"},{"$error":"#N/A"},{"$f":"IF(SUM(EY$3091:EY3104)>0,0,IF(MAX(ER3105:ER$4531)=MAX(ER$3091:ER$4531),0,IF(EP3105>0.03*EJ$4532,0,$C3105/60)))","v":0},{"$f":"IF(SUM(EZ$3091:EZ3104)>0,0,IF(MAX(ER3105:ER$4531)=MAX(ER$3091:ER$4531),0,IF(EP3105>0.01*EJ$4532,0,$C3105/60)))","v":0}]
[null,1.25,75,"","",0,0,0,0,0,{"$error":"#VALUE!"},0,{"$error":"#VALUE!"},{"$error":"#VALUE!"},{"$error":"#VALUE!"},{"$error":"#VALUE!"},{"$error":"#VALUE!"},{"$error":"#VALUE!"},{"$f":"IF(SUM(S$3091:S3105)>0,0,\nIF(MAX(L3106:L$4531)=MAX(L$3091:L$4531),0,\nIF(Hydrograph_Source_WQCV=\"USER\",IF(J3106>0.03*D$4532,0,$C3106/60),\nIF(J3106>0.03*J$4532,0,$C3106/60))))","v":0},{"$f":"IF(SUM(T$3091:T3105)>0,0,\nIF(MAX(L3106:L$4531)=MAX(L$3091:L$4531),0,\nIF(Hydrograph_Source_WQCV=\"USER\",IF(J3106>0.01*D$4532,0,$C3106/60),\nIF(J3106>0.01*J$4532,0,$C3106/60))))","v":0},"","",0,0,0,0,0,{"$error":"#VALUE!"},0,{"$error":"#VALUE!"},{"$error":"#VALUE!"},{"$error":"#VALUE!"},{"$error":"#VALUE!"},{"$error":"#VALUE!"},{"$error":"#VALUE!"},{"$f":"IF(SUM(AJ$3091:AJ3105)>0,0,\nIF(MAX(AC3106:AC$4531)=MAX(AC$3091:AC$4531),0,\nIF(Hydrograph_Source_EURV=\"USER\",IF(AA3106>0.03*U$4532,0,$C3106/60),\nIF(AA3106>0.03*AA$4532,0,$C3106/60))))","v":0},{"$f":"IF(SUM(AK$3091:AK3105)>0,0,\nIF(MAX(AC3106:AC$4531)=MAX(AC$3091:AC$4531),0,\nIF(Hydrograph_Source_EURV=\"USER\",IF(AA3106>0.01*U$4532,0,$C3106/60),\nIF(AA3106>0.01*AA$4532,0,$C3106/60))))","v":0},0,0,0,0,0,0,0,0,0,{"$error":"#N/A"},{"$error":"#N/A"},{"$error":"#N/A"},{"$error":"#N/A"},{"$error":"#N/A"},{"$error":"#N/A"},{"$f":"IF(SUM(BA$3091:BA3105)>0,0,IF(MAX(AT3106:AT$4531)=MAX(AT$3091:AT$4531),0,IF(AR3106>0.03*AL$4532,0,$C3106/60)))","v":0},{"$f":"IF(SUM(BB$3091:BB3105)>0,0,IF(MAX(AT3106:AT$4531)=MAX(AT$3091:AT$4531),0,IF(AR3106>0.01*AL$4532,0,$C3106/60)))","v":0},0,0,0,0,0,0,0,0,0,{"$error":"#N/A"},{"$error":"#N/A"},{"$error":"#N/A"},{"$error":"#N/A"},{"$error":"#N/A"},{"$error":"#N/A"},{"$f":"IF(SUM(BR$3091:BR3105)>0,0,IF(MAX(BK3106:BK$4531)=MAX(BK$3091:BK$4531),0,IF(BI3106>0.03*BC$4532,0,$C3106/60)))","v":0},{"$f":"IF(SUM(BS$3091:BS3105)>0,0,IF(MAX(BK3106:BK$4531)=MAX(BK$3091:BK$4531),0,IF(BI3106>0.01*BC$4532,0,$C3106/60)))","v":0},0,0,0,0,0,0,0,0,0,{"$error":"#N/A"},{"$error":"#N/A"},{"$error":"#N/A"},{"$error":"#N/A"},{"$error":"#N/A"},{"$error":"#N/A"},{"$f":"IF(SUM(CI$3091:CI3105)>0,0,IF(MAX(CB3106:CB$4531)=MAX(CB$3091:CB$4531),0,IF(BZ3106>0.03*BT$4532,0,$C3106/60)))","v":0},{"$f":"IF(SUM(CJ$3091:CJ3105)>0,0,IF(MAX(CB3106:CB$4531)=MAX(CB$3091:CB$4531),0,IF(BZ3106>0.01*BT$4532,0,$C3106/60)))","v":0},0,0,0,0,0,0,0,0,0,{"$error":"#N/A"},{"$error":"#N/A"},{"$error":"#N/A"},{"$error":"#N/A"},{"$error":"#N/A"},{"$error":"#N/A"},{"$f":"IF(SUM(CZ$3091:CZ3105)>0,0,IF(MAX(CS3106:CS$4531)=MAX(CS$3091:CS$4531),0,IF(CQ3106>0.03*CK$4532,0,$C3106/60)))","v":0},{"$f":"IF(SUM(DA$3091:DA3105)>0,0,IF(MAX(CS3106:CS$4531)=MAX(CS$3091:CS$4531),0,IF(CQ3106>0.01*CK$4532,0,$C3106/60)))","v":0},0,0,0,0,0,0,0,0,0,{"$error":"#N/A"},{"$error":"#N/A"},{"$error":"#N/A"},{"$error":"#N/A"},{"$error":"#N/A"},{"$error":"#N/A"},{"$f":"IF(SUM(DQ$3091:DQ3105)>0,0,IF(MAX(DJ3106:DJ$4531)=MAX(DJ$3091:DJ$4531),0,IF(DH3106>0.03*DB$4532,0,$C3106/60)))","v":0},{"$f":"IF(SUM(DR$3091:DR3105)>0,0,IF(MAX(DJ3106:DJ$4531)=MAX(DJ$3091:DJ$4531),0,IF(DH3106>0.01*DB$4532,0,$C3106/60)))","v":0},0,0,0,0,0,0,0,0,0,{"$error":"#N/A"},{"$error":"#N/A"},{"$error":"#N/A"},{"$error":"#N/A"},{"$error":"#N/A"},{"$error":"#N/A"},{"$f":"IF(SUM(EH$3091:EH3105)>0,0,IF(MAX(EA3106:EA$4531)=MAX(EA$3091:EA$4531),0,IF(DY3106>0.03*DS$4532,0,$C3106/60)))","v":0},{"$f":"IF(SUM(EI$3091:EI3105)>0,0,IF(MAX(EA3106:EA$4531)=MAX(EA$3091:EA$4531),0,IF(DY3106>0.01*DS$4532,0,$C3106/60)))","v":0},0,0,0,0,0,0,0,0,0,{"$error":"#N/A"},{"$error":"#N/A"},{"$error":"#N/A"},{"$error":"#N/A"},{"$error":"#N/A"},{"$error":"#N/A"},{"$f":"IF(SUM(EY$3091:EY3105)>0,0,IF(MAX(ER3106:ER$4531)=MAX(ER$3091:ER$4531),0,IF(EP3106>0.03*EJ$4532,0,$C3106/60)))","v":0},{"$f":"IF(SUM(EZ$3091:EZ3105)>0,0,IF(MAX(ER3106:ER$4531)=MAX(ER$3091:ER$4531),0,IF(EP3106>0.01*EJ$4532,0,$C3106/60)))","v":0}]
[null,2,120,"","",0,0,0,0,0,{"$error":"#VALUE!"},0,{"$error":"#VALUE!"},{"$error":"#VALUE!"},{"$error":"#VALUE!"},{"$error":"#VALUE!"},{"$error":"#VALUE!"},{"$error":"#VALUE!"},{"$f":"IF(SUM(S$3091:S3114)>0,0,\nIF(MAX(L3115:L$4531)=MAX(L$3091:L$4531),0,\nIF(Hydrograph_Source_WQCV=\"USER\",IF(J3115>0.03*D$4532,0,$C3115/60),\nIF(J3115>0.03*J$4532,0,$C3115/60))))","v":0},{"$f":"IF(SUM(T$3091:T3114)>0,0,\nIF(MAX(L3115:L$4531)=MAX(L$3091:L$4531),0,\nIF(Hydrograph_Source_WQCV=\"USER\",IF(J3115>0.01*D$4532,0,$C3115/60),\nIF(J3115>0.01*J$4532,0,$C3115/60))))","v":0},"","",0,0,0,0,0,{"$error":"#VALUE!"},0,{"$error":"#VALUE!"},{"$error":"#VALUE!"},{"$error":"#VALUE!"},{"$error":"#VALUE!"},{"$error":"#VALUE!"},{"$error":"#VALUE!"},{"$f":"IF(SUM(AJ$3091:AJ3114)>0,0,\nIF(MAX(AC3115:AC$4531)=MAX(AC$3091:AC$4531),0,\nIF(Hydrograph_Source_EURV=\"USER\",IF(AA3115>0.03*U$4532,0,$C3115/60),\nIF(AA3115>0.03*AA$4532,0,$C3115/60))))","v":0},{"$f":"IF(SUM(AK$3091:AK3114)>0,0,\nIF(MAX(AC3115:AC$4531)=MAX(AC$3091:AC$4531),0,\nIF(Hydrograph_Source_EURV=\"USER\",IF(AA3115>0.01*U$4532,0,$C3115/60),\nIF(AA3115>0.01*AA$4532,0,$C3115/60))))","v":0},0,0,0,0,0,0,0,0,0,{"$error":"#N/A"},{"$error":"#N/A"},{"$error":"#N/A"},{"$error":"#N/A"},{"$error":"#N/A"},{"$error":"#N/A"},{"$f":"IF(SUM(BA$3091:BA3114)>0,0,IF(MAX(AT3115:AT$4531)=MAX(AT$3091:AT$4531),0,IF(AR3115>0.03*AL$4532,0,$C3115/60)))","v":0},{"$f":"IF(SUM(BB$3091:BB3114)>0,0,IF(MAX(AT3115:AT$4531)=MAX(AT$3091:AT$4531),0,IF(AR3115>0.01*AL$4532,0,$C3115/60)))","v":0},0,0,0,0,0,0,0,0,0,{"$error":"#N/A"},{"$error":"#N/A"},{"$error":"#N/A"},{"$error":"#N/A"},{"$error":"#N/A"},{"$error":"#N/A"},{"$f":"IF(SUM(BR$3091:BR3114)>0,0,IF(MAX(BK3115:BK$4531)=MAX(BK$3091:BK$4531),0,IF(BI3115>0.03*BC$4532,0,$C3115/60)))","v":0},{"$f":"IF(SUM(BS$3091:BS3114)>0,0,IF(MAX(BK3115:BK$4531)=MAX(BK$3091:BK$4531),0,IF(BI3115>0.01*BC$4532,0,$C3115/60)))","v":0},0,0,0,0,0,0,0,0,0,{"$error":"#N/A"},{"$error":"#N/A"},{"$error":"#N/A"},{"$error":"#N/A"},{"$error":"#N/A"},{"$error":"#N/A"},{"$f":"IF(SUM(CI$3091:CI3114)>0,0,IF(MAX(CB3115:CB$4531)=MAX(CB$3091:CB$4531),0,IF(BZ3115>0.03*BT$4532,0,$C3115/60)))","v":0},{"$f":"IF(SUM(CJ$3091:CJ3114)>0,0,IF(MAX(CB3115:CB$4531)=MAX(CB$3091:CB$4531),0,IF(BZ3115>0.01*BT$4532,0,$C3115/60)))","v":0},0,0,0,0,0,0,0,0,0,{"$error":"#N/A"},{"$error":"#N/A"},{"$error":"#N/A"},{"$error":"#N/A"},{"$error":"#N/A"},{"$error":"#N/A"},{"$f":"IF(SUM(CZ$3091:CZ3114)>0,0,IF(MAX(CS3115:CS$4531)=MAX(CS$3091:CS$4531),0,IF(CQ3115>0.03*CK$4532,0,$C3115/60)))","v":0},{"$f":"IF(SUM(DA$3091:DA3114)>0,0,IF(MAX(CS3115:CS$4531)=MAX(CS$3091:CS$4531),0,IF(CQ3115>0.01*CK$4532,0,$C3115/60)))","v":0},0,0,0,0,0,0,0,0,0,{"$error":"#N/A"},{"$error":"#N/A"},{"$error":"#N/A"},{"$error":"#N/A"},{"$error":"#N/A"},{"$error":"#N/A"},{"$f":"IF(SUM(DQ$3091:DQ3114)>0,0,IF(MAX(DJ3115:DJ$4531)=MAX(DJ$3091:DJ$4531),0,IF(DH3115>0.03*DB$4532,0,$C3115/60)))","v":0},{"$f":"IF(SUM(DR$3091:DR3114)>0,0,IF(MAX(DJ3115:DJ$4531)=MAX(DJ$3091:DJ$4531),0,IF(DH3115>0.01*DB$4532,0,$C3115/60)))","v":0},0,0,0,0,0,0,0,0,0,{"$error":"#N/A"},{"$error":"#N/A"},{"$error":"#N/A"},{"$error":"#N/A"},{"$error":"#N/A"},{"$error":"#N/A"},{"$f":"IF(SUM(EH$3091:EH3114)>0,0,IF(MAX(EA3115:EA$4531)=MAX(EA$3091:EA$4531),0,IF(DY3115>0.03*DS$4532,0,$C3115/60)))","v":0},{"$f":"IF(SUM(EI$3091:EI3114)>0,0,IF(MAX(EA3115:EA$4531)=MAX(EA$3091:EA$4531),0,IF(DY3115>0.01*DS$4532,0,$C3115/60)))","v":0},0,0,0,0,0,0,0,0,0,{"$error":"#N/A"},{"$error":"#N/A"},{"$error":"#N/A"},{"$error":"#N/A"},{"$error":"#N/A"},{"$error":"#N/A"},{"$f":"IF(SUM(EY$3091:EY3114)>0,0,IF(MAX(ER3115:ER$4531)=MAX(ER$3091:ER$4531),0,IF(EP3115>0.03*EJ$4532,0,$C3115/60)))","v":0},{"$f":"IF(SUM(EZ$3091:EZ3114)>0,0,IF(MAX(ER3115:ER$4531)=MAX(ER$3091:ER$4531),0,IF(EP3115>0.01*EJ$4532,0,$C3115/60)))","v":0}]
[null,2.75,165,"","",0,0,0,0,0,{"$error":"#VALUE!"},0,{"$error":"#VALUE!"},{"$error":"#VALUE!"},{"$error":"#VALUE!"},{"$error":"#VALUE!"},{"$error":"#VALUE!"},{"$error":"#VALUE!"},{"$f":"IF(SUM(S$3091:S3123)>0,0,\nIF(MAX(L3124:L$4531)=MAX(L$3091:L$4531),0,\nIF(Hydrograph_Source_WQCV=\"USER\",IF(J3124>0.03*D$4532,0,$C3124/60),\nIF(J3124>0.03*J$4532,0,$C3124/60))))","v":0},{"$f":"IF(SUM(T$3091:T3123)>0,0,\nIF(MAX(L3124:L$4531)=MAX(L$3091:L$4531),0,\nIF(Hydrograph_Source_WQCV=\"USER\",IF(J3124>0.01*D$4532,0,$C3124/60),\nIF(J3124>0.01*J$4532,0,$C3124/60))))","v":0},"","",0,0,0,0,0,{"$error":"#VALUE!"},0,{"$error":"#VALUE!"},{"$error":"#VALUE!"},{"$error":"#VALUE!"},{"$error":"#VALUE!"},{"$error":"#VALUE!"},{"$error":"#VALUE!"},{"$f":"IF(SUM(AJ$3091:AJ3123)>0,0,\nIF(MAX(AC3124:AC$4531)=MAX(AC$3091:AC$4531),0,\nIF(Hydrograph_Source_EURV=\"USER\",IF(AA3124>0.03*U$4532,0,$C3124/60),\nIF(AA3124>0.03*AA$4532,0,$C3124/60))))","v":0},{"$f":"IF(SUM(AK$3091:AK3123)>0,0,\nIF(MAX(AC3124:AC$4531)=MAX(AC$3091:AC$4531),0,\nIF(Hydrograph_Source_EURV=\"USER\",IF(AA3124>0.01*U$4532,0,$C3124/60),\nIF(AA3124>0.01*AA$4532,0,$C3124/60))))","v":0},0,0,0,0,0,0,0,0,0,{"$error":"#N/A"},{"$error":"#N/A"},{"$error":"#N/A"},{"$error":"#N/A"},{"$error":"#N/A"},{"$error":"#N/A"},{"$f":"IF(SUM(BA$3091:BA3123)>0,0,IF(MAX(AT3124:AT$4531)=MAX(AT$3091:AT$4531),0,IF(AR3124>0.03*AL$4532,0,$C3124/60)))","v":0},{"$f":"IF(SUM(BB$3091:BB3123)>0,0,IF(MAX(AT3124:AT$4531)=MAX(AT$3091:AT$4531),0,IF(AR3124>0.01*AL$4532,0,$C3124/60)))","v":0},0,0,0,0,0,0,0,0,0,{"$error":"#N/A"},{"$error":"#N/A"},{"$error":"#N/A"},{"$error":"#N/A"},{"$error":"#N/A"},{"$error":"#N/A"},{"$f":"IF(SUM(BR$3091:BR3123)>0,0,IF(MAX(BK3124:BK$4531)=MAX(BK$3091:BK$4531),0,IF(BI3124>0.03*BC$4532,0,$C3124/60)))","v":0},{"$f":"IF(SUM(BS$3091:BS3123)>0,0,IF(MAX(BK3124:BK$4531)=MAX(BK$3091:BK$4531),0,IF(BI3124>0.01*BC$4532,0,$C3124/60)))","v":0},0,0,0,0,0,0,0,0,0,{"$error":"#N/A"},{"$error":"#N/A"},{"$error":"#N/A"},{"$error":"#N/A"},{"$error":"#N/A"},{"$error":"#N/A"},{"$f":"IF(SUM(CI$3091:CI3123)>0,0,IF(MAX(CB3124:CB$4531)=MAX(CB$3091:CB$4531),0,IF(BZ3124>0.03*BT$4532,0,$C3124/60)))","v":0},{"$f":"IF(SUM(CJ$3091:CJ3123)>0,0,IF(MAX(CB3124:CB$4531)=MAX(CB$3091:CB$4531),0,IF(BZ3124>0.01*BT$4532,0,$C3124/60)))","v":0},0,0,0,0,0,0,0,0,0,{"$error":"#N/A"},{"$error":"#N/A"},{"$error":"#N/A"},{"$error":"#N/A"},{"$error":"#N/A"},{"$error":"#N/A"},{"$f":"IF(SUM(CZ$3091:CZ3123)>0,0,IF(MAX(CS3124:CS$4531)=MAX(CS$3091:CS$4531),0,IF(CQ3124>0.03*CK$4532,0,$C3124/60)))","v":0},{"$f":"IF(SUM(DA$3091:DA3123)>0,0,IF(MAX(CS3124:CS$4531)=MAX(CS$3091:CS$4531),0,IF(CQ3124>0.01*CK$4532,0,$C3124/60)))","v":0},0,0,0,0,0,0,0,0,0,{"$error":"#N/A"},{"$error":"#N/A"},{"$error":"#N/A"},{"$error":"#N/A"},{"$error":"#N/A"},{"$error":"#N/A"},{"$f":"IF(SUM(DQ$3091:DQ3123)>0,0,IF(MAX(DJ3124:DJ$4531)=MAX(DJ$3091:DJ$4531),0,IF(DH3124>0.03*DB$4532,0,$C3124/60)))","v":0},{"$f":"IF(SUM(DR$3091:DR3123)>0,0,IF(MAX(DJ3124:DJ$4531)=MAX(DJ$3091:DJ$4531),0,IF(DH3124>0.01*DB$4532,0,$C3124/60)))","v":0},0,0,0,0,0,0,0,0,0,{"$error":"#N/A"},{"$error":"#N/A"},{"$error":"#N/A"},{"$error":"#N/A"},{"$error":"#N/A"},{"$error":"#N/A"},{"$f":"IF(SUM(EH$3091:EH3123)>0,0,IF(MAX(EA3124:EA$4531)=MAX(EA$3091:EA$4531),0,IF(DY3124>0.03*DS$4532,0,$C3124/60)))","v":0},{"$f":"IF(SUM(EI$3091:EI3123)>0,0,IF(MAX(EA3124:EA$4531)=MAX(EA$3091:EA$4531),0,IF(DY3124>0.01*DS$4532,0,$C3124/60)))","v":0},0,0,0,0,0,0,0,0,0,{"$error":"#N/A"},{"$error":"#N/A"},{"$error":"#N/A"},{"$error":"#N/A"},{"$error":"#N/A"},{"$error":"#N/A"},{"$f":"IF(SUM(EY$3091:EY3123)>0,0,IF(MAX(ER3124:ER$4531)=MAX(ER$3091:ER$4531),0,IF(EP3124>0.03*EJ$4532,0,$C3124/60)))","v":0},{"$f":"IF(SUM(EZ$3091:EZ3123)>0,0,IF(MAX(ER3124:ER$4531)=MAX(ER$3091:ER$4531),0,IF(EP3124>0.01*EJ$4532,0,$C3124/60)))","v":0}]
[null,3.5,210,"","",0,0,0,0,0,{"$error":"#VALUE!"},0,{"$error":"#VALUE!"},{"$error":"#VALUE!"},{"$error":"#VALUE!"},{"$error":"#VALUE!"},{"$error":"#VALUE!"},{"$error":"#VALUE!"},{"$f":"IF(SUM(S$3091:S3132)>0,0,\nIF(MAX(L3133:L$4531)=MAX(L$3091:L$4531),0,\nIF(Hydrograph_Source_WQCV=\"USER\",IF(J3133>0.03*D$4532,0,$C3133/60),\nIF(J3133>0.03*J$4532,0,$C3133/60))))","v":0},{"$f":"IF(SUM(T$3091:T3132)>0,0,\nIF(MAX(L3133:L$4531)=MAX(L$3091:L$4531),0,\nIF(Hydrograph_Source_WQCV=\"USER\",IF(J3133>0.01*D$4532,0,$C3133/60),\nIF(J3133>0.01*J$4532,0,$C3133/60))))","v":0},"","",0,0,0,0,0,{"$error":"#VALUE!"},0,{"$error":"#VALUE!"},{"$error":"#VALUE!"},{"$error":"#VALUE!"},{"$error":"#VALUE!"},{"$error":"#VALUE!"},{"$error":"#VALUE!"},{"$f":"IF(SUM(AJ$3091:AJ3132)>0,0,\nIF(MAX(AC3133:AC$4531)=MAX(AC$3091:AC$4531),0,\nIF(Hydrograph_Source_EURV=\"USER\",IF(AA3133>0.03*U$4532,0,$C3133/60),\nIF(AA3133>0.03*AA$4532,0,$C3133/60))))","v":0},{"$f":"IF(SUM(AK$3091:AK3132)>0,0,\nIF(MAX(AC3133:AC$4531)=MAX(AC$3091:AC$4531),0,\nIF(Hydrograph_Source_EURV=\"USER\",IF(AA3133>0.01*U$4532,0,$C3133/60),\nIF(AA3133>0.01*AA$4532,0,$C3133/60))))","v":0},0,0,0,0,0,0,0,0,0,{"$error":"#N/A"},{"$error":"#N/A"},{"$error":"#N/A"},{"$error":"#N/A"},{"$error":"#N/A"},{"$error":"#N/A"},{"$f":"IF(SUM(BA$3091:BA3132)>0,0,IF(MAX(AT3133:AT$4531)=MAX(AT$3091:AT$4531),0,IF(AR3133>0.03*AL$4532,0,$C3133/60)))","v":0},{"$f":"IF(SUM(BB$3091:BB3132)>0,0,IF(MAX(AT3133:AT$4531)=MAX(AT$3091:AT$4531),0,IF(AR3133>0.01*AL$4532,0,$C3133/60)))","v":0},0,0,0,0,0,0,0,0,0,{"$error":"#N/A"},{"$error":"#N/A"},{"$error":"#N/A"},{"$error":"#N/A"},{"$error":"#N/A"},{"$error":"#N/A"},{"$f":"IF(SUM(BR$3091:BR3132)>0,0,IF(MAX(BK3133:BK$4531)=MAX(BK$3091:BK$4531),0,IF(BI3133>0.03*BC$4532,0,$C3133/60)))","v":0},{"$f":"IF(SUM(BS$3091:BS3132)>0,0,IF(MAX(BK3133:BK$4531)=MAX(BK$3091:BK$4531),0,IF(BI3133>0.01*BC$4532,0,$C3133/60)))","v":0},0,0,0,0,0,0,0,0,0,{"$error":"#N/A"},{"$error":"#N/A"},{"$error":"#N/A"},{"$error":"#N/A"},{"$error":"#N/A"},{"$error":"#N/A"},{"$f":"IF(SUM(CI$3091:CI3132)>0,0,IF(MAX(CB3133:CB$4531)=MAX(CB$3091:CB$4531),0,IF(BZ3133>0.03*BT$4532,0,$C3133/60)))","v":0},{"$f":"IF(SUM(CJ$3091:CJ3132)>0,0,IF(MAX(CB3133:CB$4531)=MAX(CB$3091:CB$4531),0,IF(BZ3133>0.01*BT$4532,0,$C3133/60)))","v":0},0,0,0,0,0,0,0,0,0,{"$error":"#N/A"},{"$error":"#N/A"},{"$error":"#N/A"},{"$error":"#N/A"},{"$error":"#N/A"},{"$error":"#N/A"},{"$f":"IF(SUM(CZ$3091:CZ3132)>0,0,IF(MAX(CS3133:CS$4531)=MAX(CS$3091:CS$4531),0,IF(CQ3133>0.03*CK$4532,0,$C3133/60)))","v":0},{"$f":"IF(SUM(DA$3091:DA3132)>0,0,IF(MAX(CS3133:CS$4531)=MAX(CS$3091:CS$4531),0,IF(CQ3133>0.01*CK$4532,0,$C3133/60)))","v":0},0,0,0,0,0,0,0,0,0,{"$error":"#N/A"},{"$error":"#N/A"},{"$error":"#N/A"},{"$error":"#N/A"},{"$error":"#N/A"},{"$error":"#N/A"},{"$f":"IF(SUM(DQ$3091:DQ3132)>0,0,IF(MAX(DJ3133:DJ$4531)=MAX(DJ$3091:DJ$4531),0,IF(DH3133>0.03*DB$4532,0,$C3133/60)))","v":0},{"$f":"IF(SUM(DR$3091:DR3132)>0,0,IF(MAX(DJ3133:DJ$4531)=MAX(DJ$3091:DJ$4531),0,IF(DH3133>0.01*DB$4532,0,$C3133/60)))","v":0},0,0,0,0,0,0,0,0,0,{"$error":"#N/A"},{"$error":"#N/A"},{"$error":"#N/A"},{"$error":"#N/A"},{"$error":"#N/A"},{"$error":"#N/A"},{"$f":"IF(SUM(EH$3091:EH3132)>0,0,IF(MAX(EA3133:EA$4531)=MAX(EA$3091:EA$4531),0,IF(DY3133>0.03*DS$4532,0,$C3133/60)))","v":0},{"$f":"IF(SUM(EI$3091:EI3132)>0,0,IF(MAX(EA3133:EA$4531)=MAX(EA$3091:EA$4531),0,IF(DY3133>0.01*DS$4532,0,$C3133/60)))","v":0},0,0,0,0,0,0,0,0,0,{"$error":"#N/A"},{"$error":"#N/A"},{"$error":"#N/A"},{"$error":"#N/A"},{"$error":"#N/A"},{"$error":"#N/A"},{"$f":"IF(SUM(EY$3091:EY3132)>0,0,IF(MAX(ER3133:ER$4531)=MAX(ER$3091:ER$4531),0,IF(EP3133>0.03*EJ$4532,0,$C3133/60)))","v":0},{"$f":"IF(SUM(EZ$3091:EZ3132)>0,0,IF(MAX(ER3133:ER$4531)=MAX(ER$3091:ER$4531),0,IF(EP3133>0.01*EJ$4532,0,$C3133/60)))","v":0}]
[null,4.25,255,"","",0,0,0,0,0,{"$error":"#VALUE!"},0,{"$error":"#VALUE!"},{"$error":"#VALUE!"},{"$error":"#VALUE!"},{"$error":"#VALUE!"},{"$error":"#VALUE!"},{"$error":"#VALUE!"},{"$f":"IF(SUM(S$3091:S3141)>0,0,\nIF(MAX(L3142:L$4531)=MAX(L$3091:L$4531),0,\nIF(Hydrograph_Source_WQCV=\"USER\",IF(J3142>0.03*D$4532,0,$C3142/60),\nIF(J3142>0.03*J$4532,0,$C3142/60))))","v":0},{"$f":"IF(SUM(T$3091:T3141)>0,0,\nIF(MAX(L3142:L$4531)=MAX(L$3091:L$4531),0,\nIF(Hydrograph_Source_WQCV=\"USER\",IF(J3142>0.01*D$4532,0,$C3142/60),\nIF(J3142>0.01*J$4532,0,$C3142/60))))","v":0},"","",0,0,0,0,0,{"$error":"#VALUE!"},0,{"$error":"#VALUE!"},{"$error":"#VALUE!"},{"$error":"#VALUE!"},{"$error":"#VALUE!"},{"$error":"#VALUE!"},{"$error":"#VALUE!"},{"$f":"IF(SUM(AJ$3091:AJ3141)>0,0,\nIF(MAX(AC3142:AC$4531)=MAX(AC$3091:AC$4531),0,\nIF(Hydrograph_Source_EURV=\"USER\",IF(AA3142>0.03*U$4532,0,$C3142/60),\nIF(AA3142>0.03*AA$4532,0,$C3142/60))))","v":0},{"$f":"IF(SUM(AK$3091:AK3141)>0,0,\nIF(MAX(AC3142:AC$4531)=MAX(AC$3091:AC$4531),0,\nIF(Hydrograph_Source_EURV=\"USER\",IF(AA3142>0.01*U$4532,0,$C3142/60),\nIF(AA3142>0.01*AA$4532,0,$C3142/60))))","v":0},0,0,0,0,0,0,0,0,0,{"$error":"#N/A"},{"$error":"#N/A"},{"$error":"#N/A"},{"$error":"#N/A"},{"$error":"#N/A"},{"$error":"#N/A"},{"$f":"IF(SUM(BA$3091:BA3141)>0,0,IF(MAX(AT3142:AT$4531)=MAX(AT$3091:AT$4531),0,IF(AR3142>0.03*AL$4532,0,$C3142/60)))","v":0},{"$f":"IF(SUM(BB$3091:BB3141)>0,0,IF(MAX(AT3142:AT$4531)=MAX(AT$3091:AT$4531),0,IF(AR3142>0.01*AL$4532,0,$C3142/60)))","v":0},0,0,0,0,0,0,0,0,0,{"$error":"#N/A"},{"$error":"#N/A"},{"$error":"#N/A"},{"$error":"#N/A"},{"$error":"#N/A"},{"$error":"#N/A"},{"$f":"IF(SUM(BR$3091:BR3141)>0,0,IF(MAX(BK3142:BK$4531)=MAX(BK$3091:BK$4531),0,IF(BI3142>0.03*BC$4532,0,$C3142/60)))","v":0},{"$f":"IF(SUM(BS$3091:BS3141)>0,0,IF(MAX(BK3142:BK$4531)=MAX(BK$3091:BK$4531),0,IF(BI3142>0.01*BC$4532,0,$C3142/60)))","v":0},0,0,0,0,0,0,0,0,0,{"$error":"#N/A"},{"$error":"#N/A"},{"$error":"#N/A"},{"$error":"#N/A"},{"$error":"#N/A"},{"$error":"#N/A"},{"$f":"IF(SUM(CI$3091:CI3141)>0,0,IF(MAX(CB3142:CB$4531)=MAX(CB$3091:CB$4531),0,IF(BZ3142>0.03*BT$4532,0,$C3142/60)))","v":0},{"$f":"IF(SUM(CJ$3091:CJ3141)>0,0,IF(MAX(CB3142:CB$4531)=MAX(CB$3091:CB$4531),0,IF(BZ3142>0.01*BT$4532,0,$C3142/60)))","v":0},0,0,0,0,0,0,0,0,0,{"$error":"#N/A"},{"$error":"#N/A"},{"$error":"#N/A"},{"$error":"#N/A"},{"$error":"#N/A"},{"$error":"#N/A"},{"$f":"IF(SUM(CZ$3091:CZ3141)>0,0,IF(MAX(CS3142:CS$4531)=MAX(CS$3091:CS$4531),0,IF(CQ3142>0.03*CK$4532,0,$C3142/60)))","v":0},{"$f":"IF(SUM(DA$3091:DA3141)>0,0,IF(MAX(CS3142:CS$4531)=MAX(CS$3091:CS$4531),0,IF(CQ3142>0.01*CK$4532,0,$C3142/60)))","v":0},0,0,0,0,0,0,0,0,0,{"$error":"#N/A"},{"$error":"#N/A"},{"$error":"#N/A"},{"$error":"#N/A"},{"$error":"#N/A"},{"$error":"#N/A"},{"$f":"IF(SUM(DQ$3091:DQ3141)>0,0,IF(MAX(DJ3142:DJ$4531)=MAX(DJ$3091:DJ$4531),0,IF(DH3142>0.03*DB$4532,0,$C3142/60)))","v":0},{"$f":"IF(SUM(DR$3091:DR3141)>0,0,IF(MAX(DJ3142:DJ$4531)=MAX(DJ$3091:DJ$4531),0,IF(DH3142>0.01*DB$4532,0,$C3142/60)))","v":0},0,0,0,0,0,0,0,0,0,{"$error":"#N/A"},{"$error":"#N/A"},{"$error":"#N/A"},{"$error":"#N/A"},{"$error":"#N/A"},{"$error":"#N/A"},{"$f":"IF(SUM(EH$3091:EH3141)>0,0,IF(MAX(EA3142:EA$4531)=MAX(EA$3091:EA$4531),0,IF(DY3142>0.03*DS$4532,0,$C3142/60)))","v":0},{"$f":"IF(SUM(EI$3091:EI3141)>0,0,IF(MAX(EA3142:EA$4531)=MAX(EA$3091:EA$4531),0,IF(DY3142>0.01*DS$4532,0,$C3142/60)))","v":0},0,0,0,0,0,0,0,0,0,{"$error":"#N/A"},{"$error":"#N/A"},{"$error":"#N/A"},{"$error":"#N/A"},{"$error":"#N/A"},{"$error":"#N/A"},{"$f":"IF(SUM(EY$3091:EY3141)>0,0,IF(MAX(ER3142:ER$4531)=MAX(ER$3091:ER$4531),0,IF(EP3142>0.03*EJ$4532,0,$C3142/60)))","v":0},{"$f":"IF(SUM(EZ$3091:EZ3141)>0,0,IF(MAX(ER3142:ER$4531)=MAX(ER$3091:ER$4531),0,IF(EP3142>0.01*EJ$4532,0,$C3142/60)))","v":0}]
[null,5,300,"","",0,0,0,0,0,{"$error":"#VALUE!"},0,{"$error":"#VALUE!"},{"$error":"#VALUE!"},{"$error":"#VALUE!"},{"$error":"#VALUE!"},{"$error":"#VALUE!"},{"$error":"#VALUE!"},{"$f":"IF(SUM(S$3091:S3150)>0,0,\nIF(MAX(L3151:L$4531)=MAX(L$3091:L$4531),0,\nIF(Hydrograph_Source_WQCV=\"USER\",IF(J3151>0.03*D$4532,0,$C3151/60),\nIF(J3151>0.03*J$4532,0,$C3151/60))))","v":0},{"$f":"IF(SUM(T$3091:T3150)>0,0,\nIF(MAX(L3151:L$4531)=MAX(L$3091:L$4531),0,\nIF(Hydrograph_Source_WQCV=\"USER\",IF(J3151>0.01*D$4532,0,$C3151/60),\nIF(J3151>0.01*J$4532,0,$C3151/60))))","v":0},"","",0,0,0,0,0,{"$error":"#VALUE!"},0,{"$error":"#VALUE!"},{"$error":"#VALUE!"},{"$error":"#VALUE!"},{"$error":"#VALUE!"},{"$error":"#VALUE!"},{"$error":"#VALUE!"},{"$f":"IF(SUM(AJ$3091:AJ3150)>0,0,\nIF(MAX(AC3151:AC$4531)=MAX(AC$3091:AC$4531),0,\nIF(Hydrograph_Source_EURV=\"USER\",IF(AA3151>0.03*U$4532,0,$C3151/60),\nIF(AA3151>0.03*AA$4532,0,$C3151/60))))","v":0},{"$f":"IF(SUM(AK$3091:AK3150)>0,0,\nIF(MAX(AC3151:AC$4531)=MAX(AC$3091:AC$4531),0,\nIF(Hydrograph_Source_EURV=\"USER\",IF(AA3151>0.01*U$4532,0,$C3151/60),\nIF(AA3151>0.01*AA$4532,0,$C3151/60))))","v":0},0,0,0,0,0,0,0,0,0,{"$error":"#N/A"},{"$error":"#N/A"},{"$error":"#N/A"},{"$error":"#N/A"},{"$error":"#N/A"},{"$error":"#N/A"},{"$f":"IF(SUM(BA$3091:BA3150)>0,0,IF(MAX(AT3151:AT$4531)=MAX(AT$3091:AT$4531),0,IF(AR3151>0.03*AL$4532,0,$C3151/60)))","v":0},{"$f":"IF(SUM(BB$3091:BB3150)>0,0,IF(MAX(AT3151:AT$4531)=MAX(AT$3091:AT$4531),0,IF(AR3151>0.01*AL$4532,0,$C3151/60)))","v":0},0,0,0,0,0,0,0,0,0,{"$error":"#N/A"},{"$error":"#N/A"},{"$error":"#N/A"},{"$error":"#N/A"},{"$error":"#N/A"},{"$error":"#N/A"},{"$f":"IF(SUM(BR$3091:BR3150)>0,0,IF(MAX(BK3151:BK$4531)=MAX(BK$3091:BK$4531),0,IF(BI3151>0.03*BC$4532,0,$C3151/60)))","v":0},{"$f":"IF(SUM(BS$3091:BS3150)>0,0,IF(MAX(BK3151:BK$4531)=MAX(BK$3091:BK$4531),0,IF(BI3151>0.01*BC$4532,0,$C3151/60)))","v":0},0,0,0,0,0,0,0,0,0,{"$error":"#N/A"},{"$error":"#N/A"},{"$error":"#N/A"},{"$error":"#N/A"},{"$error":"#N/A"},{"$error":"#N/A"},{"$f":"IF(SUM(CI$3091:CI3150)>0,0,IF(MAX(CB3151:CB$4531)=MAX(CB$3091:CB$4531),0,IF(BZ3151>0.03*BT$4532,0,$C3151/60)))","v":0},{"$f":"IF(SUM(CJ$3091:CJ3150)>0,0,IF(MAX(CB3151:CB$4531)=MAX(CB$3091:CB$4531),0,IF(BZ3151>0.01*BT$4532,0,$C3151/60)))","v":0},0,0,0,0,0,0,0,0,0,{"$error":"#N/A"},{"$error":"#N/A"},{"$error":"#N/A"},{"$error":"#N/A"},{"$error":"#N/A"},{"$error":"#N/A"},{"$f":"IF(SUM(CZ$3091:CZ3150)>0,0,IF(MAX(CS3151:CS$4531)=MAX(CS$3091:CS$4531),0,IF(CQ3151>0.03*CK$4532,0,$C3151/60)))","v":0},{"$f":"IF(SUM(DA$3091:DA3150)>0,0,IF(MAX(CS3151:CS$4531)=MAX(CS$3091:CS$4531),0,IF(CQ3151>0.01*CK$4532,0,$C3151/60)))","v":0},0,0,0,0,0,0,0,0,0,{"$error":"#N/A"},{"$error":"#N/A"},{"$error":"#N/A"},{"$error":"#N/A"},{"$error":"#N/A"},{"$error":"#N/A"},{"$f":"IF(SUM(DQ$3091:DQ3150)>0,0,IF(MAX(DJ3151:DJ$4531)=MAX(DJ$3091:DJ$4531),0,IF(DH3151>0.03*DB$4532,0,$C3151/60)))","v":0},{"$f":"IF(SUM(DR$3091:DR3150)>0,0,IF(MAX(DJ3151:DJ$4531)=MAX(DJ$3091:DJ$4531),0,IF(DH3151>0.01*DB$4532,0,$C3151/60)))","v":0},0,0,0,0,0,0,0,0,0,{"$error":"#N/A"},{"$error":"#N/A"},{"$error":"#N/A"},{"$error":"#N/A"},{"$error":"#N/A"},{"$error":"#N/A"},{"$f":"IF(SUM(EH$3091:EH3150)>0,0,IF(MAX(EA3151:EA$4531)=MAX(EA$3091:EA$4531),0,IF(DY3151>0.03*DS$4532,0,$C3151/60)))","v":0},{"$f":"IF(SUM(EI$3091:EI3150)>0,0,IF(MAX(EA3151:EA$4531)=MAX(EA$3091:EA$4531),0,IF(DY3151>0.01*DS$4532,0,$C3151/60)))","v":0},0,0,0,0,0,0,0,0,0,{"$error":"#N/A"},{"$error":"#N/A"},{"$error":"#N/A"},{"$error":"#N/A"},{"$error":"#N/A"},{"$error":"#N/A"},{"$f":"IF(SUM(EY$3091:EY3150)>0,0,IF(MAX(ER3151:ER$4531)=MAX(ER$3091:ER$4531),0,IF(EP3151>0.03*EJ$4532,0,$C3151/60)))","v":0},{"$f":"IF(SUM(EZ$3091:EZ3150)>0,0,IF(MAX(ER3151:ER$4531)=MAX(ER$3091:ER$4531),0,IF(EP3151>0.01*EJ$4532,0,$C3151/60)))","v":0}]
[null,5.75,345,"","",0,0,0,0,0,{"$error":"#VALUE!"},0,{"$error":"#VALUE!"},{"$error":"#VALUE!"},{"$error":"#VALUE!"},{"$error":"#VALUE!"},{"$error":"#VALUE!"},{"$error":"#VALUE!"},{"$f":"IF(SUM(S$3091:S3159)>0,0,\nIF(MAX(L3160:L$4531)=MAX(L$3091:L$4531),0,\nIF(Hydrograph_Source_WQCV=\"USER\",IF(J3160>0.03*D$4532,0,$C3160/60),\nIF(J3160>0.03*J$4532,0,$C3160/60))))","v":0},{"$f":"IF(SUM(T$3091:T3159)>0,0,\nIF(MAX(L3160:L$4531)=MAX(L$3091:L$4531),0,\nIF(Hydrograph_Source_WQCV=\"USER\",IF(J3160>0.01*D$4532,0,$C3160/60),\nIF(J3160>0.01*J$4532,0,$C3160/60))))","v":0},"","",0,0,0,0,0,{"$error":"#VALUE!"},0,{"$error":"#VALUE!"},{"$error":"#VALUE!"},{"$error":"#VALUE!"},{"$error":"#VALUE!"},{"$error":"#VALUE!"},{"$error":"#VALUE!"},{"$f":"IF(SUM(AJ$3091:AJ3159)>0,0,\nIF(MAX(AC3160:AC$4531)=MAX(AC$3091:AC$4531),0,\nIF(Hydrograph_Source_EURV=\"USER\",IF(AA3160>0.03*U$4532,0,$C3160/60),\nIF(AA3160>0.03*AA$4532,0,$C3160/60))))","v":0},{"$f":"IF(SUM(AK$3091:AK3159)>0,0,\nIF(MAX(AC3160:AC$4531)=MAX(AC$3091:AC$4531),0,\nIF(Hydrograph_Source_EURV=\"USER\",IF(AA3160>0.01*U$4532,0,$C3160/60),\nIF(AA3160>0.01*AA$4532,0,$C3160/60))))","v":0},0,0,0,0,0,0,0,0,0,{"$error":"#N/A"},{"$error":"#N/A"},{"$error":"#N/A"},{"$error":"#N/A"},{"$error":"#N/A"},{"$error":"#N/A"},{"$f":"IF(SUM(BA$3091:BA3159)>0,0,IF(MAX(AT3160:AT$4531)=MAX(AT$3091:AT$4531),0,IF(AR3160>0.03*AL$4532,0,$C3160/60)))","v":0},{"$f":"IF(SUM(BB$3091:BB3159)>0,0,IF(MAX(AT3160:AT$4531)=MAX(AT$3091:AT$4531),0,IF(AR3160>0.01*AL$4532,0,$C3160/60)))","v":0},0,0,0,0,0,0,0,0,0,{"$error":"#N/A"},{"$error":"#N/A"},{"$error":"#N/A"},{"$error":"#N/A"},{"$error":"#N/A"},{"$error":"#N/A"},{"$f":"IF(SUM(BR$3091:BR3159)>0,0,IF(MAX(BK3160:BK$4531)=MAX(BK$3091:BK$4531),0,IF(BI3160>0.03*BC$4532,0,$C3160/60)))","v":0},{"$f":"IF(SUM(BS$3091:BS3159)>0,0,IF(MAX(BK3160:BK$4531)=MAX(BK$3091:BK$4531),0,IF(BI3160>0.01*BC$4532,0,$C3160/60)))","v":0},0,0,0,0,0,0,0,0,0,{"$error":"#N/A"},{"$error":"#N/A"},{"$error":"#N/A"},{"$error":"#N/A"},{"$error":"#N/A"},{"$error":"#N/A"},{"$f":"IF(SUM(CI$3091:CI3159)>0,0,IF(MAX(CB3160:CB$4531)=MAX(CB$3091:CB$4531),0,IF(BZ3160>0.03*BT$4532,0,$C3160/60)))","v":0},{"$f":"IF(SUM(CJ$3091:CJ3159)>0,0,IF(MAX(CB3160:CB$4531)=MAX(CB$3091:CB$4531),0,IF(BZ3160>0.01*BT$4532,0,$C3160/60)))","v":0},0,0,0,0,0,0,0,0,0,{"$error":"#N/A"},{"$error":"#N/A"},{"$error":"#N/A"},{"$error":"#N/A"},{"$error":"#N/A"},{"$error":"#N/A"},{"$f":"IF(SUM(CZ$3091:CZ3159)>0,0,IF(MAX(CS3160:CS$4531)=MAX(CS$3091:CS$4531),0,IF(CQ3160>0.03*CK$4532,0,$C3160/60)))","v":0},{"$f":"IF(SUM(DA$3091:DA3159)>0,0,IF(MAX(CS3160:CS$4531)=MAX(CS$3091:CS$4531),0,IF(CQ3160>0.01*CK$4532,0,$C3160/60)))","v":0},0,0,0,0,0,0,0,0,0,{"$error":"#N/A"},{"$error":"#N/A"},{"$error":"#N/A"},{"$error":"#N/A"},{"$error":"#N/A"},{"$error":"#N/A"},{"$f":"IF(SUM(DQ$3091:DQ3159)>0,0,IF(MAX(DJ3160:DJ$4531)=MAX(DJ$3091:DJ$4531),0,IF(DH3160>0.03*DB$4532,0,$C3160/60)))","v":0},{"$f":"IF(SUM(DR$3091:DR3159)>0,0,IF(MAX(DJ3160:DJ$4531)=MAX(DJ$3091:DJ$4531),0,IF(DH3160>0.01*DB$4532,0,$C3160/60)))","v":0},0,0,0,0,0,0,0,0,0,{"$error":"#N/A"},{"$error":"#N/A"},{"$error":"#N/A"},{"$error":"#N/A"},{"$error":"#N/A"},{"$error":"#N/A"},{"$f":"IF(SUM(EH$3091:EH3159)>0,0,IF(MAX(EA3160:EA$4531)=MAX(EA$3091:EA$4531),0,IF(DY3160>0.03*DS$4532,0,$C3160/60)))","v":0},{"$f":"IF(SUM(EI$3091:EI3159)>0,0,IF(MAX(EA3160:EA$4531)=MAX(EA$3091:EA$4531),0,IF(DY3160>0.01*DS$4532,0,$C3160/60)))","v":0},0,0,0,0,0,0,0,0,0,{"$error":"#N/A"},{"$error":"#N/A"},{"$error":"#N/A"},{"$error":"#N/A"},{"$error":"#N/A"},{"$error":"#N/A"},{"$f":"IF(SUM(EY$3091:EY3159)>0,0,IF(MAX(ER3160:ER$4531)=MAX(ER$3091:ER$4531),0,IF(EP3160>0.03*EJ$4532,0,$C3160/60)))","v":0},{"$f":"IF(SUM(EZ$3091:EZ3159)>0,0,IF(MAX(ER3160:ER$4531)=MAX(ER$3091:ER$4531),0,IF(EP3160>0.01*EJ$4532,0,$C3160/60)))","v":0}]
[null,6.5,390,0,0,0,0,0,0,0,0,0,{"$error":"#N/A"},{"$error":"#N/A"},{"$error":"#N/A"},{"$error":"#N/A"},{"$error":"#N/A"},{"$error":"#N/A"},{"$f":"IF(SUM(S$3091:S3168)>0,0,\nIF(MAX(L3169:L$4531)=MAX(L$3091:L$4531),0,\nIF(Hydrograph_Source_WQCV=\"USER\",IF(J3169>0.03*D$4532,0,$C3169/60),\nIF(J3169>0.03*J$4532,0,$C3169/60))))","v":0},{"$f":"IF(SUM(T$3091:T3168)>0,0,\nIF(MAX(L3169:L$4531)=MAX(L$3091:L$4531),0,\nIF(Hydrograph_Source_WQCV=\"USER\",IF(J3169>0.01*D$4532,0,$C3169/60),\nIF(J3169>0.01*J$4532,0,$C3169/60))))","v":0},0,0,0,0,0,0,0,0,0,{"$error":"#N/A"},{"$error":"#N/A"},{"$error":"#N/A"},{"$error":"#N/A"},{"$error":"#N/A"},{"$error":"#N/A"},{"$f":"IF(SUM(AJ$3091:AJ3168)>0,0,\nIF(MAX(AC3169:AC$4531)=MAX(AC$3091:AC$4531),0,\nIF(Hydrograph_Source_EURV=\"USER\",IF(AA3169>0.03*U$4532,0,$C3169/60),\nIF(AA3169>0.03*AA$4532,0,$C3169/60))))","v":0},{"$f":"IF(SUM(AK$3091:AK3168)>0,0,\nIF(MAX(AC3169:AC$4531)=MAX(AC$3091:AC$4531),0,\nIF(Hydrograph_Source_EURV=\"USER\",IF(AA3169>0.01*U$4532,0,$C3169/60),\nIF(AA3169>0.01*AA$4532,0,$C3169/60))))","v":0},0,0,0,0,0,0,0,0,0,{"$error":"#N/A"},{"$error":"#N/A"},{"$error":"#N/A"},{"$error":"#N/A"},{"$error":"#N/A"},{"$error":"#N/A"},{"$f":"IF(SUM(BA$3091:BA3168)>0,0,IF(MAX(AT3169:AT$4531)=MAX(AT$3091:AT$4531),0,IF(AR3169>0.03*AL$4532,0,$C3169/60)))","v":0},{"$f":"IF(SUM(BB$3091:BB3168)>0,0,IF(MAX(AT3169:AT$4531)=MAX(AT$3091:AT$4531),0,IF(AR3169>0.01*AL$4532,0,$C3169/60)))","v":0},0,0,0,0,0,0,0,0,0,{"$error":"#N/A"},{"$error":"#N/A"},{"$error":"#N/A"},{"$error":"#N/A"},{"$error":"#N/A"},{"$error":"#N/A"},{"$f":"IF(SUM(BR$3091:BR3168)>0,0,IF(MAX(BK3169:BK$4531)=MAX(BK$3091:BK$4531),0,IF(BI3169>0.03*BC$4532,0,$C3169/60)))","v":0},{"$f":"IF(SUM(BS$3091:BS3168)>0,0,IF(MAX(BK3169:BK$4531)=MAX(BK$3091:BK$4531),0,IF(BI3169>0.01*BC$4532,0,$C3169/60)))","v":0},0,0,0,0,0,0,0,0,0,{"$error":"#N/A"},{"$error":"#N/A"},{"$error":"#N/A"},{"$error":"#N/A"},{"$error":"#N/A"},{"$error":"#N/A"},{"$f":"IF(SUM(CI$3091:CI3168)>0,0,IF(MAX(CB3169:CB$4531)=MAX(CB$3091:CB$4531),0,IF(BZ3169>0.03*BT$4532,0,$C3169/60)))","v":0},{"$f":"IF(SUM(CJ$3091:CJ3168)>0,0,IF(MAX(CB3169:CB$4531)=MAX(CB$3091:CB$4531),0,IF(BZ3169>0.01*BT$4532,0,$C3169/60)))","v":0},0,0,0,0,0,0,0,0,0,{"$error":"#N/A"},{"$error":"#N/A"},{"$error":"#N/A"},{"$error":"#N/A"},{"$error":"#N/A"},{"$error":"#N/A"},{"$f":"IF(SUM(CZ$3091:CZ3168)>0,0,IF(MAX(CS3169:CS$4531)=MAX(CS$3091:CS$4531),0,IF(CQ3169>0.03*CK$4532,0,$C3169/60)))","v":0},{"$f":"IF(SUM(DA$3091:DA3168)>0,0,IF(MAX(CS3169:CS$4531)=MAX(CS$3091:CS$4531),0,IF(CQ3169>0.01*CK$4532,0,$C3169/60)))","v":0},0,0,0,0,0,0,0,0,0,{"$error":"#N/A"},{"$error":"#N/A"},{"$error":"#N/A"},{"$error":"#N/A"},{"$error":"#N/A"},{"$error":"#N/A"},{"$f":"IF(SUM(DQ$3091:DQ3168)>0,0,IF(MAX(DJ3169:DJ$4531)=MAX(DJ$3091:DJ$4531),0,IF(DH3169>0.03*DB$4532,0,$C3169/60)))","v":0},{"$f":"IF(SUM(DR$3091:DR3168)>0,0,IF(MAX(DJ3169:DJ$4531)=MAX(DJ$3091:DJ$4531),0,IF(DH3169>0.01*DB$4532,0,$C3169/60)))","v":0},0,0,0,0,0,0,0,0,0,{"$error":"#N/A"},{"$error":"#N/A"},{"$error":"#N/A"},{"$error":"#N/A"},{"$error":"#N/A"},{"$error":"#N/A"},{"$f":"IF(SUM(EH$3091:EH3168)>0,0,IF(MAX(EA3169:EA$4531)=MAX(EA$3091:EA$4531),0,IF(DY3169>0.03*DS$4532,0,$C3169/60)))","v":0},{"$f":"IF(SUM(EI$3091:EI3168)>0,0,IF(MAX(EA3169:EA$4531)=MAX(EA$3091:EA$4531),0,IF(DY3169>0.01*DS$4532,0,$C3169/60)))","v":0},0,0,0,0,0,0,0,0,0,{"$error":"#N/A"},{"$error":"#N/A"},{"$error":"#N/A"},{"$error":"#N/A"},{"$error":"#N/A"},{"$error":"#N/A"},{"$f":"IF(SUM(EY$3091:EY3168)>0,0,IF(MAX(ER3169:ER$4531)=MAX(ER$3091:ER$4531),0,IF(EP3169>0.03*EJ$4532,0,$C3169/60)))","v":0},{"$f":"IF(SUM(EZ$3091:EZ3168)>0,0,IF(MAX(ER3169:ER$4531)=MAX(ER$3091:ER$4531),0,IF(EP3169>0.01*EJ$4532,0,$C3169/60)))","v":0}]
[null,6.583333333333333,395,0,0,0,0,0,0,0,0,0,{"$error":"#N/A"},{"$error":"#N/A"},{"$error":"#N/A"},{"$error":"#N/A"},{"$error":"#N/A"},{"$error":"#N/A"},{"$f":"IF(SUM(S$3091:S3169)>0,0,\nIF(MAX(L3170:L$4531)=MAX(L$3091:L$4531),0,\nIF(Hydrograph_Source_WQCV=\"USER\",IF(J3170>0.03*D$4532,0,$C3170/60),\nIF(J3170>0.03*J$4532,0,$C3170/60))))","v":0},{"$f":"IF(SUM(T$3091:T3169)>0,0,\nIF(MAX(L3170:L$4531)=MAX(L$3091:L$4531),0,\nIF(Hydrograph_Source_WQCV=\"USER\",IF(J3170>0.01*D$4532,0,$C3170/60),\nIF(J3170>0.01*J$4532,0,$C3170/60))))","v":0},0,0,0,0,0,0,0,0,0,{"$error":"#N/A"},{"$error":"#N/A"},{"$error":"#N/A"},{"$error":"#N/A"},{"$error":"#N/A"},{"$error":"#N/A"},{"$f":"IF(SUM(AJ$3091:AJ3169)>0,0,\nIF(MAX(AC3170:AC$4531)=MAX(AC$3091:AC$4531),0,\nIF(Hydrograph_Source_EURV=\"USER\",IF(AA3170>0.03*U$4532,0,$C3170/60),\nIF(AA3170>0.03*AA$4532,0,$C3170/60))))","v":0},{"$f":"IF(SUM(AK$3091:AK3169)>0,0,\nIF(MAX(AC3170:AC$4531)=MAX(AC$3091:AC$4531),0,\nIF(Hydrograph_Source_EURV=\"USER\",IF(AA3170>0.01*U$4532,0,$C3170/60),\nIF(AA3170>0.01*AA$4532,0,$C3170/60))))","v":0},0,0,0,0,0,0,0,0,0,{"$error":"#N/A"},{"$error":"#N/A"},{"$error":"#N/A"},{"$error":"#N/A"},{"$error":"#N/A"},{"$error":"#N/A"},{"$f":"IF(SUM(BA$3091:BA3169)>0,0,IF(MAX(AT3170:AT$4531)=MAX(AT$3091:AT$4531),0,IF(AR3170>0.03*AL$4532,0,$C3170/60)))","v":0},{"$f":"IF(SUM(BB$3091:BB3169)>0,0,IF(MAX(AT3170:AT$4531)=MAX(AT$3091:AT$4531),0,IF(AR3170>0.01*AL$4532,0,$C3170/60)))","v":0},0,0,0,0,0,0,0,0,0,{"$error":"#N/A"},{"$error":"#N/A"},{"$error":"#N/A"},{"$error":"#N/A"},{"$error":"#N/A"},{"$error":"#N/A"},{"$f":"IF(SUM(BR$3091:BR3169)>0,0,IF(MAX(BK3170:BK$4531)=MAX(BK$3091:BK$4531),0,IF(BI3170>0.03*BC$4532,0,$C3170/60)))","v":0},{"$f":"IF(SUM(BS$3091:BS3169)>0,0,IF(MAX(BK3170:BK$4531)=MAX(BK$3091:BK$4531),0,IF(BI3170>0.01*BC$4532,0,$C3170/60)))","v":0},0,0,0,0,0,0,0,0,0,{"$error":"#N/A"},{"$error":"#N/A"},{"$error":"#N/A"},{"$error":"#N/A"},{"$error":"#N/A"},{"$error":"#N/A"},{"$f":"IF(SUM(CI$3091:CI3169)>0,0,IF(MAX(CB3170:CB$4531)=MAX(CB$3091:CB$4531),0,IF(BZ3170>0.03*BT$4532,0,$C3170/60)))","v":0},{"$f":"IF(SUM(CJ$3091:CJ3169)>0,0,IF(MAX(CB3170:CB$4531)=MAX(CB$3091:CB$4531),0,IF(BZ3170>0.01*BT$4532,0,$C3170/60)))","v":0},0,0,0,0,0,0,0,0,0,{"$error":"#N/A"},{"$error":"#N/A"},{"$error":"#N/A"},{"$error":"#N/A"},{"$error":"#N/A"},{"$error":"#N/A"},{"$f":"IF(SUM(CZ$3091:CZ3169)>0,0,IF(MAX(CS3170:CS$4531)=MAX(CS$3091:CS$4531),0,IF(CQ3170>0.03*CK$4532,0,$C3170/60)))","v":0},{"$f":"IF(SUM(DA$3091:DA3169)>0,0,IF(MAX(CS3170:CS$4531)=MAX(CS$3091:CS$4531),0,IF(CQ3170>0.01*CK$4532,0,$C3170/60)))","v":0},0,0,0,0,0,0,0,0,0,{"$error":"#N/A"},{"$error":"#N/A"},{"$error":"#N/A"},{"$error":"#N/A"},{"$error":"#N/A"},{"$error":"#N/A"},{"$f":"IF(SUM(DQ$3091:DQ3169)>0,0,IF(MAX(DJ3170:DJ$4531)=MAX(DJ$3091:DJ$4531),0,IF(DH3170>0.03*DB$4532,0,$C3170/60)))","v":0},{"$f":"IF(SUM(DR$3091:DR3169)>0,0,IF(MAX(DJ3170:DJ$4531)=MAX(DJ$3091:DJ$4531),0,IF(DH3170>0.01*DB$4532,0,$C3170/60)))","v":0},0,0,0,0,0,0,0,0,0,{"$error":"#N/A"},{"$error":"#N/A"},{"$error":"#N/A"},{"$error":"#N/A"},{"$error":"#N/A"},{"$error":"#N/A"},{"$f":"IF(SUM(EH$3091:EH3169)>0,0,IF(MAX(EA3170:EA$4531)=MAX(EA$3091:EA$4531),0,IF(DY3170>0.03*DS$4532,0,$C3170/60)))","v":0},{"$f":"IF(SUM(EI$3091:EI3169)>0,0,IF(MAX(EA3170:EA$4531)=MAX(EA$3091:EA$4531),0,IF(DY3170>0.01*DS$4532,0,$C3170/60)))","v":0},0,0,0,0,0,0,0,0,0,{"$error":"#N/A"},{"$error":"#N/A"},{"$error":"#N/A"},{"$error":"#N/A"},{"$error":"#N/A"},{"$error":"#N/A"},{"$f":"IF(SUM(EY$3091:EY3169)>0,0,IF(MAX(ER3170:ER$4531)=MAX(ER$3091:ER$4531),0,IF(EP3170>0.03*EJ$4532,0,$C3170/60)))","v":0},{"$f":"IF(SUM(EZ$3091:EZ3169)>0,0,IF(MAX(ER3170:ER$4531)=MAX(ER$3091:ER$4531),0,IF(EP3170>0.01*EJ$4532,0,$C3170/60)))","v":0}]
[null,7.333333333333333,440,0,0,0,0,0,0,0,0,0,{"$error":"#N/A"},{"$error":"#N/A"},{"$error":"#N/A"},{"$error":"#N/A"},{"$error":"#N/A"},{"$error":"#N/A"},{"$f":"IF(SUM(S$3091:S3178)>0,0,\nIF(MAX(L3179:L$4531)=MAX(L$3091:L$4531),0,\nIF(Hydrograph_Source_WQCV=\"USER\",IF(J3179>0.03*D$4532,0,$C3179/60),\nIF(J3179>0.03*J$4532,0,$C3179/60))))","v":0},{"$f":"IF(SUM(T$3091:T3178)>0,0,\nIF(MAX(L3179:L$4531)=MAX(L$3091:L$4531),0,\nIF(Hydrograph_Source_WQCV=\"USER\",IF(J3179>0.01*D$4532,0,$C3179/60),\nIF(J3179>0.01*J$4532,0,$C3179/60))))","v":0},0,0,0,0,0,0,0,0,0,{"$error":"#N/A"},{"$error":"#N/A"},{"$error":"#N/A"},{"$error":"#N/A"},{"$error":"#N/A"},{"$error":"#N/A"},{"$f":"IF(SUM(AJ$3091:AJ3178)>0,0,\nIF(MAX(AC3179:AC$4531)=MAX(AC$3091:AC$4531),0,\nIF(Hydrograph_Source_EURV=\"USER\",IF(AA3179>0.03*U$4532,0,$C3179/60),\nIF(AA3179>0.03*AA$4532,0,$C3179/60))))","v":0},{"$f":"IF(SUM(AK$3091:AK3178)>0,0,\nIF(MAX(AC3179:AC$4531)=MAX(AC$3091:AC$4531),0,\nIF(Hydrograph_Source_EURV=\"USER\",IF(AA3179>0.01*U$4532,0,$C3179/60),\nIF(AA3179>0.01*AA$4532,0,$C3179/60))))","v":0},0,0,0,0,0,0,0,0,0,{"$error":"#N/A"},{"$error":"#N/A"},{"$error":"#N/A"},{"$error":"#N/A"},{"$error":"#N/A"},{"$error":"#N/A"},{"$f":"IF(SUM(BA$3091:BA3178)>0,0,IF(MAX(AT3179:AT$4531)=MAX(AT$3091:AT$4531),0,IF(AR3179>0.03*AL$4532,0,$C3179/60)))","v":0},{"$f":"IF(SUM(BB$3091:BB3178)>0,0,IF(MAX(AT3179:AT$4531)=MAX(AT$3091:AT$4531),0,IF(AR3179>0.01*AL$4532,0,$C3179/60)))","v":0},0,0,0,0,0,0,0,0,0,{"$error":"#N/A"},{"$error":"#N/A"},{"$error":"#N/A"},{"$error":"#N/A"},{"$error":"#N/A"},{"$error":"#N/A"},{"$f":"IF(SUM(BR$3091:BR3178)>0,0,IF(MAX(BK3179:BK$4531)=MAX(BK$3091:BK$4531),0,IF(BI3179>0.03*BC$4532,0,$C3179/60)))","v":0},{"$f":"IF(SUM(BS$3091:BS3178)>0,0,IF(MAX(BK3179:BK$4531)=MAX(BK$3091:BK$4531),0,IF(BI3179>0.01*BC$4532,0,$C3179/60)))","v":0},0,0,0,0,0,0,0,0,0,{"$error":"#N/A"},{"$error":"#N/A"},{"$error":"#N/A"},{"$error":"#N/A"},{"$error":"#N/A"},{"$error":"#N/A"},{"$f":"IF(SUM(CI$3091:CI3178)>0,0,IF(MAX(CB3179:CB$4531)=MAX(CB$3091:CB$4531),0,IF(BZ3179>0.03*BT$4532,0,$C3179/60)))","v":0},{"$f":"IF(SUM(CJ$3091:CJ3178)>0,0,IF(MAX(CB3179:CB$4531)=MAX(CB$3091:CB$4531),0,IF(BZ3179>0.01*BT$4532,0,$C3179/60)))","v":0},0,0,0,0,0,0,0,0,0,{"$error":"#N/A"},{"$error":"#N/A"},{"$error":"#N/A"},{"$error":"#N/A"},{"$error":"#N/A"},{"$error":"#N/A"},{"$f":"IF(SUM(CZ$3091:CZ3178)>0,0,IF(MAX(CS3179:CS$4531)=MAX(CS$3091:CS$4531),0,IF(CQ3179>0.03*CK$4532,0,$C3179/60)))","v":0},{"$f":"IF(SUM(DA$3091:DA3178)>0,0,IF(MAX(CS3179:CS$4531)=MAX(CS$3091:CS$4531),0,IF(CQ3179>0.01*CK$4532,0,$C3179/60)))","v":0},0,0,0,0,0,0,0,0,0,{"$error":"#N/A"},{"$error":"#N/A"},{"$error":"#N/A"},{"$error":"#N/A"},{"$error":"#N/A"},{"$error":"#N/A"},{"$f":"IF(SUM(DQ$3091:DQ3178)>0,0,IF(MAX(DJ3179:DJ$4531)=MAX(DJ$3091:DJ$4531),0,IF(DH3179>0.03*DB$4532,0,$C3179/60)))","v":0},{"$f":"IF(SUM(DR$3091:DR3178)>0,0,IF(MAX(DJ3179:DJ$4531)=MAX(DJ$3091:DJ$4531),0,IF(DH3179>0.01*DB$4532,0,$C3179/60)))","v":0},0,0,0,0,0,0,0,0,0,{"$error":"#N/A"},{"$error":"#N/A"},{"$error":"#N/A"},{"$error":"#N/A"},{"$error":"#N/A"},{"$error":"#N/A"},{"$f":"IF(SUM(EH$3091:EH3178)>0,0,IF(MAX(EA3179:EA$4531)=MAX(EA$3091:EA$4531),0,IF(DY3179>0.03*DS$4532,0,$C3179/60)))","v":0},{"$f":"IF(SUM(EI$3091:EI3178)>0,0,IF(MAX(EA3179:EA$4531)=MAX(EA$3091:EA$4531),0,IF(DY3179>0.01*DS$4532,0,$C3179/60)))","v":0},0,0,0,0,0,0,0,0,0,{"$error":"#N/A"},{"$error":"#N/A"},{"$error":"#N/A"},{"$error":"#N/A"},{"$error":"#N/A"},{"$error":"#N/A"},{"$f":"IF(SUM(EY$3091:EY3178)>0,0,IF(MAX(ER3179:ER$4531)=MAX(ER$3091:ER$4531),0,IF(EP3179>0.03*EJ$4532,0,$C3179/60)))","v":0},{"$f":"IF(SUM(EZ$3091:EZ3178)>0,0,IF(MAX(ER3179:ER$4531)=MAX(ER$3091:ER$4531),0,IF(EP3179>0.01*EJ$4532,0,$C3179/60)))","v":0}]
[null,8.0833333333333339,485,0,0,0,0,0,0,0,0,0,{"$error":"#N/A"},{"$error":"#N/A"},{"$error":"#N/A"},{"$error":"#N/A"},{"$error":"#N/A"},{"$error":"#N/A"},{"$f":"IF(SUM(S$3091:S3187)>0,0,\nIF(MAX(L3188:L$4531)=MAX(L$3091:L$4531),0,\nIF(Hydrograph_Source_WQCV=\"USER\",IF(J3188>0.03*D$4532,0,$C3188/60),\nIF(J3188>0.03*J$4532,0,$C3188/60))))","v":0},{"$f":"IF(SUM(T$3091:T3187)>0,0,\nIF(MAX(L3188:L$4531)=MAX(L$3091:L$4531),0,\nIF(Hydrograph_Source_WQCV=\"USER\",IF(J3188>0.01*D$4532,0,$C3188/60),\nIF(J3188>0.01*J$4532,0,$C3188/60))))","v":0},0,0,0,0,0,0,0,0,0,{"$error":"#N/A"},{"$error":"#N/A"},{"$error":"#N/A"},{"$error":"#N/A"},{"$error":"#N/A"},{"$error":"#N/A"},{"$f":"IF(SUM(AJ$3091:AJ3187)>0,0,\nIF(MAX(AC3188:AC$4531)=MAX(AC$3091:AC$4531),0,\nIF(Hydrograph_Source_EURV=\"USER\",IF(AA3188>0.03*U$4532,0,$C3188/60),\nIF(AA3188>0.03*AA$4532,0,$C3188/60))))","v":0},{"$f":"IF(SUM(AK$3091:AK3187)>0,0,\nIF(MAX(AC3188:AC$4531)=MAX(AC$3091:AC$4531),0,\nIF(Hydrograph_Source_EURV=\"USER\",IF(AA3188>0.01*U$4532,0,$C3188/60),\nIF(AA3188>0.01*AA$4532,0,$C3188/60))))","v":0},0,0,0,0,0,0,0,0,0,{"$error":"#N/A"},{"$error":"#N/A"},{"$error":"#N/A"},{"$error":"#N/A"},{"$error":"#N/A"},{"$error":"#N/A"},{"$f":"IF(SUM(BA$3091:BA3187)>0,0,IF(MAX(AT3188:AT$4531)=MAX(AT$3091:AT$4531),0,IF(AR3188>0.03*AL$4532,0,$C3188/60)))","v":0},{"$f":"IF(SUM(BB$3091:BB3187)>0,0,IF(MAX(AT3188:AT$4531)=MAX(AT$3091:AT$4531),0,IF(AR3188>0.01*AL$4532,0,$C3188/60)))","v":0},0,0,0,0,0,0,0,0,0,{"$error":"#N/A"},{"$error":"#N/A"},{"$error":"#N/A"},{"$error":"#N/A"},{"$error":"#N/A"},{"$error":"#N/A"},{"$f":"IF(SUM(BR$3091:BR3187)>0,0,IF(MAX(BK3188:BK$4531)=MAX(BK$3091:BK$4531),0,IF(BI3188>0.03*BC$4532,0,$C3188/60)))","v":0},{"$f":"IF(SUM(BS$3091:BS3187)>0,0,IF(MAX(BK3188:BK$4531)=MAX(BK$3091:BK$4531),0,IF(BI3188>0.01*BC$4532,0,$C3188/60)))","v":0},0,0,0,0,0,0,0,0,0,{"$error":"#N/A"},{"$error":"#N/A"},{"$error":"#N/A"},{"$error":"#N/A"},{"$error":"#N/A"},{"$error":"#N/A"},{"$f":"IF(SUM(CI$3091:CI3187)>0,0,IF(MAX(CB3188:CB$4531)=MAX(CB$3091:CB$4531),0,IF(BZ3188>0.03*BT$4532,0,$C3188/60)))","v":0},{"$f":"IF(SUM(CJ$3091:CJ3187)>0,0,IF(MAX(CB3188:CB$4531)=MAX(CB$3091:CB$4531),0,IF(BZ3188>0.01*BT$4532,0,$C3188/60)))","v":0},0,0,0,0,0,0,0,0,0,{"$error":"#N/A"},{"$error":"#N/A"},{"$error":"#N/A"},{"$error":"#N/A"},{"$error":"#N/A"},{"$error":"#N/A"},{"$f":"IF(SUM(CZ$3091:CZ3187)>0,0,IF(MAX(CS3188:CS$4531)=MAX(CS$3091:CS$4531),0,IF(CQ3188>0.03*CK$4532,0,$C3188/60)))","v":0},{"$f":"IF(SUM(DA$3091:DA3187)>0,0,IF(MAX(CS3188:CS$4531)=MAX(CS$3091:CS$4531),0,IF(CQ3188>0.01*CK$4532,0,$C3188/60)))","v":0},0,0,0,0,0,0,0,0,0,{"$error":"#N/A"},{"$error":"#N/A"},{"$error":"#N/A"},{"$error":"#N/A"},{"$error":"#N/A"},{"$error":"#N/A"},{"$f":"IF(SUM(DQ$3091:DQ3187)>0,0,IF(MAX(DJ3188:DJ$4531)=MAX(DJ$3091:DJ$4531),0,IF(DH3188>0.03*DB$4532,0,$C3188/60)))","v":0},{"$f":"IF(SUM(DR$3091:DR3187)>0,0,IF(MAX(DJ3188:DJ$4531)=MAX(DJ$3091:DJ$4531),0,IF(DH3188>0.01*DB$4532,0,$C3188/60)))","v":0},0,0,0,0,0,0,0,0,0,{"$error":"#N/A"},{"$error":"#N/A"},{"$error":"#N/A"},{"$error":"#N/A"},{"$error":"#N/A"},{"$error":"#N/A"},{"$f":"IF(SUM(EH$3091:EH3187)>0,0,IF(MAX(EA3188:EA$4531)=MAX(EA$3091:EA$4531),0,IF(DY3188>0.03*DS$4532,0,$C3188/60)))","v":0},{"$f":"IF(SUM(EI$3091:EI3187)>0,0,IF(MAX(EA3188:EA$4531)=MAX(EA$3091:EA$4531),0,IF(DY3188>0.01*DS$4532,0,$C3188/60)))","v":0},0,0,0,0,0,0,0,0,0,{"$error":"#N/A"},{"$error":"#N/A"},{"$error":"#N/A"},{"$error":"#N/A"},{"$error":"#N/A"},{"$error":"#N/A"},{"$f":"IF(SUM(EY$3091:EY3187)>0,0,IF(MAX(ER3188:ER$4531)=MAX(ER$3091:ER$4531),0,IF(EP3188>0.03*EJ$4532,0,$C3188/60)))","v":0},{"$f":"IF(SUM(EZ$3091:EZ3187)>0,0,IF(MAX(ER3188:ER$4531)=MAX(ER$3091:ER$4531),0,IF(EP3188>0.01*EJ$4532,0,$C3188/60)))","v":0}]
[null,8.8333333333333339,530,0,0,0,0,0,0,0,0,0,{"$error":"#N/A"},{"$error":"#N/A"},{"$error":"#N/A"},{"$error":"#N/A"},{"$error":"#N/A"},{"$error":"#N/A"},{"$f":"IF(SUM(S$3091:S3196)>0,0,\nIF(MAX(L3197:L$4531)=MAX(L$3091:L$4531),0,\nIF(Hydrograph_Source_WQCV=\"USER\",IF(J3197>0.03*D$4532,0,$C3197/60),\nIF(J3197>0.03*J$4532,0,$C3197/60))))","v":0},{"$f":"IF(SUM(T$3091:T3196)>0,0,\nIF(MAX(L3197:L$4531)=MAX(L$3091:L$4531),0,\nIF(Hydrograph_Source_WQCV=\"USER\",IF(J3197>0.01*D$4532,0,$C3197/60),\nIF(J3197>0.01*J$4532,0,$C3197/60))))","v":0},0,0,0,0,0,0,0,0,0,{"$error":"#N/A"},{"$error":"#N/A"},{"$error":"#N/A"},{"$error":"#N/A"},{"$error":"#N/A"},{"$error":"#N/A"},{"$f":"IF(SUM(AJ$3091:AJ3196)>0,0,\nIF(MAX(AC3197:AC$4531)=MAX(AC$3091:AC$4531),0,\nIF(Hydrograph_Source_EURV=\"USER\",IF(AA3197>0.03*U$4532,0,$C3197/60),\nIF(AA3197>0.03*AA$4532,0,$C3197/60))))","v":0},{"$f":"IF(SUM(AK$3091:AK3196)>0,0,\nIF(MAX(AC3197:AC$4531)=MAX(AC$3091:AC$4531),0,\nIF(Hydrograph_Source_EURV=\"USER\",IF(AA3197>0.01*U$4532,0,$C3197/60),\nIF(AA3197>0.01*AA$4532,0,$C3197/60))))","v":0},0,0,0,0,0,0,0,0,0,{"$error":"#N/A"},{"$error":"#N/A"},{"$error":"#N/A"},{"$error":"#N/A"},{"$error":"#N/A"},{"$error":"#N/A"},{"$f":"IF(SUM(BA$3091:BA3196)>0,0,IF(MAX(AT3197:AT$4531)=MAX(AT$3091:AT$4531),0,IF(AR3197>0.03*AL$4532,0,$C3197/60)))","v":0},{"$f":"IF(SUM(BB$3091:BB3196)>0,0,IF(MAX(AT3197:AT$4531)=MAX(AT$3091:AT$4531),0,IF(AR3197>0.01*AL$4532,0,$C3197/60)))","v":0},0,0,0,0,0,0,0,0,0,{"$error":"#N/A"},{"$error":"#N/A"},{"$error":"#N/A"},{"$error":"#N/A"},{"$error":"#N/A"},{"$error":"#N/A"},{"$f":"IF(SUM(BR$3091:BR3196)>0,0,IF(MAX(BK3197:BK$4531)=MAX(BK$3091:BK$4531),0,IF(BI3197>0.03*BC$4532,0,$C3197/60)))","v":0},{"$f":"IF(SUM(BS$3091:BS3196)>0,0,IF(MAX(BK3197:BK$4531)=MAX(BK$3091:BK$4531),0,IF(BI3197>0.01*BC$4532,0,$C3197/60)))","v":0},0,0,0,0,0,0,0,0,0,{"$error":"#N/A"},{"$error":"#N/A"},{"$error":"#N/A"},{"$error":"#N/A"},{"$error":"#N/A"},{"$error":"#N/A"},{"$f":"IF(SUM(CI$3091:CI3196)>0,0,IF(MAX(CB3197:CB$4531)=MAX(CB$3091:CB$4531),0,IF(BZ3197>0.03*BT$4532,0,$C3197/60)))","v":0},{"$f":"IF(SUM(CJ$3091:CJ3196)>0,0,IF(MAX(CB3197:CB$4531)=MAX(CB$3091:CB$4531),0,IF(BZ3197>0.01*BT$4532,0,$C3197/60)))","v":0},0,0,0,0,0,0,0,0,0,{"$error":"#N/A"},{"$error":"#N/A"},{"$error":"#N/A"},{"$error":"#N/A"},{"$error":"#N/A"},{"$error":"#N/A"},{"$f":"IF(SUM(CZ$3091:CZ3196)>0,0,IF(MAX(CS3197:CS$4531)=MAX(CS$3091:CS$4531),0,IF(CQ3197>0.03*CK$4532,0,$C3197/60)))","v":0},{"$f":"IF(SUM(DA$3091:DA3196)>0,0,IF(MAX(CS3197:CS$4531)=MAX(CS$3091:CS$4531),0,IF(CQ3197>0.01*CK$4532,0,$C3197/60)))","v":0},0,0,0,0,0,0,0,0,0,{"$error":"#N/A"},{"$error":"#N/A"},{"$error":"#N/A"},{"$error":"#N/A"},{"$error":"#N/A"},{"$error":"#N/A"},{"$f":"IF(SUM(DQ$3091:DQ3196)>0,0,IF(MAX(DJ3197:DJ$4531)=MAX(DJ$3091:DJ$4531),0,IF(DH3197>0.03*DB$4532,0,$C3197/60)))","v":0},{"$f":"IF(SUM(DR$3091:DR3196)>0,0,IF(MAX(DJ3197:DJ$4531)=MAX(DJ$3091:DJ$4531),0,IF(DH3197>0.01*DB$4532,0,$C3197/60)))","v":0},0,0,0,0,0,0,0,0,0,{"$error":"#N/A"},{"$error":"#N/A"},{"$error":"#N/A"},{"$error":"#N/A"},{"$error":"#N/A"},{"$error":"#N/A"},{"$f":"IF(SUM(EH$3091:EH3196)>0,0,IF(MAX(EA3197:EA$4531)=MAX(EA$3091:EA$4531),0,IF(DY3197>0.03*DS$4532,0,$C3197/60)))","v":0},{"$f":"IF(SUM(EI$3091:EI3196)>0,0,IF(MAX(EA3197:EA$4531)=MAX(EA$3091:EA$4531),0,IF(DY3197>0.01*DS$4532,0,$C3197/60)))","v":0},0,0,0,0,0,0,0,0,0,{"$error":"#N/A"},{"$error":"#N/A"},{"$error":"#N/A"},{"$error":"#N/A"},{"$error":"#N/A"},{"$error":"#N/A"},{"$f":"IF(SUM(EY$3091:EY3196)>0,0,IF(MAX(ER3197:ER$4531)=MAX(ER$3091:ER$4531),0,IF(EP3197>0.03*EJ$4532,0,$C3197/60)))","v":0},{"$f":"IF(SUM(EZ$3091:EZ3196)>0,0,IF(MAX(ER3197:ER$4531)=MAX(ER$3091:ER$4531),0,IF(EP3197>0.01*EJ$4532,0,$C3197/60)))","v":0}]
[null,9.5833333333333339,575,0,0,0,0,0,0,0,0,0,{"$error":"#N/A"},{"$error":"#N/A"},{"$error":"#N/A"},{"$error":"#N/A"},{"$error":"#N/A"},{"$error":"#N/A"},{"$f":"IF(SUM(S$3091:S3205)>0,0,\nIF(MAX(L3206:L$4531)=MAX(L$3091:L$4531),0,\nIF(Hydrograph_Source_WQCV=\"USER\",IF(J3206>0.03*D$4532,0,$C3206/60),\nIF(J3206>0.03*J$4532,0,$C3206/60))))","v":0},{"$f":"IF(SUM(T$3091:T3205)>0,0,\nIF(MAX(L3206:L$4531)=MAX(L$3091:L$4531),0,\nIF(Hydrograph_Source_WQCV=\"USER\",IF(J3206>0.01*D$4532,0,$C3206/60),\nIF(J3206>0.01*J$4532,0,$C3206/60))))","v":0},0,0,0,0,0,0,0,0,0,{"$error":"#N/A"},{"$error":"#N/A"},{"$error":"#N/A"},{"$error":"#N/A"},{"$error":"#N/A"},{"$error":"#N/A"},{"$f":"IF(SUM(AJ$3091:AJ3205)>0,0,\nIF(MAX(AC3206:AC$4531)=MAX(AC$3091:AC$4531),0,\nIF(Hydrograph_Source_EURV=\"USER\",IF(AA3206>0.03*U$4532,0,$C3206/60),\nIF(AA3206>0.03*AA$4532,0,$C3206/60))))","v":0},{"$f":"IF(SUM(AK$3091:AK3205)>0,0,\nIF(MAX(AC3206:AC$4531)=MAX(AC$3091:AC$4531),0,\nIF(Hydrograph_Source_EURV=\"USER\",IF(AA3206>0.01*U$4532,0,$C3206/60),\nIF(AA3206>0.01*AA$4532,0,$C3206/60))))","v":0},0,0,0,0,0,0,0,0,0,{"$error":"#N/A"},{"$error":"#N/A"},{"$error":"#N/A"},{"$error":"#N/A"},{"$error":"#N/A"},{"$error":"#N/A"},{"$f":"IF(SUM(BA$3091:BA3205)>0,0,IF(MAX(AT3206:AT$4531)=MAX(AT$3091:AT$4531),0,IF(AR3206>0.03*AL$4532,0,$C3206/60)))","v":0},{"$f":"IF(SUM(BB$3091:BB3205)>0,0,IF(MAX(AT3206:AT$4531)=MAX(AT$3091:AT$4531),0,IF(AR3206>0.01*AL$4532,0,$C3206/60)))","v":0},0,0,0,0,0,0,0,0,0,{"$error":"#N/A"},{"$error":"#N/A"},{"$error":"#N/A"},{"$error":"#N/A"},{"$error":"#N/A"},{"$error":"#N/A"},{"$f":"IF(SUM(BR$3091:BR3205)>0,0,IF(MAX(BK3206:BK$4531)=MAX(BK$3091:BK$4531),0,IF(BI3206>0.03*BC$4532,0,$C3206/60)))","v":0},{"$f":"IF(SUM(BS$3091:BS3205)>0,0,IF(MAX(BK3206:BK$4531)=MAX(BK$3091:BK$4531),0,IF(BI3206>0.01*BC$4532,0,$C3206/60)))","v":0},0,0,0,0,0,0,0,0,0,{"$error":"#N/A"},{"$error":"#N/A"},{"$error":"#N/A"},{"$error":"#N/A"},{"$error":"#N/A"},{"$error":"#N/A"},{"$f":"IF(SUM(CI$3091:CI3205)>0,0,IF(MAX(CB3206:CB$4531)=MAX(CB$3091:CB$4531),0,IF(BZ3206>0.03*BT$4532,0,$C3206/60)))","v":0},{"$f":"IF(SUM(CJ$3091:CJ3205)>0,0,IF(MAX(CB3206:CB$4531)=MAX(CB$3091:CB$4531),0,IF(BZ3206>0.01*BT$4532,0,$C3206/60)))","v":0},0,0,0,0,0,0,0,0,0,{"$error":"#N/A"},{"$error":"#N/A"},{"$error":"#N/A"},{"$error":"#N/A"},{"$error":"#N/A"},{"$error":"#N/A"},{"$f":"IF(SUM(CZ$3091:CZ3205)>0,0,IF(MAX(CS3206:CS$4531)=MAX(CS$3091:CS$4531),0,IF(CQ3206>0.03*CK$4532,0,$C3206/60)))","v":0},{"$f":"IF(SUM(DA$3091:DA3205)>0,0,IF(MAX(CS3206:CS$4531)=MAX(CS$3091:CS$4531),0,IF(CQ3206>0.01*CK$4532,0,$C3206/60)))","v":0},0,0,0,0,0,0,0,0,0,{"$error":"#N/A"},{"$error":"#N/A"},{"$error":"#N/A"},{"$error":"#N/A"},{"$error":"#N/A"},{"$error":"#N/A"},{"$f":"IF(SUM(DQ$3091:DQ3205)>0,0,IF(MAX(DJ3206:DJ$4531)=MAX(DJ$3091:DJ$4531),0,IF(DH3206>0.03*DB$4532,0,$C3206/60)))","v":0},{"$f":"IF(SUM(DR$3091:DR3205)>0,0,IF(MAX(DJ3206:DJ$4531)=MAX(DJ$3091:DJ$4531),0,IF(DH3206>0.01*DB$4532,0,$C3206/60)))","v":0},0,0,0,0,0,0,0,0,0,{"$error":"#N/A"},{"$error":"#N/A"},{"$error":"#N/A"},{"$error":"#N/A"},{"$error":"#N/A"},{"$error":"#N/A"},{"$f":"IF(SUM(EH$3091:EH3205)>0,0,IF(MAX(EA3206:EA$4531)=MAX(EA$3091:EA$4531),0,IF(DY3206>0.03*DS$4532,0,$C3206/60)))","v":0},{"$f":"IF(SUM(EI$3091:EI3205)>0,0,IF(MAX(EA3206:EA$4531)=MAX(EA$3091:EA$4531),0,IF(DY3206>0.01*DS$4532,0,$C3206/60)))","v":0},0,0,0,0,0,0,0,0,0,{"$error":"#N/A"},{"$error":"#N/A"},{"$error":"#N/A"},{"$error":"#N/A"},{"$error":"#N/A"},{"$error":"#N/A"},{"$f":"IF(SUM(EY$3091:EY3205)>0,0,IF(MAX(ER3206:ER$4531)=MAX(ER$3091:ER$4531),0,IF(EP3206>0.03*EJ$4532,0,$C3206/60)))","v":0},{"$f":"IF(SUM(EZ$3091:EZ3205)>0,0,IF(MAX(ER3206:ER$4531)=MAX(ER$3091:ER$4531),0,IF(EP3206>0.01*EJ$4532,0,$C3206/60)))","v":0}]
[null,10.333333333333334,620,0,0,0,0,0,0,0,0,0,{"$error":"#N/A"},{"$error":"#N/A"},{"$error":"#N/A"},{"$error":"#N/A"},{"$error":"#N/A"},{"$error":"#N/A"},{"$f":"IF(SUM(S$3091:S3214)>0,0,\nIF(MAX(L3215:L$4531)=MAX(L$3091:L$4531),0,\nIF(Hydrograph_Source_WQCV=\"USER\",IF(J3215>0.03*D$4532,0,$C3215/60),\nIF(J3215>0.03*J$4532,0,$C3215/60))))","v":0},{"$f":"IF(SUM(T$3091:T3214)>0,0,\nIF(MAX(L3215:L$4531)=MAX(L$3091:L$4531),0,\nIF(Hydrograph_Source_WQCV=\"USER\",IF(J3215>0.01*D$4532,0,$C3215/60),\nIF(J3215>0.01*J$4532,0,$C3215/60))))","v":0},0,0,0,0,0,0,0,0,0,{"$error":"#N/A"},{"$error":"#N/A"},{"$error":"#N/A"},{"$error":"#N/A"},{"$error":"#N/A"},{"$error":"#N/A"},{"$f":"IF(SUM(AJ$3091:AJ3214)>0,0,\nIF(MAX(AC3215:AC$4531)=MAX(AC$3091:AC$4531),0,\nIF(Hydrograph_Source_EURV=\"USER\",IF(AA3215>0.03*U$4532,0,$C3215/60),\nIF(AA3215>0.03*AA$4532,0,$C3215/60))))","v":0},{"$f":"IF(SUM(AK$3091:AK3214)>0,0,\nIF(MAX(AC3215:AC$4531)=MAX(AC$3091:AC$4531),0,\nIF(Hydrograph_Source_EURV=\"USER\",IF(AA3215>0.01*U$4532,0,$C3215/60),\nIF(AA3215>0.01*AA$4532,0,$C3215/60))))","v":0},0,0,0,0,0,0,0,0,0,{"$error":"#N/A"},{"$error":"#N/A"},{"$error":"#N/A"},{"$error":"#N/A"},{"$error":"#N/A"},{"$error":"#N/A"},{"$f":"IF(SUM(BA$3091:BA3214)>0,0,IF(MAX(AT3215:AT$4531)=MAX(AT$3091:AT$4531),0,IF(AR3215>0.03*AL$4532,0,$C3215/60)))","v":0},{"$f":"IF(SUM(BB$3091:BB3214)>0,0,IF(MAX(AT3215:AT$4531)=MAX(AT$3091:AT$4531),0,IF(AR3215>0.01*AL$4532,0,$C3215/60)))","v":0},0,0,0,0,0,0,0,0,0,{"$error":"#N/A"},{"$error":"#N/A"},{"$error":"#N/A"},{"$error":"#N/A"},{"$error":"#N/A"},{"$error":"#N/A"},{"$f":"IF(SUM(BR$3091:BR3214)>0,0,IF(MAX(BK3215:BK$4531)=MAX(BK$3091:BK$4531),0,IF(BI3215>0.03*BC$4532,0,$C3215/60)))","v":0},{"$f":"IF(SUM(BS$3091:BS3214)>0,0,IF(MAX(BK3215:BK$4531)=MAX(BK$3091:BK$4531),0,IF(BI3215>0.01*BC$4532,0,$C3215/60)))","v":0},0,0,0,0,0,0,0,0,0,{"$error":"#N/A"},{"$error":"#N/A"},{"$error":"#N/A"},{"$error":"#N/A"},{"$error":"#N/A"},{"$error":"#N/A"},{"$f":"IF(SUM(CI$3091:CI3214)>0,0,IF(MAX(CB3215:CB$4531)=MAX(CB$3091:CB$4531),0,IF(BZ3215>0.03*BT$4532,0,$C3215/60)))","v":0},{"$f":"IF(SUM(CJ$3091:CJ3214)>0,0,IF(MAX(CB3215:CB$4531)=MAX(CB$3091:CB$4531),0,IF(BZ3215>0.01*BT$4532,0,$C3215/60)))","v":0},0,0,0,0,0,0,0,0,0,{"$error":"#N/A"},{"$error":"#N/A"},{"$error":"#N/A"},{"$error":"#N/A"},{"$error":"#N/A"},{"$error":"#N/A"},{"$f":"IF(SUM(CZ$3091:CZ3214)>0,0,IF(MAX(CS3215:CS$4531)=MAX(CS$3091:CS$4531),0,IF(CQ3215>0.03*CK$4532,0,$C3215/60)))","v":0},{"$f":"IF(SUM(DA$3091:DA3214)>0,0,IF(MAX(CS3215:CS$4531)=MAX(CS$3091:CS$4531),0,IF(CQ3215>0.01*CK$4532,0,$C3215/60)))","v":0},0,0,0,0,0,0,0,0,0,{"$error":"#N/A"},{"$error":"#N/A"},{"$error":"#N/A"},{"$error":"#N/A"},{"$error":"#N/A"},{"$error":"#N/A"},{"$f":"IF(SUM(DQ$3091:DQ3214)>0,0,IF(MAX(DJ3215:DJ$4531)=MAX(DJ$3091:DJ$4531),0,IF(DH3215>0.03*DB$4532,0,$C3215/60)))","v":0},{"$f":"IF(SUM(DR$3091:DR3214)>0,0,IF(MAX(DJ3215:DJ$4531)=MAX(DJ$3091:DJ$4531),0,IF(DH3215>0.01*DB$4532,0,$C3215/60)))","v":0},0,0,0,0,0,0,0,0,0,{"$error":"#N/A"},{"$error":"#N/A"},{"$error":"#N/A"},{"$error":"#N/A"},{"$error":"#N/A"},{"$error":"#N/A"},{"$f":"IF(SUM(EH$3091:EH3214)>0,0,IF(MAX(EA3215:EA$4531)=MAX(EA$3091:EA$4531),0,IF(DY3215>0.03*DS$4532,0,$C3215/60)))","v":0},{"$f":"IF(SUM(EI$3091:EI3214)>0,0,IF(MAX(EA3215:EA$4531)=MAX(EA$3091:EA$4531),0,IF(DY3215>0.01*DS$4532,0,$C3215/60)))","v":0},0,0,0,0,0,0,0,0,0,{"$error":"#N/A"},{"$error":"#N/A"},{"$error":"#N/A"},{"$error":"#N/A"},{"$error":"#N/A"},{"$error":"#N/A"},{"$f":"IF(SUM(EY$3091:EY3214)>0,0,IF(MAX(ER3215:ER$4531)=MAX(ER$3091:ER$4531),0,IF(EP3215>0.03*EJ$4532,0,$C3215/60)))","v":0},{"$f":"IF(SUM(EZ$3091:EZ3214)>0,0,IF(MAX(ER3215:ER$4531)=MAX(ER$3091:ER$4531),0,IF(EP3215>0.01*EJ$4532,0,$C3215/60)))","v":0}]
[null,11.083333333333334,665,0,0,0,0,0,0,0,0,0,{"$error":"#N/A"},{"$error":"#N/A"},{"$error":"#N/A"},{"$error":"#N/A"},{"$error":"#N/A"},{"$error":"#N/A"},{"$f":"IF(SUM(S$3091:S3223)>0,0,\nIF(MAX(L3224:L$4531)=MAX(L$3091:L$4531),0,\nIF(Hydrograph_Source_WQCV=\"USER\",IF(J3224>0.03*D$4532,0,$C3224/60),\nIF(J3224>0.03*J$4532,0,$C3224/60))))","v":0},{"$f":"IF(SUM(T$3091:T3223)>0,0,\nIF(MAX(L3224:L$4531)=MAX(L$3091:L$4531),0,\nIF(Hydrograph_Source_WQCV=\"USER\",IF(J3224>0.01*D$4532,0,$C3224/60),\nIF(J3224>0.01*J$4532,0,$C3224/60))))","v":0},0,0,0,0,0,0,0,0,0,{"$error":"#N/A"},{"$error":"#N/A"},{"$error":"#N/A"},{"$error":"#N/A"},{"$error":"#N/A"},{"$error":"#N/A"},{"$f":"IF(SUM(AJ$3091:AJ3223)>0,0,\nIF(MAX(AC3224:AC$4531)=MAX(AC$3091:AC$4531),0,\nIF(Hydrograph_Source_EURV=\"USER\",IF(AA3224>0.03*U$4532,0,$C3224/60),\nIF(AA3224>0.03*AA$4532,0,$C3224/60))))","v":0},{"$f":"IF(SUM(AK$3091:AK3223)>0,0,\nIF(MAX(AC3224:AC$4531)=MAX(AC$3091:AC$4531),0,\nIF(Hydrograph_Source_EURV=\"USER\",IF(AA3224>0.01*U$4532,0,$C3224/60),\nIF(AA3224>0.01*AA$4532,0,$C3224/60))))","v":0},0,0,0,0,0,0,0,0,0,{"$error":"#N/A"},{"$error":"#N/A"},{"$error":"#N/A"},{"$error":"#N/A"},{"$error":"#N/A"},{"$error":"#N/A"},{"$f":"IF(SUM(BA$3091:BA3223)>0,0,IF(MAX(AT3224:AT$4531)=MAX(AT$3091:AT$4531),0,IF(AR3224>0.03*AL$4532,0,$C3224/60)))","v":0},{"$f":"IF(SUM(BB$3091:BB3223)>0,0,IF(MAX(AT3224:AT$4531)=MAX(AT$3091:AT$4531),0,IF(AR3224>0.01*AL$4532,0,$C3224/60)))","v":0},0,0,0,0,0,0,0,0,0,{"$error":"#N/A"},{"$error":"#N/A"},{"$error":"#N/A"},{"$error":"#N/A"},{"$error":"#N/A"},{"$error":"#N/A"},{"$f":"IF(SUM(BR$3091:BR3223)>0,0,IF(MAX(BK3224:BK$4531)=MAX(BK$3091:BK$4531),0,IF(BI3224>0.03*BC$4532,0,$C3224/60)))","v":0},{"$f":"IF(SUM(BS$3091:BS3223)>0,0,IF(MAX(BK3224:BK$4531)=MAX(BK$3091:BK$4531),0,IF(BI3224>0.01*BC$4532,0,$C3224/60)))","v":0},0,0,0,0,0,0,0,0,0,{"$error":"#N/A"},{"$error":"#N/A"},{"$error":"#N/A"},{"$error":"#N/A"},{"$error":"#N/A"},{"$error":"#N/A"},{"$f":"IF(SUM(CI$3091:CI3223)>0,0,IF(MAX(CB3224:CB$4531)=MAX(CB$3091:CB$4531),0,IF(BZ3224>0.03*BT$4532,0,$C3224/60)))","v":0},{"$f":"IF(SUM(CJ$3091:CJ3223)>0,0,IF(MAX(CB3224:CB$4531)=MAX(CB$3091:CB$4531),0,IF(BZ3224>0.01*BT$4532,0,$C3224/60)))","v":0},0,0,0,0,0,0,0,0,0,{"$error":"#N/A"},{"$error":"#N/A"},{"$error":"#N/A"},{"$error":"#N/A"},{"$error":"#N/A"},{"$error":"#N/A"},{"$f":"IF(SUM(CZ$3091:CZ3223)>0,0,IF(MAX(CS3224:CS$4531)=MAX(CS$3091:CS$4531),0,IF(CQ3224>0.03*CK$4532,0,$C3224/60)))","v":0},{"$f":"IF(SUM(DA$3091:DA3223)>0,0,IF(MAX(CS3224:CS$4531)=MAX(CS$3091:CS$4531),0,IF(CQ3224>0.01*CK$4532,0,$C3224/60)))","v":0},0,0,0,0,0,0,0,0,0,{"$error":"#N/A"},{"$error":"#N/A"},{"$error":"#N/A"},{"$error":"#N/A"},{"$error":"#N/A"},{"$error":"#N/A"},{"$f":"IF(SUM(DQ$3091:DQ3223)>0,0,IF(MAX(DJ3224:DJ$4531)=MAX(DJ$3091:DJ$4531),0,IF(DH3224>0.03*DB$4532,0,$C3224/60)))","v":0},{"$f":"IF(SUM(DR$3091:DR3223)>0,0,IF(MAX(DJ3224:DJ$4531)=MAX(DJ$3091:DJ$4531),0,IF(DH3224>0.01*DB$4532,0,$C3224/60)))","v":0},0,0,0,0,0,0,0,0,0,{"$error":"#N/A"},{"$error":"#N/A"},{"$error":"#N/A"},{"$error":"#N/A"},{"$error":"#N/A"},{"$error":"#N/A"},{"$f":"IF(SUM(EH$3091:EH3223)>0,0,IF(MAX(EA3224:EA$4531)=MAX(EA$3091:EA$4531),0,IF(DY3224>0.03*DS$4532,0,$C3224/60)))","v":0},{"$f":"IF(SUM(EI$3091:EI3223)>0,0,IF(MAX(EA3224:EA$4531)=MAX(EA$3091:EA$4531),0,IF(DY3224>0.01*DS$4532,0,$C3224/60)))","v":0},0,0,0,0,0,0,0,0,0,{"$error":"#N/A"},{"$error":"#N/A"},{"$error":"#N/A"},{"$error":"#N/A"},{"$error":"#N/A"},{"$error":"#N/A"},{"$f":"IF(SUM(EY$3091:EY3223)>0,0,IF(MAX(ER3224:ER$4531)=MAX(ER$3091:ER$4531),0,IF(EP3224>0.03*EJ$4532,0,$C3224/60)))","v":0},{"$f":"IF(SUM(EZ$3091:EZ3223)>0,0,IF(MAX(ER3224:ER$4531)=MAX(ER$3091:ER$4531),0,IF(EP3224>0.01*EJ$4532,0,$C3224/60)))","v":0}]
[null,11.833333333333334,710,0,0,0,0,0,0,0,0,0,{"$error":"#N/A"},{"$error":"#N/A"},{"$error":"#N/A"},{"$error":"#N/A"},{"$error":"#N/A"},{"$error":"#N/A"},{"$f":"IF(SUM(S$3091:S3232)>0,0,\nIF(MAX(L3233:L$4531)=MAX(L$3091:L$4531),0,\nIF(Hydrograph_Source_WQCV=\"USER\",IF(J3233>0.03*D$4532,0,$C3233/60),\nIF(J3233>0.03*J$4532,0,$C3233/60))))","v":0},{"$f":"IF(SUM(T$3091:T3232)>0,0,\nIF(MAX(L3233:L$4531)=MAX(L$3091:L$4531),0,\nIF(Hydrograph_Source_WQCV=\"USER\",IF(J3233>0.01*D$4532,0,$C3233/60),\nIF(J3233>0.01*J$4532,0,$C3233/60))))","v":0},0,0,0,0,0,0,0,0,0,{"$error":"#N/A"},{"$error":"#N/A"},{"$error":"#N/A"},{"$error":"#N/A"},{"$error":"#N/A"},{"$error":"#N/A"},{"$f":"IF(SUM(AJ$3091:AJ3232)>0,0,\nIF(MAX(AC3233:AC$4531)=MAX(AC$3091:AC$4531),0,\nIF(Hydrograph_Source_EURV=\"USER\",IF(AA3233>0.03*U$4532,0,$C3233/60),\nIF(AA3233>0.03*AA$4532,0,$C3233/60))))","v":0},{"$f":"IF(SUM(AK$3091:AK3232)>0,0,\nIF(MAX(AC3233:AC$4531)=MAX(AC$3091:AC$4531),0,\nIF(Hydrograph_Source_EURV=\"USER\",IF(AA3233>0.01*U$4532,0,$C3233/60),\nIF(AA3233>0.01*AA$4532,0,$C3233/60))))","v":0},0,0,0,0,0,0,0,0,0,{"$error":"#N/A"},{"$error":"#N/A"},{"$error":"#N/A"},{"$error":"#N/A"},{"$error":"#N/A"},{"$error":"#N/A"},{"$f":"IF(SUM(BA$3091:BA3232)>0,0,IF(MAX(AT3233:AT$4531)=MAX(AT$3091:AT$4531),0,IF(AR3233>0.03*AL$4532,0,$C3233/60)))","v":0},{"$f":"IF(SUM(BB$3091:BB3232)>0,0,IF(MAX(AT3233:AT$4531)=MAX(AT$3091:AT$4531),0,IF(AR3233>0.01*AL$4532,0,$C3233/60)))","v":0},0,0,0,0,0,0,0,0,0,{"$error":"#N/A"},{"$error":"#N/A"},{"$error":"#N/A"},{"$error":"#N/A"},{"$error":"#N/A"},{"$error":"#N/A"},{"$f":"IF(SUM(BR$3091:BR3232)>0,0,IF(MAX(BK3233:BK$4531)=MAX(BK$3091:BK$4531),0,IF(BI3233>0.03*BC$4532,0,$C3233/60)))","v":0},{"$f":"IF(SUM(BS$3091:BS3232)>0,0,IF(MAX(BK3233:BK$4531)=MAX(BK$3091:BK$4531),0,IF(BI3233>0.01*BC$4532,0,$C3233/60)))","v":0},0,0,0,0,0,0,0,0,0,{"$error":"#N/A"},{"$error":"#N/A"},{"$error":"#N/A"},{"$error":"#N/A"},{"$error":"#N/A"},{"$error":"#N/A"},{"$f":"IF(SUM(CI$3091:CI3232)>0,0,IF(MAX(CB3233:CB$4531)=MAX(CB$3091:CB$4531),0,IF(BZ3233>0.03*BT$4532,0,$C3233/60)))","v":0},{"$f":"IF(SUM(CJ$3091:CJ3232)>0,0,IF(MAX(CB3233:CB$4531)=MAX(CB$3091:CB$4531),0,IF(BZ3233>0.01*BT$4532,0,$C3233/60)))","v":0},0,0,0,0,0,0,0,0,0,{"$error":"#N/A"},{"$error":"#N/A"},{"$error":"#N/A"},{"$error":"#N/A"},{"$error":"#N/A"},{"$error":"#N/A"},{"$f":"IF(SUM(CZ$3091:CZ3232)>0,0,IF(MAX(CS3233:CS$4531)=MAX(CS$3091:CS$4531),0,IF(CQ3233>0.03*CK$4532,0,$C3233/60)))","v":0},{"$f":"IF(SUM(DA$3091:DA3232)>0,0,IF(MAX(CS3233:CS$4531)=MAX(CS$3091:CS$4531),0,IF(CQ3233>0.01*CK$4532,0,$C3233/60)))","v":0},0,0,0,0,0,0,0,0,0,{"$error":"#N/A"},{"$error":"#N/A"},{"$error":"#N/A"},{"$error":"#N/A"},{"$error":"#N/A"},{"$error":"#N/A"},{"$f":"IF(SUM(DQ$3091:DQ3232)>0,0,IF(MAX(DJ3233:DJ$4531)=MAX(DJ$3091:DJ$4531),0,IF(DH3233>0.03*DB$4532,0,$C3233/60)))","v":0},{"$f":"IF(SUM(DR$3091:DR3232)>0,0,IF(MAX(DJ3233:DJ$4531)=MAX(DJ$3091:DJ$4531),0,IF(DH3233>0.01*DB$4532,0,$C3233/60)))","v":0},0,0,0,0,0,0,0,0,0,{"$error":"#N/A"},{"$error":"#N/A"},{"$error":"#N/A"},{"$error":"#N/A"},{"$error":"#N/A"},{"$error":"#N/A"},{"$f":"IF(SUM(EH$3091:EH3232)>0,0,IF(MAX(EA3233:EA$4531)=MAX(EA$3091:EA$4531),0,IF(DY3233>0.03*DS$4532,0,$C3233/60)))","v":0},{"$f":"IF(SUM(EI$3091:EI3232)>0,0,IF(MAX(EA3233:EA$4531)=MAX(EA$3091:EA$4531),0,IF(DY3233>0.01*DS$4532,0,$C3233/60)))","v":0},0,0,0,0,0,0,0,0,0,{"$error":"#N/A"},{"$error":"#N/A"},{"$error":"#N/A"},{"$error":"#N/A"},{"$error":"#N/A"},{"$error":"#N/A"},{"$f":"IF(SUM(EY$3091:EY3232)>0,0,IF(MAX(ER3233:ER$4531)=MAX(ER$3091:ER$4531),0,IF(EP3233>0.03*EJ$4532,0,$C3233/60)))","v":0},{"$f":"IF(SUM(EZ$3091:EZ3232)>0,0,IF(MAX(ER3233:ER$4531)=MAX(ER$3091:ER$4531),0,IF(EP3233>0.01*EJ$4532,0,$C3233/60)))","v":0}]
[null,11.916666666666666,715,0,0,0,0,0,0,0,0,0,{"$error":"#N/A"},{"$error":"#N/A"},{"$error":"#N/A"},{"$error":"#N/A"},{"$error":"#N/A"},{"$error":"#N/A"},{"$f":"IF(SUM(S$3091:S3233)>0,0,\nIF(MAX(L3234:L$4531)=MAX(L$3091:L$4531),0,\nIF(Hydrograph_Source_WQCV=\"USER\",IF(J3234>0.03*D$4532,0,$C3234/60),\nIF(J3234>0.03*J$4532,0,$C3234/60))))","v":0},{"$f":"IF(SUM(T$3091:T3233)>0,0,\nIF(MAX(L3234:L$4531)=MAX(L$3091:L$4531),0,\nIF(Hydrograph_Source_WQCV=\"USER\",IF(J3234>0.01*D$4532,0,$C3234/60),\nIF(J3234>0.01*J$4532,0,$C3234/60))))","v":0},0,0,0,0,0,0,0,0,0,{"$error":"#N/A"},{"$error":"#N/A"},{"$error":"#N/A"},{"$error":"#N/A"},{"$error":"#N/A"},{"$error":"#N/A"},{"$f":"IF(SUM(AJ$3091:AJ3233)>0,0,\nIF(MAX(AC3234:AC$4531)=MAX(AC$3091:AC$4531),0,\nIF(Hydrograph_Source_EURV=\"USER\",IF(AA3234>0.03*U$4532,0,$C3234/60),\nIF(AA3234>0.03*AA$4532,0,$C3234/60))))","v":0},{"$f":"IF(SUM(AK$3091:AK3233)>0,0,\nIF(MAX(AC3234:AC$4531)=MAX(AC$3091:AC$4531),0,\nIF(Hydrograph_Source_EURV=\"USER\",IF(AA3234>0.01*U$4532,0,$C3234/60),\nIF(AA3234>0.01*AA$4532,0,$C3234/60))))","v":0},0,0,0,0,0,0,0,0,0,{"$error":"#N/A"},{"$error":"#N/A"},{"$error":"#N/A"},{"$error":"#N/A"},{"$error":"#N/A"},{"$error":"#N/A"},{"$f":"IF(SUM(BA$3091:BA3233)>0,0,IF(MAX(AT3234:AT$4531)=MAX(AT$3091:AT$4531),0,IF(AR3234>0.03*AL$4532,0,$C3234/60)))","v":0},{"$f":"IF(SUM(BB$3091:BB3233)>0,0,IF(MAX(AT3234:AT$4531)=MAX(AT$3091:AT$4531),0,IF(AR3234>0.01*AL$4532,0,$C3234/60)))","v":0},0,0,0,0,0,0,0,0,0,{"$error":"#N/A"},{"$error":"#N/A"},{"$error":"#N/A"},{"$error":"#N/A"},{"$error":"#N/A"},{"$error":"#N/A"},{"$f":"IF(SUM(BR$3091:BR3233)>0,0,IF(MAX(BK3234:BK$4531)=MAX(BK$3091:BK$4531),0,IF(BI3234>0.03*BC$4532,0,$C3234/60)))","v":0},{"$f":"IF(SUM(BS$3091:BS3233)>0,0,IF(MAX(BK3234:BK$4531)=MAX(BK$3091:BK$4531),0,IF(BI3234>0.01*BC$4532,0,$C3234/60)))","v":0},0,0,0,0,0,0,0,0,0,{"$error":"#N/A"},{"$error":"#N/A"},{"$error":"#N/A"},{"$error":"#N/A"},{"$error":"#N/A"},{"$error":"#N/A"},{"$f":"IF(SUM(CI$3091:CI3233)>0,0,IF(MAX(CB3234:CB$4531)=MAX(CB$3091:CB$4531),0,IF(BZ3234>0.03*BT$4532,0,$C3234/60)))","v":0},{"$f":"IF(SUM(CJ$3091:CJ3233)>0,0,IF(MAX(CB3234:CB$4531)=MAX(CB$3091:CB$4531),0,IF(BZ3234>0.01*BT$4532,0,$C3234/60)))","v":0},0,0,0,0,0,0,0,0,0,{"$error":"#N/A"},{"$error":"#N/A"},{"$error":"#N/A"},{"$error":"#N/A"},{"$error":"#N/A"},{"$error":"#N/A"},{"$f":"IF(SUM(CZ$3091:CZ3233)>0,0,IF(MAX(CS3234:CS$4531)=MAX(CS$3091:CS$4531),0,IF(CQ3234>0.03*CK$4532,0,$C3234/60)))","v":0},{"$f":"IF(SUM(DA$3091:DA3233)>0,0,IF(MAX(CS3234:CS$4531)=MAX(CS$3091:CS$4531),0,IF(CQ3234>0.01*CK$4532,0,$C3234/60)))","v":0},0,0,0,0,0,0,0,0,0,{"$error":"#N/A"},{"$error":"#N/A"},{"$error":"#N/A"},{"$error":"#N/A"},{"$error":"#N/A"},{"$error":"#N/A"},{"$f":"IF(SUM(DQ$3091:DQ3233)>0,0,IF(MAX(DJ3234:DJ$4531)=MAX(DJ$3091:DJ$4531),0,IF(DH3234>0.03*DB$4532,0,$C3234/60)))","v":0},{"$f":"IF(SUM(DR$3091:DR3233)>0,0,IF(MAX(DJ3234:DJ$4531)=MAX(DJ$3091:DJ$4531),0,IF(DH3234>0.01*DB$4532,0,$C3234/60)))","v":0},0,0,0,0,0,0,0,0,0,{"$error":"#N/A"},{"$error":"#N/A"},{"$error":"#N/A"},{"$error":"#N/A"},{"$error":"#N/A"},{"$error":"#N/A"},{"$f":"IF(SUM(EH$3091:EH3233)>0,0,IF(MAX(EA3234:EA$4531)=MAX(EA$3091:EA$4531),0,IF(DY3234>0.03*DS$4532,0,$C3234/60)))","v":0},{"$f":"IF(SUM(EI$3091:EI3233)>0,0,IF(MAX(EA3234:EA$4531)=MAX(EA$3091:EA$4531),0,IF(DY3234>0.01*DS$4532,0,$C3234/60)))","v":0},0,0,0,0,0,0,0,0,0,{"$error":"#N/A"},{"$error":"#N/A"},{"$error":"#N/A"},{"$error":"#N/A"},{"$error":"#N/A"},{"$error":"#N/A"},{"$f":"IF(SUM(EY$3091:EY3233)>0,0,IF(MAX(ER3234:ER$4531)=MAX(ER$3091:ER$4531),0,IF(EP3234>0.03*EJ$4532,0,$C3234/60)))","v":0},{"$f":"IF(SUM(EZ$3091:EZ3233)>0,0,IF(MAX(ER3234:ER$4531)=MAX(ER$3091:ER$4531),0,IF(EP3234>0.01*EJ$4532,0,$C3234/60)))","v":0}]
[null,12.583333333333334,755,0,0,0,0,0,0,0,0,0,{"$error":"#N/A"},{"$error":"#N/A"},{"$error":"#N/A"},{"$error":"#N/A"},{"$error":"#N/A"},{"$error":"#N/A"},{"$f":"IF(SUM(S$3091:S3241)>0,0,\nIF(MAX(L3242:L$4531)=MAX(L$3091:L$4531),0,\nIF(Hydrograph_Source_WQCV=\"USER\",IF(J3242>0.03*D$4532,0,$C3242/60),\nIF(J3242>0.03*J$4532,0,$C3242/60))))","v":0},{"$f":"IF(SUM(T$3091:T3241)>0,0,\nIF(MAX(L3242:L$4531)=MAX(L$3091:L$4531),0,\nIF(Hydrograph_Source_WQCV=\"USER\",IF(J3242>0.01*D$4532,0,$C3242/60),\nIF(J3242>0.01*J$4532,0,$C3242/60))))","v":0},0,0,0,0,0,0,0,0,0,{"$error":"#N/A"},{"$error":"#N/A"},{"$error":"#N/A"},{"$error":"#N/A"},{"$error":"#N/A"},{"$error":"#N/A"},{"$f":"IF(SUM(AJ$3091:AJ3241)>0,0,\nIF(MAX(AC3242:AC$4531)=MAX(AC$3091:AC$4531),0,\nIF(Hydrograph_Source_EURV=\"USER\",IF(AA3242>0.03*U$4532,0,$C3242/60),\nIF(AA3242>0.03*AA$4532,0,$C3242/60))))","v":0},{"$f":"IF(SUM(AK$3091:AK3241)>0,0,\nIF(MAX(AC3242:AC$4531)=MAX(AC$3091:AC$4531),0,\nIF(Hydrograph_Source_EURV=\"USER\",IF(AA3242>0.01*U$4532,0,$C3242/60),\nIF(AA3242>0.01*AA$4532,0,$C3242/60))))","v":0},0,0,0,0,0,0,0,0,0,{"$error":"#N/A"},{"$error":"#N/A"},{"$error":"#N/A"},{"$error":"#N/A"},{"$error":"#N/A"},{"$error":"#N/A"},{"$f":"IF(SUM(BA$3091:BA3241)>0,0,IF(MAX(AT3242:AT$4531)=MAX(AT$3091:AT$4531),0,IF(AR3242>0.03*AL$4532,0,$C3242/60)))","v":0},{"$f":"IF(SUM(BB$3091:BB3241)>0,0,IF(MAX(AT3242:AT$4531)=MAX(AT$3091:AT$4531),0,IF(AR3242>0.01*AL$4532,0,$C3242/60)))","v":0},0,0,0,0,0,0,0,0,0,{"$error":"#N/A"},{"$error":"#N/A"},{"$error":"#N/A"},{"$error":"#N/A"},{"$error":"#N/A"},{"$error":"#N/A"},{"$f":"IF(SUM(BR$3091:BR3241)>0,0,IF(MAX(BK3242:BK$4531)=MAX(BK$3091:BK$4531),0,IF(BI3242>0.03*BC$4532,0,$C3242/60)))","v":0},{"$f":"IF(SUM(BS$3091:BS3241)>0,0,IF(MAX(BK3242:BK$4531)=MAX(BK$3091:BK$4531),0,IF(BI3242>0.01*BC$4532,0,$C3242/60)))","v":0},0,0,0,0,0,0,0,0,0,{"$error":"#N/A"},{"$error":"#N/A"},{"$error":"#N/A"},{"$error":"#N/A"},{"$error":"#N/A"},{"$error":"#N/A"},{"$f":"IF(SUM(CI$3091:CI3241)>0,0,IF(MAX(CB3242:CB$4531)=MAX(CB$3091:CB$4531),0,IF(BZ3242>0.03*BT$4532,0,$C3242/60)))","v":0},{"$f":"IF(SUM(CJ$3091:CJ3241)>0,0,IF(MAX(CB3242:CB$4531)=MAX(CB$3091:CB$4531),0,IF(BZ3242>0.01*BT$4532,0,$C3242/60)))","v":0},0,0,0,0,0,0,0,0,0,{"$error":"#N/A"},{"$error":"#N/A"},{"$error":"#N/A"},{"$error":"#N/A"},{"$error":"#N/A"},{"$error":"#N/A"},{"$f":"IF(SUM(CZ$3091:CZ3241)>0,0,IF(MAX(CS3242:CS$4531)=MAX(CS$3091:CS$4531),0,IF(CQ3242>0.03*CK$4532,0,$C3242/60)))","v":0},{"$f":"IF(SUM(DA$3091:DA3241)>0,0,IF(MAX(CS3242:CS$4531)=MAX(CS$3091:CS$4531),0,IF(CQ3242>0.01*CK$4532,0,$C3242/60)))","v":0},0,0,0,0,0,0,0,0,0,{"$error":"#N/A"},{"$error":"#N/A"},{"$error":"#N/A"},{"$error":"#N/A"},{"$error":"#N/A"},{"$error":"#N/A"},{"$f":"IF(SUM(DQ$3091:DQ3241)>0,0,IF(MAX(DJ3242:DJ$4531)=MAX(DJ$3091:DJ$4531),0,IF(DH3242>0.03*DB$4532,0,$C3242/60)))","v":0},{"$f":"IF(SUM(DR$3091:DR3241)>0,0,IF(MAX(DJ3242:DJ$4531)=MAX(DJ$3091:DJ$4531),0,IF(DH3242>0.01*DB$4532,0,$C3242/60)))","v":0},0,0,0,0,0,0,0,0,0,{"$error":"#N/A"},{"$error":"#N/A"},{"$error":"#N/A"},{"$error":"#N/A"},{"$error":"#N/A"},{"$error":"#N/A"},{"$f":"IF(SUM(EH$3091:EH3241)>0,0,IF(MAX(EA3242:EA$4531)=MAX(EA$3091:EA$4531),0,IF(DY3242>0.03*DS$4532,0,$C3242/60)))","v":0},{"$f":"IF(SUM(EI$3091:EI3241)>0,0,IF(MAX(EA3242:EA$4531)=MAX(EA$3091:EA$4531),0,IF(DY3242>0.01*DS$4532,0,$C3242/60)))","v":0},0,0,0,0,0,0,0,0,0,{"$error":"#N/A"},{"$error":"#N/A"},{"$error":"#N/A"},{"$error":"#N/A"},{"$error":"#N/A"},{"$error":"#N/A"},{"$f":"IF(SUM(EY$3091:EY3241)>0,0,IF(MAX(ER3242:ER$4531)=MAX(ER$3091:ER$4531),0,IF(EP3242>0.03*EJ$4532,0,$C3242/60)))","v":0},{"$f":"IF(SUM(EZ$3091:EZ3241)>0,0,IF(MAX(ER3242:ER$4531)=MAX(ER$3091:ER$4531),0,IF(EP3242>0.01*EJ$4532,0,$C3242/60)))","v":0}]
[null,13.333333333333334,800,0,0,0,0,0,0,0,0,0,{"$error":"#N/A"},{"$error":"#N/A"},{"$error":"#N/A"},{"$error":"#N/A"},{"$error":"#N/A"},{"$error":"#N/A"},{"$f":"IF(SUM(S$3091:S3250)>0,0,\nIF(MAX(L3251:L$4531)=MAX(L$3091:L$4531),0,\nIF(Hydrograph_Source_WQCV=\"USER\",IF(J3251>0.03*D$4532,0,$C3251/60),\nIF(J3251>0.03*J$4532,0,$C3251/60))))","v":0},{"$f":"IF(SUM(T$3091:T3250)>0,0,\nIF(MAX(L3251:L$4531)=MAX(L$3091:L$4531),0,\nIF(Hydrograph_Source_WQCV=\"USER\",IF(J3251>0.01*D$4532,0,$C3251/60),\nIF(J3251>0.01*J$4532,0,$C3251/60))))","v":0},0,0,0,0,0,0,0,0,0,{"$error":"#N/A"},{"$error":"#N/A"},{"$error":"#N/A"},{"$error":"#N/A"},{"$error":"#N/A"},{"$error":"#N/A"},{"$f":"IF(SUM(AJ$3091:AJ3250)>0,0,\nIF(MAX(AC3251:AC$4531)=MAX(AC$3091:AC$4531),0,\nIF(Hydrograph_Source_EURV=\"USER\",IF(AA3251>0.03*U$4532,0,$C3251/60),\nIF(AA3251>0.03*AA$4532,0,$C3251/60))))","v":0},{"$f":"IF(SUM(AK$3091:AK3250)>0,0,\nIF(MAX(AC3251:AC$4531)=MAX(AC$3091:AC$4531),0,\nIF(Hydrograph_Source_EURV=\"USER\",IF(AA3251>0.01*U$4532,0,$C3251/60),\nIF(AA3251>0.01*AA$4532,0,$C3251/60))))","v":0},0,0,0,0,0,0,0,0,0,{"$error":"#N/A"},{"$error":"#N/A"},{"$error":"#N/A"},{"$error":"#N/A"},{"$error":"#N/A"},{"$error":"#N/A"},{"$f":"IF(SUM(BA$3091:BA3250)>0,0,IF(MAX(AT3251:AT$4531)=MAX(AT$3091:AT$4531),0,IF(AR3251>0.03*AL$4532,0,$C3251/60)))","v":0},{"$f":"IF(SUM(BB$3091:BB3250)>0,0,IF(MAX(AT3251:AT$4531)=MAX(AT$3091:AT$4531),0,IF(AR3251>0.01*AL$4532,0,$C3251/60)))","v":0},0,0,0,0,0,0,0,0,0,{"$error":"#N/A"},{"$error":"#N/A"},{"$error":"#N/A"},{"$error":"#N/A"},{"$error":"#N/A"},{"$error":"#N/A"},{"$f":"IF(SUM(BR$3091:BR3250)>0,0,IF(MAX(BK3251:BK$4531)=MAX(BK$3091:BK$4531),0,IF(BI3251>0.03*BC$4532,0,$C3251/60)))","v":0},{"$f":"IF(SUM(BS$3091:BS3250)>0,0,IF(MAX(BK3251:BK$4531)=MAX(BK$3091:BK$4531),0,IF(BI3251>0.01*BC$4532,0,$C3251/60)))","v":0},0,0,0,0,0,0,0,0,0,{"$error":"#N/A"},{"$error":"#N/A"},{"$error":"#N/A"},{"$error":"#N/A"},{"$error":"#N/A"},{"$error":"#N/A"},{"$f":"IF(SUM(CI$3091:CI3250)>0,0,IF(MAX(CB3251:CB$4531)=MAX(CB$3091:CB$4531),0,IF(BZ3251>0.03*BT$4532,0,$C3251/60)))","v":0},{"$f":"IF(SUM(CJ$3091:CJ3250)>0,0,IF(MAX(CB3251:CB$4531)=MAX(CB$3091:CB$4531),0,IF(BZ3251>0.01*BT$4532,0,$C3251/60)))","v":0},0,0,0,0,0,0,0,0,0,{"$error":"#N/A"},{"$error":"#N/A"},{"$error":"#N/A"},{"$error":"#N/A"},{"$error":"#N/A"},{"$error":"#N/A"},{"$f":"IF(SUM(CZ$3091:CZ3250)>0,0,IF(MAX(CS3251:CS$4531)=MAX(CS$3091:CS$4531),0,IF(CQ3251>0.03*CK$4532,0,$C3251/60)))","v":0},{"$f":"IF(SUM(DA$3091:DA3250)>0,0,IF(MAX(CS3251:CS$4531)=MAX(CS$3091:CS$4531),0,IF(CQ3251>0.01*CK$4532,0,$C3251/60)))","v":0},0,0,0,0,0,0,0,0,0,{"$error":"#N/A"},{"$error":"#N/A"},{"$error":"#N/A"},{"$error":"#N/A"},{"$error":"#N/A"},{"$error":"#N/A"},{"$f":"IF(SUM(DQ$3091:DQ3250)>0,0,IF(MAX(DJ3251:DJ$4531)=MAX(DJ$3091:DJ$4531),0,IF(DH3251>0.03*DB$4532,0,$C3251/60)))","v":0},{"$f":"IF(SUM(DR$3091:DR3250)>0,0,IF(MAX(DJ3251:DJ$4531)=MAX(DJ$3091:DJ$4531),0,IF(DH3251>0.01*DB$4532,0,$C3251/60)))","v":0},0,0,0,0,0,0,0,0,0,{"$error":"#N/A"},{"$error":"#N/A"},{"$error":"#N/A"},{"$error":"#N/A"},{"$error":"#N/A"},{"$error":"#N/A"},{"$f":"IF(SUM(EH$3091:EH3250)>0,0,IF(MAX(EA3251:EA$4531)=MAX(EA$3091:EA$4531),0,IF(DY3251>0.03*DS$4532,0,$C3251/60)))","v":0},{"$f":"IF(SUM(EI$3091:EI3250)>0,0,IF(MAX(EA3251:EA$4531)=MAX(EA$3091:EA$4531),0,IF(DY3251>0.01*DS$4532,0,$C3251/60)))","v":0},0,0,0,0,0,0,0,0,0,{"$error":"#N/A"},{"$error":"#N/A"},{"$error":"#N/A"},{"$error":"#N/A"},{"$error":"#N/A"},{"$error":"#N/A"},{"$f":"IF(SUM(EY$3091:EY3250)>0,0,IF(MAX(ER3251:ER$4531)=MAX(ER$3091:ER$4531),0,IF(EP3251>0.03*EJ$4532,0,$C3251/60)))","v":0},{"$f":"IF(SUM(EZ$3091:EZ3250)>0,0,IF(MAX(ER3251:ER$4531)=MAX(ER$3091:ER$4531),0,IF(EP3251>0.01*EJ$4532,0,$C3251/60)))","v":0}]
[null,14.083333333333334,845,0,0,0,0,0,0,0,0,0,{"$error":"#N/A"},{"$error":"#N/A"},{"$error":"#N/A"},{"$error":"#N/A"},{"$error":"#N/A"},{"$error":"#N/A"},{"$f":"IF(SUM(S$3091:S3259)>0,0,\nIF(MAX(L3260:L$4531)=MAX(L$3091:L$4531),0,\nIF(Hydrograph_Source_WQCV=\"USER\",IF(J3260>0.03*D$4532,0,$C3260/60),\nIF(J3260>0.03*J$4532,0,$C3260/60))))","v":0},{"$f":"IF(SUM(T$3091:T3259)>0,0,\nIF(MAX(L3260:L$4531)=MAX(L$3091:L$4531),0,\nIF(Hydrograph_Source_WQCV=\"USER\",IF(J3260>0.01*D$4532,0,$C3260/60),\nIF(J3260>0.01*J$4532,0,$C3260/60))))","v":0},0,0,0,0,0,0,0,0,0,{"$error":"#N/A"},{"$error":"#N/A"},{"$error":"#N/A"},{"$error":"#N/A"},{"$error":"#N/A"},{"$error":"#N/A"},{"$f":"IF(SUM(AJ$3091:AJ3259)>0,0,\nIF(MAX(AC3260:AC$4531)=MAX(AC$3091:AC$4531),0,\nIF(Hydrograph_Source_EURV=\"USER\",IF(AA3260>0.03*U$4532,0,$C3260/60),\nIF(AA3260>0.03*AA$4532,0,$C3260/60))))","v":0},{"$f":"IF(SUM(AK$3091:AK3259)>0,0,\nIF(MAX(AC3260:AC$4531)=MAX(AC$3091:AC$4531),0,\nIF(Hydrograph_Source_EURV=\"USER\",IF(AA3260>0.01*U$4532,0,$C3260/60),\nIF(AA3260>0.01*AA$4532,0,$C3260/60))))","v":0},0,0,0,0,0,0,0,0,0,{"$error":"#N/A"},{"$error":"#N/A"},{"$error":"#N/A"},{"$error":"#N/A"},{"$error":"#N/A"},{"$error":"#N/A"},{"$f":"IF(SUM(BA$3091:BA3259)>0,0,IF(MAX(AT3260:AT$4531)=MAX(AT$3091:AT$4531),0,IF(AR3260>0.03*AL$4532,0,$C3260/60)))","v":0},{"$f":"IF(SUM(BB$3091:BB3259)>0,0,IF(MAX(AT3260:AT$4531)=MAX(AT$3091:AT$4531),0,IF(AR3260>0.01*AL$4532,0,$C3260/60)))","v":0},0,0,0,0,0,0,0,0,0,{"$error":"#N/A"},{"$error":"#N/A"},{"$error":"#N/A"},{"$error":"#N/A"},{"$error":"#N/A"},{"$error":"#N/A"},{"$f":"IF(SUM(BR$3091:BR3259)>0,0,IF(MAX(BK3260:BK$4531)=MAX(BK$3091:BK$4531),0,IF(BI3260>0.03*BC$4532,0,$C3260/60)))","v":0},{"$f":"IF(SUM(BS$3091:BS3259)>0,0,IF(MAX(BK3260:BK$4531)=MAX(BK$3091:BK$4531),0,IF(BI3260>0.01*BC$4532,0,$C3260/60)))","v":0},0,0,0,0,0,0,0,0,0,{"$error":"#N/A"},{"$error":"#N/A"},{"$error":"#N/A"},{"$error":"#N/A"},{"$error":"#N/A"},{"$error":"#N/A"},{"$f":"IF(SUM(CI$3091:CI3259)>0,0,IF(MAX(CB3260:CB$4531)=MAX(CB$3091:CB$4531),0,IF(BZ3260>0.03*BT$4532,0,$C3260/60)))","v":0},{"$f":"IF(SUM(CJ$3091:CJ3259)>0,0,IF(MAX(CB3260:CB$4531)=MAX(CB$3091:CB$4531),0,IF(BZ3260>0.01*BT$4532,0,$C3260/60)))","v":0},0,0,0,0,0,0,0,0,0,{"$error":"#N/A"},{"$error":"#N/A"},{"$error":"#N/A"},{"$error":"#N/A"},{"$error":"#N/A"},{"$error":"#N/A"},{"$f":"IF(SUM(CZ$3091:CZ3259)>0,0,IF(MAX(CS3260:CS$4531)=MAX(CS$3091:CS$4531),0,IF(CQ3260>0.03*CK$4532,0,$C3260/60)))","v":0},{"$f":"IF(SUM(DA$3091:DA3259)>0,0,IF(MAX(CS3260:CS$4531)=MAX(CS$3091:CS$4531),0,IF(CQ3260>0.01*CK$4532,0,$C3260/60)))","v":0},0,0,0,0,0,0,0,0,0,{"$error":"#N/A"},{"$error":"#N/A"},{"$error":"#N/A"},{"$error":"#N/A"},{"$error":"#N/A"},{"$error":"#N/A"},{"$f":"IF(SUM(DQ$3091:DQ3259)>0,0,IF(MAX(DJ3260:DJ$4531)=MAX(DJ$3091:DJ$4531),0,IF(DH3260>0.03*DB$4532,0,$C3260/60)))","v":0},{"$f":"IF(SUM(DR$3091:DR3259)>0,0,IF(MAX(DJ3260:DJ$4531)=MAX(DJ$3091:DJ$4531),0,IF(DH3260>0.01*DB$4532,0,$C3260/60)))","v":0},0,0,0,0,0,0,0,0,0,{"$error":"#N/A"},{"$error":"#N/A"},{"$error":"#N/A"},{"$error":"#N/A"},{"$error":"#N/A"},{"$error":"#N/A"},{"$f":"IF(SUM(EH$3091:EH3259)>0,0,IF(MAX(EA3260:EA$4531)=MAX(EA$3091:EA$4531),0,IF(DY3260>0.03*DS$4532,0,$C3260/60)))","v":0},{"$f":"IF(SUM(EI$3091:EI3259)>0,0,IF(MAX(EA3260:EA$4531)=MAX(EA$3091:EA$4531),0,IF(DY3260>0.01*DS$4532,0,$C3260/60)))","v":0},0,0,0,0,0,0,0,0,0,{"$error":"#N/A"},{"$error":"#N/A"},{"$error":"#N/A"},{"$error":"#N/A"},{"$error":"#N/A"},{"$error":"#N/A"},{"$f":"IF(SUM(EY$3091:EY3259)>0,0,IF(MAX(ER3260:ER$4531)=MAX(ER$3091:ER$4531),0,IF(EP3260>0.03*EJ$4532,0,$C3260/60)))","v":0},{"$f":"IF(SUM(EZ$3091:EZ3259)>0,0,IF(MAX(ER3260:ER$4531)=MAX(ER$3091:ER$4531),0,IF(EP3260>0.01*EJ$4532,0,$C3260/60)))","v":0}]
[null,14.833333333333334,890,0,0,0,0,0,0,0,0,0,{"$error":"#N/A"},{"$error":"#N/A"},{"$error":"#N/A"},{"$error":"#N/A"},{"$error":"#N/A"},{"$error":"#N/A"},{"$f":"IF(SUM(S$3091:S3268)>0,0,\nIF(MAX(L3269:L$4531)=MAX(L$3091:L$4531),0,\nIF(Hydrograph_Source_WQCV=\"USER\",IF(J3269>0.03*D$4532,0,$C3269/60),\nIF(J3269>0.03*J$4532,0,$C3269/60))))","v":0},{"$f":"IF(SUM(T$3091:T3268)>0,0,\nIF(MAX(L3269:L$4531)=MAX(L$3091:L$4531),0,\nIF(Hydrograph_Source_WQCV=\"USER\",IF(J3269>0.01*D$4532,0,$C3269/60),\nIF(J3269>0.01*J$4532,0,$C3269/60))))","v":0},0,0,0,0,0,0,0,0,0,{"$error":"#N/A"},{"$error":"#N/A"},{"$error":"#N/A"},{"$error":"#N/A"},{"$error":"#N/A"},{"$error":"#N/A"},{"$f":"IF(SUM(AJ$3091:AJ3268)>0,0,\nIF(MAX(AC3269:AC$4531)=MAX(AC$3091:AC$4531),0,\nIF(Hydrograph_Source_EURV=\"USER\",IF(AA3269>0.03*U$4532,0,$C3269/60),\nIF(AA3269>0.03*AA$4532,0,$C3269/60))))","v":0},{"$f":"IF(SUM(AK$3091:AK3268)>0,0,\nIF(MAX(AC3269:AC$4531)=MAX(AC$3091:AC$4531),0,\nIF(Hydrograph_Source_EURV=\"USER\",IF(AA3269>0.01*U$4532,0,$C3269/60),\nIF(AA3269>0.01*AA$4532,0,$C3269/60))))","v":0},0,0,0,0,0,0,0,0,0,{"$error":"#N/A"},{"$error":"#N/A"},{"$error":"#N/A"},{"$error":"#N/A"},{"$error":"#N/A"},{"$error":"#N/A"},{"$f":"IF(SUM(BA$3091:BA3268)>0,0,IF(MAX(AT3269:AT$4531)=MAX(AT$3091:AT$4531),0,IF(AR3269>0.03*AL$4532,0,$C3269/60)))","v":0},{"$f":"IF(SUM(BB$3091:BB3268)>0,0,IF(MAX(AT3269:AT$4531)=MAX(AT$3091:AT$4531),0,IF(AR3269>0.01*AL$4532,0,$C3269/60)))","v":0},0,0,0,0,0,0,0,0,0,{"$error":"#N/A"},{"$error":"#N/A"},{"$error":"#N/A"},{"$error":"#N/A"},{"$error":"#N/A"},{"$error":"#N/A"},{"$f":"IF(SUM(BR$3091:BR3268)>0,0,IF(MAX(BK3269:BK$4531)=MAX(BK$3091:BK$4531),0,IF(BI3269>0.03*BC$4532,0,$C3269/60)))","v":0},{"$f":"IF(SUM(BS$3091:BS3268)>0,0,IF(MAX(BK3269:BK$4531)=MAX(BK$3091:BK$4531),0,IF(BI3269>0.01*BC$4532,0,$C3269/60)))","v":0},0,0,0,0,0,0,0,0,0,{"$error":"#N/A"},{"$error":"#N/A"},{"$error":"#N/A"},{"$error":"#N/A"},{"$error":"#N/A"},{"$error":"#N/A"},{"$f":"IF(SUM(CI$3091:CI3268)>0,0,IF(MAX(CB3269:CB$4531)=MAX(CB$3091:CB$4531),0,IF(BZ3269>0.03*BT$4532,0,$C3269/60)))","v":0},{"$f":"IF(SUM(CJ$3091:CJ3268)>0,0,IF(MAX(CB3269:CB$4531)=MAX(CB$3091:CB$4531),0,IF(BZ3269>0.01*BT$4532,0,$C3269/60)))","v":0},0,0,0,0,0,0,0,0,0,{"$error":"#N/A"},{"$error":"#N/A"},{"$error":"#N/A"},{"$error":"#N/A"},{"$error":"#N/A"},{"$error":"#N/A"},{"$f":"IF(SUM(CZ$3091:CZ3268)>0,0,IF(MAX(CS3269:CS$4531)=MAX(CS$3091:CS$4531),0,IF(CQ3269>0.03*CK$4532,0,$C3269/60)))","v":0},{"$f":"IF(SUM(DA$3091:DA3268)>0,0,IF(MAX(CS3269:CS$4531)=MAX(CS$3091:CS$4531),0,IF(CQ3269>0.01*CK$4532,0,$C3269/60)))","v":0},0,0,0,0,0,0,0,0,0,{"$error":"#N/A"},{"$error":"#N/A"},{"$error":"#N/A"},{"$error":"#N/A"},{"$error":"#N/A"},{"$error":"#N/A"},{"$f":"IF(SUM(DQ$3091:DQ3268)>0,0,IF(MAX(DJ3269:DJ$4531)=MAX(DJ$3091:DJ$4531),0,IF(DH3269>0.03*DB$4532,0,$C3269/60)))","v":0},{"$f":"IF(SUM(DR$3091:DR3268)>0,0,IF(MAX(DJ3269:DJ$4531)=MAX(DJ$3091:DJ$4531),0,IF(DH3269>0.01*DB$4532,0,$C3269/60)))","v":0},0,0,0,0,0,0,0,0,0,{"$error":"#N/A"},{"$error":"#N/A"},{"$error":"#N/A"},{"$error":"#N/A"},{"$error":"#N/A"},{"$error":"#N/A"},{"$f":"IF(SUM(EH$3091:EH3268)>0,0,IF(MAX(EA3269:EA$4531)=MAX(EA$3091:EA$4531),0,IF(DY3269>0.03*DS$4532,0,$C3269/60)))","v":0},{"$f":"IF(SUM(EI$3091:EI3268)>0,0,IF(MAX(EA3269:EA$4531)=MAX(EA$3091:EA$4531),0,IF(DY3269>0.01*DS$4532,0,$C3269/60)))","v":0},0,0,0,0,0,0,0,0,0,{"$error":"#N/A"},{"$error":"#N/A"},{"$error":"#N/A"},{"$error":"#N/A"},{"$error":"#N/A"},{"$error":"#N/A"},{"$f":"IF(SUM(EY$3091:EY3268)>0,0,IF(MAX(ER3269:ER$4531)=MAX(ER$3091:ER$4531),0,IF(EP3269>0.03*EJ$4532,0,$C3269/60)))","v":0},{"$f":"IF(SUM(EZ$3091:EZ3268)>0,0,IF(MAX(ER3269:ER$4531)=MAX(ER$3091:ER$4531),0,IF(EP3269>0.01*EJ$4532,0,$C3269/60)))","v":0}]
[null,15.583333333333334,935,0,0,0,0,0,0,0,0,0,{"$error":"#N/A"},{"$error":"#N/A"},{"$error":"#N/A"},{"$error":"#N/A"},{"$error":"#N/A"},{"$error":"#N/A"},{"$f":"IF(SUM(S$3091:S3277)>0,0,\nIF(MAX(L3278:L$4531)=MAX(L$3091:L$4531),0,\nIF(Hydrograph_Source_WQCV=\"USER\",IF(J3278>0.03*D$4532,0,$C3278/60),\nIF(J3278>0.03*J$4532,0,$C3278/60))))","v":0},{"$f":"IF(SUM(T$3091:T3277)>0,0,\nIF(MAX(L3278:L$4531)=MAX(L$3091:L$4531),0,\nIF(Hydrograph_Source_WQCV=\"USER\",IF(J3278>0.01*D$4532,0,$C3278/60),\nIF(J3278>0.01*J$4532,0,$C3278/60))))","v":0},0,0,0,0,0,0,0,0,0,{"$error":"#N/A"},{"$error":"#N/A"},{"$error":"#N/A"},{"$error":"#N/A"},{"$error":"#N/A"},{"$error":"#N/A"},{"$f":"IF(SUM(AJ$3091:AJ3277)>0,0,\nIF(MAX(AC3278:AC$4531)=MAX(AC$3091:AC$4531),0,\nIF(Hydrograph_Source_EURV=\"USER\",IF(AA3278>0.03*U$4532,0,$C3278/60),\nIF(AA3278>0.03*AA$4532,0,$C3278/60))))","v":0},{"$f":"IF(SUM(AK$3091:AK3277)>0,0,\nIF(MAX(AC3278:AC$4531)=MAX(AC$3091:AC$4531),0,\nIF(Hydrograph_Source_EURV=\"USER\",IF(AA3278>0.01*U$4532,0,$C3278/60),\nIF(AA3278>0.01*AA$4532,0,$C3278/60))))","v":0},0,0,0,0,0,0,0,0,0,{"$error":"#N/A"},{"$error":"#N/A"},{"$error":"#N/A"},{"$error":"#N/A"},{"$error":"#N/A"},{"$error":"#N/A"},{"$f":"IF(SUM(BA$3091:BA3277)>0,0,IF(MAX(AT3278:AT$4531)=MAX(AT$3091:AT$4531),0,IF(AR3278>0.03*AL$4532,0,$C3278/60)))","v":0},{"$f":"IF(SUM(BB$3091:BB3277)>0,0,IF(MAX(AT3278:AT$4531)=MAX(AT$3091:AT$4531),0,IF(AR3278>0.01*AL$4532,0,$C3278/60)))","v":0},0,0,0,0,0,0,0,0,0,{"$error":"#N/A"},{"$error":"#N/A"},{"$error":"#N/A"},{"$error":"#N/A"},{"$error":"#N/A"},{"$error":"#N/A"},{"$f":"IF(SUM(BR$3091:BR3277)>0,0,IF(MAX(BK3278:BK$4531)=MAX(BK$3091:BK$4531),0,IF(BI3278>0.03*BC$4532,0,$C3278/60)))","v":0},{"$f":"IF(SUM(BS$3091:BS3277)>0,0,IF(MAX(BK3278:BK$4531)=MAX(BK$3091:BK$4531),0,IF(BI3278>0.01*BC$4532,0,$C3278/60)))","v":0},0,0,0,0,0,0,0,0,0,{"$error":"#N/A"},{"$error":"#N/A"},{"$error":"#N/A"},{"$error":"#N/A"},{"$error":"#N/A"},{"$error":"#N/A"},{"$f":"IF(SUM(CI$3091:CI3277)>0,0,IF(MAX(CB3278:CB$4531)=MAX(CB$3091:CB$4531),0,IF(BZ3278>0.03*BT$4532,0,$C3278/60)))","v":0},{"$f":"IF(SUM(CJ$3091:CJ3277)>0,0,IF(MAX(CB3278:CB$4531)=MAX(CB$3091:CB$4531),0,IF(BZ3278>0.01*BT$4532,0,$C3278/60)))","v":0},0,0,0,0,0,0,0,0,0,{"$error":"#N/A"},{"$error":"#N/A"},{"$error":"#N/A"},{"$error":"#N/A"},{"$error":"#N/A"},{"$error":"#N/A"},{"$f":"IF(SUM(CZ$3091:CZ3277)>0,0,IF(MAX(CS3278:CS$4531)=MAX(CS$3091:CS$4531),0,IF(CQ3278>0.03*CK$4532,0,$C3278/60)))","v":0},{"$f":"IF(SUM(DA$3091:DA3277)>0,0,IF(MAX(CS3278:CS$4531)=MAX(CS$3091:CS$4531),0,IF(CQ3278>0.01*CK$4532,0,$C3278/60)))","v":0},0,0,0,0,0,0,0,0,0,{"$error":"#N/A"},{"$error":"#N/A"},{"$error":"#N/A"},{"$error":"#N/A"},{"$error":"#N/A"},{"$error":"#N/A"},{"$f":"IF(SUM(DQ$3091:DQ3277)>0,0,IF(MAX(DJ3278:DJ$4531)=MAX(DJ$3091:DJ$4531),0,IF(DH3278>0.03*DB$4532,0,$C3278/60)))","v":0},{"$f":"IF(SUM(DR$3091:DR3277)>0,0,IF(MAX(DJ3278:DJ$4531)=MAX(DJ$3091:DJ$4531),0,IF(DH3278>0.01*DB$4532,0,$C3278/60)))","v":0},0,0,0,0,0,0,0,0,0,{"$error":"#N/A"},{"$error":"#N/A"},{"$error":"#N/A"},{"$error":"#N/A"},{"$error":"#N/A"},{"$error":"#N/A"},{"$f":"IF(SUM(EH$3091:EH3277)>0,0,IF(MAX(EA3278:EA$4531)=MAX(EA$3091:EA$4531),0,IF(DY3278>0.03*DS$4532,0,$C3278/60)))","v":0},{"$f":"IF(SUM(EI$3091:EI3277)>0,0,IF(MAX(EA3278:EA$4531)=MAX(EA$3091:EA$4531),0,IF(DY3278>0.01*DS$4532,0,$C3278/60)))","v":0},0,0,0,0,0,0,0,0,0,{"$error":"#N/A"},{"$error":"#N/A"},{"$error":"#N/A"},{"$error":"#N/A"},{"$error":"#N/A"},{"$error":"#N/A"},{"$f":"IF(SUM(EY$3091:EY3277)>0,0,IF(MAX(ER3278:ER$4531)=MAX(ER$3091:ER$4531),0,IF(EP3278>0.03*EJ$4532,0,$C3278/60)))","v":0},{"$f":"IF(SUM(EZ$3091:EZ3277)>0,0,IF(MAX(ER3278:ER$4531)=MAX(ER$3091:ER$4531),0,IF(EP3278>0.01*EJ$4532,0,$C3278/60)))","v":0}]
[null,16.333333333333332,980,0,0,0,0,0,0,0,0,0,{"$error":"#N/A"},{"$error":"#N/A"},{"$error":"#N/A"},{"$error":"#N/A"},{"$error":"#N/A"},{"$error":"#N/A"},{"$f":"IF(SUM(S$3091:S3286)>0,0,\nIF(MAX(L3287:L$4531)=MAX(L$3091:L$4531),0,\nIF(Hydrograph_Source_WQCV=\"USER\",IF(J3287>0.03*D$4532,0,$C3287/60),\nIF(J3287>0.03*J$4532,0,$C3287/60))))","v":0},{"$f":"IF(SUM(T$3091:T3286)>0,0,\nIF(MAX(L3287:L$4531)=MAX(L$3091:L$4531),0,\nIF(Hydrograph_Source_WQCV=\"USER\",IF(J3287>0.01*D$4532,0,$C3287/60),\nIF(J3287>0.01*J$4532,0,$C3287/60))))","v":0},0,0,0,0,0,0,0,0,0,{"$error":"#N/A"},{"$error":"#N/A"},{"$error":"#N/A"},{"$error":"#N/A"},{"$error":"#N/A"},{"$error":"#N/A"},{"$f":"IF(SUM(AJ$3091:AJ3286)>0,0,\nIF(MAX(AC3287:AC$4531)=MAX(AC$3091:AC$4531),0,\nIF(Hydrograph_Source_EURV=\"USER\",IF(AA3287>0.03*U$4532,0,$C3287/60),\nIF(AA3287>0.03*AA$4532,0,$C3287/60))))","v":0},{"$f":"IF(SUM(AK$3091:AK3286)>0,0,\nIF(MAX(AC3287:AC$4531)=MAX(AC$3091:AC$4531),0,\nIF(Hydrograph_Source_EURV=\"USER\",IF(AA3287>0.01*U$4532,0,$C3287/60),\nIF(AA3287>0.01*AA$4532,0,$C3287/60))))","v":0},0,0,0,0,0,0,0,0,0,{"$error":"#N/A"},{"$error":"#N/A"},{"$error":"#N/A"},{"$error":"#N/A"},{"$error":"#N/A"},{"$error":"#N/A"},{"$f":"IF(SUM(BA$3091:BA3286)>0,0,IF(MAX(AT3287:AT$4531)=MAX(AT$3091:AT$4531),0,IF(AR3287>0.03*AL$4532,0,$C3287/60)))","v":0},{"$f":"IF(SUM(BB$3091:BB3286)>0,0,IF(MAX(AT3287:AT$4531)=MAX(AT$3091:AT$4531),0,IF(AR3287>0.01*AL$4532,0,$C3287/60)))","v":0},0,0,0,0,0,0,0,0,0,{"$error":"#N/A"},{"$error":"#N/A"},{"$error":"#N/A"},{"$error":"#N/A"},{"$error":"#N/A"},{"$error":"#N/A"},{"$f":"IF(SUM(BR$3091:BR3286)>0,0,IF(MAX(BK3287:BK$4531)=MAX(BK$3091:BK$4531),0,IF(BI3287>0.03*BC$4532,0,$C3287/60)))","v":0},{"$f":"IF(SUM(BS$3091:BS3286)>0,0,IF(MAX(BK3287:BK$4531)=MAX(BK$3091:BK$4531),0,IF(BI3287>0.01*BC$4532,0,$C3287/60)))","v":0},0,0,0,0,0,0,0,0,0,{"$error":"#N/A"},{"$error":"#N/A"},{"$error":"#N/A"},{"$error":"#N/A"},{"$error":"#N/A"},{"$error":"#N/A"},{"$f":"IF(SUM(CI$3091:CI3286)>0,0,IF(MAX(CB3287:CB$4531)=MAX(CB$3091:CB$4531),0,IF(BZ3287>0.03*BT$4532,0,$C3287/60)))","v":0},{"$f":"IF(SUM(CJ$3091:CJ3286)>0,0,IF(MAX(CB3287:CB$4531)=MAX(CB$3091:CB$4531),0,IF(BZ3287>0.01*BT$4532,0,$C3287/60)))","v":0},0,0,0,0,0,0,0,0,0,{"$error":"#N/A"},{"$error":"#N/A"},{"$error":"#N/A"},{"$error":"#N/A"},{"$error":"#N/A"},{"$error":"#N/A"},{"$f":"IF(SUM(CZ$3091:CZ3286)>0,0,IF(MAX(CS3287:CS$4531)=MAX(CS$3091:CS$4531),0,IF(CQ3287>0.03*CK$4532,0,$C3287/60)))","v":0},{"$f":"IF(SUM(DA$3091:DA3286)>0,0,IF(MAX(CS3287:CS$4531)=MAX(CS$3091:CS$4531),0,IF(CQ3287>0.01*CK$4532,0,$C3287/60)))","v":0},0,0,0,0,0,0,0,0,0,{"$error":"#N/A"},{"$error":"#N/A"},{"$error":"#N/A"},{"$error":"#N/A"},{"$error":"#N/A"},{"$error":"#N/A"},{"$f":"IF(SUM(DQ$3091:DQ3286)>0,0,IF(MAX(DJ3287:DJ$4531)=MAX(DJ$3091:DJ$4531),0,IF(DH3287>0.03*DB$4532,0,$C3287/60)))","v":0},{"$f":"IF(SUM(DR$3091:DR3286)>0,0,IF(MAX(DJ3287:DJ$4531)=MAX(DJ$3091:DJ$4531),0,IF(DH3287>0.01*DB$4532,0,$C3287/60)))","v":0},0,0,0,0,0,0,0,0,0,{"$error":"#N/A"},{"$error":"#N/A"},{"$error":"#N/A"},{"$error":"#N/A"},{"$error":"#N/A"},{"$error":"#N/A"},{"$f":"IF(SUM(EH$3091:EH3286)>0,0,IF(MAX(EA3287:EA$4531)=MAX(EA$3091:EA$4531),0,IF(DY3287>0.03*DS$4532,0,$C3287/60)))","v":0},{"$f":"IF(SUM(EI$3091:EI3286)>0,0,IF(MAX(EA3287:EA$4531)=MAX(EA$3091:EA$4531),0,IF(DY3287>0.01*DS$4532,0,$C3287/60)))","v":0},0,0,0,0,0,0,0,0,0,{"$error":"#N/A"},{"$error":"#N/A"},{"$error":"#N/A"},{"$error":"#N/A"},{"$error":"#N/A"},{"$error":"#N/A"},{"$f":"IF(SUM(EY$3091:EY3286)>0,0,IF(MAX(ER3287:ER$4531)=MAX(ER$3091:ER$4531),0,IF(EP3287>0.03*EJ$4532,0,$C3287/60)))","v":0},{"$f":"IF(SUM(EZ$3091:EZ3286)>0,0,IF(MAX(ER3287:ER$4531)=MAX(ER$3091:ER$4531),0,IF(EP3287>0.01*EJ$4532,0,$C3287/60)))","v":0}]
[null,17.083333333333332,1025,0,0,0,0,0,0,0,0,0,{"$error":"#N/A"},{"$error":"#N/A"},{"$error":"#N/A"},{"$error":"#N/A"},{"$error":"#N/A"},{"$error":"#N/A"},{"$f":"IF(SUM(S$3091:S3295)>0,0,\nIF(MAX(L3296:L$4531)=MAX(L$3091:L$4531),0,\nIF(Hydrograph_Source_WQCV=\"USER\",IF(J3296>0.03*D$4532,0,$C3296/60),\nIF(J3296>0.03*J$4532,0,$C3296/60))))","v":0},{"$f":"IF(SUM(T$3091:T3295)>0,0,\nIF(MAX(L3296:L$4531)=MAX(L$3091:L$4531),0,\nIF(Hydrograph_Source_WQCV=\"USER\",IF(J3296>0.01*D$4532,0,$C3296/60),\nIF(J3296>0.01*J$4532,0,$C3296/60))))","v":0},0,0,0,0,0,0,0,0,0,{"$error":"#N/A"},{"$error":"#N/A"},{"$error":"#N/A"},{"$error":"#N/A"},{"$error":"#N/A"},{"$error":"#N/A"},{"$f":"IF(SUM(AJ$3091:AJ3295)>0,0,\nIF(MAX(AC3296:AC$4531)=MAX(AC$3091:AC$4531),0,\nIF(Hydrograph_Source_EURV=\"USER\",IF(AA3296>0.03*U$4532,0,$C3296/60),\nIF(AA3296>0.03*AA$4532,0,$C3296/60))))","v":0},{"$f":"IF(SUM(AK$3091:AK3295)>0,0,\nIF(MAX(AC3296:AC$4531)=MAX(AC$3091:AC$4531),0,\nIF(Hydrograph_Source_EURV=\"USER\",IF(AA3296>0.01*U$4532,0,$C3296/60),\nIF(AA3296>0.01*AA$4532,0,$C3296/60))))","v":0},0,0,0,0,0,0,0,0,0,{"$error":"#N/A"},{"$error":"#N/A"},{"$error":"#N/A"},{"$error":"#N/A"},{"$error":"#N/A"},{"$error":"#N/A"},{"$f":"IF(SUM(BA$3091:BA3295)>0,0,IF(MAX(AT3296:AT$4531)=MAX(AT$3091:AT$4531),0,IF(AR3296>0.03*AL$4532,0,$C3296/60)))","v":0},{"$f":"IF(SUM(BB$3091:BB3295)>0,0,IF(MAX(AT3296:AT$4531)=MAX(AT$3091:AT$4531),0,IF(AR3296>0.01*AL$4532,0,$C3296/60)))","v":0},0,0,0,0,0,0,0,0,0,{"$error":"#N/A"},{"$error":"#N/A"},{"$error":"#N/A"},{"$error":"#N/A"},{"$error":"#N/A"},{"$error":"#N/A"},{"$f":"IF(SUM(BR$3091:BR3295)>0,0,IF(MAX(BK3296:BK$4531)=MAX(BK$3091:BK$4531),0,IF(BI3296>0.03*BC$4532,0,$C3296/60)))","v":0},{"$f":"IF(SUM(BS$3091:BS3295)>0,0,IF(MAX(BK3296:BK$4531)=MAX(BK$3091:BK$4531),0,IF(BI3296>0.01*BC$4532,0,$C3296/60)))","v":0},0,0,0,0,0,0,0,0,0,{"$error":"#N/A"},{"$error":"#N/A"},{"$error":"#N/A"},{"$error":"#N/A"},{"$error":"#N/A"},{"$error":"#N/A"},{"$f":"IF(SUM(CI$3091:CI3295)>0,0,IF(MAX(CB3296:CB$4531)=MAX(CB$3091:CB$4531),0,IF(BZ3296>0.03*BT$4532,0,$C3296/60)))","v":0},{"$f":"IF(SUM(CJ$3091:CJ3295)>0,0,IF(MAX(CB3296:CB$4531)=MAX(CB$3091:CB$4531),0,IF(BZ3296>0.01*BT$4532,0,$C3296/60)))","v":0},0,0,0,0,0,0,0,0,0,{"$error":"#N/A"},{"$error":"#N/A"},{"$error":"#N/A"},{"$error":"#N/A"},{"$error":"#N/A"},{"$error":"#N/A"},{"$f":"IF(SUM(CZ$3091:CZ3295)>0,0,IF(MAX(CS3296:CS$4531)=MAX(CS$3091:CS$4531),0,IF(CQ3296>0.03*CK$4532,0,$C3296/60)))","v":0},{"$f":"IF(SUM(DA$3091:DA3295)>0,0,IF(MAX(CS3296:CS$4531)=MAX(CS$3091:CS$4531),0,IF(CQ3296>0.01*CK$4532,0,$C3296/60)))","v":0},0,0,0,0,0,0,0,0,0,{"$error":"#N/A"},{"$error":"#N/A"},{"$error":"#N/A"},{"$error":"#N/A"},{"$error":"#N/A"},{"$error":"#N/A"},{"$f":"IF(SUM(DQ$3091:DQ3295)>0,0,IF(MAX(DJ3296:DJ$4531)=MAX(DJ$3091:DJ$4531),0,IF(DH3296>0.03*DB$4532,0,$C3296/60)))","v":0},{"$f":"IF(SUM(DR$3091:DR3295)>0,0,IF(MAX(DJ3296:DJ$4531)=MAX(DJ$3091:DJ$4531),0,IF(DH3296>0.01*DB$4532,0,$C3296/60)))","v":0},0,0,0,0,0,0,0,0,0,{"$error":"#N/A"},{"$error":"#N/A"},{"$error":"#N/A"},{"$error":"#N/A"},{"$error":"#N/A"},{"$error":"#N/A"},{"$f":"IF(SUM(EH$3091:EH3295)>0,0,IF(MAX(EA3296:EA$4531)=MAX(EA$3091:EA$4531),0,IF(DY3296>0.03*DS$4532,0,$C3296/60)))","v":0},{"$f":"IF(SUM(EI$3091:EI3295)>0,0,IF(MAX(EA3296:EA$4531)=MAX(EA$3091:EA$4531),0,IF(DY3296>0.01*DS$4532,0,$C3296/60)))","v":0},0,0,0,0,0,0,0,0,0,{"$error":"#N/A"},{"$error":"#N/A"},{"$error":"#N/A"},{"$error":"#N/A"},{"$error":"#N/A"},{"$error":"#N/A"},{"$f":"IF(SUM(EY$3091:EY3295)>0,0,IF(MAX(ER3296:ER$4531)=MAX(ER$3091:ER$4531),0,IF(EP3296>0.03*EJ$4532,0,$C3296/60)))","v":0},{"$f":"IF(SUM(EZ$3091:EZ3295)>0,0,IF(MAX(ER3296:ER$4531)=MAX(ER$3091:ER$4531),0,IF(EP3296>0.01*EJ$4532,0,$C3296/60)))","v":0}]
[null,17.166666666666668,1030,0,0,0,0,0,0,0,0,0,{"$error":"#N/A"},{"$error":"#N/A"},{"$error":"#N/A"},{"$error":"#N/A"},{"$error":"#N/A"},{"$error":"#N/A"},{"$f":"IF(SUM(S$3091:S3296)>0,0,\nIF(MAX(L3297:L$4531)=MAX(L$3091:L$4531),0,\nIF(Hydrograph_Source_WQCV=\"USER\",IF(J3297>0.03*D$4532,0,$C3297/60),\nIF(J3297>0.03*J$4532,0,$C3297/60))))","v":0},{"$f":"IF(SUM(T$3091:T3296)>0,0,\nIF(MAX(L3297:L$4531)=MAX(L$3091:L$4531),0,\nIF(Hydrograph_Source_WQCV=\"USER\",IF(J3297>0.01*D$4532,0,$C3297/60),\nIF(J3297>0.01*J$4532,0,$C3297/60))))","v":0},0,0,0,0,0,0,0,0,0,{"$error":"#N/A"},{"$error":"#N/A"},{"$error":"#N/A"},{"$error":"#N/A"},{"$error":"#N/A"},{"$error":"#N/A"},{"$f":"IF(SUM(AJ$3091:AJ3296)>0,0,\nIF(MAX(AC3297:AC$4531)=MAX(AC$3091:AC$4531),0,\nIF(Hydrograph_Source_EURV=\"USER\",IF(AA3297>0.03*U$4532,0,$C3297/60),\nIF(AA3297>0.03*AA$4532,0,$C3297/60))))","v":0},{"$f":"IF(SUM(AK$3091:AK3296)>0,0,\nIF(MAX(AC3297:AC$4531)=MAX(AC$3091:AC$4531),0,\nIF(Hydrograph_Source_EURV=\"USER\",IF(AA3297>0.01*U$4532,0,$C3297/60),\nIF(AA3297>0.01*AA$4532,0,$C3297/60))))","v":0},0,0,0,0,0,0,0,0,0,{"$error":"#N/A"},{"$error":"#N/A"},{"$error":"#N/A"},{"$error":"#N/A"},{"$error":"#N/A"},{"$error":"#N/A"},{"$f":"IF(SUM(BA$3091:BA3296)>0,0,IF(MAX(AT3297:AT$4531)=MAX(AT$3091:AT$4531),0,IF(AR3297>0.03*AL$4532,0,$C3297/60)))","v":0},{"$f":"IF(SUM(BB$3091:BB3296)>0,0,IF(MAX(AT3297:AT$4531)=MAX(AT$3091:AT$4531),0,IF(AR3297>0.01*AL$4532,0,$C3297/60)))","v":0},0,0,0,0,0,0,0,0,0,{"$error":"#N/A"},{"$error":"#N/A"},{"$error":"#N/A"},{"$error":"#N/A"},{"$error":"#N/A"},{"$error":"#N/A"},{"$f":"IF(SUM(BR$3091:BR3296)>0,0,IF(MAX(BK3297:BK$4531)=MAX(BK$3091:BK$4531),0,IF(BI3297>0.03*BC$4532,0,$C3297/60)))","v":0},{"$f":"IF(SUM(BS$3091:BS3296)>0,0,IF(MAX(BK3297:BK$4531)=MAX(BK$3091:BK$4531),0,IF(BI3297>0.01*BC$4532,0,$C3297/60)))","v":0},0,0,0,0,0,0,0,0,0,{"$error":"#N/A"},{"$error":"#N/A"},{"$error":"#N/A"},{"$error":"#N/A"},{"$error":"#N/A"},{"$error":"#N/A"},{"$f":"IF(SUM(CI$3091:CI3296)>0,0,IF(MAX(CB3297:CB$4531)=MAX(CB$3091:CB$4531),0,IF(BZ3297>0.03*BT$4532,0,$C3297/60)))","v":0},{"$f":"IF(SUM(CJ$3091:CJ3296)>0,0,IF(MAX(CB3297:CB$4531)=MAX(CB$3091:CB$4531),0,IF(BZ3297>0.01*BT$4532,0,$C3297/60)))","v":0},0,0,0,0,0,0,0,0,0,{"$error":"#N/A"},{"$error":"#N/A"},{"$error":"#N/A"},{"$error":"#N/A"},{"$error":"#N/A"},{"$error":"#N/A"},{"$f":"IF(SUM(CZ$3091:CZ3296)>0,0,IF(MAX(CS3297:CS$4531)=MAX(CS$3091:CS$4531),0,IF(CQ3297>0.03*CK$4532,0,$C3297/60)))","v":0},{"$f":"IF(SUM(DA$3091:DA3296)>0,0,IF(MAX(CS3297:CS$4531)=MAX(CS$3091:CS$4531),0,IF(CQ3297>0.01*CK$4532,0,$C3297/60)))","v":0},0,0,0,0,0,0,0,0,0,{"$error":"#N/A"},{"$error":"#N/A"},{"$error":"#N/A"},{"$error":"#N/A"},{"$error":"#N/A"},{"$error":"#N/A"},{"$f":"IF(SUM(DQ$3091:DQ3296)>0,0,IF(MAX(DJ3297:DJ$4531)=MAX(DJ$3091:DJ$4531),0,IF(DH3297>0.03*DB$4532,0,$C3297/60)))","v":0},{"$f":"IF(SUM(DR$3091:DR3296)>0,0,IF(MAX(DJ3297:DJ$4531)=MAX(DJ$3091:DJ$4531),0,IF(DH3297>0.01*DB$4532,0,$C3297/60)))","v":0},0,0,0,0,0,0,0,0,0,{"$error":"#N/A"},{"$error":"#N/A"},{"$error":"#N/A"},{"$error":"#N/A"},{"$error":"#N/A"},{"$error":"#N/A"},{"$f":"IF(SUM(EH$3091:EH3296)>0,0,IF(MAX(EA3297:EA$4531)=MAX(EA$3091:EA$4531),0,IF(DY3297>0.03*DS$4532,0,$C3297/60)))","v":0},{"$f":"IF(SUM(EI$3091:EI3296)>0,0,IF(MAX(EA3297:EA$4531)=MAX(EA$3091:EA$4531),0,IF(DY3297>0.01*DS$4532,0,$C3297/60)))","v":0},0,0,0,0,0,0,0,0,0,{"$error":"#N/A"},{"$error":"#N/A"},{"$error":"#N/A"},{"$error":"#N/A"},{"$error":"#N/A"},{"$error":"#N/A"},{"$f":"IF(SUM(EY$3091:EY3296)>0,0,IF(MAX(ER3297:ER$4531)=MAX(ER$3091:ER$4531),0,IF(EP3297>0.03*EJ$4532,0,$C3297/60)))","v":0},{"$f":"IF(SUM(EZ$3091:EZ3296)>0,0,IF(MAX(ER3297:ER$4531)=MAX(ER$3091:ER$4531),0,IF(EP3297>0.01*EJ$4532,0,$C3297/60)))","v":0}]
[null,17.916666666666668,1075,0,0,0,0,0,0,0,0,0,{"$error":"#N/A"},{"$error":"#N/A"},{"$error":"#N/A"},{"$error":"#N/A"},{"$error":"#N/A"},{"$error":"#N/A"},{"$f":"IF(SUM(S$3091:S3305)>0,0,\nIF(MAX(L3306:L$4531)=MAX(L$3091:L$4531),0,\nIF(Hydrograph_Source_WQCV=\"USER\",IF(J3306>0.03*D$4532,0,$C3306/60),\nIF(J3306>0.03*J$4532,0,$C3306/60))))","v":0},{"$f":"IF(SUM(T$3091:T3305)>0,0,\nIF(MAX(L3306:L$4531)=MAX(L$3091:L$4531),0,\nIF(Hydrograph_Source_WQCV=\"USER\",IF(J3306>0.01*D$4532,0,$C3306/60),\nIF(J3306>0.01*J$4532,0,$C3306/60))))","v":0},0,0,0,0,0,0,0,0,0,{"$error":"#N/A"},{"$error":"#N/A"},{"$error":"#N/A"},{"$error":"#N/A"},{"$error":"#N/A"},{"$error":"#N/A"},{"$f":"IF(SUM(AJ$3091:AJ3305)>0,0,\nIF(MAX(AC3306:AC$4531)=MAX(AC$3091:AC$4531),0,\nIF(Hydrograph_Source_EURV=\"USER\",IF(AA3306>0.03*U$4532,0,$C3306/60),\nIF(AA3306>0.03*AA$4532,0,$C3306/60))))","v":0},{"$f":"IF(SUM(AK$3091:AK3305)>0,0,\nIF(MAX(AC3306:AC$4531)=MAX(AC$3091:AC$4531),0,\nIF(Hydrograph_Source_EURV=\"USER\",IF(AA3306>0.01*U$4532,0,$C3306/60),\nIF(AA3306>0.01*AA$4532,0,$C3306/60))))","v":0},0,0,0,0,0,0,0,0,0,{"$error":"#N/A"},{"$error":"#N/A"},{"$error":"#N/A"},{"$error":"#N/A"},{"$error":"#N/A"},{"$error":"#N/A"},{"$f":"IF(SUM(BA$3091:BA3305)>0,0,IF(MAX(AT3306:AT$4531)=MAX(AT$3091:AT$4531),0,IF(AR3306>0.03*AL$4532,0,$C3306/60)))","v":0},{"$f":"IF(SUM(BB$3091:BB3305)>0,0,IF(MAX(AT3306:AT$4531)=MAX(AT$3091:AT$4531),0,IF(AR3306>0.01*AL$4532,0,$C3306/60)))","v":0},0,0,0,0,0,0,0,0,0,{"$error":"#N/A"},{"$error":"#N/A"},{"$error":"#N/A"},{"$error":"#N/A"},{"$error":"#N/A"},{"$error":"#N/A"},{"$f":"IF(SUM(BR$3091:BR3305)>0,0,IF(MAX(BK3306:BK$4531)=MAX(BK$3091:BK$4531),0,IF(BI3306>0.03*BC$4532,0,$C3306/60)))","v":0},{"$f":"IF(SUM(BS$3091:BS3305)>0,0,IF(MAX(BK3306:BK$4531)=MAX(BK$3091:BK$4531),0,IF(BI3306>0.01*BC$4532,0,$C3306/60)))","v":0},0,0,0,0,0,0,0,0,0,{"$error":"#N/A"},{"$error":"#N/A"},{"$error":"#N/A"},{"$error":"#N/A"},{"$error":"#N/A"},{"$error":"#N/A"},{"$f":"IF(SUM(CI$3091:CI3305)>0,0,IF(MAX(CB3306:CB$4531)=MAX(CB$3091:CB$4531),0,IF(BZ3306>0.03*BT$4532,0,$C3306/60)))","v":0},{"$f":"IF(SUM(CJ$3091:CJ3305)>0,0,IF(MAX(CB3306:CB$4531)=MAX(CB$3091:CB$4531),0,IF(BZ3306>0.01*BT$4532,0,$C3306/60)))","v":0},0,0,0,0,0,0,0,0,0,{"$error":"#N/A"},{"$error":"#N/A"},{"$error":"#N/A"},{"$error":"#N/A"},{"$error":"#N/A"},{"$error":"#N/A"},{"$f":"IF(SUM(CZ$3091:CZ3305)>0,0,IF(MAX(CS3306:CS$4531)=MAX(CS$3091:CS$4531),0,IF(CQ3306>0.03*CK$4532,0,$C3306/60)))","v":0},{"$f":"IF(SUM(DA$3091:DA3305)>0,0,IF(MAX(CS3306:CS$4531)=MAX(CS$3091:CS$4531),0,IF(CQ3306>0.01*CK$4532,0,$C3306/60)))","v":0},0,0,0,0,0,0,0,0,0,{"$error":"#N/A"},{"$error":"#N/A"},{"$error":"#N/A"},{"$error":"#N/A"},{"$error":"#N/A"},{"$error":"#N/A"},{"$f":"IF(SUM(DQ$3091:DQ3305)>0,0,IF(MAX(DJ3306:DJ$4531)=MAX(DJ$3091:DJ$4531),0,IF(DH3306>0.03*DB$4532,0,$C3306/60)))","v":0},{"$f":"IF(SUM(DR$3091:DR3305)>0,0,IF(MAX(DJ3306:DJ$4531)=MAX(DJ$3091:DJ$4531),0,IF(DH3306>0.01*DB$4532,0,$C3306/60)))","v":0},0,0,0,0,0,0,0,0,0,{"$error":"#N/A"},{"$error":"#N/A"},{"$error":"#N/A"},{"$error":"#N/A"},{"$error":"#N/A"},{"$error":"#N/A"},{"$f":"IF(SUM(EH$3091:EH3305)>0,0,IF(MAX(EA3306:EA$4531)=MAX(EA$3091:EA$4531),0,IF(DY3306>0.03*DS$4532,0,$C3306/60)))","v":0},{"$f":"IF(SUM(EI$3091:EI3305)>0,0,IF(MAX(EA3306:EA$4531)=MAX(EA$3091:EA$4531),0,IF(DY3306>0.01*DS$4532,0,$C3306/60)))","v":0},0,0,0,0,0,0,0,0,0,{"$error":"#N/A"},{"$error":"#N/A"},{"$error":"#N/A"},{"$error":"#N/A"},{"$error":"#N/A"},{"$error":"#N/A"},{"$f":"IF(SUM(EY$3091:EY3305)>0,0,IF(MAX(ER3306:ER$4531)=MAX(ER$3091:ER$4531),0,IF(EP3306>0.03*EJ$4532,0,$C3306/60)))","v":0},{"$f":"IF(SUM(EZ$3091:EZ3305)>0,0,IF(MAX(ER3306:ER$4531)=MAX(ER$3091:ER$4531),0,IF(EP3306>0.01*EJ$4532,0,$C3306/60)))","v":0}]
[null,18.666666666666668,1120,0,0,0,0,0,0,0,0,0,{"$error":"#N/A"},{"$error":"#N/A"},{"$error":"#N/A"},{"$error":"#N/A"},{"$error":"#N/A"},{"$error":"#N/A"},{"$f":"IF(SUM(S$3091:S3314)>0,0,\nIF(MAX(L3315:L$4531)=MAX(L$3091:L$4531),0,\nIF(Hydrograph_Source_WQCV=\"USER\",IF(J3315>0.03*D$4532,0,$C3315/60),\nIF(J3315>0.03*J$4532,0,$C3315/60))))","v":0},{"$f":"IF(SUM(T$3091:T3314)>0,0,\nIF(MAX(L3315:L$4531)=MAX(L$3091:L$4531),0,\nIF(Hydrograph_Source_WQCV=\"USER\",IF(J3315>0.01*D$4532,0,$C3315/60),\nIF(J3315>0.01*J$4532,0,$C3315/60))))","v":0},0,0,0,0,0,0,0,0,0,{"$error":"#N/A"},{"$error":"#N/A"},{"$error":"#N/A"},{"$error":"#N/A"},{"$error":"#N/A"},{"$error":"#N/A"},{"$f":"IF(SUM(AJ$3091:AJ3314)>0,0,\nIF(MAX(AC3315:AC$4531)=MAX(AC$3091:AC$4531),0,\nIF(Hydrograph_Source_EURV=\"USER\",IF(AA3315>0.03*U$4532,0,$C3315/60),\nIF(AA3315>0.03*AA$4532,0,$C3315/60))))","v":0},{"$f":"IF(SUM(AK$3091:AK3314)>0,0,\nIF(MAX(AC3315:AC$4531)=MAX(AC$3091:AC$4531),0,\nIF(Hydrograph_Source_EURV=\"USER\",IF(AA3315>0.01*U$4532,0,$C3315/60),\nIF(AA3315>0.01*AA$4532,0,$C3315/60))))","v":0},0,0,0,0,0,0,0,0,0,{"$error":"#N/A"},{"$error":"#N/A"},{"$error":"#N/A"},{"$error":"#N/A"},{"$error":"#N/A"},{"$error":"#N/A"},{"$f":"IF(SUM(BA$3091:BA3314)>0,0,IF(MAX(AT3315:AT$4531)=MAX(AT$3091:AT$4531),0,IF(AR3315>0.03*AL$4532,0,$C3315/60)))","v":0},{"$f":"IF(SUM(BB$3091:BB3314)>0,0,IF(MAX(AT3315:AT$4531)=MAX(AT$3091:AT$4531),0,IF(AR3315>0.01*AL$4532,0,$C3315/60)))","v":0},0,0,0,0,0,0,0,0,0,{"$error":"#N/A"},{"$error":"#N/A"},{"$error":"#N/A"},{"$error":"#N/A"},{"$error":"#N/A"},{"$error":"#N/A"},{"$f":"IF(SUM(BR$3091:BR3314)>0,0,IF(MAX(BK3315:BK$4531)=MAX(BK$3091:BK$4531),0,IF(BI3315>0.03*BC$4532,0,$C3315/60)))","v":0},{"$f":"IF(SUM(BS$3091:BS3314)>0,0,IF(MAX(BK3315:BK$4531)=MAX(BK$3091:BK$4531),0,IF(BI3315>0.01*BC$4532,0,$C3315/60)))","v":0},0,0,0,0,0,0,0,0,0,{"$error":"#N/A"},{"$error":"#N/A"},{"$error":"#N/A"},{"$error":"#N/A"},{"$error":"#N/A"},{"$error":"#N/A"},{"$f":"IF(SUM(CI$3091:CI3314)>0,0,IF(MAX(CB3315:CB$4531)=MAX(CB$3091:CB$4531),0,IF(BZ3315>0.03*BT$4532,0,$C3315/60)))","v":0},{"$f":"IF(SUM(CJ$3091:CJ3314)>0,0,IF(MAX(CB3315:CB$4531)=MAX(CB$3091:CB$4531),0,IF(BZ3315>0.01*BT$4532,0,$C3315/60)))","v":0},0,0,0,0,0,0,0,0,0,{"$error":"#N/A"},{"$error":"#N/A"},{"$error":"#N/A"},{"$error":"#N/A"},{"$error":"#N/A"},{"$error":"#N/A"},{"$f":"IF(SUM(CZ$3091:CZ3314)>0,0,IF(MAX(CS3315:CS$4531)=MAX(CS$3091:CS$4531),0,IF(CQ3315>0.03*CK$4532,0,$C3315/60)))","v":0},{"$f":"IF(SUM(DA$3091:DA3314)>0,0,IF(MAX(CS3315:CS$4531)=MAX(CS$3091:CS$4531),0,IF(CQ3315>0.01*CK$4532,0,$C3315/60)))","v":0},0,0,0,0,0,0,0,0,0,{"$error":"#N/A"},{"$error":"#N/A"},{"$error":"#N/A"},{"$error":"#N/A"},{"$error":"#N/A"},{"$error":"#N/A"},{"$f":"IF(SUM(DQ$3091:DQ3314)>0,0,IF(MAX(DJ3315:DJ$4531)=MAX(DJ$3091:DJ$4531),0,IF(DH3315>0.03*DB$4532,0,$C3315/60)))","v":0},{"$f":"IF(SUM(DR$3091:DR3314)>0,0,IF(MAX(DJ3315:DJ$4531)=MAX(DJ$3091:DJ$4531),0,IF(DH3315>0.01*DB$4532,0,$C3315/60)))","v":0},0,0,0,0,0,0,0,0,0,{"$error":"#N/A"},{"$error":"#N/A"},{"$error":"#N/A"},{"$error":"#N/A"},{"$error":"#N/A"},{"$error":"#N/A"},{"$f":"IF(SUM(EH$3091:EH3314)>0,0,IF(MAX(EA3315:EA$4531)=MAX(EA$3091:EA$4531),0,IF(DY3315>0.03*DS$4532,0,$C3315/60)))","v":0},{"$f":"IF(SUM(EI$3091:EI3314)>0,0,IF(MAX(EA3315:EA$4531)=MAX(EA$3091:EA$4531),0,IF(DY3315>0.01*DS$4532,0,$C3315/60)))","v":0},0,0,0,0,0,0,0,0,0,{"$error":"#N/A"},{"$error":"#N/A"},{"$error":"#N/A"},{"$error":"#N/A"},{"$error":"#N/A"},{"$error":"#N/A"},{"$f":"IF(SUM(EY$3091:EY3314)>0,0,IF(MAX(ER3315:ER$4531)=MAX(ER$3091:ER$4531),0,IF(EP3315>0.03*EJ$4532,0,$C3315/60)))","v":0},{"$f":"IF(SUM(EZ$3091:EZ3314)>0,0,IF(MAX(ER3315:ER$4531)=MAX(ER$3091:ER$4531),0,IF(EP3315>0.01*EJ$4532,0,$C3315/60)))","v":0}]
[null,19.416666666666668,1165,0,0,0,0,0,0,0,0,0,{"$error":"#N/A"},{"$error":"#N/A"},{"$error":"#N/A"},{"$error":"#N/A"},{"$error":"#N/A"},{"$error":"#N/A"},{"$f":"IF(SUM(S$3091:S3323)>0,0,\nIF(MAX(L3324:L$4531)=MAX(L$3091:L$4531),0,\nIF(Hydrograph_Source_WQCV=\"USER\",IF(J3324>0.03*D$4532,0,$C3324/60),\nIF(J3324>0.03*J$4532,0,$C3324/60))))","v":0},{"$f":"IF(SUM(T$3091:T3323)>0,0,\nIF(MAX(L3324:L$4531)=MAX(L$3091:L$4531),0,\nIF(Hydrograph_Source_WQCV=\"USER\",IF(J3324>0.01*D$4532,0,$C3324/60),\nIF(J3324>0.01*J$4532,0,$C3324/60))))","v":0},0,0,0,0,0,0,0,0,0,{"$error":"#N/A"},{"$error":"#N/A"},{"$error":"#N/A"},{"$error":"#N/A"},{"$error":"#N/A"},{"$error":"#N/A"},{"$f":"IF(SUM(AJ$3091:AJ3323)>0,0,\nIF(MAX(AC3324:AC$4531)=MAX(AC$3091:AC$4531),0,\nIF(Hydrograph_Source_EURV=\"USER\",IF(AA3324>0.03*U$4532,0,$C3324/60),\nIF(AA3324>0.03*AA$4532,0,$C3324/60))))","v":0},{"$f":"IF(SUM(AK$3091:AK3323)>0,0,\nIF(MAX(AC3324:AC$4531)=MAX(AC$3091:AC$4531),0,\nIF(Hydrograph_Source_EURV=\"USER\",IF(AA3324>0.01*U$4532,0,$C3324/60),\nIF(AA3324>0.01*AA$4532,0,$C3324/60))))","v":0},0,0,0,0,0,0,0,0,0,{"$error":"#N/A"},{"$error":"#N/A"},{"$error":"#N/A"},{"$error":"#N/A"},{"$error":"#N/A"},{"$error":"#N/A"},{"$f":"IF(SUM(BA$3091:BA3323)>0,0,IF(MAX(AT3324:AT$4531)=MAX(AT$3091:AT$4531),0,IF(AR3324>0.03*AL$4532,0,$C3324/60)))","v":0},{"$f":"IF(SUM(BB$3091:BB3323)>0,0,IF(MAX(AT3324:AT$4531)=MAX(AT$3091:AT$4531),0,IF(AR3324>0.01*AL$4532,0,$C3324/60)))","v":0},0,0,0,0,0,0,0,0,0,{"$error":"#N/A"},{"$error":"#N/A"},{"$error":"#N/A"},{"$error":"#N/A"},{"$error":"#N/A"},{"$error":"#N/A"},{"$f":"IF(SUM(BR$3091:BR3323)>0,0,IF(MAX(BK3324:BK$4531)=MAX(BK$3091:BK$4531),0,IF(BI3324>0.03*BC$4532,0,$C3324/60)))","v":0},{"$f":"IF(SUM(BS$3091:BS3323)>0,0,IF(MAX(BK3324:BK$4531)=MAX(BK$3091:BK$4531),0,IF(BI3324>0.01*BC$4532,0,$C3324/60)))","v":0},0,0,0,0,0,0,0,0,0,{"$error":"#N/A"},{"$error":"#N/A"},{"$error":"#N/A"},{"$error":"#N/A"},{"$error":"#N/A"},{"$error":"#N/A"},{"$f":"IF(SUM(CI$3091:CI3323)>0,0,IF(MAX(CB3324:CB$4531)=MAX(CB$3091:CB$4531),0,IF(BZ3324>0.03*BT$4532,0,$C3324/60)))","v":0},{"$f":"IF(SUM(CJ$3091:CJ3323)>0,0,IF(MAX(CB3324:CB$4531)=MAX(CB$3091:CB$4531),0,IF(BZ3324>0.01*BT$4532,0,$C3324/60)))","v":0},0,0,0,0,0,0,0,0,0,{"$error":"#N/A"},{"$error":"#N/A"},{"$error":"#N/A"},{"$error":"#N/A"},{"$error":"#N/A"},{"$error":"#N/A"},{"$f":"IF(SUM(CZ$3091:CZ3323)>0,0,IF(MAX(CS3324:CS$4531)=MAX(CS$3091:CS$4531),0,IF(CQ3324>0.03*CK$4532,0,$C3324/60)))","v":0},{"$f":"IF(SUM(DA$3091:DA3323)>0,0,IF(MAX(CS3324:CS$4531)=MAX(CS$3091:CS$4531),0,IF(CQ3324>0.01*CK$4532,0,$C3324/60)))","v":0},0,0,0,0,0,0,0,0,0,{"$error":"#N/A"},{"$error":"#N/A"},{"$error":"#N/A"},{"$error":"#N/A"},{"$error":"#N/A"},{"$error":"#N/A"},{"$f":"IF(SUM(DQ$3091:DQ3323)>0,0,IF(MAX(DJ3324:DJ$4531)=MAX(DJ$3091:DJ$4531),0,IF(DH3324>0.03*DB$4532,0,$C3324/60)))","v":0},{"$f":"IF(SUM(DR$3091:DR3323)>0,0,IF(MAX(DJ3324:DJ$4531)=MAX(DJ$3091:DJ$4531),0,IF(DH3324>0.01*DB$4532,0,$C3324/60)))","v":0},0,0,0,0,0,0,0,0,0,{"$error":"#N/A"},{"$error":"#N/A"},{"$error":"#N/A"},{"$error":"#N/A"},{"$error":"#N/A"},{"$error":"#N/A"},{"$f":"IF(SUM(EH$3091:EH3323)>0,0,IF(MAX(EA3324:EA$4531)=MAX(EA$3091:EA$4531),0,IF(DY3324>0.03*DS$4532,0,$C3324/60)))","v":0},{"$f":"IF(SUM(EI$3091:EI3323)>0,0,IF(MAX(EA3324:EA$4531)=MAX(EA$3091:EA$4531),0,IF(DY3324>0.01*DS$4532,0,$C3324/60)))","v":0},0,0,0,0,0,0,0,0,0,{"$error":"#N/A"},{"$error":"#N/A"},{"$error":"#N/A"},{"$error":"#N/A"},{"$error":"#N/A"},{"$error":"#N/A"},{"$f":"IF(SUM(EY$3091:EY3323)>0,0,IF(MAX(ER3324:ER$4531)=MAX(ER$3091:ER$4531),0,IF(EP3324>0.03*EJ$4532,0,$C3324/60)))","v":0},{"$f":"IF(SUM(EZ$3091:EZ3323)>0,0,IF(MAX(ER3324:ER$4531)=MAX(ER$3091:ER$4531),0,IF(EP3324>0.01*EJ$4532,0,$C3324/60)))","v":0}]
[null,20.166666666666668,1210,0,0,0,0,0,0,0,0,0,{"$error":"#N/A"},{"$error":"#N/A"},{"$error":"#N/A"},{"$error":"#N/A"},{"$error":"#N/A"},{"$error":"#N/A"},{"$f":"IF(SUM(S$3091:S3332)>0,0,\nIF(MAX(L3333:L$4531)=MAX(L$3091:L$4531),0,\nIF(Hydrograph_Source_WQCV=\"USER\",IF(J3333>0.03*D$4532,0,$C3333/60),\nIF(J3333>0.03*J$4532,0,$C3333/60))))","v":0},{"$f":"IF(SUM(T$3091:T3332)>0,0,\nIF(MAX(L3333:L$4531)=MAX(L$3091:L$4531),0,\nIF(Hydrograph_Source_WQCV=\"USER\",IF(J3333>0.01*D$4532,0,$C3333/60),\nIF(J3333>0.01*J$4532,0,$C3333/60))))","v":0},0,0,0,0,0,0,0,0,0,{"$error":"#N/A"},{"$error":"#N/A"},{"$error":"#N/A"},{"$error":"#N/A"},{"$error":"#N/A"},{"$error":"#N/A"},{"$f":"IF(SUM(AJ$3091:AJ3332)>0,0,\nIF(MAX(AC3333:AC$4531)=MAX(AC$3091:AC$4531),0,\nIF(Hydrograph_Source_EURV=\"USER\",IF(AA3333>0.03*U$4532,0,$C3333/60),\nIF(AA3333>0.03*AA$4532,0,$C3333/60))))","v":0},{"$f":"IF(SUM(AK$3091:AK3332)>0,0,\nIF(MAX(AC3333:AC$4531)=MAX(AC$3091:AC$4531),0,\nIF(Hydrograph_Source_EURV=\"USER\",IF(AA3333>0.01*U$4532,0,$C3333/60),\nIF(AA3333>0.01*AA$4532,0,$C3333/60))))","v":0},0,0,0,0,0,0,0,0,0,{"$error":"#N/A"},{"$error":"#N/A"},{"$error":"#N/A"},{"$error":"#N/A"},{"$error":"#N/A"},{"$error":"#N/A"},{"$f":"IF(SUM(BA$3091:BA3332)>0,0,IF(MAX(AT3333:AT$4531)=MAX(AT$3091:AT$4531),0,IF(AR3333>0.03*AL$4532,0,$C3333/60)))","v":0},{"$f":"IF(SUM(BB$3091:BB3332)>0,0,IF(MAX(AT3333:AT$4531)=MAX(AT$3091:AT$4531),0,IF(AR3333>0.01*AL$4532,0,$C3333/60)))","v":0},0,0,0,0,0,0,0,0,0,{"$error":"#N/A"},{"$error":"#N/A"},{"$error":"#N/A"},{"$error":"#N/A"},{"$error":"#N/A"},{"$error":"#N/A"},{"$f":"IF(SUM(BR$3091:BR3332)>0,0,IF(MAX(BK3333:BK$4531)=MAX(BK$3091:BK$4531),0,IF(BI3333>0.03*BC$4532,0,$C3333/60)))","v":0},{"$f":"IF(SUM(BS$3091:BS3332)>0,0,IF(MAX(BK3333:BK$4531)=MAX(BK$3091:BK$4531),0,IF(BI3333>0.01*BC$4532,0,$C3333/60)))","v":0},0,0,0,0,0,0,0,0,0,{"$error":"#N/A"},{"$error":"#N/A"},{"$error":"#N/A"},{"$error":"#N/A"},{"$error":"#N/A"},{"$error":"#N/A"},{"$f":"IF(SUM(CI$3091:CI3332)>0,0,IF(MAX(CB3333:CB$4531)=MAX(CB$3091:CB$4531),0,IF(BZ3333>0.03*BT$4532,0,$C3333/60)))","v":0},{"$f":"IF(SUM(CJ$3091:CJ3332)>0,0,IF(MAX(CB3333:CB$4531)=MAX(CB$3091:CB$4531),0,IF(BZ3333>0.01*BT$4532,0,$C3333/60)))","v":0},0,0,0,0,0,0,0,0,0,{"$error":"#N/A"},{"$error":"#N/A"},{"$error":"#N/A"},{"$error":"#N/A"},{"$error":"#N/A"},{"$error":"#N/A"},{"$f":"IF(SUM(CZ$3091:CZ3332)>0,0,IF(MAX(CS3333:CS$4531)=MAX(CS$3091:CS$4531),0,IF(CQ3333>0.03*CK$4532,0,$C3333/60)))","v":0},{"$f":"IF(SUM(DA$3091:DA3332)>0,0,IF(MAX(CS3333:CS$4531)=MAX(CS$3091:CS$4531),0,IF(CQ3333>0.01*CK$4532,0,$C3333/60)))","v":0},0,0,0,0,0,0,0,0,0,{"$error":"#N/A"},{"$error":"#N/A"},{"$error":"#N/A"},{"$error":"#N/A"},{"$error":"#N/A"},{"$error":"#N/A"},{"$f":"IF(SUM(DQ$3091:DQ3332)>0,0,IF(MAX(DJ3333:DJ$4531)=MAX(DJ$3091:DJ$4531),0,IF(DH3333>0.03*DB$4532,0,$C3333/60)))","v":0},{"$f":"IF(SUM(DR$3091:DR3332)>0,0,IF(MAX(DJ3333:DJ$4531)=MAX(DJ$3091:DJ$4531),0,IF(DH3333>0.01*DB$4532,0,$C3333/60)))","v":0},0,0,0,0,0,0,0,0,0,{"$error":"#N/A"},{"$error":"#N/A"},{"$error":"#N/A"},{"$error":"#N/A"},{"$error":"#N/A"},{"$error":"#N/A"},{"$f":"IF(SUM(EH$3091:EH3332)>0,0,IF(MAX(EA3333:EA$4531)=MAX(EA$3091:EA$4531),0,IF(DY3333>0.03*DS$4532,0,$C3333/60)))","v":0},{"$f":"IF(SUM(EI$3091:EI3332)>0,0,IF(MAX(EA3333:EA$4531)=MAX(EA$3091:EA$4531),0,IF(DY3333>0.01*DS$4532,0,$C3333/60)))","v":0},0,0,0,0,0,0,0,0,0,{"$error":"#N/A"},{"$error":"#N/A"},{"$error":"#N/A"},{"$error":"#N/A"},{"$error":"#N/A"},{"$error":"#N/A"},{"$f":"IF(SUM(EY$3091:EY3332)>0,0,IF(MAX(ER3333:ER$4531)=MAX(ER$3091:ER$4531),0,IF(EP3333>0.03*EJ$4532,0,$C3333/60)))","v":0},{"$f":"IF(SUM(EZ$3091:EZ3332)>0,0,IF(MAX(ER3333:ER$4531)=MAX(ER$3091:ER$4531),0,IF(EP3333>0.01*EJ$4532,0,$C3333/60)))","v":0}]
[null,20.916666666666668,1255,0,0,0,0,0,0,0,0,0,{"$error":"#N/A"},{"$error":"#N/A"},{"$error":"#N/A"},{"$error":"#N/A"},{"$error":"#N/A"},{"$error":"#N/A"},{"$f":"IF(SUM(S$3091:S3341)>0,0,\nIF(MAX(L3342:L$4531)=MAX(L$3091:L$4531),0,\nIF(Hydrograph_Source_WQCV=\"USER\",IF(J3342>0.03*D$4532,0,$C3342/60),\nIF(J3342>0.03*J$4532,0,$C3342/60))))","v":0},{"$f":"IF(SUM(T$3091:T3341)>0,0,\nIF(MAX(L3342:L$4531)=MAX(L$3091:L$4531),0,\nIF(Hydrograph_Source_WQCV=\"USER\",IF(J3342>0.01*D$4532,0,$C3342/60),\nIF(J3342>0.01*J$4532,0,$C3342/60))))","v":0},0,0,0,0,0,0,0,0,0,{"$error":"#N/A"},{"$error":"#N/A"},{"$error":"#N/A"},{"$error":"#N/A"},{"$error":"#N/A"},{"$error":"#N/A"},{"$f":"IF(SUM(AJ$3091:AJ3341)>0,0,\nIF(MAX(AC3342:AC$4531)=MAX(AC$3091:AC$4531),0,\nIF(Hydrograph_Source_EURV=\"USER\",IF(AA3342>0.03*U$4532,0,$C3342/60),\nIF(AA3342>0.03*AA$4532,0,$C3342/60))))","v":0},{"$f":"IF(SUM(AK$3091:AK3341)>0,0,\nIF(MAX(AC3342:AC$4531)=MAX(AC$3091:AC$4531),0,\nIF(Hydrograph_Source_EURV=\"USER\",IF(AA3342>0.01*U$4532,0,$C3342/60),\nIF(AA3342>0.01*AA$4532,0,$C3342/60))))","v":0},0,0,0,0,0,0,0,0,0,{"$error":"#N/A"},{"$error":"#N/A"},{"$error":"#N/A"},{"$error":"#N/A"},{"$error":"#N/A"},{"$error":"#N/A"},{"$f":"IF(SUM(BA$3091:BA3341)>0,0,IF(MAX(AT3342:AT$4531)=MAX(AT$3091:AT$4531),0,IF(AR3342>0.03*AL$4532,0,$C3342/60)))","v":0},{"$f":"IF(SUM(BB$3091:BB3341)>0,0,IF(MAX(AT3342:AT$4531)=MAX(AT$3091:AT$4531),0,IF(AR3342>0.01*AL$4532,0,$C3342/60)))","v":0},0,0,0,0,0,0,0,0,0,{"$error":"#N/A"},{"$error":"#N/A"},{"$error":"#N/A"},{"$error":"#N/A"},{"$error":"#N/A"},{"$error":"#N/A"},{"$f":"IF(SUM(BR$3091:BR3341)>0,0,IF(MAX(BK3342:BK$4531)=MAX(BK$3091:BK$4531),0,IF(BI3342>0.03*BC$4532,0,$C3342/60)))","v":0},{"$f":"IF(SUM(BS$3091:BS3341)>0,0,IF(MAX(BK3342:BK$4531)=MAX(BK$3091:BK$4531),0,IF(BI3342>0.01*BC$4532,0,$C3342/60)))","v":0},0,0,0,0,0,0,0,0,0,{"$error":"#N/A"},{"$error":"#N/A"},{"$error":"#N/A"},{"$error":"#N/A"},{"$error":"#N/A"},{"$error":"#N/A"},{"$f":"IF(SUM(CI$3091:CI3341)>0,0,IF(MAX(CB3342:CB$4531)=MAX(CB$3091:CB$4531),0,IF(BZ3342>0.03*BT$4532,0,$C3342/60)))","v":0},{"$f":"IF(SUM(CJ$3091:CJ3341)>0,0,IF(MAX(CB3342:CB$4531)=MAX(CB$3091:CB$4531),0,IF(BZ3342>0.01*BT$4532,0,$C3342/60)))","v":0},0,0,0,0,0,0,0,0,0,{"$error":"#N/A"},{"$error":"#N/A"},{"$error":"#N/A"},{"$error":"#N/A"},{"$error":"#N/A"},{"$error":"#N/A"},{"$f":"IF(SUM(CZ$3091:CZ3341)>0,0,IF(MAX(CS3342:CS$4531)=MAX(CS$3091:CS$4531),0,IF(CQ3342>0.03*CK$4532,0,$C3342/60)))","v":0},{"$f":"IF(SUM(DA$3091:DA3341)>0,0,IF(MAX(CS3342:CS$4531)=MAX(CS$3091:CS$4531),0,IF(CQ3342>0.01*CK$4532,0,$C3342/60)))","v":0},0,0,0,0,0,0,0,0,0,{"$error":"#N/A"},{"$error":"#N/A"},{"$error":"#N/A"},{"$error":"#N/A"},{"$error":"#N/A"},{"$error":"#N/A"},{"$f":"IF(SUM(DQ$3091:DQ3341)>0,0,IF(MAX(DJ3342:DJ$4531)=MAX(DJ$3091:DJ$4531),0,IF(DH3342>0.03*DB$4532,0,$C3342/60)))","v":0},{"$f":"IF(SUM(DR$3091:DR3341)>0,0,IF(MAX(DJ3342:DJ$4531)=MAX(DJ$3091:DJ$4531),0,IF(DH3342>0.01*DB$4532,0,$C3342/60)))","v":0},0,0,0,0,0,0,0,0,0,{"$error":"#N/A"},{"$error":"#N/A"},{"$error":"#N/A"},{"$error":"#N/A"},{"$error":"#N/A"},{"$error":"#N/A"},{"$f":"IF(SUM(EH$3091:EH3341)>0,0,IF(MAX(EA3342:EA$4531)=MAX(EA$3091:EA$4531),0,IF(DY3342>0.03*DS$4532,0,$C3342/60)))","v":0},{"$f":"IF(SUM(EI$3091:EI3341)>0,0,IF(MAX(EA3342:EA$4531)=MAX(EA$3091:EA$4531),0,IF(DY3342>0.01*DS$4532,0,$C3342/60)))","v":0},0,0,0,0,0,0,0,0,0,{"$error":"#N/A"},{"$error":"#N/A"},{"$error":"#N/A"},{"$error":"#N/A"},{"$error":"#N/A"},{"$error":"#N/A"},{"$f":"IF(SUM(EY$3091:EY3341)>0,0,IF(MAX(ER3342:ER$4531)=MAX(ER$3091:ER$4531),0,IF(EP3342>0.03*EJ$4532,0,$C3342/60)))","v":0},{"$f":"IF(SUM(EZ$3091:EZ3341)>0,0,IF(MAX(ER3342:ER$4531)=MAX(ER$3091:ER$4531),0,IF(EP3342>0.01*EJ$4532,0,$C3342/60)))","v":0}]
[null,21.666666666666668,1300,0,0,0,0,0,0,0,0,0,{"$error":"#N/A"},{"$error":"#N/A"},{"$error":"#N/A"},{"$error":"#N/A"},{"$error":"#N/A"},{"$error":"#N/A"},{"$f":"IF(SUM(S$3091:S3350)>0,0,\nIF(MAX(L3351:L$4531)=MAX(L$3091:L$4531),0,\nIF(Hydrograph_Source_WQCV=\"USER\",IF(J3351>0.03*D$4532,0,$C3351/60),\nIF(J3351>0.03*J$4532,0,$C3351/60))))","v":0},{"$f":"IF(SUM(T$3091:T3350)>0,0,\nIF(MAX(L3351:L$4531)=MAX(L$3091:L$4531),0,\nIF(Hydrograph_Source_WQCV=\"USER\",IF(J3351>0.01*D$4532,0,$C3351/60),\nIF(J3351>0.01*J$4532,0,$C3351/60))))","v":0},0,0,0,0,0,0,0,0,0,{"$error":"#N/A"},{"$error":"#N/A"},{"$error":"#N/A"},{"$error":"#N/A"},{"$error":"#N/A"},{"$error":"#N/A"},{"$f":"IF(SUM(AJ$3091:AJ3350)>0,0,\nIF(MAX(AC3351:AC$4531)=MAX(AC$3091:AC$4531),0,\nIF(Hydrograph_Source_EURV=\"USER\",IF(AA3351>0.03*U$4532,0,$C3351/60),\nIF(AA3351>0.03*AA$4532,0,$C3351/60))))","v":0},{"$f":"IF(SUM(AK$3091:AK3350)>0,0,\nIF(MAX(AC3351:AC$4531)=MAX(AC$3091:AC$4531),0,\nIF(Hydrograph_Source_EURV=\"USER\",IF(AA3351>0.01*U$4532,0,$C3351/60),\nIF(AA3351>0.01*AA$4532,0,$C3351/60))))","v":0},0,0,0,0,0,0,0,0,0,{"$error":"#N/A"},{"$error":"#N/A"},{"$error":"#N/A"},{"$error":"#N/A"},{"$error":"#N/A"},{"$error":"#N/A"},{"$f":"IF(SUM(BA$3091:BA3350)>0,0,IF(MAX(AT3351:AT$4531)=MAX(AT$3091:AT$4531),0,IF(AR3351>0.03*AL$4532,0,$C3351/60)))","v":0},{"$f":"IF(SUM(BB$3091:BB3350)>0,0,IF(MAX(AT3351:AT$4531)=MAX(AT$3091:AT$4531),0,IF(AR3351>0.01*AL$4532,0,$C3351/60)))","v":0},0,0,0,0,0,0,0,0,0,{"$error":"#N/A"},{"$error":"#N/A"},{"$error":"#N/A"},{"$error":"#N/A"},{"$error":"#N/A"},{"$error":"#N/A"},{"$f":"IF(SUM(BR$3091:BR3350)>0,0,IF(MAX(BK3351:BK$4531)=MAX(BK$3091:BK$4531),0,IF(BI3351>0.03*BC$4532,0,$C3351/60)))","v":0},{"$f":"IF(SUM(BS$3091:BS3350)>0,0,IF(MAX(BK3351:BK$4531)=MAX(BK$3091:BK$4531),0,IF(BI3351>0.01*BC$4532,0,$C3351/60)))","v":0},0,0,0,0,0,0,0,0,0,{"$error":"#N/A"},{"$error":"#N/A"},{"$error":"#N/A"},{"$error":"#N/A"},{"$error":"#N/A"},{"$error":"#N/A"},{"$f":"IF(SUM(CI$3091:CI3350)>0,0,IF(MAX(CB3351:CB$4531)=MAX(CB$3091:CB$4531),0,IF(BZ3351>0.03*BT$4532,0,$C3351/60)))","v":0},{"$f":"IF(SUM(CJ$3091:CJ3350)>0,0,IF(MAX(CB3351:CB$4531)=MAX(CB$3091:CB$4531),0,IF(BZ3351>0.01*BT$4532,0,$C3351/60)))","v":0},0,0,0,0,0,0,0,0,0,{"$error":"#N/A"},{"$error":"#N/A"},{"$error":"#N/A"},{"$error":"#N/A"},{"$error":"#N/A"},{"$error":"#N/A"},{"$f":"IF(SUM(CZ$3091:CZ3350)>0,0,IF(MAX(CS3351:CS$4531)=MAX(CS$3091:CS$4531),0,IF(CQ3351>0.03*CK$4532,0,$C3351/60)))","v":0},{"$f":"IF(SUM(DA$3091:DA3350)>0,0,IF(MAX(CS3351:CS$4531)=MAX(CS$3091:CS$4531),0,IF(CQ3351>0.01*CK$4532,0,$C3351/60)))","v":0},0,0,0,0,0,0,0,0,0,{"$error":"#N/A"},{"$error":"#N/A"},{"$error":"#N/A"},{"$error":"#N/A"},{"$error":"#N/A"},{"$error":"#N/A"},{"$f":"IF(SUM(DQ$3091:DQ3350)>0,0,IF(MAX(DJ3351:DJ$4531)=MAX(DJ$3091:DJ$4531),0,IF(DH3351>0.03*DB$4532,0,$C3351/60)))","v":0},{"$f":"IF(SUM(DR$3091:DR3350)>0,0,IF(MAX(DJ3351:DJ$4531)=MAX(DJ$3091:DJ$4531),0,IF(DH3351>0.01*DB$4532,0,$C3351/60)))","v":0},0,0,0,0,0,0,0,0,0,{"$error":"#N/A"},{"$error":"#N/A"},{"$error":"#N/A"},{"$error":"#N/A"},{"$error":"#N/A"},{"$error":"#N/A"},{"$f":"IF(SUM(EH$3091:EH3350)>0,0,IF(MAX(EA3351:EA$4531)=MAX(EA$3091:EA$4531),0,IF(DY3351>0.03*DS$4532,0,$C3351/60)))","v":0},{"$f":"IF(SUM(EI$3091:EI3350)>0,0,IF(MAX(EA3351:EA$4531)=MAX(EA$3091:EA$4531),0,IF(DY3351>0.01*DS$4532,0,$C3351/60)))","v":0},0,0,0,0,0,0,0,0,0,{"$error":"#N/A"},{"$error":"#N/A"},{"$error":"#N/A"},{"$error":"#N/A"},{"$error":"#N/A"},{"$error":"#N/A"},{"$f":"IF(SUM(EY$3091:EY3350)>0,0,IF(MAX(ER3351:ER$4531)=MAX(ER$3091:ER$4531),0,IF(EP3351>0.03*EJ$4532,0,$C3351/60)))","v":0},{"$f":"IF(SUM(EZ$3091:EZ3350)>0,0,IF(MAX(ER3351:ER$4531)=MAX(ER$3091:ER$4531),0,IF(EP3351>0.01*EJ$4532,0,$C3351/60)))","v":0}]
[null,22.416666666666668,1345,0,0,0,0,0,0,0,0,0,{"$error":"#N/A"},{"$error":"#N/A"},{"$error":"#N/A"},{"$error":"#N/A"},{"$error":"#N/A"},{"$error":"#N/A"},{"$f":"IF(SUM(S$3091:S3359)>0,0,\nIF(MAX(L3360:L$4531)=MAX(L$3091:L$4531),0,\nIF(Hydrograph_Source_WQCV=\"USER\",IF(J3360>0.03*D$4532,0,$C3360/60),\nIF(J3360>0.03*J$4532,0,$C3360/60))))","v":0},{"$f":"IF(SUM(T$3091:T3359)>0,0,\nIF(MAX(L3360:L$4531)=MAX(L$3091:L$4531),0,\nIF(Hydrograph_Source_WQCV=\"USER\",IF(J3360>0.01*D$4532,0,$C3360/60),\nIF(J3360>0.01*J$4532,0,$C3360/60))))","v":0},0,0,0,0,0,0,0,0,0,{"$error":"#N/A"},{"$error":"#N/A"},{"$error":"#N/A"},{"$error":"#N/A"},{"$error":"#N/A"},{"$error":"#N/A"},{"$f":"IF(SUM(AJ$3091:AJ3359)>0,0,\nIF(MAX(AC3360:AC$4531)=MAX(AC$3091:AC$4531),0,\nIF(Hydrograph_Source_EURV=\"USER\",IF(AA3360>0.03*U$4532,0,$C3360/60),\nIF(AA3360>0.03*AA$4532,0,$C3360/60))))","v":0},{"$f":"IF(SUM(AK$3091:AK3359)>0,0,\nIF(MAX(AC3360:AC$4531)=MAX(AC$3091:AC$4531),0,\nIF(Hydrograph_Source_EURV=\"USER\",IF(AA3360>0.01*U$4532,0,$C3360/60),\nIF(AA3360>0.01*AA$4532,0,$C3360/60))))","v":0},0,0,0,0,0,0,0,0,0,{"$error":"#N/A"},{"$error":"#N/A"},{"$error":"#N/A"},{"$error":"#N/A"},{"$error":"#N/A"},{"$error":"#N/A"},{"$f":"IF(SUM(BA$3091:BA3359)>0,0,IF(MAX(AT3360:AT$4531)=MAX(AT$3091:AT$4531),0,IF(AR3360>0.03*AL$4532,0,$C3360/60)))","v":0},{"$f":"IF(SUM(BB$3091:BB3359)>0,0,IF(MAX(AT3360:AT$4531)=MAX(AT$3091:AT$4531),0,IF(AR3360>0.01*AL$4532,0,$C3360/60)))","v":0},0,0,0,0,0,0,0,0,0,{"$error":"#N/A"},{"$error":"#N/A"},{"$error":"#N/A"},{"$error":"#N/A"},{"$error":"#N/A"},{"$error":"#N/A"},{"$f":"IF(SUM(BR$3091:BR3359)>0,0,IF(MAX(BK3360:BK$4531)=MAX(BK$3091:BK$4531),0,IF(BI3360>0.03*BC$4532,0,$C3360/60)))","v":0},{"$f":"IF(SUM(BS$3091:BS3359)>0,0,IF(MAX(BK3360:BK$4531)=MAX(BK$3091:BK$4531),0,IF(BI3360>0.01*BC$4532,0,$C3360/60)))","v":0},0,0,0,0,0,0,0,0,0,{"$error":"#N/A"},{"$error":"#N/A"},{"$error":"#N/A"},{"$error":"#N/A"},{"$error":"#N/A"},{"$error":"#N/A"},{"$f":"IF(SUM(CI$3091:CI3359)>0,0,IF(MAX(CB3360:CB$4531)=MAX(CB$3091:CB$4531),0,IF(BZ3360>0.03*BT$4532,0,$C3360/60)))","v":0},{"$f":"IF(SUM(CJ$3091:CJ3359)>0,0,IF(MAX(CB3360:CB$4531)=MAX(CB$3091:CB$4531),0,IF(BZ3360>0.01*BT$4532,0,$C3360/60)))","v":0},0,0,0,0,0,0,0,0,0,{"$error":"#N/A"},{"$error":"#N/A"},{"$error":"#N/A"},{"$error":"#N/A"},{"$error":"#N/A"},{"$error":"#N/A"},{"$f":"IF(SUM(CZ$3091:CZ3359)>0,0,IF(MAX(CS3360:CS$4531)=MAX(CS$3091:CS$4531),0,IF(CQ3360>0.03*CK$4532,0,$C3360/60)))","v":0},{"$f":"IF(SUM(DA$3091:DA3359)>0,0,IF(MAX(CS3360:CS$4531)=MAX(CS$3091:CS$4531),0,IF(CQ3360>0.01*CK$4532,0,$C3360/60)))","v":0},0,0,0,0,0,0,0,0,0,{"$error":"#N/A"},{"$error":"#N/A"},{"$error":"#N/A"},{"$error":"#N/A"},{"$error":"#N/A"},{"$error":"#N/A"},{"$f":"IF(SUM(DQ$3091:DQ3359)>0,0,IF(MAX(DJ3360:DJ$4531)=MAX(DJ$3091:DJ$4531),0,IF(DH3360>0.03*DB$4532,0,$C3360/60)))","v":0},{"$f":"IF(SUM(DR$3091:DR3359)>0,0,IF(MAX(DJ3360:DJ$4531)=MAX(DJ$3091:DJ$4531),0,IF(DH3360>0.01*DB$4532,0,$C3360/60)))","v":0},0,0,0,0,0,0,0,0,0,{"$error":"#N/A"},{"$error":"#N/A"},{"$error":"#N/A"},{"$error":"#N/A"},{"$error":"#N/A"},{"$error":"#N/A"},{"$f":"IF(SUM(EH$3091:EH3359)>0,0,IF(MAX(EA3360:EA$4531)=MAX(EA$3091:EA$4531),0,IF(DY3360>0.03*DS$4532,0,$C3360/60)))","v":0},{"$f":"IF(SUM(EI$3091:EI3359)>0,0,IF(MAX(EA3360:EA$4531)=MAX(EA$3091:EA$4531),0,IF(DY3360>0.01*DS$4532,0,$C3360/60)))","v":0},0,0,0,0,0,0,0,0,0,{"$error":"#N/A"},{"$error":"#N/A"},{"$error":"#N/A"},{"$error":"#N/A"},{"$error":"#N/A"},{"$error":"#N/A"},{"$f":"IF(SUM(EY$3091:EY3359)>0,0,IF(MAX(ER3360:ER$4531)=MAX(ER$3091:ER$4531),0,IF(EP3360>0.03*EJ$4532,0,$C3360/60)))","v":0},{"$f":"IF(SUM(EZ$3091:EZ3359)>0,0,IF(MAX(ER3360:ER$4531)=MAX(ER$3091:ER$4531),0,IF(EP3360>0.01*EJ$4532,0,$C3360/60)))","v":0}]
[null,22.5,1350,0,0,0,0,0,0,0,0,0,{"$error":"#N/A"},{"$error":"#N/A"},{"$error":"#N/A"},{"$error":"#N/A"},{"$error":"#N/A"},{"$error":"#N/A"},{"$f":"IF(SUM(S$3091:S3360)>0,0,\nIF(MAX(L3361:L$4531)=MAX(L$3091:L$4531),0,\nIF(Hydrograph_Source_WQCV=\"USER\",IF(J3361>0.03*D$4532,0,$C3361/60),\nIF(J3361>0.03*J$4532,0,$C3361/60))))","v":0},{"$f":"IF(SUM(T$3091:T3360)>0,0,\nIF(MAX(L3361:L$4531)=MAX(L$3091:L$4531),0,\nIF(Hydrograph_Source_WQCV=\"USER\",IF(J3361>0.01*D$4532,0,$C3361/60),\nIF(J3361>0.01*J$4532,0,$C3361/60))))","v":0},0,0,0,0,0,0,0,0,0,{"$error":"#N/A"},{"$error":"#N/A"},{"$error":"#N/A"},{"$error":"#N/A"},{"$error":"#N/A"},{"$error":"#N/A"},{"$f":"IF(SUM(AJ$3091:AJ3360)>0,0,\nIF(MAX(AC3361:AC$4531)=MAX(AC$3091:AC$4531),0,\nIF(Hydrograph_Source_EURV=\"USER\",IF(AA3361>0.03*U$4532,0,$C3361/60),\nIF(AA3361>0.03*AA$4532,0,$C3361/60))))","v":0},{"$f":"IF(SUM(AK$3091:AK3360)>0,0,\nIF(MAX(AC3361:AC$4531)=MAX(AC$3091:AC$4531),0,\nIF(Hydrograph_Source_EURV=\"USER\",IF(AA3361>0.01*U$4532,0,$C3361/60),\nIF(AA3361>0.01*AA$4532,0,$C3361/60))))","v":0},0,0,0,0,0,0,0,0,0,{"$error":"#N/A"},{"$error":"#N/A"},{"$error":"#N/A"},{"$error":"#N/A"},{"$error":"#N/A"},{"$error":"#N/A"},{"$f":"IF(SUM(BA$3091:BA3360)>0,0,IF(MAX(AT3361:AT$4531)=MAX(AT$3091:AT$4531),0,IF(AR3361>0.03*AL$4532,0,$C3361/60)))","v":0},{"$f":"IF(SUM(BB$3091:BB3360)>0,0,IF(MAX(AT3361:AT$4531)=MAX(AT$3091:AT$4531),0,IF(AR3361>0.01*AL$4532,0,$C3361/60)))","v":0},0,0,0,0,0,0,0,0,0,{"$error":"#N/A"},{"$error":"#N/A"},{"$error":"#N/A"},{"$error":"#N/A"},{"$error":"#N/A"},{"$error":"#N/A"},{"$f":"IF(SUM(BR$3091:BR3360)>0,0,IF(MAX(BK3361:BK$4531)=MAX(BK$3091:BK$4531),0,IF(BI3361>0.03*BC$4532,0,$C3361/60)))","v":0},{"$f":"IF(SUM(BS$3091:BS3360)>0,0,IF(MAX(BK3361:BK$4531)=MAX(BK$3091:BK$4531),0,IF(BI3361>0.01*BC$4532,0,$C3361/60)))","v":0},0,0,0,0,0,0,0,0,0,{"$error":"#N/A"},{"$error":"#N/A"},{"$error":"#N/A"},{"$error":"#N/A"},{"$error":"#N/A"},{"$error":"#N/A"},{"$f":"IF(SUM(CI$3091:CI3360)>0,0,IF(MAX(CB3361:CB$4531)=MAX(CB$3091:CB$4531),0,IF(BZ3361>0.03*BT$4532,0,$C3361/60)))","v":0},{"$f":"IF(SUM(CJ$3091:CJ3360)>0,0,IF(MAX(CB3361:CB$4531)=MAX(CB$3091:CB$4531),0,IF(BZ3361>0.01*BT$4532,0,$C3361/60)))","v":0},0,0,0,0,0,0,0,0,0,{"$error":"#N/A"},{"$error":"#N/A"},{"$error":"#N/A"},{"$error":"#N/A"},{"$error":"#N/A"},{"$error":"#N/A"},{"$f":"IF(SUM(CZ$3091:CZ3360)>0,0,IF(MAX(CS3361:CS$4531)=MAX(CS$3091:CS$4531),0,IF(CQ3361>0.03*CK$4532,0,$C3361/60)))","v":0},{"$f":"IF(SUM(DA$3091:DA3360)>0,0,IF(MAX(CS3361:CS$4531)=MAX(CS$3091:CS$4531),0,IF(CQ3361>0.01*CK$4532,0,$C3361/60)))","v":0},0,0,0,0,0,0,0,0,0,{"$error":"#N/A"},{"$error":"#N/A"},{"$error":"#N/A"},{"$error":"#N/A"},{"$error":"#N/A"},{"$error":"#N/A"},{"$f":"IF(SUM(DQ$3091:DQ3360)>0,0,IF(MAX(DJ3361:DJ$4531)=MAX(DJ$3091:DJ$4531),0,IF(DH3361>0.03*DB$4532,0,$C3361/60)))","v":0},{"$f":"IF(SUM(DR$3091:DR3360)>0,0,IF(MAX(DJ3361:DJ$4531)=MAX(DJ$3091:DJ$4531),0,IF(DH3361>0.01*DB$4532,0,$C3361/60)))","v":0},0,0,0,0,0,0,0,0,0,{"$error":"#N/A"},{"$error":"#N/A"},{"$error":"#N/A"},{"$error":"#N/A"},{"$error":"#N/A"},{"$error":"#N/A"},{"$f":"IF(SUM(EH$3091:EH3360)>0,0,IF(MAX(EA3361:EA$4531)=MAX(EA$3091:EA$4531),0,IF(DY3361>0.03*DS$4532,0,$C3361/60)))","v":0},{"$f":"IF(SUM(EI$3091:EI3360)>0,0,IF(MAX(EA3361:EA$4531)=MAX(EA$3091:EA$4531),0,IF(DY3361>0.01*DS$4532,0,$C3361/60)))","v":0},0,0,0,0,0,0,0,0,0,{"$error":"#N/A"},{"$error":"#N/A"},{"$error":"#N/A"},{"$error":"#N/A"},{"$error":"#N/A"},{"$error":"#N/A"},{"$f":"IF(SUM(EY$3091:EY3360)>0,0,IF(MAX(ER3361:ER$4531)=MAX(ER$3091:ER$4531),0,IF(EP3361>0.03*EJ$4532,0,$C3361/60)))","v":0},{"$f":"IF(SUM(EZ$3091:EZ3360)>0,0,IF(MAX(ER3361:ER$4531)=MAX(ER$3091:ER$4531),0,IF(EP3361>0.01*EJ$4532,0,$C3361/60)))","v":0}]
[null,23.25,1395,0,0,0,0,0,0,0,0,0,{"$error":"#N/A"},{"$error":"#N/A"},{"$error":"#N/A"},{"$error":"#N/A"},{"$error":"#N/A"},{"$error":"#N/A"},{"$f":"IF(SUM(S$3091:S3369)>0,0,\nIF(MAX(L3370:L$4531)=MAX(L$3091:L$4531),0,\nIF(Hydrograph_Source_WQCV=\"USER\",IF(J3370>0.03*D$4532,0,$C3370/60),\nIF(J3370>0.03*J$4532,0,$C3370/60))))","v":0},{"$f":"IF(SUM(T$3091:T3369)>0,0,\nIF(MAX(L3370:L$4531)=MAX(L$3091:L$4531),0,\nIF(Hydrograph_Source_WQCV=\"USER\",IF(J3370>0.01*D$4532,0,$C3370/60),\nIF(J3370>0.01*J$4532,0,$C3370/60))))","v":0},0,0,0,0,0,0,0,0,0,{"$error":"#N/A"},{"$error":"#N/A"},{"$error":"#N/A"},{"$error":"#N/A"},{"$error":"#N/A"},{"$error":"#N/A"},{"$f":"IF(SUM(AJ$3091:AJ3369)>0,0,\nIF(MAX(AC3370:AC$4531)=MAX(AC$3091:AC$4531),0,\nIF(Hydrograph_Source_EURV=\"USER\",IF(AA3370>0.03*U$4532,0,$C3370/60),\nIF(AA3370>0.03*AA$4532,0,$C3370/60))))","v":0},{"$f":"IF(SUM(AK$3091:AK3369)>0,0,\nIF(MAX(AC3370:AC$4531)=MAX(AC$3091:AC$4531),0,\nIF(Hydrograph_Source_EURV=\"USER\",IF(AA3370>0.01*U$4532,0,$C3370/60),\nIF(AA3370>0.01*AA$4532,0,$C3370/60))))","v":0},0,0,0,0,0,0,0,0,0,{"$error":"#N/A"},{"$error":"#N/A"},{"$error":"#N/A"},{"$error":"#N/A"},{"$error":"#N/A"},{"$error":"#N/A"},{"$f":"IF(SUM(BA$3091:BA3369)>0,0,IF(MAX(AT3370:AT$4531)=MAX(AT$3091:AT$4531),0,IF(AR3370>0.03*AL$4532,0,$C3370/60)))","v":0},{"$f":"IF(SUM(BB$3091:BB3369)>0,0,IF(MAX(AT3370:AT$4531)=MAX(AT$3091:AT$4531),0,IF(AR3370>0.01*AL$4532,0,$C3370/60)))","v":0},0,0,0,0,0,0,0,0,0,{"$error":"#N/A"},{"$error":"#N/A"},{"$error":"#N/A"},{"$error":"#N/A"},{"$error":"#N/A"},{"$error":"#N/A"},{"$f":"IF(SUM(BR$3091:BR3369)>0,0,IF(MAX(BK3370:BK$4531)=MAX(BK$3091:BK$4531),0,IF(BI3370>0.03*BC$4532,0,$C3370/60)))","v":0},{"$f":"IF(SUM(BS$3091:BS3369)>0,0,IF(MAX(BK3370:BK$4531)=MAX(BK$3091:BK$4531),0,IF(BI3370>0.01*BC$4532,0,$C3370/60)))","v":0},0,0,0,0,0,0,0,0,0,{"$error":"#N/A"},{"$error":"#N/A"},{"$error":"#N/A"},{"$error":"#N/A"},{"$error":"#N/A"},{"$error":"#N/A"},{"$f":"IF(SUM(CI$3091:CI3369)>0,0,IF(MAX(CB3370:CB$4531)=MAX(CB$3091:CB$4531),0,IF(BZ3370>0.03*BT$4532,0,$C3370/60)))","v":0},{"$f":"IF(SUM(CJ$3091:CJ3369)>0,0,IF(MAX(CB3370:CB$4531)=MAX(CB$3091:CB$4531),0,IF(BZ3370>0.01*BT$4532,0,$C3370/60)))","v":0},0,0,0,0,0,0,0,0,0,{"$error":"#N/A"},{"$error":"#N/A"},{"$error":"#N/A"},{"$error":"#N/A"},{"$error":"#N/A"},{"$error":"#N/A"},{"$f":"IF(SUM(CZ$3091:CZ3369)>0,0,IF(MAX(CS3370:CS$4531)=MAX(CS$3091:CS$4531),0,IF(CQ3370>0.03*CK$4532,0,$C3370/60)))","v":0},{"$f":"IF(SUM(DA$3091:DA3369)>0,0,IF(MAX(CS3370:CS$4531)=MAX(CS$3091:CS$4531),0,IF(CQ3370>0.01*CK$4532,0,$C3370/60)))","v":0},0,0,0,0,0,0,0,0,0,{"$error":"#N/A"},{"$error":"#N/A"},{"$error":"#N/A"},{"$error":"#N/A"},{"$error":"#N/A"},{"$error":"#N/A"},{"$f":"IF(SUM(DQ$3091:DQ3369)>0,0,IF(MAX(DJ3370:DJ$4531)=MAX(DJ$3091:DJ$4531),0,IF(DH3370>0.03*DB$4532,0,$C3370/60)))","v":0},{"$f":"IF(SUM(DR$3091:DR3369)>0,0,IF(MAX(DJ3370:DJ$4531)=MAX(DJ$3091:DJ$4531),0,IF(DH3370>0.01*DB$4532,0,$C3370/60)))","v":0},0,0,0,0,0,0,0,0,0,{"$error":"#N/A"},{"$error":"#N/A"},{"$error":"#N/A"},{"$error":"#N/A"},{"$error":"#N/A"},{"$error":"#N/A"},{"$f":"IF(SUM(EH$3091:EH3369)>0,0,IF(MAX(EA3370:EA$4531)=MAX(EA$3091:EA$4531),0,IF(DY3370>0.03*DS$4532,0,$C3370/60)))","v":0},{"$f":"IF(SUM(EI$3091:EI3369)>0,0,IF(MAX(EA3370:EA$4531)=MAX(EA$3091:EA$4531),0,IF(DY3370>0.01*DS$4532,0,$C3370/60)))","v":0},0,0,0,0,0,0,0,0,0,{"$error":"#N/A"},{"$error":"#N/A"},{"$error":"#N/A"},{"$error":"#N/A"},{"$error":"#N/A"},{"$error":"#N/A"},{"$f":"IF(SUM(EY$3091:EY3369)>0,0,IF(MAX(ER3370:ER$4531)=MAX(ER$3091:ER$4531),0,IF(EP3370>0.03*EJ$4532,0,$C3370/60)))","v":0},{"$f":"IF(SUM(EZ$3091:EZ3369)>0,0,IF(MAX(ER3370:ER$4531)=MAX(ER$3091:ER$4531),0,IF(EP3370>0.01*EJ$4532,0,$C3370/60)))","v":0}]
[null,24,1440,0,0,0,0,0,0,0,0,0,{"$error":"#N/A"},{"$error":"#N/A"},{"$error":"#N/A"},{"$error":"#N/A"},{"$error":"#N/A"},{"$error":"#N/A"},{"$f":"IF(SUM(S$3091:S3378)>0,0,\nIF(MAX(L3379:L$4531)=MAX(L$3091:L$4531),0,\nIF(Hydrograph_Source_WQCV=\"USER\",IF(J3379>0.03*D$4532,0,$C3379/60),\nIF(J3379>0.03*J$4532,0,$C3379/60))))","v":0},{"$f":"IF(SUM(T$3091:T3378)>0,0,\nIF(MAX(L3379:L$4531)=MAX(L$3091:L$4531),0,\nIF(Hydrograph_Source_WQCV=\"USER\",IF(J3379>0.01*D$4532,0,$C3379/60),\nIF(J3379>0.01*J$4532,0,$C3379/60))))","v":0},0,0,0,0,0,0,0,0,0,{"$error":"#N/A"},{"$error":"#N/A"},{"$error":"#N/A"},{"$error":"#N/A"},{"$error":"#N/A"},{"$error":"#N/A"},{"$f":"IF(SUM(AJ$3091:AJ3378)>0,0,\nIF(MAX(AC3379:AC$4531)=MAX(AC$3091:AC$4531),0,\nIF(Hydrograph_Source_EURV=\"USER\",IF(AA3379>0.03*U$4532,0,$C3379/60),\nIF(AA3379>0.03*AA$4532,0,$C3379/60))))","v":0},{"$f":"IF(SUM(AK$3091:AK3378)>0,0,\nIF(MAX(AC3379:AC$4531)=MAX(AC$3091:AC$4531),0,\nIF(Hydrograph_Source_EURV=\"USER\",IF(AA3379>0.01*U$4532,0,$C3379/60),\nIF(AA3379>0.01*AA$4532,0,$C3379/60))))","v":0},0,0,0,0,0,0,0,0,0,{"$error":"#N/A"},{"$error":"#N/A"},{"$error":"#N/A"},{"$error":"#N/A"},{"$error":"#N/A"},{"$error":"#N/A"},{"$f":"IF(SUM(BA$3091:BA3378)>0,0,IF(MAX(AT3379:AT$4531)=MAX(AT$3091:AT$4531),0,IF(AR3379>0.03*AL$4532,0,$C3379/60)))","v":0},{"$f":"IF(SUM(BB$3091:BB3378)>0,0,IF(MAX(AT3379:AT$4531)=MAX(AT$3091:AT$4531),0,IF(AR3379>0.01*AL$4532,0,$C3379/60)))","v":0},0,0,0,0,0,0,0,0,0,{"$error":"#N/A"},{"$error":"#N/A"},{"$error":"#N/A"},{"$error":"#N/A"},{"$error":"#N/A"},{"$error":"#N/A"},{"$f":"IF(SUM(BR$3091:BR3378)>0,0,IF(MAX(BK3379:BK$4531)=MAX(BK$3091:BK$4531),0,IF(BI3379>0.03*BC$4532,0,$C3379/60)))","v":0},{"$f":"IF(SUM(BS$3091:BS3378)>0,0,IF(MAX(BK3379:BK$4531)=MAX(BK$3091:BK$4531),0,IF(BI3379>0.01*BC$4532,0,$C3379/60)))","v":0},0,0,0,0,0,0,0,0,0,{"$error":"#N/A"},{"$error":"#N/A"},{"$error":"#N/A"},{"$error":"#N/A"},{"$error":"#N/A"},{"$error":"#N/A"},{"$f":"IF(SUM(CI$3091:CI3378)>0,0,IF(MAX(CB3379:CB$4531)=MAX(CB$3091:CB$4531),0,IF(BZ3379>0.03*BT$4532,0,$C3379/60)))","v":0},{"$f":"IF(SUM(CJ$3091:CJ3378)>0,0,IF(MAX(CB3379:CB$4531)=MAX(CB$3091:CB$4531),0,IF(BZ3379>0.01*BT$4532,0,$C3379/60)))","v":0},0,0,0,0,0,0,0,0,0,{"$error":"#N/A"},{"$error":"#N/A"},{"$error":"#N/A"},{"$error":"#N/A"},{"$error":"#N/A"},{"$error":"#N/A"},{"$f":"IF(SUM(CZ$3091:CZ3378)>0,0,IF(MAX(CS3379:CS$4531)=MAX(CS$3091:CS$4531),0,IF(CQ3379>0.03*CK$4532,0,$C3379/60)))","v":0},{"$f":"IF(SUM(DA$3091:DA3378)>0,0,IF(MAX(CS3379:CS$4531)=MAX(CS$3091:CS$4531),0,IF(CQ3379>0.01*CK$4532,0,$C3379/60)))","v":0},0,0,0,0,0,0,0,0,0,{"$error":"#N/A"},{"$error":"#N/A"},{"$error":"#N/A"},{"$error":"#N/A"},{"$error":"#N/A"},{"$error":"#N/A"},{"$f":"IF(SUM(DQ$3091:DQ3378)>0,0,IF(MAX(DJ3379:DJ$4531)=MAX(DJ$3091:DJ$4531),0,IF(DH3379>0.03*DB$4532,0,$C3379/60)))","v":0},{"$f":"IF(SUM(DR$3091:DR3378)>0,0,IF(MAX(DJ3379:DJ$4531)=MAX(DJ$3091:DJ$4531),0,IF(DH3379>0.01*DB$4532,0,$C3379/60)))","v":0},0,0,0,0,0,0,0,0,0,{"$error":"#N/A"},{"$error":"#N/A"},{"$error":"#N/A"},{"$error":"#N/A"},{"$error":"#N/A"},{"$error":"#N/A"},{"$f":"IF(SUM(EH$3091:EH3378)>0,0,IF(MAX(EA3379:EA$4531)=MAX(EA$3091:EA$4531),0,IF(DY3379>0.03*DS$4532,0,$C3379/60)))","v":0},{"$f":"IF(SUM(EI$3091:EI3378)>0,0,IF(MAX(EA3379:EA$4531)=MAX(EA$3091:EA$4531),0,IF(DY3379>0.01*DS$4532,0,$C3379/60)))","v":0},0,0,0,0,0,0,0,0,0,{"$error":"#N/A"},{"$error":"#N/A"},{"$error":"#N/A"},{"$error":"#N/A"},{"$error":"#N/A"},{"$error":"#N/A"},{"$f":"IF(SUM(EY$3091:EY3378)>0,0,IF(MAX(ER3379:ER$4531)=MAX(ER$3091:ER$4531),0,IF(EP3379>0.03*EJ$4532,0,$C3379/60)))","v":0},{"$f":"IF(SUM(EZ$3091:EZ3378)>0,0,IF(MAX(ER3379:ER$4531)=MAX(ER$3091:ER$4531),0,IF(EP3379>0.01*EJ$4532,0,$C3379/60)))","v":0}]
[null,24.75,1485,0,0,0,0,0,0,0,0,0,{"$error":"#N/A"},{"$error":"#N/A"},{"$error":"#N/A"},{"$error":"#N/A"},{"$error":"#N/A"},{"$error":"#N/A"},{"$f":"IF(SUM(S$3091:S3387)>0,0,\nIF(MAX(L3388:L$4531)=MAX(L$3091:L$4531),0,\nIF(Hydrograph_Source_WQCV=\"USER\",IF(J3388>0.03*D$4532,0,$C3388/60),\nIF(J3388>0.03*J$4532,0,$C3388/60))))","v":0},{"$f":"IF(SUM(T$3091:T3387)>0,0,\nIF(MAX(L3388:L$4531)=MAX(L$3091:L$4531),0,\nIF(Hydrograph_Source_WQCV=\"USER\",IF(J3388>0.01*D$4532,0,$C3388/60),\nIF(J3388>0.01*J$4532,0,$C3388/60))))","v":0},0,0,0,0,0,0,0,0,0,{"$error":"#N/A"},{"$error":"#N/A"},{"$error":"#N/A"},{"$error":"#N/A"},{"$error":"#N/A"},{"$error":"#N/A"},{"$f":"IF(SUM(AJ$3091:AJ3387)>0,0,\nIF(MAX(AC3388:AC$4531)=MAX(AC$3091:AC$4531),0,\nIF(Hydrograph_Source_EURV=\"USER\",IF(AA3388>0.03*U$4532,0,$C3388/60),\nIF(AA3388>0.03*AA$4532,0,$C3388/60))))","v":0},{"$f":"IF(SUM(AK$3091:AK3387)>0,0,\nIF(MAX(AC3388:AC$4531)=MAX(AC$3091:AC$4531),0,\nIF(Hydrograph_Source_EURV=\"USER\",IF(AA3388>0.01*U$4532,0,$C3388/60),\nIF(AA3388>0.01*AA$4532,0,$C3388/60))))","v":0},0,0,0,0,0,0,0,0,0,{"$error":"#N/A"},{"$error":"#N/A"},{"$error":"#N/A"},{"$error":"#N/A"},{"$error":"#N/A"},{"$error":"#N/A"},{"$f":"IF(SUM(BA$3091:BA3387)>0,0,IF(MAX(AT3388:AT$4531)=MAX(AT$3091:AT$4531),0,IF(AR3388>0.03*AL$4532,0,$C3388/60)))","v":0},{"$f":"IF(SUM(BB$3091:BB3387)>0,0,IF(MAX(AT3388:AT$4531)=MAX(AT$3091:AT$4531),0,IF(AR3388>0.01*AL$4532,0,$C3388/60)))","v":0},0,0,0,0,0,0,0,0,0,{"$error":"#N/A"},{"$error":"#N/A"},{"$error":"#N/A"},{"$error":"#N/A"},{"$error":"#N/A"},{"$error":"#N/A"},{"$f":"IF(SUM(BR$3091:BR3387)>0,0,IF(MAX(BK3388:BK$4531)=MAX(BK$3091:BK$4531),0,IF(BI3388>0.03*BC$4532,0,$C3388/60)))","v":0},{"$f":"IF(SUM(BS$3091:BS3387)>0,0,IF(MAX(BK3388:BK$4531)=MAX(BK$3091:BK$4531),0,IF(BI3388>0.01*BC$4532,0,$C3388/60)))","v":0},0,0,0,0,0,0,0,0,0,{"$error":"#N/A"},{"$error":"#N/A"},{"$error":"#N/A"},{"$error":"#N/A"},{"$error":"#N/A"},{"$error":"#N/A"},{"$f":"IF(SUM(CI$3091:CI3387)>0,0,IF(MAX(CB3388:CB$4531)=MAX(CB$3091:CB$4531),0,IF(BZ3388>0.03*BT$4532,0,$C3388/60)))","v":0},{"$f":"IF(SUM(CJ$3091:CJ3387)>0,0,IF(MAX(CB3388:CB$4531)=MAX(CB$3091:CB$4531),0,IF(BZ3388>0.01*BT$4532,0,$C3388/60)))","v":0},0,0,0,0,0,0,0,0,0,{"$error":"#N/A"},{"$error":"#N/A"},{"$error":"#N/A"},{"$error":"#N/A"},{"$error":"#N/A"},{"$error":"#N/A"},{"$f":"IF(SUM(CZ$3091:CZ3387)>0,0,IF(MAX(CS3388:CS$4531)=MAX(CS$3091:CS$4531),0,IF(CQ3388>0.03*CK$4532,0,$C3388/60)))","v":0},{"$f":"IF(SUM(DA$3091:DA3387)>0,0,IF(MAX(CS3388:CS$4531)=MAX(CS$3091:CS$4531),0,IF(CQ3388>0.01*CK$4532,0,$C3388/60)))","v":0},0,0,0,0,0,0,0,0,0,{"$error":"#N/A"},{"$error":"#N/A"},{"$error":"#N/A"},{"$error":"#N/A"},{"$error":"#N/A"},{"$error":"#N/A"},{"$f":"IF(SUM(DQ$3091:DQ3387)>0,0,IF(MAX(DJ3388:DJ$4531)=MAX(DJ$3091:DJ$4531),0,IF(DH3388>0.03*DB$4532,0,$C3388/60)))","v":0},{"$f":"IF(SUM(DR$3091:DR3387)>0,0,IF(MAX(DJ3388:DJ$4531)=MAX(DJ$3091:DJ$4531),0,IF(DH3388>0.01*DB$4532,0,$C3388/60)))","v":0},0,0,0,0,0,0,0,0,0,{"$error":"#N/A"},{"$error":"#N/A"},{"$error":"#N/A"},{"$error":"#N/A"},{"$error":"#N/A"},{"$error":"#N/A"},{"$f":"IF(SUM(EH$3091:EH3387)>0,0,IF(MAX(EA3388:EA$4531)=MAX(EA$3091:EA$4531),0,IF(DY3388>0.03*DS$4532,0,$C3388/60)))","v":0},{"$f":"IF(SUM(EI$3091:EI3387)>0,0,IF(MAX(EA3388:EA$4531)=MAX(EA$3091:EA$4531),0,IF(DY3388>0.01*DS$4532,0,$C3388/60)))","v":0},0,0,0,0,0,0,0,0,0,{"$error":"#N/A"},{"$error":"#N/A"},{"$error":"#N/A"},{"$error":"#N/A"},{"$error":"#N/A"},{"$error":"#N/A"},{"$f":"IF(SUM(EY$3091:EY3387)>0,0,IF(MAX(ER3388:ER$4531)=MAX(ER$3091:ER$4531),0,IF(EP3388>0.03*EJ$4532,0,$C3388/60)))","v":0},{"$f":"IF(SUM(EZ$3091:EZ3387)>0,0,IF(MAX(ER3388:ER$4531)=MAX(ER$3091:ER$4531),0,IF(EP3388>0.01*EJ$4532,0,$C3388/60)))","v":0}]
[null,25.5,1530,0,0,0,0,0,0,0,0,0,{"$error":"#N/A"},{"$error":"#N/A"},{"$error":"#N/A"},{"$error":"#N/A"},{"$error":"#N/A"},{"$error":"#N/A"},{"$f":"IF(SUM(S$3091:S3396)>0,0,\nIF(MAX(L3397:L$4531)=MAX(L$3091:L$4531),0,\nIF(Hydrograph_Source_WQCV=\"USER\",IF(J3397>0.03*D$4532,0,$C3397/60),\nIF(J3397>0.03*J$4532,0,$C3397/60))))","v":0},{"$f":"IF(SUM(T$3091:T3396)>0,0,\nIF(MAX(L3397:L$4531)=MAX(L$3091:L$4531),0,\nIF(Hydrograph_Source_WQCV=\"USER\",IF(J3397>0.01*D$4532,0,$C3397/60),\nIF(J3397>0.01*J$4532,0,$C3397/60))))","v":0},0,0,0,0,0,0,0,0,0,{"$error":"#N/A"},{"$error":"#N/A"},{"$error":"#N/A"},{"$error":"#N/A"},{"$error":"#N/A"},{"$error":"#N/A"},{"$f":"IF(SUM(AJ$3091:AJ3396)>0,0,\nIF(MAX(AC3397:AC$4531)=MAX(AC$3091:AC$4531),0,\nIF(Hydrograph_Source_EURV=\"USER\",IF(AA3397>0.03*U$4532,0,$C3397/60),\nIF(AA3397>0.03*AA$4532,0,$C3397/60))))","v":0},{"$f":"IF(SUM(AK$3091:AK3396)>0,0,\nIF(MAX(AC3397:AC$4531)=MAX(AC$3091:AC$4531),0,\nIF(Hydrograph_Source_EURV=\"USER\",IF(AA3397>0.01*U$4532,0,$C3397/60),\nIF(AA3397>0.01*AA$4532,0,$C3397/60))))","v":0},0,0,0,0,0,0,0,0,0,{"$error":"#N/A"},{"$error":"#N/A"},{"$error":"#N/A"},{"$error":"#N/A"},{"$error":"#N/A"},{"$error":"#N/A"},{"$f":"IF(SUM(BA$3091:BA3396)>0,0,IF(MAX(AT3397:AT$4531)=MAX(AT$3091:AT$4531),0,IF(AR3397>0.03*AL$4532,0,$C3397/60)))","v":0},{"$f":"IF(SUM(BB$3091:BB3396)>0,0,IF(MAX(AT3397:AT$4531)=MAX(AT$3091:AT$4531),0,IF(AR3397>0.01*AL$4532,0,$C3397/60)))","v":0},0,0,0,0,0,0,0,0,0,{"$error":"#N/A"},{"$error":"#N/A"},{"$error":"#N/A"},{"$error":"#N/A"},{"$error":"#N/A"},{"$error":"#N/A"},{"$f":"IF(SUM(BR$3091:BR3396)>0,0,IF(MAX(BK3397:BK$4531)=MAX(BK$3091:BK$4531),0,IF(BI3397>0.03*BC$4532,0,$C3397/60)))","v":0},{"$f":"IF(SUM(BS$3091:BS3396)>0,0,IF(MAX(BK3397:BK$4531)=MAX(BK$3091:BK$4531),0,IF(BI3397>0.01*BC$4532,0,$C3397/60)))","v":0},0,0,0,0,0,0,0,0,0,{"$error":"#N/A"},{"$error":"#N/A"},{"$error":"#N/A"},{"$error":"#N/A"},{"$error":"#N/A"},{"$error":"#N/A"},{"$f":"IF(SUM(CI$3091:CI3396)>0,0,IF(MAX(CB3397:CB$4531)=MAX(CB$3091:CB$4531),0,IF(BZ3397>0.03*BT$4532,0,$C3397/60)))","v":0},{"$f":"IF(SUM(CJ$3091:CJ3396)>0,0,IF(MAX(CB3397:CB$4531)=MAX(CB$3091:CB$4531),0,IF(BZ3397>0.01*BT$4532,0,$C3397/60)))","v":0},0,0,0,0,0,0,0,0,0,{"$error":"#N/A"},{"$error":"#N/A"},{"$error":"#N/A"},{"$error":"#N/A"},{"$error":"#N/A"},{"$error":"#N/A"},{"$f":"IF(SUM(CZ$3091:CZ3396)>0,0,IF(MAX(CS3397:CS$4531)=MAX(CS$3091:CS$4531),0,IF(CQ3397>0.03*CK$4532,0,$C3397/60)))","v":0},{"$f":"IF(SUM(DA$3091:DA3396)>0,0,IF(MAX(CS3397:CS$4531)=MAX(CS$3091:CS$4531),0,IF(CQ3397>0.01*CK$4532,0,$C3397/60)))","v":0},0,0,0,0,0,0,0,0,0,{"$error":"#N/A"},{"$error":"#N/A"},{"$error":"#N/A"},{"$error":"#N/A"},{"$error":"#N/A"},{"$error":"#N/A"},{"$f":"IF(SUM(DQ$3091:DQ3396)>0,0,IF(MAX(DJ3397:DJ$4531)=MAX(DJ$3091:DJ$4531),0,IF(DH3397>0.03*DB$4532,0,$C3397/60)))","v":0},{"$f":"IF(SUM(DR$3091:DR3396)>0,0,IF(MAX(DJ3397:DJ$4531)=MAX(DJ$3091:DJ$4531),0,IF(DH3397>0.01*DB$4532,0,$C3397/60)))","v":0},0,0,0,0,0,0,0,0,0,{"$error":"#N/A"},{"$error":"#N/A"},{"$error":"#N/A"},{"$error":"#N/A"},{"$error":"#N/A"},{"$error":"#N/A"},{"$f":"IF(SUM(EH$3091:EH3396)>0,0,IF(MAX(EA3397:EA$4531)=MAX(EA$3091:EA$4531),0,IF(DY3397>0.03*DS$4532,0,$C3397/60)))","v":0},{"$f":"IF(SUM(EI$3091:EI3396)>0,0,IF(MAX(EA3397:EA$4531)=MAX(EA$3091:EA$4531),0,IF(DY3397>0.01*DS$4532,0,$C3397/60)))","v":0},0,0,0,0,0,0,0,0,0,{"$error":"#N/A"},{"$error":"#N/A"},{"$error":"#N/A"},{"$error":"#N/A"},{"$error":"#N/A"},{"$error":"#N/A"},{"$f":"IF(SUM(EY$3091:EY3396)>0,0,IF(MAX(ER3397:ER$4531)=MAX(ER$3091:ER$4531),0,IF(EP3397>0.03*EJ$4532,0,$C3397/60)))","v":0},{"$f":"IF(SUM(EZ$3091:EZ3396)>0,0,IF(MAX(ER3397:ER$4531)=MAX(ER$3091:ER$4531),0,IF(EP3397>0.01*EJ$4532,0,$C3397/60)))","v":0}]
[null,26.25,1575,0,0,0,0,0,0,0,0,0,{"$error":"#N/A"},{"$error":"#N/A"},{"$error":"#N/A"},{"$error":"#N/A"},{"$error":"#N/A"},{"$error":"#N/A"},{"$f":"IF(SUM(S$3091:S3405)>0,0,\nIF(MAX(L3406:L$4531)=MAX(L$3091:L$4531),0,\nIF(Hydrograph_Source_WQCV=\"USER\",IF(J3406>0.03*D$4532,0,$C3406/60),\nIF(J3406>0.03*J$4532,0,$C3406/60))))","v":0},{"$f":"IF(SUM(T$3091:T3405)>0,0,\nIF(MAX(L3406:L$4531)=MAX(L$3091:L$4531),0,\nIF(Hydrograph_Source_WQCV=\"USER\",IF(J3406>0.01*D$4532,0,$C3406/60),\nIF(J3406>0.01*J$4532,0,$C3406/60))))","v":0},0,0,0,0,0,0,0,0,0,{"$error":"#N/A"},{"$error":"#N/A"},{"$error":"#N/A"},{"$error":"#N/A"},{"$error":"#N/A"},{"$error":"#N/A"},{"$f":"IF(SUM(AJ$3091:AJ3405)>0,0,\nIF(MAX(AC3406:AC$4531)=MAX(AC$3091:AC$4531),0,\nIF(Hydrograph_Source_EURV=\"USER\",IF(AA3406>0.03*U$4532,0,$C3406/60),\nIF(AA3406>0.03*AA$4532,0,$C3406/60))))","v":0},{"$f":"IF(SUM(AK$3091:AK3405)>0,0,\nIF(MAX(AC3406:AC$4531)=MAX(AC$3091:AC$4531),0,\nIF(Hydrograph_Source_EURV=\"USER\",IF(AA3406>0.01*U$4532,0,$C3406/60),\nIF(AA3406>0.01*AA$4532,0,$C3406/60))))","v":0},0,0,0,0,0,0,0,0,0,{"$error":"#N/A"},{"$error":"#N/A"},{"$error":"#N/A"},{"$error":"#N/A"},{"$error":"#N/A"},{"$error":"#N/A"},{"$f":"IF(SUM(BA$3091:BA3405)>0,0,IF(MAX(AT3406:AT$4531)=MAX(AT$3091:AT$4531),0,IF(AR3406>0.03*AL$4532,0,$C3406/60)))","v":0},{"$f":"IF(SUM(BB$3091:BB3405)>0,0,IF(MAX(AT3406:AT$4531)=MAX(AT$3091:AT$4531),0,IF(AR3406>0.01*AL$4532,0,$C3406/60)))","v":0},0,0,0,0,0,0,0,0,0,{"$error":"#N/A"},{"$error":"#N/A"},{"$error":"#N/A"},{"$error":"#N/A"},{"$error":"#N/A"},{"$error":"#N/A"},{"$f":"IF(SUM(BR$3091:BR3405)>0,0,IF(MAX(BK3406:BK$4531)=MAX(BK$3091:BK$4531),0,IF(BI3406>0.03*BC$4532,0,$C3406/60)))","v":0},{"$f":"IF(SUM(BS$3091:BS3405)>0,0,IF(MAX(BK3406:BK$4531)=MAX(BK$3091:BK$4531),0,IF(BI3406>0.01*BC$4532,0,$C3406/60)))","v":0},0,0,0,0,0,0,0,0,0,{"$error":"#N/A"},{"$error":"#N/A"},{"$error":"#N/A"},{"$error":"#N/A"},{"$error":"#N/A"},{"$error":"#N/A"},{"$f":"IF(SUM(CI$3091:CI3405)>0,0,IF(MAX(CB3406:CB$4531)=MAX(CB$3091:CB$4531),0,IF(BZ3406>0.03*BT$4532,0,$C3406/60)))","v":0},{"$f":"IF(SUM(CJ$3091:CJ3405)>0,0,IF(MAX(CB3406:CB$4531)=MAX(CB$3091:CB$4531),0,IF(BZ3406>0.01*BT$4532,0,$C3406/60)))","v":0},0,0,0,0,0,0,0,0,0,{"$error":"#N/A"},{"$error":"#N/A"},{"$error":"#N/A"},{"$error":"#N/A"},{"$error":"#N/A"},{"$error":"#N/A"},{"$f":"IF(SUM(CZ$3091:CZ3405)>0,0,IF(MAX(CS3406:CS$4531)=MAX(CS$3091:CS$4531),0,IF(CQ3406>0.03*CK$4532,0,$C3406/60)))","v":0},{"$f":"IF(SUM(DA$3091:DA3405)>0,0,IF(MAX(CS3406:CS$4531)=MAX(CS$3091:CS$4531),0,IF(CQ3406>0.01*CK$4532,0,$C3406/60)))","v":0},0,0,0,0,0,0,0,0,0,{"$error":"#N/A"},{"$error":"#N/A"},{"$error":"#N/A"},{"$error":"#N/A"},{"$error":"#N/A"},{"$error":"#N/A"},{"$f":"IF(SUM(DQ$3091:DQ3405)>0,0,IF(MAX(DJ3406:DJ$4531)=MAX(DJ$3091:DJ$4531),0,IF(DH3406>0.03*DB$4532,0,$C3406/60)))","v":0},{"$f":"IF(SUM(DR$3091:DR3405)>0,0,IF(MAX(DJ3406:DJ$4531)=MAX(DJ$3091:DJ$4531),0,IF(DH3406>0.01*DB$4532,0,$C3406/60)))","v":0},0,0,0,0,0,0,0,0,0,{"$error":"#N/A"},{"$error":"#N/A"},{"$error":"#N/A"},{"$error":"#N/A"},{"$error":"#N/A"},{"$error":"#N/A"},{"$f":"IF(SUM(EH$3091:EH3405)>0,0,IF(MAX(EA3406:EA$4531)=MAX(EA$3091:EA$4531),0,IF(DY3406>0.03*DS$4532,0,$C3406/60)))","v":0},{"$f":"IF(SUM(EI$3091:EI3405)>0,0,IF(MAX(EA3406:EA$4531)=MAX(EA$3091:EA$4531),0,IF(DY3406>0.01*DS$4532,0,$C3406/60)))","v":0},0,0,0,0,0,0,0,0,0,{"$error":"#N/A"},{"$error":"#N/A"},{"$error":"#N/A"},{"$error":"#N/A"},{"$error":"#N/A"},{"$error":"#N/A"},{"$f":"IF(SUM(EY$3091:EY3405)>0,0,IF(MAX(ER3406:ER$4531)=MAX(ER$3091:ER$4531),0,IF(EP3406>0.03*EJ$4532,0,$C3406/60)))","v":0},{"$f":"IF(SUM(EZ$3091:EZ3405)>0,0,IF(MAX(ER3406:ER$4531)=MAX(ER$3091:ER$4531),0,IF(EP3406>0.01*EJ$4532,0,$C3406/60)))","v":0}]
[null,27,1620,0,0,0,0,0,0,0,0,0,{"$error":"#N/A"},{"$error":"#N/A"},{"$error":"#N/A"},{"$error":"#N/A"},{"$error":"#N/A"},{"$error":"#N/A"},{"$f":"IF(SUM(S$3091:S3414)>0,0,\nIF(MAX(L3415:L$4531)=MAX(L$3091:L$4531),0,\nIF(Hydrograph_Source_WQCV=\"USER\",IF(J3415>0.03*D$4532,0,$C3415/60),\nIF(J3415>0.03*J$4532,0,$C3415/60))))","v":0},{"$f":"IF(SUM(T$3091:T3414)>0,0,\nIF(MAX(L3415:L$4531)=MAX(L$3091:L$4531),0,\nIF(Hydrograph_Source_WQCV=\"USER\",IF(J3415>0.01*D$4532,0,$C3415/60),\nIF(J3415>0.01*J$4532,0,$C3415/60))))","v":0},0,0,0,0,0,0,0,0,0,{"$error":"#N/A"},{"$error":"#N/A"},{"$error":"#N/A"},{"$error":"#N/A"},{"$error":"#N/A"},{"$error":"#N/A"},{"$f":"IF(SUM(AJ$3091:AJ3414)>0,0,\nIF(MAX(AC3415:AC$4531)=MAX(AC$3091:AC$4531),0,\nIF(Hydrograph_Source_EURV=\"USER\",IF(AA3415>0.03*U$4532,0,$C3415/60),\nIF(AA3415>0.03*AA$4532,0,$C3415/60))))","v":0},{"$f":"IF(SUM(AK$3091:AK3414)>0,0,\nIF(MAX(AC3415:AC$4531)=MAX(AC$3091:AC$4531),0,\nIF(Hydrograph_Source_EURV=\"USER\",IF(AA3415>0.01*U$4532,0,$C3415/60),\nIF(AA3415>0.01*AA$4532,0,$C3415/60))))","v":0},0,0,0,0,0,0,0,0,0,{"$error":"#N/A"},{"$error":"#N/A"},{"$error":"#N/A"},{"$error":"#N/A"},{"$error":"#N/A"},{"$error":"#N/A"},{"$f":"IF(SUM(BA$3091:BA3414)>0,0,IF(MAX(AT3415:AT$4531)=MAX(AT$3091:AT$4531),0,IF(AR3415>0.03*AL$4532,0,$C3415/60)))","v":0},{"$f":"IF(SUM(BB$3091:BB3414)>0,0,IF(MAX(AT3415:AT$4531)=MAX(AT$3091:AT$4531),0,IF(AR3415>0.01*AL$4532,0,$C3415/60)))","v":0},0,0,0,0,0,0,0,0,0,{"$error":"#N/A"},{"$error":"#N/A"},{"$error":"#N/A"},{"$error":"#N/A"},{"$error":"#N/A"},{"$error":"#N/A"},{"$f":"IF(SUM(BR$3091:BR3414)>0,0,IF(MAX(BK3415:BK$4531)=MAX(BK$3091:BK$4531),0,IF(BI3415>0.03*BC$4532,0,$C3415/60)))","v":0},{"$f":"IF(SUM(BS$3091:BS3414)>0,0,IF(MAX(BK3415:BK$4531)=MAX(BK$3091:BK$4531),0,IF(BI3415>0.01*BC$4532,0,$C3415/60)))","v":0},0,0,0,0,0,0,0,0,0,{"$error":"#N/A"},{"$error":"#N/A"},{"$error":"#N/A"},{"$error":"#N/A"},{"$error":"#N/A"},{"$error":"#N/A"},{"$f":"IF(SUM(CI$3091:CI3414)>0,0,IF(MAX(CB3415:CB$4531)=MAX(CB$3091:CB$4531),0,IF(BZ3415>0.03*BT$4532,0,$C3415/60)))","v":0},{"$f":"IF(SUM(CJ$3091:CJ3414)>0,0,IF(MAX(CB3415:CB$4531)=MAX(CB$3091:CB$4531),0,IF(BZ3415>0.01*BT$4532,0,$C3415/60)))","v":0},0,0,0,0,0,0,0,0,0,{"$error":"#N/A"},{"$error":"#N/A"},{"$error":"#N/A"},{"$error":"#N/A"},{"$error":"#N/A"},{"$error":"#N/A"},{"$f":"IF(SUM(CZ$3091:CZ3414)>0,0,IF(MAX(CS3415:CS$4531)=MAX(CS$3091:CS$4531),0,IF(CQ3415>0.03*CK$4532,0,$C3415/60)))","v":0},{"$f":"IF(SUM(DA$3091:DA3414)>0,0,IF(MAX(CS3415:CS$4531)=MAX(CS$3091:CS$4531),0,IF(CQ3415>0.01*CK$4532,0,$C3415/60)))","v":0},0,0,0,0,0,0,0,0,0,{"$error":"#N/A"},{"$error":"#N/A"},{"$error":"#N/A"},{"$error":"#N/A"},{"$error":"#N/A"},{"$error":"#N/A"},{"$f":"IF(SUM(DQ$3091:DQ3414)>0,0,IF(MAX(DJ3415:DJ$4531)=MAX(DJ$3091:DJ$4531),0,IF(DH3415>0.03*DB$4532,0,$C3415/60)))","v":0},{"$f":"IF(SUM(DR$3091:DR3414)>0,0,IF(MAX(DJ3415:DJ$4531)=MAX(DJ$3091:DJ$4531),0,IF(DH3415>0.01*DB$4532,0,$C3415/60)))","v":0},0,0,0,0,0,0,0,0,0,{"$error":"#N/A"},{"$error":"#N/A"},{"$error":"#N/A"},{"$error":"#N/A"},{"$error":"#N/A"},{"$error":"#N/A"},{"$f":"IF(SUM(EH$3091:EH3414)>0,0,IF(MAX(EA3415:EA$4531)=MAX(EA$3091:EA$4531),0,IF(DY3415>0.03*DS$4532,0,$C3415/60)))","v":0},{"$f":"IF(SUM(EI$3091:EI3414)>0,0,IF(MAX(EA3415:EA$4531)=MAX(EA$3091:EA$4531),0,IF(DY3415>0.01*DS$4532,0,$C3415/60)))","v":0},0,0,0,0,0,0,0,0,0,{"$error":"#N/A"},{"$error":"#N/A"},{"$error":"#N/A"},{"$error":"#N/A"},{"$error":"#N/A"},{"$error":"#N/A"},{"$f":"IF(SUM(EY$3091:EY3414)>0,0,IF(MAX(ER3415:ER$4531)=MAX(ER$3091:ER$4531),0,IF(EP3415>0.03*EJ$4532,0,$C3415/60)))","v":0},{"$f":"IF(SUM(EZ$3091:EZ3414)>0,0,IF(MAX(ER3415:ER$4531)=MAX(ER$3091:ER$4531),0,IF(EP3415>0.01*EJ$4532,0,$C3415/60)))","v":0}]
[null,27.75,1665,0,0,0,0,0,0,0,0,0,{"$error":"#N/A"},{"$error":"#N/A"},{"$error":"#N/A"},{"$error":"#N/A"},{"$error":"#N/A"},{"$error":"#N/A"},{"$f":"IF(SUM(S$3091:S3423)>0,0,\nIF(MAX(L3424:L$4531)=MAX(L$3091:L$4531),0,\nIF(Hydrograph_Source_WQCV=\"USER\",IF(J3424>0.03*D$4532,0,$C3424/60),\nIF(J3424>0.03*J$4532,0,$C3424/60))))","v":0},{"$f":"IF(SUM(T$3091:T3423)>0,0,\nIF(MAX(L3424:L$4531)=MAX(L$3091:L$4531),0,\nIF(Hydrograph_Source_WQCV=\"USER\",IF(J3424>0.01*D$4532,0,$C3424/60),\nIF(J3424>0.01*J$4532,0,$C3424/60))))","v":0},0,0,0,0,0,0,0,0,0,{"$error":"#N/A"},{"$error":"#N/A"},{"$error":"#N/A"},{"$error":"#N/A"},{"$error":"#N/A"},{"$error":"#N/A"},{"$f":"IF(SUM(AJ$3091:AJ3423)>0,0,\nIF(MAX(AC3424:AC$4531)=MAX(AC$3091:AC$4531),0,\nIF(Hydrograph_Source_EURV=\"USER\",IF(AA3424>0.03*U$4532,0,$C3424/60),\nIF(AA3424>0.03*AA$4532,0,$C3424/60))))","v":0},{"$f":"IF(SUM(AK$3091:AK3423)>0,0,\nIF(MAX(AC3424:AC$4531)=MAX(AC$3091:AC$4531),0,\nIF(Hydrograph_Source_EURV=\"USER\",IF(AA3424>0.01*U$4532,0,$C3424/60),\nIF(AA3424>0.01*AA$4532,0,$C3424/60))))","v":0},0,0,0,0,0,0,0,0,0,{"$error":"#N/A"},{"$error":"#N/A"},{"$error":"#N/A"},{"$error":"#N/A"},{"$error":"#N/A"},{"$error":"#N/A"},{"$f":"IF(SUM(BA$3091:BA3423)>0,0,IF(MAX(AT3424:AT$4531)=MAX(AT$3091:AT$4531),0,IF(AR3424>0.03*AL$4532,0,$C3424/60)))","v":0},{"$f":"IF(SUM(BB$3091:BB3423)>0,0,IF(MAX(AT3424:AT$4531)=MAX(AT$3091:AT$4531),0,IF(AR3424>0.01*AL$4532,0,$C3424/60)))","v":0},0,0,0,0,0,0,0,0,0,{"$error":"#N/A"},{"$error":"#N/A"},{"$error":"#N/A"},{"$error":"#N/A"},{"$error":"#N/A"},{"$error":"#N/A"},{"$f":"IF(SUM(BR$3091:BR3423)>0,0,IF(MAX(BK3424:BK$4531)=MAX(BK$3091:BK$4531),0,IF(BI3424>0.03*BC$4532,0,$C3424/60)))","v":0},{"$f":"IF(SUM(BS$3091:BS3423)>0,0,IF(MAX(BK3424:BK$4531)=MAX(BK$3091:BK$4531),0,IF(BI3424>0.01*BC$4532,0,$C3424/60)))","v":0},0,0,0,0,0,0,0,0,0,{"$error":"#N/A"},{"$error":"#N/A"},{"$error":"#N/A"},{"$error":"#N/A"},{"$error":"#N/A"},{"$error":"#N/A"},{"$f":"IF(SUM(CI$3091:CI3423)>0,0,IF(MAX(CB3424:CB$4531)=MAX(CB$3091:CB$4531),0,IF(BZ3424>0.03*BT$4532,0,$C3424/60)))","v":0},{"$f":"IF(SUM(CJ$3091:CJ3423)>0,0,IF(MAX(CB3424:CB$4531)=MAX(CB$3091:CB$4531),0,IF(BZ3424>0.01*BT$4532,0,$C3424/60)))","v":0},0,0,0,0,0,0,0,0,0,{"$error":"#N/A"},{"$error":"#N/A"},{"$error":"#N/A"},{"$error":"#N/A"},{"$error":"#N/A"},{"$error":"#N/A"},{"$f":"IF(SUM(CZ$3091:CZ3423)>0,0,IF(MAX(CS3424:CS$4531)=MAX(CS$3091:CS$4531),0,IF(CQ3424>0.03*CK$4532,0,$C3424/60)))","v":0},{"$f":"IF(SUM(DA$3091:DA3423)>0,0,IF(MAX(CS3424:CS$4531)=MAX(CS$3091:CS$4531),0,IF(CQ3424>0.01*CK$4532,0,$C3424/60)))","v":0},0,0,0,0,0,0,0,0,0,{"$error":"#N/A"},{"$error":"#N/A"},{"$error":"#N/A"},{"$error":"#N/A"},{"$error":"#N/A"},{"$error":"#N/A"},{"$f":"IF(SUM(DQ$3091:DQ3423)>0,0,IF(MAX(DJ3424:DJ$4531)=MAX(DJ$3091:DJ$4531),0,IF(DH3424>0.03*DB$4532,0,$C3424/60)))","v":0},{"$f":"IF(SUM(DR$3091:DR3423)>0,0,IF(MAX(DJ3424:DJ$4531)=MAX(DJ$3091:DJ$4531),0,IF(DH3424>0.01*DB$4532,0,$C3424/60)))","v":0},0,0,0,0,0,0,0,0,0,{"$error":"#N/A"},{"$error":"#N/A"},{"$error":"#N/A"},{"$error":"#N/A"},{"$error":"#N/A"},{"$error":"#N/A"},{"$f":"IF(SUM(EH$3091:EH3423)>0,0,IF(MAX(EA3424:EA$4531)=MAX(EA$3091:EA$4531),0,IF(DY3424>0.03*DS$4532,0,$C3424/60)))","v":0},{"$f":"IF(SUM(EI$3091:EI3423)>0,0,IF(MAX(EA3424:EA$4531)=MAX(EA$3091:EA$4531),0,IF(DY3424>0.01*DS$4532,0,$C3424/60)))","v":0},0,0,0,0,0,0,0,0,0,{"$error":"#N/A"},{"$error":"#N/A"},{"$error":"#N/A"},{"$error":"#N/A"},{"$error":"#N/A"},{"$error":"#N/A"},{"$f":"IF(SUM(EY$3091:EY3423)>0,0,IF(MAX(ER3424:ER$4531)=MAX(ER$3091:ER$4531),0,IF(EP3424>0.03*EJ$4532,0,$C3424/60)))","v":0},{"$f":"IF(SUM(EZ$3091:EZ3423)>0,0,IF(MAX(ER3424:ER$4531)=MAX(ER$3091:ER$4531),0,IF(EP3424>0.01*EJ$4532,0,$C3424/60)))","v":0}]
[null,27.833333333333332,1670,0,0,0,0,0,0,0,0,0,{"$error":"#N/A"},{"$error":"#N/A"},{"$error":"#N/A"},{"$error":"#N/A"},{"$error":"#N/A"},{"$error":"#N/A"},{"$f":"IF(SUM(S$3091:S3424)>0,0,\nIF(MAX(L3425:L$4531)=MAX(L$3091:L$4531),0,\nIF(Hydrograph_Source_WQCV=\"USER\",IF(J3425>0.03*D$4532,0,$C3425/60),\nIF(J3425>0.03*J$4532,0,$C3425/60))))","v":0},{"$f":"IF(SUM(T$3091:T3424)>0,0,\nIF(MAX(L3425:L$4531)=MAX(L$3091:L$4531),0,\nIF(Hydrograph_Source_WQCV=\"USER\",IF(J3425>0.01*D$4532,0,$C3425/60),\nIF(J3425>0.01*J$4532,0,$C3425/60))))","v":0},0,0,0,0,0,0,0,0,0,{"$error":"#N/A"},{"$error":"#N/A"},{"$error":"#N/A"},{"$error":"#N/A"},{"$error":"#N/A"},{"$error":"#N/A"},{"$f":"IF(SUM(AJ$3091:AJ3424)>0,0,\nIF(MAX(AC3425:AC$4531)=MAX(AC$3091:AC$4531),0,\nIF(Hydrograph_Source_EURV=\"USER\",IF(AA3425>0.03*U$4532,0,$C3425/60),\nIF(AA3425>0.03*AA$4532,0,$C3425/60))))","v":0},{"$f":"IF(SUM(AK$3091:AK3424)>0,0,\nIF(MAX(AC3425:AC$4531)=MAX(AC$3091:AC$4531),0,\nIF(Hydrograph_Source_EURV=\"USER\",IF(AA3425>0.01*U$4532,0,$C3425/60),\nIF(AA3425>0.01*AA$4532,0,$C3425/60))))","v":0},0,0,0,0,0,0,0,0,0,{"$error":"#N/A"},{"$error":"#N/A"},{"$error":"#N/A"},{"$error":"#N/A"},{"$error":"#N/A"},{"$error":"#N/A"},{"$f":"IF(SUM(BA$3091:BA3424)>0,0,IF(MAX(AT3425:AT$4531)=MAX(AT$3091:AT$4531),0,IF(AR3425>0.03*AL$4532,0,$C3425/60)))","v":0},{"$f":"IF(SUM(BB$3091:BB3424)>0,0,IF(MAX(AT3425:AT$4531)=MAX(AT$3091:AT$4531),0,IF(AR3425>0.01*AL$4532,0,$C3425/60)))","v":0},0,0,0,0,0,0,0,0,0,{"$error":"#N/A"},{"$error":"#N/A"},{"$error":"#N/A"},{"$error":"#N/A"},{"$error":"#N/A"},{"$error":"#N/A"},{"$f":"IF(SUM(BR$3091:BR3424)>0,0,IF(MAX(BK3425:BK$4531)=MAX(BK$3091:BK$4531),0,IF(BI3425>0.03*BC$4532,0,$C3425/60)))","v":0},{"$f":"IF(SUM(BS$3091:BS3424)>0,0,IF(MAX(BK3425:BK$4531)=MAX(BK$3091:BK$4531),0,IF(BI3425>0.01*BC$4532,0,$C3425/60)))","v":0},0,0,0,0,0,0,0,0,0,{"$error":"#N/A"},{"$error":"#N/A"},{"$error":"#N/A"},{"$error":"#N/A"},{"$error":"#N/A"},{"$error":"#N/A"},{"$f":"IF(SUM(CI$3091:CI3424)>0,0,IF(MAX(CB3425:CB$4531)=MAX(CB$3091:CB$4531),0,IF(BZ3425>0.03*BT$4532,0,$C3425/60)))","v":0},{"$f":"IF(SUM(CJ$3091:CJ3424)>0,0,IF(MAX(CB3425:CB$4531)=MAX(CB$3091:CB$4531),0,IF(BZ3425>0.01*BT$4532,0,$C3425/60)))","v":0},0,0,0,0,0,0,0,0,0,{"$error":"#N/A"},{"$error":"#N/A"},{"$error":"#N/A"},{"$error":"#N/A"},{"$error":"#N/A"},{"$error":"#N/A"},{"$f":"IF(SUM(CZ$3091:CZ3424)>0,0,IF(MAX(CS3425:CS$4531)=MAX(CS$3091:CS$4531),0,IF(CQ3425>0.03*CK$4532,0,$C3425/60)))","v":0},{"$f":"IF(SUM(DA$3091:DA3424)>0,0,IF(MAX(CS3425:CS$4531)=MAX(CS$3091:CS$4531),0,IF(CQ3425>0.01*CK$4532,0,$C3425/60)))","v":0},0,0,0,0,0,0,0,0,0,{"$error":"#N/A"},{"$error":"#N/A"},{"$error":"#N/A"},{"$error":"#N/A"},{"$error":"#N/A"},{"$error":"#N/A"},{"$f":"IF(SUM(DQ$3091:DQ3424)>0,0,IF(MAX(DJ3425:DJ$4531)=MAX(DJ$3091:DJ$4531),0,IF(DH3425>0.03*DB$4532,0,$C3425/60)))","v":0},{"$f":"IF(SUM(DR$3091:DR3424)>0,0,IF(MAX(DJ3425:DJ$4531)=MAX(DJ$3091:DJ$4531),0,IF(DH3425>0.01*DB$4532,0,$C3425/60)))","v":0},0,0,0,0,0,0,0,0,0,{"$error":"#N/A"},{"$error":"#N/A"},{"$error":"#N/A"},{"$error":"#N/A"},{"$error":"#N/A"},{"$error":"#N/A"},{"$f":"IF(SUM(EH$3091:EH3424)>0,0,IF(MAX(EA3425:EA$4531)=MAX(EA$3091:EA$4531),0,IF(DY3425>0.03*DS$4532,0,$C3425/60)))","v":0},{"$f":"IF(SUM(EI$3091:EI3424)>0,0,IF(MAX(EA3425:EA$4531)=MAX(EA$3091:EA$4531),0,IF(DY3425>0.01*DS$4532,0,$C3425/60)))","v":0},0,0,0,0,0,0,0,0,0,{"$error":"#N/A"},{"$error":"#N/A"},{"$error":"#N/A"},{"$error":"#N/A"},{"$error":"#N/A"},{"$error":"#N/A"},{"$f":"IF(SUM(EY$3091:EY3424)>0,0,IF(MAX(ER3425:ER$4531)=MAX(ER$3091:ER$4531),0,IF(EP3425>0.03*EJ$4532,0,$C3425/60)))","v":0},{"$f":"IF(SUM(EZ$3091:EZ3424)>0,0,IF(MAX(ER3425:ER$4531)=MAX(ER$3091:ER$4531),0,IF(EP3425>0.01*EJ$4532,0,$C3425/60)))","v":0}]
[null,28.583333333333332,1715,0,0,0,0,0,0,0,0,0,{"$error":"#N/A"},{"$error":"#N/A"},{"$error":"#N/A"},{"$error":"#N/A"},{"$error":"#N/A"},{"$error":"#N/A"},{"$f":"IF(SUM(S$3091:S3433)>0,0,\nIF(MAX(L3434:L$4531)=MAX(L$3091:L$4531),0,\nIF(Hydrograph_Source_WQCV=\"USER\",IF(J3434>0.03*D$4532,0,$C3434/60),\nIF(J3434>0.03*J$4532,0,$C3434/60))))","v":0},{"$f":"IF(SUM(T$3091:T3433)>0,0,\nIF(MAX(L3434:L$4531)=MAX(L$3091:L$4531),0,\nIF(Hydrograph_Source_WQCV=\"USER\",IF(J3434>0.01*D$4532,0,$C3434/60),\nIF(J3434>0.01*J$4532,0,$C3434/60))))","v":0},0,0,0,0,0,0,0,0,0,{"$error":"#N/A"},{"$error":"#N/A"},{"$error":"#N/A"},{"$error":"#N/A"},{"$error":"#N/A"},{"$error":"#N/A"},{"$f":"IF(SUM(AJ$3091:AJ3433)>0,0,\nIF(MAX(AC3434:AC$4531)=MAX(AC$3091:AC$4531),0,\nIF(Hydrograph_Source_EURV=\"USER\",IF(AA3434>0.03*U$4532,0,$C3434/60),\nIF(AA3434>0.03*AA$4532,0,$C3434/60))))","v":0},{"$f":"IF(SUM(AK$3091:AK3433)>0,0,\nIF(MAX(AC3434:AC$4531)=MAX(AC$3091:AC$4531),0,\nIF(Hydrograph_Source_EURV=\"USER\",IF(AA3434>0.01*U$4532,0,$C3434/60),\nIF(AA3434>0.01*AA$4532,0,$C3434/60))))","v":0},0,0,0,0,0,0,0,0,0,{"$error":"#N/A"},{"$error":"#N/A"},{"$error":"#N/A"},{"$error":"#N/A"},{"$error":"#N/A"},{"$error":"#N/A"},{"$f":"IF(SUM(BA$3091:BA3433)>0,0,IF(MAX(AT3434:AT$4531)=MAX(AT$3091:AT$4531),0,IF(AR3434>0.03*AL$4532,0,$C3434/60)))","v":0},{"$f":"IF(SUM(BB$3091:BB3433)>0,0,IF(MAX(AT3434:AT$4531)=MAX(AT$3091:AT$4531),0,IF(AR3434>0.01*AL$4532,0,$C3434/60)))","v":0},0,0,0,0,0,0,0,0,0,{"$error":"#N/A"},{"$error":"#N/A"},{"$error":"#N/A"},{"$error":"#N/A"},{"$error":"#N/A"},{"$error":"#N/A"},{"$f":"IF(SUM(BR$3091:BR3433)>0,0,IF(MAX(BK3434:BK$4531)=MAX(BK$3091:BK$4531),0,IF(BI3434>0.03*BC$4532,0,$C3434/60)))","v":0},{"$f":"IF(SUM(BS$3091:BS3433)>0,0,IF(MAX(BK3434:BK$4531)=MAX(BK$3091:BK$4531),0,IF(BI3434>0.01*BC$4532,0,$C3434/60)))","v":0},0,0,0,0,0,0,0,0,0,{"$error":"#N/A"},{"$error":"#N/A"},{"$error":"#N/A"},{"$error":"#N/A"},{"$error":"#N/A"},{"$error":"#N/A"},{"$f":"IF(SUM(CI$3091:CI3433)>0,0,IF(MAX(CB3434:CB$4531)=MAX(CB$3091:CB$4531),0,IF(BZ3434>0.03*BT$4532,0,$C3434/60)))","v":0},{"$f":"IF(SUM(CJ$3091:CJ3433)>0,0,IF(MAX(CB3434:CB$4531)=MAX(CB$3091:CB$4531),0,IF(BZ3434>0.01*BT$4532,0,$C3434/60)))","v":0},0,0,0,0,0,0,0,0,0,{"$error":"#N/A"},{"$error":"#N/A"},{"$error":"#N/A"},{"$error":"#N/A"},{"$error":"#N/A"},{"$error":"#N/A"},{"$f":"IF(SUM(CZ$3091:CZ3433)>0,0,IF(MAX(CS3434:CS$4531)=MAX(CS$3091:CS$4531),0,IF(CQ3434>0.03*CK$4532,0,$C3434/60)))","v":0},{"$f":"IF(SUM(DA$3091:DA3433)>0,0,IF(MAX(CS3434:CS$4531)=MAX(CS$3091:CS$4531),0,IF(CQ3434>0.01*CK$4532,0,$C3434/60)))","v":0},0,0,0,0,0,0,0,0,0,{"$error":"#N/A"},{"$error":"#N/A"},{"$error":"#N/A"},{"$error":"#N/A"},{"$error":"#N/A"},{"$error":"#N/A"},{"$f":"IF(SUM(DQ$3091:DQ3433)>0,0,IF(MAX(DJ3434:DJ$4531)=MAX(DJ$3091:DJ$4531),0,IF(DH3434>0.03*DB$4532,0,$C3434/60)))","v":0},{"$f":"IF(SUM(DR$3091:DR3433)>0,0,IF(MAX(DJ3434:DJ$4531)=MAX(DJ$3091:DJ$4531),0,IF(DH3434>0.01*DB$4532,0,$C3434/60)))","v":0},0,0,0,0,0,0,0,0,0,{"$error":"#N/A"},{"$error":"#N/A"},{"$error":"#N/A"},{"$error":"#N/A"},{"$error":"#N/A"},{"$error":"#N/A"},{"$f":"IF(SUM(EH$3091:EH3433)>0,0,IF(MAX(EA3434:EA$4531)=MAX(EA$3091:EA$4531),0,IF(DY3434>0.03*DS$4532,0,$C3434/60)))","v":0},{"$f":"IF(SUM(EI$3091:EI3433)>0,0,IF(MAX(EA3434:EA$4531)=MAX(EA$3091:EA$4531),0,IF(DY3434>0.01*DS$4532,0,$C3434/60)))","v":0},0,0,0,0,0,0,0,0,0,{"$error":"#N/A"},{"$error":"#N/A"},{"$error":"#N/A"},{"$error":"#N/A"},{"$error":"#N/A"},{"$error":"#N/A"},{"$f":"IF(SUM(EY$3091:EY3433)>0,0,IF(MAX(ER3434:ER$4531)=MAX(ER$3091:ER$4531),0,IF(EP3434>0.03*EJ$4532,0,$C3434/60)))","v":0},{"$f":"IF(SUM(EZ$3091:EZ3433)>0,0,IF(MAX(ER3434:ER$4531)=MAX(ER$3091:ER$4531),0,IF(EP3434>0.01*EJ$4532,0,$C3434/60)))","v":0}]
[null,29.333333333333332,1760,0,0,0,0,0,0,0,0,0,{"$error":"#N/A"},{"$error":"#N/A"},{"$error":"#N/A"},{"$error":"#N/A"},{"$error":"#N/A"},{"$error":"#N/A"},{"$f":"IF(SUM(S$3091:S3442)>0,0,\nIF(MAX(L3443:L$4531)=MAX(L$3091:L$4531),0,\nIF(Hydrograph_Source_WQCV=\"USER\",IF(J3443>0.03*D$4532,0,$C3443/60),\nIF(J3443>0.03*J$4532,0,$C3443/60))))","v":0},{"$f":"IF(SUM(T$3091:T3442)>0,0,\nIF(MAX(L3443:L$4531)=MAX(L$3091:L$4531),0,\nIF(Hydrograph_Source_WQCV=\"USER\",IF(J3443>0.01*D$4532,0,$C3443/60),\nIF(J3443>0.01*J$4532,0,$C3443/60))))","v":0},0,0,0,0,0,0,0,0,0,{"$error":"#N/A"},{"$error":"#N/A"},{"$error":"#N/A"},{"$error":"#N/A"},{"$error":"#N/A"},{"$error":"#N/A"},{"$f":"IF(SUM(AJ$3091:AJ3442)>0,0,\nIF(MAX(AC3443:AC$4531)=MAX(AC$3091:AC$4531),0,\nIF(Hydrograph_Source_EURV=\"USER\",IF(AA3443>0.03*U$4532,0,$C3443/60),\nIF(AA3443>0.03*AA$4532,0,$C3443/60))))","v":0},{"$f":"IF(SUM(AK$3091:AK3442)>0,0,\nIF(MAX(AC3443:AC$4531)=MAX(AC$3091:AC$4531),0,\nIF(Hydrograph_Source_EURV=\"USER\",IF(AA3443>0.01*U$4532,0,$C3443/60),\nIF(AA3443>0.01*AA$4532,0,$C3443/60))))","v":0},0,0,0,0,0,0,0,0,0,{"$error":"#N/A"},{"$error":"#N/A"},{"$error":"#N/A"},{"$error":"#N/A"},{"$error":"#N/A"},{"$error":"#N/A"},{"$f":"IF(SUM(BA$3091:BA3442)>0,0,IF(MAX(AT3443:AT$4531)=MAX(AT$3091:AT$4531),0,IF(AR3443>0.03*AL$4532,0,$C3443/60)))","v":0},{"$f":"IF(SUM(BB$3091:BB3442)>0,0,IF(MAX(AT3443:AT$4531)=MAX(AT$3091:AT$4531),0,IF(AR3443>0.01*AL$4532,0,$C3443/60)))","v":0},0,0,0,0,0,0,0,0,0,{"$error":"#N/A"},{"$error":"#N/A"},{"$error":"#N/A"},{"$error":"#N/A"},{"$error":"#N/A"},{"$error":"#N/A"},{"$f":"IF(SUM(BR$3091:BR3442)>0,0,IF(MAX(BK3443:BK$4531)=MAX(BK$3091:BK$4531),0,IF(BI3443>0.03*BC$4532,0,$C3443/60)))","v":0},{"$f":"IF(SUM(BS$3091:BS3442)>0,0,IF(MAX(BK3443:BK$4531)=MAX(BK$3091:BK$4531),0,IF(BI3443>0.01*BC$4532,0,$C3443/60)))","v":0},0,0,0,0,0,0,0,0,0,{"$error":"#N/A"},{"$error":"#N/A"},{"$error":"#N/A"},{"$error":"#N/A"},{"$error":"#N/A"},{"$error":"#N/A"},{"$f":"IF(SUM(CI$3091:CI3442)>0,0,IF(MAX(CB3443:CB$4531)=MAX(CB$3091:CB$4531),0,IF(BZ3443>0.03*BT$4532,0,$C3443/60)))","v":0},{"$f":"IF(SUM(CJ$3091:CJ3442)>0,0,IF(MAX(CB3443:CB$4531)=MAX(CB$3091:CB$4531),0,IF(BZ3443>0.01*BT$4532,0,$C3443/60)))","v":0},0,0,0,0,0,0,0,0,0,{"$error":"#N/A"},{"$error":"#N/A"},{"$error":"#N/A"},{"$error":"#N/A"},{"$error":"#N/A"},{"$error":"#N/A"},{"$f":"IF(SUM(CZ$3091:CZ3442)>0,0,IF(MAX(CS3443:CS$4531)=MAX(CS$3091:CS$4531),0,IF(CQ3443>0.03*CK$4532,0,$C3443/60)))","v":0},{"$f":"IF(SUM(DA$3091:DA3442)>0,0,IF(MAX(CS3443:CS$4531)=MAX(CS$3091:CS$4531),0,IF(CQ3443>0.01*CK$4532,0,$C3443/60)))","v":0},0,0,0,0,0,0,0,0,0,{"$error":"#N/A"},{"$error":"#N/A"},{"$error":"#N/A"},{"$error":"#N/A"},{"$error":"#N/A"},{"$error":"#N/A"},{"$f":"IF(SUM(DQ$3091:DQ3442)>0,0,IF(MAX(DJ3443:DJ$4531)=MAX(DJ$3091:DJ$4531),0,IF(DH3443>0.03*DB$4532,0,$C3443/60)))","v":0},{"$f":"IF(SUM(DR$3091:DR3442)>0,0,IF(MAX(DJ3443:DJ$4531)=MAX(DJ$3091:DJ$4531),0,IF(DH3443>0.01*DB$4532,0,$C3443/60)))","v":0},0,0,0,0,0,0,0,0,0,{"$error":"#N/A"},{"$error":"#N/A"},{"$error":"#N/A"},{"$error":"#N/A"},{"$error":"#N/A"},{"$error":"#N/A"},{"$f":"IF(SUM(EH$3091:EH3442)>0,0,IF(MAX(EA3443:EA$4531)=MAX(EA$3091:EA$4531),0,IF(DY3443>0.03*DS$4532,0,$C3443/60)))","v":0},{"$f":"IF(SUM(EI$3091:EI3442)>0,0,IF(MAX(EA3443:EA$4531)=MAX(EA$3091:EA$4531),0,IF(DY3443>0.01*DS$4532,0,$C3443/60)))","v":0},0,0,0,0,0,0,0,0,0,{"$error":"#N/A"},{"$error":"#N/A"},{"$error":"#N/A"},{"$error":"#N/A"},{"$error":"#N/A"},{"$error":"#N/A"},{"$f":"IF(SUM(EY$3091:EY3442)>0,0,IF(MAX(ER3443:ER$4531)=MAX(ER$3091:ER$4531),0,IF(EP3443>0.03*EJ$4532,0,$C3443/60)))","v":0},{"$f":"IF(SUM(EZ$3091:EZ3442)>0,0,IF(MAX(ER3443:ER$4531)=MAX(ER$3091:ER$4531),0,IF(EP3443>0.01*EJ$4532,0,$C3443/60)))","v":0}]
[null,30.083333333333332,1805,0,0,0,0,0,0,0,0,0,{"$error":"#N/A"},{"$error":"#N/A"},{"$error":"#N/A"},{"$error":"#N/A"},{"$error":"#N/A"},{"$error":"#N/A"},{"$f":"IF(SUM(S$3091:S3451)>0,0,\nIF(MAX(L3452:L$4531)=MAX(L$3091:L$4531),0,\nIF(Hydrograph_Source_WQCV=\"USER\",IF(J3452>0.03*D$4532,0,$C3452/60),\nIF(J3452>0.03*J$4532,0,$C3452/60))))","v":0},{"$f":"IF(SUM(T$3091:T3451)>0,0,\nIF(MAX(L3452:L$4531)=MAX(L$3091:L$4531),0,\nIF(Hydrograph_Source_WQCV=\"USER\",IF(J3452>0.01*D$4532,0,$C3452/60),\nIF(J3452>0.01*J$4532,0,$C3452/60))))","v":0},0,0,0,0,0,0,0,0,0,{"$error":"#N/A"},{"$error":"#N/A"},{"$error":"#N/A"},{"$error":"#N/A"},{"$error":"#N/A"},{"$error":"#N/A"},{"$f":"IF(SUM(AJ$3091:AJ3451)>0,0,\nIF(MAX(AC3452:AC$4531)=MAX(AC$3091:AC$4531),0,\nIF(Hydrograph_Source_EURV=\"USER\",IF(AA3452>0.03*U$4532,0,$C3452/60),\nIF(AA3452>0.03*AA$4532,0,$C3452/60))))","v":0},{"$f":"IF(SUM(AK$3091:AK3451)>0,0,\nIF(MAX(AC3452:AC$4531)=MAX(AC$3091:AC$4531),0,\nIF(Hydrograph_Source_EURV=\"USER\",IF(AA3452>0.01*U$4532,0,$C3452/60),\nIF(AA3452>0.01*AA$4532,0,$C3452/60))))","v":0},0,0,0,0,0,0,0,0,0,{"$error":"#N/A"},{"$error":"#N/A"},{"$error":"#N/A"},{"$error":"#N/A"},{"$error":"#N/A"},{"$error":"#N/A"},{"$f":"IF(SUM(BA$3091:BA3451)>0,0,IF(MAX(AT3452:AT$4531)=MAX(AT$3091:AT$4531),0,IF(AR3452>0.03*AL$4532,0,$C3452/60)))","v":0},{"$f":"IF(SUM(BB$3091:BB3451)>0,0,IF(MAX(AT3452:AT$4531)=MAX(AT$3091:AT$4531),0,IF(AR3452>0.01*AL$4532,0,$C3452/60)))","v":0},0,0,0,0,0,0,0,0,0,{"$error":"#N/A"},{"$error":"#N/A"},{"$error":"#N/A"},{"$error":"#N/A"},{"$error":"#N/A"},{"$error":"#N/A"},{"$f":"IF(SUM(BR$3091:BR3451)>0,0,IF(MAX(BK3452:BK$4531)=MAX(BK$3091:BK$4531),0,IF(BI3452>0.03*BC$4532,0,$C3452/60)))","v":0},{"$f":"IF(SUM(BS$3091:BS3451)>0,0,IF(MAX(BK3452:BK$4531)=MAX(BK$3091:BK$4531),0,IF(BI3452>0.01*BC$4532,0,$C3452/60)))","v":0},0,0,0,0,0,0,0,0,0,{"$error":"#N/A"},{"$error":"#N/A"},{"$error":"#N/A"},{"$error":"#N/A"},{"$error":"#N/A"},{"$error":"#N/A"},{"$f":"IF(SUM(CI$3091:CI3451)>0,0,IF(MAX(CB3452:CB$4531)=MAX(CB$3091:CB$4531),0,IF(BZ3452>0.03*BT$4532,0,$C3452/60)))","v":0},{"$f":"IF(SUM(CJ$3091:CJ3451)>0,0,IF(MAX(CB3452:CB$4531)=MAX(CB$3091:CB$4531),0,IF(BZ3452>0.01*BT$4532,0,$C3452/60)))","v":0},0,0,0,0,0,0,0,0,0,{"$error":"#N/A"},{"$error":"#N/A"},{"$error":"#N/A"},{"$error":"#N/A"},{"$error":"#N/A"},{"$error":"#N/A"},{"$f":"IF(SUM(CZ$3091:CZ3451)>0,0,IF(MAX(CS3452:CS$4531)=MAX(CS$3091:CS$4531),0,IF(CQ3452>0.03*CK$4532,0,$C3452/60)))","v":0},{"$f":"IF(SUM(DA$3091:DA3451)>0,0,IF(MAX(CS3452:CS$4531)=MAX(CS$3091:CS$4531),0,IF(CQ3452>0.01*CK$4532,0,$C3452/60)))","v":0},0,0,0,0,0,0,0,0,0,{"$error":"#N/A"},{"$error":"#N/A"},{"$error":"#N/A"},{"$error":"#N/A"},{"$error":"#N/A"},{"$error":"#N/A"},{"$f":"IF(SUM(DQ$3091:DQ3451)>0,0,IF(MAX(DJ3452:DJ$4531)=MAX(DJ$3091:DJ$4531),0,IF(DH3452>0.03*DB$4532,0,$C3452/60)))","v":0},{"$f":"IF(SUM(DR$3091:DR3451)>0,0,IF(MAX(DJ3452:DJ$4531)=MAX(DJ$3091:DJ$4531),0,IF(DH3452>0.01*DB$4532,0,$C3452/60)))","v":0},0,0,0,0,0,0,0,0,0,{"$error":"#N/A"},{"$error":"#N/A"},{"$error":"#N/A"},{"$error":"#N/A"},{"$error":"#N/A"},{"$error":"#N/A"},{"$f":"IF(SUM(EH$3091:EH3451)>0,0,IF(MAX(EA3452:EA$4531)=MAX(EA$3091:EA$4531),0,IF(DY3452>0.03*DS$4532,0,$C3452/60)))","v":0},{"$f":"IF(SUM(EI$3091:EI3451)>0,0,IF(MAX(EA3452:EA$4531)=MAX(EA$3091:EA$4531),0,IF(DY3452>0.01*DS$4532,0,$C3452/60)))","v":0},0,0,0,0,0,0,0,0,0,{"$error":"#N/A"},{"$error":"#N/A"},{"$error":"#N/A"},{"$error":"#N/A"},{"$error":"#N/A"},{"$error":"#N/A"},{"$f":"IF(SUM(EY$3091:EY3451)>0,0,IF(MAX(ER3452:ER$4531)=MAX(ER$3091:ER$4531),0,IF(EP3452>0.03*EJ$4532,0,$C3452/60)))","v":0},{"$f":"IF(SUM(EZ$3091:EZ3451)>0,0,IF(MAX(ER3452:ER$4531)=MAX(ER$3091:ER$4531),0,IF(EP3452>0.01*EJ$4532,0,$C3452/60)))","v":0}]
[null,30.833333333333332,1850,0,0,0,0,0,0,0,0,0,{"$error":"#N/A"},{"$error":"#N/A"},{"$error":"#N/A"},{"$error":"#N/A"},{"$error":"#N/A"},{"$error":"#N/A"},{"$f":"IF(SUM(S$3091:S3460)>0,0,\nIF(MAX(L3461:L$4531)=MAX(L$3091:L$4531),0,\nIF(Hydrograph_Source_WQCV=\"USER\",IF(J3461>0.03*D$4532,0,$C3461/60),\nIF(J3461>0.03*J$4532,0,$C3461/60))))","v":0},{"$f":"IF(SUM(T$3091:T3460)>0,0,\nIF(MAX(L3461:L$4531)=MAX(L$3091:L$4531),0,\nIF(Hydrograph_Source_WQCV=\"USER\",IF(J3461>0.01*D$4532,0,$C3461/60),\nIF(J3461>0.01*J$4532,0,$C3461/60))))","v":0},0,0,0,0,0,0,0,0,0,{"$error":"#N/A"},{"$error":"#N/A"},{"$error":"#N/A"},{"$error":"#N/A"},{"$error":"#N/A"},{"$error":"#N/A"},{"$f":"IF(SUM(AJ$3091:AJ3460)>0,0,\nIF(MAX(AC3461:AC$4531)=MAX(AC$3091:AC$4531),0,\nIF(Hydrograph_Source_EURV=\"USER\",IF(AA3461>0.03*U$4532,0,$C3461/60),\nIF(AA3461>0.03*AA$4532,0,$C3461/60))))","v":0},{"$f":"IF(SUM(AK$3091:AK3460)>0,0,\nIF(MAX(AC3461:AC$4531)=MAX(AC$3091:AC$4531),0,\nIF(Hydrograph_Source_EURV=\"USER\",IF(AA3461>0.01*U$4532,0,$C3461/60),\nIF(AA3461>0.01*AA$4532,0,$C3461/60))))","v":0},0,0,0,0,0,0,0,0,0,{"$error":"#N/A"},{"$error":"#N/A"},{"$error":"#N/A"},{"$error":"#N/A"},{"$error":"#N/A"},{"$error":"#N/A"},{"$f":"IF(SUM(BA$3091:BA3460)>0,0,IF(MAX(AT3461:AT$4531)=MAX(AT$3091:AT$4531),0,IF(AR3461>0.03*AL$4532,0,$C3461/60)))","v":0},{"$f":"IF(SUM(BB$3091:BB3460)>0,0,IF(MAX(AT3461:AT$4531)=MAX(AT$3091:AT$4531),0,IF(AR3461>0.01*AL$4532,0,$C3461/60)))","v":0},0,0,0,0,0,0,0,0,0,{"$error":"#N/A"},{"$error":"#N/A"},{"$error":"#N/A"},{"$error":"#N/A"},{"$error":"#N/A"},{"$error":"#N/A"},{"$f":"IF(SUM(BR$3091:BR3460)>0,0,IF(MAX(BK3461:BK$4531)=MAX(BK$3091:BK$4531),0,IF(BI3461>0.03*BC$4532,0,$C3461/60)))","v":0},{"$f":"IF(SUM(BS$3091:BS3460)>0,0,IF(MAX(BK3461:BK$4531)=MAX(BK$3091:BK$4531),0,IF(BI3461>0.01*BC$4532,0,$C3461/60)))","v":0},0,0,0,0,0,0,0,0,0,{"$error":"#N/A"},{"$error":"#N/A"},{"$error":"#N/A"},{"$error":"#N/A"},{"$error":"#N/A"},{"$error":"#N/A"},{"$f":"IF(SUM(CI$3091:CI3460)>0,0,IF(MAX(CB3461:CB$4531)=MAX(CB$3091:CB$4531),0,IF(BZ3461>0.03*BT$4532,0,$C3461/60)))","v":0},{"$f":"IF(SUM(CJ$3091:CJ3460)>0,0,IF(MAX(CB3461:CB$4531)=MAX(CB$3091:CB$4531),0,IF(BZ3461>0.01*BT$4532,0,$C3461/60)))","v":0},0,0,0,0,0,0,0,0,0,{"$error":"#N/A"},{"$error":"#N/A"},{"$error":"#N/A"},{"$error":"#N/A"},{"$error":"#N/A"},{"$error":"#N/A"},{"$f":"IF(SUM(CZ$3091:CZ3460)>0,0,IF(MAX(CS3461:CS$4531)=MAX(CS$3091:CS$4531),0,IF(CQ3461>0.03*CK$4532,0,$C3461/60)))","v":0},{"$f":"IF(SUM(DA$3091:DA3460)>0,0,IF(MAX(CS3461:CS$4531)=MAX(CS$3091:CS$4531),0,IF(CQ3461>0.01*CK$4532,0,$C3461/60)))","v":0},0,0,0,0,0,0,0,0,0,{"$error":"#N/A"},{"$error":"#N/A"},{"$error":"#N/A"},{"$error":"#N/A"},{"$error":"#N/A"},{"$error":"#N/A"},{"$f":"IF(SUM(DQ$3091:DQ3460)>0,0,IF(MAX(DJ3461:DJ$4531)=MAX(DJ$3091:DJ$4531),0,IF(DH3461>0.03*DB$4532,0,$C3461/60)))","v":0},{"$f":"IF(SUM(DR$3091:DR3460)>0,0,IF(MAX(DJ3461:DJ$4531)=MAX(DJ$3091:DJ$4531),0,IF(DH3461>0.01*DB$4532,0,$C3461/60)))","v":0},0,0,0,0,0,0,0,0,0,{"$error":"#N/A"},{"$error":"#N/A"},{"$error":"#N/A"},{"$error":"#N/A"},{"$error":"#N/A"},{"$error":"#N/A"},{"$f":"IF(SUM(EH$3091:EH3460)>0,0,IF(MAX(EA3461:EA$4531)=MAX(EA$3091:EA$4531),0,IF(DY3461>0.03*DS$4532,0,$C3461/60)))","v":0},{"$f":"IF(SUM(EI$3091:EI3460)>0,0,IF(MAX(EA3461:EA$4531)=MAX(EA$3091:EA$4531),0,IF(DY3461>0.01*DS$4532,0,$C3461/60)))","v":0},0,0,0,0,0,0,0,0,0,{"$error":"#N/A"},{"$error":"#N/A"},{"$error":"#N/A"},{"$error":"#N/A"},{"$error":"#N/A"},{"$error":"#N/A"},{"$f":"IF(SUM(EY$3091:EY3460)>0,0,IF(MAX(ER3461:ER$4531)=MAX(ER$3091:ER$4531),0,IF(EP3461>0.03*EJ$4532,0,$C3461/60)))","v":0},{"$f":"IF(SUM(EZ$3091:EZ3460)>0,0,IF(MAX(ER3461:ER$4531)=MAX(ER$3091:ER$4531),0,IF(EP3461>0.01*EJ$4532,0,$C3461/60)))","v":0}]
[null,31.583333333333332,1895,0,0,0,0,0,0,0,0,0,{"$error":"#N/A"},{"$error":"#N/A"},{"$error":"#N/A"},{"$error":"#N/A"},{"$error":"#N/A"},{"$error":"#N/A"},{"$f":"IF(SUM(S$3091:S3469)>0,0,\nIF(MAX(L3470:L$4531)=MAX(L$3091:L$4531),0,\nIF(Hydrograph_Source_WQCV=\"USER\",IF(J3470>0.03*D$4532,0,$C3470/60),\nIF(J3470>0.03*J$4532,0,$C3470/60))))","v":0},{"$f":"IF(SUM(T$3091:T3469)>0,0,\nIF(MAX(L3470:L$4531)=MAX(L$3091:L$4531),0,\nIF(Hydrograph_Source_WQCV=\"USER\",IF(J3470>0.01*D$4532,0,$C3470/60),\nIF(J3470>0.01*J$4532,0,$C3470/60))))","v":0},0,0,0,0,0,0,0,0,0,{"$error":"#N/A"},{"$error":"#N/A"},{"$error":"#N/A"},{"$error":"#N/A"},{"$error":"#N/A"},{"$error":"#N/A"},{"$f":"IF(SUM(AJ$3091:AJ3469)>0,0,\nIF(MAX(AC3470:AC$4531)=MAX(AC$3091:AC$4531),0,\nIF(Hydrograph_Source_EURV=\"USER\",IF(AA3470>0.03*U$4532,0,$C3470/60),\nIF(AA3470>0.03*AA$4532,0,$C3470/60))))","v":0},{"$f":"IF(SUM(AK$3091:AK3469)>0,0,\nIF(MAX(AC3470:AC$4531)=MAX(AC$3091:AC$4531),0,\nIF(Hydrograph_Source_EURV=\"USER\",IF(AA3470>0.01*U$4532,0,$C3470/60),\nIF(AA3470>0.01*AA$4532,0,$C3470/60))))","v":0},0,0,0,0,0,0,0,0,0,{"$error":"#N/A"},{"$error":"#N/A"},{"$error":"#N/A"},{"$error":"#N/A"},{"$error":"#N/A"},{"$error":"#N/A"},{"$f":"IF(SUM(BA$3091:BA3469)>0,0,IF(MAX(AT3470:AT$4531)=MAX(AT$3091:AT$4531),0,IF(AR3470>0.03*AL$4532,0,$C3470/60)))","v":0},{"$f":"IF(SUM(BB$3091:BB3469)>0,0,IF(MAX(AT3470:AT$4531)=MAX(AT$3091:AT$4531),0,IF(AR3470>0.01*AL$4532,0,$C3470/60)))","v":0},0,0,0,0,0,0,0,0,0,{"$error":"#N/A"},{"$error":"#N/A"},{"$error":"#N/A"},{"$error":"#N/A"},{"$error":"#N/A"},{"$error":"#N/A"},{"$f":"IF(SUM(BR$3091:BR3469)>0,0,IF(MAX(BK3470:BK$4531)=MAX(BK$3091:BK$4531),0,IF(BI3470>0.03*BC$4532,0,$C3470/60)))","v":0},{"$f":"IF(SUM(BS$3091:BS3469)>0,0,IF(MAX(BK3470:BK$4531)=MAX(BK$3091:BK$4531),0,IF(BI3470>0.01*BC$4532,0,$C3470/60)))","v":0},0,0,0,0,0,0,0,0,0,{"$error":"#N/A"},{"$error":"#N/A"},{"$error":"#N/A"},{"$error":"#N/A"},{"$error":"#N/A"},{"$error":"#N/A"},{"$f":"IF(SUM(CI$3091:CI3469)>0,0,IF(MAX(CB3470:CB$4531)=MAX(CB$3091:CB$4531),0,IF(BZ3470>0.03*BT$4532,0,$C3470/60)))","v":0},{"$f":"IF(SUM(CJ$3091:CJ3469)>0,0,IF(MAX(CB3470:CB$4531)=MAX(CB$3091:CB$4531),0,IF(BZ3470>0.01*BT$4532,0,$C3470/60)))","v":0},0,0,0,0,0,0,0,0,0,{"$error":"#N/A"},{"$error":"#N/A"},{"$error":"#N/A"},{"$error":"#N/A"},{"$error":"#N/A"},{"$error":"#N/A"},{"$f":"IF(SUM(CZ$3091:CZ3469)>0,0,IF(MAX(CS3470:CS$4531)=MAX(CS$3091:CS$4531),0,IF(CQ3470>0.03*CK$4532,0,$C3470/60)))","v":0},{"$f":"IF(SUM(DA$3091:DA3469)>0,0,IF(MAX(CS3470:CS$4531)=MAX(CS$3091:CS$4531),0,IF(CQ3470>0.01*CK$4532,0,$C3470/60)))","v":0},0,0,0,0,0,0,0,0,0,{"$error":"#N/A"},{"$error":"#N/A"},{"$error":"#N/A"},{"$error":"#N/A"},{"$error":"#N/A"},{"$error":"#N/A"},{"$f":"IF(SUM(DQ$3091:DQ3469)>0,0,IF(MAX(DJ3470:DJ$4531)=MAX(DJ$3091:DJ$4531),0,IF(DH3470>0.03*DB$4532,0,$C3470/60)))","v":0},{"$f":"IF(SUM(DR$3091:DR3469)>0,0,IF(MAX(DJ3470:DJ$4531)=MAX(DJ$3091:DJ$4531),0,IF(DH3470>0.01*DB$4532,0,$C3470/60)))","v":0},0,0,0,0,0,0,0,0,0,{"$error":"#N/A"},{"$error":"#N/A"},{"$error":"#N/A"},{"$error":"#N/A"},{"$error":"#N/A"},{"$error":"#N/A"},{"$f":"IF(SUM(EH$3091:EH3469)>0,0,IF(MAX(EA3470:EA$4531)=MAX(EA$3091:EA$4531),0,IF(DY3470>0.03*DS$4532,0,$C3470/60)))","v":0},{"$f":"IF(SUM(EI$3091:EI3469)>0,0,IF(MAX(EA3470:EA$4531)=MAX(EA$3091:EA$4531),0,IF(DY3470>0.01*DS$4532,0,$C3470/60)))","v":0},0,0,0,0,0,0,0,0,0,{"$error":"#N/A"},{"$error":"#N/A"},{"$error":"#N/A"},{"$error":"#N/A"},{"$error":"#N/A"},{"$error":"#N/A"},{"$f":"IF(SUM(EY$3091:EY3469)>0,0,IF(MAX(ER3470:ER$4531)=MAX(ER$3091:ER$4531),0,IF(EP3470>0.03*EJ$4532,0,$C3470/60)))","v":0},{"$f":"IF(SUM(EZ$3091:EZ3469)>0,0,IF(MAX(ER3470:ER$4531)=MAX(ER$3091:ER$4531),0,IF(EP3470>0.01*EJ$4532,0,$C3470/60)))","v":0}]
[null,32.333333333333336,1940,0,0,0,0,0,0,0,0,0,{"$error":"#N/A"},{"$error":"#N/A"},{"$error":"#N/A"},{"$error":"#N/A"},{"$error":"#N/A"},{"$error":"#N/A"},{"$f":"IF(SUM(S$3091:S3478)>0,0,\nIF(MAX(L3479:L$4531)=MAX(L$3091:L$4531),0,\nIF(Hydrograph_Source_WQCV=\"USER\",IF(J3479>0.03*D$4532,0,$C3479/60),\nIF(J3479>0.03*J$4532,0,$C3479/60))))","v":0},{"$f":"IF(SUM(T$3091:T3478)>0,0,\nIF(MAX(L3479:L$4531)=MAX(L$3091:L$4531),0,\nIF(Hydrograph_Source_WQCV=\"USER\",IF(J3479>0.01*D$4532,0,$C3479/60),\nIF(J3479>0.01*J$4532,0,$C3479/60))))","v":0},0,0,0,0,0,0,0,0,0,{"$error":"#N/A"},{"$error":"#N/A"},{"$error":"#N/A"},{"$error":"#N/A"},{"$error":"#N/A"},{"$error":"#N/A"},{"$f":"IF(SUM(AJ$3091:AJ3478)>0,0,\nIF(MAX(AC3479:AC$4531)=MAX(AC$3091:AC$4531),0,\nIF(Hydrograph_Source_EURV=\"USER\",IF(AA3479>0.03*U$4532,0,$C3479/60),\nIF(AA3479>0.03*AA$4532,0,$C3479/60))))","v":0},{"$f":"IF(SUM(AK$3091:AK3478)>0,0,\nIF(MAX(AC3479:AC$4531)=MAX(AC$3091:AC$4531),0,\nIF(Hydrograph_Source_EURV=\"USER\",IF(AA3479>0.01*U$4532,0,$C3479/60),\nIF(AA3479>0.01*AA$4532,0,$C3479/60))))","v":0},0,0,0,0,0,0,0,0,0,{"$error":"#N/A"},{"$error":"#N/A"},{"$error":"#N/A"},{"$error":"#N/A"},{"$error":"#N/A"},{"$error":"#N/A"},{"$f":"IF(SUM(BA$3091:BA3478)>0,0,IF(MAX(AT3479:AT$4531)=MAX(AT$3091:AT$4531),0,IF(AR3479>0.03*AL$4532,0,$C3479/60)))","v":0},{"$f":"IF(SUM(BB$3091:BB3478)>0,0,IF(MAX(AT3479:AT$4531)=MAX(AT$3091:AT$4531),0,IF(AR3479>0.01*AL$4532,0,$C3479/60)))","v":0},0,0,0,0,0,0,0,0,0,{"$error":"#N/A"},{"$error":"#N/A"},{"$error":"#N/A"},{"$error":"#N/A"},{"$error":"#N/A"},{"$error":"#N/A"},{"$f":"IF(SUM(BR$3091:BR3478)>0,0,IF(MAX(BK3479:BK$4531)=MAX(BK$3091:BK$4531),0,IF(BI3479>0.03*BC$4532,0,$C3479/60)))","v":0},{"$f":"IF(SUM(BS$3091:BS3478)>0,0,IF(MAX(BK3479:BK$4531)=MAX(BK$3091:BK$4531),0,IF(BI3479>0.01*BC$4532,0,$C3479/60)))","v":0},0,0,0,0,0,0,0,0,0,{"$error":"#N/A"},{"$error":"#N/A"},{"$error":"#N/A"},{"$error":"#N/A"},{"$error":"#N/A"},{"$error":"#N/A"},{"$f":"IF(SUM(CI$3091:CI3478)>0,0,IF(MAX(CB3479:CB$4531)=MAX(CB$3091:CB$4531),0,IF(BZ3479>0.03*BT$4532,0,$C3479/60)))","v":0},{"$f":"IF(SUM(CJ$3091:CJ3478)>0,0,IF(MAX(CB3479:CB$4531)=MAX(CB$3091:CB$4531),0,IF(BZ3479>0.01*BT$4532,0,$C3479/60)))","v":0},0,0,0,0,0,0,0,0,0,{"$error":"#N/A"},{"$error":"#N/A"},{"$error":"#N/A"},{"$error":"#N/A"},{"$error":"#N/A"},{"$error":"#N/A"},{"$f":"IF(SUM(CZ$3091:CZ3478)>0,0,IF(MAX(CS3479:CS$4531)=MAX(CS$3091:CS$4531),0,IF(CQ3479>0.03*CK$4532,0,$C3479/60)))","v":0},{"$f":"IF(SUM(DA$3091:DA3478)>0,0,IF(MAX(CS3479:CS$4531)=MAX(CS$3091:CS$4531),0,IF(CQ3479>0.01*CK$4532,0,$C3479/60)))","v":0},0,0,0,0,0,0,0,0,0,{"$error":"#N/A"},{"$error":"#N/A"},{"$error":"#N/A"},{"$error":"#N/A"},{"$error":"#N/A"},{"$error":"#N/A"},{"$f":"IF(SUM(DQ$3091:DQ3478)>0,0,IF(MAX(DJ3479:DJ$4531)=MAX(DJ$3091:DJ$4531),0,IF(DH3479>0.03*DB$4532,0,$C3479/60)))","v":0},{"$f":"IF(SUM(DR$3091:DR3478)>0,0,IF(MAX(DJ3479:DJ$4531)=MAX(DJ$3091:DJ$4531),0,IF(DH3479>0.01*DB$4532,0,$C3479/60)))","v":0},0,0,0,0,0,0,0,0,0,{"$error":"#N/A"},{"$error":"#N/A"},{"$error":"#N/A"},{"$error":"#N/A"},{"$error":"#N/A"},{"$error":"#N/A"},{"$f":"IF(SUM(EH$3091:EH3478)>0,0,IF(MAX(EA3479:EA$4531)=MAX(EA$3091:EA$4531),0,IF(DY3479>0.03*DS$4532,0,$C3479/60)))","v":0},{"$f":"IF(SUM(EI$3091:EI3478)>0,0,IF(MAX(EA3479:EA$4531)=MAX(EA$3091:EA$4531),0,IF(DY3479>0.01*DS$4532,0,$C3479/60)))","v":0},0,0,0,0,0,0,0,0,0,{"$error":"#N/A"},{"$error":"#N/A"},{"$error":"#N/A"},{"$error":"#N/A"},{"$error":"#N/A"},{"$error":"#N/A"},{"$f":"IF(SUM(EY$3091:EY3478)>0,0,IF(MAX(ER3479:ER$4531)=MAX(ER$3091:ER$4531),0,IF(EP3479>0.03*EJ$4532,0,$C3479/60)))","v":0},{"$f":"IF(SUM(EZ$3091:EZ3478)>0,0,IF(MAX(ER3479:ER$4531)=MAX(ER$3091:ER$4531),0,IF(EP3479>0.01*EJ$4532,0,$C3479/60)))","v":0}]
[null,33.083333333333336,1985,0,0,0,0,0,0,0,0,0,{"$error":"#N/A"},{"$error":"#N/A"},{"$error":"#N/A"},{"$error":"#N/A"},{"$error":"#N/A"},{"$error":"#N/A"},{"$f":"IF(SUM(S$3091:S3487)>0,0,\nIF(MAX(L3488:L$4531)=MAX(L$3091:L$4531),0,\nIF(Hydrograph_Source_WQCV=\"USER\",IF(J3488>0.03*D$4532,0,$C3488/60),\nIF(J3488>0.03*J$4532,0,$C3488/60))))","v":0},{"$f":"IF(SUM(T$3091:T3487)>0,0,\nIF(MAX(L3488:L$4531)=MAX(L$3091:L$4531),0,\nIF(Hydrograph_Source_WQCV=\"USER\",IF(J3488>0.01*D$4532,0,$C3488/60),\nIF(J3488>0.01*J$4532,0,$C3488/60))))","v":0},0,0,0,0,0,0,0,0,0,{"$error":"#N/A"},{"$error":"#N/A"},{"$error":"#N/A"},{"$error":"#N/A"},{"$error":"#N/A"},{"$error":"#N/A"},{"$f":"IF(SUM(AJ$3091:AJ3487)>0,0,\nIF(MAX(AC3488:AC$4531)=MAX(AC$3091:AC$4531),0,\nIF(Hydrograph_Source_EURV=\"USER\",IF(AA3488>0.03*U$4532,0,$C3488/60),\nIF(AA3488>0.03*AA$4532,0,$C3488/60))))","v":0},{"$f":"IF(SUM(AK$3091:AK3487)>0,0,\nIF(MAX(AC3488:AC$4531)=MAX(AC$3091:AC$4531),0,\nIF(Hydrograph_Source_EURV=\"USER\",IF(AA3488>0.01*U$4532,0,$C3488/60),\nIF(AA3488>0.01*AA$4532,0,$C3488/60))))","v":0},0,0,0,0,0,0,0,0,0,{"$error":"#N/A"},{"$error":"#N/A"},{"$error":"#N/A"},{"$error":"#N/A"},{"$error":"#N/A"},{"$error":"#N/A"},{"$f":"IF(SUM(BA$3091:BA3487)>0,0,IF(MAX(AT3488:AT$4531)=MAX(AT$3091:AT$4531),0,IF(AR3488>0.03*AL$4532,0,$C3488/60)))","v":0},{"$f":"IF(SUM(BB$3091:BB3487)>0,0,IF(MAX(AT3488:AT$4531)=MAX(AT$3091:AT$4531),0,IF(AR3488>0.01*AL$4532,0,$C3488/60)))","v":0},0,0,0,0,0,0,0,0,0,{"$error":"#N/A"},{"$error":"#N/A"},{"$error":"#N/A"},{"$error":"#N/A"},{"$error":"#N/A"},{"$error":"#N/A"},{"$f":"IF(SUM(BR$3091:BR3487)>0,0,IF(MAX(BK3488:BK$4531)=MAX(BK$3091:BK$4531),0,IF(BI3488>0.03*BC$4532,0,$C3488/60)))","v":0},{"$f":"IF(SUM(BS$3091:BS3487)>0,0,IF(MAX(BK3488:BK$4531)=MAX(BK$3091:BK$4531),0,IF(BI3488>0.01*BC$4532,0,$C3488/60)))","v":0},0,0,0,0,0,0,0,0,0,{"$error":"#N/A"},{"$error":"#N/A"},{"$error":"#N/A"},{"$error":"#N/A"},{"$error":"#N/A"},{"$error":"#N/A"},{"$f":"IF(SUM(CI$3091:CI3487)>0,0,IF(MAX(CB3488:CB$4531)=MAX(CB$3091:CB$4531),0,IF(BZ3488>0.03*BT$4532,0,$C3488/60)))","v":0},{"$f":"IF(SUM(CJ$3091:CJ3487)>0,0,IF(MAX(CB3488:CB$4531)=MAX(CB$3091:CB$4531),0,IF(BZ3488>0.01*BT$4532,0,$C3488/60)))","v":0},0,0,0,0,0,0,0,0,0,{"$error":"#N/A"},{"$error":"#N/A"},{"$error":"#N/A"},{"$error":"#N/A"},{"$error":"#N/A"},{"$error":"#N/A"},{"$f":"IF(SUM(CZ$3091:CZ3487)>0,0,IF(MAX(CS3488:CS$4531)=MAX(CS$3091:CS$4531),0,IF(CQ3488>0.03*CK$4532,0,$C3488/60)))","v":0},{"$f":"IF(SUM(DA$3091:DA3487)>0,0,IF(MAX(CS3488:CS$4531)=MAX(CS$3091:CS$4531),0,IF(CQ3488>0.01*CK$4532,0,$C3488/60)))","v":0},0,0,0,0,0,0,0,0,0,{"$error":"#N/A"},{"$error":"#N/A"},{"$error":"#N/A"},{"$error":"#N/A"},{"$error":"#N/A"},{"$error":"#N/A"},{"$f":"IF(SUM(DQ$3091:DQ3487)>0,0,IF(MAX(DJ3488:DJ$4531)=MAX(DJ$3091:DJ$4531),0,IF(DH3488>0.03*DB$4532,0,$C3488/60)))","v":0},{"$f":"IF(SUM(DR$3091:DR3487)>0,0,IF(MAX(DJ3488:DJ$4531)=MAX(DJ$3091:DJ$4531),0,IF(DH3488>0.01*DB$4532,0,$C3488/60)))","v":0},0,0,0,0,0,0,0,0,0,{"$error":"#N/A"},{"$error":"#N/A"},{"$error":"#N/A"},{"$error":"#N/A"},{"$error":"#N/A"},{"$error":"#N/A"},{"$f":"IF(SUM(EH$3091:EH3487)>0,0,IF(MAX(EA3488:EA$4531)=MAX(EA$3091:EA$4531),0,IF(DY3488>0.03*DS$4532,0,$C3488/60)))","v":0},{"$f":"IF(SUM(EI$3091:EI3487)>0,0,IF(MAX(EA3488:EA$4531)=MAX(EA$3091:EA$4531),0,IF(DY3488>0.01*DS$4532,0,$C3488/60)))","v":0},0,0,0,0,0,0,0,0,0,{"$error":"#N/A"},{"$error":"#N/A"},{"$error":"#N/A"},{"$error":"#N/A"},{"$error":"#N/A"},{"$error":"#N/A"},{"$f":"IF(SUM(EY$3091:EY3487)>0,0,IF(MAX(ER3488:ER$4531)=MAX(ER$3091:ER$4531),0,IF(EP3488>0.03*EJ$4532,0,$C3488/60)))","v":0},{"$f":"IF(SUM(EZ$3091:EZ3487)>0,0,IF(MAX(ER3488:ER$4531)=MAX(ER$3091:ER$4531),0,IF(EP3488>0.01*EJ$4532,0,$C3488/60)))","v":0}]
[null,33.416666666666664,2005,0,0,0,0,0,0,0,0,0,{"$error":"#N/A"},{"$error":"#N/A"},{"$error":"#N/A"},{"$error":"#N/A"},{"$error":"#N/A"},{"$error":"#N/A"},{"$f":"IF(SUM(S$3091:S3491)>0,0,\nIF(MAX(L3492:L$4531)=MAX(L$3091:L$4531),0,\nIF(Hydrograph_Source_WQCV=\"USER\",IF(J3492>0.03*D$4532,0,$C3492/60),\nIF(J3492>0.03*J$4532,0,$C3492/60))))","v":0},{"$f":"IF(SUM(T$3091:T3491)>0,0,\nIF(MAX(L3492:L$4531)=MAX(L$3091:L$4531),0,\nIF(Hydrograph_Source_WQCV=\"USER\",IF(J3492>0.01*D$4532,0,$C3492/60),\nIF(J3492>0.01*J$4532,0,$C3492/60))))","v":0},0,0,0,0,0,0,0,0,0,{"$error":"#N/A"},{"$error":"#N/A"},{"$error":"#N/A"},{"$error":"#N/A"},{"$error":"#N/A"},{"$error":"#N/A"},{"$f":"IF(SUM(AJ$3091:AJ3491)>0,0,\nIF(MAX(AC3492:AC$4531)=MAX(AC$3091:AC$4531),0,\nIF(Hydrograph_Source_EURV=\"USER\",IF(AA3492>0.03*U$4532,0,$C3492/60),\nIF(AA3492>0.03*AA$4532,0,$C3492/60))))","v":0},{"$f":"IF(SUM(AK$3091:AK3491)>0,0,\nIF(MAX(AC3492:AC$4531)=MAX(AC$3091:AC$4531),0,\nIF(Hydrograph_Source_EURV=\"USER\",IF(AA3492>0.01*U$4532,0,$C3492/60),\nIF(AA3492>0.01*AA$4532,0,$C3492/60))))","v":0},0,0,0,0,0,0,0,0,0,{"$error":"#N/A"},{"$error":"#N/A"},{"$error":"#N/A"},{"$error":"#N/A"},{"$error":"#N/A"},{"$error":"#N/A"},{"$f":"IF(SUM(BA$3091:BA3491)>0,0,IF(MAX(AT3492:AT$4531)=MAX(AT$3091:AT$4531),0,IF(AR3492>0.03*AL$4532,0,$C3492/60)))","v":0},{"$f":"IF(SUM(BB$3091:BB3491)>0,0,IF(MAX(AT3492:AT$4531)=MAX(AT$3091:AT$4531),0,IF(AR3492>0.01*AL$4532,0,$C3492/60)))","v":0},0,0,0,0,0,0,0,0,0,{"$error":"#N/A"},{"$error":"#N/A"},{"$error":"#N/A"},{"$error":"#N/A"},{"$error":"#N/A"},{"$error":"#N/A"},{"$f":"IF(SUM(BR$3091:BR3491)>0,0,IF(MAX(BK3492:BK$4531)=MAX(BK$3091:BK$4531),0,IF(BI3492>0.03*BC$4532,0,$C3492/60)))","v":0},{"$f":"IF(SUM(BS$3091:BS3491)>0,0,IF(MAX(BK3492:BK$4531)=MAX(BK$3091:BK$4531),0,IF(BI3492>0.01*BC$4532,0,$C3492/60)))","v":0},0,0,0,0,0,0,0,0,0,{"$error":"#N/A"},{"$error":"#N/A"},{"$error":"#N/A"},{"$error":"#N/A"},{"$error":"#N/A"},{"$error":"#N/A"},{"$f":"IF(SUM(CI$3091:CI3491)>0,0,IF(MAX(CB3492:CB$4531)=MAX(CB$3091:CB$4531),0,IF(BZ3492>0.03*BT$4532,0,$C3492/60)))","v":0},{"$f":"IF(SUM(CJ$3091:CJ3491)>0,0,IF(MAX(CB3492:CB$4531)=MAX(CB$3091:CB$4531),0,IF(BZ3492>0.01*BT$4532,0,$C3492/60)))","v":0},0,0,0,0,0,0,0,0,0,{"$error":"#N/A"},{"$error":"#N/A"},{"$error":"#N/A"},{"$error":"#N/A"},{"$error":"#N/A"},{"$error":"#N/A"},{"$f":"IF(SUM(CZ$3091:CZ3491)>0,0,IF(MAX(CS3492:CS$4531)=MAX(CS$3091:CS$4531),0,IF(CQ3492>0.03*CK$4532,0,$C3492/60)))","v":0},{"$f":"IF(SUM(DA$3091:DA3491)>0,0,IF(MAX(CS3492:CS$4531)=MAX(CS$3091:CS$4531),0,IF(CQ3492>0.01*CK$4532,0,$C3492/60)))","v":0},0,0,0,0,0,0,0,0,0,{"$error":"#N/A"},{"$error":"#N/A"},{"$error":"#N/A"},{"$error":"#N/A"},{"$error":"#N/A"},{"$error":"#N/A"},{"$f":"IF(SUM(DQ$3091:DQ3491)>0,0,IF(MAX(DJ3492:DJ$4531)=MAX(DJ$3091:DJ$4531),0,IF(DH3492>0.03*DB$4532,0,$C3492/60)))","v":0},{"$f":"IF(SUM(DR$3091:DR3491)>0,0,IF(MAX(DJ3492:DJ$4531)=MAX(DJ$3091:DJ$4531),0,IF(DH3492>0.01*DB$4532,0,$C3492/60)))","v":0},0,0,0,0,0,0,0,0,0,{"$error":"#N/A"},{"$error":"#N/A"},{"$error":"#N/A"},{"$error":"#N/A"},{"$error":"#N/A"},{"$error":"#N/A"},{"$f":"IF(SUM(EH$3091:EH3491)>0,0,IF(MAX(EA3492:EA$4531)=MAX(EA$3091:EA$4531),0,IF(DY3492>0.03*DS$4532,0,$C3492/60)))","v":0},{"$f":"IF(SUM(EI$3091:EI3491)>0,0,IF(MAX(EA3492:EA$4531)=MAX(EA$3091:EA$4531),0,IF(DY3492>0.01*DS$4532,0,$C3492/60)))","v":0},0,0,0,0,0,0,0,0,0,{"$error":"#N/A"},{"$error":"#N/A"},{"$error":"#N/A"},{"$error":"#N/A"},{"$error":"#N/A"},{"$error":"#N/A"},{"$f":"IF(SUM(EY$3091:EY3491)>0,0,IF(MAX(ER3492:ER$4531)=MAX(ER$3091:ER$4531),0,IF(EP3492>0.03*EJ$4532,0,$C3492/60)))","v":0},{"$f":"IF(SUM(EZ$3091:EZ3491)>0,0,IF(MAX(ER3492:ER$4531)=MAX(ER$3091:ER$4531),0,IF(EP3492>0.01*EJ$4532,0,$C3492/60)))","v":0}]
[null,33.833333333333336,2030,0,0,0,0,0,0,0,0,0,{"$error":"#N/A"},{"$error":"#N/A"},{"$error":"#N/A"},{"$error":"#N/A"},{"$error":"#N/A"},{"$error":"#N/A"},{"$f":"IF(SUM(S$3091:S3496)>0,0,\nIF(MAX(L3497:L$4531)=MAX(L$3091:L$4531),0,\nIF(Hydrograph_Source_WQCV=\"USER\",IF(J3497>0.03*D$4532,0,$C3497/60),\nIF(J3497>0.03*J$4532,0,$C3497/60))))","v":0},{"$f":"IF(SUM(T$3091:T3496)>0,0,\nIF(MAX(L3497:L$4531)=MAX(L$3091:L$4531),0,\nIF(Hydrograph_Source_WQCV=\"USER\",IF(J3497>0.01*D$4532,0,$C3497/60),\nIF(J3497>0.01*J$4532,0,$C3497/60))))","v":0},0,0,0,0,0,0,0,0,0,{"$error":"#N/A"},{"$error":"#N/A"},{"$error":"#N/A"},{"$error":"#N/A"},{"$error":"#N/A"},{"$error":"#N/A"},{"$f":"IF(SUM(AJ$3091:AJ3496)>0,0,\nIF(MAX(AC3497:AC$4531)=MAX(AC$3091:AC$4531),0,\nIF(Hydrograph_Source_EURV=\"USER\",IF(AA3497>0.03*U$4532,0,$C3497/60),\nIF(AA3497>0.03*AA$4532,0,$C3497/60))))","v":0},{"$f":"IF(SUM(AK$3091:AK3496)>0,0,\nIF(MAX(AC3497:AC$4531)=MAX(AC$3091:AC$4531),0,\nIF(Hydrograph_Source_EURV=\"USER\",IF(AA3497>0.01*U$4532,0,$C3497/60),\nIF(AA3497>0.01*AA$4532,0,$C3497/60))))","v":0},0,0,0,0,0,0,0,0,0,{"$error":"#N/A"},{"$error":"#N/A"},{"$error":"#N/A"},{"$error":"#N/A"},{"$error":"#N/A"},{"$error":"#N/A"},{"$f":"IF(SUM(BA$3091:BA3496)>0,0,IF(MAX(AT3497:AT$4531)=MAX(AT$3091:AT$4531),0,IF(AR3497>0.03*AL$4532,0,$C3497/60)))","v":0},{"$f":"IF(SUM(BB$3091:BB3496)>0,0,IF(MAX(AT3497:AT$4531)=MAX(AT$3091:AT$4531),0,IF(AR3497>0.01*AL$4532,0,$C3497/60)))","v":0},0,0,0,0,0,0,0,0,0,{"$error":"#N/A"},{"$error":"#N/A"},{"$error":"#N/A"},{"$error":"#N/A"},{"$error":"#N/A"},{"$error":"#N/A"},{"$f":"IF(SUM(BR$3091:BR3496)>0,0,IF(MAX(BK3497:BK$4531)=MAX(BK$3091:BK$4531),0,IF(BI3497>0.03*BC$4532,0,$C3497/60)))","v":0},{"$f":"IF(SUM(BS$3091:BS3496)>0,0,IF(MAX(BK3497:BK$4531)=MAX(BK$3091:BK$4531),0,IF(BI3497>0.01*BC$4532,0,$C3497/60)))","v":0},0,0,0,0,0,0,0,0,0,{"$error":"#N/A"},{"$error":"#N/A"},{"$error":"#N/A"},{"$error":"#N/A"},{"$error":"#N/A"},{"$error":"#N/A"},{"$f":"IF(SUM(CI$3091:CI3496)>0,0,IF(MAX(CB3497:CB$4531)=MAX(CB$3091:CB$4531),0,IF(BZ3497>0.03*BT$4532,0,$C3497/60)))","v":0},{"$f":"IF(SUM(CJ$3091:CJ3496)>0,0,IF(MAX(CB3497:CB$4531)=MAX(CB$3091:CB$4531),0,IF(BZ3497>0.01*BT$4532,0,$C3497/60)))","v":0},0,0,0,0,0,0,0,0,0,{"$error":"#N/A"},{"$error":"#N/A"},{"$error":"#N/A"},{"$error":"#N/A"},{"$error":"#N/A"},{"$error":"#N/A"},{"$f":"IF(SUM(CZ$3091:CZ3496)>0,0,IF(MAX(CS3497:CS$4531)=MAX(CS$3091:CS$4531),0,IF(CQ3497>0.03*CK$4532,0,$C3497/60)))","v":0},{"$f":"IF(SUM(DA$3091:DA3496)>0,0,IF(MAX(CS3497:CS$4531)=MAX(CS$3091:CS$4531),0,IF(CQ3497>0.01*CK$4532,0,$C3497/60)))","v":0},0,0,0,0,0,0,0,0,0,{"$error":"#N/A"},{"$error":"#N/A"},{"$error":"#N/A"},{"$error":"#N/A"},{"$error":"#N/A"},{"$error":"#N/A"},{"$f":"IF(SUM(DQ$3091:DQ3496)>0,0,IF(MAX(DJ3497:DJ$4531)=MAX(DJ$3091:DJ$4531),0,IF(DH3497>0.03*DB$4532,0,$C3497/60)))","v":0},{"$f":"IF(SUM(DR$3091:DR3496)>0,0,IF(MAX(DJ3497:DJ$4531)=MAX(DJ$3091:DJ$4531),0,IF(DH3497>0.01*DB$4532,0,$C3497/60)))","v":0},0,0,0,0,0,0,0,0,0,{"$error":"#N/A"},{"$error":"#N/A"},{"$error":"#N/A"},{"$error":"#N/A"},{"$error":"#N/A"},{"$error":"#N/A"},{"$f":"IF(SUM(EH$3091:EH3496)>0,0,IF(MAX(EA3497:EA$4531)=MAX(EA$3091:EA$4531),0,IF(DY3497>0.03*DS$4532,0,$C3497/60)))","v":0},{"$f":"IF(SUM(EI$3091:EI3496)>0,0,IF(MAX(EA3497:EA$4531)=MAX(EA$3091:EA$4531),0,IF(DY3497>0.01*DS$4532,0,$C3497/60)))","v":0},0,0,0,0,0,0,0,0,0,{"$error":"#N/A"},{"$error":"#N/A"},{"$error":"#N/A"},{"$error":"#N/A"},{"$error":"#N/A"},{"$error":"#N/A"},{"$f":"IF(SUM(EY$3091:EY3496)>0,0,IF(MAX(ER3497:ER$4531)=MAX(ER$3091:ER$4531),0,IF(EP3497>0.03*EJ$4532,0,$C3497/60)))","v":0},{"$f":"IF(SUM(EZ$3091:EZ3496)>0,0,IF(MAX(ER3497:ER$4531)=MAX(ER$3091:ER$4531),0,IF(EP3497>0.01*EJ$4532,0,$C3497/60)))","v":0}]
[null,34.583333333333336,2075,0,0,0,0,0,0,0,0,0,{"$error":"#N/A"},{"$error":"#N/A"},{"$error":"#N/A"},{"$error":"#N/A"},{"$error":"#N/A"},{"$error":"#N/A"},{"$f":"IF(SUM(S$3091:S3505)>0,0,\nIF(MAX(L3506:L$4531)=MAX(L$3091:L$4531),0,\nIF(Hydrograph_Source_WQCV=\"USER\",IF(J3506>0.03*D$4532,0,$C3506/60),\nIF(J3506>0.03*J$4532,0,$C3506/60))))","v":0},{"$f":"IF(SUM(T$3091:T3505)>0,0,\nIF(MAX(L3506:L$4531)=MAX(L$3091:L$4531),0,\nIF(Hydrograph_Source_WQCV=\"USER\",IF(J3506>0.01*D$4532,0,$C3506/60),\nIF(J3506>0.01*J$4532,0,$C3506/60))))","v":0},0,0,0,0,0,0,0,0,0,{"$error":"#N/A"},{"$error":"#N/A"},{"$error":"#N/A"},{"$error":"#N/A"},{"$error":"#N/A"},{"$error":"#N/A"},{"$f":"IF(SUM(AJ$3091:AJ3505)>0,0,\nIF(MAX(AC3506:AC$4531)=MAX(AC$3091:AC$4531),0,\nIF(Hydrograph_Source_EURV=\"USER\",IF(AA3506>0.03*U$4532,0,$C3506/60),\nIF(AA3506>0.03*AA$4532,0,$C3506/60))))","v":0},{"$f":"IF(SUM(AK$3091:AK3505)>0,0,\nIF(MAX(AC3506:AC$4531)=MAX(AC$3091:AC$4531),0,\nIF(Hydrograph_Source_EURV=\"USER\",IF(AA3506>0.01*U$4532,0,$C3506/60),\nIF(AA3506>0.01*AA$4532,0,$C3506/60))))","v":0},0,0,0,0,0,0,0,0,0,{"$error":"#N/A"},{"$error":"#N/A"},{"$error":"#N/A"},{"$error":"#N/A"},{"$error":"#N/A"},{"$error":"#N/A"},{"$f":"IF(SUM(BA$3091:BA3505)>0,0,IF(MAX(AT3506:AT$4531)=MAX(AT$3091:AT$4531),0,IF(AR3506>0.03*AL$4532,0,$C3506/60)))","v":0},{"$f":"IF(SUM(BB$3091:BB3505)>0,0,IF(MAX(AT3506:AT$4531)=MAX(AT$3091:AT$4531),0,IF(AR3506>0.01*AL$4532,0,$C3506/60)))","v":0},0,0,0,0,0,0,0,0,0,{"$error":"#N/A"},{"$error":"#N/A"},{"$error":"#N/A"},{"$error":"#N/A"},{"$error":"#N/A"},{"$error":"#N/A"},{"$f":"IF(SUM(BR$3091:BR3505)>0,0,IF(MAX(BK3506:BK$4531)=MAX(BK$3091:BK$4531),0,IF(BI3506>0.03*BC$4532,0,$C3506/60)))","v":0},{"$f":"IF(SUM(BS$3091:BS3505)>0,0,IF(MAX(BK3506:BK$4531)=MAX(BK$3091:BK$4531),0,IF(BI3506>0.01*BC$4532,0,$C3506/60)))","v":0},0,0,0,0,0,0,0,0,0,{"$error":"#N/A"},{"$error":"#N/A"},{"$error":"#N/A"},{"$error":"#N/A"},{"$error":"#N/A"},{"$error":"#N/A"},{"$f":"IF(SUM(CI$3091:CI3505)>0,0,IF(MAX(CB3506:CB$4531)=MAX(CB$3091:CB$4531),0,IF(BZ3506>0.03*BT$4532,0,$C3506/60)))","v":0},{"$f":"IF(SUM(CJ$3091:CJ3505)>0,0,IF(MAX(CB3506:CB$4531)=MAX(CB$3091:CB$4531),0,IF(BZ3506>0.01*BT$4532,0,$C3506/60)))","v":0},0,0,0,0,0,0,0,0,0,{"$error":"#N/A"},{"$error":"#N/A"},{"$error":"#N/A"},{"$error":"#N/A"},{"$error":"#N/A"},{"$error":"#N/A"},{"$f":"IF(SUM(CZ$3091:CZ3505)>0,0,IF(MAX(CS3506:CS$4531)=MAX(CS$3091:CS$4531),0,IF(CQ3506>0.03*CK$4532,0,$C3506/60)))","v":0},{"$f":"IF(SUM(DA$3091:DA3505)>0,0,IF(MAX(CS3506:CS$4531)=MAX(CS$3091:CS$4531),0,IF(CQ3506>0.01*CK$4532,0,$C3506/60)))","v":0},0,0,0,0,0,0,0,0,0,{"$error":"#N/A"},{"$error":"#N/A"},{"$error":"#N/A"},{"$error":"#N/A"},{"$error":"#N/A"},{"$error":"#N/A"},{"$f":"IF(SUM(DQ$3091:DQ3505)>0,0,IF(MAX(DJ3506:DJ$4531)=MAX(DJ$3091:DJ$4531),0,IF(DH3506>0.03*DB$4532,0,$C3506/60)))","v":0},{"$f":"IF(SUM(DR$3091:DR3505)>0,0,IF(MAX(DJ3506:DJ$4531)=MAX(DJ$3091:DJ$4531),0,IF(DH3506>0.01*DB$4532,0,$C3506/60)))","v":0},0,0,0,0,0,0,0,0,0,{"$error":"#N/A"},{"$error":"#N/A"},{"$error":"#N/A"},{"$error":"#N/A"},{"$error":"#N/A"},{"$error":"#N/A"},{"$f":"IF(SUM(EH$3091:EH3505)>0,0,IF(MAX(EA3506:EA$4531)=MAX(EA$3091:EA$4531),0,IF(DY3506>0.03*DS$4532,0,$C3506/60)))","v":0},{"$f":"IF(SUM(EI$3091:EI3505)>0,0,IF(MAX(EA3506:EA$4531)=MAX(EA$3091:EA$4531),0,IF(DY3506>0.01*DS$4532,0,$C3506/60)))","v":0},0,0,0,0,0,0,0,0,0,{"$error":"#N/A"},{"$error":"#N/A"},{"$error":"#N/A"},{"$error":"#N/A"},{"$error":"#N/A"},{"$error":"#N/A"},{"$f":"IF(SUM(EY$3091:EY3505)>0,0,IF(MAX(ER3506:ER$4531)=MAX(ER$3091:ER$4531),0,IF(EP3506>0.03*EJ$4532,0,$C3506/60)))","v":0},{"$f":"IF(SUM(EZ$3091:EZ3505)>0,0,IF(MAX(ER3506:ER$4531)=MAX(ER$3091:ER$4531),0,IF(EP3506>0.01*EJ$4532,0,$C3506/60)))","v":0}]
[null,35.333333333333336,2120,0,0,0,0,0,0,0,0,0,{"$error":"#N/A"},{"$error":"#N/A"},{"$error":"#N/A"},{"$error":"#N/A"},{"$error":"#N/A"},{"$error":"#N/A"},{"$f":"IF(SUM(S$3091:S3514)>0,0,\nIF(MAX(L3515:L$4531)=MAX(L$3091:L$4531),0,\nIF(Hydrograph_Source_WQCV=\"USER\",IF(J3515>0.03*D$4532,0,$C3515/60),\nIF(J3515>0.03*J$4532,0,$C3515/60))))","v":0},{"$f":"IF(SUM(T$3091:T3514)>0,0,\nIF(MAX(L3515:L$4531)=MAX(L$3091:L$4531),0,\nIF(Hydrograph_Source_WQCV=\"USER\",IF(J3515>0.01*D$4532,0,$C3515/60),\nIF(J3515>0.01*J$4532,0,$C3515/60))))","v":0},0,0,0,0,0,0,0,0,0,{"$error":"#N/A"},{"$error":"#N/A"},{"$error":"#N/A"},{"$error":"#N/A"},{"$error":"#N/A"},{"$error":"#N/A"},{"$f":"IF(SUM(AJ$3091:AJ3514)>0,0,\nIF(MAX(AC3515:AC$4531)=MAX(AC$3091:AC$4531),0,\nIF(Hydrograph_Source_EURV=\"USER\",IF(AA3515>0.03*U$4532,0,$C3515/60),\nIF(AA3515>0.03*AA$4532,0,$C3515/60))))","v":0},{"$f":"IF(SUM(AK$3091:AK3514)>0,0,\nIF(MAX(AC3515:AC$4531)=MAX(AC$3091:AC$4531),0,\nIF(Hydrograph_Source_EURV=\"USER\",IF(AA3515>0.01*U$4532,0,$C3515/60),\nIF(AA3515>0.01*AA$4532,0,$C3515/60))))","v":0},0,0,0,0,0,0,0,0,0,{"$error":"#N/A"},{"$error":"#N/A"},{"$error":"#N/A"},{"$error":"#N/A"},{"$error":"#N/A"},{"$error":"#N/A"},{"$f":"IF(SUM(BA$3091:BA3514)>0,0,IF(MAX(AT3515:AT$4531)=MAX(AT$3091:AT$4531),0,IF(AR3515>0.03*AL$4532,0,$C3515/60)))","v":0},{"$f":"IF(SUM(BB$3091:BB3514)>0,0,IF(MAX(AT3515:AT$4531)=MAX(AT$3091:AT$4531),0,IF(AR3515>0.01*AL$4532,0,$C3515/60)))","v":0},0,0,0,0,0,0,0,0,0,{"$error":"#N/A"},{"$error":"#N/A"},{"$error":"#N/A"},{"$error":"#N/A"},{"$error":"#N/A"},{"$error":"#N/A"},{"$f":"IF(SUM(BR$3091:BR3514)>0,0,IF(MAX(BK3515:BK$4531)=MAX(BK$3091:BK$4531),0,IF(BI3515>0.03*BC$4532,0,$C3515/60)))","v":0},{"$f":"IF(SUM(BS$3091:BS3514)>0,0,IF(MAX(BK3515:BK$4531)=MAX(BK$3091:BK$4531),0,IF(BI3515>0.01*BC$4532,0,$C3515/60)))","v":0},0,0,0,0,0,0,0,0,0,{"$error":"#N/A"},{"$error":"#N/A"},{"$error":"#N/A"},{"$error":"#N/A"},{"$error":"#N/A"},{"$error":"#N/A"},{"$f":"IF(SUM(CI$3091:CI3514)>0,0,IF(MAX(CB3515:CB$4531)=MAX(CB$3091:CB$4531),0,IF(BZ3515>0.03*BT$4532,0,$C3515/60)))","v":0},{"$f":"IF(SUM(CJ$3091:CJ3514)>0,0,IF(MAX(CB3515:CB$4531)=MAX(CB$3091:CB$4531),0,IF(BZ3515>0.01*BT$4532,0,$C3515/60)))","v":0},0,0,0,0,0,0,0,0,0,{"$error":"#N/A"},{"$error":"#N/A"},{"$error":"#N/A"},{"$error":"#N/A"},{"$error":"#N/A"},{"$error":"#N/A"},{"$f":"IF(SUM(CZ$3091:CZ3514)>0,0,IF(MAX(CS3515:CS$4531)=MAX(CS$3091:CS$4531),0,IF(CQ3515>0.03*CK$4532,0,$C3515/60)))","v":0},{"$f":"IF(SUM(DA$3091:DA3514)>0,0,IF(MAX(CS3515:CS$4531)=MAX(CS$3091:CS$4531),0,IF(CQ3515>0.01*CK$4532,0,$C3515/60)))","v":0},0,0,0,0,0,0,0,0,0,{"$error":"#N/A"},{"$error":"#N/A"},{"$error":"#N/A"},{"$error":"#N/A"},{"$error":"#N/A"},{"$error":"#N/A"},{"$f":"IF(SUM(DQ$3091:DQ3514)>0,0,IF(MAX(DJ3515:DJ$4531)=MAX(DJ$3091:DJ$4531),0,IF(DH3515>0.03*DB$4532,0,$C3515/60)))","v":0},{"$f":"IF(SUM(DR$3091:DR3514)>0,0,IF(MAX(DJ3515:DJ$4531)=MAX(DJ$3091:DJ$4531),0,IF(DH3515>0.01*DB$4532,0,$C3515/60)))","v":0},0,0,0,0,0,0,0,0,0,{"$error":"#N/A"},{"$error":"#N/A"},{"$error":"#N/A"},{"$error":"#N/A"},{"$error":"#N/A"},{"$error":"#N/A"},{"$f":"IF(SUM(EH$3091:EH3514)>0,0,IF(MAX(EA3515:EA$4531)=MAX(EA$3091:EA$4531),0,IF(DY3515>0.03*DS$4532,0,$C3515/60)))","v":0},{"$f":"IF(SUM(EI$3091:EI3514)>0,0,IF(MAX(EA3515:EA$4531)=MAX(EA$3091:EA$4531),0,IF(DY3515>0.01*DS$4532,0,$C3515/60)))","v":0},0,0,0,0,0,0,0,0,0,{"$error":"#N/A"},{"$error":"#N/A"},{"$error":"#N/A"},{"$error":"#N/A"},{"$error":"#N/A"},{"$error":"#N/A"},{"$f":"IF(SUM(EY$3091:EY3514)>0,0,IF(MAX(ER3515:ER$4531)=MAX(ER$3091:ER$4531),0,IF(EP3515>0.03*EJ$4532,0,$C3515/60)))","v":0},{"$f":"IF(SUM(EZ$3091:EZ3514)>0,0,IF(MAX(ER3515:ER$4531)=MAX(ER$3091:ER$4531),0,IF(EP3515>0.01*EJ$4532,0,$C3515/60)))","v":0}]
[null,36.083333333333336,2165,0,0,0,0,0,0,0,0,0,{"$error":"#N/A"},{"$error":"#N/A"},{"$error":"#N/A"},{"$error":"#N/A"},{"$error":"#N/A"},{"$error":"#N/A"},{"$f":"IF(SUM(S$3091:S3523)>0,0,\nIF(MAX(L3524:L$4531)=MAX(L$3091:L$4531),0,\nIF(Hydrograph_Source_WQCV=\"USER\",IF(J3524>0.03*D$4532,0,$C3524/60),\nIF(J3524>0.03*J$4532,0,$C3524/60))))","v":0},{"$f":"IF(SUM(T$3091:T3523)>0,0,\nIF(MAX(L3524:L$4531)=MAX(L$3091:L$4531),0,\nIF(Hydrograph_Source_WQCV=\"USER\",IF(J3524>0.01*D$4532,0,$C3524/60),\nIF(J3524>0.01*J$4532,0,$C3524/60))))","v":0},0,0,0,0,0,0,0,0,0,{"$error":"#N/A"},{"$error":"#N/A"},{"$error":"#N/A"},{"$error":"#N/A"},{"$error":"#N/A"},{"$error":"#N/A"},{"$f":"IF(SUM(AJ$3091:AJ3523)>0,0,\nIF(MAX(AC3524:AC$4531)=MAX(AC$3091:AC$4531),0,\nIF(Hydrograph_Source_EURV=\"USER\",IF(AA3524>0.03*U$4532,0,$C3524/60),\nIF(AA3524>0.03*AA$4532,0,$C3524/60))))","v":0},{"$f":"IF(SUM(AK$3091:AK3523)>0,0,\nIF(MAX(AC3524:AC$4531)=MAX(AC$3091:AC$4531),0,\nIF(Hydrograph_Source_EURV=\"USER\",IF(AA3524>0.01*U$4532,0,$C3524/60),\nIF(AA3524>0.01*AA$4532,0,$C3524/60))))","v":0},0,0,0,0,0,0,0,0,0,{"$error":"#N/A"},{"$error":"#N/A"},{"$error":"#N/A"},{"$error":"#N/A"},{"$error":"#N/A"},{"$error":"#N/A"},{"$f":"IF(SUM(BA$3091:BA3523)>0,0,IF(MAX(AT3524:AT$4531)=MAX(AT$3091:AT$4531),0,IF(AR3524>0.03*AL$4532,0,$C3524/60)))","v":0},{"$f":"IF(SUM(BB$3091:BB3523)>0,0,IF(MAX(AT3524:AT$4531)=MAX(AT$3091:AT$4531),0,IF(AR3524>0.01*AL$4532,0,$C3524/60)))","v":0},0,0,0,0,0,0,0,0,0,{"$error":"#N/A"},{"$error":"#N/A"},{"$error":"#N/A"},{"$error":"#N/A"},{"$error":"#N/A"},{"$error":"#N/A"},{"$f":"IF(SUM(BR$3091:BR3523)>0,0,IF(MAX(BK3524:BK$4531)=MAX(BK$3091:BK$4531),0,IF(BI3524>0.03*BC$4532,0,$C3524/60)))","v":0},{"$f":"IF(SUM(BS$3091:BS3523)>0,0,IF(MAX(BK3524:BK$4531)=MAX(BK$3091:BK$4531),0,IF(BI3524>0.01*BC$4532,0,$C3524/60)))","v":0},0,0,0,0,0,0,0,0,0,{"$error":"#N/A"},{"$error":"#N/A"},{"$error":"#N/A"},{"$error":"#N/A"},{"$error":"#N/A"},{"$error":"#N/A"},{"$f":"IF(SUM(CI$3091:CI3523)>0,0,IF(MAX(CB3524:CB$4531)=MAX(CB$3091:CB$4531),0,IF(BZ3524>0.03*BT$4532,0,$C3524/60)))","v":0},{"$f":"IF(SUM(CJ$3091:CJ3523)>0,0,IF(MAX(CB3524:CB$4531)=MAX(CB$3091:CB$4531),0,IF(BZ3524>0.01*BT$4532,0,$C3524/60)))","v":0},0,0,0,0,0,0,0,0,0,{"$error":"#N/A"},{"$error":"#N/A"},{"$error":"#N/A"},{"$error":"#N/A"},{"$error":"#N/A"},{"$error":"#N/A"},{"$f":"IF(SUM(CZ$3091:CZ3523)>0,0,IF(MAX(CS3524:CS$4531)=MAX(CS$3091:CS$4531),0,IF(CQ3524>0.03*CK$4532,0,$C3524/60)))","v":0},{"$f":"IF(SUM(DA$3091:DA3523)>0,0,IF(MAX(CS3524:CS$4531)=MAX(CS$3091:CS$4531),0,IF(CQ3524>0.01*CK$4532,0,$C3524/60)))","v":0},0,0,0,0,0,0,0,0,0,{"$error":"#N/A"},{"$error":"#N/A"},{"$error":"#N/A"},{"$error":"#N/A"},{"$error":"#N/A"},{"$error":"#N/A"},{"$f":"IF(SUM(DQ$3091:DQ3523)>0,0,IF(MAX(DJ3524:DJ$4531)=MAX(DJ$3091:DJ$4531),0,IF(DH3524>0.03*DB$4532,0,$C3524/60)))","v":0},{"$f":"IF(SUM(DR$3091:DR3523)>0,0,IF(MAX(DJ3524:DJ$4531)=MAX(DJ$3091:DJ$4531),0,IF(DH3524>0.01*DB$4532,0,$C3524/60)))","v":0},0,0,0,0,0,0,0,0,0,{"$error":"#N/A"},{"$error":"#N/A"},{"$error":"#N/A"},{"$error":"#N/A"},{"$error":"#N/A"},{"$error":"#N/A"},{"$f":"IF(SUM(EH$3091:EH3523)>0,0,IF(MAX(EA3524:EA$4531)=MAX(EA$3091:EA$4531),0,IF(DY3524>0.03*DS$4532,0,$C3524/60)))","v":0},{"$f":"IF(SUM(EI$3091:EI3523)>0,0,IF(MAX(EA3524:EA$4531)=MAX(EA$3091:EA$4531),0,IF(DY3524>0.01*DS$4532,0,$C3524/60)))","v":0},0,0,0,0,0,0,0,0,0,{"$error":"#N/A"},{"$error":"#N/A"},{"$error":"#N/A"},{"$error":"#N/A"},{"$error":"#N/A"},{"$error":"#N/A"},{"$f":"IF(SUM(EY$3091:EY3523)>0,0,IF(MAX(ER3524:ER$4531)=MAX(ER$3091:ER$4531),0,IF(EP3524>0.03*EJ$4532,0,$C3524/60)))","v":0},{"$f":"IF(SUM(EZ$3091:EZ3523)>0,0,IF(MAX(ER3524:ER$4531)=MAX(ER$3091:ER$4531),0,IF(EP3524>0.01*EJ$4532,0,$C3524/60)))","v":0}]
[null,36.833333333333336,2210,0,0,0,0,0,0,0,0,0,{"$error":"#N/A"},{"$error":"#N/A"},{"$error":"#N/A"},{"$error":"#N/A"},{"$error":"#N/A"},{"$error":"#N/A"},{"$f":"IF(SUM(S$3091:S3532)>0,0,\nIF(MAX(L3533:L$4531)=MAX(L$3091:L$4531),0,\nIF(Hydrograph_Source_WQCV=\"USER\",IF(J3533>0.03*D$4532,0,$C3533/60),\nIF(J3533>0.03*J$4532,0,$C3533/60))))","v":0},{"$f":"IF(SUM(T$3091:T3532)>0,0,\nIF(MAX(L3533:L$4531)=MAX(L$3091:L$4531),0,\nIF(Hydrograph_Source_WQCV=\"USER\",IF(J3533>0.01*D$4532,0,$C3533/60),\nIF(J3533>0.01*J$4532,0,$C3533/60))))","v":0},0,0,0,0,0,0,0,0,0,{"$error":"#N/A"},{"$error":"#N/A"},{"$error":"#N/A"},{"$error":"#N/A"},{"$error":"#N/A"},{"$error":"#N/A"},{"$f":"IF(SUM(AJ$3091:AJ3532)>0,0,\nIF(MAX(AC3533:AC$4531)=MAX(AC$3091:AC$4531),0,\nIF(Hydrograph_Source_EURV=\"USER\",IF(AA3533>0.03*U$4532,0,$C3533/60),\nIF(AA3533>0.03*AA$4532,0,$C3533/60))))","v":0},{"$f":"IF(SUM(AK$3091:AK3532)>0,0,\nIF(MAX(AC3533:AC$4531)=MAX(AC$3091:AC$4531),0,\nIF(Hydrograph_Source_EURV=\"USER\",IF(AA3533>0.01*U$4532,0,$C3533/60),\nIF(AA3533>0.01*AA$4532,0,$C3533/60))))","v":0},0,0,0,0,0,0,0,0,0,{"$error":"#N/A"},{"$error":"#N/A"},{"$error":"#N/A"},{"$error":"#N/A"},{"$error":"#N/A"},{"$error":"#N/A"},{"$f":"IF(SUM(BA$3091:BA3532)>0,0,IF(MAX(AT3533:AT$4531)=MAX(AT$3091:AT$4531),0,IF(AR3533>0.03*AL$4532,0,$C3533/60)))","v":0},{"$f":"IF(SUM(BB$3091:BB3532)>0,0,IF(MAX(AT3533:AT$4531)=MAX(AT$3091:AT$4531),0,IF(AR3533>0.01*AL$4532,0,$C3533/60)))","v":0},0,0,0,0,0,0,0,0,0,{"$error":"#N/A"},{"$error":"#N/A"},{"$error":"#N/A"},{"$error":"#N/A"},{"$error":"#N/A"},{"$error":"#N/A"},{"$f":"IF(SUM(BR$3091:BR3532)>0,0,IF(MAX(BK3533:BK$4531)=MAX(BK$3091:BK$4531),0,IF(BI3533>0.03*BC$4532,0,$C3533/60)))","v":0},{"$f":"IF(SUM(BS$3091:BS3532)>0,0,IF(MAX(BK3533:BK$4531)=MAX(BK$3091:BK$4531),0,IF(BI3533>0.01*BC$4532,0,$C3533/60)))","v":0},0,0,0,0,0,0,0,0,0,{"$error":"#N/A"},{"$error":"#N/A"},{"$error":"#N/A"},{"$error":"#N/A"},{"$error":"#N/A"},{"$error":"#N/A"},{"$f":"IF(SUM(CI$3091:CI3532)>0,0,IF(MAX(CB3533:CB$4531)=MAX(CB$3091:CB$4531),0,IF(BZ3533>0.03*BT$4532,0,$C3533/60)))","v":0},{"$f":"IF(SUM(CJ$3091:CJ3532)>0,0,IF(MAX(CB3533:CB$4531)=MAX(CB$3091:CB$4531),0,IF(BZ3533>0.01*BT$4532,0,$C3533/60)))","v":0},0,0,0,0,0,0,0,0,0,{"$error":"#N/A"},{"$error":"#N/A"},{"$error":"#N/A"},{"$error":"#N/A"},{"$error":"#N/A"},{"$error":"#N/A"},{"$f":"IF(SUM(CZ$3091:CZ3532)>0,0,IF(MAX(CS3533:CS$4531)=MAX(CS$3091:CS$4531),0,IF(CQ3533>0.03*CK$4532,0,$C3533/60)))","v":0},{"$f":"IF(SUM(DA$3091:DA3532)>0,0,IF(MAX(CS3533:CS$4531)=MAX(CS$3091:CS$4531),0,IF(CQ3533>0.01*CK$4532,0,$C3533/60)))","v":0},0,0,0,0,0,0,0,0,0,{"$error":"#N/A"},{"$error":"#N/A"},{"$error":"#N/A"},{"$error":"#N/A"},{"$error":"#N/A"},{"$error":"#N/A"},{"$f":"IF(SUM(DQ$3091:DQ3532)>0,0,IF(MAX(DJ3533:DJ$4531)=MAX(DJ$3091:DJ$4531),0,IF(DH3533>0.03*DB$4532,0,$C3533/60)))","v":0},{"$f":"IF(SUM(DR$3091:DR3532)>0,0,IF(MAX(DJ3533:DJ$4531)=MAX(DJ$3091:DJ$4531),0,IF(DH3533>0.01*DB$4532,0,$C3533/60)))","v":0},0,0,0,0,0,0,0,0,0,{"$error":"#N/A"},{"$error":"#N/A"},{"$error":"#N/A"},{"$error":"#N/A"},{"$error":"#N/A"},{"$error":"#N/A"},{"$f":"IF(SUM(EH$3091:EH3532)>0,0,IF(MAX(EA3533:EA$4531)=MAX(EA$3091:EA$4531),0,IF(DY3533>0.03*DS$4532,0,$C3533/60)))","v":0},{"$f":"IF(SUM(EI$3091:EI3532)>0,0,IF(MAX(EA3533:EA$4531)=MAX(EA$3091:EA$4531),0,IF(DY3533>0.01*DS$4532,0,$C3533/60)))","v":0},0,0,0,0,0,0,0,0,0,{"$error":"#N/A"},{"$error":"#N/A"},{"$error":"#N/A"},{"$error":"#N/A"},{"$error":"#N/A"},{"$error":"#N/A"},{"$f":"IF(SUM(EY$3091:EY3532)>0,0,IF(MAX(ER3533:ER$4531)=MAX(ER$3091:ER$4531),0,IF(EP3533>0.03*EJ$4532,0,$C3533/60)))","v":0},{"$f":"IF(SUM(EZ$3091:EZ3532)>0,0,IF(MAX(ER3533:ER$4531)=MAX(ER$3091:ER$4531),0,IF(EP3533>0.01*EJ$4532,0,$C3533/60)))","v":0}]
[null,37.583333333333336,2255,0,0,0,0,0,0,0,0,0,{"$error":"#N/A"},{"$error":"#N/A"},{"$error":"#N/A"},{"$error":"#N/A"},{"$error":"#N/A"},{"$error":"#N/A"},{"$f":"IF(SUM(S$3091:S3541)>0,0,\nIF(MAX(L3542:L$4531)=MAX(L$3091:L$4531),0,\nIF(Hydrograph_Source_WQCV=\"USER\",IF(J3542>0.03*D$4532,0,$C3542/60),\nIF(J3542>0.03*J$4532,0,$C3542/60))))","v":0},{"$f":"IF(SUM(T$3091:T3541)>0,0,\nIF(MAX(L3542:L$4531)=MAX(L$3091:L$4531),0,\nIF(Hydrograph_Source_WQCV=\"USER\",IF(J3542>0.01*D$4532,0,$C3542/60),\nIF(J3542>0.01*J$4532,0,$C3542/60))))","v":0},0,0,0,0,0,0,0,0,0,{"$error":"#N/A"},{"$error":"#N/A"},{"$error":"#N/A"},{"$error":"#N/A"},{"$error":"#N/A"},{"$error":"#N/A"},{"$f":"IF(SUM(AJ$3091:AJ3541)>0,0,\nIF(MAX(AC3542:AC$4531)=MAX(AC$3091:AC$4531),0,\nIF(Hydrograph_Source_EURV=\"USER\",IF(AA3542>0.03*U$4532,0,$C3542/60),\nIF(AA3542>0.03*AA$4532,0,$C3542/60))))","v":0},{"$f":"IF(SUM(AK$3091:AK3541)>0,0,\nIF(MAX(AC3542:AC$4531)=MAX(AC$3091:AC$4531),0,\nIF(Hydrograph_Source_EURV=\"USER\",IF(AA3542>0.01*U$4532,0,$C3542/60),\nIF(AA3542>0.01*AA$4532,0,$C3542/60))))","v":0},0,0,0,0,0,0,0,0,0,{"$error":"#N/A"},{"$error":"#N/A"},{"$error":"#N/A"},{"$error":"#N/A"},{"$error":"#N/A"},{"$error":"#N/A"},{"$f":"IF(SUM(BA$3091:BA3541)>0,0,IF(MAX(AT3542:AT$4531)=MAX(AT$3091:AT$4531),0,IF(AR3542>0.03*AL$4532,0,$C3542/60)))","v":0},{"$f":"IF(SUM(BB$3091:BB3541)>0,0,IF(MAX(AT3542:AT$4531)=MAX(AT$3091:AT$4531),0,IF(AR3542>0.01*AL$4532,0,$C3542/60)))","v":0},0,0,0,0,0,0,0,0,0,{"$error":"#N/A"},{"$error":"#N/A"},{"$error":"#N/A"},{"$error":"#N/A"},{"$error":"#N/A"},{"$error":"#N/A"},{"$f":"IF(SUM(BR$3091:BR3541)>0,0,IF(MAX(BK3542:BK$4531)=MAX(BK$3091:BK$4531),0,IF(BI3542>0.03*BC$4532,0,$C3542/60)))","v":0},{"$f":"IF(SUM(BS$3091:BS3541)>0,0,IF(MAX(BK3542:BK$4531)=MAX(BK$3091:BK$4531),0,IF(BI3542>0.01*BC$4532,0,$C3542/60)))","v":0},0,0,0,0,0,0,0,0,0,{"$error":"#N/A"},{"$error":"#N/A"},{"$error":"#N/A"},{"$error":"#N/A"},{"$error":"#N/A"},{"$error":"#N/A"},{"$f":"IF(SUM(CI$3091:CI3541)>0,0,IF(MAX(CB3542:CB$4531)=MAX(CB$3091:CB$4531),0,IF(BZ3542>0.03*BT$4532,0,$C3542/60)))","v":0},{"$f":"IF(SUM(CJ$3091:CJ3541)>0,0,IF(MAX(CB3542:CB$4531)=MAX(CB$3091:CB$4531),0,IF(BZ3542>0.01*BT$4532,0,$C3542/60)))","v":0},0,0,0,0,0,0,0,0,0,{"$error":"#N/A"},{"$error":"#N/A"},{"$error":"#N/A"},{"$error":"#N/A"},{"$error":"#N/A"},{"$error":"#N/A"},{"$f":"IF(SUM(CZ$3091:CZ3541)>0,0,IF(MAX(CS3542:CS$4531)=MAX(CS$3091:CS$4531),0,IF(CQ3542>0.03*CK$4532,0,$C3542/60)))","v":0},{"$f":"IF(SUM(DA$3091:DA3541)>0,0,IF(MAX(CS3542:CS$4531)=MAX(CS$3091:CS$4531),0,IF(CQ3542>0.01*CK$4532,0,$C3542/60)))","v":0},0,0,0,0,0,0,0,0,0,{"$error":"#N/A"},{"$error":"#N/A"},{"$error":"#N/A"},{"$error":"#N/A"},{"$error":"#N/A"},{"$error":"#N/A"},{"$f":"IF(SUM(DQ$3091:DQ3541)>0,0,IF(MAX(DJ3542:DJ$4531)=MAX(DJ$3091:DJ$4531),0,IF(DH3542>0.03*DB$4532,0,$C3542/60)))","v":0},{"$f":"IF(SUM(DR$3091:DR3541)>0,0,IF(MAX(DJ3542:DJ$4531)=MAX(DJ$3091:DJ$4531),0,IF(DH3542>0.01*DB$4532,0,$C3542/60)))","v":0},0,0,0,0,0,0,0,0,0,{"$error":"#N/A"},{"$error":"#N/A"},{"$error":"#N/A"},{"$error":"#N/A"},{"$error":"#N/A"},{"$error":"#N/A"},{"$f":"IF(SUM(EH$3091:EH3541)>0,0,IF(MAX(EA3542:EA$4531)=MAX(EA$3091:EA$4531),0,IF(DY3542>0.03*DS$4532,0,$C3542/60)))","v":0},{"$f":"IF(SUM(EI$3091:EI3541)>0,0,IF(MAX(EA3542:EA$4531)=MAX(EA$3091:EA$4531),0,IF(DY3542>0.01*DS$4532,0,$C3542/60)))","v":0},0,0,0,0,0,0,0,0,0,{"$error":"#N/A"},{"$error":"#N/A"},{"$error":"#N/A"},{"$error":"#N/A"},{"$error":"#N/A"},{"$error":"#N/A"},{"$f":"IF(SUM(EY$3091:EY3541)>0,0,IF(MAX(ER3542:ER$4531)=MAX(ER$3091:ER$4531),0,IF(EP3542>0.03*EJ$4532,0,$C3542/60)))","v":0},{"$f":"IF(SUM(EZ$3091:EZ3541)>0,0,IF(MAX(ER3542:ER$4531)=MAX(ER$3091:ER$4531),0,IF(EP3542>0.01*EJ$4532,0,$C3542/60)))","v":0}]
[null,38.333333333333336,2300,0,0,0,0,0,0,0,0,0,{"$error":"#N/A"},{"$error":"#N/A"},{"$error":"#N/A"},{"$error":"#N/A"},{"$error":"#N/A"},{"$error":"#N/A"},{"$f":"IF(SUM(S$3091:S3550)>0,0,\nIF(MAX(L3551:L$4531)=MAX(L$3091:L$4531),0,\nIF(Hydrograph_Source_WQCV=\"USER\",IF(J3551>0.03*D$4532,0,$C3551/60),\nIF(J3551>0.03*J$4532,0,$C3551/60))))","v":0},{"$f":"IF(SUM(T$3091:T3550)>0,0,\nIF(MAX(L3551:L$4531)=MAX(L$3091:L$4531),0,\nIF(Hydrograph_Source_WQCV=\"USER\",IF(J3551>0.01*D$4532,0,$C3551/60),\nIF(J3551>0.01*J$4532,0,$C3551/60))))","v":0},0,0,0,0,0,0,0,0,0,{"$error":"#N/A"},{"$error":"#N/A"},{"$error":"#N/A"},{"$error":"#N/A"},{"$error":"#N/A"},{"$error":"#N/A"},{"$f":"IF(SUM(AJ$3091:AJ3550)>0,0,\nIF(MAX(AC3551:AC$4531)=MAX(AC$3091:AC$4531),0,\nIF(Hydrograph_Source_EURV=\"USER\",IF(AA3551>0.03*U$4532,0,$C3551/60),\nIF(AA3551>0.03*AA$4532,0,$C3551/60))))","v":0},{"$f":"IF(SUM(AK$3091:AK3550)>0,0,\nIF(MAX(AC3551:AC$4531)=MAX(AC$3091:AC$4531),0,\nIF(Hydrograph_Source_EURV=\"USER\",IF(AA3551>0.01*U$4532,0,$C3551/60),\nIF(AA3551>0.01*AA$4532,0,$C3551/60))))","v":0},0,0,0,0,0,0,0,0,0,{"$error":"#N/A"},{"$error":"#N/A"},{"$error":"#N/A"},{"$error":"#N/A"},{"$error":"#N/A"},{"$error":"#N/A"},{"$f":"IF(SUM(BA$3091:BA3550)>0,0,IF(MAX(AT3551:AT$4531)=MAX(AT$3091:AT$4531),0,IF(AR3551>0.03*AL$4532,0,$C3551/60)))","v":0},{"$f":"IF(SUM(BB$3091:BB3550)>0,0,IF(MAX(AT3551:AT$4531)=MAX(AT$3091:AT$4531),0,IF(AR3551>0.01*AL$4532,0,$C3551/60)))","v":0},0,0,0,0,0,0,0,0,0,{"$error":"#N/A"},{"$error":"#N/A"},{"$error":"#N/A"},{"$error":"#N/A"},{"$error":"#N/A"},{"$error":"#N/A"},{"$f":"IF(SUM(BR$3091:BR3550)>0,0,IF(MAX(BK3551:BK$4531)=MAX(BK$3091:BK$4531),0,IF(BI3551>0.03*BC$4532,0,$C3551/60)))","v":0},{"$f":"IF(SUM(BS$3091:BS3550)>0,0,IF(MAX(BK3551:BK$4531)=MAX(BK$3091:BK$4531),0,IF(BI3551>0.01*BC$4532,0,$C3551/60)))","v":0},0,0,0,0,0,0,0,0,0,{"$error":"#N/A"},{"$error":"#N/A"},{"$error":"#N/A"},{"$error":"#N/A"},{"$error":"#N/A"},{"$error":"#N/A"},{"$f":"IF(SUM(CI$3091:CI3550)>0,0,IF(MAX(CB3551:CB$4531)=MAX(CB$3091:CB$4531),0,IF(BZ3551>0.03*BT$4532,0,$C3551/60)))","v":0},{"$f":"IF(SUM(CJ$3091:CJ3550)>0,0,IF(MAX(CB3551:CB$4531)=MAX(CB$3091:CB$4531),0,IF(BZ3551>0.01*BT$4532,0,$C3551/60)))","v":0},0,0,0,0,0,0,0,0,0,{"$error":"#N/A"},{"$error":"#N/A"},{"$error":"#N/A"},{"$error":"#N/A"},{"$error":"#N/A"},{"$error":"#N/A"},{"$f":"IF(SUM(CZ$3091:CZ3550)>0,0,IF(MAX(CS3551:CS$4531)=MAX(CS$3091:CS$4531),0,IF(CQ3551>0.03*CK$4532,0,$C3551/60)))","v":0},{"$f":"IF(SUM(DA$3091:DA3550)>0,0,IF(MAX(CS3551:CS$4531)=MAX(CS$3091:CS$4531),0,IF(CQ3551>0.01*CK$4532,0,$C3551/60)))","v":0},0,0,0,0,0,0,0,0,0,{"$error":"#N/A"},{"$error":"#N/A"},{"$error":"#N/A"},{"$error":"#N/A"},{"$error":"#N/A"},{"$error":"#N/A"},{"$f":"IF(SUM(DQ$3091:DQ3550)>0,0,IF(MAX(DJ3551:DJ$4531)=MAX(DJ$3091:DJ$4531),0,IF(DH3551>0.03*DB$4532,0,$C3551/60)))","v":0},{"$f":"IF(SUM(DR$3091:DR3550)>0,0,IF(MAX(DJ3551:DJ$4531)=MAX(DJ$3091:DJ$4531),0,IF(DH3551>0.01*DB$4532,0,$C3551/60)))","v":0},0,0,0,0,0,0,0,0,0,{"$error":"#N/A"},{"$error":"#N/A"},{"$error":"#N/A"},{"$error":"#N/A"},{"$error":"#N/A"},{"$error":"#N/A"},{"$f":"IF(SUM(EH$3091:EH3550)>0,0,IF(MAX(EA3551:EA$4531)=MAX(EA$3091:EA$4531),0,IF(DY3551>0.03*DS$4532,0,$C3551/60)))","v":0},{"$f":"IF(SUM(EI$3091:EI3550)>0,0,IF(MAX(EA3551:EA$4531)=MAX(EA$3091:EA$4531),0,IF(DY3551>0.01*DS$4532,0,$C3551/60)))","v":0},0,0,0,0,0,0,0,0,0,{"$error":"#N/A"},{"$error":"#N/A"},{"$error":"#N/A"},{"$error":"#N/A"},{"$error":"#N/A"},{"$error":"#N/A"},{"$f":"IF(SUM(EY$3091:EY3550)>0,0,IF(MAX(ER3551:ER$4531)=MAX(ER$3091:ER$4531),0,IF(EP3551>0.03*EJ$4532,0,$C3551/60)))","v":0},{"$f":"IF(SUM(EZ$3091:EZ3550)>0,0,IF(MAX(ER3551:ER$4531)=MAX(ER$3091:ER$4531),0,IF(EP3551>0.01*EJ$4532,0,$C3551/60)))","v":0}]
[null,38.416666666666664,2305,0,0,0,0,0,0,0,0,0,{"$error":"#N/A"},{"$error":"#N/A"},{"$error":"#N/A"},{"$error":"#N/A"},{"$error":"#N/A"},{"$error":"#N/A"},{"$f":"IF(SUM(S$3091:S3551)>0,0,\nIF(MAX(L3552:L$4531)=MAX(L$3091:L$4531),0,\nIF(Hydrograph_Source_WQCV=\"USER\",IF(J3552>0.03*D$4532,0,$C3552/60),\nIF(J3552>0.03*J$4532,0,$C3552/60))))","v":0},{"$f":"IF(SUM(T$3091:T3551)>0,0,\nIF(MAX(L3552:L$4531)=MAX(L$3091:L$4531),0,\nIF(Hydrograph_Source_WQCV=\"USER\",IF(J3552>0.01*D$4532,0,$C3552/60),\nIF(J3552>0.01*J$4532,0,$C3552/60))))","v":0},0,0,0,0,0,0,0,0,0,{"$error":"#N/A"},{"$error":"#N/A"},{"$error":"#N/A"},{"$error":"#N/A"},{"$error":"#N/A"},{"$error":"#N/A"},{"$f":"IF(SUM(AJ$3091:AJ3551)>0,0,\nIF(MAX(AC3552:AC$4531)=MAX(AC$3091:AC$4531),0,\nIF(Hydrograph_Source_EURV=\"USER\",IF(AA3552>0.03*U$4532,0,$C3552/60),\nIF(AA3552>0.03*AA$4532,0,$C3552/60))))","v":0},{"$f":"IF(SUM(AK$3091:AK3551)>0,0,\nIF(MAX(AC3552:AC$4531)=MAX(AC$3091:AC$4531),0,\nIF(Hydrograph_Source_EURV=\"USER\",IF(AA3552>0.01*U$4532,0,$C3552/60),\nIF(AA3552>0.01*AA$4532,0,$C3552/60))))","v":0},0,0,0,0,0,0,0,0,0,{"$error":"#N/A"},{"$error":"#N/A"},{"$error":"#N/A"},{"$error":"#N/A"},{"$error":"#N/A"},{"$error":"#N/A"},{"$f":"IF(SUM(BA$3091:BA3551)>0,0,IF(MAX(AT3552:AT$4531)=MAX(AT$3091:AT$4531),0,IF(AR3552>0.03*AL$4532,0,$C3552/60)))","v":0},{"$f":"IF(SUM(BB$3091:BB3551)>0,0,IF(MAX(AT3552:AT$4531)=MAX(AT$3091:AT$4531),0,IF(AR3552>0.01*AL$4532,0,$C3552/60)))","v":0},0,0,0,0,0,0,0,0,0,{"$error":"#N/A"},{"$error":"#N/A"},{"$error":"#N/A"},{"$error":"#N/A"},{"$error":"#N/A"},{"$error":"#N/A"},{"$f":"IF(SUM(BR$3091:BR3551)>0,0,IF(MAX(BK3552:BK$4531)=MAX(BK$3091:BK$4531),0,IF(BI3552>0.03*BC$4532,0,$C3552/60)))","v":0},{"$f":"IF(SUM(BS$3091:BS3551)>0,0,IF(MAX(BK3552:BK$4531)=MAX(BK$3091:BK$4531),0,IF(BI3552>0.01*BC$4532,0,$C3552/60)))","v":0},0,0,0,0,0,0,0,0,0,{"$error":"#N/A"},{"$error":"#N/A"},{"$error":"#N/A"},{"$error":"#N/A"},{"$error":"#N/A"},{"$error":"#N/A"},{"$f":"IF(SUM(CI$3091:CI3551)>0,0,IF(MAX(CB3552:CB$4531)=MAX(CB$3091:CB$4531),0,IF(BZ3552>0.03*BT$4532,0,$C3552/60)))","v":0},{"$f":"IF(SUM(CJ$3091:CJ3551)>0,0,IF(MAX(CB3552:CB$4531)=MAX(CB$3091:CB$4531),0,IF(BZ3552>0.01*BT$4532,0,$C3552/60)))","v":0},0,0,0,0,0,0,0,0,0,{"$error":"#N/A"},{"$error":"#N/A"},{"$error":"#N/A"},{"$error":"#N/A"},{"$error":"#N/A"},{"$error":"#N/A"},{"$f":"IF(SUM(CZ$3091:CZ3551)>0,0,IF(MAX(CS3552:CS$4531)=MAX(CS$3091:CS$4531),0,IF(CQ3552>0.03*CK$4532,0,$C3552/60)))","v":0},{"$f":"IF(SUM(DA$3091:DA3551)>0,0,IF(MAX(CS3552:CS$4531)=MAX(CS$3091:CS$4531),0,IF(CQ3552>0.01*CK$4532,0,$C3552/60)))","v":0},0,0,0,0,0,0,0,0,0,{"$error":"#N/A"},{"$error":"#N/A"},{"$error":"#N/A"},{"$error":"#N/A"},{"$error":"#N/A"},{"$error":"#N/A"},{"$f":"IF(SUM(DQ$3091:DQ3551)>0,0,IF(MAX(DJ3552:DJ$4531)=MAX(DJ$3091:DJ$4531),0,IF(DH3552>0.03*DB$4532,0,$C3552/60)))","v":0},{"$f":"IF(SUM(DR$3091:DR3551)>0,0,IF(MAX(DJ3552:DJ$4531)=MAX(DJ$3091:DJ$4531),0,IF(DH3552>0.01*DB$4532,0,$C3552/60)))","v":0},0,0,0,0,0,0,0,0,0,{"$error":"#N/A"},{"$error":"#N/A"},{"$error":"#N/A"},{"$error":"#N/A"},{"$error":"#N/A"},{"$error":"#N/A"},{"$f":"IF(SUM(EH$3091:EH3551)>0,0,IF(MAX(EA3552:EA$4531)=MAX(EA$3091:EA$4531),0,IF(DY3552>0.03*DS$4532,0,$C3552/60)))","v":0},{"$f":"IF(SUM(EI$3091:EI3551)>0,0,IF(MAX(EA3552:EA$4531)=MAX(EA$3091:EA$4531),0,IF(DY3552>0.01*DS$4532,0,$C3552/60)))","v":0},0,0,0,0,0,0,0,0,0,{"$error":"#N/A"},{"$error":"#N/A"},{"$error":"#N/A"},{"$error":"#N/A"},{"$error":"#N/A"},{"$error":"#N/A"},{"$f":"IF(SUM(EY$3091:EY3551)>0,0,IF(MAX(ER3552:ER$4531)=MAX(ER$3091:ER$4531),0,IF(EP3552>0.03*EJ$4532,0,$C3552/60)))","v":0},{"$f":"IF(SUM(EZ$3091:EZ3551)>0,0,IF(MAX(ER3552:ER$4531)=MAX(ER$3091:ER$4531),0,IF(EP3552>0.01*EJ$4532,0,$C3552/60)))","v":0}]
[null,39.166666666666664,2350,0,0,0,0,0,0,0,0,0,{"$error":"#N/A"},{"$error":"#N/A"},{"$error":"#N/A"},{"$error":"#N/A"},{"$error":"#N/A"},{"$error":"#N/A"},{"$f":"IF(SUM(S$3091:S3560)>0,0,\nIF(MAX(L3561:L$4531)=MAX(L$3091:L$4531),0,\nIF(Hydrograph_Source_WQCV=\"USER\",IF(J3561>0.03*D$4532,0,$C3561/60),\nIF(J3561>0.03*J$4532,0,$C3561/60))))","v":0},{"$f":"IF(SUM(T$3091:T3560)>0,0,\nIF(MAX(L3561:L$4531)=MAX(L$3091:L$4531),0,\nIF(Hydrograph_Source_WQCV=\"USER\",IF(J3561>0.01*D$4532,0,$C3561/60),\nIF(J3561>0.01*J$4532,0,$C3561/60))))","v":0},0,0,0,0,0,0,0,0,0,{"$error":"#N/A"},{"$error":"#N/A"},{"$error":"#N/A"},{"$error":"#N/A"},{"$error":"#N/A"},{"$error":"#N/A"},{"$f":"IF(SUM(AJ$3091:AJ3560)>0,0,\nIF(MAX(AC3561:AC$4531)=MAX(AC$3091:AC$4531),0,\nIF(Hydrograph_Source_EURV=\"USER\",IF(AA3561>0.03*U$4532,0,$C3561/60),\nIF(AA3561>0.03*AA$4532,0,$C3561/60))))","v":0},{"$f":"IF(SUM(AK$3091:AK3560)>0,0,\nIF(MAX(AC3561:AC$4531)=MAX(AC$3091:AC$4531),0,\nIF(Hydrograph_Source_EURV=\"USER\",IF(AA3561>0.01*U$4532,0,$C3561/60),\nIF(AA3561>0.01*AA$4532,0,$C3561/60))))","v":0},0,0,0,0,0,0,0,0,0,{"$error":"#N/A"},{"$error":"#N/A"},{"$error":"#N/A"},{"$error":"#N/A"},{"$error":"#N/A"},{"$error":"#N/A"},{"$f":"IF(SUM(BA$3091:BA3560)>0,0,IF(MAX(AT3561:AT$4531)=MAX(AT$3091:AT$4531),0,IF(AR3561>0.03*AL$4532,0,$C3561/60)))","v":0},{"$f":"IF(SUM(BB$3091:BB3560)>0,0,IF(MAX(AT3561:AT$4531)=MAX(AT$3091:AT$4531),0,IF(AR3561>0.01*AL$4532,0,$C3561/60)))","v":0},0,0,0,0,0,0,0,0,0,{"$error":"#N/A"},{"$error":"#N/A"},{"$error":"#N/A"},{"$error":"#N/A"},{"$error":"#N/A"},{"$error":"#N/A"},{"$f":"IF(SUM(BR$3091:BR3560)>0,0,IF(MAX(BK3561:BK$4531)=MAX(BK$3091:BK$4531),0,IF(BI3561>0.03*BC$4532,0,$C3561/60)))","v":0},{"$f":"IF(SUM(BS$3091:BS3560)>0,0,IF(MAX(BK3561:BK$4531)=MAX(BK$3091:BK$4531),0,IF(BI3561>0.01*BC$4532,0,$C3561/60)))","v":0},0,0,0,0,0,0,0,0,0,{"$error":"#N/A"},{"$error":"#N/A"},{"$error":"#N/A"},{"$error":"#N/A"},{"$error":"#N/A"},{"$error":"#N/A"},{"$f":"IF(SUM(CI$3091:CI3560)>0,0,IF(MAX(CB3561:CB$4531)=MAX(CB$3091:CB$4531),0,IF(BZ3561>0.03*BT$4532,0,$C3561/60)))","v":0},{"$f":"IF(SUM(CJ$3091:CJ3560)>0,0,IF(MAX(CB3561:CB$4531)=MAX(CB$3091:CB$4531),0,IF(BZ3561>0.01*BT$4532,0,$C3561/60)))","v":0},0,0,0,0,0,0,0,0,0,{"$error":"#N/A"},{"$error":"#N/A"},{"$error":"#N/A"},{"$error":"#N/A"},{"$error":"#N/A"},{"$error":"#N/A"},{"$f":"IF(SUM(CZ$3091:CZ3560)>0,0,IF(MAX(CS3561:CS$4531)=MAX(CS$3091:CS$4531),0,IF(CQ3561>0.03*CK$4532,0,$C3561/60)))","v":0},{"$f":"IF(SUM(DA$3091:DA3560)>0,0,IF(MAX(CS3561:CS$4531)=MAX(CS$3091:CS$4531),0,IF(CQ3561>0.01*CK$4532,0,$C3561/60)))","v":0},0,0,0,0,0,0,0,0,0,{"$error":"#N/A"},{"$error":"#N/A"},{"$error":"#N/A"},{"$error":"#N/A"},{"$error":"#N/A"},{"$error":"#N/A"},{"$f":"IF(SUM(DQ$3091:DQ3560)>0,0,IF(MAX(DJ3561:DJ$4531)=MAX(DJ$3091:DJ$4531),0,IF(DH3561>0.03*DB$4532,0,$C3561/60)))","v":0},{"$f":"IF(SUM(DR$3091:DR3560)>0,0,IF(MAX(DJ3561:DJ$4531)=MAX(DJ$3091:DJ$4531),0,IF(DH3561>0.01*DB$4532,0,$C3561/60)))","v":0},0,0,0,0,0,0,0,0,0,{"$error":"#N/A"},{"$error":"#N/A"},{"$error":"#N/A"},{"$error":"#N/A"},{"$error":"#N/A"},{"$error":"#N/A"},{"$f":"IF(SUM(EH$3091:EH3560)>0,0,IF(MAX(EA3561:EA$4531)=MAX(EA$3091:EA$4531),0,IF(DY3561>0.03*DS$4532,0,$C3561/60)))","v":0},{"$f":"IF(SUM(EI$3091:EI3560)>0,0,IF(MAX(EA3561:EA$4531)=MAX(EA$3091:EA$4531),0,IF(DY3561>0.01*DS$4532,0,$C3561/60)))","v":0},0,0,0,0,0,0,0,0,0,{"$error":"#N/A"},{"$error":"#N/A"},{"$error":"#N/A"},{"$error":"#N/A"},{"$error":"#N/A"},{"$error":"#N/A"},{"$f":"IF(SUM(EY$3091:EY3560)>0,0,IF(MAX(ER3561:ER$4531)=MAX(ER$3091:ER$4531),0,IF(EP3561>0.03*EJ$4532,0,$C3561/60)))","v":0},{"$f":"IF(SUM(EZ$3091:EZ3560)>0,0,IF(MAX(ER3561:ER$4531)=MAX(ER$3091:ER$4531),0,IF(EP3561>0.01*EJ$4532,0,$C3561/60)))","v":0}]
[null,39.916666666666664,2395,0,0,0,0,0,0,0,0,0,{"$error":"#N/A"},{"$error":"#N/A"},{"$error":"#N/A"},{"$error":"#N/A"},{"$error":"#N/A"},{"$error":"#N/A"},{"$f":"IF(SUM(S$3091:S3569)>0,0,\nIF(MAX(L3570:L$4531)=MAX(L$3091:L$4531),0,\nIF(Hydrograph_Source_WQCV=\"USER\",IF(J3570>0.03*D$4532,0,$C3570/60),\nIF(J3570>0.03*J$4532,0,$C3570/60))))","v":0},{"$f":"IF(SUM(T$3091:T3569)>0,0,\nIF(MAX(L3570:L$4531)=MAX(L$3091:L$4531),0,\nIF(Hydrograph_Source_WQCV=\"USER\",IF(J3570>0.01*D$4532,0,$C3570/60),\nIF(J3570>0.01*J$4532,0,$C3570/60))))","v":0},0,0,0,0,0,0,0,0,0,{"$error":"#N/A"},{"$error":"#N/A"},{"$error":"#N/A"},{"$error":"#N/A"},{"$error":"#N/A"},{"$error":"#N/A"},{"$f":"IF(SUM(AJ$3091:AJ3569)>0,0,\nIF(MAX(AC3570:AC$4531)=MAX(AC$3091:AC$4531),0,\nIF(Hydrograph_Source_EURV=\"USER\",IF(AA3570>0.03*U$4532,0,$C3570/60),\nIF(AA3570>0.03*AA$4532,0,$C3570/60))))","v":0},{"$f":"IF(SUM(AK$3091:AK3569)>0,0,\nIF(MAX(AC3570:AC$4531)=MAX(AC$3091:AC$4531),0,\nIF(Hydrograph_Source_EURV=\"USER\",IF(AA3570>0.01*U$4532,0,$C3570/60),\nIF(AA3570>0.01*AA$4532,0,$C3570/60))))","v":0},0,0,0,0,0,0,0,0,0,{"$error":"#N/A"},{"$error":"#N/A"},{"$error":"#N/A"},{"$error":"#N/A"},{"$error":"#N/A"},{"$error":"#N/A"},{"$f":"IF(SUM(BA$3091:BA3569)>0,0,IF(MAX(AT3570:AT$4531)=MAX(AT$3091:AT$4531),0,IF(AR3570>0.03*AL$4532,0,$C3570/60)))","v":0},{"$f":"IF(SUM(BB$3091:BB3569)>0,0,IF(MAX(AT3570:AT$4531)=MAX(AT$3091:AT$4531),0,IF(AR3570>0.01*AL$4532,0,$C3570/60)))","v":0},0,0,0,0,0,0,0,0,0,{"$error":"#N/A"},{"$error":"#N/A"},{"$error":"#N/A"},{"$error":"#N/A"},{"$error":"#N/A"},{"$error":"#N/A"},{"$f":"IF(SUM(BR$3091:BR3569)>0,0,IF(MAX(BK3570:BK$4531)=MAX(BK$3091:BK$4531),0,IF(BI3570>0.03*BC$4532,0,$C3570/60)))","v":0},{"$f":"IF(SUM(BS$3091:BS3569)>0,0,IF(MAX(BK3570:BK$4531)=MAX(BK$3091:BK$4531),0,IF(BI3570>0.01*BC$4532,0,$C3570/60)))","v":0},0,0,0,0,0,0,0,0,0,{"$error":"#N/A"},{"$error":"#N/A"},{"$error":"#N/A"},{"$error":"#N/A"},{"$error":"#N/A"},{"$error":"#N/A"},{"$f":"IF(SUM(CI$3091:CI3569)>0,0,IF(MAX(CB3570:CB$4531)=MAX(CB$3091:CB$4531),0,IF(BZ3570>0.03*BT$4532,0,$C3570/60)))","v":0},{"$f":"IF(SUM(CJ$3091:CJ3569)>0,0,IF(MAX(CB3570:CB$4531)=MAX(CB$3091:CB$4531),0,IF(BZ3570>0.01*BT$4532,0,$C3570/60)))","v":0},0,0,0,0,0,0,0,0,0,{"$error":"#N/A"},{"$error":"#N/A"},{"$error":"#N/A"},{"$error":"#N/A"},{"$error":"#N/A"},{"$error":"#N/A"},{"$f":"IF(SUM(CZ$3091:CZ3569)>0,0,IF(MAX(CS3570:CS$4531)=MAX(CS$3091:CS$4531),0,IF(CQ3570>0.03*CK$4532,0,$C3570/60)))","v":0},{"$f":"IF(SUM(DA$3091:DA3569)>0,0,IF(MAX(CS3570:CS$4531)=MAX(CS$3091:CS$4531),0,IF(CQ3570>0.01*CK$4532,0,$C3570/60)))","v":0},0,0,0,0,0,0,0,0,0,{"$error":"#N/A"},{"$error":"#N/A"},{"$error":"#N/A"},{"$error":"#N/A"},{"$error":"#N/A"},{"$error":"#N/A"},{"$f":"IF(SUM(DQ$3091:DQ3569)>0,0,IF(MAX(DJ3570:DJ$4531)=MAX(DJ$3091:DJ$4531),0,IF(DH3570>0.03*DB$4532,0,$C3570/60)))","v":0},{"$f":"IF(SUM(DR$3091:DR3569)>0,0,IF(MAX(DJ3570:DJ$4531)=MAX(DJ$3091:DJ$4531),0,IF(DH3570>0.01*DB$4532,0,$C3570/60)))","v":0},0,0,0,0,0,0,0,0,0,{"$error":"#N/A"},{"$error":"#N/A"},{"$error":"#N/A"},{"$error":"#N/A"},{"$error":"#N/A"},{"$error":"#N/A"},{"$f":"IF(SUM(EH$3091:EH3569)>0,0,IF(MAX(EA3570:EA$4531)=MAX(EA$3091:EA$4531),0,IF(DY3570>0.03*DS$4532,0,$C3570/60)))","v":0},{"$f":"IF(SUM(EI$3091:EI3569)>0,0,IF(MAX(EA3570:EA$4531)=MAX(EA$3091:EA$4531),0,IF(DY3570>0.01*DS$4532,0,$C3570/60)))","v":0},0,0,0,0,0,0,0,0,0,{"$error":"#N/A"},{"$error":"#N/A"},{"$error":"#N/A"},{"$error":"#N/A"},{"$error":"#N/A"},{"$error":"#N/A"},{"$f":"IF(SUM(EY$3091:EY3569)>0,0,IF(MAX(ER3570:ER$4531)=MAX(ER$3091:ER$4531),0,IF(EP3570>0.03*EJ$4532,0,$C3570/60)))","v":0},{"$f":"IF(SUM(EZ$3091:EZ3569)>0,0,IF(MAX(ER3570:ER$4531)=MAX(ER$3091:ER$4531),0,IF(EP3570>0.01*EJ$4532,0,$C3570/60)))","v":0}]
[null,40.666666666666664,2440,0,0,0,0,0,0,0,0,0,{"$error":"#N/A"},{"$error":"#N/A"},{"$error":"#N/A"},{"$error":"#N/A"},{"$error":"#N/A"},{"$error":"#N/A"},{"$f":"IF(SUM(S$3091:S3578)>0,0,\nIF(MAX(L3579:L$4531)=MAX(L$3091:L$4531),0,\nIF(Hydrograph_Source_WQCV=\"USER\",IF(J3579>0.03*D$4532,0,$C3579/60),\nIF(J3579>0.03*J$4532,0,$C3579/60))))","v":0},{"$f":"IF(SUM(T$3091:T3578)>0,0,\nIF(MAX(L3579:L$4531)=MAX(L$3091:L$4531),0,\nIF(Hydrograph_Source_WQCV=\"USER\",IF(J3579>0.01*D$4532,0,$C3579/60),\nIF(J3579>0.01*J$4532,0,$C3579/60))))","v":0},0,0,0,0,0,0,0,0,0,{"$error":"#N/A"},{"$error":"#N/A"},{"$error":"#N/A"},{"$error":"#N/A"},{"$error":"#N/A"},{"$error":"#N/A"},{"$f":"IF(SUM(AJ$3091:AJ3578)>0,0,\nIF(MAX(AC3579:AC$4531)=MAX(AC$3091:AC$4531),0,\nIF(Hydrograph_Source_EURV=\"USER\",IF(AA3579>0.03*U$4532,0,$C3579/60),\nIF(AA3579>0.03*AA$4532,0,$C3579/60))))","v":0},{"$f":"IF(SUM(AK$3091:AK3578)>0,0,\nIF(MAX(AC3579:AC$4531)=MAX(AC$3091:AC$4531),0,\nIF(Hydrograph_Source_EURV=\"USER\",IF(AA3579>0.01*U$4532,0,$C3579/60),\nIF(AA3579>0.01*AA$4532,0,$C3579/60))))","v":0},0,0,0,0,0,0,0,0,0,{"$error":"#N/A"},{"$error":"#N/A"},{"$error":"#N/A"},{"$error":"#N/A"},{"$error":"#N/A"},{"$error":"#N/A"},{"$f":"IF(SUM(BA$3091:BA3578)>0,0,IF(MAX(AT3579:AT$4531)=MAX(AT$3091:AT$4531),0,IF(AR3579>0.03*AL$4532,0,$C3579/60)))","v":0},{"$f":"IF(SUM(BB$3091:BB3578)>0,0,IF(MAX(AT3579:AT$4531)=MAX(AT$3091:AT$4531),0,IF(AR3579>0.01*AL$4532,0,$C3579/60)))","v":0},0,0,0,0,0,0,0,0,0,{"$error":"#N/A"},{"$error":"#N/A"},{"$error":"#N/A"},{"$error":"#N/A"},{"$error":"#N/A"},{"$error":"#N/A"},{"$f":"IF(SUM(BR$3091:BR3578)>0,0,IF(MAX(BK3579:BK$4531)=MAX(BK$3091:BK$4531),0,IF(BI3579>0.03*BC$4532,0,$C3579/60)))","v":0},{"$f":"IF(SUM(BS$3091:BS3578)>0,0,IF(MAX(BK3579:BK$4531)=MAX(BK$3091:BK$4531),0,IF(BI3579>0.01*BC$4532,0,$C3579/60)))","v":0},0,0,0,0,0,0,0,0,0,{"$error":"#N/A"},{"$error":"#N/A"},{"$error":"#N/A"},{"$error":"#N/A"},{"$error":"#N/A"},{"$error":"#N/A"},{"$f":"IF(SUM(CI$3091:CI3578)>0,0,IF(MAX(CB3579:CB$4531)=MAX(CB$3091:CB$4531),0,IF(BZ3579>0.03*BT$4532,0,$C3579/60)))","v":0},{"$f":"IF(SUM(CJ$3091:CJ3578)>0,0,IF(MAX(CB3579:CB$4531)=MAX(CB$3091:CB$4531),0,IF(BZ3579>0.01*BT$4532,0,$C3579/60)))","v":0},0,0,0,0,0,0,0,0,0,{"$error":"#N/A"},{"$error":"#N/A"},{"$error":"#N/A"},{"$error":"#N/A"},{"$error":"#N/A"},{"$error":"#N/A"},{"$f":"IF(SUM(CZ$3091:CZ3578)>0,0,IF(MAX(CS3579:CS$4531)=MAX(CS$3091:CS$4531),0,IF(CQ3579>0.03*CK$4532,0,$C3579/60)))","v":0},{"$f":"IF(SUM(DA$3091:DA3578)>0,0,IF(MAX(CS3579:CS$4531)=MAX(CS$3091:CS$4531),0,IF(CQ3579>0.01*CK$4532,0,$C3579/60)))","v":0},0,0,0,0,0,0,0,0,0,{"$error":"#N/A"},{"$error":"#N/A"},{"$error":"#N/A"},{"$error":"#N/A"},{"$error":"#N/A"},{"$error":"#N/A"},{"$f":"IF(SUM(DQ$3091:DQ3578)>0,0,IF(MAX(DJ3579:DJ$4531)=MAX(DJ$3091:DJ$4531),0,IF(DH3579>0.03*DB$4532,0,$C3579/60)))","v":0},{"$f":"IF(SUM(DR$3091:DR3578)>0,0,IF(MAX(DJ3579:DJ$4531)=MAX(DJ$3091:DJ$4531),0,IF(DH3579>0.01*DB$4532,0,$C3579/60)))","v":0},0,0,0,0,0,0,0,0,0,{"$error":"#N/A"},{"$error":"#N/A"},{"$error":"#N/A"},{"$error":"#N/A"},{"$error":"#N/A"},{"$error":"#N/A"},{"$f":"IF(SUM(EH$3091:EH3578)>0,0,IF(MAX(EA3579:EA$4531)=MAX(EA$3091:EA$4531),0,IF(DY3579>0.03*DS$4532,0,$C3579/60)))","v":0},{"$f":"IF(SUM(EI$3091:EI3578)>0,0,IF(MAX(EA3579:EA$4531)=MAX(EA$3091:EA$4531),0,IF(DY3579>0.01*DS$4532,0,$C3579/60)))","v":0},0,0,0,0,0,0,0,0,0,{"$error":"#N/A"},{"$error":"#N/A"},{"$error":"#N/A"},{"$error":"#N/A"},{"$error":"#N/A"},{"$error":"#N/A"},{"$f":"IF(SUM(EY$3091:EY3578)>0,0,IF(MAX(ER3579:ER$4531)=MAX(ER$3091:ER$4531),0,IF(EP3579>0.03*EJ$4532,0,$C3579/60)))","v":0},{"$f":"IF(SUM(EZ$3091:EZ3578)>0,0,IF(MAX(ER3579:ER$4531)=MAX(ER$3091:ER$4531),0,IF(EP3579>0.01*EJ$4532,0,$C3579/60)))","v":0}]
[null,41.416666666666664,2485,0,0,0,0,0,0,0,0,0,{"$error":"#N/A"},{"$error":"#N/A"},{"$error":"#N/A"},{"$error":"#N/A"},{"$error":"#N/A"},{"$error":"#N/A"},{"$f":"IF(SUM(S$3091:S3587)>0,0,\nIF(MAX(L3588:L$4531)=MAX(L$3091:L$4531),0,\nIF(Hydrograph_Source_WQCV=\"USER\",IF(J3588>0.03*D$4532,0,$C3588/60),\nIF(J3588>0.03*J$4532,0,$C3588/60))))","v":0},{"$f":"IF(SUM(T$3091:T3587)>0,0,\nIF(MAX(L3588:L$4531)=MAX(L$3091:L$4531),0,\nIF(Hydrograph_Source_WQCV=\"USER\",IF(J3588>0.01*D$4532,0,$C3588/60),\nIF(J3588>0.01*J$4532,0,$C3588/60))))","v":0},0,0,0,0,0,0,0,0,0,{"$error":"#N/A"},{"$error":"#N/A"},{"$error":"#N/A"},{"$error":"#N/A"},{"$error":"#N/A"},{"$error":"#N/A"},{"$f":"IF(SUM(AJ$3091:AJ3587)>0,0,\nIF(MAX(AC3588:AC$4531)=MAX(AC$3091:AC$4531),0,\nIF(Hydrograph_Source_EURV=\"USER\",IF(AA3588>0.03*U$4532,0,$C3588/60),\nIF(AA3588>0.03*AA$4532,0,$C3588/60))))","v":0},{"$f":"IF(SUM(AK$3091:AK3587)>0,0,\nIF(MAX(AC3588:AC$4531)=MAX(AC$3091:AC$4531),0,\nIF(Hydrograph_Source_EURV=\"USER\",IF(AA3588>0.01*U$4532,0,$C3588/60),\nIF(AA3588>0.01*AA$4532,0,$C3588/60))))","v":0},0,0,0,0,0,0,0,0,0,{"$error":"#N/A"},{"$error":"#N/A"},{"$error":"#N/A"},{"$error":"#N/A"},{"$error":"#N/A"},{"$error":"#N/A"},{"$f":"IF(SUM(BA$3091:BA3587)>0,0,IF(MAX(AT3588:AT$4531)=MAX(AT$3091:AT$4531),0,IF(AR3588>0.03*AL$4532,0,$C3588/60)))","v":0},{"$f":"IF(SUM(BB$3091:BB3587)>0,0,IF(MAX(AT3588:AT$4531)=MAX(AT$3091:AT$4531),0,IF(AR3588>0.01*AL$4532,0,$C3588/60)))","v":0},0,0,0,0,0,0,0,0,0,{"$error":"#N/A"},{"$error":"#N/A"},{"$error":"#N/A"},{"$error":"#N/A"},{"$error":"#N/A"},{"$error":"#N/A"},{"$f":"IF(SUM(BR$3091:BR3587)>0,0,IF(MAX(BK3588:BK$4531)=MAX(BK$3091:BK$4531),0,IF(BI3588>0.03*BC$4532,0,$C3588/60)))","v":0},{"$f":"IF(SUM(BS$3091:BS3587)>0,0,IF(MAX(BK3588:BK$4531)=MAX(BK$3091:BK$4531),0,IF(BI3588>0.01*BC$4532,0,$C3588/60)))","v":0},0,0,0,0,0,0,0,0,0,{"$error":"#N/A"},{"$error":"#N/A"},{"$error":"#N/A"},{"$error":"#N/A"},{"$error":"#N/A"},{"$error":"#N/A"},{"$f":"IF(SUM(CI$3091:CI3587)>0,0,IF(MAX(CB3588:CB$4531)=MAX(CB$3091:CB$4531),0,IF(BZ3588>0.03*BT$4532,0,$C3588/60)))","v":0},{"$f":"IF(SUM(CJ$3091:CJ3587)>0,0,IF(MAX(CB3588:CB$4531)=MAX(CB$3091:CB$4531),0,IF(BZ3588>0.01*BT$4532,0,$C3588/60)))","v":0},0,0,0,0,0,0,0,0,0,{"$error":"#N/A"},{"$error":"#N/A"},{"$error":"#N/A"},{"$error":"#N/A"},{"$error":"#N/A"},{"$error":"#N/A"},{"$f":"IF(SUM(CZ$3091:CZ3587)>0,0,IF(MAX(CS3588:CS$4531)=MAX(CS$3091:CS$4531),0,IF(CQ3588>0.03*CK$4532,0,$C3588/60)))","v":0},{"$f":"IF(SUM(DA$3091:DA3587)>0,0,IF(MAX(CS3588:CS$4531)=MAX(CS$3091:CS$4531),0,IF(CQ3588>0.01*CK$4532,0,$C3588/60)))","v":0},0,0,0,0,0,0,0,0,0,{"$error":"#N/A"},{"$error":"#N/A"},{"$error":"#N/A"},{"$error":"#N/A"},{"$error":"#N/A"},{"$error":"#N/A"},{"$f":"IF(SUM(DQ$3091:DQ3587)>0,0,IF(MAX(DJ3588:DJ$4531)=MAX(DJ$3091:DJ$4531),0,IF(DH3588>0.03*DB$4532,0,$C3588/60)))","v":0},{"$f":"IF(SUM(DR$3091:DR3587)>0,0,IF(MAX(DJ3588:DJ$4531)=MAX(DJ$3091:DJ$4531),0,IF(DH3588>0.01*DB$4532,0,$C3588/60)))","v":0},0,0,0,0,0,0,0,0,0,{"$error":"#N/A"},{"$error":"#N/A"},{"$error":"#N/A"},{"$error":"#N/A"},{"$error":"#N/A"},{"$error":"#N/A"},{"$f":"IF(SUM(EH$3091:EH3587)>0,0,IF(MAX(EA3588:EA$4531)=MAX(EA$3091:EA$4531),0,IF(DY3588>0.03*DS$4532,0,$C3588/60)))","v":0},{"$f":"IF(SUM(EI$3091:EI3587)>0,0,IF(MAX(EA3588:EA$4531)=MAX(EA$3091:EA$4531),0,IF(DY3588>0.01*DS$4532,0,$C3588/60)))","v":0},0,0,0,0,0,0,0,0,0,{"$error":"#N/A"},{"$error":"#N/A"},{"$error":"#N/A"},{"$error":"#N/A"},{"$error":"#N/A"},{"$error":"#N/A"},{"$f":"IF(SUM(EY$3091:EY3587)>0,0,IF(MAX(ER3588:ER$4531)=MAX(ER$3091:ER$4531),0,IF(EP3588>0.03*EJ$4532,0,$C3588/60)))","v":0},{"$f":"IF(SUM(EZ$3091:EZ3587)>0,0,IF(MAX(ER3588:ER$4531)=MAX(ER$3091:ER$4531),0,IF(EP3588>0.01*EJ$4532,0,$C3588/60)))","v":0}]
[null,42.166666666666664,2530,0,0,0,0,0,0,0,0,0,{"$error":"#N/A"},{"$error":"#N/A"},{"$error":"#N/A"},{"$error":"#N/A"},{"$error":"#N/A"},{"$error":"#N/A"},{"$f":"IF(SUM(S$3091:S3596)>0,0,\nIF(MAX(L3597:L$4531)=MAX(L$3091:L$4531),0,\nIF(Hydrograph_Source_WQCV=\"USER\",IF(J3597>0.03*D$4532,0,$C3597/60),\nIF(J3597>0.03*J$4532,0,$C3597/60))))","v":0},{"$f":"IF(SUM(T$3091:T3596)>0,0,\nIF(MAX(L3597:L$4531)=MAX(L$3091:L$4531),0,\nIF(Hydrograph_Source_WQCV=\"USER\",IF(J3597>0.01*D$4532,0,$C3597/60),\nIF(J3597>0.01*J$4532,0,$C3597/60))))","v":0},0,0,0,0,0,0,0,0,0,{"$error":"#N/A"},{"$error":"#N/A"},{"$error":"#N/A"},{"$error":"#N/A"},{"$error":"#N/A"},{"$error":"#N/A"},{"$f":"IF(SUM(AJ$3091:AJ3596)>0,0,\nIF(MAX(AC3597:AC$4531)=MAX(AC$3091:AC$4531),0,\nIF(Hydrograph_Source_EURV=\"USER\",IF(AA3597>0.03*U$4532,0,$C3597/60),\nIF(AA3597>0.03*AA$4532,0,$C3597/60))))","v":0},{"$f":"IF(SUM(AK$3091:AK3596)>0,0,\nIF(MAX(AC3597:AC$4531)=MAX(AC$3091:AC$4531),0,\nIF(Hydrograph_Source_EURV=\"USER\",IF(AA3597>0.01*U$4532,0,$C3597/60),\nIF(AA3597>0.01*AA$4532,0,$C3597/60))))","v":0},0,0,0,0,0,0,0,0,0,{"$error":"#N/A"},{"$error":"#N/A"},{"$error":"#N/A"},{"$error":"#N/A"},{"$error":"#N/A"},{"$error":"#N/A"},{"$f":"IF(SUM(BA$3091:BA3596)>0,0,IF(MAX(AT3597:AT$4531)=MAX(AT$3091:AT$4531),0,IF(AR3597>0.03*AL$4532,0,$C3597/60)))","v":0},{"$f":"IF(SUM(BB$3091:BB3596)>0,0,IF(MAX(AT3597:AT$4531)=MAX(AT$3091:AT$4531),0,IF(AR3597>0.01*AL$4532,0,$C3597/60)))","v":0},0,0,0,0,0,0,0,0,0,{"$error":"#N/A"},{"$error":"#N/A"},{"$error":"#N/A"},{"$error":"#N/A"},{"$error":"#N/A"},{"$error":"#N/A"},{"$f":"IF(SUM(BR$3091:BR3596)>0,0,IF(MAX(BK3597:BK$4531)=MAX(BK$3091:BK$4531),0,IF(BI3597>0.03*BC$4532,0,$C3597/60)))","v":0},{"$f":"IF(SUM(BS$3091:BS3596)>0,0,IF(MAX(BK3597:BK$4531)=MAX(BK$3091:BK$4531),0,IF(BI3597>0.01*BC$4532,0,$C3597/60)))","v":0},0,0,0,0,0,0,0,0,0,{"$error":"#N/A"},{"$error":"#N/A"},{"$error":"#N/A"},{"$error":"#N/A"},{"$error":"#N/A"},{"$error":"#N/A"},{"$f":"IF(SUM(CI$3091:CI3596)>0,0,IF(MAX(CB3597:CB$4531)=MAX(CB$3091:CB$4531),0,IF(BZ3597>0.03*BT$4532,0,$C3597/60)))","v":0},{"$f":"IF(SUM(CJ$3091:CJ3596)>0,0,IF(MAX(CB3597:CB$4531)=MAX(CB$3091:CB$4531),0,IF(BZ3597>0.01*BT$4532,0,$C3597/60)))","v":0},0,0,0,0,0,0,0,0,0,{"$error":"#N/A"},{"$error":"#N/A"},{"$error":"#N/A"},{"$error":"#N/A"},{"$error":"#N/A"},{"$error":"#N/A"},{"$f":"IF(SUM(CZ$3091:CZ3596)>0,0,IF(MAX(CS3597:CS$4531)=MAX(CS$3091:CS$4531),0,IF(CQ3597>0.03*CK$4532,0,$C3597/60)))","v":0},{"$f":"IF(SUM(DA$3091:DA3596)>0,0,IF(MAX(CS3597:CS$4531)=MAX(CS$3091:CS$4531),0,IF(CQ3597>0.01*CK$4532,0,$C3597/60)))","v":0},0,0,0,0,0,0,0,0,0,{"$error":"#N/A"},{"$error":"#N/A"},{"$error":"#N/A"},{"$error":"#N/A"},{"$error":"#N/A"},{"$error":"#N/A"},{"$f":"IF(SUM(DQ$3091:DQ3596)>0,0,IF(MAX(DJ3597:DJ$4531)=MAX(DJ$3091:DJ$4531),0,IF(DH3597>0.03*DB$4532,0,$C3597/60)))","v":0},{"$f":"IF(SUM(DR$3091:DR3596)>0,0,IF(MAX(DJ3597:DJ$4531)=MAX(DJ$3091:DJ$4531),0,IF(DH3597>0.01*DB$4532,0,$C3597/60)))","v":0},0,0,0,0,0,0,0,0,0,{"$error":"#N/A"},{"$error":"#N/A"},{"$error":"#N/A"},{"$error":"#N/A"},{"$error":"#N/A"},{"$error":"#N/A"},{"$f":"IF(SUM(EH$3091:EH3596)>0,0,IF(MAX(EA3597:EA$4531)=MAX(EA$3091:EA$4531),0,IF(DY3597>0.03*DS$4532,0,$C3597/60)))","v":0},{"$f":"IF(SUM(EI$3091:EI3596)>0,0,IF(MAX(EA3597:EA$4531)=MAX(EA$3091:EA$4531),0,IF(DY3597>0.01*DS$4532,0,$C3597/60)))","v":0},0,0,0,0,0,0,0,0,0,{"$error":"#N/A"},{"$error":"#N/A"},{"$error":"#N/A"},{"$error":"#N/A"},{"$error":"#N/A"},{"$error":"#N/A"},{"$f":"IF(SUM(EY$3091:EY3596)>0,0,IF(MAX(ER3597:ER$4531)=MAX(ER$3091:ER$4531),0,IF(EP3597>0.03*EJ$4532,0,$C3597/60)))","v":0},{"$f":"IF(SUM(EZ$3091:EZ3596)>0,0,IF(MAX(ER3597:ER$4531)=MAX(ER$3091:ER$4531),0,IF(EP3597>0.01*EJ$4532,0,$C3597/60)))","v":0}]
[null,42.916666666666664,2575,0,0,0,0,0,0,0,0,0,{"$error":"#N/A"},{"$error":"#N/A"},{"$error":"#N/A"},{"$error":"#N/A"},{"$error":"#N/A"},{"$error":"#N/A"},{"$f":"IF(SUM(S$3091:S3605)>0,0,\nIF(MAX(L3606:L$4531)=MAX(L$3091:L$4531),0,\nIF(Hydrograph_Source_WQCV=\"USER\",IF(J3606>0.03*D$4532,0,$C3606/60),\nIF(J3606>0.03*J$4532,0,$C3606/60))))","v":0},{"$f":"IF(SUM(T$3091:T3605)>0,0,\nIF(MAX(L3606:L$4531)=MAX(L$3091:L$4531),0,\nIF(Hydrograph_Source_WQCV=\"USER\",IF(J3606>0.01*D$4532,0,$C3606/60),\nIF(J3606>0.01*J$4532,0,$C3606/60))))","v":0},0,0,0,0,0,0,0,0,0,{"$error":"#N/A"},{"$error":"#N/A"},{"$error":"#N/A"},{"$error":"#N/A"},{"$error":"#N/A"},{"$error":"#N/A"},{"$f":"IF(SUM(AJ$3091:AJ3605)>0,0,\nIF(MAX(AC3606:AC$4531)=MAX(AC$3091:AC$4531),0,\nIF(Hydrograph_Source_EURV=\"USER\",IF(AA3606>0.03*U$4532,0,$C3606/60),\nIF(AA3606>0.03*AA$4532,0,$C3606/60))))","v":0},{"$f":"IF(SUM(AK$3091:AK3605)>0,0,\nIF(MAX(AC3606:AC$4531)=MAX(AC$3091:AC$4531),0,\nIF(Hydrograph_Source_EURV=\"USER\",IF(AA3606>0.01*U$4532,0,$C3606/60),\nIF(AA3606>0.01*AA$4532,0,$C3606/60))))","v":0},0,0,0,0,0,0,0,0,0,{"$error":"#N/A"},{"$error":"#N/A"},{"$error":"#N/A"},{"$error":"#N/A"},{"$error":"#N/A"},{"$error":"#N/A"},{"$f":"IF(SUM(BA$3091:BA3605)>0,0,IF(MAX(AT3606:AT$4531)=MAX(AT$3091:AT$4531),0,IF(AR3606>0.03*AL$4532,0,$C3606/60)))","v":0},{"$f":"IF(SUM(BB$3091:BB3605)>0,0,IF(MAX(AT3606:AT$4531)=MAX(AT$3091:AT$4531),0,IF(AR3606>0.01*AL$4532,0,$C3606/60)))","v":0},0,0,0,0,0,0,0,0,0,{"$error":"#N/A"},{"$error":"#N/A"},{"$error":"#N/A"},{"$error":"#N/A"},{"$error":"#N/A"},{"$error":"#N/A"},{"$f":"IF(SUM(BR$3091:BR3605)>0,0,IF(MAX(BK3606:BK$4531)=MAX(BK$3091:BK$4531),0,IF(BI3606>0.03*BC$4532,0,$C3606/60)))","v":0},{"$f":"IF(SUM(BS$3091:BS3605)>0,0,IF(MAX(BK3606:BK$4531)=MAX(BK$3091:BK$4531),0,IF(BI3606>0.01*BC$4532,0,$C3606/60)))","v":0},0,0,0,0,0,0,0,0,0,{"$error":"#N/A"},{"$error":"#N/A"},{"$error":"#N/A"},{"$error":"#N/A"},{"$error":"#N/A"},{"$error":"#N/A"},{"$f":"IF(SUM(CI$3091:CI3605)>0,0,IF(MAX(CB3606:CB$4531)=MAX(CB$3091:CB$4531),0,IF(BZ3606>0.03*BT$4532,0,$C3606/60)))","v":0},{"$f":"IF(SUM(CJ$3091:CJ3605)>0,0,IF(MAX(CB3606:CB$4531)=MAX(CB$3091:CB$4531),0,IF(BZ3606>0.01*BT$4532,0,$C3606/60)))","v":0},0,0,0,0,0,0,0,0,0,{"$error":"#N/A"},{"$error":"#N/A"},{"$error":"#N/A"},{"$error":"#N/A"},{"$error":"#N/A"},{"$error":"#N/A"},{"$f":"IF(SUM(CZ$3091:CZ3605)>0,0,IF(MAX(CS3606:CS$4531)=MAX(CS$3091:CS$4531),0,IF(CQ3606>0.03*CK$4532,0,$C3606/60)))","v":0},{"$f":"IF(SUM(DA$3091:DA3605)>0,0,IF(MAX(CS3606:CS$4531)=MAX(CS$3091:CS$4531),0,IF(CQ3606>0.01*CK$4532,0,$C3606/60)))","v":0},0,0,0,0,0,0,0,0,0,{"$error":"#N/A"},{"$error":"#N/A"},{"$error":"#N/A"},{"$error":"#N/A"},{"$error":"#N/A"},{"$error":"#N/A"},{"$f":"IF(SUM(DQ$3091:DQ3605)>0,0,IF(MAX(DJ3606:DJ$4531)=MAX(DJ$3091:DJ$4531),0,IF(DH3606>0.03*DB$4532,0,$C3606/60)))","v":0},{"$f":"IF(SUM(DR$3091:DR3605)>0,0,IF(MAX(DJ3606:DJ$4531)=MAX(DJ$3091:DJ$4531),0,IF(DH3606>0.01*DB$4532,0,$C3606/60)))","v":0},0,0,0,0,0,0,0,0,0,{"$error":"#N/A"},{"$error":"#N/A"},{"$error":"#N/A"},{"$error":"#N/A"},{"$error":"#N/A"},{"$error":"#N/A"},{"$f":"IF(SUM(EH$3091:EH3605)>0,0,IF(MAX(EA3606:EA$4531)=MAX(EA$3091:EA$4531),0,IF(DY3606>0.03*DS$4532,0,$C3606/60)))","v":0},{"$f":"IF(SUM(EI$3091:EI3605)>0,0,IF(MAX(EA3606:EA$4531)=MAX(EA$3091:EA$4531),0,IF(DY3606>0.01*DS$4532,0,$C3606/60)))","v":0},0,0,0,0,0,0,0,0,0,{"$error":"#N/A"},{"$error":"#N/A"},{"$error":"#N/A"},{"$error":"#N/A"},{"$error":"#N/A"},{"$error":"#N/A"},{"$f":"IF(SUM(EY$3091:EY3605)>0,0,IF(MAX(ER3606:ER$4531)=MAX(ER$3091:ER$4531),0,IF(EP3606>0.03*EJ$4532,0,$C3606/60)))","v":0},{"$f":"IF(SUM(EZ$3091:EZ3605)>0,0,IF(MAX(ER3606:ER$4531)=MAX(ER$3091:ER$4531),0,IF(EP3606>0.01*EJ$4532,0,$C3606/60)))","v":0}]
[null,43.666666666666664,2620,0,0,0,0,0,0,0,0,0,{"$error":"#N/A"},{"$error":"#N/A"},{"$error":"#N/A"},{"$error":"#N/A"},{"$error":"#N/A"},{"$error":"#N/A"},{"$f":"IF(SUM(S$3091:S3614)>0,0,\nIF(MAX(L3615:L$4531)=MAX(L$3091:L$4531),0,\nIF(Hydrograph_Source_WQCV=\"USER\",IF(J3615>0.03*D$4532,0,$C3615/60),\nIF(J3615>0.03*J$4532,0,$C3615/60))))","v":0},{"$f":"IF(SUM(T$3091:T3614)>0,0,\nIF(MAX(L3615:L$4531)=MAX(L$3091:L$4531),0,\nIF(Hydrograph_Source_WQCV=\"USER\",IF(J3615>0.01*D$4532,0,$C3615/60),\nIF(J3615>0.01*J$4532,0,$C3615/60))))","v":0},0,0,0,0,0,0,0,0,0,{"$error":"#N/A"},{"$error":"#N/A"},{"$error":"#N/A"},{"$error":"#N/A"},{"$error":"#N/A"},{"$error":"#N/A"},{"$f":"IF(SUM(AJ$3091:AJ3614)>0,0,\nIF(MAX(AC3615:AC$4531)=MAX(AC$3091:AC$4531),0,\nIF(Hydrograph_Source_EURV=\"USER\",IF(AA3615>0.03*U$4532,0,$C3615/60),\nIF(AA3615>0.03*AA$4532,0,$C3615/60))))","v":0},{"$f":"IF(SUM(AK$3091:AK3614)>0,0,\nIF(MAX(AC3615:AC$4531)=MAX(AC$3091:AC$4531),0,\nIF(Hydrograph_Source_EURV=\"USER\",IF(AA3615>0.01*U$4532,0,$C3615/60),\nIF(AA3615>0.01*AA$4532,0,$C3615/60))))","v":0},0,0,0,0,0,0,0,0,0,{"$error":"#N/A"},{"$error":"#N/A"},{"$error":"#N/A"},{"$error":"#N/A"},{"$error":"#N/A"},{"$error":"#N/A"},{"$f":"IF(SUM(BA$3091:BA3614)>0,0,IF(MAX(AT3615:AT$4531)=MAX(AT$3091:AT$4531),0,IF(AR3615>0.03*AL$4532,0,$C3615/60)))","v":0},{"$f":"IF(SUM(BB$3091:BB3614)>0,0,IF(MAX(AT3615:AT$4531)=MAX(AT$3091:AT$4531),0,IF(AR3615>0.01*AL$4532,0,$C3615/60)))","v":0},0,0,0,0,0,0,0,0,0,{"$error":"#N/A"},{"$error":"#N/A"},{"$error":"#N/A"},{"$error":"#N/A"},{"$error":"#N/A"},{"$error":"#N/A"},{"$f":"IF(SUM(BR$3091:BR3614)>0,0,IF(MAX(BK3615:BK$4531)=MAX(BK$3091:BK$4531),0,IF(BI3615>0.03*BC$4532,0,$C3615/60)))","v":0},{"$f":"IF(SUM(BS$3091:BS3614)>0,0,IF(MAX(BK3615:BK$4531)=MAX(BK$3091:BK$4531),0,IF(BI3615>0.01*BC$4532,0,$C3615/60)))","v":0},0,0,0,0,0,0,0,0,0,{"$error":"#N/A"},{"$error":"#N/A"},{"$error":"#N/A"},{"$error":"#N/A"},{"$error":"#N/A"},{"$error":"#N/A"},{"$f":"IF(SUM(CI$3091:CI3614)>0,0,IF(MAX(CB3615:CB$4531)=MAX(CB$3091:CB$4531),0,IF(BZ3615>0.03*BT$4532,0,$C3615/60)))","v":0},{"$f":"IF(SUM(CJ$3091:CJ3614)>0,0,IF(MAX(CB3615:CB$4531)=MAX(CB$3091:CB$4531),0,IF(BZ3615>0.01*BT$4532,0,$C3615/60)))","v":0},0,0,0,0,0,0,0,0,0,{"$error":"#N/A"},{"$error":"#N/A"},{"$error":"#N/A"},{"$error":"#N/A"},{"$error":"#N/A"},{"$error":"#N/A"},{"$f":"IF(SUM(CZ$3091:CZ3614)>0,0,IF(MAX(CS3615:CS$4531)=MAX(CS$3091:CS$4531),0,IF(CQ3615>0.03*CK$4532,0,$C3615/60)))","v":0},{"$f":"IF(SUM(DA$3091:DA3614)>0,0,IF(MAX(CS3615:CS$4531)=MAX(CS$3091:CS$4531),0,IF(CQ3615>0.01*CK$4532,0,$C3615/60)))","v":0},0,0,0,0,0,0,0,0,0,{"$error":"#N/A"},{"$error":"#N/A"},{"$error":"#N/A"},{"$error":"#N/A"},{"$error":"#N/A"},{"$error":"#N/A"},{"$f":"IF(SUM(DQ$3091:DQ3614)>0,0,IF(MAX(DJ3615:DJ$4531)=MAX(DJ$3091:DJ$4531),0,IF(DH3615>0.03*DB$4532,0,$C3615/60)))","v":0},{"$f":"IF(SUM(DR$3091:DR3614)>0,0,IF(MAX(DJ3615:DJ$4531)=MAX(DJ$3091:DJ$4531),0,IF(DH3615>0.01*DB$4532,0,$C3615/60)))","v":0},0,0,0,0,0,0,0,0,0,{"$error":"#N/A"},{"$error":"#N/A"},{"$error":"#N/A"},{"$error":"#N/A"},{"$error":"#N/A"},{"$error":"#N/A"},{"$f":"IF(SUM(EH$3091:EH3614)>0,0,IF(MAX(EA3615:EA$4531)=MAX(EA$3091:EA$4531),0,IF(DY3615>0.03*DS$4532,0,$C3615/60)))","v":0},{"$f":"IF(SUM(EI$3091:EI3614)>0,0,IF(MAX(EA3615:EA$4531)=MAX(EA$3091:EA$4531),0,IF(DY3615>0.01*DS$4532,0,$C3615/60)))","v":0},0,0,0,0,0,0,0,0,0,{"$error":"#N/A"},{"$error":"#N/A"},{"$error":"#N/A"},{"$error":"#N/A"},{"$error":"#N/A"},{"$error":"#N/A"},{"$f":"IF(SUM(EY$3091:EY3614)>0,0,IF(MAX(ER3615:ER$4531)=MAX(ER$3091:ER$4531),0,IF(EP3615>0.03*EJ$4532,0,$C3615/60)))","v":0},{"$f":"IF(SUM(EZ$3091:EZ3614)>0,0,IF(MAX(ER3615:ER$4531)=MAX(ER$3091:ER$4531),0,IF(EP3615>0.01*EJ$4532,0,$C3615/60)))","v":0}]
[null,43.75,2625,0,0,0,0,0,0,0,0,0,{"$error":"#N/A"},{"$error":"#N/A"},{"$error":"#N/A"},{"$error":"#N/A"},{"$error":"#N/A"},{"$error":"#N/A"},{"$f":"IF(SUM(S$3091:S3615)>0,0,\nIF(MAX(L3616:L$4531)=MAX(L$3091:L$4531),0,\nIF(Hydrograph_Source_WQCV=\"USER\",IF(J3616>0.03*D$4532,0,$C3616/60),\nIF(J3616>0.03*J$4532,0,$C3616/60))))","v":0},{"$f":"IF(SUM(T$3091:T3615)>0,0,\nIF(MAX(L3616:L$4531)=MAX(L$3091:L$4531),0,\nIF(Hydrograph_Source_WQCV=\"USER\",IF(J3616>0.01*D$4532,0,$C3616/60),\nIF(J3616>0.01*J$4532,0,$C3616/60))))","v":0},0,0,0,0,0,0,0,0,0,{"$error":"#N/A"},{"$error":"#N/A"},{"$error":"#N/A"},{"$error":"#N/A"},{"$error":"#N/A"},{"$error":"#N/A"},{"$f":"IF(SUM(AJ$3091:AJ3615)>0,0,\nIF(MAX(AC3616:AC$4531)=MAX(AC$3091:AC$4531),0,\nIF(Hydrograph_Source_EURV=\"USER\",IF(AA3616>0.03*U$4532,0,$C3616/60),\nIF(AA3616>0.03*AA$4532,0,$C3616/60))))","v":0},{"$f":"IF(SUM(AK$3091:AK3615)>0,0,\nIF(MAX(AC3616:AC$4531)=MAX(AC$3091:AC$4531),0,\nIF(Hydrograph_Source_EURV=\"USER\",IF(AA3616>0.01*U$4532,0,$C3616/60),\nIF(AA3616>0.01*AA$4532,0,$C3616/60))))","v":0},0,0,0,0,0,0,0,0,0,{"$error":"#N/A"},{"$error":"#N/A"},{"$error":"#N/A"},{"$error":"#N/A"},{"$error":"#N/A"},{"$error":"#N/A"},{"$f":"IF(SUM(BA$3091:BA3615)>0,0,IF(MAX(AT3616:AT$4531)=MAX(AT$3091:AT$4531),0,IF(AR3616>0.03*AL$4532,0,$C3616/60)))","v":0},{"$f":"IF(SUM(BB$3091:BB3615)>0,0,IF(MAX(AT3616:AT$4531)=MAX(AT$3091:AT$4531),0,IF(AR3616>0.01*AL$4532,0,$C3616/60)))","v":0},0,0,0,0,0,0,0,0,0,{"$error":"#N/A"},{"$error":"#N/A"},{"$error":"#N/A"},{"$error":"#N/A"},{"$error":"#N/A"},{"$error":"#N/A"},{"$f":"IF(SUM(BR$3091:BR3615)>0,0,IF(MAX(BK3616:BK$4531)=MAX(BK$3091:BK$4531),0,IF(BI3616>0.03*BC$4532,0,$C3616/60)))","v":0},{"$f":"IF(SUM(BS$3091:BS3615)>0,0,IF(MAX(BK3616:BK$4531)=MAX(BK$3091:BK$4531),0,IF(BI3616>0.01*BC$4532,0,$C3616/60)))","v":0},0,0,0,0,0,0,0,0,0,{"$error":"#N/A"},{"$error":"#N/A"},{"$error":"#N/A"},{"$error":"#N/A"},{"$error":"#N/A"},{"$error":"#N/A"},{"$f":"IF(SUM(CI$3091:CI3615)>0,0,IF(MAX(CB3616:CB$4531)=MAX(CB$3091:CB$4531),0,IF(BZ3616>0.03*BT$4532,0,$C3616/60)))","v":0},{"$f":"IF(SUM(CJ$3091:CJ3615)>0,0,IF(MAX(CB3616:CB$4531)=MAX(CB$3091:CB$4531),0,IF(BZ3616>0.01*BT$4532,0,$C3616/60)))","v":0},0,0,0,0,0,0,0,0,0,{"$error":"#N/A"},{"$error":"#N/A"},{"$error":"#N/A"},{"$error":"#N/A"},{"$error":"#N/A"},{"$error":"#N/A"},{"$f":"IF(SUM(CZ$3091:CZ3615)>0,0,IF(MAX(CS3616:CS$4531)=MAX(CS$3091:CS$4531),0,IF(CQ3616>0.03*CK$4532,0,$C3616/60)))","v":0},{"$f":"IF(SUM(DA$3091:DA3615)>0,0,IF(MAX(CS3616:CS$4531)=MAX(CS$3091:CS$4531),0,IF(CQ3616>0.01*CK$4532,0,$C3616/60)))","v":0},0,0,0,0,0,0,0,0,0,{"$error":"#N/A"},{"$error":"#N/A"},{"$error":"#N/A"},{"$error":"#N/A"},{"$error":"#N/A"},{"$error":"#N/A"},{"$f":"IF(SUM(DQ$3091:DQ3615)>0,0,IF(MAX(DJ3616:DJ$4531)=MAX(DJ$3091:DJ$4531),0,IF(DH3616>0.03*DB$4532,0,$C3616/60)))","v":0},{"$f":"IF(SUM(DR$3091:DR3615)>0,0,IF(MAX(DJ3616:DJ$4531)=MAX(DJ$3091:DJ$4531),0,IF(DH3616>0.01*DB$4532,0,$C3616/60)))","v":0},0,0,0,0,0,0,0,0,0,{"$error":"#N/A"},{"$error":"#N/A"},{"$error":"#N/A"},{"$error":"#N/A"},{"$error":"#N/A"},{"$error":"#N/A"},{"$f":"IF(SUM(EH$3091:EH3615)>0,0,IF(MAX(EA3616:EA$4531)=MAX(EA$3091:EA$4531),0,IF(DY3616>0.03*DS$4532,0,$C3616/60)))","v":0},{"$f":"IF(SUM(EI$3091:EI3615)>0,0,IF(MAX(EA3616:EA$4531)=MAX(EA$3091:EA$4531),0,IF(DY3616>0.01*DS$4532,0,$C3616/60)))","v":0},0,0,0,0,0,0,0,0,0,{"$error":"#N/A"},{"$error":"#N/A"},{"$error":"#N/A"},{"$error":"#N/A"},{"$error":"#N/A"},{"$error":"#N/A"},{"$f":"IF(SUM(EY$3091:EY3615)>0,0,IF(MAX(ER3616:ER$4531)=MAX(ER$3091:ER$4531),0,IF(EP3616>0.03*EJ$4532,0,$C3616/60)))","v":0},{"$f":"IF(SUM(EZ$3091:EZ3615)>0,0,IF(MAX(ER3616:ER$4531)=MAX(ER$3091:ER$4531),0,IF(EP3616>0.01*EJ$4532,0,$C3616/60)))","v":0}]
[null,44.5,2670,0,0,0,0,0,0,0,0,0,{"$error":"#N/A"},{"$error":"#N/A"},{"$error":"#N/A"},{"$error":"#N/A"},{"$error":"#N/A"},{"$error":"#N/A"},{"$f":"IF(SUM(S$3091:S3624)>0,0,\nIF(MAX(L3625:L$4531)=MAX(L$3091:L$4531),0,\nIF(Hydrograph_Source_WQCV=\"USER\",IF(J3625>0.03*D$4532,0,$C3625/60),\nIF(J3625>0.03*J$4532,0,$C3625/60))))","v":0},{"$f":"IF(SUM(T$3091:T3624)>0,0,\nIF(MAX(L3625:L$4531)=MAX(L$3091:L$4531),0,\nIF(Hydrograph_Source_WQCV=\"USER\",IF(J3625>0.01*D$4532,0,$C3625/60),\nIF(J3625>0.01*J$4532,0,$C3625/60))))","v":0},0,0,0,0,0,0,0,0,0,{"$error":"#N/A"},{"$error":"#N/A"},{"$error":"#N/A"},{"$error":"#N/A"},{"$error":"#N/A"},{"$error":"#N/A"},{"$f":"IF(SUM(AJ$3091:AJ3624)>0,0,\nIF(MAX(AC3625:AC$4531)=MAX(AC$3091:AC$4531),0,\nIF(Hydrograph_Source_EURV=\"USER\",IF(AA3625>0.03*U$4532,0,$C3625/60),\nIF(AA3625>0.03*AA$4532,0,$C3625/60))))","v":0},{"$f":"IF(SUM(AK$3091:AK3624)>0,0,\nIF(MAX(AC3625:AC$4531)=MAX(AC$3091:AC$4531),0,\nIF(Hydrograph_Source_EURV=\"USER\",IF(AA3625>0.01*U$4532,0,$C3625/60),\nIF(AA3625>0.01*AA$4532,0,$C3625/60))))","v":0},0,0,0,0,0,0,0,0,0,{"$error":"#N/A"},{"$error":"#N/A"},{"$error":"#N/A"},{"$error":"#N/A"},{"$error":"#N/A"},{"$error":"#N/A"},{"$f":"IF(SUM(BA$3091:BA3624)>0,0,IF(MAX(AT3625:AT$4531)=MAX(AT$3091:AT$4531),0,IF(AR3625>0.03*AL$4532,0,$C3625/60)))","v":0},{"$f":"IF(SUM(BB$3091:BB3624)>0,0,IF(MAX(AT3625:AT$4531)=MAX(AT$3091:AT$4531),0,IF(AR3625>0.01*AL$4532,0,$C3625/60)))","v":0},0,0,0,0,0,0,0,0,0,{"$error":"#N/A"},{"$error":"#N/A"},{"$error":"#N/A"},{"$error":"#N/A"},{"$error":"#N/A"},{"$error":"#N/A"},{"$f":"IF(SUM(BR$3091:BR3624)>0,0,IF(MAX(BK3625:BK$4531)=MAX(BK$3091:BK$4531),0,IF(BI3625>0.03*BC$4532,0,$C3625/60)))","v":0},{"$f":"IF(SUM(BS$3091:BS3624)>0,0,IF(MAX(BK3625:BK$4531)=MAX(BK$3091:BK$4531),0,IF(BI3625>0.01*BC$4532,0,$C3625/60)))","v":0},0,0,0,0,0,0,0,0,0,{"$error":"#N/A"},{"$error":"#N/A"},{"$error":"#N/A"},{"$error":"#N/A"},{"$error":"#N/A"},{"$error":"#N/A"},{"$f":"IF(SUM(CI$3091:CI3624)>0,0,IF(MAX(CB3625:CB$4531)=MAX(CB$3091:CB$4531),0,IF(BZ3625>0.03*BT$4532,0,$C3625/60)))","v":0},{"$f":"IF(SUM(CJ$3091:CJ3624)>0,0,IF(MAX(CB3625:CB$4531)=MAX(CB$3091:CB$4531),0,IF(BZ3625>0.01*BT$4532,0,$C3625/60)))","v":0},0,0,0,0,0,0,0,0,0,{"$error":"#N/A"},{"$error":"#N/A"},{"$error":"#N/A"},{"$error":"#N/A"},{"$error":"#N/A"},{"$error":"#N/A"},{"$f":"IF(SUM(CZ$3091:CZ3624)>0,0,IF(MAX(CS3625:CS$4531)=MAX(CS$3091:CS$4531),0,IF(CQ3625>0.03*CK$4532,0,$C3625/60)))","v":0},{"$f":"IF(SUM(DA$3091:DA3624)>0,0,IF(MAX(CS3625:CS$4531)=MAX(CS$3091:CS$4531),0,IF(CQ3625>0.01*CK$4532,0,$C3625/60)))","v":0},0,0,0,0,0,0,0,0,0,{"$error":"#N/A"},{"$error":"#N/A"},{"$error":"#N/A"},{"$error":"#N/A"},{"$error":"#N/A"},{"$error":"#N/A"},{"$f":"IF(SUM(DQ$3091:DQ3624)>0,0,IF(MAX(DJ3625:DJ$4531)=MAX(DJ$3091:DJ$4531),0,IF(DH3625>0.03*DB$4532,0,$C3625/60)))","v":0},{"$f":"IF(SUM(DR$3091:DR3624)>0,0,IF(MAX(DJ3625:DJ$4531)=MAX(DJ$3091:DJ$4531),0,IF(DH3625>0.01*DB$4532,0,$C3625/60)))","v":0},0,0,0,0,0,0,0,0,0,{"$error":"#N/A"},{"$error":"#N/A"},{"$error":"#N/A"},{"$error":"#N/A"},{"$error":"#N/A"},{"$error":"#N/A"},{"$f":"IF(SUM(EH$3091:EH3624)>0,0,IF(MAX(EA3625:EA$4531)=MAX(EA$3091:EA$4531),0,IF(DY3625>0.03*DS$4532,0,$C3625/60)))","v":0},{"$f":"IF(SUM(EI$3091:EI3624)>0,0,IF(MAX(EA3625:EA$4531)=MAX(EA$3091:EA$4531),0,IF(DY3625>0.01*DS$4532,0,$C3625/60)))","v":0},0,0,0,0,0,0,0,0,0,{"$error":"#N/A"},{"$error":"#N/A"},{"$error":"#N/A"},{"$error":"#N/A"},{"$error":"#N/A"},{"$error":"#N/A"},{"$f":"IF(SUM(EY$3091:EY3624)>0,0,IF(MAX(ER3625:ER$4531)=MAX(ER$3091:ER$4531),0,IF(EP3625>0.03*EJ$4532,0,$C3625/60)))","v":0},{"$f":"IF(SUM(EZ$3091:EZ3624)>0,0,IF(MAX(ER3625:ER$4531)=MAX(ER$3091:ER$4531),0,IF(EP3625>0.01*EJ$4532,0,$C3625/60)))","v":0}]
[null,45.25,2715,0,0,0,0,0,0,0,0,0,{"$error":"#N/A"},{"$error":"#N/A"},{"$error":"#N/A"},{"$error":"#N/A"},{"$error":"#N/A"},{"$error":"#N/A"},{"$f":"IF(SUM(S$3091:S3633)>0,0,\nIF(MAX(L3634:L$4531)=MAX(L$3091:L$4531),0,\nIF(Hydrograph_Source_WQCV=\"USER\",IF(J3634>0.03*D$4532,0,$C3634/60),\nIF(J3634>0.03*J$4532,0,$C3634/60))))","v":0},{"$f":"IF(SUM(T$3091:T3633)>0,0,\nIF(MAX(L3634:L$4531)=MAX(L$3091:L$4531),0,\nIF(Hydrograph_Source_WQCV=\"USER\",IF(J3634>0.01*D$4532,0,$C3634/60),\nIF(J3634>0.01*J$4532,0,$C3634/60))))","v":0},0,0,0,0,0,0,0,0,0,{"$error":"#N/A"},{"$error":"#N/A"},{"$error":"#N/A"},{"$error":"#N/A"},{"$error":"#N/A"},{"$error":"#N/A"},{"$f":"IF(SUM(AJ$3091:AJ3633)>0,0,\nIF(MAX(AC3634:AC$4531)=MAX(AC$3091:AC$4531),0,\nIF(Hydrograph_Source_EURV=\"USER\",IF(AA3634>0.03*U$4532,0,$C3634/60),\nIF(AA3634>0.03*AA$4532,0,$C3634/60))))","v":0},{"$f":"IF(SUM(AK$3091:AK3633)>0,0,\nIF(MAX(AC3634:AC$4531)=MAX(AC$3091:AC$4531),0,\nIF(Hydrograph_Source_EURV=\"USER\",IF(AA3634>0.01*U$4532,0,$C3634/60),\nIF(AA3634>0.01*AA$4532,0,$C3634/60))))","v":0},0,0,0,0,0,0,0,0,0,{"$error":"#N/A"},{"$error":"#N/A"},{"$error":"#N/A"},{"$error":"#N/A"},{"$error":"#N/A"},{"$error":"#N/A"},{"$f":"IF(SUM(BA$3091:BA3633)>0,0,IF(MAX(AT3634:AT$4531)=MAX(AT$3091:AT$4531),0,IF(AR3634>0.03*AL$4532,0,$C3634/60)))","v":0},{"$f":"IF(SUM(BB$3091:BB3633)>0,0,IF(MAX(AT3634:AT$4531)=MAX(AT$3091:AT$4531),0,IF(AR3634>0.01*AL$4532,0,$C3634/60)))","v":0},0,0,0,0,0,0,0,0,0,{"$error":"#N/A"},{"$error":"#N/A"},{"$error":"#N/A"},{"$error":"#N/A"},{"$error":"#N/A"},{"$error":"#N/A"},{"$f":"IF(SUM(BR$3091:BR3633)>0,0,IF(MAX(BK3634:BK$4531)=MAX(BK$3091:BK$4531),0,IF(BI3634>0.03*BC$4532,0,$C3634/60)))","v":0},{"$f":"IF(SUM(BS$3091:BS3633)>0,0,IF(MAX(BK3634:BK$4531)=MAX(BK$3091:BK$4531),0,IF(BI3634>0.01*BC$4532,0,$C3634/60)))","v":0},0,0,0,0,0,0,0,0,0,{"$error":"#N/A"},{"$error":"#N/A"},{"$error":"#N/A"},{"$error":"#N/A"},{"$error":"#N/A"},{"$error":"#N/A"},{"$f":"IF(SUM(CI$3091:CI3633)>0,0,IF(MAX(CB3634:CB$4531)=MAX(CB$3091:CB$4531),0,IF(BZ3634>0.03*BT$4532,0,$C3634/60)))","v":0},{"$f":"IF(SUM(CJ$3091:CJ3633)>0,0,IF(MAX(CB3634:CB$4531)=MAX(CB$3091:CB$4531),0,IF(BZ3634>0.01*BT$4532,0,$C3634/60)))","v":0},0,0,0,0,0,0,0,0,0,{"$error":"#N/A"},{"$error":"#N/A"},{"$error":"#N/A"},{"$error":"#N/A"},{"$error":"#N/A"},{"$error":"#N/A"},{"$f":"IF(SUM(CZ$3091:CZ3633)>0,0,IF(MAX(CS3634:CS$4531)=MAX(CS$3091:CS$4531),0,IF(CQ3634>0.03*CK$4532,0,$C3634/60)))","v":0},{"$f":"IF(SUM(DA$3091:DA3633)>0,0,IF(MAX(CS3634:CS$4531)=MAX(CS$3091:CS$4531),0,IF(CQ3634>0.01*CK$4532,0,$C3634/60)))","v":0},0,0,0,0,0,0,0,0,0,{"$error":"#N/A"},{"$error":"#N/A"},{"$error":"#N/A"},{"$error":"#N/A"},{"$error":"#N/A"},{"$error":"#N/A"},{"$f":"IF(SUM(DQ$3091:DQ3633)>0,0,IF(MAX(DJ3634:DJ$4531)=MAX(DJ$3091:DJ$4531),0,IF(DH3634>0.03*DB$4532,0,$C3634/60)))","v":0},{"$f":"IF(SUM(DR$3091:DR3633)>0,0,IF(MAX(DJ3634:DJ$4531)=MAX(DJ$3091:DJ$4531),0,IF(DH3634>0.01*DB$4532,0,$C3634/60)))","v":0},0,0,0,0,0,0,0,0,0,{"$error":"#N/A"},{"$error":"#N/A"},{"$error":"#N/A"},{"$error":"#N/A"},{"$error":"#N/A"},{"$error":"#N/A"},{"$f":"IF(SUM(EH$3091:EH3633)>0,0,IF(MAX(EA3634:EA$4531)=MAX(EA$3091:EA$4531),0,IF(DY3634>0.03*DS$4532,0,$C3634/60)))","v":0},{"$f":"IF(SUM(EI$3091:EI3633)>0,0,IF(MAX(EA3634:EA$4531)=MAX(EA$3091:EA$4531),0,IF(DY3634>0.01*DS$4532,0,$C3634/60)))","v":0},0,0,0,0,0,0,0,0,0,{"$error":"#N/A"},{"$error":"#N/A"},{"$error":"#N/A"},{"$error":"#N/A"},{"$error":"#N/A"},{"$error":"#N/A"},{"$f":"IF(SUM(EY$3091:EY3633)>0,0,IF(MAX(ER3634:ER$4531)=MAX(ER$3091:ER$4531),0,IF(EP3634>0.03*EJ$4532,0,$C3634/60)))","v":0},{"$f":"IF(SUM(EZ$3091:EZ3633)>0,0,IF(MAX(ER3634:ER$4531)=MAX(ER$3091:ER$4531),0,IF(EP3634>0.01*EJ$4532,0,$C3634/60)))","v":0}]
[null,46,2760,0,0,0,0,0,0,0,0,0,{"$error":"#N/A"},{"$error":"#N/A"},{"$error":"#N/A"},{"$error":"#N/A"},{"$error":"#N/A"},{"$error":"#N/A"},{"$f":"IF(SUM(S$3091:S3642)>0,0,\nIF(MAX(L3643:L$4531)=MAX(L$3091:L$4531),0,\nIF(Hydrograph_Source_WQCV=\"USER\",IF(J3643>0.03*D$4532,0,$C3643/60),\nIF(J3643>0.03*J$4532,0,$C3643/60))))","v":0},{"$f":"IF(SUM(T$3091:T3642)>0,0,\nIF(MAX(L3643:L$4531)=MAX(L$3091:L$4531),0,\nIF(Hydrograph_Source_WQCV=\"USER\",IF(J3643>0.01*D$4532,0,$C3643/60),\nIF(J3643>0.01*J$4532,0,$C3643/60))))","v":0},0,0,0,0,0,0,0,0,0,{"$error":"#N/A"},{"$error":"#N/A"},{"$error":"#N/A"},{"$error":"#N/A"},{"$error":"#N/A"},{"$error":"#N/A"},{"$f":"IF(SUM(AJ$3091:AJ3642)>0,0,\nIF(MAX(AC3643:AC$4531)=MAX(AC$3091:AC$4531),0,\nIF(Hydrograph_Source_EURV=\"USER\",IF(AA3643>0.03*U$4532,0,$C3643/60),\nIF(AA3643>0.03*AA$4532,0,$C3643/60))))","v":0},{"$f":"IF(SUM(AK$3091:AK3642)>0,0,\nIF(MAX(AC3643:AC$4531)=MAX(AC$3091:AC$4531),0,\nIF(Hydrograph_Source_EURV=\"USER\",IF(AA3643>0.01*U$4532,0,$C3643/60),\nIF(AA3643>0.01*AA$4532,0,$C3643/60))))","v":0},0,0,0,0,0,0,0,0,0,{"$error":"#N/A"},{"$error":"#N/A"},{"$error":"#N/A"},{"$error":"#N/A"},{"$error":"#N/A"},{"$error":"#N/A"},{"$f":"IF(SUM(BA$3091:BA3642)>0,0,IF(MAX(AT3643:AT$4531)=MAX(AT$3091:AT$4531),0,IF(AR3643>0.03*AL$4532,0,$C3643/60)))","v":0},{"$f":"IF(SUM(BB$3091:BB3642)>0,0,IF(MAX(AT3643:AT$4531)=MAX(AT$3091:AT$4531),0,IF(AR3643>0.01*AL$4532,0,$C3643/60)))","v":0},0,0,0,0,0,0,0,0,0,{"$error":"#N/A"},{"$error":"#N/A"},{"$error":"#N/A"},{"$error":"#N/A"},{"$error":"#N/A"},{"$error":"#N/A"},{"$f":"IF(SUM(BR$3091:BR3642)>0,0,IF(MAX(BK3643:BK$4531)=MAX(BK$3091:BK$4531),0,IF(BI3643>0.03*BC$4532,0,$C3643/60)))","v":0},{"$f":"IF(SUM(BS$3091:BS3642)>0,0,IF(MAX(BK3643:BK$4531)=MAX(BK$3091:BK$4531),0,IF(BI3643>0.01*BC$4532,0,$C3643/60)))","v":0},0,0,0,0,0,0,0,0,0,{"$error":"#N/A"},{"$error":"#N/A"},{"$error":"#N/A"},{"$error":"#N/A"},{"$error":"#N/A"},{"$error":"#N/A"},{"$f":"IF(SUM(CI$3091:CI3642)>0,0,IF(MAX(CB3643:CB$4531)=MAX(CB$3091:CB$4531),0,IF(BZ3643>0.03*BT$4532,0,$C3643/60)))","v":0},{"$f":"IF(SUM(CJ$3091:CJ3642)>0,0,IF(MAX(CB3643:CB$4531)=MAX(CB$3091:CB$4531),0,IF(BZ3643>0.01*BT$4532,0,$C3643/60)))","v":0},0,0,0,0,0,0,0,0,0,{"$error":"#N/A"},{"$error":"#N/A"},{"$error":"#N/A"},{"$error":"#N/A"},{"$error":"#N/A"},{"$error":"#N/A"},{"$f":"IF(SUM(CZ$3091:CZ3642)>0,0,IF(MAX(CS3643:CS$4531)=MAX(CS$3091:CS$4531),0,IF(CQ3643>0.03*CK$4532,0,$C3643/60)))","v":0},{"$f":"IF(SUM(DA$3091:DA3642)>0,0,IF(MAX(CS3643:CS$4531)=MAX(CS$3091:CS$4531),0,IF(CQ3643>0.01*CK$4532,0,$C3643/60)))","v":0},0,0,0,0,0,0,0,0,0,{"$error":"#N/A"},{"$error":"#N/A"},{"$error":"#N/A"},{"$error":"#N/A"},{"$error":"#N/A"},{"$error":"#N/A"},{"$f":"IF(SUM(DQ$3091:DQ3642)>0,0,IF(MAX(DJ3643:DJ$4531)=MAX(DJ$3091:DJ$4531),0,IF(DH3643>0.03*DB$4532,0,$C3643/60)))","v":0},{"$f":"IF(SUM(DR$3091:DR3642)>0,0,IF(MAX(DJ3643:DJ$4531)=MAX(DJ$3091:DJ$4531),0,IF(DH3643>0.01*DB$4532,0,$C3643/60)))","v":0},0,0,0,0,0,0,0,0,0,{"$error":"#N/A"},{"$error":"#N/A"},{"$error":"#N/A"},{"$error":"#N/A"},{"$error":"#N/A"},{"$error":"#N/A"},{"$f":"IF(SUM(EH$3091:EH3642)>0,0,IF(MAX(EA3643:EA$4531)=MAX(EA$3091:EA$4531),0,IF(DY3643>0.03*DS$4532,0,$C3643/60)))","v":0},{"$f":"IF(SUM(EI$3091:EI3642)>0,0,IF(MAX(EA3643:EA$4531)=MAX(EA$3091:EA$4531),0,IF(DY3643>0.01*DS$4532,0,$C3643/60)))","v":0},0,0,0,0,0,0,0,0,0,{"$error":"#N/A"},{"$error":"#N/A"},{"$error":"#N/A"},{"$error":"#N/A"},{"$error":"#N/A"},{"$error":"#N/A"},{"$f":"IF(SUM(EY$3091:EY3642)>0,0,IF(MAX(ER3643:ER$4531)=MAX(ER$3091:ER$4531),0,IF(EP3643>0.03*EJ$4532,0,$C3643/60)))","v":0},{"$f":"IF(SUM(EZ$3091:EZ3642)>0,0,IF(MAX(ER3643:ER$4531)=MAX(ER$3091:ER$4531),0,IF(EP3643>0.01*EJ$4532,0,$C3643/60)))","v":0}]
[null,46.75,2805,0,0,0,0,0,0,0,0,0,{"$error":"#N/A"},{"$error":"#N/A"},{"$error":"#N/A"},{"$error":"#N/A"},{"$error":"#N/A"},{"$error":"#N/A"},{"$f":"IF(SUM(S$3091:S3651)>0,0,\nIF(MAX(L3652:L$4531)=MAX(L$3091:L$4531),0,\nIF(Hydrograph_Source_WQCV=\"USER\",IF(J3652>0.03*D$4532,0,$C3652/60),\nIF(J3652>0.03*J$4532,0,$C3652/60))))","v":0},{"$f":"IF(SUM(T$3091:T3651)>0,0,\nIF(MAX(L3652:L$4531)=MAX(L$3091:L$4531),0,\nIF(Hydrograph_Source_WQCV=\"USER\",IF(J3652>0.01*D$4532,0,$C3652/60),\nIF(J3652>0.01*J$4532,0,$C3652/60))))","v":0},0,0,0,0,0,0,0,0,0,{"$error":"#N/A"},{"$error":"#N/A"},{"$error":"#N/A"},{"$error":"#N/A"},{"$error":"#N/A"},{"$error":"#N/A"},{"$f":"IF(SUM(AJ$3091:AJ3651)>0,0,\nIF(MAX(AC3652:AC$4531)=MAX(AC$3091:AC$4531),0,\nIF(Hydrograph_Source_EURV=\"USER\",IF(AA3652>0.03*U$4532,0,$C3652/60),\nIF(AA3652>0.03*AA$4532,0,$C3652/60))))","v":0},{"$f":"IF(SUM(AK$3091:AK3651)>0,0,\nIF(MAX(AC3652:AC$4531)=MAX(AC$3091:AC$4531),0,\nIF(Hydrograph_Source_EURV=\"USER\",IF(AA3652>0.01*U$4532,0,$C3652/60),\nIF(AA3652>0.01*AA$4532,0,$C3652/60))))","v":0},0,0,0,0,0,0,0,0,0,{"$error":"#N/A"},{"$error":"#N/A"},{"$error":"#N/A"},{"$error":"#N/A"},{"$error":"#N/A"},{"$error":"#N/A"},{"$f":"IF(SUM(BA$3091:BA3651)>0,0,IF(MAX(AT3652:AT$4531)=MAX(AT$3091:AT$4531),0,IF(AR3652>0.03*AL$4532,0,$C3652/60)))","v":0},{"$f":"IF(SUM(BB$3091:BB3651)>0,0,IF(MAX(AT3652:AT$4531)=MAX(AT$3091:AT$4531),0,IF(AR3652>0.01*AL$4532,0,$C3652/60)))","v":0},0,0,0,0,0,0,0,0,0,{"$error":"#N/A"},{"$error":"#N/A"},{"$error":"#N/A"},{"$error":"#N/A"},{"$error":"#N/A"},{"$error":"#N/A"},{"$f":"IF(SUM(BR$3091:BR3651)>0,0,IF(MAX(BK3652:BK$4531)=MAX(BK$3091:BK$4531),0,IF(BI3652>0.03*BC$4532,0,$C3652/60)))","v":0},{"$f":"IF(SUM(BS$3091:BS3651)>0,0,IF(MAX(BK3652:BK$4531)=MAX(BK$3091:BK$4531),0,IF(BI3652>0.01*BC$4532,0,$C3652/60)))","v":0},0,0,0,0,0,0,0,0,0,{"$error":"#N/A"},{"$error":"#N/A"},{"$error":"#N/A"},{"$error":"#N/A"},{"$error":"#N/A"},{"$error":"#N/A"},{"$f":"IF(SUM(CI$3091:CI3651)>0,0,IF(MAX(CB3652:CB$4531)=MAX(CB$3091:CB$4531),0,IF(BZ3652>0.03*BT$4532,0,$C3652/60)))","v":0},{"$f":"IF(SUM(CJ$3091:CJ3651)>0,0,IF(MAX(CB3652:CB$4531)=MAX(CB$3091:CB$4531),0,IF(BZ3652>0.01*BT$4532,0,$C3652/60)))","v":0},0,0,0,0,0,0,0,0,0,{"$error":"#N/A"},{"$error":"#N/A"},{"$error":"#N/A"},{"$error":"#N/A"},{"$error":"#N/A"},{"$error":"#N/A"},{"$f":"IF(SUM(CZ$3091:CZ3651)>0,0,IF(MAX(CS3652:CS$4531)=MAX(CS$3091:CS$4531),0,IF(CQ3652>0.03*CK$4532,0,$C3652/60)))","v":0},{"$f":"IF(SUM(DA$3091:DA3651)>0,0,IF(MAX(CS3652:CS$4531)=MAX(CS$3091:CS$4531),0,IF(CQ3652>0.01*CK$4532,0,$C3652/60)))","v":0},0,0,0,0,0,0,0,0,0,{"$error":"#N/A"},{"$error":"#N/A"},{"$error":"#N/A"},{"$error":"#N/A"},{"$error":"#N/A"},{"$error":"#N/A"},{"$f":"IF(SUM(DQ$3091:DQ3651)>0,0,IF(MAX(DJ3652:DJ$4531)=MAX(DJ$3091:DJ$4531),0,IF(DH3652>0.03*DB$4532,0,$C3652/60)))","v":0},{"$f":"IF(SUM(DR$3091:DR3651)>0,0,IF(MAX(DJ3652:DJ$4531)=MAX(DJ$3091:DJ$4531),0,IF(DH3652>0.01*DB$4532,0,$C3652/60)))","v":0},0,0,0,0,0,0,0,0,0,{"$error":"#N/A"},{"$error":"#N/A"},{"$error":"#N/A"},{"$error":"#N/A"},{"$error":"#N/A"},{"$error":"#N/A"},{"$f":"IF(SUM(EH$3091:EH3651)>0,0,IF(MAX(EA3652:EA$4531)=MAX(EA$3091:EA$4531),0,IF(DY3652>0.03*DS$4532,0,$C3652/60)))","v":0},{"$f":"IF(SUM(EI$3091:EI3651)>0,0,IF(MAX(EA3652:EA$4531)=MAX(EA$3091:EA$4531),0,IF(DY3652>0.01*DS$4532,0,$C3652/60)))","v":0},0,0,0,0,0,0,0,0,0,{"$error":"#N/A"},{"$error":"#N/A"},{"$error":"#N/A"},{"$error":"#N/A"},{"$error":"#N/A"},{"$error":"#N/A"},{"$f":"IF(SUM(EY$3091:EY3651)>0,0,IF(MAX(ER3652:ER$4531)=MAX(ER$3091:ER$4531),0,IF(EP3652>0.03*EJ$4532,0,$C3652/60)))","v":0},{"$f":"IF(SUM(EZ$3091:EZ3651)>0,0,IF(MAX(ER3652:ER$4531)=MAX(ER$3091:ER$4531),0,IF(EP3652>0.01*EJ$4532,0,$C3652/60)))","v":0}]
[null,47.5,2850,0,0,0,0,0,0,0,0,0,{"$error":"#N/A"},{"$error":"#N/A"},{"$error":"#N/A"},{"$error":"#N/A"},{"$error":"#N/A"},{"$error":"#N/A"},{"$f":"IF(SUM(S$3091:S3660)>0,0,\nIF(MAX(L3661:L$4531)=MAX(L$3091:L$4531),0,\nIF(Hydrograph_Source_WQCV=\"USER\",IF(J3661>0.03*D$4532,0,$C3661/60),\nIF(J3661>0.03*J$4532,0,$C3661/60))))","v":0},{"$f":"IF(SUM(T$3091:T3660)>0,0,\nIF(MAX(L3661:L$4531)=MAX(L$3091:L$4531),0,\nIF(Hydrograph_Source_WQCV=\"USER\",IF(J3661>0.01*D$4532,0,$C3661/60),\nIF(J3661>0.01*J$4532,0,$C3661/60))))","v":0},0,0,0,0,0,0,0,0,0,{"$error":"#N/A"},{"$error":"#N/A"},{"$error":"#N/A"},{"$error":"#N/A"},{"$error":"#N/A"},{"$error":"#N/A"},{"$f":"IF(SUM(AJ$3091:AJ3660)>0,0,\nIF(MAX(AC3661:AC$4531)=MAX(AC$3091:AC$4531),0,\nIF(Hydrograph_Source_EURV=\"USER\",IF(AA3661>0.03*U$4532,0,$C3661/60),\nIF(AA3661>0.03*AA$4532,0,$C3661/60))))","v":0},{"$f":"IF(SUM(AK$3091:AK3660)>0,0,\nIF(MAX(AC3661:AC$4531)=MAX(AC$3091:AC$4531),0,\nIF(Hydrograph_Source_EURV=\"USER\",IF(AA3661>0.01*U$4532,0,$C3661/60),\nIF(AA3661>0.01*AA$4532,0,$C3661/60))))","v":0},0,0,0,0,0,0,0,0,0,{"$error":"#N/A"},{"$error":"#N/A"},{"$error":"#N/A"},{"$error":"#N/A"},{"$error":"#N/A"},{"$error":"#N/A"},{"$f":"IF(SUM(BA$3091:BA3660)>0,0,IF(MAX(AT3661:AT$4531)=MAX(AT$3091:AT$4531),0,IF(AR3661>0.03*AL$4532,0,$C3661/60)))","v":0},{"$f":"IF(SUM(BB$3091:BB3660)>0,0,IF(MAX(AT3661:AT$4531)=MAX(AT$3091:AT$4531),0,IF(AR3661>0.01*AL$4532,0,$C3661/60)))","v":0},0,0,0,0,0,0,0,0,0,{"$error":"#N/A"},{"$error":"#N/A"},{"$error":"#N/A"},{"$error":"#N/A"},{"$error":"#N/A"},{"$error":"#N/A"},{"$f":"IF(SUM(BR$3091:BR3660)>0,0,IF(MAX(BK3661:BK$4531)=MAX(BK$3091:BK$4531),0,IF(BI3661>0.03*BC$4532,0,$C3661/60)))","v":0},{"$f":"IF(SUM(BS$3091:BS3660)>0,0,IF(MAX(BK3661:BK$4531)=MAX(BK$3091:BK$4531),0,IF(BI3661>0.01*BC$4532,0,$C3661/60)))","v":0},0,0,0,0,0,0,0,0,0,{"$error":"#N/A"},{"$error":"#N/A"},{"$error":"#N/A"},{"$error":"#N/A"},{"$error":"#N/A"},{"$error":"#N/A"},{"$f":"IF(SUM(CI$3091:CI3660)>0,0,IF(MAX(CB3661:CB$4531)=MAX(CB$3091:CB$4531),0,IF(BZ3661>0.03*BT$4532,0,$C3661/60)))","v":0},{"$f":"IF(SUM(CJ$3091:CJ3660)>0,0,IF(MAX(CB3661:CB$4531)=MAX(CB$3091:CB$4531),0,IF(BZ3661>0.01*BT$4532,0,$C3661/60)))","v":0},0,0,0,0,0,0,0,0,0,{"$error":"#N/A"},{"$error":"#N/A"},{"$error":"#N/A"},{"$error":"#N/A"},{"$error":"#N/A"},{"$error":"#N/A"},{"$f":"IF(SUM(CZ$3091:CZ3660)>0,0,IF(MAX(CS3661:CS$4531)=MAX(CS$3091:CS$4531),0,IF(CQ3661>0.03*CK$4532,0,$C3661/60)))","v":0},{"$f":"IF(SUM(DA$3091:DA3660)>0,0,IF(MAX(CS3661:CS$4531)=MAX(CS$3091:CS$4531),0,IF(CQ3661>0.01*CK$4532,0,$C3661/60)))","v":0},0,0,0,0,0,0,0,0,0,{"$error":"#N/A"},{"$error":"#N/A"},{"$error":"#N/A"},{"$error":"#N/A"},{"$error":"#N/A"},{"$error":"#N/A"},{"$f":"IF(SUM(DQ$3091:DQ3660)>0,0,IF(MAX(DJ3661:DJ$4531)=MAX(DJ$3091:DJ$4531),0,IF(DH3661>0.03*DB$4532,0,$C3661/60)))","v":0},{"$f":"IF(SUM(DR$3091:DR3660)>0,0,IF(MAX(DJ3661:DJ$4531)=MAX(DJ$3091:DJ$4531),0,IF(DH3661>0.01*DB$4532,0,$C3661/60)))","v":0},0,0,0,0,0,0,0,0,0,{"$error":"#N/A"},{"$error":"#N/A"},{"$error":"#N/A"},{"$error":"#N/A"},{"$error":"#N/A"},{"$error":"#N/A"},{"$f":"IF(SUM(EH$3091:EH3660)>0,0,IF(MAX(EA3661:EA$4531)=MAX(EA$3091:EA$4531),0,IF(DY3661>0.03*DS$4532,0,$C3661/60)))","v":0},{"$f":"IF(SUM(EI$3091:EI3660)>0,0,IF(MAX(EA3661:EA$4531)=MAX(EA$3091:EA$4531),0,IF(DY3661>0.01*DS$4532,0,$C3661/60)))","v":0},0,0,0,0,0,0,0,0,0,{"$error":"#N/A"},{"$error":"#N/A"},{"$error":"#N/A"},{"$error":"#N/A"},{"$error":"#N/A"},{"$error":"#N/A"},{"$f":"IF(SUM(EY$3091:EY3660)>0,0,IF(MAX(ER3661:ER$4531)=MAX(ER$3091:ER$4531),0,IF(EP3661>0.03*EJ$4532,0,$C3661/60)))","v":0},{"$f":"IF(SUM(EZ$3091:EZ3660)>0,0,IF(MAX(ER3661:ER$4531)=MAX(ER$3091:ER$4531),0,IF(EP3661>0.01*EJ$4532,0,$C3661/60)))","v":0}]
[null,48.25,2895,0,0,0,0,0,0,0,0,0,{"$error":"#N/A"},{"$error":"#N/A"},{"$error":"#N/A"},{"$error":"#N/A"},{"$error":"#N/A"},{"$error":"#N/A"},{"$f":"IF(SUM(S$3091:S3669)>0,0,\nIF(MAX(L3670:L$4531)=MAX(L$3091:L$4531),0,\nIF(Hydrograph_Source_WQCV=\"USER\",IF(J3670>0.03*D$4532,0,$C3670/60),\nIF(J3670>0.03*J$4532,0,$C3670/60))))","v":0},{"$f":"IF(SUM(T$3091:T3669)>0,0,\nIF(MAX(L3670:L$4531)=MAX(L$3091:L$4531),0,\nIF(Hydrograph_Source_WQCV=\"USER\",IF(J3670>0.01*D$4532,0,$C3670/60),\nIF(J3670>0.01*J$4532,0,$C3670/60))))","v":0},0,0,0,0,0,0,0,0,0,{"$error":"#N/A"},{"$error":"#N/A"},{"$error":"#N/A"},{"$error":"#N/A"},{"$error":"#N/A"},{"$error":"#N/A"},{"$f":"IF(SUM(AJ$3091:AJ3669)>0,0,\nIF(MAX(AC3670:AC$4531)=MAX(AC$3091:AC$4531),0,\nIF(Hydrograph_Source_EURV=\"USER\",IF(AA3670>0.03*U$4532,0,$C3670/60),\nIF(AA3670>0.03*AA$4532,0,$C3670/60))))","v":0},{"$f":"IF(SUM(AK$3091:AK3669)>0,0,\nIF(MAX(AC3670:AC$4531)=MAX(AC$3091:AC$4531),0,\nIF(Hydrograph_Source_EURV=\"USER\",IF(AA3670>0.01*U$4532,0,$C3670/60),\nIF(AA3670>0.01*AA$4532,0,$C3670/60))))","v":0},0,0,0,0,0,0,0,0,0,{"$error":"#N/A"},{"$error":"#N/A"},{"$error":"#N/A"},{"$error":"#N/A"},{"$error":"#N/A"},{"$error":"#N/A"},{"$f":"IF(SUM(BA$3091:BA3669)>0,0,IF(MAX(AT3670:AT$4531)=MAX(AT$3091:AT$4531),0,IF(AR3670>0.03*AL$4532,0,$C3670/60)))","v":0},{"$f":"IF(SUM(BB$3091:BB3669)>0,0,IF(MAX(AT3670:AT$4531)=MAX(AT$3091:AT$4531),0,IF(AR3670>0.01*AL$4532,0,$C3670/60)))","v":0},0,0,0,0,0,0,0,0,0,{"$error":"#N/A"},{"$error":"#N/A"},{"$error":"#N/A"},{"$error":"#N/A"},{"$error":"#N/A"},{"$error":"#N/A"},{"$f":"IF(SUM(BR$3091:BR3669)>0,0,IF(MAX(BK3670:BK$4531)=MAX(BK$3091:BK$4531),0,IF(BI3670>0.03*BC$4532,0,$C3670/60)))","v":0},{"$f":"IF(SUM(BS$3091:BS3669)>0,0,IF(MAX(BK3670:BK$4531)=MAX(BK$3091:BK$4531),0,IF(BI3670>0.01*BC$4532,0,$C3670/60)))","v":0},0,0,0,0,0,0,0,0,0,{"$error":"#N/A"},{"$error":"#N/A"},{"$error":"#N/A"},{"$error":"#N/A"},{"$error":"#N/A"},{"$error":"#N/A"},{"$f":"IF(SUM(CI$3091:CI3669)>0,0,IF(MAX(CB3670:CB$4531)=MAX(CB$3091:CB$4531),0,IF(BZ3670>0.03*BT$4532,0,$C3670/60)))","v":0},{"$f":"IF(SUM(CJ$3091:CJ3669)>0,0,IF(MAX(CB3670:CB$4531)=MAX(CB$3091:CB$4531),0,IF(BZ3670>0.01*BT$4532,0,$C3670/60)))","v":0},0,0,0,0,0,0,0,0,0,{"$error":"#N/A"},{"$error":"#N/A"},{"$error":"#N/A"},{"$error":"#N/A"},{"$error":"#N/A"},{"$error":"#N/A"},{"$f":"IF(SUM(CZ$3091:CZ3669)>0,0,IF(MAX(CS3670:CS$4531)=MAX(CS$3091:CS$4531),0,IF(CQ3670>0.03*CK$4532,0,$C3670/60)))","v":0},{"$f":"IF(SUM(DA$3091:DA3669)>0,0,IF(MAX(CS3670:CS$4531)=MAX(CS$3091:CS$4531),0,IF(CQ3670>0.01*CK$4532,0,$C3670/60)))","v":0},0,0,0,0,0,0,0,0,0,{"$error":"#N/A"},{"$error":"#N/A"},{"$error":"#N/A"},{"$error":"#N/A"},{"$error":"#N/A"},{"$error":"#N/A"},{"$f":"IF(SUM(DQ$3091:DQ3669)>0,0,IF(MAX(DJ3670:DJ$4531)=MAX(DJ$3091:DJ$4531),0,IF(DH3670>0.03*DB$4532,0,$C3670/60)))","v":0},{"$f":"IF(SUM(DR$3091:DR3669)>0,0,IF(MAX(DJ3670:DJ$4531)=MAX(DJ$3091:DJ$4531),0,IF(DH3670>0.01*DB$4532,0,$C3670/60)))","v":0},0,0,0,0,0,0,0,0,0,{"$error":"#N/A"},{"$error":"#N/A"},{"$error":"#N/A"},{"$error":"#N/A"},{"$error":"#N/A"},{"$error":"#N/A"},{"$f":"IF(SUM(EH$3091:EH3669)>0,0,IF(MAX(EA3670:EA$4531)=MAX(EA$3091:EA$4531),0,IF(DY3670>0.03*DS$4532,0,$C3670/60)))","v":0},{"$f":"IF(SUM(EI$3091:EI3669)>0,0,IF(MAX(EA3670:EA$4531)=MAX(EA$3091:EA$4531),0,IF(DY3670>0.01*DS$4532,0,$C3670/60)))","v":0},0,0,0,0,0,0,0,0,0,{"$error":"#N/A"},{"$error":"#N/A"},{"$error":"#N/A"},{"$error":"#N/A"},{"$error":"#N/A"},{"$error":"#N/A"},{"$f":"IF(SUM(EY$3091:EY3669)>0,0,IF(MAX(ER3670:ER$4531)=MAX(ER$3091:ER$4531),0,IF(EP3670>0.03*EJ$4532,0,$C3670/60)))","v":0},{"$f":"IF(SUM(EZ$3091:EZ3669)>0,0,IF(MAX(ER3670:ER$4531)=MAX(ER$3091:ER$4531),0,IF(EP3670>0.01*EJ$4532,0,$C3670/60)))","v":0}]
[null,49,2940,0,0,0,0,0,0,0,0,0,{"$error":"#N/A"},{"$error":"#N/A"},{"$error":"#N/A"},{"$error":"#N/A"},{"$error":"#N/A"},{"$error":"#N/A"},{"$f":"IF(SUM(S$3091:S3678)>0,0,\nIF(MAX(L3679:L$4531)=MAX(L$3091:L$4531),0,\nIF(Hydrograph_Source_WQCV=\"USER\",IF(J3679>0.03*D$4532,0,$C3679/60),\nIF(J3679>0.03*J$4532,0,$C3679/60))))","v":0},{"$f":"IF(SUM(T$3091:T3678)>0,0,\nIF(MAX(L3679:L$4531)=MAX(L$3091:L$4531),0,\nIF(Hydrograph_Source_WQCV=\"USER\",IF(J3679>0.01*D$4532,0,$C3679/60),\nIF(J3679>0.01*J$4532,0,$C3679/60))))","v":0},0,0,0,0,0,0,0,0,0,{"$error":"#N/A"},{"$error":"#N/A"},{"$error":"#N/A"},{"$error":"#N/A"},{"$error":"#N/A"},{"$error":"#N/A"},{"$f":"IF(SUM(AJ$3091:AJ3678)>0,0,\nIF(MAX(AC3679:AC$4531)=MAX(AC$3091:AC$4531),0,\nIF(Hydrograph_Source_EURV=\"USER\",IF(AA3679>0.03*U$4532,0,$C3679/60),\nIF(AA3679>0.03*AA$4532,0,$C3679/60))))","v":0},{"$f":"IF(SUM(AK$3091:AK3678)>0,0,\nIF(MAX(AC3679:AC$4531)=MAX(AC$3091:AC$4531),0,\nIF(Hydrograph_Source_EURV=\"USER\",IF(AA3679>0.01*U$4532,0,$C3679/60),\nIF(AA3679>0.01*AA$4532,0,$C3679/60))))","v":0},0,0,0,0,0,0,0,0,0,{"$error":"#N/A"},{"$error":"#N/A"},{"$error":"#N/A"},{"$error":"#N/A"},{"$error":"#N/A"},{"$error":"#N/A"},{"$f":"IF(SUM(BA$3091:BA3678)>0,0,IF(MAX(AT3679:AT$4531)=MAX(AT$3091:AT$4531),0,IF(AR3679>0.03*AL$4532,0,$C3679/60)))","v":0},{"$f":"IF(SUM(BB$3091:BB3678)>0,0,IF(MAX(AT3679:AT$4531)=MAX(AT$3091:AT$4531),0,IF(AR3679>0.01*AL$4532,0,$C3679/60)))","v":0},0,0,0,0,0,0,0,0,0,{"$error":"#N/A"},{"$error":"#N/A"},{"$error":"#N/A"},{"$error":"#N/A"},{"$error":"#N/A"},{"$error":"#N/A"},{"$f":"IF(SUM(BR$3091:BR3678)>0,0,IF(MAX(BK3679:BK$4531)=MAX(BK$3091:BK$4531),0,IF(BI3679>0.03*BC$4532,0,$C3679/60)))","v":0},{"$f":"IF(SUM(BS$3091:BS3678)>0,0,IF(MAX(BK3679:BK$4531)=MAX(BK$3091:BK$4531),0,IF(BI3679>0.01*BC$4532,0,$C3679/60)))","v":0},0,0,0,0,0,0,0,0,0,{"$error":"#N/A"},{"$error":"#N/A"},{"$error":"#N/A"},{"$error":"#N/A"},{"$error":"#N/A"},{"$error":"#N/A"},{"$f":"IF(SUM(CI$3091:CI3678)>0,0,IF(MAX(CB3679:CB$4531)=MAX(CB$3091:CB$4531),0,IF(BZ3679>0.03*BT$4532,0,$C3679/60)))","v":0},{"$f":"IF(SUM(CJ$3091:CJ3678)>0,0,IF(MAX(CB3679:CB$4531)=MAX(CB$3091:CB$4531),0,IF(BZ3679>0.01*BT$4532,0,$C3679/60)))","v":0},0,0,0,0,0,0,0,0,0,{"$error":"#N/A"},{"$error":"#N/A"},{"$error":"#N/A"},{"$error":"#N/A"},{"$error":"#N/A"},{"$error":"#N/A"},{"$f":"IF(SUM(CZ$3091:CZ3678)>0,0,IF(MAX(CS3679:CS$4531)=MAX(CS$3091:CS$4531),0,IF(CQ3679>0.03*CK$4532,0,$C3679/60)))","v":0},{"$f":"IF(SUM(DA$3091:DA3678)>0,0,IF(MAX(CS3679:CS$4531)=MAX(CS$3091:CS$4531),0,IF(CQ3679>0.01*CK$4532,0,$C3679/60)))","v":0},0,0,0,0,0,0,0,0,0,{"$error":"#N/A"},{"$error":"#N/A"},{"$error":"#N/A"},{"$error":"#N/A"},{"$error":"#N/A"},{"$error":"#N/A"},{"$f":"IF(SUM(DQ$3091:DQ3678)>0,0,IF(MAX(DJ3679:DJ$4531)=MAX(DJ$3091:DJ$4531),0,IF(DH3679>0.03*DB$4532,0,$C3679/60)))","v":0},{"$f":"IF(SUM(DR$3091:DR3678)>0,0,IF(MAX(DJ3679:DJ$4531)=MAX(DJ$3091:DJ$4531),0,IF(DH3679>0.01*DB$4532,0,$C3679/60)))","v":0},0,0,0,0,0,0,0,0,0,{"$error":"#N/A"},{"$error":"#N/A"},{"$error":"#N/A"},{"$error":"#N/A"},{"$error":"#N/A"},{"$error":"#N/A"},{"$f":"IF(SUM(EH$3091:EH3678)>0,0,IF(MAX(EA3679:EA$4531)=MAX(EA$3091:EA$4531),0,IF(DY3679>0.03*DS$4532,0,$C3679/60)))","v":0},{"$f":"IF(SUM(EI$3091:EI3678)>0,0,IF(MAX(EA3679:EA$4531)=MAX(EA$3091:EA$4531),0,IF(DY3679>0.01*DS$4532,0,$C3679/60)))","v":0},0,0,0,0,0,0,0,0,0,{"$error":"#N/A"},{"$error":"#N/A"},{"$error":"#N/A"},{"$error":"#N/A"},{"$error":"#N/A"},{"$error":"#N/A"},{"$f":"IF(SUM(EY$3091:EY3678)>0,0,IF(MAX(ER3679:ER$4531)=MAX(ER$3091:ER$4531),0,IF(EP3679>0.03*EJ$4532,0,$C3679/60)))","v":0},{"$f":"IF(SUM(EZ$3091:EZ3678)>0,0,IF(MAX(ER3679:ER$4531)=MAX(ER$3091:ER$4531),0,IF(EP3679>0.01*EJ$4532,0,$C3679/60)))","v":0}]
[null,49.083333333333336,2945,0,0,0,0,0,0,0,0,0,{"$error":"#N/A"},{"$error":"#N/A"},{"$error":"#N/A"},{"$error":"#N/A"},{"$error":"#N/A"},{"$error":"#N/A"},{"$f":"IF(SUM(S$3091:S3679)>0,0,\nIF(MAX(L3680:L$4531)=MAX(L$3091:L$4531),0,\nIF(Hydrograph_Source_WQCV=\"USER\",IF(J3680>0.03*D$4532,0,$C3680/60),\nIF(J3680>0.03*J$4532,0,$C3680/60))))","v":0},{"$f":"IF(SUM(T$3091:T3679)>0,0,\nIF(MAX(L3680:L$4531)=MAX(L$3091:L$4531),0,\nIF(Hydrograph_Source_WQCV=\"USER\",IF(J3680>0.01*D$4532,0,$C3680/60),\nIF(J3680>0.01*J$4532,0,$C3680/60))))","v":0},0,0,0,0,0,0,0,0,0,{"$error":"#N/A"},{"$error":"#N/A"},{"$error":"#N/A"},{"$error":"#N/A"},{"$error":"#N/A"},{"$error":"#N/A"},{"$f":"IF(SUM(AJ$3091:AJ3679)>0,0,\nIF(MAX(AC3680:AC$4531)=MAX(AC$3091:AC$4531),0,\nIF(Hydrograph_Source_EURV=\"USER\",IF(AA3680>0.03*U$4532,0,$C3680/60),\nIF(AA3680>0.03*AA$4532,0,$C3680/60))))","v":0},{"$f":"IF(SUM(AK$3091:AK3679)>0,0,\nIF(MAX(AC3680:AC$4531)=MAX(AC$3091:AC$4531),0,\nIF(Hydrograph_Source_EURV=\"USER\",IF(AA3680>0.01*U$4532,0,$C3680/60),\nIF(AA3680>0.01*AA$4532,0,$C3680/60))))","v":0},0,0,0,0,0,0,0,0,0,{"$error":"#N/A"},{"$error":"#N/A"},{"$error":"#N/A"},{"$error":"#N/A"},{"$error":"#N/A"},{"$error":"#N/A"},{"$f":"IF(SUM(BA$3091:BA3679)>0,0,IF(MAX(AT3680:AT$4531)=MAX(AT$3091:AT$4531),0,IF(AR3680>0.03*AL$4532,0,$C3680/60)))","v":0},{"$f":"IF(SUM(BB$3091:BB3679)>0,0,IF(MAX(AT3680:AT$4531)=MAX(AT$3091:AT$4531),0,IF(AR3680>0.01*AL$4532,0,$C3680/60)))","v":0},0,0,0,0,0,0,0,0,0,{"$error":"#N/A"},{"$error":"#N/A"},{"$error":"#N/A"},{"$error":"#N/A"},{"$error":"#N/A"},{"$error":"#N/A"},{"$f":"IF(SUM(BR$3091:BR3679)>0,0,IF(MAX(BK3680:BK$4531)=MAX(BK$3091:BK$4531),0,IF(BI3680>0.03*BC$4532,0,$C3680/60)))","v":0},{"$f":"IF(SUM(BS$3091:BS3679)>0,0,IF(MAX(BK3680:BK$4531)=MAX(BK$3091:BK$4531),0,IF(BI3680>0.01*BC$4532,0,$C3680/60)))","v":0},0,0,0,0,0,0,0,0,0,{"$error":"#N/A"},{"$error":"#N/A"},{"$error":"#N/A"},{"$error":"#N/A"},{"$error":"#N/A"},{"$error":"#N/A"},{"$f":"IF(SUM(CI$3091:CI3679)>0,0,IF(MAX(CB3680:CB$4531)=MAX(CB$3091:CB$4531),0,IF(BZ3680>0.03*BT$4532,0,$C3680/60)))","v":0},{"$f":"IF(SUM(CJ$3091:CJ3679)>0,0,IF(MAX(CB3680:CB$4531)=MAX(CB$3091:CB$4531),0,IF(BZ3680>0.01*BT$4532,0,$C3680/60)))","v":0},0,0,0,0,0,0,0,0,0,{"$error":"#N/A"},{"$error":"#N/A"},{"$error":"#N/A"},{"$error":"#N/A"},{"$error":"#N/A"},{"$error":"#N/A"},{"$f":"IF(SUM(CZ$3091:CZ3679)>0,0,IF(MAX(CS3680:CS$4531)=MAX(CS$3091:CS$4531),0,IF(CQ3680>0.03*CK$4532,0,$C3680/60)))","v":0},{"$f":"IF(SUM(DA$3091:DA3679)>0,0,IF(MAX(CS3680:CS$4531)=MAX(CS$3091:CS$4531),0,IF(CQ3680>0.01*CK$4532,0,$C3680/60)))","v":0},0,0,0,0,0,0,0,0,0,{"$error":"#N/A"},{"$error":"#N/A"},{"$error":"#N/A"},{"$error":"#N/A"},{"$error":"#N/A"},{"$error":"#N/A"},{"$f":"IF(SUM(DQ$3091:DQ3679)>0,0,IF(MAX(DJ3680:DJ$4531)=MAX(DJ$3091:DJ$4531),0,IF(DH3680>0.03*DB$4532,0,$C3680/60)))","v":0},{"$f":"IF(SUM(DR$3091:DR3679)>0,0,IF(MAX(DJ3680:DJ$4531)=MAX(DJ$3091:DJ$4531),0,IF(DH3680>0.01*DB$4532,0,$C3680/60)))","v":0},0,0,0,0,0,0,0,0,0,{"$error":"#N/A"},{"$error":"#N/A"},{"$error":"#N/A"},{"$error":"#N/A"},{"$error":"#N/A"},{"$error":"#N/A"},{"$f":"IF(SUM(EH$3091:EH3679)>0,0,IF(MAX(EA3680:EA$4531)=MAX(EA$3091:EA$4531),0,IF(DY3680>0.03*DS$4532,0,$C3680/60)))","v":0},{"$f":"IF(SUM(EI$3091:EI3679)>0,0,IF(MAX(EA3680:EA$4531)=MAX(EA$3091:EA$4531),0,IF(DY3680>0.01*DS$4532,0,$C3680/60)))","v":0},0,0,0,0,0,0,0,0,0,{"$error":"#N/A"},{"$error":"#N/A"},{"$error":"#N/A"},{"$error":"#N/A"},{"$error":"#N/A"},{"$error":"#N/A"},{"$f":"IF(SUM(EY$3091:EY3679)>0,0,IF(MAX(ER3680:ER$4531)=MAX(ER$3091:ER$4531),0,IF(EP3680>0.03*EJ$4532,0,$C3680/60)))","v":0},{"$f":"IF(SUM(EZ$3091:EZ3679)>0,0,IF(MAX(ER3680:ER$4531)=MAX(ER$3091:ER$4531),0,IF(EP3680>0.01*EJ$4532,0,$C3680/60)))","v":0}]
[null,49.833333333333336,2990,0,0,0,0,0,0,0,0,0,{"$error":"#N/A"},{"$error":"#N/A"},{"$error":"#N/A"},{"$error":"#N/A"},{"$error":"#N/A"},{"$error":"#N/A"},{"$f":"IF(SUM(S$3091:S3688)>0,0,\nIF(MAX(L3689:L$4531)=MAX(L$3091:L$4531),0,\nIF(Hydrograph_Source_WQCV=\"USER\",IF(J3689>0.03*D$4532,0,$C3689/60),\nIF(J3689>0.03*J$4532,0,$C3689/60))))","v":0},{"$f":"IF(SUM(T$3091:T3688)>0,0,\nIF(MAX(L3689:L$4531)=MAX(L$3091:L$4531),0,\nIF(Hydrograph_Source_WQCV=\"USER\",IF(J3689>0.01*D$4532,0,$C3689/60),\nIF(J3689>0.01*J$4532,0,$C3689/60))))","v":0},0,0,0,0,0,0,0,0,0,{"$error":"#N/A"},{"$error":"#N/A"},{"$error":"#N/A"},{"$error":"#N/A"},{"$error":"#N/A"},{"$error":"#N/A"},{"$f":"IF(SUM(AJ$3091:AJ3688)>0,0,\nIF(MAX(AC3689:AC$4531)=MAX(AC$3091:AC$4531),0,\nIF(Hydrograph_Source_EURV=\"USER\",IF(AA3689>0.03*U$4532,0,$C3689/60),\nIF(AA3689>0.03*AA$4532,0,$C3689/60))))","v":0},{"$f":"IF(SUM(AK$3091:AK3688)>0,0,\nIF(MAX(AC3689:AC$4531)=MAX(AC$3091:AC$4531),0,\nIF(Hydrograph_Source_EURV=\"USER\",IF(AA3689>0.01*U$4532,0,$C3689/60),\nIF(AA3689>0.01*AA$4532,0,$C3689/60))))","v":0},0,0,0,0,0,0,0,0,0,{"$error":"#N/A"},{"$error":"#N/A"},{"$error":"#N/A"},{"$error":"#N/A"},{"$error":"#N/A"},{"$error":"#N/A"},{"$f":"IF(SUM(BA$3091:BA3688)>0,0,IF(MAX(AT3689:AT$4531)=MAX(AT$3091:AT$4531),0,IF(AR3689>0.03*AL$4532,0,$C3689/60)))","v":0},{"$f":"IF(SUM(BB$3091:BB3688)>0,0,IF(MAX(AT3689:AT$4531)=MAX(AT$3091:AT$4531),0,IF(AR3689>0.01*AL$4532,0,$C3689/60)))","v":0},0,0,0,0,0,0,0,0,0,{"$error":"#N/A"},{"$error":"#N/A"},{"$error":"#N/A"},{"$error":"#N/A"},{"$error":"#N/A"},{"$error":"#N/A"},{"$f":"IF(SUM(BR$3091:BR3688)>0,0,IF(MAX(BK3689:BK$4531)=MAX(BK$3091:BK$4531),0,IF(BI3689>0.03*BC$4532,0,$C3689/60)))","v":0},{"$f":"IF(SUM(BS$3091:BS3688)>0,0,IF(MAX(BK3689:BK$4531)=MAX(BK$3091:BK$4531),0,IF(BI3689>0.01*BC$4532,0,$C3689/60)))","v":0},0,0,0,0,0,0,0,0,0,{"$error":"#N/A"},{"$error":"#N/A"},{"$error":"#N/A"},{"$error":"#N/A"},{"$error":"#N/A"},{"$error":"#N/A"},{"$f":"IF(SUM(CI$3091:CI3688)>0,0,IF(MAX(CB3689:CB$4531)=MAX(CB$3091:CB$4531),0,IF(BZ3689>0.03*BT$4532,0,$C3689/60)))","v":0},{"$f":"IF(SUM(CJ$3091:CJ3688)>0,0,IF(MAX(CB3689:CB$4531)=MAX(CB$3091:CB$4531),0,IF(BZ3689>0.01*BT$4532,0,$C3689/60)))","v":0},0,0,0,0,0,0,0,0,0,{"$error":"#N/A"},{"$error":"#N/A"},{"$error":"#N/A"},{"$error":"#N/A"},{"$error":"#N/A"},{"$error":"#N/A"},{"$f":"IF(SUM(CZ$3091:CZ3688)>0,0,IF(MAX(CS3689:CS$4531)=MAX(CS$3091:CS$4531),0,IF(CQ3689>0.03*CK$4532,0,$C3689/60)))","v":0},{"$f":"IF(SUM(DA$3091:DA3688)>0,0,IF(MAX(CS3689:CS$4531)=MAX(CS$3091:CS$4531),0,IF(CQ3689>0.01*CK$4532,0,$C3689/60)))","v":0},0,0,0,0,0,0,0,0,0,{"$error":"#N/A"},{"$error":"#N/A"},{"$error":"#N/A"},{"$error":"#N/A"},{"$error":"#N/A"},{"$error":"#N/A"},{"$f":"IF(SUM(DQ$3091:DQ3688)>0,0,IF(MAX(DJ3689:DJ$4531)=MAX(DJ$3091:DJ$4531),0,IF(DH3689>0.03*DB$4532,0,$C3689/60)))","v":0},{"$f":"IF(SUM(DR$3091:DR3688)>0,0,IF(MAX(DJ3689:DJ$4531)=MAX(DJ$3091:DJ$4531),0,IF(DH3689>0.01*DB$4532,0,$C3689/60)))","v":0},0,0,0,0,0,0,0,0,0,{"$error":"#N/A"},{"$error":"#N/A"},{"$error":"#N/A"},{"$error":"#N/A"},{"$error":"#N/A"},{"$error":"#N/A"},{"$f":"IF(SUM(EH$3091:EH3688)>0,0,IF(MAX(EA3689:EA$4531)=MAX(EA$3091:EA$4531),0,IF(DY3689>0.03*DS$4532,0,$C3689/60)))","v":0},{"$f":"IF(SUM(EI$3091:EI3688)>0,0,IF(MAX(EA3689:EA$4531)=MAX(EA$3091:EA$4531),0,IF(DY3689>0.01*DS$4532,0,$C3689/60)))","v":0},0,0,0,0,0,0,0,0,0,{"$error":"#N/A"},{"$error":"#N/A"},{"$error":"#N/A"},{"$error":"#N/A"},{"$error":"#N/A"},{"$error":"#N/A"},{"$f":"IF(SUM(EY$3091:EY3688)>0,0,IF(MAX(ER3689:ER$4531)=MAX(ER$3091:ER$4531),0,IF(EP3689>0.03*EJ$4532,0,$C3689/60)))","v":0},{"$f":"IF(SUM(EZ$3091:EZ3688)>0,0,IF(MAX(ER3689:ER$4531)=MAX(ER$3091:ER$4531),0,IF(EP3689>0.01*EJ$4532,0,$C3689/60)))","v":0}]
[null,50.583333333333336,3035,0,0,0,0,0,0,0,0,0,{"$error":"#N/A"},{"$error":"#N/A"},{"$error":"#N/A"},{"$error":"#N/A"},{"$error":"#N/A"},{"$error":"#N/A"},{"$f":"IF(SUM(S$3091:S3697)>0,0,\nIF(MAX(L3698:L$4531)=MAX(L$3091:L$4531),0,\nIF(Hydrograph_Source_WQCV=\"USER\",IF(J3698>0.03*D$4532,0,$C3698/60),\nIF(J3698>0.03*J$4532,0,$C3698/60))))","v":0},{"$f":"IF(SUM(T$3091:T3697)>0,0,\nIF(MAX(L3698:L$4531)=MAX(L$3091:L$4531),0,\nIF(Hydrograph_Source_WQCV=\"USER\",IF(J3698>0.01*D$4532,0,$C3698/60),\nIF(J3698>0.01*J$4532,0,$C3698/60))))","v":0},0,0,0,0,0,0,0,0,0,{"$error":"#N/A"},{"$error":"#N/A"},{"$error":"#N/A"},{"$error":"#N/A"},{"$error":"#N/A"},{"$error":"#N/A"},{"$f":"IF(SUM(AJ$3091:AJ3697)>0,0,\nIF(MAX(AC3698:AC$4531)=MAX(AC$3091:AC$4531),0,\nIF(Hydrograph_Source_EURV=\"USER\",IF(AA3698>0.03*U$4532,0,$C3698/60),\nIF(AA3698>0.03*AA$4532,0,$C3698/60))))","v":0},{"$f":"IF(SUM(AK$3091:AK3697)>0,0,\nIF(MAX(AC3698:AC$4531)=MAX(AC$3091:AC$4531),0,\nIF(Hydrograph_Source_EURV=\"USER\",IF(AA3698>0.01*U$4532,0,$C3698/60),\nIF(AA3698>0.01*AA$4532,0,$C3698/60))))","v":0},0,0,0,0,0,0,0,0,0,{"$error":"#N/A"},{"$error":"#N/A"},{"$error":"#N/A"},{"$error":"#N/A"},{"$error":"#N/A"},{"$error":"#N/A"},{"$f":"IF(SUM(BA$3091:BA3697)>0,0,IF(MAX(AT3698:AT$4531)=MAX(AT$3091:AT$4531),0,IF(AR3698>0.03*AL$4532,0,$C3698/60)))","v":0},{"$f":"IF(SUM(BB$3091:BB3697)>0,0,IF(MAX(AT3698:AT$4531)=MAX(AT$3091:AT$4531),0,IF(AR3698>0.01*AL$4532,0,$C3698/60)))","v":0},0,0,0,0,0,0,0,0,0,{"$error":"#N/A"},{"$error":"#N/A"},{"$error":"#N/A"},{"$error":"#N/A"},{"$error":"#N/A"},{"$error":"#N/A"},{"$f":"IF(SUM(BR$3091:BR3697)>0,0,IF(MAX(BK3698:BK$4531)=MAX(BK$3091:BK$4531),0,IF(BI3698>0.03*BC$4532,0,$C3698/60)))","v":0},{"$f":"IF(SUM(BS$3091:BS3697)>0,0,IF(MAX(BK3698:BK$4531)=MAX(BK$3091:BK$4531),0,IF(BI3698>0.01*BC$4532,0,$C3698/60)))","v":0},0,0,0,0,0,0,0,0,0,{"$error":"#N/A"},{"$error":"#N/A"},{"$error":"#N/A"},{"$error":"#N/A"},{"$error":"#N/A"},{"$error":"#N/A"},{"$f":"IF(SUM(CI$3091:CI3697)>0,0,IF(MAX(CB3698:CB$4531)=MAX(CB$3091:CB$4531),0,IF(BZ3698>0.03*BT$4532,0,$C3698/60)))","v":0},{"$f":"IF(SUM(CJ$3091:CJ3697)>0,0,IF(MAX(CB3698:CB$4531)=MAX(CB$3091:CB$4531),0,IF(BZ3698>0.01*BT$4532,0,$C3698/60)))","v":0},0,0,0,0,0,0,0,0,0,{"$error":"#N/A"},{"$error":"#N/A"},{"$error":"#N/A"},{"$error":"#N/A"},{"$error":"#N/A"},{"$error":"#N/A"},{"$f":"IF(SUM(CZ$3091:CZ3697)>0,0,IF(MAX(CS3698:CS$4531)=MAX(CS$3091:CS$4531),0,IF(CQ3698>0.03*CK$4532,0,$C3698/60)))","v":0},{"$f":"IF(SUM(DA$3091:DA3697)>0,0,IF(MAX(CS3698:CS$4531)=MAX(CS$3091:CS$4531),0,IF(CQ3698>0.01*CK$4532,0,$C3698/60)))","v":0},0,0,0,0,0,0,0,0,0,{"$error":"#N/A"},{"$error":"#N/A"},{"$error":"#N/A"},{"$error":"#N/A"},{"$error":"#N/A"},{"$error":"#N/A"},{"$f":"IF(SUM(DQ$3091:DQ3697)>0,0,IF(MAX(DJ3698:DJ$4531)=MAX(DJ$3091:DJ$4531),0,IF(DH3698>0.03*DB$4532,0,$C3698/60)))","v":0},{"$f":"IF(SUM(DR$3091:DR3697)>0,0,IF(MAX(DJ3698:DJ$4531)=MAX(DJ$3091:DJ$4531),0,IF(DH3698>0.01*DB$4532,0,$C3698/60)))","v":0},0,0,0,0,0,0,0,0,0,{"$error":"#N/A"},{"$error":"#N/A"},{"$error":"#N/A"},{"$error":"#N/A"},{"$error":"#N/A"},{"$error":"#N/A"},{"$f":"IF(SUM(EH$3091:EH3697)>0,0,IF(MAX(EA3698:EA$4531)=MAX(EA$3091:EA$4531),0,IF(DY3698>0.03*DS$4532,0,$C3698/60)))","v":0},{"$f":"IF(SUM(EI$3091:EI3697)>0,0,IF(MAX(EA3698:EA$4531)=MAX(EA$3091:EA$4531),0,IF(DY3698>0.01*DS$4532,0,$C3698/60)))","v":0},0,0,0,0,0,0,0,0,0,{"$error":"#N/A"},{"$error":"#N/A"},{"$error":"#N/A"},{"$error":"#N/A"},{"$error":"#N/A"},{"$error":"#N/A"},{"$f":"IF(SUM(EY$3091:EY3697)>0,0,IF(MAX(ER3698:ER$4531)=MAX(ER$3091:ER$4531),0,IF(EP3698>0.03*EJ$4532,0,$C3698/60)))","v":0},{"$f":"IF(SUM(EZ$3091:EZ3697)>0,0,IF(MAX(ER3698:ER$4531)=MAX(ER$3091:ER$4531),0,IF(EP3698>0.01*EJ$4532,0,$C3698/60)))","v":0}]
[null,51.333333333333336,3080,0,0,0,0,0,0,0,0,0,{"$error":"#N/A"},{"$error":"#N/A"},{"$error":"#N/A"},{"$error":"#N/A"},{"$error":"#N/A"},{"$error":"#N/A"},{"$f":"IF(SUM(S$3091:S3706)>0,0,\nIF(MAX(L3707:L$4531)=MAX(L$3091:L$4531),0,\nIF(Hydrograph_Source_WQCV=\"USER\",IF(J3707>0.03*D$4532,0,$C3707/60),\nIF(J3707>0.03*J$4532,0,$C3707/60))))","v":0},{"$f":"IF(SUM(T$3091:T3706)>0,0,\nIF(MAX(L3707:L$4531)=MAX(L$3091:L$4531),0,\nIF(Hydrograph_Source_WQCV=\"USER\",IF(J3707>0.01*D$4532,0,$C3707/60),\nIF(J3707>0.01*J$4532,0,$C3707/60))))","v":0},0,0,0,0,0,0,0,0,0,{"$error":"#N/A"},{"$error":"#N/A"},{"$error":"#N/A"},{"$error":"#N/A"},{"$error":"#N/A"},{"$error":"#N/A"},{"$f":"IF(SUM(AJ$3091:AJ3706)>0,0,\nIF(MAX(AC3707:AC$4531)=MAX(AC$3091:AC$4531),0,\nIF(Hydrograph_Source_EURV=\"USER\",IF(AA3707>0.03*U$4532,0,$C3707/60),\nIF(AA3707>0.03*AA$4532,0,$C3707/60))))","v":0},{"$f":"IF(SUM(AK$3091:AK3706)>0,0,\nIF(MAX(AC3707:AC$4531)=MAX(AC$3091:AC$4531),0,\nIF(Hydrograph_Source_EURV=\"USER\",IF(AA3707>0.01*U$4532,0,$C3707/60),\nIF(AA3707>0.01*AA$4532,0,$C3707/60))))","v":0},0,0,0,0,0,0,0,0,0,{"$error":"#N/A"},{"$error":"#N/A"},{"$error":"#N/A"},{"$error":"#N/A"},{"$error":"#N/A"},{"$error":"#N/A"},{"$f":"IF(SUM(BA$3091:BA3706)>0,0,IF(MAX(AT3707:AT$4531)=MAX(AT$3091:AT$4531),0,IF(AR3707>0.03*AL$4532,0,$C3707/60)))","v":0},{"$f":"IF(SUM(BB$3091:BB3706)>0,0,IF(MAX(AT3707:AT$4531)=MAX(AT$3091:AT$4531),0,IF(AR3707>0.01*AL$4532,0,$C3707/60)))","v":0},0,0,0,0,0,0,0,0,0,{"$error":"#N/A"},{"$error":"#N/A"},{"$error":"#N/A"},{"$error":"#N/A"},{"$error":"#N/A"},{"$error":"#N/A"},{"$f":"IF(SUM(BR$3091:BR3706)>0,0,IF(MAX(BK3707:BK$4531)=MAX(BK$3091:BK$4531),0,IF(BI3707>0.03*BC$4532,0,$C3707/60)))","v":0},{"$f":"IF(SUM(BS$3091:BS3706)>0,0,IF(MAX(BK3707:BK$4531)=MAX(BK$3091:BK$4531),0,IF(BI3707>0.01*BC$4532,0,$C3707/60)))","v":0},0,0,0,0,0,0,0,0,0,{"$error":"#N/A"},{"$error":"#N/A"},{"$error":"#N/A"},{"$error":"#N/A"},{"$error":"#N/A"},{"$error":"#N/A"},{"$f":"IF(SUM(CI$3091:CI3706)>0,0,IF(MAX(CB3707:CB$4531)=MAX(CB$3091:CB$4531),0,IF(BZ3707>0.03*BT$4532,0,$C3707/60)))","v":0},{"$f":"IF(SUM(CJ$3091:CJ3706)>0,0,IF(MAX(CB3707:CB$4531)=MAX(CB$3091:CB$4531),0,IF(BZ3707>0.01*BT$4532,0,$C3707/60)))","v":0},0,0,0,0,0,0,0,0,0,{"$error":"#N/A"},{"$error":"#N/A"},{"$error":"#N/A"},{"$error":"#N/A"},{"$error":"#N/A"},{"$error":"#N/A"},{"$f":"IF(SUM(CZ$3091:CZ3706)>0,0,IF(MAX(CS3707:CS$4531)=MAX(CS$3091:CS$4531),0,IF(CQ3707>0.03*CK$4532,0,$C3707/60)))","v":0},{"$f":"IF(SUM(DA$3091:DA3706)>0,0,IF(MAX(CS3707:CS$4531)=MAX(CS$3091:CS$4531),0,IF(CQ3707>0.01*CK$4532,0,$C3707/60)))","v":0},0,0,0,0,0,0,0,0,0,{"$error":"#N/A"},{"$error":"#N/A"},{"$error":"#N/A"},{"$error":"#N/A"},{"$error":"#N/A"},{"$error":"#N/A"},{"$f":"IF(SUM(DQ$3091:DQ3706)>0,0,IF(MAX(DJ3707:DJ$4531)=MAX(DJ$3091:DJ$4531),0,IF(DH3707>0.03*DB$4532,0,$C3707/60)))","v":0},{"$f":"IF(SUM(DR$3091:DR3706)>0,0,IF(MAX(DJ3707:DJ$4531)=MAX(DJ$3091:DJ$4531),0,IF(DH3707>0.01*DB$4532,0,$C3707/60)))","v":0},0,0,0,0,0,0,0,0,0,{"$error":"#N/A"},{"$error":"#N/A"},{"$error":"#N/A"},{"$error":"#N/A"},{"$error":"#N/A"},{"$error":"#N/A"},{"$f":"IF(SUM(EH$3091:EH3706)>0,0,IF(MAX(EA3707:EA$4531)=MAX(EA$3091:EA$4531),0,IF(DY3707>0.03*DS$4532,0,$C3707/60)))","v":0},{"$f":"IF(SUM(EI$3091:EI3706)>0,0,IF(MAX(EA3707:EA$4531)=MAX(EA$3091:EA$4531),0,IF(DY3707>0.01*DS$4532,0,$C3707/60)))","v":0},0,0,0,0,0,0,0,0,0,{"$error":"#N/A"},{"$error":"#N/A"},{"$error":"#N/A"},{"$error":"#N/A"},{"$error":"#N/A"},{"$error":"#N/A"},{"$f":"IF(SUM(EY$3091:EY3706)>0,0,IF(MAX(ER3707:ER$4531)=MAX(ER$3091:ER$4531),0,IF(EP3707>0.03*EJ$4532,0,$C3707/60)))","v":0},{"$f":"IF(SUM(EZ$3091:EZ3706)>0,0,IF(MAX(ER3707:ER$4531)=MAX(ER$3091:ER$4531),0,IF(EP3707>0.01*EJ$4532,0,$C3707/60)))","v":0}]
[null,52.083333333333336,3125,0,0,0,0,0,0,0,0,0,{"$error":"#N/A"},{"$error":"#N/A"},{"$error":"#N/A"},{"$error":"#N/A"},{"$error":"#N/A"},{"$error":"#N/A"},{"$f":"IF(SUM(S$3091:S3715)>0,0,\nIF(MAX(L3716:L$4531)=MAX(L$3091:L$4531),0,\nIF(Hydrograph_Source_WQCV=\"USER\",IF(J3716>0.03*D$4532,0,$C3716/60),\nIF(J3716>0.03*J$4532,0,$C3716/60))))","v":0},{"$f":"IF(SUM(T$3091:T3715)>0,0,\nIF(MAX(L3716:L$4531)=MAX(L$3091:L$4531),0,\nIF(Hydrograph_Source_WQCV=\"USER\",IF(J3716>0.01*D$4532,0,$C3716/60),\nIF(J3716>0.01*J$4532,0,$C3716/60))))","v":0},0,0,0,0,0,0,0,0,0,{"$error":"#N/A"},{"$error":"#N/A"},{"$error":"#N/A"},{"$error":"#N/A"},{"$error":"#N/A"},{"$error":"#N/A"},{"$f":"IF(SUM(AJ$3091:AJ3715)>0,0,\nIF(MAX(AC3716:AC$4531)=MAX(AC$3091:AC$4531),0,\nIF(Hydrograph_Source_EURV=\"USER\",IF(AA3716>0.03*U$4532,0,$C3716/60),\nIF(AA3716>0.03*AA$4532,0,$C3716/60))))","v":0},{"$f":"IF(SUM(AK$3091:AK3715)>0,0,\nIF(MAX(AC3716:AC$4531)=MAX(AC$3091:AC$4531),0,\nIF(Hydrograph_Source_EURV=\"USER\",IF(AA3716>0.01*U$4532,0,$C3716/60),\nIF(AA3716>0.01*AA$4532,0,$C3716/60))))","v":0},0,0,0,0,0,0,0,0,0,{"$error":"#N/A"},{"$error":"#N/A"},{"$error":"#N/A"},{"$error":"#N/A"},{"$error":"#N/A"},{"$error":"#N/A"},{"$f":"IF(SUM(BA$3091:BA3715)>0,0,IF(MAX(AT3716:AT$4531)=MAX(AT$3091:AT$4531),0,IF(AR3716>0.03*AL$4532,0,$C3716/60)))","v":0},{"$f":"IF(SUM(BB$3091:BB3715)>0,0,IF(MAX(AT3716:AT$4531)=MAX(AT$3091:AT$4531),0,IF(AR3716>0.01*AL$4532,0,$C3716/60)))","v":0},0,0,0,0,0,0,0,0,0,{"$error":"#N/A"},{"$error":"#N/A"},{"$error":"#N/A"},{"$error":"#N/A"},{"$error":"#N/A"},{"$error":"#N/A"},{"$f":"IF(SUM(BR$3091:BR3715)>0,0,IF(MAX(BK3716:BK$4531)=MAX(BK$3091:BK$4531),0,IF(BI3716>0.03*BC$4532,0,$C3716/60)))","v":0},{"$f":"IF(SUM(BS$3091:BS3715)>0,0,IF(MAX(BK3716:BK$4531)=MAX(BK$3091:BK$4531),0,IF(BI3716>0.01*BC$4532,0,$C3716/60)))","v":0},0,0,0,0,0,0,0,0,0,{"$error":"#N/A"},{"$error":"#N/A"},{"$error":"#N/A"},{"$error":"#N/A"},{"$error":"#N/A"},{"$error":"#N/A"},{"$f":"IF(SUM(CI$3091:CI3715)>0,0,IF(MAX(CB3716:CB$4531)=MAX(CB$3091:CB$4531),0,IF(BZ3716>0.03*BT$4532,0,$C3716/60)))","v":0},{"$f":"IF(SUM(CJ$3091:CJ3715)>0,0,IF(MAX(CB3716:CB$4531)=MAX(CB$3091:CB$4531),0,IF(BZ3716>0.01*BT$4532,0,$C3716/60)))","v":0},0,0,0,0,0,0,0,0,0,{"$error":"#N/A"},{"$error":"#N/A"},{"$error":"#N/A"},{"$error":"#N/A"},{"$error":"#N/A"},{"$error":"#N/A"},{"$f":"IF(SUM(CZ$3091:CZ3715)>0,0,IF(MAX(CS3716:CS$4531)=MAX(CS$3091:CS$4531),0,IF(CQ3716>0.03*CK$4532,0,$C3716/60)))","v":0},{"$f":"IF(SUM(DA$3091:DA3715)>0,0,IF(MAX(CS3716:CS$4531)=MAX(CS$3091:CS$4531),0,IF(CQ3716>0.01*CK$4532,0,$C3716/60)))","v":0},0,0,0,0,0,0,0,0,0,{"$error":"#N/A"},{"$error":"#N/A"},{"$error":"#N/A"},{"$error":"#N/A"},{"$error":"#N/A"},{"$error":"#N/A"},{"$f":"IF(SUM(DQ$3091:DQ3715)>0,0,IF(MAX(DJ3716:DJ$4531)=MAX(DJ$3091:DJ$4531),0,IF(DH3716>0.03*DB$4532,0,$C3716/60)))","v":0},{"$f":"IF(SUM(DR$3091:DR3715)>0,0,IF(MAX(DJ3716:DJ$4531)=MAX(DJ$3091:DJ$4531),0,IF(DH3716>0.01*DB$4532,0,$C3716/60)))","v":0},0,0,0,0,0,0,0,0,0,{"$error":"#N/A"},{"$error":"#N/A"},{"$error":"#N/A"},{"$error":"#N/A"},{"$error":"#N/A"},{"$error":"#N/A"},{"$f":"IF(SUM(EH$3091:EH3715)>0,0,IF(MAX(EA3716:EA$4531)=MAX(EA$3091:EA$4531),0,IF(DY3716>0.03*DS$4532,0,$C3716/60)))","v":0},{"$f":"IF(SUM(EI$3091:EI3715)>0,0,IF(MAX(EA3716:EA$4531)=MAX(EA$3091:EA$4531),0,IF(DY3716>0.01*DS$4532,0,$C3716/60)))","v":0},0,0,0,0,0,0,0,0,0,{"$error":"#N/A"},{"$error":"#N/A"},{"$error":"#N/A"},{"$error":"#N/A"},{"$error":"#N/A"},{"$error":"#N/A"},{"$f":"IF(SUM(EY$3091:EY3715)>0,0,IF(MAX(ER3716:ER$4531)=MAX(ER$3091:ER$4531),0,IF(EP3716>0.03*EJ$4532,0,$C3716/60)))","v":0},{"$f":"IF(SUM(EZ$3091:EZ3715)>0,0,IF(MAX(ER3716:ER$4531)=MAX(ER$3091:ER$4531),0,IF(EP3716>0.01*EJ$4532,0,$C3716/60)))","v":0}]
[null,52.833333333333336,3170,0,0,0,0,0,0,0,0,0,{"$error":"#N/A"},{"$error":"#N/A"},{"$error":"#N/A"},{"$error":"#N/A"},{"$error":"#N/A"},{"$error":"#N/A"},{"$f":"IF(SUM(S$3091:S3724)>0,0,\nIF(MAX(L3725:L$4531)=MAX(L$3091:L$4531),0,\nIF(Hydrograph_Source_WQCV=\"USER\",IF(J3725>0.03*D$4532,0,$C3725/60),\nIF(J3725>0.03*J$4532,0,$C3725/60))))","v":0},{"$f":"IF(SUM(T$3091:T3724)>0,0,\nIF(MAX(L3725:L$4531)=MAX(L$3091:L$4531),0,\nIF(Hydrograph_Source_WQCV=\"USER\",IF(J3725>0.01*D$4532,0,$C3725/60),\nIF(J3725>0.01*J$4532,0,$C3725/60))))","v":0},0,0,0,0,0,0,0,0,0,{"$error":"#N/A"},{"$error":"#N/A"},{"$error":"#N/A"},{"$error":"#N/A"},{"$error":"#N/A"},{"$error":"#N/A"},{"$f":"IF(SUM(AJ$3091:AJ3724)>0,0,\nIF(MAX(AC3725:AC$4531)=MAX(AC$3091:AC$4531),0,\nIF(Hydrograph_Source_EURV=\"USER\",IF(AA3725>0.03*U$4532,0,$C3725/60),\nIF(AA3725>0.03*AA$4532,0,$C3725/60))))","v":0},{"$f":"IF(SUM(AK$3091:AK3724)>0,0,\nIF(MAX(AC3725:AC$4531)=MAX(AC$3091:AC$4531),0,\nIF(Hydrograph_Source_EURV=\"USER\",IF(AA3725>0.01*U$4532,0,$C3725/60),\nIF(AA3725>0.01*AA$4532,0,$C3725/60))))","v":0},0,0,0,0,0,0,0,0,0,{"$error":"#N/A"},{"$error":"#N/A"},{"$error":"#N/A"},{"$error":"#N/A"},{"$error":"#N/A"},{"$error":"#N/A"},{"$f":"IF(SUM(BA$3091:BA3724)>0,0,IF(MAX(AT3725:AT$4531)=MAX(AT$3091:AT$4531),0,IF(AR3725>0.03*AL$4532,0,$C3725/60)))","v":0},{"$f":"IF(SUM(BB$3091:BB3724)>0,0,IF(MAX(AT3725:AT$4531)=MAX(AT$3091:AT$4531),0,IF(AR3725>0.01*AL$4532,0,$C3725/60)))","v":0},0,0,0,0,0,0,0,0,0,{"$error":"#N/A"},{"$error":"#N/A"},{"$error":"#N/A"},{"$error":"#N/A"},{"$error":"#N/A"},{"$error":"#N/A"},{"$f":"IF(SUM(BR$3091:BR3724)>0,0,IF(MAX(BK3725:BK$4531)=MAX(BK$3091:BK$4531),0,IF(BI3725>0.03*BC$4532,0,$C3725/60)))","v":0},{"$f":"IF(SUM(BS$3091:BS3724)>0,0,IF(MAX(BK3725:BK$4531)=MAX(BK$3091:BK$4531),0,IF(BI3725>0.01*BC$4532,0,$C3725/60)))","v":0},0,0,0,0,0,0,0,0,0,{"$error":"#N/A"},{"$error":"#N/A"},{"$error":"#N/A"},{"$error":"#N/A"},{"$error":"#N/A"},{"$error":"#N/A"},{"$f":"IF(SUM(CI$3091:CI3724)>0,0,IF(MAX(CB3725:CB$4531)=MAX(CB$3091:CB$4531),0,IF(BZ3725>0.03*BT$4532,0,$C3725/60)))","v":0},{"$f":"IF(SUM(CJ$3091:CJ3724)>0,0,IF(MAX(CB3725:CB$4531)=MAX(CB$3091:CB$4531),0,IF(BZ3725>0.01*BT$4532,0,$C3725/60)))","v":0},0,0,0,0,0,0,0,0,0,{"$error":"#N/A"},{"$error":"#N/A"},{"$error":"#N/A"},{"$error":"#N/A"},{"$error":"#N/A"},{"$error":"#N/A"},{"$f":"IF(SUM(CZ$3091:CZ3724)>0,0,IF(MAX(CS3725:CS$4531)=MAX(CS$3091:CS$4531),0,IF(CQ3725>0.03*CK$4532,0,$C3725/60)))","v":0},{"$f":"IF(SUM(DA$3091:DA3724)>0,0,IF(MAX(CS3725:CS$4531)=MAX(CS$3091:CS$4531),0,IF(CQ3725>0.01*CK$4532,0,$C3725/60)))","v":0},0,0,0,0,0,0,0,0,0,{"$error":"#N/A"},{"$error":"#N/A"},{"$error":"#N/A"},{"$error":"#N/A"},{"$error":"#N/A"},{"$error":"#N/A"},{"$f":"IF(SUM(DQ$3091:DQ3724)>0,0,IF(MAX(DJ3725:DJ$4531)=MAX(DJ$3091:DJ$4531),0,IF(DH3725>0.03*DB$4532,0,$C3725/60)))","v":0},{"$f":"IF(SUM(DR$3091:DR3724)>0,0,IF(MAX(DJ3725:DJ$4531)=MAX(DJ$3091:DJ$4531),0,IF(DH3725>0.01*DB$4532,0,$C3725/60)))","v":0},0,0,0,0,0,0,0,0,0,{"$error":"#N/A"},{"$error":"#N/A"},{"$error":"#N/A"},{"$error":"#N/A"},{"$error":"#N/A"},{"$error":"#N/A"},{"$f":"IF(SUM(EH$3091:EH3724)>0,0,IF(MAX(EA3725:EA$4531)=MAX(EA$3091:EA$4531),0,IF(DY3725>0.03*DS$4532,0,$C3725/60)))","v":0},{"$f":"IF(SUM(EI$3091:EI3724)>0,0,IF(MAX(EA3725:EA$4531)=MAX(EA$3091:EA$4531),0,IF(DY3725>0.01*DS$4532,0,$C3725/60)))","v":0},0,0,0,0,0,0,0,0,0,{"$error":"#N/A"},{"$error":"#N/A"},{"$error":"#N/A"},{"$error":"#N/A"},{"$error":"#N/A"},{"$error":"#N/A"},{"$f":"IF(SUM(EY$3091:EY3724)>0,0,IF(MAX(ER3725:ER$4531)=MAX(ER$3091:ER$4531),0,IF(EP3725>0.03*EJ$4532,0,$C3725/60)))","v":0},{"$f":"IF(SUM(EZ$3091:EZ3724)>0,0,IF(MAX(ER3725:ER$4531)=MAX(ER$3091:ER$4531),0,IF(EP3725>0.01*EJ$4532,0,$C3725/60)))","v":0}]
[null,53.583333333333336,3215,0,0,0,0,0,0,0,0,0,{"$error":"#N/A"},{"$error":"#N/A"},{"$error":"#N/A"},{"$error":"#N/A"},{"$error":"#N/A"},{"$error":"#N/A"},{"$f":"IF(SUM(S$3091:S3733)>0,0,\nIF(MAX(L3734:L$4531)=MAX(L$3091:L$4531),0,\nIF(Hydrograph_Source_WQCV=\"USER\",IF(J3734>0.03*D$4532,0,$C3734/60),\nIF(J3734>0.03*J$4532,0,$C3734/60))))","v":0},{"$f":"IF(SUM(T$3091:T3733)>0,0,\nIF(MAX(L3734:L$4531)=MAX(L$3091:L$4531),0,\nIF(Hydrograph_Source_WQCV=\"USER\",IF(J3734>0.01*D$4532,0,$C3734/60),\nIF(J3734>0.01*J$4532,0,$C3734/60))))","v":0},0,0,0,0,0,0,0,0,0,{"$error":"#N/A"},{"$error":"#N/A"},{"$error":"#N/A"},{"$error":"#N/A"},{"$error":"#N/A"},{"$error":"#N/A"},{"$f":"IF(SUM(AJ$3091:AJ3733)>0,0,\nIF(MAX(AC3734:AC$4531)=MAX(AC$3091:AC$4531),0,\nIF(Hydrograph_Source_EURV=\"USER\",IF(AA3734>0.03*U$4532,0,$C3734/60),\nIF(AA3734>0.03*AA$4532,0,$C3734/60))))","v":0},{"$f":"IF(SUM(AK$3091:AK3733)>0,0,\nIF(MAX(AC3734:AC$4531)=MAX(AC$3091:AC$4531),0,\nIF(Hydrograph_Source_EURV=\"USER\",IF(AA3734>0.01*U$4532,0,$C3734/60),\nIF(AA3734>0.01*AA$4532,0,$C3734/60))))","v":0},0,0,0,0,0,0,0,0,0,{"$error":"#N/A"},{"$error":"#N/A"},{"$error":"#N/A"},{"$error":"#N/A"},{"$error":"#N/A"},{"$error":"#N/A"},{"$f":"IF(SUM(BA$3091:BA3733)>0,0,IF(MAX(AT3734:AT$4531)=MAX(AT$3091:AT$4531),0,IF(AR3734>0.03*AL$4532,0,$C3734/60)))","v":0},{"$f":"IF(SUM(BB$3091:BB3733)>0,0,IF(MAX(AT3734:AT$4531)=MAX(AT$3091:AT$4531),0,IF(AR3734>0.01*AL$4532,0,$C3734/60)))","v":0},0,0,0,0,0,0,0,0,0,{"$error":"#N/A"},{"$error":"#N/A"},{"$error":"#N/A"},{"$error":"#N/A"},{"$error":"#N/A"},{"$error":"#N/A"},{"$f":"IF(SUM(BR$3091:BR3733)>0,0,IF(MAX(BK3734:BK$4531)=MAX(BK$3091:BK$4531),0,IF(BI3734>0.03*BC$4532,0,$C3734/60)))","v":0},{"$f":"IF(SUM(BS$3091:BS3733)>0,0,IF(MAX(BK3734:BK$4531)=MAX(BK$3091:BK$4531),0,IF(BI3734>0.01*BC$4532,0,$C3734/60)))","v":0},0,0,0,0,0,0,0,0,0,{"$error":"#N/A"},{"$error":"#N/A"},{"$error":"#N/A"},{"$error":"#N/A"},{"$error":"#N/A"},{"$error":"#N/A"},{"$f":"IF(SUM(CI$3091:CI3733)>0,0,IF(MAX(CB3734:CB$4531)=MAX(CB$3091:CB$4531),0,IF(BZ3734>0.03*BT$4532,0,$C3734/60)))","v":0},{"$f":"IF(SUM(CJ$3091:CJ3733)>0,0,IF(MAX(CB3734:CB$4531)=MAX(CB$3091:CB$4531),0,IF(BZ3734>0.01*BT$4532,0,$C3734/60)))","v":0},0,0,0,0,0,0,0,0,0,{"$error":"#N/A"},{"$error":"#N/A"},{"$error":"#N/A"},{"$error":"#N/A"},{"$error":"#N/A"},{"$error":"#N/A"},{"$f":"IF(SUM(CZ$3091:CZ3733)>0,0,IF(MAX(CS3734:CS$4531)=MAX(CS$3091:CS$4531),0,IF(CQ3734>0.03*CK$4532,0,$C3734/60)))","v":0},{"$f":"IF(SUM(DA$3091:DA3733)>0,0,IF(MAX(CS3734:CS$4531)=MAX(CS$3091:CS$4531),0,IF(CQ3734>0.01*CK$4532,0,$C3734/60)))","v":0},0,0,0,0,0,0,0,0,0,{"$error":"#N/A"},{"$error":"#N/A"},{"$error":"#N/A"},{"$error":"#N/A"},{"$error":"#N/A"},{"$error":"#N/A"},{"$f":"IF(SUM(DQ$3091:DQ3733)>0,0,IF(MAX(DJ3734:DJ$4531)=MAX(DJ$3091:DJ$4531),0,IF(DH3734>0.03*DB$4532,0,$C3734/60)))","v":0},{"$f":"IF(SUM(DR$3091:DR3733)>0,0,IF(MAX(DJ3734:DJ$4531)=MAX(DJ$3091:DJ$4531),0,IF(DH3734>0.01*DB$4532,0,$C3734/60)))","v":0},0,0,0,0,0,0,0,0,0,{"$error":"#N/A"},{"$error":"#N/A"},{"$error":"#N/A"},{"$error":"#N/A"},{"$error":"#N/A"},{"$error":"#N/A"},{"$f":"IF(SUM(EH$3091:EH3733)>0,0,IF(MAX(EA3734:EA$4531)=MAX(EA$3091:EA$4531),0,IF(DY3734>0.03*DS$4532,0,$C3734/60)))","v":0},{"$f":"IF(SUM(EI$3091:EI3733)>0,0,IF(MAX(EA3734:EA$4531)=MAX(EA$3091:EA$4531),0,IF(DY3734>0.01*DS$4532,0,$C3734/60)))","v":0},0,0,0,0,0,0,0,0,0,{"$error":"#N/A"},{"$error":"#N/A"},{"$error":"#N/A"},{"$error":"#N/A"},{"$error":"#N/A"},{"$error":"#N/A"},{"$f":"IF(SUM(EY$3091:EY3733)>0,0,IF(MAX(ER3734:ER$4531)=MAX(ER$3091:ER$4531),0,IF(EP3734>0.03*EJ$4532,0,$C3734/60)))","v":0},{"$f":"IF(SUM(EZ$3091:EZ3733)>0,0,IF(MAX(ER3734:ER$4531)=MAX(ER$3091:ER$4531),0,IF(EP3734>0.01*EJ$4532,0,$C3734/60)))","v":0}]
[null,54.166666666666664,3250,0,0,0,0,0,0,0,0,0,{"$error":"#N/A"},{"$error":"#N/A"},{"$error":"#N/A"},{"$error":"#N/A"},{"$error":"#N/A"},{"$error":"#N/A"},{"$f":"IF(SUM(S$3091:S3740)>0,0,\nIF(MAX(L3741:L$4531)=MAX(L$3091:L$4531),0,\nIF(Hydrograph_Source_WQCV=\"USER\",IF(J3741>0.03*D$4532,0,$C3741/60),\nIF(J3741>0.03*J$4532,0,$C3741/60))))","v":0},{"$f":"IF(SUM(T$3091:T3740)>0,0,\nIF(MAX(L3741:L$4531)=MAX(L$3091:L$4531),0,\nIF(Hydrograph_Source_WQCV=\"USER\",IF(J3741>0.01*D$4532,0,$C3741/60),\nIF(J3741>0.01*J$4532,0,$C3741/60))))","v":0},0,0,0,0,0,0,0,0,0,{"$error":"#N/A"},{"$error":"#N/A"},{"$error":"#N/A"},{"$error":"#N/A"},{"$error":"#N/A"},{"$error":"#N/A"},{"$f":"IF(SUM(AJ$3091:AJ3740)>0,0,\nIF(MAX(AC3741:AC$4531)=MAX(AC$3091:AC$4531),0,\nIF(Hydrograph_Source_EURV=\"USER\",IF(AA3741>0.03*U$4532,0,$C3741/60),\nIF(AA3741>0.03*AA$4532,0,$C3741/60))))","v":0},{"$f":"IF(SUM(AK$3091:AK3740)>0,0,\nIF(MAX(AC3741:AC$4531)=MAX(AC$3091:AC$4531),0,\nIF(Hydrograph_Source_EURV=\"USER\",IF(AA3741>0.01*U$4532,0,$C3741/60),\nIF(AA3741>0.01*AA$4532,0,$C3741/60))))","v":0},0,0,0,0,0,0,0,0,0,{"$error":"#N/A"},{"$error":"#N/A"},{"$error":"#N/A"},{"$error":"#N/A"},{"$error":"#N/A"},{"$error":"#N/A"},{"$f":"IF(SUM(BA$3091:BA3740)>0,0,IF(MAX(AT3741:AT$4531)=MAX(AT$3091:AT$4531),0,IF(AR3741>0.03*AL$4532,0,$C3741/60)))","v":0},{"$f":"IF(SUM(BB$3091:BB3740)>0,0,IF(MAX(AT3741:AT$4531)=MAX(AT$3091:AT$4531),0,IF(AR3741>0.01*AL$4532,0,$C3741/60)))","v":0},0,0,0,0,0,0,0,0,0,{"$error":"#N/A"},{"$error":"#N/A"},{"$error":"#N/A"},{"$error":"#N/A"},{"$error":"#N/A"},{"$error":"#N/A"},{"$f":"IF(SUM(BR$3091:BR3740)>0,0,IF(MAX(BK3741:BK$4531)=MAX(BK$3091:BK$4531),0,IF(BI3741>0.03*BC$4532,0,$C3741/60)))","v":0},{"$f":"IF(SUM(BS$3091:BS3740)>0,0,IF(MAX(BK3741:BK$4531)=MAX(BK$3091:BK$4531),0,IF(BI3741>0.01*BC$4532,0,$C3741/60)))","v":0},0,0,0,0,0,0,0,0,0,{"$error":"#N/A"},{"$error":"#N/A"},{"$error":"#N/A"},{"$error":"#N/A"},{"$error":"#N/A"},{"$error":"#N/A"},{"$f":"IF(SUM(CI$3091:CI3740)>0,0,IF(MAX(CB3741:CB$4531)=MAX(CB$3091:CB$4531),0,IF(BZ3741>0.03*BT$4532,0,$C3741/60)))","v":0},{"$f":"IF(SUM(CJ$3091:CJ3740)>0,0,IF(MAX(CB3741:CB$4531)=MAX(CB$3091:CB$4531),0,IF(BZ3741>0.01*BT$4532,0,$C3741/60)))","v":0},0,0,0,0,0,0,0,0,0,{"$error":"#N/A"},{"$error":"#N/A"},{"$error":"#N/A"},{"$error":"#N/A"},{"$error":"#N/A"},{"$error":"#N/A"},{"$f":"IF(SUM(CZ$3091:CZ3740)>0,0,IF(MAX(CS3741:CS$4531)=MAX(CS$3091:CS$4531),0,IF(CQ3741>0.03*CK$4532,0,$C3741/60)))","v":0},{"$f":"IF(SUM(DA$3091:DA3740)>0,0,IF(MAX(CS3741:CS$4531)=MAX(CS$3091:CS$4531),0,IF(CQ3741>0.01*CK$4532,0,$C3741/60)))","v":0},0,0,0,0,0,0,0,0,0,{"$error":"#N/A"},{"$error":"#N/A"},{"$error":"#N/A"},{"$error":"#N/A"},{"$error":"#N/A"},{"$error":"#N/A"},{"$f":"IF(SUM(DQ$3091:DQ3740)>0,0,IF(MAX(DJ3741:DJ$4531)=MAX(DJ$3091:DJ$4531),0,IF(DH3741>0.03*DB$4532,0,$C3741/60)))","v":0},{"$f":"IF(SUM(DR$3091:DR3740)>0,0,IF(MAX(DJ3741:DJ$4531)=MAX(DJ$3091:DJ$4531),0,IF(DH3741>0.01*DB$4532,0,$C3741/60)))","v":0},0,0,0,0,0,0,0,0,0,{"$error":"#N/A"},{"$error":"#N/A"},{"$error":"#N/A"},{"$error":"#N/A"},{"$error":"#N/A"},{"$error":"#N/A"},{"$f":"IF(SUM(EH$3091:EH3740)>0,0,IF(MAX(EA3741:EA$4531)=MAX(EA$3091:EA$4531),0,IF(DY3741>0.03*DS$4532,0,$C3741/60)))","v":0},{"$f":"IF(SUM(EI$3091:EI3740)>0,0,IF(MAX(EA3741:EA$4531)=MAX(EA$3091:EA$4531),0,IF(DY3741>0.01*DS$4532,0,$C3741/60)))","v":0},0,0,0,0,0,0,0,0,0,{"$error":"#N/A"},{"$error":"#N/A"},{"$error":"#N/A"},{"$error":"#N/A"},{"$error":"#N/A"},{"$error":"#N/A"},{"$f":"IF(SUM(EY$3091:EY3740)>0,0,IF(MAX(ER3741:ER$4531)=MAX(ER$3091:ER$4531),0,IF(EP3741>0.03*EJ$4532,0,$C3741/60)))","v":0},{"$f":"IF(SUM(EZ$3091:EZ3740)>0,0,IF(MAX(ER3741:ER$4531)=MAX(ER$3091:ER$4531),0,IF(EP3741>0.01*EJ$4532,0,$C3741/60)))","v":0}]
[null,54.333333333333336,3260,0,0,0,0,0,0,0,0,0,{"$error":"#N/A"},{"$error":"#N/A"},{"$error":"#N/A"},{"$error":"#N/A"},{"$error":"#N/A"},{"$error":"#N/A"},{"$f":"IF(SUM(S$3091:S3742)>0,0,\nIF(MAX(L3743:L$4531)=MAX(L$3091:L$4531),0,\nIF(Hydrograph_Source_WQCV=\"USER\",IF(J3743>0.03*D$4532,0,$C3743/60),\nIF(J3743>0.03*J$4532,0,$C3743/60))))","v":0},{"$f":"IF(SUM(T$3091:T3742)>0,0,\nIF(MAX(L3743:L$4531)=MAX(L$3091:L$4531),0,\nIF(Hydrograph_Source_WQCV=\"USER\",IF(J3743>0.01*D$4532,0,$C3743/60),\nIF(J3743>0.01*J$4532,0,$C3743/60))))","v":0},0,0,0,0,0,0,0,0,0,{"$error":"#N/A"},{"$error":"#N/A"},{"$error":"#N/A"},{"$error":"#N/A"},{"$error":"#N/A"},{"$error":"#N/A"},{"$f":"IF(SUM(AJ$3091:AJ3742)>0,0,\nIF(MAX(AC3743:AC$4531)=MAX(AC$3091:AC$4531),0,\nIF(Hydrograph_Source_EURV=\"USER\",IF(AA3743>0.03*U$4532,0,$C3743/60),\nIF(AA3743>0.03*AA$4532,0,$C3743/60))))","v":0},{"$f":"IF(SUM(AK$3091:AK3742)>0,0,\nIF(MAX(AC3743:AC$4531)=MAX(AC$3091:AC$4531),0,\nIF(Hydrograph_Source_EURV=\"USER\",IF(AA3743>0.01*U$4532,0,$C3743/60),\nIF(AA3743>0.01*AA$4532,0,$C3743/60))))","v":0},0,0,0,0,0,0,0,0,0,{"$error":"#N/A"},{"$error":"#N/A"},{"$error":"#N/A"},{"$error":"#N/A"},{"$error":"#N/A"},{"$error":"#N/A"},{"$f":"IF(SUM(BA$3091:BA3742)>0,0,IF(MAX(AT3743:AT$4531)=MAX(AT$3091:AT$4531),0,IF(AR3743>0.03*AL$4532,0,$C3743/60)))","v":0},{"$f":"IF(SUM(BB$3091:BB3742)>0,0,IF(MAX(AT3743:AT$4531)=MAX(AT$3091:AT$4531),0,IF(AR3743>0.01*AL$4532,0,$C3743/60)))","v":0},0,0,0,0,0,0,0,0,0,{"$error":"#N/A"},{"$error":"#N/A"},{"$error":"#N/A"},{"$error":"#N/A"},{"$error":"#N/A"},{"$error":"#N/A"},{"$f":"IF(SUM(BR$3091:BR3742)>0,0,IF(MAX(BK3743:BK$4531)=MAX(BK$3091:BK$4531),0,IF(BI3743>0.03*BC$4532,0,$C3743/60)))","v":0},{"$f":"IF(SUM(BS$3091:BS3742)>0,0,IF(MAX(BK3743:BK$4531)=MAX(BK$3091:BK$4531),0,IF(BI3743>0.01*BC$4532,0,$C3743/60)))","v":0},0,0,0,0,0,0,0,0,0,{"$error":"#N/A"},{"$error":"#N/A"},{"$error":"#N/A"},{"$error":"#N/A"},{"$error":"#N/A"},{"$error":"#N/A"},{"$f":"IF(SUM(CI$3091:CI3742)>0,0,IF(MAX(CB3743:CB$4531)=MAX(CB$3091:CB$4531),0,IF(BZ3743>0.03*BT$4532,0,$C3743/60)))","v":0},{"$f":"IF(SUM(CJ$3091:CJ3742)>0,0,IF(MAX(CB3743:CB$4531)=MAX(CB$3091:CB$4531),0,IF(BZ3743>0.01*BT$4532,0,$C3743/60)))","v":0},0,0,0,0,0,0,0,0,0,{"$error":"#N/A"},{"$error":"#N/A"},{"$error":"#N/A"},{"$error":"#N/A"},{"$error":"#N/A"},{"$error":"#N/A"},{"$f":"IF(SUM(CZ$3091:CZ3742)>0,0,IF(MAX(CS3743:CS$4531)=MAX(CS$3091:CS$4531),0,IF(CQ3743>0.03*CK$4532,0,$C3743/60)))","v":0},{"$f":"IF(SUM(DA$3091:DA3742)>0,0,IF(MAX(CS3743:CS$4531)=MAX(CS$3091:CS$4531),0,IF(CQ3743>0.01*CK$4532,0,$C3743/60)))","v":0},0,0,0,0,0,0,0,0,0,{"$error":"#N/A"},{"$error":"#N/A"},{"$error":"#N/A"},{"$error":"#N/A"},{"$error":"#N/A"},{"$error":"#N/A"},{"$f":"IF(SUM(DQ$3091:DQ3742)>0,0,IF(MAX(DJ3743:DJ$4531)=MAX(DJ$3091:DJ$4531),0,IF(DH3743>0.03*DB$4532,0,$C3743/60)))","v":0},{"$f":"IF(SUM(DR$3091:DR3742)>0,0,IF(MAX(DJ3743:DJ$4531)=MAX(DJ$3091:DJ$4531),0,IF(DH3743>0.01*DB$4532,0,$C3743/60)))","v":0},0,0,0,0,0,0,0,0,0,{"$error":"#N/A"},{"$error":"#N/A"},{"$error":"#N/A"},{"$error":"#N/A"},{"$error":"#N/A"},{"$error":"#N/A"},{"$f":"IF(SUM(EH$3091:EH3742)>0,0,IF(MAX(EA3743:EA$4531)=MAX(EA$3091:EA$4531),0,IF(DY3743>0.03*DS$4532,0,$C3743/60)))","v":0},{"$f":"IF(SUM(EI$3091:EI3742)>0,0,IF(MAX(EA3743:EA$4531)=MAX(EA$3091:EA$4531),0,IF(DY3743>0.01*DS$4532,0,$C3743/60)))","v":0},0,0,0,0,0,0,0,0,0,{"$error":"#N/A"},{"$error":"#N/A"},{"$error":"#N/A"},{"$error":"#N/A"},{"$error":"#N/A"},{"$error":"#N/A"},{"$f":"IF(SUM(EY$3091:EY3742)>0,0,IF(MAX(ER3743:ER$4531)=MAX(ER$3091:ER$4531),0,IF(EP3743>0.03*EJ$4532,0,$C3743/60)))","v":0},{"$f":"IF(SUM(EZ$3091:EZ3742)>0,0,IF(MAX(ER3743:ER$4531)=MAX(ER$3091:ER$4531),0,IF(EP3743>0.01*EJ$4532,0,$C3743/60)))","v":0}]
[null,55.083333333333336,3305,0,0,0,0,0,0,0,0,0,{"$error":"#N/A"},{"$error":"#N/A"},{"$error":"#N/A"},{"$error":"#N/A"},{"$error":"#N/A"},{"$error":"#N/A"},{"$f":"IF(SUM(S$3091:S3751)>0,0,\nIF(MAX(L3752:L$4531)=MAX(L$3091:L$4531),0,\nIF(Hydrograph_Source_WQCV=\"USER\",IF(J3752>0.03*D$4532,0,$C3752/60),\nIF(J3752>0.03*J$4532,0,$C3752/60))))","v":0},{"$f":"IF(SUM(T$3091:T3751)>0,0,\nIF(MAX(L3752:L$4531)=MAX(L$3091:L$4531),0,\nIF(Hydrograph_Source_WQCV=\"USER\",IF(J3752>0.01*D$4532,0,$C3752/60),\nIF(J3752>0.01*J$4532,0,$C3752/60))))","v":0},0,0,0,0,0,0,0,0,0,{"$error":"#N/A"},{"$error":"#N/A"},{"$error":"#N/A"},{"$error":"#N/A"},{"$error":"#N/A"},{"$error":"#N/A"},{"$f":"IF(SUM(AJ$3091:AJ3751)>0,0,\nIF(MAX(AC3752:AC$4531)=MAX(AC$3091:AC$4531),0,\nIF(Hydrograph_Source_EURV=\"USER\",IF(AA3752>0.03*U$4532,0,$C3752/60),\nIF(AA3752>0.03*AA$4532,0,$C3752/60))))","v":0},{"$f":"IF(SUM(AK$3091:AK3751)>0,0,\nIF(MAX(AC3752:AC$4531)=MAX(AC$3091:AC$4531),0,\nIF(Hydrograph_Source_EURV=\"USER\",IF(AA3752>0.01*U$4532,0,$C3752/60),\nIF(AA3752>0.01*AA$4532,0,$C3752/60))))","v":0},0,0,0,0,0,0,0,0,0,{"$error":"#N/A"},{"$error":"#N/A"},{"$error":"#N/A"},{"$error":"#N/A"},{"$error":"#N/A"},{"$error":"#N/A"},{"$f":"IF(SUM(BA$3091:BA3751)>0,0,IF(MAX(AT3752:AT$4531)=MAX(AT$3091:AT$4531),0,IF(AR3752>0.03*AL$4532,0,$C3752/60)))","v":0},{"$f":"IF(SUM(BB$3091:BB3751)>0,0,IF(MAX(AT3752:AT$4531)=MAX(AT$3091:AT$4531),0,IF(AR3752>0.01*AL$4532,0,$C3752/60)))","v":0},0,0,0,0,0,0,0,0,0,{"$error":"#N/A"},{"$error":"#N/A"},{"$error":"#N/A"},{"$error":"#N/A"},{"$error":"#N/A"},{"$error":"#N/A"},{"$f":"IF(SUM(BR$3091:BR3751)>0,0,IF(MAX(BK3752:BK$4531)=MAX(BK$3091:BK$4531),0,IF(BI3752>0.03*BC$4532,0,$C3752/60)))","v":0},{"$f":"IF(SUM(BS$3091:BS3751)>0,0,IF(MAX(BK3752:BK$4531)=MAX(BK$3091:BK$4531),0,IF(BI3752>0.01*BC$4532,0,$C3752/60)))","v":0},0,0,0,0,0,0,0,0,0,{"$error":"#N/A"},{"$error":"#N/A"},{"$error":"#N/A"},{"$error":"#N/A"},{"$error":"#N/A"},{"$error":"#N/A"},{"$f":"IF(SUM(CI$3091:CI3751)>0,0,IF(MAX(CB3752:CB$4531)=MAX(CB$3091:CB$4531),0,IF(BZ3752>0.03*BT$4532,0,$C3752/60)))","v":0},{"$f":"IF(SUM(CJ$3091:CJ3751)>0,0,IF(MAX(CB3752:CB$4531)=MAX(CB$3091:CB$4531),0,IF(BZ3752>0.01*BT$4532,0,$C3752/60)))","v":0},0,0,0,0,0,0,0,0,0,{"$error":"#N/A"},{"$error":"#N/A"},{"$error":"#N/A"},{"$error":"#N/A"},{"$error":"#N/A"},{"$error":"#N/A"},{"$f":"IF(SUM(CZ$3091:CZ3751)>0,0,IF(MAX(CS3752:CS$4531)=MAX(CS$3091:CS$4531),0,IF(CQ3752>0.03*CK$4532,0,$C3752/60)))","v":0},{"$f":"IF(SUM(DA$3091:DA3751)>0,0,IF(MAX(CS3752:CS$4531)=MAX(CS$3091:CS$4531),0,IF(CQ3752>0.01*CK$4532,0,$C3752/60)))","v":0},0,0,0,0,0,0,0,0,0,{"$error":"#N/A"},{"$error":"#N/A"},{"$error":"#N/A"},{"$error":"#N/A"},{"$error":"#N/A"},{"$error":"#N/A"},{"$f":"IF(SUM(DQ$3091:DQ3751)>0,0,IF(MAX(DJ3752:DJ$4531)=MAX(DJ$3091:DJ$4531),0,IF(DH3752>0.03*DB$4532,0,$C3752/60)))","v":0},{"$f":"IF(SUM(DR$3091:DR3751)>0,0,IF(MAX(DJ3752:DJ$4531)=MAX(DJ$3091:DJ$4531),0,IF(DH3752>0.01*DB$4532,0,$C3752/60)))","v":0},0,0,0,0,0,0,0,0,0,{"$error":"#N/A"},{"$error":"#N/A"},{"$error":"#N/A"},{"$error":"#N/A"},{"$error":"#N/A"},{"$error":"#N/A"},{"$f":"IF(SUM(EH$3091:EH3751)>0,0,IF(MAX(EA3752:EA$4531)=MAX(EA$3091:EA$4531),0,IF(DY3752>0.03*DS$4532,0,$C3752/60)))","v":0},{"$f":"IF(SUM(EI$3091:EI3751)>0,0,IF(MAX(EA3752:EA$4531)=MAX(EA$3091:EA$4531),0,IF(DY3752>0.01*DS$4532,0,$C3752/60)))","v":0},0,0,0,0,0,0,0,0,0,{"$error":"#N/A"},{"$error":"#N/A"},{"$error":"#N/A"},{"$error":"#N/A"},{"$error":"#N/A"},{"$error":"#N/A"},{"$f":"IF(SUM(EY$3091:EY3751)>0,0,IF(MAX(ER3752:ER$4531)=MAX(ER$3091:ER$4531),0,IF(EP3752>0.03*EJ$4532,0,$C3752/60)))","v":0},{"$f":"IF(SUM(EZ$3091:EZ3751)>0,0,IF(MAX(ER3752:ER$4531)=MAX(ER$3091:ER$4531),0,IF(EP3752>0.01*EJ$4532,0,$C3752/60)))","v":0}]
[null,55.833333333333336,3350,0,0,0,0,0,0,0,0,0,{"$error":"#N/A"},{"$error":"#N/A"},{"$error":"#N/A"},{"$error":"#N/A"},{"$error":"#N/A"},{"$error":"#N/A"},{"$f":"IF(SUM(S$3091:S3760)>0,0,\nIF(MAX(L3761:L$4531)=MAX(L$3091:L$4531),0,\nIF(Hydrograph_Source_WQCV=\"USER\",IF(J3761>0.03*D$4532,0,$C3761/60),\nIF(J3761>0.03*J$4532,0,$C3761/60))))","v":0},{"$f":"IF(SUM(T$3091:T3760)>0,0,\nIF(MAX(L3761:L$4531)=MAX(L$3091:L$4531),0,\nIF(Hydrograph_Source_WQCV=\"USER\",IF(J3761>0.01*D$4532,0,$C3761/60),\nIF(J3761>0.01*J$4532,0,$C3761/60))))","v":0},0,0,0,0,0,0,0,0,0,{"$error":"#N/A"},{"$error":"#N/A"},{"$error":"#N/A"},{"$error":"#N/A"},{"$error":"#N/A"},{"$error":"#N/A"},{"$f":"IF(SUM(AJ$3091:AJ3760)>0,0,\nIF(MAX(AC3761:AC$4531)=MAX(AC$3091:AC$4531),0,\nIF(Hydrograph_Source_EURV=\"USER\",IF(AA3761>0.03*U$4532,0,$C3761/60),\nIF(AA3761>0.03*AA$4532,0,$C3761/60))))","v":0},{"$f":"IF(SUM(AK$3091:AK3760)>0,0,\nIF(MAX(AC3761:AC$4531)=MAX(AC$3091:AC$4531),0,\nIF(Hydrograph_Source_EURV=\"USER\",IF(AA3761>0.01*U$4532,0,$C3761/60),\nIF(AA3761>0.01*AA$4532,0,$C3761/60))))","v":0},0,0,0,0,0,0,0,0,0,{"$error":"#N/A"},{"$error":"#N/A"},{"$error":"#N/A"},{"$error":"#N/A"},{"$error":"#N/A"},{"$error":"#N/A"},{"$f":"IF(SUM(BA$3091:BA3760)>0,0,IF(MAX(AT3761:AT$4531)=MAX(AT$3091:AT$4531),0,IF(AR3761>0.03*AL$4532,0,$C3761/60)))","v":0},{"$f":"IF(SUM(BB$3091:BB3760)>0,0,IF(MAX(AT3761:AT$4531)=MAX(AT$3091:AT$4531),0,IF(AR3761>0.01*AL$4532,0,$C3761/60)))","v":0},0,0,0,0,0,0,0,0,0,{"$error":"#N/A"},{"$error":"#N/A"},{"$error":"#N/A"},{"$error":"#N/A"},{"$error":"#N/A"},{"$error":"#N/A"},{"$f":"IF(SUM(BR$3091:BR3760)>0,0,IF(MAX(BK3761:BK$4531)=MAX(BK$3091:BK$4531),0,IF(BI3761>0.03*BC$4532,0,$C3761/60)))","v":0},{"$f":"IF(SUM(BS$3091:BS3760)>0,0,IF(MAX(BK3761:BK$4531)=MAX(BK$3091:BK$4531),0,IF(BI3761>0.01*BC$4532,0,$C3761/60)))","v":0},0,0,0,0,0,0,0,0,0,{"$error":"#N/A"},{"$error":"#N/A"},{"$error":"#N/A"},{"$error":"#N/A"},{"$error":"#N/A"},{"$error":"#N/A"},{"$f":"IF(SUM(CI$3091:CI3760)>0,0,IF(MAX(CB3761:CB$4531)=MAX(CB$3091:CB$4531),0,IF(BZ3761>0.03*BT$4532,0,$C3761/60)))","v":0},{"$f":"IF(SUM(CJ$3091:CJ3760)>0,0,IF(MAX(CB3761:CB$4531)=MAX(CB$3091:CB$4531),0,IF(BZ3761>0.01*BT$4532,0,$C3761/60)))","v":0},0,0,0,0,0,0,0,0,0,{"$error":"#N/A"},{"$error":"#N/A"},{"$error":"#N/A"},{"$error":"#N/A"},{"$error":"#N/A"},{"$error":"#N/A"},{"$f":"IF(SUM(CZ$3091:CZ3760)>0,0,IF(MAX(CS3761:CS$4531)=MAX(CS$3091:CS$4531),0,IF(CQ3761>0.03*CK$4532,0,$C3761/60)))","v":0},{"$f":"IF(SUM(DA$3091:DA3760)>0,0,IF(MAX(CS3761:CS$4531)=MAX(CS$3091:CS$4531),0,IF(CQ3761>0.01*CK$4532,0,$C3761/60)))","v":0},0,0,0,0,0,0,0,0,0,{"$error":"#N/A"},{"$error":"#N/A"},{"$error":"#N/A"},{"$error":"#N/A"},{"$error":"#N/A"},{"$error":"#N/A"},{"$f":"IF(SUM(DQ$3091:DQ3760)>0,0,IF(MAX(DJ3761:DJ$4531)=MAX(DJ$3091:DJ$4531),0,IF(DH3761>0.03*DB$4532,0,$C3761/60)))","v":0},{"$f":"IF(SUM(DR$3091:DR3760)>0,0,IF(MAX(DJ3761:DJ$4531)=MAX(DJ$3091:DJ$4531),0,IF(DH3761>0.01*DB$4532,0,$C3761/60)))","v":0},0,0,0,0,0,0,0,0,0,{"$error":"#N/A"},{"$error":"#N/A"},{"$error":"#N/A"},{"$error":"#N/A"},{"$error":"#N/A"},{"$error":"#N/A"},{"$f":"IF(SUM(EH$3091:EH3760)>0,0,IF(MAX(EA3761:EA$4531)=MAX(EA$3091:EA$4531),0,IF(DY3761>0.03*DS$4532,0,$C3761/60)))","v":0},{"$f":"IF(SUM(EI$3091:EI3760)>0,0,IF(MAX(EA3761:EA$4531)=MAX(EA$3091:EA$4531),0,IF(DY3761>0.01*DS$4532,0,$C3761/60)))","v":0},0,0,0,0,0,0,0,0,0,{"$error":"#N/A"},{"$error":"#N/A"},{"$error":"#N/A"},{"$error":"#N/A"},{"$error":"#N/A"},{"$error":"#N/A"},{"$f":"IF(SUM(EY$3091:EY3760)>0,0,IF(MAX(ER3761:ER$4531)=MAX(ER$3091:ER$4531),0,IF(EP3761>0.03*EJ$4532,0,$C3761/60)))","v":0},{"$f":"IF(SUM(EZ$3091:EZ3760)>0,0,IF(MAX(ER3761:ER$4531)=MAX(ER$3091:ER$4531),0,IF(EP3761>0.01*EJ$4532,0,$C3761/60)))","v":0}]
[null,56.583333333333336,3395,0,0,0,0,0,0,0,0,0,{"$error":"#N/A"},{"$error":"#N/A"},{"$error":"#N/A"},{"$error":"#N/A"},{"$error":"#N/A"},{"$error":"#N/A"},{"$f":"IF(SUM(S$3091:S3769)>0,0,\nIF(MAX(L3770:L$4531)=MAX(L$3091:L$4531),0,\nIF(Hydrograph_Source_WQCV=\"USER\",IF(J3770>0.03*D$4532,0,$C3770/60),\nIF(J3770>0.03*J$4532,0,$C3770/60))))","v":0},{"$f":"IF(SUM(T$3091:T3769)>0,0,\nIF(MAX(L3770:L$4531)=MAX(L$3091:L$4531),0,\nIF(Hydrograph_Source_WQCV=\"USER\",IF(J3770>0.01*D$4532,0,$C3770/60),\nIF(J3770>0.01*J$4532,0,$C3770/60))))","v":0},0,0,0,0,0,0,0,0,0,{"$error":"#N/A"},{"$error":"#N/A"},{"$error":"#N/A"},{"$error":"#N/A"},{"$error":"#N/A"},{"$error":"#N/A"},{"$f":"IF(SUM(AJ$3091:AJ3769)>0,0,\nIF(MAX(AC3770:AC$4531)=MAX(AC$3091:AC$4531),0,\nIF(Hydrograph_Source_EURV=\"USER\",IF(AA3770>0.03*U$4532,0,$C3770/60),\nIF(AA3770>0.03*AA$4532,0,$C3770/60))))","v":0},{"$f":"IF(SUM(AK$3091:AK3769)>0,0,\nIF(MAX(AC3770:AC$4531)=MAX(AC$3091:AC$4531),0,\nIF(Hydrograph_Source_EURV=\"USER\",IF(AA3770>0.01*U$4532,0,$C3770/60),\nIF(AA3770>0.01*AA$4532,0,$C3770/60))))","v":0},0,0,0,0,0,0,0,0,0,{"$error":"#N/A"},{"$error":"#N/A"},{"$error":"#N/A"},{"$error":"#N/A"},{"$error":"#N/A"},{"$error":"#N/A"},{"$f":"IF(SUM(BA$3091:BA3769)>0,0,IF(MAX(AT3770:AT$4531)=MAX(AT$3091:AT$4531),0,IF(AR3770>0.03*AL$4532,0,$C3770/60)))","v":0},{"$f":"IF(SUM(BB$3091:BB3769)>0,0,IF(MAX(AT3770:AT$4531)=MAX(AT$3091:AT$4531),0,IF(AR3770>0.01*AL$4532,0,$C3770/60)))","v":0},0,0,0,0,0,0,0,0,0,{"$error":"#N/A"},{"$error":"#N/A"},{"$error":"#N/A"},{"$error":"#N/A"},{"$error":"#N/A"},{"$error":"#N/A"},{"$f":"IF(SUM(BR$3091:BR3769)>0,0,IF(MAX(BK3770:BK$4531)=MAX(BK$3091:BK$4531),0,IF(BI3770>0.03*BC$4532,0,$C3770/60)))","v":0},{"$f":"IF(SUM(BS$3091:BS3769)>0,0,IF(MAX(BK3770:BK$4531)=MAX(BK$3091:BK$4531),0,IF(BI3770>0.01*BC$4532,0,$C3770/60)))","v":0},0,0,0,0,0,0,0,0,0,{"$error":"#N/A"},{"$error":"#N/A"},{"$error":"#N/A"},{"$error":"#N/A"},{"$error":"#N/A"},{"$error":"#N/A"},{"$f":"IF(SUM(CI$3091:CI3769)>0,0,IF(MAX(CB3770:CB$4531)=MAX(CB$3091:CB$4531),0,IF(BZ3770>0.03*BT$4532,0,$C3770/60)))","v":0},{"$f":"IF(SUM(CJ$3091:CJ3769)>0,0,IF(MAX(CB3770:CB$4531)=MAX(CB$3091:CB$4531),0,IF(BZ3770>0.01*BT$4532,0,$C3770/60)))","v":0},0,0,0,0,0,0,0,0,0,{"$error":"#N/A"},{"$error":"#N/A"},{"$error":"#N/A"},{"$error":"#N/A"},{"$error":"#N/A"},{"$error":"#N/A"},{"$f":"IF(SUM(CZ$3091:CZ3769)>0,0,IF(MAX(CS3770:CS$4531)=MAX(CS$3091:CS$4531),0,IF(CQ3770>0.03*CK$4532,0,$C3770/60)))","v":0},{"$f":"IF(SUM(DA$3091:DA3769)>0,0,IF(MAX(CS3770:CS$4531)=MAX(CS$3091:CS$4531),0,IF(CQ3770>0.01*CK$4532,0,$C3770/60)))","v":0},0,0,0,0,0,0,0,0,0,{"$error":"#N/A"},{"$error":"#N/A"},{"$error":"#N/A"},{"$error":"#N/A"},{"$error":"#N/A"},{"$error":"#N/A"},{"$f":"IF(SUM(DQ$3091:DQ3769)>0,0,IF(MAX(DJ3770:DJ$4531)=MAX(DJ$3091:DJ$4531),0,IF(DH3770>0.03*DB$4532,0,$C3770/60)))","v":0},{"$f":"IF(SUM(DR$3091:DR3769)>0,0,IF(MAX(DJ3770:DJ$4531)=MAX(DJ$3091:DJ$4531),0,IF(DH3770>0.01*DB$4532,0,$C3770/60)))","v":0},0,0,0,0,0,0,0,0,0,{"$error":"#N/A"},{"$error":"#N/A"},{"$error":"#N/A"},{"$error":"#N/A"},{"$error":"#N/A"},{"$error":"#N/A"},{"$f":"IF(SUM(EH$3091:EH3769)>0,0,IF(MAX(EA3770:EA$4531)=MAX(EA$3091:EA$4531),0,IF(DY3770>0.03*DS$4532,0,$C3770/60)))","v":0},{"$f":"IF(SUM(EI$3091:EI3769)>0,0,IF(MAX(EA3770:EA$4531)=MAX(EA$3091:EA$4531),0,IF(DY3770>0.01*DS$4532,0,$C3770/60)))","v":0},0,0,0,0,0,0,0,0,0,{"$error":"#N/A"},{"$error":"#N/A"},{"$error":"#N/A"},{"$error":"#N/A"},{"$error":"#N/A"},{"$error":"#N/A"},{"$f":"IF(SUM(EY$3091:EY3769)>0,0,IF(MAX(ER3770:ER$4531)=MAX(ER$3091:ER$4531),0,IF(EP3770>0.03*EJ$4532,0,$C3770/60)))","v":0},{"$f":"IF(SUM(EZ$3091:EZ3769)>0,0,IF(MAX(ER3770:ER$4531)=MAX(ER$3091:ER$4531),0,IF(EP3770>0.01*EJ$4532,0,$C3770/60)))","v":0}]
[null,57.333333333333336,3440,0,0,0,0,0,0,0,0,0,{"$error":"#N/A"},{"$error":"#N/A"},{"$error":"#N/A"},{"$error":"#N/A"},{"$error":"#N/A"},{"$error":"#N/A"},{"$f":"IF(SUM(S$3091:S3778)>0,0,\nIF(MAX(L3779:L$4531)=MAX(L$3091:L$4531),0,\nIF(Hydrograph_Source_WQCV=\"USER\",IF(J3779>0.03*D$4532,0,$C3779/60),\nIF(J3779>0.03*J$4532,0,$C3779/60))))","v":0},{"$f":"IF(SUM(T$3091:T3778)>0,0,\nIF(MAX(L3779:L$4531)=MAX(L$3091:L$4531),0,\nIF(Hydrograph_Source_WQCV=\"USER\",IF(J3779>0.01*D$4532,0,$C3779/60),\nIF(J3779>0.01*J$4532,0,$C3779/60))))","v":0},0,0,0,0,0,0,0,0,0,{"$error":"#N/A"},{"$error":"#N/A"},{"$error":"#N/A"},{"$error":"#N/A"},{"$error":"#N/A"},{"$error":"#N/A"},{"$f":"IF(SUM(AJ$3091:AJ3778)>0,0,\nIF(MAX(AC3779:AC$4531)=MAX(AC$3091:AC$4531),0,\nIF(Hydrograph_Source_EURV=\"USER\",IF(AA3779>0.03*U$4532,0,$C3779/60),\nIF(AA3779>0.03*AA$4532,0,$C3779/60))))","v":0},{"$f":"IF(SUM(AK$3091:AK3778)>0,0,\nIF(MAX(AC3779:AC$4531)=MAX(AC$3091:AC$4531),0,\nIF(Hydrograph_Source_EURV=\"USER\",IF(AA3779>0.01*U$4532,0,$C3779/60),\nIF(AA3779>0.01*AA$4532,0,$C3779/60))))","v":0},0,0,0,0,0,0,0,0,0,{"$error":"#N/A"},{"$error":"#N/A"},{"$error":"#N/A"},{"$error":"#N/A"},{"$error":"#N/A"},{"$error":"#N/A"},{"$f":"IF(SUM(BA$3091:BA3778)>0,0,IF(MAX(AT3779:AT$4531)=MAX(AT$3091:AT$4531),0,IF(AR3779>0.03*AL$4532,0,$C3779/60)))","v":0},{"$f":"IF(SUM(BB$3091:BB3778)>0,0,IF(MAX(AT3779:AT$4531)=MAX(AT$3091:AT$4531),0,IF(AR3779>0.01*AL$4532,0,$C3779/60)))","v":0},0,0,0,0,0,0,0,0,0,{"$error":"#N/A"},{"$error":"#N/A"},{"$error":"#N/A"},{"$error":"#N/A"},{"$error":"#N/A"},{"$error":"#N/A"},{"$f":"IF(SUM(BR$3091:BR3778)>0,0,IF(MAX(BK3779:BK$4531)=MAX(BK$3091:BK$4531),0,IF(BI3779>0.03*BC$4532,0,$C3779/60)))","v":0},{"$f":"IF(SUM(BS$3091:BS3778)>0,0,IF(MAX(BK3779:BK$4531)=MAX(BK$3091:BK$4531),0,IF(BI3779>0.01*BC$4532,0,$C3779/60)))","v":0},0,0,0,0,0,0,0,0,0,{"$error":"#N/A"},{"$error":"#N/A"},{"$error":"#N/A"},{"$error":"#N/A"},{"$error":"#N/A"},{"$error":"#N/A"},{"$f":"IF(SUM(CI$3091:CI3778)>0,0,IF(MAX(CB3779:CB$4531)=MAX(CB$3091:CB$4531),0,IF(BZ3779>0.03*BT$4532,0,$C3779/60)))","v":0},{"$f":"IF(SUM(CJ$3091:CJ3778)>0,0,IF(MAX(CB3779:CB$4531)=MAX(CB$3091:CB$4531),0,IF(BZ3779>0.01*BT$4532,0,$C3779/60)))","v":0},0,0,0,0,0,0,0,0,0,{"$error":"#N/A"},{"$error":"#N/A"},{"$error":"#N/A"},{"$error":"#N/A"},{"$error":"#N/A"},{"$error":"#N/A"},{"$f":"IF(SUM(CZ$3091:CZ3778)>0,0,IF(MAX(CS3779:CS$4531)=MAX(CS$3091:CS$4531),0,IF(CQ3779>0.03*CK$4532,0,$C3779/60)))","v":0},{"$f":"IF(SUM(DA$3091:DA3778)>0,0,IF(MAX(CS3779:CS$4531)=MAX(CS$3091:CS$4531),0,IF(CQ3779>0.01*CK$4532,0,$C3779/60)))","v":0},0,0,0,0,0,0,0,0,0,{"$error":"#N/A"},{"$error":"#N/A"},{"$error":"#N/A"},{"$error":"#N/A"},{"$error":"#N/A"},{"$error":"#N/A"},{"$f":"IF(SUM(DQ$3091:DQ3778)>0,0,IF(MAX(DJ3779:DJ$4531)=MAX(DJ$3091:DJ$4531),0,IF(DH3779>0.03*DB$4532,0,$C3779/60)))","v":0},{"$f":"IF(SUM(DR$3091:DR3778)>0,0,IF(MAX(DJ3779:DJ$4531)=MAX(DJ$3091:DJ$4531),0,IF(DH3779>0.01*DB$4532,0,$C3779/60)))","v":0},0,0,0,0,0,0,0,0,0,{"$error":"#N/A"},{"$error":"#N/A"},{"$error":"#N/A"},{"$error":"#N/A"},{"$error":"#N/A"},{"$error":"#N/A"},{"$f":"IF(SUM(EH$3091:EH3778)>0,0,IF(MAX(EA3779:EA$4531)=MAX(EA$3091:EA$4531),0,IF(DY3779>0.03*DS$4532,0,$C3779/60)))","v":0},{"$f":"IF(SUM(EI$3091:EI3778)>0,0,IF(MAX(EA3779:EA$4531)=MAX(EA$3091:EA$4531),0,IF(DY3779>0.01*DS$4532,0,$C3779/60)))","v":0},0,0,0,0,0,0,0,0,0,{"$error":"#N/A"},{"$error":"#N/A"},{"$error":"#N/A"},{"$error":"#N/A"},{"$error":"#N/A"},{"$error":"#N/A"},{"$f":"IF(SUM(EY$3091:EY3778)>0,0,IF(MAX(ER3779:ER$4531)=MAX(ER$3091:ER$4531),0,IF(EP3779>0.03*EJ$4532,0,$C3779/60)))","v":0},{"$f":"IF(SUM(EZ$3091:EZ3778)>0,0,IF(MAX(ER3779:ER$4531)=MAX(ER$3091:ER$4531),0,IF(EP3779>0.01*EJ$4532,0,$C3779/60)))","v":0}]
[null,58.083333333333336,3485,0,0,0,0,0,0,0,0,0,{"$error":"#N/A"},{"$error":"#N/A"},{"$error":"#N/A"},{"$error":"#N/A"},{"$error":"#N/A"},{"$error":"#N/A"},{"$f":"IF(SUM(S$3091:S3787)>0,0,\nIF(MAX(L3788:L$4531)=MAX(L$3091:L$4531),0,\nIF(Hydrograph_Source_WQCV=\"USER\",IF(J3788>0.03*D$4532,0,$C3788/60),\nIF(J3788>0.03*J$4532,0,$C3788/60))))","v":0},{"$f":"IF(SUM(T$3091:T3787)>0,0,\nIF(MAX(L3788:L$4531)=MAX(L$3091:L$4531),0,\nIF(Hydrograph_Source_WQCV=\"USER\",IF(J3788>0.01*D$4532,0,$C3788/60),\nIF(J3788>0.01*J$4532,0,$C3788/60))))","v":0},0,0,0,0,0,0,0,0,0,{"$error":"#N/A"},{"$error":"#N/A"},{"$error":"#N/A"},{"$error":"#N/A"},{"$error":"#N/A"},{"$error":"#N/A"},{"$f":"IF(SUM(AJ$3091:AJ3787)>0,0,\nIF(MAX(AC3788:AC$4531)=MAX(AC$3091:AC$4531),0,\nIF(Hydrograph_Source_EURV=\"USER\",IF(AA3788>0.03*U$4532,0,$C3788/60),\nIF(AA3788>0.03*AA$4532,0,$C3788/60))))","v":0},{"$f":"IF(SUM(AK$3091:AK3787)>0,0,\nIF(MAX(AC3788:AC$4531)=MAX(AC$3091:AC$4531),0,\nIF(Hydrograph_Source_EURV=\"USER\",IF(AA3788>0.01*U$4532,0,$C3788/60),\nIF(AA3788>0.01*AA$4532,0,$C3788/60))))","v":0},0,0,0,0,0,0,0,0,0,{"$error":"#N/A"},{"$error":"#N/A"},{"$error":"#N/A"},{"$error":"#N/A"},{"$error":"#N/A"},{"$error":"#N/A"},{"$f":"IF(SUM(BA$3091:BA3787)>0,0,IF(MAX(AT3788:AT$4531)=MAX(AT$3091:AT$4531),0,IF(AR3788>0.03*AL$4532,0,$C3788/60)))","v":0},{"$f":"IF(SUM(BB$3091:BB3787)>0,0,IF(MAX(AT3788:AT$4531)=MAX(AT$3091:AT$4531),0,IF(AR3788>0.01*AL$4532,0,$C3788/60)))","v":0},0,0,0,0,0,0,0,0,0,{"$error":"#N/A"},{"$error":"#N/A"},{"$error":"#N/A"},{"$error":"#N/A"},{"$error":"#N/A"},{"$error":"#N/A"},{"$f":"IF(SUM(BR$3091:BR3787)>0,0,IF(MAX(BK3788:BK$4531)=MAX(BK$3091:BK$4531),0,IF(BI3788>0.03*BC$4532,0,$C3788/60)))","v":0},{"$f":"IF(SUM(BS$3091:BS3787)>0,0,IF(MAX(BK3788:BK$4531)=MAX(BK$3091:BK$4531),0,IF(BI3788>0.01*BC$4532,0,$C3788/60)))","v":0},0,0,0,0,0,0,0,0,0,{"$error":"#N/A"},{"$error":"#N/A"},{"$error":"#N/A"},{"$error":"#N/A"},{"$error":"#N/A"},{"$error":"#N/A"},{"$f":"IF(SUM(CI$3091:CI3787)>0,0,IF(MAX(CB3788:CB$4531)=MAX(CB$3091:CB$4531),0,IF(BZ3788>0.03*BT$4532,0,$C3788/60)))","v":0},{"$f":"IF(SUM(CJ$3091:CJ3787)>0,0,IF(MAX(CB3788:CB$4531)=MAX(CB$3091:CB$4531),0,IF(BZ3788>0.01*BT$4532,0,$C3788/60)))","v":0},0,0,0,0,0,0,0,0,0,{"$error":"#N/A"},{"$error":"#N/A"},{"$error":"#N/A"},{"$error":"#N/A"},{"$error":"#N/A"},{"$error":"#N/A"},{"$f":"IF(SUM(CZ$3091:CZ3787)>0,0,IF(MAX(CS3788:CS$4531)=MAX(CS$3091:CS$4531),0,IF(CQ3788>0.03*CK$4532,0,$C3788/60)))","v":0},{"$f":"IF(SUM(DA$3091:DA3787)>0,0,IF(MAX(CS3788:CS$4531)=MAX(CS$3091:CS$4531),0,IF(CQ3788>0.01*CK$4532,0,$C3788/60)))","v":0},0,0,0,0,0,0,0,0,0,{"$error":"#N/A"},{"$error":"#N/A"},{"$error":"#N/A"},{"$error":"#N/A"},{"$error":"#N/A"},{"$error":"#N/A"},{"$f":"IF(SUM(DQ$3091:DQ3787)>0,0,IF(MAX(DJ3788:DJ$4531)=MAX(DJ$3091:DJ$4531),0,IF(DH3788>0.03*DB$4532,0,$C3788/60)))","v":0},{"$f":"IF(SUM(DR$3091:DR3787)>0,0,IF(MAX(DJ3788:DJ$4531)=MAX(DJ$3091:DJ$4531),0,IF(DH3788>0.01*DB$4532,0,$C3788/60)))","v":0},0,0,0,0,0,0,0,0,0,{"$error":"#N/A"},{"$error":"#N/A"},{"$error":"#N/A"},{"$error":"#N/A"},{"$error":"#N/A"},{"$error":"#N/A"},{"$f":"IF(SUM(EH$3091:EH3787)>0,0,IF(MAX(EA3788:EA$4531)=MAX(EA$3091:EA$4531),0,IF(DY3788>0.03*DS$4532,0,$C3788/60)))","v":0},{"$f":"IF(SUM(EI$3091:EI3787)>0,0,IF(MAX(EA3788:EA$4531)=MAX(EA$3091:EA$4531),0,IF(DY3788>0.01*DS$4532,0,$C3788/60)))","v":0},0,0,0,0,0,0,0,0,0,{"$error":"#N/A"},{"$error":"#N/A"},{"$error":"#N/A"},{"$error":"#N/A"},{"$error":"#N/A"},{"$error":"#N/A"},{"$f":"IF(SUM(EY$3091:EY3787)>0,0,IF(MAX(ER3788:ER$4531)=MAX(ER$3091:ER$4531),0,IF(EP3788>0.03*EJ$4532,0,$C3788/60)))","v":0},{"$f":"IF(SUM(EZ$3091:EZ3787)>0,0,IF(MAX(ER3788:ER$4531)=MAX(ER$3091:ER$4531),0,IF(EP3788>0.01*EJ$4532,0,$C3788/60)))","v":0}]
[null,58.833333333333336,{"$f":"ROUND(C3796+$C$3089,2)","v":3530},0,0,0,0,0,0,0,0,0,{"$error":"#N/A"},{"$error":"#N/A"},{"$error":"#N/A"},{"$error":"#N/A"},{"$error":"#N/A"},{"$error":"#N/A"},{"$f":"IF(SUM(S$3091:S3796)>0,0,\nIF(MAX(L3797:L$4531)=MAX(L$3091:L$4531),0,\nIF(Hydrograph_Source_WQCV=\"USER\",IF(J3797>0.03*D$4532,0,$C3797/60),\nIF(J3797>0.03*J$4532,0,$C3797/60))))","v":0},{"$f":"IF(SUM(T$3091:T3796)>0,0,\nIF(MAX(L3797:L$4531)=MAX(L$3091:L$4531),0,\nIF(Hydrograph_Source_WQCV=\"USER\",IF(J3797>0.01*D$4532,0,$C3797/60),\nIF(J3797>0.01*J$4532,0,$C3797/60))))","v":0},0,0,0,0,0,0,0,0,0,{"$error":"#N/A"},{"$error":"#N/A"},{"$error":"#N/A"},{"$error":"#N/A"},{"$error":"#N/A"},{"$error":"#N/A"},{"$f":"IF(SUM(AJ$3091:AJ3796)>0,0,\nIF(MAX(AC3797:AC$4531)=MAX(AC$3091:AC$4531),0,\nIF(Hydrograph_Source_EURV=\"USER\",IF(AA3797>0.03*U$4532,0,$C3797/60),\nIF(AA3797>0.03*AA$4532,0,$C3797/60))))","v":0},{"$f":"IF(SUM(AK$3091:AK3796)>0,0,\nIF(MAX(AC3797:AC$4531)=MAX(AC$3091:AC$4531),0,\nIF(Hydrograph_Source_EURV=\"USER\",IF(AA3797>0.01*U$4532,0,$C3797/60),\nIF(AA3797>0.01*AA$4532,0,$C3797/60))))","v":0},0,0,0,0,0,0,0,0,0,{"$error":"#N/A"},{"$error":"#N/A"},{"$error":"#N/A"},{"$error":"#N/A"},{"$error":"#N/A"},{"$error":"#N/A"},{"$f":"IF(SUM(BA$3091:BA3796)>0,0,IF(MAX(AT3797:AT$4531)=MAX(AT$3091:AT$4531),0,IF(AR3797>0.03*AL$4532,0,$C3797/60)))","v":0},{"$f":"IF(SUM(BB$3091:BB3796)>0,0,IF(MAX(AT3797:AT$4531)=MAX(AT$3091:AT$4531),0,IF(AR3797>0.01*AL$4532,0,$C3797/60)))","v":0},0,0,0,0,0,0,0,0,0,{"$error":"#N/A"},{"$error":"#N/A"},{"$error":"#N/A"},{"$error":"#N/A"},{"$error":"#N/A"},{"$error":"#N/A"},{"$f":"IF(SUM(BR$3091:BR3796)>0,0,IF(MAX(BK3797:BK$4531)=MAX(BK$3091:BK$4531),0,IF(BI3797>0.03*BC$4532,0,$C3797/60)))","v":0},{"$f":"IF(SUM(BS$3091:BS3796)>0,0,IF(MAX(BK3797:BK$4531)=MAX(BK$3091:BK$4531),0,IF(BI3797>0.01*BC$4532,0,$C3797/60)))","v":0},0,0,0,0,0,0,0,0,0,{"$error":"#N/A"},{"$error":"#N/A"},{"$error":"#N/A"},{"$error":"#N/A"},{"$error":"#N/A"},{"$error":"#N/A"},{"$f":"IF(SUM(CI$3091:CI3796)>0,0,IF(MAX(CB3797:CB$4531)=MAX(CB$3091:CB$4531),0,IF(BZ3797>0.03*BT$4532,0,$C3797/60)))","v":0},{"$f":"IF(SUM(CJ$3091:CJ3796)>0,0,IF(MAX(CB3797:CB$4531)=MAX(CB$3091:CB$4531),0,IF(BZ3797>0.01*BT$4532,0,$C3797/60)))","v":0},0,0,0,0,0,0,0,0,0,{"$error":"#N/A"},{"$error":"#N/A"},{"$error":"#N/A"},{"$error":"#N/A"},{"$error":"#N/A"},{"$error":"#N/A"},{"$f":"IF(SUM(CZ$3091:CZ3796)>0,0,IF(MAX(CS3797:CS$4531)=MAX(CS$3091:CS$4531),0,IF(CQ3797>0.03*CK$4532,0,$C3797/60)))","v":0},{"$f":"IF(SUM(DA$3091:DA3796)>0,0,IF(MAX(CS3797:CS$4531)=MAX(CS$3091:CS$4531),0,IF(CQ3797>0.01*CK$4532,0,$C3797/60)))","v":0},0,0,0,0,0,0,0,0,0,{"$error":"#N/A"},{"$error":"#N/A"},{"$error":"#N/A"},{"$error":"#N/A"},{"$error":"#N/A"},{"$error":"#N/A"},{"$f":"IF(SUM(DQ$3091:DQ3796)>0,0,IF(MAX(DJ3797:DJ$4531)=MAX(DJ$3091:DJ$4531),0,IF(DH3797>0.03*DB$4532,0,$C3797/60)))","v":0},{"$f":"IF(SUM(DR$3091:DR3796)>0,0,IF(MAX(DJ3797:DJ$4531)=MAX(DJ$3091:DJ$4531),0,IF(DH3797>0.01*DB$4532,0,$C3797/60)))","v":0},0,0,0,0,0,0,0,0,0,{"$error":"#N/A"},{"$error":"#N/A"},{"$error":"#N/A"},{"$error":"#N/A"},{"$error":"#N/A"},{"$error":"#N/A"},{"$f":"IF(SUM(EH$3091:EH3796)>0,0,IF(MAX(EA3797:EA$4531)=MAX(EA$3091:EA$4531),0,IF(DY3797>0.03*DS$4532,0,$C3797/60)))","v":0},{"$f":"IF(SUM(EI$3091:EI3796)>0,0,IF(MAX(EA3797:EA$4531)=MAX(EA$3091:EA$4531),0,IF(DY3797>0.01*DS$4532,0,$C3797/60)))","v":0},0,0,0,0,0,0,0,0,0,{"$error":"#N/A"},{"$error":"#N/A"},{"$error":"#N/A"},{"$error":"#N/A"},{"$error":"#N/A"},{"$error":"#N/A"},{"$f":"IF(SUM(EY$3091:EY3796)>0,0,IF(MAX(ER3797:ER$4531)=MAX(ER$3091:ER$4531),0,IF(EP3797>0.03*EJ$4532,0,$C3797/60)))","v":0},{"$f":"IF(SUM(EZ$3091:EZ3796)>0,0,IF(MAX(ER3797:ER$4531)=MAX(ER$3091:ER$4531),0,IF(EP3797>0.01*EJ$4532,0,$C3797/60)))","v":0}]
[null,59.583333333333336,3575,0,0,0,0,0,0,0,0,0,{"$error":"#N/A"},{"$error":"#N/A"},{"$error":"#N/A"},{"$error":"#N/A"},{"$error":"#N/A"},{"$error":"#N/A"},{"$f":"IF(SUM(S$3091:S3805)>0,0,\nIF(MAX(L3806:L$4531)=MAX(L$3091:L$4531),0,\nIF(Hydrograph_Source_WQCV=\"USER\",IF(J3806>0.03*D$4532,0,$C3806/60),\nIF(J3806>0.03*J$4532,0,$C3806/60))))","v":0},{"$f":"IF(SUM(T$3091:T3805)>0,0,\nIF(MAX(L3806:L$4531)=MAX(L$3091:L$4531),0,\nIF(Hydrograph_Source_WQCV=\"USER\",IF(J3806>0.01*D$4532,0,$C3806/60),\nIF(J3806>0.01*J$4532,0,$C3806/60))))","v":0},0,0,0,0,0,0,0,0,0,{"$error":"#N/A"},{"$error":"#N/A"},{"$error":"#N/A"},{"$error":"#N/A"},{"$error":"#N/A"},{"$error":"#N/A"},{"$f":"IF(SUM(AJ$3091:AJ3805)>0,0,\nIF(MAX(AC3806:AC$4531)=MAX(AC$3091:AC$4531),0,\nIF(Hydrograph_Source_EURV=\"USER\",IF(AA3806>0.03*U$4532,0,$C3806/60),\nIF(AA3806>0.03*AA$4532,0,$C3806/60))))","v":0},{"$f":"IF(SUM(AK$3091:AK3805)>0,0,\nIF(MAX(AC3806:AC$4531)=MAX(AC$3091:AC$4531),0,\nIF(Hydrograph_Source_EURV=\"USER\",IF(AA3806>0.01*U$4532,0,$C3806/60),\nIF(AA3806>0.01*AA$4532,0,$C3806/60))))","v":0},0,0,0,0,0,0,0,0,0,{"$error":"#N/A"},{"$error":"#N/A"},{"$error":"#N/A"},{"$error":"#N/A"},{"$error":"#N/A"},{"$error":"#N/A"},{"$f":"IF(SUM(BA$3091:BA3805)>0,0,IF(MAX(AT3806:AT$4531)=MAX(AT$3091:AT$4531),0,IF(AR3806>0.03*AL$4532,0,$C3806/60)))","v":0},{"$f":"IF(SUM(BB$3091:BB3805)>0,0,IF(MAX(AT3806:AT$4531)=MAX(AT$3091:AT$4531),0,IF(AR3806>0.01*AL$4532,0,$C3806/60)))","v":0},0,0,0,0,0,0,0,0,0,{"$error":"#N/A"},{"$error":"#N/A"},{"$error":"#N/A"},{"$error":"#N/A"},{"$error":"#N/A"},{"$error":"#N/A"},{"$f":"IF(SUM(BR$3091:BR3805)>0,0,IF(MAX(BK3806:BK$4531)=MAX(BK$3091:BK$4531),0,IF(BI3806>0.03*BC$4532,0,$C3806/60)))","v":0},{"$f":"IF(SUM(BS$3091:BS3805)>0,0,IF(MAX(BK3806:BK$4531)=MAX(BK$3091:BK$4531),0,IF(BI3806>0.01*BC$4532,0,$C3806/60)))","v":0},0,0,0,0,0,0,0,0,0,{"$error":"#N/A"},{"$error":"#N/A"},{"$error":"#N/A"},{"$error":"#N/A"},{"$error":"#N/A"},{"$error":"#N/A"},{"$f":"IF(SUM(CI$3091:CI3805)>0,0,IF(MAX(CB3806:CB$4531)=MAX(CB$3091:CB$4531),0,IF(BZ3806>0.03*BT$4532,0,$C3806/60)))","v":0},{"$f":"IF(SUM(CJ$3091:CJ3805)>0,0,IF(MAX(CB3806:CB$4531)=MAX(CB$3091:CB$4531),0,IF(BZ3806>0.01*BT$4532,0,$C3806/60)))","v":0},0,0,0,0,0,0,0,0,0,{"$error":"#N/A"},{"$error":"#N/A"},{"$error":"#N/A"},{"$error":"#N/A"},{"$error":"#N/A"},{"$error":"#N/A"},{"$f":"IF(SUM(CZ$3091:CZ3805)>0,0,IF(MAX(CS3806:CS$4531)=MAX(CS$3091:CS$4531),0,IF(CQ3806>0.03*CK$4532,0,$C3806/60)))","v":0},{"$f":"IF(SUM(DA$3091:DA3805)>0,0,IF(MAX(CS3806:CS$4531)=MAX(CS$3091:CS$4531),0,IF(CQ3806>0.01*CK$4532,0,$C3806/60)))","v":0},0,0,0,0,0,0,0,0,0,{"$error":"#N/A"},{"$error":"#N/A"},{"$error":"#N/A"},{"$error":"#N/A"},{"$error":"#N/A"},{"$error":"#N/A"},{"$f":"IF(SUM(DQ$3091:DQ3805)>0,0,IF(MAX(DJ3806:DJ$4531)=MAX(DJ$3091:DJ$4531),0,IF(DH3806>0.03*DB$4532,0,$C3806/60)))","v":0},{"$f":"IF(SUM(DR$3091:DR3805)>0,0,IF(MAX(DJ3806:DJ$4531)=MAX(DJ$3091:DJ$4531),0,IF(DH3806>0.01*DB$4532,0,$C3806/60)))","v":0},0,0,0,0,0,0,0,0,0,{"$error":"#N/A"},{"$error":"#N/A"},{"$error":"#N/A"},{"$error":"#N/A"},{"$error":"#N/A"},{"$error":"#N/A"},{"$f":"IF(SUM(EH$3091:EH3805)>0,0,IF(MAX(EA3806:EA$4531)=MAX(EA$3091:EA$4531),0,IF(DY3806>0.03*DS$4532,0,$C3806/60)))","v":0},{"$f":"IF(SUM(EI$3091:EI3805)>0,0,IF(MAX(EA3806:EA$4531)=MAX(EA$3091:EA$4531),0,IF(DY3806>0.01*DS$4532,0,$C3806/60)))","v":0},0,0,0,0,0,0,0,0,0,{"$error":"#N/A"},{"$error":"#N/A"},{"$error":"#N/A"},{"$error":"#N/A"},{"$error":"#N/A"},{"$error":"#N/A"},{"$f":"IF(SUM(EY$3091:EY3805)>0,0,IF(MAX(ER3806:ER$4531)=MAX(ER$3091:ER$4531),0,IF(EP3806>0.03*EJ$4532,0,$C3806/60)))","v":0},{"$f":"IF(SUM(EZ$3091:EZ3805)>0,0,IF(MAX(ER3806:ER$4531)=MAX(ER$3091:ER$4531),0,IF(EP3806>0.01*EJ$4532,0,$C3806/60)))","v":0}]
[null,59.666666666666664,3580,0,0,0,0,0,0,0,0,0,{"$error":"#N/A"},{"$error":"#N/A"},{"$error":"#N/A"},{"$error":"#N/A"},{"$error":"#N/A"},{"$error":"#N/A"},{"$f":"IF(SUM(S$3091:S3806)>0,0,\nIF(MAX(L3807:L$4531)=MAX(L$3091:L$4531),0,\nIF(Hydrograph_Source_WQCV=\"USER\",IF(J3807>0.03*D$4532,0,$C3807/60),\nIF(J3807>0.03*J$4532,0,$C3807/60))))","v":0},{"$f":"IF(SUM(T$3091:T3806)>0,0,\nIF(MAX(L3807:L$4531)=MAX(L$3091:L$4531),0,\nIF(Hydrograph_Source_WQCV=\"USER\",IF(J3807>0.01*D$4532,0,$C3807/60),\nIF(J3807>0.01*J$4532,0,$C3807/60))))","v":0},0,0,0,0,0,0,0,0,0,{"$error":"#N/A"},{"$error":"#N/A"},{"$error":"#N/A"},{"$error":"#N/A"},{"$error":"#N/A"},{"$error":"#N/A"},{"$f":"IF(SUM(AJ$3091:AJ3806)>0,0,\nIF(MAX(AC3807:AC$4531)=MAX(AC$3091:AC$4531),0,\nIF(Hydrograph_Source_EURV=\"USER\",IF(AA3807>0.03*U$4532,0,$C3807/60),\nIF(AA3807>0.03*AA$4532,0,$C3807/60))))","v":0},{"$f":"IF(SUM(AK$3091:AK3806)>0,0,\nIF(MAX(AC3807:AC$4531)=MAX(AC$3091:AC$4531),0,\nIF(Hydrograph_Source_EURV=\"USER\",IF(AA3807>0.01*U$4532,0,$C3807/60),\nIF(AA3807>0.01*AA$4532,0,$C3807/60))))","v":0},0,0,0,0,0,0,0,0,0,{"$error":"#N/A"},{"$error":"#N/A"},{"$error":"#N/A"},{"$error":"#N/A"},{"$error":"#N/A"},{"$error":"#N/A"},{"$f":"IF(SUM(BA$3091:BA3806)>0,0,IF(MAX(AT3807:AT$4531)=MAX(AT$3091:AT$4531),0,IF(AR3807>0.03*AL$4532,0,$C3807/60)))","v":0},{"$f":"IF(SUM(BB$3091:BB3806)>0,0,IF(MAX(AT3807:AT$4531)=MAX(AT$3091:AT$4531),0,IF(AR3807>0.01*AL$4532,0,$C3807/60)))","v":0},0,0,0,0,0,0,0,0,0,{"$error":"#N/A"},{"$error":"#N/A"},{"$error":"#N/A"},{"$error":"#N/A"},{"$error":"#N/A"},{"$error":"#N/A"},{"$f":"IF(SUM(BR$3091:BR3806)>0,0,IF(MAX(BK3807:BK$4531)=MAX(BK$3091:BK$4531),0,IF(BI3807>0.03*BC$4532,0,$C3807/60)))","v":0},{"$f":"IF(SUM(BS$3091:BS3806)>0,0,IF(MAX(BK3807:BK$4531)=MAX(BK$3091:BK$4531),0,IF(BI3807>0.01*BC$4532,0,$C3807/60)))","v":0},0,0,0,0,0,0,0,0,0,{"$error":"#N/A"},{"$error":"#N/A"},{"$error":"#N/A"},{"$error":"#N/A"},{"$error":"#N/A"},{"$error":"#N/A"},{"$f":"IF(SUM(CI$3091:CI3806)>0,0,IF(MAX(CB3807:CB$4531)=MAX(CB$3091:CB$4531),0,IF(BZ3807>0.03*BT$4532,0,$C3807/60)))","v":0},{"$f":"IF(SUM(CJ$3091:CJ3806)>0,0,IF(MAX(CB3807:CB$4531)=MAX(CB$3091:CB$4531),0,IF(BZ3807>0.01*BT$4532,0,$C3807/60)))","v":0},0,0,0,0,0,0,0,0,0,{"$error":"#N/A"},{"$error":"#N/A"},{"$error":"#N/A"},{"$error":"#N/A"},{"$error":"#N/A"},{"$error":"#N/A"},{"$f":"IF(SUM(CZ$3091:CZ3806)>0,0,IF(MAX(CS3807:CS$4531)=MAX(CS$3091:CS$4531),0,IF(CQ3807>0.03*CK$4532,0,$C3807/60)))","v":0},{"$f":"IF(SUM(DA$3091:DA3806)>0,0,IF(MAX(CS3807:CS$4531)=MAX(CS$3091:CS$4531),0,IF(CQ3807>0.01*CK$4532,0,$C3807/60)))","v":0},0,0,0,0,0,0,0,0,0,{"$error":"#N/A"},{"$error":"#N/A"},{"$error":"#N/A"},{"$error":"#N/A"},{"$error":"#N/A"},{"$error":"#N/A"},{"$f":"IF(SUM(DQ$3091:DQ3806)>0,0,IF(MAX(DJ3807:DJ$4531)=MAX(DJ$3091:DJ$4531),0,IF(DH3807>0.03*DB$4532,0,$C3807/60)))","v":0},{"$f":"IF(SUM(DR$3091:DR3806)>0,0,IF(MAX(DJ3807:DJ$4531)=MAX(DJ$3091:DJ$4531),0,IF(DH3807>0.01*DB$4532,0,$C3807/60)))","v":0},0,0,0,0,0,0,0,0,0,{"$error":"#N/A"},{"$error":"#N/A"},{"$error":"#N/A"},{"$error":"#N/A"},{"$error":"#N/A"},{"$error":"#N/A"},{"$f":"IF(SUM(EH$3091:EH3806)>0,0,IF(MAX(EA3807:EA$4531)=MAX(EA$3091:EA$4531),0,IF(DY3807>0.03*DS$4532,0,$C3807/60)))","v":0},{"$f":"IF(SUM(EI$3091:EI3806)>0,0,IF(MAX(EA3807:EA$4531)=MAX(EA$3091:EA$4531),0,IF(DY3807>0.01*DS$4532,0,$C3807/60)))","v":0},0,0,0,0,0,0,0,0,0,{"$error":"#N/A"},{"$error":"#N/A"},{"$error":"#N/A"},{"$error":"#N/A"},{"$error":"#N/A"},{"$error":"#N/A"},{"$f":"IF(SUM(EY$3091:EY3806)>0,0,IF(MAX(ER3807:ER$4531)=MAX(ER$3091:ER$4531),0,IF(EP3807>0.03*EJ$4532,0,$C3807/60)))","v":0},{"$f":"IF(SUM(EZ$3091:EZ3806)>0,0,IF(MAX(ER3807:ER$4531)=MAX(ER$3091:ER$4531),0,IF(EP3807>0.01*EJ$4532,0,$C3807/60)))","v":0}]
[null,60.416666666666664,3625,0,0,0,0,0,0,0,0,0,{"$error":"#N/A"},{"$error":"#N/A"},{"$error":"#N/A"},{"$error":"#N/A"},{"$error":"#N/A"},{"$error":"#N/A"},{"$f":"IF(SUM(S$3091:S3815)>0,0,\nIF(MAX(L3816:L$4531)=MAX(L$3091:L$4531),0,\nIF(Hydrograph_Source_WQCV=\"USER\",IF(J3816>0.03*D$4532,0,$C3816/60),\nIF(J3816>0.03*J$4532,0,$C3816/60))))","v":0},{"$f":"IF(SUM(T$3091:T3815)>0,0,\nIF(MAX(L3816:L$4531)=MAX(L$3091:L$4531),0,\nIF(Hydrograph_Source_WQCV=\"USER\",IF(J3816>0.01*D$4532,0,$C3816/60),\nIF(J3816>0.01*J$4532,0,$C3816/60))))","v":0},0,0,0,0,0,0,0,0,0,{"$error":"#N/A"},{"$error":"#N/A"},{"$error":"#N/A"},{"$error":"#N/A"},{"$error":"#N/A"},{"$error":"#N/A"},{"$f":"IF(SUM(AJ$3091:AJ3815)>0,0,\nIF(MAX(AC3816:AC$4531)=MAX(AC$3091:AC$4531),0,\nIF(Hydrograph_Source_EURV=\"USER\",IF(AA3816>0.03*U$4532,0,$C3816/60),\nIF(AA3816>0.03*AA$4532,0,$C3816/60))))","v":0},{"$f":"IF(SUM(AK$3091:AK3815)>0,0,\nIF(MAX(AC3816:AC$4531)=MAX(AC$3091:AC$4531),0,\nIF(Hydrograph_Source_EURV=\"USER\",IF(AA3816>0.01*U$4532,0,$C3816/60),\nIF(AA3816>0.01*AA$4532,0,$C3816/60))))","v":0},0,0,0,0,0,0,0,0,0,{"$error":"#N/A"},{"$error":"#N/A"},{"$error":"#N/A"},{"$error":"#N/A"},{"$error":"#N/A"},{"$error":"#N/A"},{"$f":"IF(SUM(BA$3091:BA3815)>0,0,IF(MAX(AT3816:AT$4531)=MAX(AT$3091:AT$4531),0,IF(AR3816>0.03*AL$4532,0,$C3816/60)))","v":0},{"$f":"IF(SUM(BB$3091:BB3815)>0,0,IF(MAX(AT3816:AT$4531)=MAX(AT$3091:AT$4531),0,IF(AR3816>0.01*AL$4532,0,$C3816/60)))","v":0},0,0,0,0,0,0,0,0,0,{"$error":"#N/A"},{"$error":"#N/A"},{"$error":"#N/A"},{"$error":"#N/A"},{"$error":"#N/A"},{"$error":"#N/A"},{"$f":"IF(SUM(BR$3091:BR3815)>0,0,IF(MAX(BK3816:BK$4531)=MAX(BK$3091:BK$4531),0,IF(BI3816>0.03*BC$4532,0,$C3816/60)))","v":0},{"$f":"IF(SUM(BS$3091:BS3815)>0,0,IF(MAX(BK3816:BK$4531)=MAX(BK$3091:BK$4531),0,IF(BI3816>0.01*BC$4532,0,$C3816/60)))","v":0},0,0,0,0,0,0,0,0,0,{"$error":"#N/A"},{"$error":"#N/A"},{"$error":"#N/A"},{"$error":"#N/A"},{"$error":"#N/A"},{"$error":"#N/A"},{"$f":"IF(SUM(CI$3091:CI3815)>0,0,IF(MAX(CB3816:CB$4531)=MAX(CB$3091:CB$4531),0,IF(BZ3816>0.03*BT$4532,0,$C3816/60)))","v":0},{"$f":"IF(SUM(CJ$3091:CJ3815)>0,0,IF(MAX(CB3816:CB$4531)=MAX(CB$3091:CB$4531),0,IF(BZ3816>0.01*BT$4532,0,$C3816/60)))","v":0},0,0,0,0,0,0,0,0,0,{"$error":"#N/A"},{"$error":"#N/A"},{"$error":"#N/A"},{"$error":"#N/A"},{"$error":"#N/A"},{"$error":"#N/A"},{"$f":"IF(SUM(CZ$3091:CZ3815)>0,0,IF(MAX(CS3816:CS$4531)=MAX(CS$3091:CS$4531),0,IF(CQ3816>0.03*CK$4532,0,$C3816/60)))","v":0},{"$f":"IF(SUM(DA$3091:DA3815)>0,0,IF(MAX(CS3816:CS$4531)=MAX(CS$3091:CS$4531),0,IF(CQ3816>0.01*CK$4532,0,$C3816/60)))","v":0},0,0,0,0,0,0,0,0,0,{"$error":"#N/A"},{"$error":"#N/A"},{"$error":"#N/A"},{"$error":"#N/A"},{"$error":"#N/A"},{"$error":"#N/A"},{"$f":"IF(SUM(DQ$3091:DQ3815)>0,0,IF(MAX(DJ3816:DJ$4531)=MAX(DJ$3091:DJ$4531),0,IF(DH3816>0.03*DB$4532,0,$C3816/60)))","v":0},{"$f":"IF(SUM(DR$3091:DR3815)>0,0,IF(MAX(DJ3816:DJ$4531)=MAX(DJ$3091:DJ$4531),0,IF(DH3816>0.01*DB$4532,0,$C3816/60)))","v":0},0,0,0,0,0,0,0,0,0,{"$error":"#N/A"},{"$error":"#N/A"},{"$error":"#N/A"},{"$error":"#N/A"},{"$error":"#N/A"},{"$error":"#N/A"},{"$f":"IF(SUM(EH$3091:EH3815)>0,0,IF(MAX(EA3816:EA$4531)=MAX(EA$3091:EA$4531),0,IF(DY3816>0.03*DS$4532,0,$C3816/60)))","v":0},{"$f":"IF(SUM(EI$3091:EI3815)>0,0,IF(MAX(EA3816:EA$4531)=MAX(EA$3091:EA$4531),0,IF(DY3816>0.01*DS$4532,0,$C3816/60)))","v":0},0,0,0,0,0,0,0,0,0,{"$error":"#N/A"},{"$error":"#N/A"},{"$error":"#N/A"},{"$error":"#N/A"},{"$error":"#N/A"},{"$error":"#N/A"},{"$f":"IF(SUM(EY$3091:EY3815)>0,0,IF(MAX(ER3816:ER$4531)=MAX(ER$3091:ER$4531),0,IF(EP3816>0.03*EJ$4532,0,$C3816/60)))","v":0},{"$f":"IF(SUM(EZ$3091:EZ3815)>0,0,IF(MAX(ER3816:ER$4531)=MAX(ER$3091:ER$4531),0,IF(EP3816>0.01*EJ$4532,0,$C3816/60)))","v":0}]
[null,61.166666666666664,3670,0,0,0,0,0,0,0,0,0,{"$error":"#N/A"},{"$error":"#N/A"},{"$error":"#N/A"},{"$error":"#N/A"},{"$error":"#N/A"},{"$error":"#N/A"},{"$f":"IF(SUM(S$3091:S3824)>0,0,\nIF(MAX(L3825:L$4531)=MAX(L$3091:L$4531),0,\nIF(Hydrograph_Source_WQCV=\"USER\",IF(J3825>0.03*D$4532,0,$C3825/60),\nIF(J3825>0.03*J$4532,0,$C3825/60))))","v":0},{"$f":"IF(SUM(T$3091:T3824)>0,0,\nIF(MAX(L3825:L$4531)=MAX(L$3091:L$4531),0,\nIF(Hydrograph_Source_WQCV=\"USER\",IF(J3825>0.01*D$4532,0,$C3825/60),\nIF(J3825>0.01*J$4532,0,$C3825/60))))","v":0},0,0,0,0,0,0,0,0,0,{"$error":"#N/A"},{"$error":"#N/A"},{"$error":"#N/A"},{"$error":"#N/A"},{"$error":"#N/A"},{"$error":"#N/A"},{"$f":"IF(SUM(AJ$3091:AJ3824)>0,0,\nIF(MAX(AC3825:AC$4531)=MAX(AC$3091:AC$4531),0,\nIF(Hydrograph_Source_EURV=\"USER\",IF(AA3825>0.03*U$4532,0,$C3825/60),\nIF(AA3825>0.03*AA$4532,0,$C3825/60))))","v":0},{"$f":"IF(SUM(AK$3091:AK3824)>0,0,\nIF(MAX(AC3825:AC$4531)=MAX(AC$3091:AC$4531),0,\nIF(Hydrograph_Source_EURV=\"USER\",IF(AA3825>0.01*U$4532,0,$C3825/60),\nIF(AA3825>0.01*AA$4532,0,$C3825/60))))","v":0},0,0,0,0,0,0,0,0,0,{"$error":"#N/A"},{"$error":"#N/A"},{"$error":"#N/A"},{"$error":"#N/A"},{"$error":"#N/A"},{"$error":"#N/A"},{"$f":"IF(SUM(BA$3091:BA3824)>0,0,IF(MAX(AT3825:AT$4531)=MAX(AT$3091:AT$4531),0,IF(AR3825>0.03*AL$4532,0,$C3825/60)))","v":0},{"$f":"IF(SUM(BB$3091:BB3824)>0,0,IF(MAX(AT3825:AT$4531)=MAX(AT$3091:AT$4531),0,IF(AR3825>0.01*AL$4532,0,$C3825/60)))","v":0},0,0,0,0,0,0,0,0,0,{"$error":"#N/A"},{"$error":"#N/A"},{"$error":"#N/A"},{"$error":"#N/A"},{"$error":"#N/A"},{"$error":"#N/A"},{"$f":"IF(SUM(BR$3091:BR3824)>0,0,IF(MAX(BK3825:BK$4531)=MAX(BK$3091:BK$4531),0,IF(BI3825>0.03*BC$4532,0,$C3825/60)))","v":0},{"$f":"IF(SUM(BS$3091:BS3824)>0,0,IF(MAX(BK3825:BK$4531)=MAX(BK$3091:BK$4531),0,IF(BI3825>0.01*BC$4532,0,$C3825/60)))","v":0},0,0,0,0,0,0,0,0,0,{"$error":"#N/A"},{"$error":"#N/A"},{"$error":"#N/A"},{"$error":"#N/A"},{"$error":"#N/A"},{"$error":"#N/A"},{"$f":"IF(SUM(CI$3091:CI3824)>0,0,IF(MAX(CB3825:CB$4531)=MAX(CB$3091:CB$4531),0,IF(BZ3825>0.03*BT$4532,0,$C3825/60)))","v":0},{"$f":"IF(SUM(CJ$3091:CJ3824)>0,0,IF(MAX(CB3825:CB$4531)=MAX(CB$3091:CB$4531),0,IF(BZ3825>0.01*BT$4532,0,$C3825/60)))","v":0},0,0,0,0,0,0,0,0,0,{"$error":"#N/A"},{"$error":"#N/A"},{"$error":"#N/A"},{"$error":"#N/A"},{"$error":"#N/A"},{"$error":"#N/A"},{"$f":"IF(SUM(CZ$3091:CZ3824)>0,0,IF(MAX(CS3825:CS$4531)=MAX(CS$3091:CS$4531),0,IF(CQ3825>0.03*CK$4532,0,$C3825/60)))","v":0},{"$f":"IF(SUM(DA$3091:DA3824)>0,0,IF(MAX(CS3825:CS$4531)=MAX(CS$3091:CS$4531),0,IF(CQ3825>0.01*CK$4532,0,$C3825/60)))","v":0},0,0,0,0,0,0,0,0,0,{"$error":"#N/A"},{"$error":"#N/A"},{"$error":"#N/A"},{"$error":"#N/A"},{"$error":"#N/A"},{"$error":"#N/A"},{"$f":"IF(SUM(DQ$3091:DQ3824)>0,0,IF(MAX(DJ3825:DJ$4531)=MAX(DJ$3091:DJ$4531),0,IF(DH3825>0.03*DB$4532,0,$C3825/60)))","v":0},{"$f":"IF(SUM(DR$3091:DR3824)>0,0,IF(MAX(DJ3825:DJ$4531)=MAX(DJ$3091:DJ$4531),0,IF(DH3825>0.01*DB$4532,0,$C3825/60)))","v":0},0,0,0,0,0,0,0,0,0,{"$error":"#N/A"},{"$error":"#N/A"},{"$error":"#N/A"},{"$error":"#N/A"},{"$error":"#N/A"},{"$error":"#N/A"},{"$f":"IF(SUM(EH$3091:EH3824)>0,0,IF(MAX(EA3825:EA$4531)=MAX(EA$3091:EA$4531),0,IF(DY3825>0.03*DS$4532,0,$C3825/60)))","v":0},{"$f":"IF(SUM(EI$3091:EI3824)>0,0,IF(MAX(EA3825:EA$4531)=MAX(EA$3091:EA$4531),0,IF(DY3825>0.01*DS$4532,0,$C3825/60)))","v":0},0,0,0,0,0,0,0,0,0,{"$error":"#N/A"},{"$error":"#N/A"},{"$error":"#N/A"},{"$error":"#N/A"},{"$error":"#N/A"},{"$error":"#N/A"},{"$f":"IF(SUM(EY$3091:EY3824)>0,0,IF(MAX(ER3825:ER$4531)=MAX(ER$3091:ER$4531),0,IF(EP3825>0.03*EJ$4532,0,$C3825/60)))","v":0},{"$f":"IF(SUM(EZ$3091:EZ3824)>0,0,IF(MAX(ER3825:ER$4531)=MAX(ER$3091:ER$4531),0,IF(EP3825>0.01*EJ$4532,0,$C3825/60)))","v":0}]
[null,61.916666666666664,3715,0,0,0,0,0,0,0,0,0,{"$error":"#N/A"},{"$error":"#N/A"},{"$error":"#N/A"},{"$error":"#N/A"},{"$error":"#N/A"},{"$error":"#N/A"},{"$f":"IF(SUM(S$3091:S3833)>0,0,\nIF(MAX(L3834:L$4531)=MAX(L$3091:L$4531),0,\nIF(Hydrograph_Source_WQCV=\"USER\",IF(J3834>0.03*D$4532,0,$C3834/60),\nIF(J3834>0.03*J$4532,0,$C3834/60))))","v":0},{"$f":"IF(SUM(T$3091:T3833)>0,0,\nIF(MAX(L3834:L$4531)=MAX(L$3091:L$4531),0,\nIF(Hydrograph_Source_WQCV=\"USER\",IF(J3834>0.01*D$4532,0,$C3834/60),\nIF(J3834>0.01*J$4532,0,$C3834/60))))","v":0},0,0,0,0,0,0,0,0,0,{"$error":"#N/A"},{"$error":"#N/A"},{"$error":"#N/A"},{"$error":"#N/A"},{"$error":"#N/A"},{"$error":"#N/A"},{"$f":"IF(SUM(AJ$3091:AJ3833)>0,0,\nIF(MAX(AC3834:AC$4531)=MAX(AC$3091:AC$4531),0,\nIF(Hydrograph_Source_EURV=\"USER\",IF(AA3834>0.03*U$4532,0,$C3834/60),\nIF(AA3834>0.03*AA$4532,0,$C3834/60))))","v":0},{"$f":"IF(SUM(AK$3091:AK3833)>0,0,\nIF(MAX(AC3834:AC$4531)=MAX(AC$3091:AC$4531),0,\nIF(Hydrograph_Source_EURV=\"USER\",IF(AA3834>0.01*U$4532,0,$C3834/60),\nIF(AA3834>0.01*AA$4532,0,$C3834/60))))","v":0},0,0,0,0,0,0,0,0,0,{"$error":"#N/A"},{"$error":"#N/A"},{"$error":"#N/A"},{"$error":"#N/A"},{"$error":"#N/A"},{"$error":"#N/A"},{"$f":"IF(SUM(BA$3091:BA3833)>0,0,IF(MAX(AT3834:AT$4531)=MAX(AT$3091:AT$4531),0,IF(AR3834>0.03*AL$4532,0,$C3834/60)))","v":0},{"$f":"IF(SUM(BB$3091:BB3833)>0,0,IF(MAX(AT3834:AT$4531)=MAX(AT$3091:AT$4531),0,IF(AR3834>0.01*AL$4532,0,$C3834/60)))","v":0},0,0,0,0,0,0,0,0,0,{"$error":"#N/A"},{"$error":"#N/A"},{"$error":"#N/A"},{"$error":"#N/A"},{"$error":"#N/A"},{"$error":"#N/A"},{"$f":"IF(SUM(BR$3091:BR3833)>0,0,IF(MAX(BK3834:BK$4531)=MAX(BK$3091:BK$4531),0,IF(BI3834>0.03*BC$4532,0,$C3834/60)))","v":0},{"$f":"IF(SUM(BS$3091:BS3833)>0,0,IF(MAX(BK3834:BK$4531)=MAX(BK$3091:BK$4531),0,IF(BI3834>0.01*BC$4532,0,$C3834/60)))","v":0},0,0,0,0,0,0,0,0,0,{"$error":"#N/A"},{"$error":"#N/A"},{"$error":"#N/A"},{"$error":"#N/A"},{"$error":"#N/A"},{"$error":"#N/A"},{"$f":"IF(SUM(CI$3091:CI3833)>0,0,IF(MAX(CB3834:CB$4531)=MAX(CB$3091:CB$4531),0,IF(BZ3834>0.03*BT$4532,0,$C3834/60)))","v":0},{"$f":"IF(SUM(CJ$3091:CJ3833)>0,0,IF(MAX(CB3834:CB$4531)=MAX(CB$3091:CB$4531),0,IF(BZ3834>0.01*BT$4532,0,$C3834/60)))","v":0},0,0,0,0,0,0,0,0,0,{"$error":"#N/A"},{"$error":"#N/A"},{"$error":"#N/A"},{"$error":"#N/A"},{"$error":"#N/A"},{"$error":"#N/A"},{"$f":"IF(SUM(CZ$3091:CZ3833)>0,0,IF(MAX(CS3834:CS$4531)=MAX(CS$3091:CS$4531),0,IF(CQ3834>0.03*CK$4532,0,$C3834/60)))","v":0},{"$f":"IF(SUM(DA$3091:DA3833)>0,0,IF(MAX(CS3834:CS$4531)=MAX(CS$3091:CS$4531),0,IF(CQ3834>0.01*CK$4532,0,$C3834/60)))","v":0},0,0,0,0,0,0,0,0,0,{"$error":"#N/A"},{"$error":"#N/A"},{"$error":"#N/A"},{"$error":"#N/A"},{"$error":"#N/A"},{"$error":"#N/A"},{"$f":"IF(SUM(DQ$3091:DQ3833)>0,0,IF(MAX(DJ3834:DJ$4531)=MAX(DJ$3091:DJ$4531),0,IF(DH3834>0.03*DB$4532,0,$C3834/60)))","v":0},{"$f":"IF(SUM(DR$3091:DR3833)>0,0,IF(MAX(DJ3834:DJ$4531)=MAX(DJ$3091:DJ$4531),0,IF(DH3834>0.01*DB$4532,0,$C3834/60)))","v":0},0,0,0,0,0,0,0,0,0,{"$error":"#N/A"},{"$error":"#N/A"},{"$error":"#N/A"},{"$error":"#N/A"},{"$error":"#N/A"},{"$error":"#N/A"},{"$f":"IF(SUM(EH$3091:EH3833)>0,0,IF(MAX(EA3834:EA$4531)=MAX(EA$3091:EA$4531),0,IF(DY3834>0.03*DS$4532,0,$C3834/60)))","v":0},{"$f":"IF(SUM(EI$3091:EI3833)>0,0,IF(MAX(EA3834:EA$4531)=MAX(EA$3091:EA$4531),0,IF(DY3834>0.01*DS$4532,0,$C3834/60)))","v":0},0,0,0,0,0,0,0,0,0,{"$error":"#N/A"},{"$error":"#N/A"},{"$error":"#N/A"},{"$error":"#N/A"},{"$error":"#N/A"},{"$error":"#N/A"},{"$f":"IF(SUM(EY$3091:EY3833)>0,0,IF(MAX(ER3834:ER$4531)=MAX(ER$3091:ER$4531),0,IF(EP3834>0.03*EJ$4532,0,$C3834/60)))","v":0},{"$f":"IF(SUM(EZ$3091:EZ3833)>0,0,IF(MAX(ER3834:ER$4531)=MAX(ER$3091:ER$4531),0,IF(EP3834>0.01*EJ$4532,0,$C3834/60)))","v":0}]
[null,62.666666666666664,3760,0,0,0,0,0,0,0,0,0,{"$error":"#N/A"},{"$error":"#N/A"},{"$error":"#N/A"},{"$error":"#N/A"},{"$error":"#N/A"},{"$error":"#N/A"},{"$f":"IF(SUM(S$3091:S3842)>0,0,\nIF(MAX(L3843:L$4531)=MAX(L$3091:L$4531),0,\nIF(Hydrograph_Source_WQCV=\"USER\",IF(J3843>0.03*D$4532,0,$C3843/60),\nIF(J3843>0.03*J$4532,0,$C3843/60))))","v":0},{"$f":"IF(SUM(T$3091:T3842)>0,0,\nIF(MAX(L3843:L$4531)=MAX(L$3091:L$4531),0,\nIF(Hydrograph_Source_WQCV=\"USER\",IF(J3843>0.01*D$4532,0,$C3843/60),\nIF(J3843>0.01*J$4532,0,$C3843/60))))","v":0},0,0,0,0,0,0,0,0,0,{"$error":"#N/A"},{"$error":"#N/A"},{"$error":"#N/A"},{"$error":"#N/A"},{"$error":"#N/A"},{"$error":"#N/A"},{"$f":"IF(SUM(AJ$3091:AJ3842)>0,0,\nIF(MAX(AC3843:AC$4531)=MAX(AC$3091:AC$4531),0,\nIF(Hydrograph_Source_EURV=\"USER\",IF(AA3843>0.03*U$4532,0,$C3843/60),\nIF(AA3843>0.03*AA$4532,0,$C3843/60))))","v":0},{"$f":"IF(SUM(AK$3091:AK3842)>0,0,\nIF(MAX(AC3843:AC$4531)=MAX(AC$3091:AC$4531),0,\nIF(Hydrograph_Source_EURV=\"USER\",IF(AA3843>0.01*U$4532,0,$C3843/60),\nIF(AA3843>0.01*AA$4532,0,$C3843/60))))","v":0},0,0,0,0,0,0,0,0,0,{"$error":"#N/A"},{"$error":"#N/A"},{"$error":"#N/A"},{"$error":"#N/A"},{"$error":"#N/A"},{"$error":"#N/A"},{"$f":"IF(SUM(BA$3091:BA3842)>0,0,IF(MAX(AT3843:AT$4531)=MAX(AT$3091:AT$4531),0,IF(AR3843>0.03*AL$4532,0,$C3843/60)))","v":0},{"$f":"IF(SUM(BB$3091:BB3842)>0,0,IF(MAX(AT3843:AT$4531)=MAX(AT$3091:AT$4531),0,IF(AR3843>0.01*AL$4532,0,$C3843/60)))","v":0},0,0,0,0,0,0,0,0,0,{"$error":"#N/A"},{"$error":"#N/A"},{"$error":"#N/A"},{"$error":"#N/A"},{"$error":"#N/A"},{"$error":"#N/A"},{"$f":"IF(SUM(BR$3091:BR3842)>0,0,IF(MAX(BK3843:BK$4531)=MAX(BK$3091:BK$4531),0,IF(BI3843>0.03*BC$4532,0,$C3843/60)))","v":0},{"$f":"IF(SUM(BS$3091:BS3842)>0,0,IF(MAX(BK3843:BK$4531)=MAX(BK$3091:BK$4531),0,IF(BI3843>0.01*BC$4532,0,$C3843/60)))","v":0},0,0,0,0,0,0,0,0,0,{"$error":"#N/A"},{"$error":"#N/A"},{"$error":"#N/A"},{"$error":"#N/A"},{"$error":"#N/A"},{"$error":"#N/A"},{"$f":"IF(SUM(CI$3091:CI3842)>0,0,IF(MAX(CB3843:CB$4531)=MAX(CB$3091:CB$4531),0,IF(BZ3843>0.03*BT$4532,0,$C3843/60)))","v":0},{"$f":"IF(SUM(CJ$3091:CJ3842)>0,0,IF(MAX(CB3843:CB$4531)=MAX(CB$3091:CB$4531),0,IF(BZ3843>0.01*BT$4532,0,$C3843/60)))","v":0},0,0,0,0,0,0,0,0,0,{"$error":"#N/A"},{"$error":"#N/A"},{"$error":"#N/A"},{"$error":"#N/A"},{"$error":"#N/A"},{"$error":"#N/A"},{"$f":"IF(SUM(CZ$3091:CZ3842)>0,0,IF(MAX(CS3843:CS$4531)=MAX(CS$3091:CS$4531),0,IF(CQ3843>0.03*CK$4532,0,$C3843/60)))","v":0},{"$f":"IF(SUM(DA$3091:DA3842)>0,0,IF(MAX(CS3843:CS$4531)=MAX(CS$3091:CS$4531),0,IF(CQ3843>0.01*CK$4532,0,$C3843/60)))","v":0},0,0,0,0,0,0,0,0,0,{"$error":"#N/A"},{"$error":"#N/A"},{"$error":"#N/A"},{"$error":"#N/A"},{"$error":"#N/A"},{"$error":"#N/A"},{"$f":"IF(SUM(DQ$3091:DQ3842)>0,0,IF(MAX(DJ3843:DJ$4531)=MAX(DJ$3091:DJ$4531),0,IF(DH3843>0.03*DB$4532,0,$C3843/60)))","v":0},{"$f":"IF(SUM(DR$3091:DR3842)>0,0,IF(MAX(DJ3843:DJ$4531)=MAX(DJ$3091:DJ$4531),0,IF(DH3843>0.01*DB$4532,0,$C3843/60)))","v":0},0,0,0,0,0,0,0,0,0,{"$error":"#N/A"},{"$error":"#N/A"},{"$error":"#N/A"},{"$error":"#N/A"},{"$error":"#N/A"},{"$error":"#N/A"},{"$f":"IF(SUM(EH$3091:EH3842)>0,0,IF(MAX(EA3843:EA$4531)=MAX(EA$3091:EA$4531),0,IF(DY3843>0.03*DS$4532,0,$C3843/60)))","v":0},{"$f":"IF(SUM(EI$3091:EI3842)>0,0,IF(MAX(EA3843:EA$4531)=MAX(EA$3091:EA$4531),0,IF(DY3843>0.01*DS$4532,0,$C3843/60)))","v":0},0,0,0,0,0,0,0,0,0,{"$error":"#N/A"},{"$error":"#N/A"},{"$error":"#N/A"},{"$error":"#N/A"},{"$error":"#N/A"},{"$error":"#N/A"},{"$f":"IF(SUM(EY$3091:EY3842)>0,0,IF(MAX(ER3843:ER$4531)=MAX(ER$3091:ER$4531),0,IF(EP3843>0.03*EJ$4532,0,$C3843/60)))","v":0},{"$f":"IF(SUM(EZ$3091:EZ3842)>0,0,IF(MAX(ER3843:ER$4531)=MAX(ER$3091:ER$4531),0,IF(EP3843>0.01*EJ$4532,0,$C3843/60)))","v":0}]
[null,63.416666666666664,3805,0,0,0,0,0,0,0,0,0,{"$error":"#N/A"},{"$error":"#N/A"},{"$error":"#N/A"},{"$error":"#N/A"},{"$error":"#N/A"},{"$error":"#N/A"},{"$f":"IF(SUM(S$3091:S3851)>0,0,\nIF(MAX(L3852:L$4531)=MAX(L$3091:L$4531),0,\nIF(Hydrograph_Source_WQCV=\"USER\",IF(J3852>0.03*D$4532,0,$C3852/60),\nIF(J3852>0.03*J$4532,0,$C3852/60))))","v":0},{"$f":"IF(SUM(T$3091:T3851)>0,0,\nIF(MAX(L3852:L$4531)=MAX(L$3091:L$4531),0,\nIF(Hydrograph_Source_WQCV=\"USER\",IF(J3852>0.01*D$4532,0,$C3852/60),\nIF(J3852>0.01*J$4532,0,$C3852/60))))","v":0},0,0,0,0,0,0,0,0,0,{"$error":"#N/A"},{"$error":"#N/A"},{"$error":"#N/A"},{"$error":"#N/A"},{"$error":"#N/A"},{"$error":"#N/A"},{"$f":"IF(SUM(AJ$3091:AJ3851)>0,0,\nIF(MAX(AC3852:AC$4531)=MAX(AC$3091:AC$4531),0,\nIF(Hydrograph_Source_EURV=\"USER\",IF(AA3852>0.03*U$4532,0,$C3852/60),\nIF(AA3852>0.03*AA$4532,0,$C3852/60))))","v":0},{"$f":"IF(SUM(AK$3091:AK3851)>0,0,\nIF(MAX(AC3852:AC$4531)=MAX(AC$3091:AC$4531),0,\nIF(Hydrograph_Source_EURV=\"USER\",IF(AA3852>0.01*U$4532,0,$C3852/60),\nIF(AA3852>0.01*AA$4532,0,$C3852/60))))","v":0},0,0,0,0,0,0,0,0,0,{"$error":"#N/A"},{"$error":"#N/A"},{"$error":"#N/A"},{"$error":"#N/A"},{"$error":"#N/A"},{"$error":"#N/A"},{"$f":"IF(SUM(BA$3091:BA3851)>0,0,IF(MAX(AT3852:AT$4531)=MAX(AT$3091:AT$4531),0,IF(AR3852>0.03*AL$4532,0,$C3852/60)))","v":0},{"$f":"IF(SUM(BB$3091:BB3851)>0,0,IF(MAX(AT3852:AT$4531)=MAX(AT$3091:AT$4531),0,IF(AR3852>0.01*AL$4532,0,$C3852/60)))","v":0},0,0,0,0,0,0,0,0,0,{"$error":"#N/A"},{"$error":"#N/A"},{"$error":"#N/A"},{"$error":"#N/A"},{"$error":"#N/A"},{"$error":"#N/A"},{"$f":"IF(SUM(BR$3091:BR3851)>0,0,IF(MAX(BK3852:BK$4531)=MAX(BK$3091:BK$4531),0,IF(BI3852>0.03*BC$4532,0,$C3852/60)))","v":0},{"$f":"IF(SUM(BS$3091:BS3851)>0,0,IF(MAX(BK3852:BK$4531)=MAX(BK$3091:BK$4531),0,IF(BI3852>0.01*BC$4532,0,$C3852/60)))","v":0},0,0,0,0,0,0,0,0,0,{"$error":"#N/A"},{"$error":"#N/A"},{"$error":"#N/A"},{"$error":"#N/A"},{"$error":"#N/A"},{"$error":"#N/A"},{"$f":"IF(SUM(CI$3091:CI3851)>0,0,IF(MAX(CB3852:CB$4531)=MAX(CB$3091:CB$4531),0,IF(BZ3852>0.03*BT$4532,0,$C3852/60)))","v":0},{"$f":"IF(SUM(CJ$3091:CJ3851)>0,0,IF(MAX(CB3852:CB$4531)=MAX(CB$3091:CB$4531),0,IF(BZ3852>0.01*BT$4532,0,$C3852/60)))","v":0},0,0,0,0,0,0,0,0,0,{"$error":"#N/A"},{"$error":"#N/A"},{"$error":"#N/A"},{"$error":"#N/A"},{"$error":"#N/A"},{"$error":"#N/A"},{"$f":"IF(SUM(CZ$3091:CZ3851)>0,0,IF(MAX(CS3852:CS$4531)=MAX(CS$3091:CS$4531),0,IF(CQ3852>0.03*CK$4532,0,$C3852/60)))","v":0},{"$f":"IF(SUM(DA$3091:DA3851)>0,0,IF(MAX(CS3852:CS$4531)=MAX(CS$3091:CS$4531),0,IF(CQ3852>0.01*CK$4532,0,$C3852/60)))","v":0},0,0,0,0,0,0,0,0,0,{"$error":"#N/A"},{"$error":"#N/A"},{"$error":"#N/A"},{"$error":"#N/A"},{"$error":"#N/A"},{"$error":"#N/A"},{"$f":"IF(SUM(DQ$3091:DQ3851)>0,0,IF(MAX(DJ3852:DJ$4531)=MAX(DJ$3091:DJ$4531),0,IF(DH3852>0.03*DB$4532,0,$C3852/60)))","v":0},{"$f":"IF(SUM(DR$3091:DR3851)>0,0,IF(MAX(DJ3852:DJ$4531)=MAX(DJ$3091:DJ$4531),0,IF(DH3852>0.01*DB$4532,0,$C3852/60)))","v":0},0,0,0,0,0,0,0,0,0,{"$error":"#N/A"},{"$error":"#N/A"},{"$error":"#N/A"},{"$error":"#N/A"},{"$error":"#N/A"},{"$error":"#N/A"},{"$f":"IF(SUM(EH$3091:EH3851)>0,0,IF(MAX(EA3852:EA$4531)=MAX(EA$3091:EA$4531),0,IF(DY3852>0.03*DS$4532,0,$C3852/60)))","v":0},{"$f":"IF(SUM(EI$3091:EI3851)>0,0,IF(MAX(EA3852:EA$4531)=MAX(EA$3091:EA$4531),0,IF(DY3852>0.01*DS$4532,0,$C3852/60)))","v":0},0,0,0,0,0,0,0,0,0,{"$error":"#N/A"},{"$error":"#N/A"},{"$error":"#N/A"},{"$error":"#N/A"},{"$error":"#N/A"},{"$error":"#N/A"},{"$f":"IF(SUM(EY$3091:EY3851)>0,0,IF(MAX(ER3852:ER$4531)=MAX(ER$3091:ER$4531),0,IF(EP3852>0.03*EJ$4532,0,$C3852/60)))","v":0},{"$f":"IF(SUM(EZ$3091:EZ3851)>0,0,IF(MAX(ER3852:ER$4531)=MAX(ER$3091:ER$4531),0,IF(EP3852>0.01*EJ$4532,0,$C3852/60)))","v":0}]
[null,64.166666666666671,{"$f":"ROUND(C3860+$C$3089,2)","v":3850},0,0,0,0,0,0,0,0,0,{"$error":"#N/A"},{"$error":"#N/A"},{"$error":"#N/A"},{"$error":"#N/A"},{"$error":"#N/A"},{"$error":"#N/A"},{"$f":"IF(SUM(S$3091:S3860)>0,0,\nIF(MAX(L3861:L$4531)=MAX(L$3091:L$4531),0,\nIF(Hydrograph_Source_WQCV=\"USER\",IF(J3861>0.03*D$4532,0,$C3861/60),\nIF(J3861>0.03*J$4532,0,$C3861/60))))","v":0},{"$f":"IF(SUM(T$3091:T3860)>0,0,\nIF(MAX(L3861:L$4531)=MAX(L$3091:L$4531),0,\nIF(Hydrograph_Source_WQCV=\"USER\",IF(J3861>0.01*D$4532,0,$C3861/60),\nIF(J3861>0.01*J$4532,0,$C3861/60))))","v":0},0,0,0,0,0,0,0,0,0,{"$error":"#N/A"},{"$error":"#N/A"},{"$error":"#N/A"},{"$error":"#N/A"},{"$error":"#N/A"},{"$error":"#N/A"},{"$f":"IF(SUM(AJ$3091:AJ3860)>0,0,\nIF(MAX(AC3861:AC$4531)=MAX(AC$3091:AC$4531),0,\nIF(Hydrograph_Source_EURV=\"USER\",IF(AA3861>0.03*U$4532,0,$C3861/60),\nIF(AA3861>0.03*AA$4532,0,$C3861/60))))","v":0},{"$f":"IF(SUM(AK$3091:AK3860)>0,0,\nIF(MAX(AC3861:AC$4531)=MAX(AC$3091:AC$4531),0,\nIF(Hydrograph_Source_EURV=\"USER\",IF(AA3861>0.01*U$4532,0,$C3861/60),\nIF(AA3861>0.01*AA$4532,0,$C3861/60))))","v":0},0,0,0,0,0,0,0,0,0,{"$error":"#N/A"},{"$error":"#N/A"},{"$error":"#N/A"},{"$error":"#N/A"},{"$error":"#N/A"},{"$error":"#N/A"},{"$f":"IF(SUM(BA$3091:BA3860)>0,0,IF(MAX(AT3861:AT$4531)=MAX(AT$3091:AT$4531),0,IF(AR3861>0.03*AL$4532,0,$C3861/60)))","v":0},{"$f":"IF(SUM(BB$3091:BB3860)>0,0,IF(MAX(AT3861:AT$4531)=MAX(AT$3091:AT$4531),0,IF(AR3861>0.01*AL$4532,0,$C3861/60)))","v":0},0,0,0,0,0,0,0,0,0,{"$error":"#N/A"},{"$error":"#N/A"},{"$error":"#N/A"},{"$error":"#N/A"},{"$error":"#N/A"},{"$error":"#N/A"},{"$f":"IF(SUM(BR$3091:BR3860)>0,0,IF(MAX(BK3861:BK$4531)=MAX(BK$3091:BK$4531),0,IF(BI3861>0.03*BC$4532,0,$C3861/60)))","v":0},{"$f":"IF(SUM(BS$3091:BS3860)>0,0,IF(MAX(BK3861:BK$4531)=MAX(BK$3091:BK$4531),0,IF(BI3861>0.01*BC$4532,0,$C3861/60)))","v":0},0,0,0,0,0,0,0,0,0,{"$error":"#N/A"},{"$error":"#N/A"},{"$error":"#N/A"},{"$error":"#N/A"},{"$error":"#N/A"},{"$error":"#N/A"},{"$f":"IF(SUM(CI$3091:CI3860)>0,0,IF(MAX(CB3861:CB$4531)=MAX(CB$3091:CB$4531),0,IF(BZ3861>0.03*BT$4532,0,$C3861/60)))","v":0},{"$f":"IF(SUM(CJ$3091:CJ3860)>0,0,IF(MAX(CB3861:CB$4531)=MAX(CB$3091:CB$4531),0,IF(BZ3861>0.01*BT$4532,0,$C3861/60)))","v":0},0,0,0,0,0,0,0,0,0,{"$error":"#N/A"},{"$error":"#N/A"},{"$error":"#N/A"},{"$error":"#N/A"},{"$error":"#N/A"},{"$error":"#N/A"},{"$f":"IF(SUM(CZ$3091:CZ3860)>0,0,IF(MAX(CS3861:CS$4531)=MAX(CS$3091:CS$4531),0,IF(CQ3861>0.03*CK$4532,0,$C3861/60)))","v":0},{"$f":"IF(SUM(DA$3091:DA3860)>0,0,IF(MAX(CS3861:CS$4531)=MAX(CS$3091:CS$4531),0,IF(CQ3861>0.01*CK$4532,0,$C3861/60)))","v":0},0,0,0,0,0,0,0,0,0,{"$error":"#N/A"},{"$error":"#N/A"},{"$error":"#N/A"},{"$error":"#N/A"},{"$error":"#N/A"},{"$error":"#N/A"},{"$f":"IF(SUM(DQ$3091:DQ3860)>0,0,IF(MAX(DJ3861:DJ$4531)=MAX(DJ$3091:DJ$4531),0,IF(DH3861>0.03*DB$4532,0,$C3861/60)))","v":0},{"$f":"IF(SUM(DR$3091:DR3860)>0,0,IF(MAX(DJ3861:DJ$4531)=MAX(DJ$3091:DJ$4531),0,IF(DH3861>0.01*DB$4532,0,$C3861/60)))","v":0},0,0,0,0,0,0,0,0,0,{"$error":"#N/A"},{"$error":"#N/A"},{"$error":"#N/A"},{"$error":"#N/A"},{"$error":"#N/A"},{"$error":"#N/A"},{"$f":"IF(SUM(EH$3091:EH3860)>0,0,IF(MAX(EA3861:EA$4531)=MAX(EA$3091:EA$4531),0,IF(DY3861>0.03*DS$4532,0,$C3861/60)))","v":0},{"$f":"IF(SUM(EI$3091:EI3860)>0,0,IF(MAX(EA3861:EA$4531)=MAX(EA$3091:EA$4531),0,IF(DY3861>0.01*DS$4532,0,$C3861/60)))","v":0},0,0,0,0,0,0,0,0,0,{"$error":"#N/A"},{"$error":"#N/A"},{"$error":"#N/A"},{"$error":"#N/A"},{"$error":"#N/A"},{"$error":"#N/A"},{"$f":"IF(SUM(EY$3091:EY3860)>0,0,IF(MAX(ER3861:ER$4531)=MAX(ER$3091:ER$4531),0,IF(EP3861>0.03*EJ$4532,0,$C3861/60)))","v":0},{"$f":"IF(SUM(EZ$3091:EZ3860)>0,0,IF(MAX(ER3861:ER$4531)=MAX(ER$3091:ER$4531),0,IF(EP3861>0.01*EJ$4532,0,$C3861/60)))","v":0}]
[null,64.916666666666671,3895,0,0,0,0,0,0,0,0,0,{"$error":"#N/A"},{"$error":"#N/A"},{"$error":"#N/A"},{"$error":"#N/A"},{"$error":"#N/A"},{"$error":"#N/A"},{"$f":"IF(SUM(S$3091:S3869)>0,0,\nIF(MAX(L3870:L$4531)=MAX(L$3091:L$4531),0,\nIF(Hydrograph_Source_WQCV=\"USER\",IF(J3870>0.03*D$4532,0,$C3870/60),\nIF(J3870>0.03*J$4532,0,$C3870/60))))","v":0},{"$f":"IF(SUM(T$3091:T3869)>0,0,\nIF(MAX(L3870:L$4531)=MAX(L$3091:L$4531),0,\nIF(Hydrograph_Source_WQCV=\"USER\",IF(J3870>0.01*D$4532,0,$C3870/60),\nIF(J3870>0.01*J$4532,0,$C3870/60))))","v":0},0,0,0,0,0,0,0,0,0,{"$error":"#N/A"},{"$error":"#N/A"},{"$error":"#N/A"},{"$error":"#N/A"},{"$error":"#N/A"},{"$error":"#N/A"},{"$f":"IF(SUM(AJ$3091:AJ3869)>0,0,\nIF(MAX(AC3870:AC$4531)=MAX(AC$3091:AC$4531),0,\nIF(Hydrograph_Source_EURV=\"USER\",IF(AA3870>0.03*U$4532,0,$C3870/60),\nIF(AA3870>0.03*AA$4532,0,$C3870/60))))","v":0},{"$f":"IF(SUM(AK$3091:AK3869)>0,0,\nIF(MAX(AC3870:AC$4531)=MAX(AC$3091:AC$4531),0,\nIF(Hydrograph_Source_EURV=\"USER\",IF(AA3870>0.01*U$4532,0,$C3870/60),\nIF(AA3870>0.01*AA$4532,0,$C3870/60))))","v":0},0,0,0,0,0,0,0,0,0,{"$error":"#N/A"},{"$error":"#N/A"},{"$error":"#N/A"},{"$error":"#N/A"},{"$error":"#N/A"},{"$error":"#N/A"},{"$f":"IF(SUM(BA$3091:BA3869)>0,0,IF(MAX(AT3870:AT$4531)=MAX(AT$3091:AT$4531),0,IF(AR3870>0.03*AL$4532,0,$C3870/60)))","v":0},{"$f":"IF(SUM(BB$3091:BB3869)>0,0,IF(MAX(AT3870:AT$4531)=MAX(AT$3091:AT$4531),0,IF(AR3870>0.01*AL$4532,0,$C3870/60)))","v":0},0,0,0,0,0,0,0,0,0,{"$error":"#N/A"},{"$error":"#N/A"},{"$error":"#N/A"},{"$error":"#N/A"},{"$error":"#N/A"},{"$error":"#N/A"},{"$f":"IF(SUM(BR$3091:BR3869)>0,0,IF(MAX(BK3870:BK$4531)=MAX(BK$3091:BK$4531),0,IF(BI3870>0.03*BC$4532,0,$C3870/60)))","v":0},{"$f":"IF(SUM(BS$3091:BS3869)>0,0,IF(MAX(BK3870:BK$4531)=MAX(BK$3091:BK$4531),0,IF(BI3870>0.01*BC$4532,0,$C3870/60)))","v":0},0,0,0,0,0,0,0,0,0,{"$error":"#N/A"},{"$error":"#N/A"},{"$error":"#N/A"},{"$error":"#N/A"},{"$error":"#N/A"},{"$error":"#N/A"},{"$f":"IF(SUM(CI$3091:CI3869)>0,0,IF(MAX(CB3870:CB$4531)=MAX(CB$3091:CB$4531),0,IF(BZ3870>0.03*BT$4532,0,$C3870/60)))","v":0},{"$f":"IF(SUM(CJ$3091:CJ3869)>0,0,IF(MAX(CB3870:CB$4531)=MAX(CB$3091:CB$4531),0,IF(BZ3870>0.01*BT$4532,0,$C3870/60)))","v":0},0,0,0,0,0,0,0,0,0,{"$error":"#N/A"},{"$error":"#N/A"},{"$error":"#N/A"},{"$error":"#N/A"},{"$error":"#N/A"},{"$error":"#N/A"},{"$f":"IF(SUM(CZ$3091:CZ3869)>0,0,IF(MAX(CS3870:CS$4531)=MAX(CS$3091:CS$4531),0,IF(CQ3870>0.03*CK$4532,0,$C3870/60)))","v":0},{"$f":"IF(SUM(DA$3091:DA3869)>0,0,IF(MAX(CS3870:CS$4531)=MAX(CS$3091:CS$4531),0,IF(CQ3870>0.01*CK$4532,0,$C3870/60)))","v":0},0,0,0,0,0,0,0,0,0,{"$error":"#N/A"},{"$error":"#N/A"},{"$error":"#N/A"},{"$error":"#N/A"},{"$error":"#N/A"},{"$error":"#N/A"},{"$f":"IF(SUM(DQ$3091:DQ3869)>0,0,IF(MAX(DJ3870:DJ$4531)=MAX(DJ$3091:DJ$4531),0,IF(DH3870>0.03*DB$4532,0,$C3870/60)))","v":0},{"$f":"IF(SUM(DR$3091:DR3869)>0,0,IF(MAX(DJ3870:DJ$4531)=MAX(DJ$3091:DJ$4531),0,IF(DH3870>0.01*DB$4532,0,$C3870/60)))","v":0},0,0,0,0,0,0,0,0,0,{"$error":"#N/A"},{"$error":"#N/A"},{"$error":"#N/A"},{"$error":"#N/A"},{"$error":"#N/A"},{"$error":"#N/A"},{"$f":"IF(SUM(EH$3091:EH3869)>0,0,IF(MAX(EA3870:EA$4531)=MAX(EA$3091:EA$4531),0,IF(DY3870>0.03*DS$4532,0,$C3870/60)))","v":0},{"$f":"IF(SUM(EI$3091:EI3869)>0,0,IF(MAX(EA3870:EA$4531)=MAX(EA$3091:EA$4531),0,IF(DY3870>0.01*DS$4532,0,$C3870/60)))","v":0},0,0,0,0,0,0,0,0,0,{"$error":"#N/A"},{"$error":"#N/A"},{"$error":"#N/A"},{"$error":"#N/A"},{"$error":"#N/A"},{"$error":"#N/A"},{"$f":"IF(SUM(EY$3091:EY3869)>0,0,IF(MAX(ER3870:ER$4531)=MAX(ER$3091:ER$4531),0,IF(EP3870>0.03*EJ$4532,0,$C3870/60)))","v":0},{"$f":"IF(SUM(EZ$3091:EZ3869)>0,0,IF(MAX(ER3870:ER$4531)=MAX(ER$3091:ER$4531),0,IF(EP3870>0.01*EJ$4532,0,$C3870/60)))","v":0}]
[null,65,3900,0,0,0,0,0,0,0,0,0,{"$error":"#N/A"},{"$error":"#N/A"},{"$error":"#N/A"},{"$error":"#N/A"},{"$error":"#N/A"},{"$error":"#N/A"},{"$f":"IF(SUM(S$3091:S3870)>0,0,\nIF(MAX(L3871:L$4531)=MAX(L$3091:L$4531),0,\nIF(Hydrograph_Source_WQCV=\"USER\",IF(J3871>0.03*D$4532,0,$C3871/60),\nIF(J3871>0.03*J$4532,0,$C3871/60))))","v":0},{"$f":"IF(SUM(T$3091:T3870)>0,0,\nIF(MAX(L3871:L$4531)=MAX(L$3091:L$4531),0,\nIF(Hydrograph_Source_WQCV=\"USER\",IF(J3871>0.01*D$4532,0,$C3871/60),\nIF(J3871>0.01*J$4532,0,$C3871/60))))","v":0},0,0,0,0,0,0,0,0,0,{"$error":"#N/A"},{"$error":"#N/A"},{"$error":"#N/A"},{"$error":"#N/A"},{"$error":"#N/A"},{"$error":"#N/A"},{"$f":"IF(SUM(AJ$3091:AJ3870)>0,0,\nIF(MAX(AC3871:AC$4531)=MAX(AC$3091:AC$4531),0,\nIF(Hydrograph_Source_EURV=\"USER\",IF(AA3871>0.03*U$4532,0,$C3871/60),\nIF(AA3871>0.03*AA$4532,0,$C3871/60))))","v":0},{"$f":"IF(SUM(AK$3091:AK3870)>0,0,\nIF(MAX(AC3871:AC$4531)=MAX(AC$3091:AC$4531),0,\nIF(Hydrograph_Source_EURV=\"USER\",IF(AA3871>0.01*U$4532,0,$C3871/60),\nIF(AA3871>0.01*AA$4532,0,$C3871/60))))","v":0},0,0,0,0,0,0,0,0,0,{"$error":"#N/A"},{"$error":"#N/A"},{"$error":"#N/A"},{"$error":"#N/A"},{"$error":"#N/A"},{"$error":"#N/A"},{"$f":"IF(SUM(BA$3091:BA3870)>0,0,IF(MAX(AT3871:AT$4531)=MAX(AT$3091:AT$4531),0,IF(AR3871>0.03*AL$4532,0,$C3871/60)))","v":0},{"$f":"IF(SUM(BB$3091:BB3870)>0,0,IF(MAX(AT3871:AT$4531)=MAX(AT$3091:AT$4531),0,IF(AR3871>0.01*AL$4532,0,$C3871/60)))","v":0},0,0,0,0,0,0,0,0,0,{"$error":"#N/A"},{"$error":"#N/A"},{"$error":"#N/A"},{"$error":"#N/A"},{"$error":"#N/A"},{"$error":"#N/A"},{"$f":"IF(SUM(BR$3091:BR3870)>0,0,IF(MAX(BK3871:BK$4531)=MAX(BK$3091:BK$4531),0,IF(BI3871>0.03*BC$4532,0,$C3871/60)))","v":0},{"$f":"IF(SUM(BS$3091:BS3870)>0,0,IF(MAX(BK3871:BK$4531)=MAX(BK$3091:BK$4531),0,IF(BI3871>0.01*BC$4532,0,$C3871/60)))","v":0},0,0,0,0,0,0,0,0,0,{"$error":"#N/A"},{"$error":"#N/A"},{"$error":"#N/A"},{"$error":"#N/A"},{"$error":"#N/A"},{"$error":"#N/A"},{"$f":"IF(SUM(CI$3091:CI3870)>0,0,IF(MAX(CB3871:CB$4531)=MAX(CB$3091:CB$4531),0,IF(BZ3871>0.03*BT$4532,0,$C3871/60)))","v":0},{"$f":"IF(SUM(CJ$3091:CJ3870)>0,0,IF(MAX(CB3871:CB$4531)=MAX(CB$3091:CB$4531),0,IF(BZ3871>0.01*BT$4532,0,$C3871/60)))","v":0},0,0,0,0,0,0,0,0,0,{"$error":"#N/A"},{"$error":"#N/A"},{"$error":"#N/A"},{"$error":"#N/A"},{"$error":"#N/A"},{"$error":"#N/A"},{"$f":"IF(SUM(CZ$3091:CZ3870)>0,0,IF(MAX(CS3871:CS$4531)=MAX(CS$3091:CS$4531),0,IF(CQ3871>0.03*CK$4532,0,$C3871/60)))","v":0},{"$f":"IF(SUM(DA$3091:DA3870)>0,0,IF(MAX(CS3871:CS$4531)=MAX(CS$3091:CS$4531),0,IF(CQ3871>0.01*CK$4532,0,$C3871/60)))","v":0},0,0,0,0,0,0,0,0,0,{"$error":"#N/A"},{"$error":"#N/A"},{"$error":"#N/A"},{"$error":"#N/A"},{"$error":"#N/A"},{"$error":"#N/A"},{"$f":"IF(SUM(DQ$3091:DQ3870)>0,0,IF(MAX(DJ3871:DJ$4531)=MAX(DJ$3091:DJ$4531),0,IF(DH3871>0.03*DB$4532,0,$C3871/60)))","v":0},{"$f":"IF(SUM(DR$3091:DR3870)>0,0,IF(MAX(DJ3871:DJ$4531)=MAX(DJ$3091:DJ$4531),0,IF(DH3871>0.01*DB$4532,0,$C3871/60)))","v":0},0,0,0,0,0,0,0,0,0,{"$error":"#N/A"},{"$error":"#N/A"},{"$error":"#N/A"},{"$error":"#N/A"},{"$error":"#N/A"},{"$error":"#N/A"},{"$f":"IF(SUM(EH$3091:EH3870)>0,0,IF(MAX(EA3871:EA$4531)=MAX(EA$3091:EA$4531),0,IF(DY3871>0.03*DS$4532,0,$C3871/60)))","v":0},{"$f":"IF(SUM(EI$3091:EI3870)>0,0,IF(MAX(EA3871:EA$4531)=MAX(EA$3091:EA$4531),0,IF(DY3871>0.01*DS$4532,0,$C3871/60)))","v":0},0,0,0,0,0,0,0,0,0,{"$error":"#N/A"},{"$error":"#N/A"},{"$error":"#N/A"},{"$error":"#N/A"},{"$error":"#N/A"},{"$error":"#N/A"},{"$f":"IF(SUM(EY$3091:EY3870)>0,0,IF(MAX(ER3871:ER$4531)=MAX(ER$3091:ER$4531),0,IF(EP3871>0.03*EJ$4532,0,$C3871/60)))","v":0},{"$f":"IF(SUM(EZ$3091:EZ3870)>0,0,IF(MAX(ER3871:ER$4531)=MAX(ER$3091:ER$4531),0,IF(EP3871>0.01*EJ$4532,0,$C3871/60)))","v":0}]
[null,65.75,3945,0,0,0,0,0,0,0,0,0,{"$error":"#N/A"},{"$error":"#N/A"},{"$error":"#N/A"},{"$error":"#N/A"},{"$error":"#N/A"},{"$error":"#N/A"},{"$f":"IF(SUM(S$3091:S3879)>0,0,\nIF(MAX(L3880:L$4531)=MAX(L$3091:L$4531),0,\nIF(Hydrograph_Source_WQCV=\"USER\",IF(J3880>0.03*D$4532,0,$C3880/60),\nIF(J3880>0.03*J$4532,0,$C3880/60))))","v":0},{"$f":"IF(SUM(T$3091:T3879)>0,0,\nIF(MAX(L3880:L$4531)=MAX(L$3091:L$4531),0,\nIF(Hydrograph_Source_WQCV=\"USER\",IF(J3880>0.01*D$4532,0,$C3880/60),\nIF(J3880>0.01*J$4532,0,$C3880/60))))","v":0},0,0,0,0,0,0,0,0,0,{"$error":"#N/A"},{"$error":"#N/A"},{"$error":"#N/A"},{"$error":"#N/A"},{"$error":"#N/A"},{"$error":"#N/A"},{"$f":"IF(SUM(AJ$3091:AJ3879)>0,0,\nIF(MAX(AC3880:AC$4531)=MAX(AC$3091:AC$4531),0,\nIF(Hydrograph_Source_EURV=\"USER\",IF(AA3880>0.03*U$4532,0,$C3880/60),\nIF(AA3880>0.03*AA$4532,0,$C3880/60))))","v":0},{"$f":"IF(SUM(AK$3091:AK3879)>0,0,\nIF(MAX(AC3880:AC$4531)=MAX(AC$3091:AC$4531),0,\nIF(Hydrograph_Source_EURV=\"USER\",IF(AA3880>0.01*U$4532,0,$C3880/60),\nIF(AA3880>0.01*AA$4532,0,$C3880/60))))","v":0},0,0,0,0,0,0,0,0,0,{"$error":"#N/A"},{"$error":"#N/A"},{"$error":"#N/A"},{"$error":"#N/A"},{"$error":"#N/A"},{"$error":"#N/A"},{"$f":"IF(SUM(BA$3091:BA3879)>0,0,IF(MAX(AT3880:AT$4531)=MAX(AT$3091:AT$4531),0,IF(AR3880>0.03*AL$4532,0,$C3880/60)))","v":0},{"$f":"IF(SUM(BB$3091:BB3879)>0,0,IF(MAX(AT3880:AT$4531)=MAX(AT$3091:AT$4531),0,IF(AR3880>0.01*AL$4532,0,$C3880/60)))","v":0},0,0,0,0,0,0,0,0,0,{"$error":"#N/A"},{"$error":"#N/A"},{"$error":"#N/A"},{"$error":"#N/A"},{"$error":"#N/A"},{"$error":"#N/A"},{"$f":"IF(SUM(BR$3091:BR3879)>0,0,IF(MAX(BK3880:BK$4531)=MAX(BK$3091:BK$4531),0,IF(BI3880>0.03*BC$4532,0,$C3880/60)))","v":0},{"$f":"IF(SUM(BS$3091:BS3879)>0,0,IF(MAX(BK3880:BK$4531)=MAX(BK$3091:BK$4531),0,IF(BI3880>0.01*BC$4532,0,$C3880/60)))","v":0},0,0,0,0,0,0,0,0,0,{"$error":"#N/A"},{"$error":"#N/A"},{"$error":"#N/A"},{"$error":"#N/A"},{"$error":"#N/A"},{"$error":"#N/A"},{"$f":"IF(SUM(CI$3091:CI3879)>0,0,IF(MAX(CB3880:CB$4531)=MAX(CB$3091:CB$4531),0,IF(BZ3880>0.03*BT$4532,0,$C3880/60)))","v":0},{"$f":"IF(SUM(CJ$3091:CJ3879)>0,0,IF(MAX(CB3880:CB$4531)=MAX(CB$3091:CB$4531),0,IF(BZ3880>0.01*BT$4532,0,$C3880/60)))","v":0},0,0,0,0,0,0,0,0,0,{"$error":"#N/A"},{"$error":"#N/A"},{"$error":"#N/A"},{"$error":"#N/A"},{"$error":"#N/A"},{"$error":"#N/A"},{"$f":"IF(SUM(CZ$3091:CZ3879)>0,0,IF(MAX(CS3880:CS$4531)=MAX(CS$3091:CS$4531),0,IF(CQ3880>0.03*CK$4532,0,$C3880/60)))","v":0},{"$f":"IF(SUM(DA$3091:DA3879)>0,0,IF(MAX(CS3880:CS$4531)=MAX(CS$3091:CS$4531),0,IF(CQ3880>0.01*CK$4532,0,$C3880/60)))","v":0},0,0,0,0,0,0,0,0,0,{"$error":"#N/A"},{"$error":"#N/A"},{"$error":"#N/A"},{"$error":"#N/A"},{"$error":"#N/A"},{"$error":"#N/A"},{"$f":"IF(SUM(DQ$3091:DQ3879)>0,0,IF(MAX(DJ3880:DJ$4531)=MAX(DJ$3091:DJ$4531),0,IF(DH3880>0.03*DB$4532,0,$C3880/60)))","v":0},{"$f":"IF(SUM(DR$3091:DR3879)>0,0,IF(MAX(DJ3880:DJ$4531)=MAX(DJ$3091:DJ$4531),0,IF(DH3880>0.01*DB$4532,0,$C3880/60)))","v":0},0,0,0,0,0,0,0,0,0,{"$error":"#N/A"},{"$error":"#N/A"},{"$error":"#N/A"},{"$error":"#N/A"},{"$error":"#N/A"},{"$error":"#N/A"},{"$f":"IF(SUM(EH$3091:EH3879)>0,0,IF(MAX(EA3880:EA$4531)=MAX(EA$3091:EA$4531),0,IF(DY3880>0.03*DS$4532,0,$C3880/60)))","v":0},{"$f":"IF(SUM(EI$3091:EI3879)>0,0,IF(MAX(EA3880:EA$4531)=MAX(EA$3091:EA$4531),0,IF(DY3880>0.01*DS$4532,0,$C3880/60)))","v":0},0,0,0,0,0,0,0,0,0,{"$error":"#N/A"},{"$error":"#N/A"},{"$error":"#N/A"},{"$error":"#N/A"},{"$error":"#N/A"},{"$error":"#N/A"},{"$f":"IF(SUM(EY$3091:EY3879)>0,0,IF(MAX(ER3880:ER$4531)=MAX(ER$3091:ER$4531),0,IF(EP3880>0.03*EJ$4532,0,$C3880/60)))","v":0},{"$f":"IF(SUM(EZ$3091:EZ3879)>0,0,IF(MAX(ER3880:ER$4531)=MAX(ER$3091:ER$4531),0,IF(EP3880>0.01*EJ$4532,0,$C3880/60)))","v":0}]
[null,66.5,3990,0,0,0,0,0,0,0,0,0,{"$error":"#N/A"},{"$error":"#N/A"},{"$error":"#N/A"},{"$error":"#N/A"},{"$error":"#N/A"},{"$error":"#N/A"},{"$f":"IF(SUM(S$3091:S3888)>0,0,\nIF(MAX(L3889:L$4531)=MAX(L$3091:L$4531),0,\nIF(Hydrograph_Source_WQCV=\"USER\",IF(J3889>0.03*D$4532,0,$C3889/60),\nIF(J3889>0.03*J$4532,0,$C3889/60))))","v":0},{"$f":"IF(SUM(T$3091:T3888)>0,0,\nIF(MAX(L3889:L$4531)=MAX(L$3091:L$4531),0,\nIF(Hydrograph_Source_WQCV=\"USER\",IF(J3889>0.01*D$4532,0,$C3889/60),\nIF(J3889>0.01*J$4532,0,$C3889/60))))","v":0},0,0,0,0,0,0,0,0,0,{"$error":"#N/A"},{"$error":"#N/A"},{"$error":"#N/A"},{"$error":"#N/A"},{"$error":"#N/A"},{"$error":"#N/A"},{"$f":"IF(SUM(AJ$3091:AJ3888)>0,0,\nIF(MAX(AC3889:AC$4531)=MAX(AC$3091:AC$4531),0,\nIF(Hydrograph_Source_EURV=\"USER\",IF(AA3889>0.03*U$4532,0,$C3889/60),\nIF(AA3889>0.03*AA$4532,0,$C3889/60))))","v":0},{"$f":"IF(SUM(AK$3091:AK3888)>0,0,\nIF(MAX(AC3889:AC$4531)=MAX(AC$3091:AC$4531),0,\nIF(Hydrograph_Source_EURV=\"USER\",IF(AA3889>0.01*U$4532,0,$C3889/60),\nIF(AA3889>0.01*AA$4532,0,$C3889/60))))","v":0},0,0,0,0,0,0,0,0,0,{"$error":"#N/A"},{"$error":"#N/A"},{"$error":"#N/A"},{"$error":"#N/A"},{"$error":"#N/A"},{"$error":"#N/A"},{"$f":"IF(SUM(BA$3091:BA3888)>0,0,IF(MAX(AT3889:AT$4531)=MAX(AT$3091:AT$4531),0,IF(AR3889>0.03*AL$4532,0,$C3889/60)))","v":0},{"$f":"IF(SUM(BB$3091:BB3888)>0,0,IF(MAX(AT3889:AT$4531)=MAX(AT$3091:AT$4531),0,IF(AR3889>0.01*AL$4532,0,$C3889/60)))","v":0},0,0,0,0,0,0,0,0,0,{"$error":"#N/A"},{"$error":"#N/A"},{"$error":"#N/A"},{"$error":"#N/A"},{"$error":"#N/A"},{"$error":"#N/A"},{"$f":"IF(SUM(BR$3091:BR3888)>0,0,IF(MAX(BK3889:BK$4531)=MAX(BK$3091:BK$4531),0,IF(BI3889>0.03*BC$4532,0,$C3889/60)))","v":0},{"$f":"IF(SUM(BS$3091:BS3888)>0,0,IF(MAX(BK3889:BK$4531)=MAX(BK$3091:BK$4531),0,IF(BI3889>0.01*BC$4532,0,$C3889/60)))","v":0},0,0,0,0,0,0,0,0,0,{"$error":"#N/A"},{"$error":"#N/A"},{"$error":"#N/A"},{"$error":"#N/A"},{"$error":"#N/A"},{"$error":"#N/A"},{"$f":"IF(SUM(CI$3091:CI3888)>0,0,IF(MAX(CB3889:CB$4531)=MAX(CB$3091:CB$4531),0,IF(BZ3889>0.03*BT$4532,0,$C3889/60)))","v":0},{"$f":"IF(SUM(CJ$3091:CJ3888)>0,0,IF(MAX(CB3889:CB$4531)=MAX(CB$3091:CB$4531),0,IF(BZ3889>0.01*BT$4532,0,$C3889/60)))","v":0},0,0,0,0,0,0,0,0,0,{"$error":"#N/A"},{"$error":"#N/A"},{"$error":"#N/A"},{"$error":"#N/A"},{"$error":"#N/A"},{"$error":"#N/A"},{"$f":"IF(SUM(CZ$3091:CZ3888)>0,0,IF(MAX(CS3889:CS$4531)=MAX(CS$3091:CS$4531),0,IF(CQ3889>0.03*CK$4532,0,$C3889/60)))","v":0},{"$f":"IF(SUM(DA$3091:DA3888)>0,0,IF(MAX(CS3889:CS$4531)=MAX(CS$3091:CS$4531),0,IF(CQ3889>0.01*CK$4532,0,$C3889/60)))","v":0},0,0,0,0,0,0,0,0,0,{"$error":"#N/A"},{"$error":"#N/A"},{"$error":"#N/A"},{"$error":"#N/A"},{"$error":"#N/A"},{"$error":"#N/A"},{"$f":"IF(SUM(DQ$3091:DQ3888)>0,0,IF(MAX(DJ3889:DJ$4531)=MAX(DJ$3091:DJ$4531),0,IF(DH3889>0.03*DB$4532,0,$C3889/60)))","v":0},{"$f":"IF(SUM(DR$3091:DR3888)>0,0,IF(MAX(DJ3889:DJ$4531)=MAX(DJ$3091:DJ$4531),0,IF(DH3889>0.01*DB$4532,0,$C3889/60)))","v":0},0,0,0,0,0,0,0,0,0,{"$error":"#N/A"},{"$error":"#N/A"},{"$error":"#N/A"},{"$error":"#N/A"},{"$error":"#N/A"},{"$error":"#N/A"},{"$f":"IF(SUM(EH$3091:EH3888)>0,0,IF(MAX(EA3889:EA$4531)=MAX(EA$3091:EA$4531),0,IF(DY3889>0.03*DS$4532,0,$C3889/60)))","v":0},{"$f":"IF(SUM(EI$3091:EI3888)>0,0,IF(MAX(EA3889:EA$4531)=MAX(EA$3091:EA$4531),0,IF(DY3889>0.01*DS$4532,0,$C3889/60)))","v":0},0,0,0,0,0,0,0,0,0,{"$error":"#N/A"},{"$error":"#N/A"},{"$error":"#N/A"},{"$error":"#N/A"},{"$error":"#N/A"},{"$error":"#N/A"},{"$f":"IF(SUM(EY$3091:EY3888)>0,0,IF(MAX(ER3889:ER$4531)=MAX(ER$3091:ER$4531),0,IF(EP3889>0.03*EJ$4532,0,$C3889/60)))","v":0},{"$f":"IF(SUM(EZ$3091:EZ3888)>0,0,IF(MAX(ER3889:ER$4531)=MAX(ER$3091:ER$4531),0,IF(EP3889>0.01*EJ$4532,0,$C3889/60)))","v":0}]
[null,67.25,4035,0,0,0,0,0,0,0,0,0,{"$error":"#N/A"},{"$error":"#N/A"},{"$error":"#N/A"},{"$error":"#N/A"},{"$error":"#N/A"},{"$error":"#N/A"},{"$f":"IF(SUM(S$3091:S3897)>0,0,\nIF(MAX(L3898:L$4531)=MAX(L$3091:L$4531),0,\nIF(Hydrograph_Source_WQCV=\"USER\",IF(J3898>0.03*D$4532,0,$C3898/60),\nIF(J3898>0.03*J$4532,0,$C3898/60))))","v":0},{"$f":"IF(SUM(T$3091:T3897)>0,0,\nIF(MAX(L3898:L$4531)=MAX(L$3091:L$4531),0,\nIF(Hydrograph_Source_WQCV=\"USER\",IF(J3898>0.01*D$4532,0,$C3898/60),\nIF(J3898>0.01*J$4532,0,$C3898/60))))","v":0},0,0,0,0,0,0,0,0,0,{"$error":"#N/A"},{"$error":"#N/A"},{"$error":"#N/A"},{"$error":"#N/A"},{"$error":"#N/A"},{"$error":"#N/A"},{"$f":"IF(SUM(AJ$3091:AJ3897)>0,0,\nIF(MAX(AC3898:AC$4531)=MAX(AC$3091:AC$4531),0,\nIF(Hydrograph_Source_EURV=\"USER\",IF(AA3898>0.03*U$4532,0,$C3898/60),\nIF(AA3898>0.03*AA$4532,0,$C3898/60))))","v":0},{"$f":"IF(SUM(AK$3091:AK3897)>0,0,\nIF(MAX(AC3898:AC$4531)=MAX(AC$3091:AC$4531),0,\nIF(Hydrograph_Source_EURV=\"USER\",IF(AA3898>0.01*U$4532,0,$C3898/60),\nIF(AA3898>0.01*AA$4532,0,$C3898/60))))","v":0},0,0,0,0,0,0,0,0,0,{"$error":"#N/A"},{"$error":"#N/A"},{"$error":"#N/A"},{"$error":"#N/A"},{"$error":"#N/A"},{"$error":"#N/A"},{"$f":"IF(SUM(BA$3091:BA3897)>0,0,IF(MAX(AT3898:AT$4531)=MAX(AT$3091:AT$4531),0,IF(AR3898>0.03*AL$4532,0,$C3898/60)))","v":0},{"$f":"IF(SUM(BB$3091:BB3897)>0,0,IF(MAX(AT3898:AT$4531)=MAX(AT$3091:AT$4531),0,IF(AR3898>0.01*AL$4532,0,$C3898/60)))","v":0},0,0,0,0,0,0,0,0,0,{"$error":"#N/A"},{"$error":"#N/A"},{"$error":"#N/A"},{"$error":"#N/A"},{"$error":"#N/A"},{"$error":"#N/A"},{"$f":"IF(SUM(BR$3091:BR3897)>0,0,IF(MAX(BK3898:BK$4531)=MAX(BK$3091:BK$4531),0,IF(BI3898>0.03*BC$4532,0,$C3898/60)))","v":0},{"$f":"IF(SUM(BS$3091:BS3897)>0,0,IF(MAX(BK3898:BK$4531)=MAX(BK$3091:BK$4531),0,IF(BI3898>0.01*BC$4532,0,$C3898/60)))","v":0},0,0,0,0,0,0,0,0,0,{"$error":"#N/A"},{"$error":"#N/A"},{"$error":"#N/A"},{"$error":"#N/A"},{"$error":"#N/A"},{"$error":"#N/A"},{"$f":"IF(SUM(CI$3091:CI3897)>0,0,IF(MAX(CB3898:CB$4531)=MAX(CB$3091:CB$4531),0,IF(BZ3898>0.03*BT$4532,0,$C3898/60)))","v":0},{"$f":"IF(SUM(CJ$3091:CJ3897)>0,0,IF(MAX(CB3898:CB$4531)=MAX(CB$3091:CB$4531),0,IF(BZ3898>0.01*BT$4532,0,$C3898/60)))","v":0},0,0,0,0,0,0,0,0,0,{"$error":"#N/A"},{"$error":"#N/A"},{"$error":"#N/A"},{"$error":"#N/A"},{"$error":"#N/A"},{"$error":"#N/A"},{"$f":"IF(SUM(CZ$3091:CZ3897)>0,0,IF(MAX(CS3898:CS$4531)=MAX(CS$3091:CS$4531),0,IF(CQ3898>0.03*CK$4532,0,$C3898/60)))","v":0},{"$f":"IF(SUM(DA$3091:DA3897)>0,0,IF(MAX(CS3898:CS$4531)=MAX(CS$3091:CS$4531),0,IF(CQ3898>0.01*CK$4532,0,$C3898/60)))","v":0},0,0,0,0,0,0,0,0,0,{"$error":"#N/A"},{"$error":"#N/A"},{"$error":"#N/A"},{"$error":"#N/A"},{"$error":"#N/A"},{"$error":"#N/A"},{"$f":"IF(SUM(DQ$3091:DQ3897)>0,0,IF(MAX(DJ3898:DJ$4531)=MAX(DJ$3091:DJ$4531),0,IF(DH3898>0.03*DB$4532,0,$C3898/60)))","v":0},{"$f":"IF(SUM(DR$3091:DR3897)>0,0,IF(MAX(DJ3898:DJ$4531)=MAX(DJ$3091:DJ$4531),0,IF(DH3898>0.01*DB$4532,0,$C3898/60)))","v":0},0,0,0,0,0,0,0,0,0,{"$error":"#N/A"},{"$error":"#N/A"},{"$error":"#N/A"},{"$error":"#N/A"},{"$error":"#N/A"},{"$error":"#N/A"},{"$f":"IF(SUM(EH$3091:EH3897)>0,0,IF(MAX(EA3898:EA$4531)=MAX(EA$3091:EA$4531),0,IF(DY3898>0.03*DS$4532,0,$C3898/60)))","v":0},{"$f":"IF(SUM(EI$3091:EI3897)>0,0,IF(MAX(EA3898:EA$4531)=MAX(EA$3091:EA$4531),0,IF(DY3898>0.01*DS$4532,0,$C3898/60)))","v":0},0,0,0,0,0,0,0,0,0,{"$error":"#N/A"},{"$error":"#N/A"},{"$error":"#N/A"},{"$error":"#N/A"},{"$error":"#N/A"},{"$error":"#N/A"},{"$f":"IF(SUM(EY$3091:EY3897)>0,0,IF(MAX(ER3898:ER$4531)=MAX(ER$3091:ER$4531),0,IF(EP3898>0.03*EJ$4532,0,$C3898/60)))","v":0},{"$f":"IF(SUM(EZ$3091:EZ3897)>0,0,IF(MAX(ER3898:ER$4531)=MAX(ER$3091:ER$4531),0,IF(EP3898>0.01*EJ$4532,0,$C3898/60)))","v":0}]
[null,68,4080,0,0,0,0,0,0,0,0,0,{"$error":"#N/A"},{"$error":"#N/A"},{"$error":"#N/A"},{"$error":"#N/A"},{"$error":"#N/A"},{"$error":"#N/A"},{"$f":"IF(SUM(S$3091:S3906)>0,0,\nIF(MAX(L3907:L$4531)=MAX(L$3091:L$4531),0,\nIF(Hydrograph_Source_WQCV=\"USER\",IF(J3907>0.03*D$4532,0,$C3907/60),\nIF(J3907>0.03*J$4532,0,$C3907/60))))","v":0},{"$f":"IF(SUM(T$3091:T3906)>0,0,\nIF(MAX(L3907:L$4531)=MAX(L$3091:L$4531),0,\nIF(Hydrograph_Source_WQCV=\"USER\",IF(J3907>0.01*D$4532,0,$C3907/60),\nIF(J3907>0.01*J$4532,0,$C3907/60))))","v":0},0,0,0,0,0,0,0,0,0,{"$error":"#N/A"},{"$error":"#N/A"},{"$error":"#N/A"},{"$error":"#N/A"},{"$error":"#N/A"},{"$error":"#N/A"},{"$f":"IF(SUM(AJ$3091:AJ3906)>0,0,\nIF(MAX(AC3907:AC$4531)=MAX(AC$3091:AC$4531),0,\nIF(Hydrograph_Source_EURV=\"USER\",IF(AA3907>0.03*U$4532,0,$C3907/60),\nIF(AA3907>0.03*AA$4532,0,$C3907/60))))","v":0},{"$f":"IF(SUM(AK$3091:AK3906)>0,0,\nIF(MAX(AC3907:AC$4531)=MAX(AC$3091:AC$4531),0,\nIF(Hydrograph_Source_EURV=\"USER\",IF(AA3907>0.01*U$4532,0,$C3907/60),\nIF(AA3907>0.01*AA$4532,0,$C3907/60))))","v":0},0,0,0,0,0,0,0,0,0,{"$error":"#N/A"},{"$error":"#N/A"},{"$error":"#N/A"},{"$error":"#N/A"},{"$error":"#N/A"},{"$error":"#N/A"},{"$f":"IF(SUM(BA$3091:BA3906)>0,0,IF(MAX(AT3907:AT$4531)=MAX(AT$3091:AT$4531),0,IF(AR3907>0.03*AL$4532,0,$C3907/60)))","v":0},{"$f":"IF(SUM(BB$3091:BB3906)>0,0,IF(MAX(AT3907:AT$4531)=MAX(AT$3091:AT$4531),0,IF(AR3907>0.01*AL$4532,0,$C3907/60)))","v":0},0,0,0,0,0,0,0,0,0,{"$error":"#N/A"},{"$error":"#N/A"},{"$error":"#N/A"},{"$error":"#N/A"},{"$error":"#N/A"},{"$error":"#N/A"},{"$f":"IF(SUM(BR$3091:BR3906)>0,0,IF(MAX(BK3907:BK$4531)=MAX(BK$3091:BK$4531),0,IF(BI3907>0.03*BC$4532,0,$C3907/60)))","v":0},{"$f":"IF(SUM(BS$3091:BS3906)>0,0,IF(MAX(BK3907:BK$4531)=MAX(BK$3091:BK$4531),0,IF(BI3907>0.01*BC$4532,0,$C3907/60)))","v":0},0,0,0,0,0,0,0,0,0,{"$error":"#N/A"},{"$error":"#N/A"},{"$error":"#N/A"},{"$error":"#N/A"},{"$error":"#N/A"},{"$error":"#N/A"},{"$f":"IF(SUM(CI$3091:CI3906)>0,0,IF(MAX(CB3907:CB$4531)=MAX(CB$3091:CB$4531),0,IF(BZ3907>0.03*BT$4532,0,$C3907/60)))","v":0},{"$f":"IF(SUM(CJ$3091:CJ3906)>0,0,IF(MAX(CB3907:CB$4531)=MAX(CB$3091:CB$4531),0,IF(BZ3907>0.01*BT$4532,0,$C3907/60)))","v":0},0,0,0,0,0,0,0,0,0,{"$error":"#N/A"},{"$error":"#N/A"},{"$error":"#N/A"},{"$error":"#N/A"},{"$error":"#N/A"},{"$error":"#N/A"},{"$f":"IF(SUM(CZ$3091:CZ3906)>0,0,IF(MAX(CS3907:CS$4531)=MAX(CS$3091:CS$4531),0,IF(CQ3907>0.03*CK$4532,0,$C3907/60)))","v":0},{"$f":"IF(SUM(DA$3091:DA3906)>0,0,IF(MAX(CS3907:CS$4531)=MAX(CS$3091:CS$4531),0,IF(CQ3907>0.01*CK$4532,0,$C3907/60)))","v":0},0,0,0,0,0,0,0,0,0,{"$error":"#N/A"},{"$error":"#N/A"},{"$error":"#N/A"},{"$error":"#N/A"},{"$error":"#N/A"},{"$error":"#N/A"},{"$f":"IF(SUM(DQ$3091:DQ3906)>0,0,IF(MAX(DJ3907:DJ$4531)=MAX(DJ$3091:DJ$4531),0,IF(DH3907>0.03*DB$4532,0,$C3907/60)))","v":0},{"$f":"IF(SUM(DR$3091:DR3906)>0,0,IF(MAX(DJ3907:DJ$4531)=MAX(DJ$3091:DJ$4531),0,IF(DH3907>0.01*DB$4532,0,$C3907/60)))","v":0},0,0,0,0,0,0,0,0,0,{"$error":"#N/A"},{"$error":"#N/A"},{"$error":"#N/A"},{"$error":"#N/A"},{"$error":"#N/A"},{"$error":"#N/A"},{"$f":"IF(SUM(EH$3091:EH3906)>0,0,IF(MAX(EA3907:EA$4531)=MAX(EA$3091:EA$4531),0,IF(DY3907>0.03*DS$4532,0,$C3907/60)))","v":0},{"$f":"IF(SUM(EI$3091:EI3906)>0,0,IF(MAX(EA3907:EA$4531)=MAX(EA$3091:EA$4531),0,IF(DY3907>0.01*DS$4532,0,$C3907/60)))","v":0},0,0,0,0,0,0,0,0,0,{"$error":"#N/A"},{"$error":"#N/A"},{"$error":"#N/A"},{"$error":"#N/A"},{"$error":"#N/A"},{"$error":"#N/A"},{"$f":"IF(SUM(EY$3091:EY3906)>0,0,IF(MAX(ER3907:ER$4531)=MAX(ER$3091:ER$4531),0,IF(EP3907>0.03*EJ$4532,0,$C3907/60)))","v":0},{"$f":"IF(SUM(EZ$3091:EZ3906)>0,0,IF(MAX(ER3907:ER$4531)=MAX(ER$3091:ER$4531),0,IF(EP3907>0.01*EJ$4532,0,$C3907/60)))","v":0}]
[null,68.75,4125,0,0,0,0,0,0,0,0,0,{"$error":"#N/A"},{"$error":"#N/A"},{"$error":"#N/A"},{"$error":"#N/A"},{"$error":"#N/A"},{"$error":"#N/A"},{"$f":"IF(SUM(S$3091:S3915)>0,0,\nIF(MAX(L3916:L$4531)=MAX(L$3091:L$4531),0,\nIF(Hydrograph_Source_WQCV=\"USER\",IF(J3916>0.03*D$4532,0,$C3916/60),\nIF(J3916>0.03*J$4532,0,$C3916/60))))","v":0},{"$f":"IF(SUM(T$3091:T3915)>0,0,\nIF(MAX(L3916:L$4531)=MAX(L$3091:L$4531),0,\nIF(Hydrograph_Source_WQCV=\"USER\",IF(J3916>0.01*D$4532,0,$C3916/60),\nIF(J3916>0.01*J$4532,0,$C3916/60))))","v":0},0,0,0,0,0,0,0,0,0,{"$error":"#N/A"},{"$error":"#N/A"},{"$error":"#N/A"},{"$error":"#N/A"},{"$error":"#N/A"},{"$error":"#N/A"},{"$f":"IF(SUM(AJ$3091:AJ3915)>0,0,\nIF(MAX(AC3916:AC$4531)=MAX(AC$3091:AC$4531),0,\nIF(Hydrograph_Source_EURV=\"USER\",IF(AA3916>0.03*U$4532,0,$C3916/60),\nIF(AA3916>0.03*AA$4532,0,$C3916/60))))","v":0},{"$f":"IF(SUM(AK$3091:AK3915)>0,0,\nIF(MAX(AC3916:AC$4531)=MAX(AC$3091:AC$4531),0,\nIF(Hydrograph_Source_EURV=\"USER\",IF(AA3916>0.01*U$4532,0,$C3916/60),\nIF(AA3916>0.01*AA$4532,0,$C3916/60))))","v":0},0,0,0,0,0,0,0,0,0,{"$error":"#N/A"},{"$error":"#N/A"},{"$error":"#N/A"},{"$error":"#N/A"},{"$error":"#N/A"},{"$error":"#N/A"},{"$f":"IF(SUM(BA$3091:BA3915)>0,0,IF(MAX(AT3916:AT$4531)=MAX(AT$3091:AT$4531),0,IF(AR3916>0.03*AL$4532,0,$C3916/60)))","v":0},{"$f":"IF(SUM(BB$3091:BB3915)>0,0,IF(MAX(AT3916:AT$4531)=MAX(AT$3091:AT$4531),0,IF(AR3916>0.01*AL$4532,0,$C3916/60)))","v":0},0,0,0,0,0,0,0,0,0,{"$error":"#N/A"},{"$error":"#N/A"},{"$error":"#N/A"},{"$error":"#N/A"},{"$error":"#N/A"},{"$error":"#N/A"},{"$f":"IF(SUM(BR$3091:BR3915)>0,0,IF(MAX(BK3916:BK$4531)=MAX(BK$3091:BK$4531),0,IF(BI3916>0.03*BC$4532,0,$C3916/60)))","v":0},{"$f":"IF(SUM(BS$3091:BS3915)>0,0,IF(MAX(BK3916:BK$4531)=MAX(BK$3091:BK$4531),0,IF(BI3916>0.01*BC$4532,0,$C3916/60)))","v":0},0,0,0,0,0,0,0,0,0,{"$error":"#N/A"},{"$error":"#N/A"},{"$error":"#N/A"},{"$error":"#N/A"},{"$error":"#N/A"},{"$error":"#N/A"},{"$f":"IF(SUM(CI$3091:CI3915)>0,0,IF(MAX(CB3916:CB$4531)=MAX(CB$3091:CB$4531),0,IF(BZ3916>0.03*BT$4532,0,$C3916/60)))","v":0},{"$f":"IF(SUM(CJ$3091:CJ3915)>0,0,IF(MAX(CB3916:CB$4531)=MAX(CB$3091:CB$4531),0,IF(BZ3916>0.01*BT$4532,0,$C3916/60)))","v":0},0,0,0,0,0,0,0,0,0,{"$error":"#N/A"},{"$error":"#N/A"},{"$error":"#N/A"},{"$error":"#N/A"},{"$error":"#N/A"},{"$error":"#N/A"},{"$f":"IF(SUM(CZ$3091:CZ3915)>0,0,IF(MAX(CS3916:CS$4531)=MAX(CS$3091:CS$4531),0,IF(CQ3916>0.03*CK$4532,0,$C3916/60)))","v":0},{"$f":"IF(SUM(DA$3091:DA3915)>0,0,IF(MAX(CS3916:CS$4531)=MAX(CS$3091:CS$4531),0,IF(CQ3916>0.01*CK$4532,0,$C3916/60)))","v":0},0,0,0,0,0,0,0,0,0,{"$error":"#N/A"},{"$error":"#N/A"},{"$error":"#N/A"},{"$error":"#N/A"},{"$error":"#N/A"},{"$error":"#N/A"},{"$f":"IF(SUM(DQ$3091:DQ3915)>0,0,IF(MAX(DJ3916:DJ$4531)=MAX(DJ$3091:DJ$4531),0,IF(DH3916>0.03*DB$4532,0,$C3916/60)))","v":0},{"$f":"IF(SUM(DR$3091:DR3915)>0,0,IF(MAX(DJ3916:DJ$4531)=MAX(DJ$3091:DJ$4531),0,IF(DH3916>0.01*DB$4532,0,$C3916/60)))","v":0},0,0,0,0,0,0,0,0,0,{"$error":"#N/A"},{"$error":"#N/A"},{"$error":"#N/A"},{"$error":"#N/A"},{"$error":"#N/A"},{"$error":"#N/A"},{"$f":"IF(SUM(EH$3091:EH3915)>0,0,IF(MAX(EA3916:EA$4531)=MAX(EA$3091:EA$4531),0,IF(DY3916>0.03*DS$4532,0,$C3916/60)))","v":0},{"$f":"IF(SUM(EI$3091:EI3915)>0,0,IF(MAX(EA3916:EA$4531)=MAX(EA$3091:EA$4531),0,IF(DY3916>0.01*DS$4532,0,$C3916/60)))","v":0},0,0,0,0,0,0,0,0,0,{"$error":"#N/A"},{"$error":"#N/A"},{"$error":"#N/A"},{"$error":"#N/A"},{"$error":"#N/A"},{"$error":"#N/A"},{"$f":"IF(SUM(EY$3091:EY3915)>0,0,IF(MAX(ER3916:ER$4531)=MAX(ER$3091:ER$4531),0,IF(EP3916>0.03*EJ$4532,0,$C3916/60)))","v":0},{"$f":"IF(SUM(EZ$3091:EZ3915)>0,0,IF(MAX(ER3916:ER$4531)=MAX(ER$3091:ER$4531),0,IF(EP3916>0.01*EJ$4532,0,$C3916/60)))","v":0}]
[null,69.5,{"$f":"ROUND(C3924+$C$3089,2)","v":4170},0,0,0,0,0,0,0,0,0,{"$error":"#N/A"},{"$error":"#N/A"},{"$error":"#N/A"},{"$error":"#N/A"},{"$error":"#N/A"},{"$error":"#N/A"},{"$f":"IF(SUM(S$3091:S3924)>0,0,\nIF(MAX(L3925:L$4531)=MAX(L$3091:L$4531),0,\nIF(Hydrograph_Source_WQCV=\"USER\",IF(J3925>0.03*D$4532,0,$C3925/60),\nIF(J3925>0.03*J$4532,0,$C3925/60))))","v":0},{"$f":"IF(SUM(T$3091:T3924)>0,0,\nIF(MAX(L3925:L$4531)=MAX(L$3091:L$4531),0,\nIF(Hydrograph_Source_WQCV=\"USER\",IF(J3925>0.01*D$4532,0,$C3925/60),\nIF(J3925>0.01*J$4532,0,$C3925/60))))","v":0},0,0,0,0,0,0,0,0,0,{"$error":"#N/A"},{"$error":"#N/A"},{"$error":"#N/A"},{"$error":"#N/A"},{"$error":"#N/A"},{"$error":"#N/A"},{"$f":"IF(SUM(AJ$3091:AJ3924)>0,0,\nIF(MAX(AC3925:AC$4531)=MAX(AC$3091:AC$4531),0,\nIF(Hydrograph_Source_EURV=\"USER\",IF(AA3925>0.03*U$4532,0,$C3925/60),\nIF(AA3925>0.03*AA$4532,0,$C3925/60))))","v":0},{"$f":"IF(SUM(AK$3091:AK3924)>0,0,\nIF(MAX(AC3925:AC$4531)=MAX(AC$3091:AC$4531),0,\nIF(Hydrograph_Source_EURV=\"USER\",IF(AA3925>0.01*U$4532,0,$C3925/60),\nIF(AA3925>0.01*AA$4532,0,$C3925/60))))","v":0},0,0,0,0,0,0,0,0,0,{"$error":"#N/A"},{"$error":"#N/A"},{"$error":"#N/A"},{"$error":"#N/A"},{"$error":"#N/A"},{"$error":"#N/A"},{"$f":"IF(SUM(BA$3091:BA3924)>0,0,IF(MAX(AT3925:AT$4531)=MAX(AT$3091:AT$4531),0,IF(AR3925>0.03*AL$4532,0,$C3925/60)))","v":0},{"$f":"IF(SUM(BB$3091:BB3924)>0,0,IF(MAX(AT3925:AT$4531)=MAX(AT$3091:AT$4531),0,IF(AR3925>0.01*AL$4532,0,$C3925/60)))","v":0},0,0,0,0,0,0,0,0,0,{"$error":"#N/A"},{"$error":"#N/A"},{"$error":"#N/A"},{"$error":"#N/A"},{"$error":"#N/A"},{"$error":"#N/A"},{"$f":"IF(SUM(BR$3091:BR3924)>0,0,IF(MAX(BK3925:BK$4531)=MAX(BK$3091:BK$4531),0,IF(BI3925>0.03*BC$4532,0,$C3925/60)))","v":0},{"$f":"IF(SUM(BS$3091:BS3924)>0,0,IF(MAX(BK3925:BK$4531)=MAX(BK$3091:BK$4531),0,IF(BI3925>0.01*BC$4532,0,$C3925/60)))","v":0},0,0,0,0,0,0,0,0,0,{"$error":"#N/A"},{"$error":"#N/A"},{"$error":"#N/A"},{"$error":"#N/A"},{"$error":"#N/A"},{"$error":"#N/A"},{"$f":"IF(SUM(CI$3091:CI3924)>0,0,IF(MAX(CB3925:CB$4531)=MAX(CB$3091:CB$4531),0,IF(BZ3925>0.03*BT$4532,0,$C3925/60)))","v":0},{"$f":"IF(SUM(CJ$3091:CJ3924)>0,0,IF(MAX(CB3925:CB$4531)=MAX(CB$3091:CB$4531),0,IF(BZ3925>0.01*BT$4532,0,$C3925/60)))","v":0},0,0,0,0,0,0,0,0,0,{"$error":"#N/A"},{"$error":"#N/A"},{"$error":"#N/A"},{"$error":"#N/A"},{"$error":"#N/A"},{"$error":"#N/A"},{"$f":"IF(SUM(CZ$3091:CZ3924)>0,0,IF(MAX(CS3925:CS$4531)=MAX(CS$3091:CS$4531),0,IF(CQ3925>0.03*CK$4532,0,$C3925/60)))","v":0},{"$f":"IF(SUM(DA$3091:DA3924)>0,0,IF(MAX(CS3925:CS$4531)=MAX(CS$3091:CS$4531),0,IF(CQ3925>0.01*CK$4532,0,$C3925/60)))","v":0},0,0,0,0,0,0,0,0,0,{"$error":"#N/A"},{"$error":"#N/A"},{"$error":"#N/A"},{"$error":"#N/A"},{"$error":"#N/A"},{"$error":"#N/A"},{"$f":"IF(SUM(DQ$3091:DQ3924)>0,0,IF(MAX(DJ3925:DJ$4531)=MAX(DJ$3091:DJ$4531),0,IF(DH3925>0.03*DB$4532,0,$C3925/60)))","v":0},{"$f":"IF(SUM(DR$3091:DR3924)>0,0,IF(MAX(DJ3925:DJ$4531)=MAX(DJ$3091:DJ$4531),0,IF(DH3925>0.01*DB$4532,0,$C3925/60)))","v":0},0,0,0,0,0,0,0,0,0,{"$error":"#N/A"},{"$error":"#N/A"},{"$error":"#N/A"},{"$error":"#N/A"},{"$error":"#N/A"},{"$error":"#N/A"},{"$f":"IF(SUM(EH$3091:EH3924)>0,0,IF(MAX(EA3925:EA$4531)=MAX(EA$3091:EA$4531),0,IF(DY3925>0.03*DS$4532,0,$C3925/60)))","v":0},{"$f":"IF(SUM(EI$3091:EI3924)>0,0,IF(MAX(EA3925:EA$4531)=MAX(EA$3091:EA$4531),0,IF(DY3925>0.01*DS$4532,0,$C3925/60)))","v":0},0,0,0,0,0,0,0,0,0,{"$error":"#N/A"},{"$error":"#N/A"},{"$error":"#N/A"},{"$error":"#N/A"},{"$error":"#N/A"},{"$error":"#N/A"},{"$f":"IF(SUM(EY$3091:EY3924)>0,0,IF(MAX(ER3925:ER$4531)=MAX(ER$3091:ER$4531),0,IF(EP3925>0.03*EJ$4532,0,$C3925/60)))","v":0},{"$f":"IF(SUM(EZ$3091:EZ3924)>0,0,IF(MAX(ER3925:ER$4531)=MAX(ER$3091:ER$4531),0,IF(EP3925>0.01*EJ$4532,0,$C3925/60)))","v":0}]
[null,70.25,4215,0,0,0,0,0,0,0,0,0,{"$error":"#N/A"},{"$error":"#N/A"},{"$error":"#N/A"},{"$error":"#N/A"},{"$error":"#N/A"},{"$error":"#N/A"},{"$f":"IF(SUM(S$3091:S3933)>0,0,\nIF(MAX(L3934:L$4531)=MAX(L$3091:L$4531),0,\nIF(Hydrograph_Source_WQCV=\"USER\",IF(J3934>0.03*D$4532,0,$C3934/60),\nIF(J3934>0.03*J$4532,0,$C3934/60))))","v":0},{"$f":"IF(SUM(T$3091:T3933)>0,0,\nIF(MAX(L3934:L$4531)=MAX(L$3091:L$4531),0,\nIF(Hydrograph_Source_WQCV=\"USER\",IF(J3934>0.01*D$4532,0,$C3934/60),\nIF(J3934>0.01*J$4532,0,$C3934/60))))","v":0},0,0,0,0,0,0,0,0,0,{"$error":"#N/A"},{"$error":"#N/A"},{"$error":"#N/A"},{"$error":"#N/A"},{"$error":"#N/A"},{"$error":"#N/A"},{"$f":"IF(SUM(AJ$3091:AJ3933)>0,0,\nIF(MAX(AC3934:AC$4531)=MAX(AC$3091:AC$4531),0,\nIF(Hydrograph_Source_EURV=\"USER\",IF(AA3934>0.03*U$4532,0,$C3934/60),\nIF(AA3934>0.03*AA$4532,0,$C3934/60))))","v":0},{"$f":"IF(SUM(AK$3091:AK3933)>0,0,\nIF(MAX(AC3934:AC$4531)=MAX(AC$3091:AC$4531),0,\nIF(Hydrograph_Source_EURV=\"USER\",IF(AA3934>0.01*U$4532,0,$C3934/60),\nIF(AA3934>0.01*AA$4532,0,$C3934/60))))","v":0},0,0,0,0,0,0,0,0,0,{"$error":"#N/A"},{"$error":"#N/A"},{"$error":"#N/A"},{"$error":"#N/A"},{"$error":"#N/A"},{"$error":"#N/A"},{"$f":"IF(SUM(BA$3091:BA3933)>0,0,IF(MAX(AT3934:AT$4531)=MAX(AT$3091:AT$4531),0,IF(AR3934>0.03*AL$4532,0,$C3934/60)))","v":0},{"$f":"IF(SUM(BB$3091:BB3933)>0,0,IF(MAX(AT3934:AT$4531)=MAX(AT$3091:AT$4531),0,IF(AR3934>0.01*AL$4532,0,$C3934/60)))","v":0},0,0,0,0,0,0,0,0,0,{"$error":"#N/A"},{"$error":"#N/A"},{"$error":"#N/A"},{"$error":"#N/A"},{"$error":"#N/A"},{"$error":"#N/A"},{"$f":"IF(SUM(BR$3091:BR3933)>0,0,IF(MAX(BK3934:BK$4531)=MAX(BK$3091:BK$4531),0,IF(BI3934>0.03*BC$4532,0,$C3934/60)))","v":0},{"$f":"IF(SUM(BS$3091:BS3933)>0,0,IF(MAX(BK3934:BK$4531)=MAX(BK$3091:BK$4531),0,IF(BI3934>0.01*BC$4532,0,$C3934/60)))","v":0},0,0,0,0,0,0,0,0,0,{"$error":"#N/A"},{"$error":"#N/A"},{"$error":"#N/A"},{"$error":"#N/A"},{"$error":"#N/A"},{"$error":"#N/A"},{"$f":"IF(SUM(CI$3091:CI3933)>0,0,IF(MAX(CB3934:CB$4531)=MAX(CB$3091:CB$4531),0,IF(BZ3934>0.03*BT$4532,0,$C3934/60)))","v":0},{"$f":"IF(SUM(CJ$3091:CJ3933)>0,0,IF(MAX(CB3934:CB$4531)=MAX(CB$3091:CB$4531),0,IF(BZ3934>0.01*BT$4532,0,$C3934/60)))","v":0},0,0,0,0,0,0,0,0,0,{"$error":"#N/A"},{"$error":"#N/A"},{"$error":"#N/A"},{"$error":"#N/A"},{"$error":"#N/A"},{"$error":"#N/A"},{"$f":"IF(SUM(CZ$3091:CZ3933)>0,0,IF(MAX(CS3934:CS$4531)=MAX(CS$3091:CS$4531),0,IF(CQ3934>0.03*CK$4532,0,$C3934/60)))","v":0},{"$f":"IF(SUM(DA$3091:DA3933)>0,0,IF(MAX(CS3934:CS$4531)=MAX(CS$3091:CS$4531),0,IF(CQ3934>0.01*CK$4532,0,$C3934/60)))","v":0},0,0,0,0,0,0,0,0,0,{"$error":"#N/A"},{"$error":"#N/A"},{"$error":"#N/A"},{"$error":"#N/A"},{"$error":"#N/A"},{"$error":"#N/A"},{"$f":"IF(SUM(DQ$3091:DQ3933)>0,0,IF(MAX(DJ3934:DJ$4531)=MAX(DJ$3091:DJ$4531),0,IF(DH3934>0.03*DB$4532,0,$C3934/60)))","v":0},{"$f":"IF(SUM(DR$3091:DR3933)>0,0,IF(MAX(DJ3934:DJ$4531)=MAX(DJ$3091:DJ$4531),0,IF(DH3934>0.01*DB$4532,0,$C3934/60)))","v":0},0,0,0,0,0,0,0,0,0,{"$error":"#N/A"},{"$error":"#N/A"},{"$error":"#N/A"},{"$error":"#N/A"},{"$error":"#N/A"},{"$error":"#N/A"},{"$f":"IF(SUM(EH$3091:EH3933)>0,0,IF(MAX(EA3934:EA$4531)=MAX(EA$3091:EA$4531),0,IF(DY3934>0.03*DS$4532,0,$C3934/60)))","v":0},{"$f":"IF(SUM(EI$3091:EI3933)>0,0,IF(MAX(EA3934:EA$4531)=MAX(EA$3091:EA$4531),0,IF(DY3934>0.01*DS$4532,0,$C3934/60)))","v":0},0,0,0,0,0,0,0,0,0,{"$error":"#N/A"},{"$error":"#N/A"},{"$error":"#N/A"},{"$error":"#N/A"},{"$error":"#N/A"},{"$error":"#N/A"},{"$f":"IF(SUM(EY$3091:EY3933)>0,0,IF(MAX(ER3934:ER$4531)=MAX(ER$3091:ER$4531),0,IF(EP3934>0.03*EJ$4532,0,$C3934/60)))","v":0},{"$f":"IF(SUM(EZ$3091:EZ3933)>0,0,IF(MAX(ER3934:ER$4531)=MAX(ER$3091:ER$4531),0,IF(EP3934>0.01*EJ$4532,0,$C3934/60)))","v":0}]
[null,70.333333333333329,4220,0,0,0,0,0,0,0,0,0,{"$error":"#N/A"},{"$error":"#N/A"},{"$error":"#N/A"},{"$error":"#N/A"},{"$error":"#N/A"},{"$error":"#N/A"},{"$f":"IF(SUM(S$3091:S3934)>0,0,\nIF(MAX(L3935:L$4531)=MAX(L$3091:L$4531),0,\nIF(Hydrograph_Source_WQCV=\"USER\",IF(J3935>0.03*D$4532,0,$C3935/60),\nIF(J3935>0.03*J$4532,0,$C3935/60))))","v":0},{"$f":"IF(SUM(T$3091:T3934)>0,0,\nIF(MAX(L3935:L$4531)=MAX(L$3091:L$4531),0,\nIF(Hydrograph_Source_WQCV=\"USER\",IF(J3935>0.01*D$4532,0,$C3935/60),\nIF(J3935>0.01*J$4532,0,$C3935/60))))","v":0},0,0,0,0,0,0,0,0,0,{"$error":"#N/A"},{"$error":"#N/A"},{"$error":"#N/A"},{"$error":"#N/A"},{"$error":"#N/A"},{"$error":"#N/A"},{"$f":"IF(SUM(AJ$3091:AJ3934)>0,0,\nIF(MAX(AC3935:AC$4531)=MAX(AC$3091:AC$4531),0,\nIF(Hydrograph_Source_EURV=\"USER\",IF(AA3935>0.03*U$4532,0,$C3935/60),\nIF(AA3935>0.03*AA$4532,0,$C3935/60))))","v":0},{"$f":"IF(SUM(AK$3091:AK3934)>0,0,\nIF(MAX(AC3935:AC$4531)=MAX(AC$3091:AC$4531),0,\nIF(Hydrograph_Source_EURV=\"USER\",IF(AA3935>0.01*U$4532,0,$C3935/60),\nIF(AA3935>0.01*AA$4532,0,$C3935/60))))","v":0},0,0,0,0,0,0,0,0,0,{"$error":"#N/A"},{"$error":"#N/A"},{"$error":"#N/A"},{"$error":"#N/A"},{"$error":"#N/A"},{"$error":"#N/A"},{"$f":"IF(SUM(BA$3091:BA3934)>0,0,IF(MAX(AT3935:AT$4531)=MAX(AT$3091:AT$4531),0,IF(AR3935>0.03*AL$4532,0,$C3935/60)))","v":0},{"$f":"IF(SUM(BB$3091:BB3934)>0,0,IF(MAX(AT3935:AT$4531)=MAX(AT$3091:AT$4531),0,IF(AR3935>0.01*AL$4532,0,$C3935/60)))","v":0},0,0,0,0,0,0,0,0,0,{"$error":"#N/A"},{"$error":"#N/A"},{"$error":"#N/A"},{"$error":"#N/A"},{"$error":"#N/A"},{"$error":"#N/A"},{"$f":"IF(SUM(BR$3091:BR3934)>0,0,IF(MAX(BK3935:BK$4531)=MAX(BK$3091:BK$4531),0,IF(BI3935>0.03*BC$4532,0,$C3935/60)))","v":0},{"$f":"IF(SUM(BS$3091:BS3934)>0,0,IF(MAX(BK3935:BK$4531)=MAX(BK$3091:BK$4531),0,IF(BI3935>0.01*BC$4532,0,$C3935/60)))","v":0},0,0,0,0,0,0,0,0,0,{"$error":"#N/A"},{"$error":"#N/A"},{"$error":"#N/A"},{"$error":"#N/A"},{"$error":"#N/A"},{"$error":"#N/A"},{"$f":"IF(SUM(CI$3091:CI3934)>0,0,IF(MAX(CB3935:CB$4531)=MAX(CB$3091:CB$4531),0,IF(BZ3935>0.03*BT$4532,0,$C3935/60)))","v":0},{"$f":"IF(SUM(CJ$3091:CJ3934)>0,0,IF(MAX(CB3935:CB$4531)=MAX(CB$3091:CB$4531),0,IF(BZ3935>0.01*BT$4532,0,$C3935/60)))","v":0},0,0,0,0,0,0,0,0,0,{"$error":"#N/A"},{"$error":"#N/A"},{"$error":"#N/A"},{"$error":"#N/A"},{"$error":"#N/A"},{"$error":"#N/A"},{"$f":"IF(SUM(CZ$3091:CZ3934)>0,0,IF(MAX(CS3935:CS$4531)=MAX(CS$3091:CS$4531),0,IF(CQ3935>0.03*CK$4532,0,$C3935/60)))","v":0},{"$f":"IF(SUM(DA$3091:DA3934)>0,0,IF(MAX(CS3935:CS$4531)=MAX(CS$3091:CS$4531),0,IF(CQ3935>0.01*CK$4532,0,$C3935/60)))","v":0},0,0,0,0,0,0,0,0,0,{"$error":"#N/A"},{"$error":"#N/A"},{"$error":"#N/A"},{"$error":"#N/A"},{"$error":"#N/A"},{"$error":"#N/A"},{"$f":"IF(SUM(DQ$3091:DQ3934)>0,0,IF(MAX(DJ3935:DJ$4531)=MAX(DJ$3091:DJ$4531),0,IF(DH3935>0.03*DB$4532,0,$C3935/60)))","v":0},{"$f":"IF(SUM(DR$3091:DR3934)>0,0,IF(MAX(DJ3935:DJ$4531)=MAX(DJ$3091:DJ$4531),0,IF(DH3935>0.01*DB$4532,0,$C3935/60)))","v":0},0,0,0,0,0,0,0,0,0,{"$error":"#N/A"},{"$error":"#N/A"},{"$error":"#N/A"},{"$error":"#N/A"},{"$error":"#N/A"},{"$error":"#N/A"},{"$f":"IF(SUM(EH$3091:EH3934)>0,0,IF(MAX(EA3935:EA$4531)=MAX(EA$3091:EA$4531),0,IF(DY3935>0.03*DS$4532,0,$C3935/60)))","v":0},{"$f":"IF(SUM(EI$3091:EI3934)>0,0,IF(MAX(EA3935:EA$4531)=MAX(EA$3091:EA$4531),0,IF(DY3935>0.01*DS$4532,0,$C3935/60)))","v":0},0,0,0,0,0,0,0,0,0,{"$error":"#N/A"},{"$error":"#N/A"},{"$error":"#N/A"},{"$error":"#N/A"},{"$error":"#N/A"},{"$error":"#N/A"},{"$f":"IF(SUM(EY$3091:EY3934)>0,0,IF(MAX(ER3935:ER$4531)=MAX(ER$3091:ER$4531),0,IF(EP3935>0.03*EJ$4532,0,$C3935/60)))","v":0},{"$f":"IF(SUM(EZ$3091:EZ3934)>0,0,IF(MAX(ER3935:ER$4531)=MAX(ER$3091:ER$4531),0,IF(EP3935>0.01*EJ$4532,0,$C3935/60)))","v":0}]
[null,71.083333333333329,4265,0,0,0,0,0,0,0,0,0,{"$error":"#N/A"},{"$error":"#N/A"},{"$error":"#N/A"},{"$error":"#N/A"},{"$error":"#N/A"},{"$error":"#N/A"},{"$f":"IF(SUM(S$3091:S3943)>0,0,\nIF(MAX(L3944:L$4531)=MAX(L$3091:L$4531),0,\nIF(Hydrograph_Source_WQCV=\"USER\",IF(J3944>0.03*D$4532,0,$C3944/60),\nIF(J3944>0.03*J$4532,0,$C3944/60))))","v":0},{"$f":"IF(SUM(T$3091:T3943)>0,0,\nIF(MAX(L3944:L$4531)=MAX(L$3091:L$4531),0,\nIF(Hydrograph_Source_WQCV=\"USER\",IF(J3944>0.01*D$4532,0,$C3944/60),\nIF(J3944>0.01*J$4532,0,$C3944/60))))","v":0},0,0,0,0,0,0,0,0,0,{"$error":"#N/A"},{"$error":"#N/A"},{"$error":"#N/A"},{"$error":"#N/A"},{"$error":"#N/A"},{"$error":"#N/A"},{"$f":"IF(SUM(AJ$3091:AJ3943)>0,0,\nIF(MAX(AC3944:AC$4531)=MAX(AC$3091:AC$4531),0,\nIF(Hydrograph_Source_EURV=\"USER\",IF(AA3944>0.03*U$4532,0,$C3944/60),\nIF(AA3944>0.03*AA$4532,0,$C3944/60))))","v":0},{"$f":"IF(SUM(AK$3091:AK3943)>0,0,\nIF(MAX(AC3944:AC$4531)=MAX(AC$3091:AC$4531),0,\nIF(Hydrograph_Source_EURV=\"USER\",IF(AA3944>0.01*U$4532,0,$C3944/60),\nIF(AA3944>0.01*AA$4532,0,$C3944/60))))","v":0},0,0,0,0,0,0,0,0,0,{"$error":"#N/A"},{"$error":"#N/A"},{"$error":"#N/A"},{"$error":"#N/A"},{"$error":"#N/A"},{"$error":"#N/A"},{"$f":"IF(SUM(BA$3091:BA3943)>0,0,IF(MAX(AT3944:AT$4531)=MAX(AT$3091:AT$4531),0,IF(AR3944>0.03*AL$4532,0,$C3944/60)))","v":0},{"$f":"IF(SUM(BB$3091:BB3943)>0,0,IF(MAX(AT3944:AT$4531)=MAX(AT$3091:AT$4531),0,IF(AR3944>0.01*AL$4532,0,$C3944/60)))","v":0},0,0,0,0,0,0,0,0,0,{"$error":"#N/A"},{"$error":"#N/A"},{"$error":"#N/A"},{"$error":"#N/A"},{"$error":"#N/A"},{"$error":"#N/A"},{"$f":"IF(SUM(BR$3091:BR3943)>0,0,IF(MAX(BK3944:BK$4531)=MAX(BK$3091:BK$4531),0,IF(BI3944>0.03*BC$4532,0,$C3944/60)))","v":0},{"$f":"IF(SUM(BS$3091:BS3943)>0,0,IF(MAX(BK3944:BK$4531)=MAX(BK$3091:BK$4531),0,IF(BI3944>0.01*BC$4532,0,$C3944/60)))","v":0},0,0,0,0,0,0,0,0,0,{"$error":"#N/A"},{"$error":"#N/A"},{"$error":"#N/A"},{"$error":"#N/A"},{"$error":"#N/A"},{"$error":"#N/A"},{"$f":"IF(SUM(CI$3091:CI3943)>0,0,IF(MAX(CB3944:CB$4531)=MAX(CB$3091:CB$4531),0,IF(BZ3944>0.03*BT$4532,0,$C3944/60)))","v":0},{"$f":"IF(SUM(CJ$3091:CJ3943)>0,0,IF(MAX(CB3944:CB$4531)=MAX(CB$3091:CB$4531),0,IF(BZ3944>0.01*BT$4532,0,$C3944/60)))","v":0},0,0,0,0,0,0,0,0,0,{"$error":"#N/A"},{"$error":"#N/A"},{"$error":"#N/A"},{"$error":"#N/A"},{"$error":"#N/A"},{"$error":"#N/A"},{"$f":"IF(SUM(CZ$3091:CZ3943)>0,0,IF(MAX(CS3944:CS$4531)=MAX(CS$3091:CS$4531),0,IF(CQ3944>0.03*CK$4532,0,$C3944/60)))","v":0},{"$f":"IF(SUM(DA$3091:DA3943)>0,0,IF(MAX(CS3944:CS$4531)=MAX(CS$3091:CS$4531),0,IF(CQ3944>0.01*CK$4532,0,$C3944/60)))","v":0},0,0,0,0,0,0,0,0,0,{"$error":"#N/A"},{"$error":"#N/A"},{"$error":"#N/A"},{"$error":"#N/A"},{"$error":"#N/A"},{"$error":"#N/A"},{"$f":"IF(SUM(DQ$3091:DQ3943)>0,0,IF(MAX(DJ3944:DJ$4531)=MAX(DJ$3091:DJ$4531),0,IF(DH3944>0.03*DB$4532,0,$C3944/60)))","v":0},{"$f":"IF(SUM(DR$3091:DR3943)>0,0,IF(MAX(DJ3944:DJ$4531)=MAX(DJ$3091:DJ$4531),0,IF(DH3944>0.01*DB$4532,0,$C3944/60)))","v":0},0,0,0,0,0,0,0,0,0,{"$error":"#N/A"},{"$error":"#N/A"},{"$error":"#N/A"},{"$error":"#N/A"},{"$error":"#N/A"},{"$error":"#N/A"},{"$f":"IF(SUM(EH$3091:EH3943)>0,0,IF(MAX(EA3944:EA$4531)=MAX(EA$3091:EA$4531),0,IF(DY3944>0.03*DS$4532,0,$C3944/60)))","v":0},{"$f":"IF(SUM(EI$3091:EI3943)>0,0,IF(MAX(EA3944:EA$4531)=MAX(EA$3091:EA$4531),0,IF(DY3944>0.01*DS$4532,0,$C3944/60)))","v":0},0,0,0,0,0,0,0,0,0,{"$error":"#N/A"},{"$error":"#N/A"},{"$error":"#N/A"},{"$error":"#N/A"},{"$error":"#N/A"},{"$error":"#N/A"},{"$f":"IF(SUM(EY$3091:EY3943)>0,0,IF(MAX(ER3944:ER$4531)=MAX(ER$3091:ER$4531),0,IF(EP3944>0.03*EJ$4532,0,$C3944/60)))","v":0},{"$f":"IF(SUM(EZ$3091:EZ3943)>0,0,IF(MAX(ER3944:ER$4531)=MAX(ER$3091:ER$4531),0,IF(EP3944>0.01*EJ$4532,0,$C3944/60)))","v":0}]
[null,71.833333333333329,4310,0,0,0,0,0,0,0,0,0,{"$error":"#N/A"},{"$error":"#N/A"},{"$error":"#N/A"},{"$error":"#N/A"},{"$error":"#N/A"},{"$error":"#N/A"},{"$f":"IF(SUM(S$3091:S3952)>0,0,\nIF(MAX(L3953:L$4531)=MAX(L$3091:L$4531),0,\nIF(Hydrograph_Source_WQCV=\"USER\",IF(J3953>0.03*D$4532,0,$C3953/60),\nIF(J3953>0.03*J$4532,0,$C3953/60))))","v":0},{"$f":"IF(SUM(T$3091:T3952)>0,0,\nIF(MAX(L3953:L$4531)=MAX(L$3091:L$4531),0,\nIF(Hydrograph_Source_WQCV=\"USER\",IF(J3953>0.01*D$4532,0,$C3953/60),\nIF(J3953>0.01*J$4532,0,$C3953/60))))","v":0},0,0,0,0,0,0,0,0,0,{"$error":"#N/A"},{"$error":"#N/A"},{"$error":"#N/A"},{"$error":"#N/A"},{"$error":"#N/A"},{"$error":"#N/A"},{"$f":"IF(SUM(AJ$3091:AJ3952)>0,0,\nIF(MAX(AC3953:AC$4531)=MAX(AC$3091:AC$4531),0,\nIF(Hydrograph_Source_EURV=\"USER\",IF(AA3953>0.03*U$4532,0,$C3953/60),\nIF(AA3953>0.03*AA$4532,0,$C3953/60))))","v":0},{"$f":"IF(SUM(AK$3091:AK3952)>0,0,\nIF(MAX(AC3953:AC$4531)=MAX(AC$3091:AC$4531),0,\nIF(Hydrograph_Source_EURV=\"USER\",IF(AA3953>0.01*U$4532,0,$C3953/60),\nIF(AA3953>0.01*AA$4532,0,$C3953/60))))","v":0},0,0,0,0,0,0,0,0,0,{"$error":"#N/A"},{"$error":"#N/A"},{"$error":"#N/A"},{"$error":"#N/A"},{"$error":"#N/A"},{"$error":"#N/A"},{"$f":"IF(SUM(BA$3091:BA3952)>0,0,IF(MAX(AT3953:AT$4531)=MAX(AT$3091:AT$4531),0,IF(AR3953>0.03*AL$4532,0,$C3953/60)))","v":0},{"$f":"IF(SUM(BB$3091:BB3952)>0,0,IF(MAX(AT3953:AT$4531)=MAX(AT$3091:AT$4531),0,IF(AR3953>0.01*AL$4532,0,$C3953/60)))","v":0},0,0,0,0,0,0,0,0,0,{"$error":"#N/A"},{"$error":"#N/A"},{"$error":"#N/A"},{"$error":"#N/A"},{"$error":"#N/A"},{"$error":"#N/A"},{"$f":"IF(SUM(BR$3091:BR3952)>0,0,IF(MAX(BK3953:BK$4531)=MAX(BK$3091:BK$4531),0,IF(BI3953>0.03*BC$4532,0,$C3953/60)))","v":0},{"$f":"IF(SUM(BS$3091:BS3952)>0,0,IF(MAX(BK3953:BK$4531)=MAX(BK$3091:BK$4531),0,IF(BI3953>0.01*BC$4532,0,$C3953/60)))","v":0},0,0,0,0,0,0,0,0,0,{"$error":"#N/A"},{"$error":"#N/A"},{"$error":"#N/A"},{"$error":"#N/A"},{"$error":"#N/A"},{"$error":"#N/A"},{"$f":"IF(SUM(CI$3091:CI3952)>0,0,IF(MAX(CB3953:CB$4531)=MAX(CB$3091:CB$4531),0,IF(BZ3953>0.03*BT$4532,0,$C3953/60)))","v":0},{"$f":"IF(SUM(CJ$3091:CJ3952)>0,0,IF(MAX(CB3953:CB$4531)=MAX(CB$3091:CB$4531),0,IF(BZ3953>0.01*BT$4532,0,$C3953/60)))","v":0},0,0,0,0,0,0,0,0,0,{"$error":"#N/A"},{"$error":"#N/A"},{"$error":"#N/A"},{"$error":"#N/A"},{"$error":"#N/A"},{"$error":"#N/A"},{"$f":"IF(SUM(CZ$3091:CZ3952)>0,0,IF(MAX(CS3953:CS$4531)=MAX(CS$3091:CS$4531),0,IF(CQ3953>0.03*CK$4532,0,$C3953/60)))","v":0},{"$f":"IF(SUM(DA$3091:DA3952)>0,0,IF(MAX(CS3953:CS$4531)=MAX(CS$3091:CS$4531),0,IF(CQ3953>0.01*CK$4532,0,$C3953/60)))","v":0},0,0,0,0,0,0,0,0,0,{"$error":"#N/A"},{"$error":"#N/A"},{"$error":"#N/A"},{"$error":"#N/A"},{"$error":"#N/A"},{"$error":"#N/A"},{"$f":"IF(SUM(DQ$3091:DQ3952)>0,0,IF(MAX(DJ3953:DJ$4531)=MAX(DJ$3091:DJ$4531),0,IF(DH3953>0.03*DB$4532,0,$C3953/60)))","v":0},{"$f":"IF(SUM(DR$3091:DR3952)>0,0,IF(MAX(DJ3953:DJ$4531)=MAX(DJ$3091:DJ$4531),0,IF(DH3953>0.01*DB$4532,0,$C3953/60)))","v":0},0,0,0,0,0,0,0,0,0,{"$error":"#N/A"},{"$error":"#N/A"},{"$error":"#N/A"},{"$error":"#N/A"},{"$error":"#N/A"},{"$error":"#N/A"},{"$f":"IF(SUM(EH$3091:EH3952)>0,0,IF(MAX(EA3953:EA$4531)=MAX(EA$3091:EA$4531),0,IF(DY3953>0.03*DS$4532,0,$C3953/60)))","v":0},{"$f":"IF(SUM(EI$3091:EI3952)>0,0,IF(MAX(EA3953:EA$4531)=MAX(EA$3091:EA$4531),0,IF(DY3953>0.01*DS$4532,0,$C3953/60)))","v":0},0,0,0,0,0,0,0,0,0,{"$error":"#N/A"},{"$error":"#N/A"},{"$error":"#N/A"},{"$error":"#N/A"},{"$error":"#N/A"},{"$error":"#N/A"},{"$f":"IF(SUM(EY$3091:EY3952)>0,0,IF(MAX(ER3953:ER$4531)=MAX(ER$3091:ER$4531),0,IF(EP3953>0.03*EJ$4532,0,$C3953/60)))","v":0},{"$f":"IF(SUM(EZ$3091:EZ3952)>0,0,IF(MAX(ER3953:ER$4531)=MAX(ER$3091:ER$4531),0,IF(EP3953>0.01*EJ$4532,0,$C3953/60)))","v":0}]
[null,72.583333333333329,4355,0,0,0,0,0,0,0,0,0,{"$error":"#N/A"},{"$error":"#N/A"},{"$error":"#N/A"},{"$error":"#N/A"},{"$error":"#N/A"},{"$error":"#N/A"},{"$f":"IF(SUM(S$3091:S3961)>0,0,\nIF(MAX(L3962:L$4531)=MAX(L$3091:L$4531),0,\nIF(Hydrograph_Source_WQCV=\"USER\",IF(J3962>0.03*D$4532,0,$C3962/60),\nIF(J3962>0.03*J$4532,0,$C3962/60))))","v":0},{"$f":"IF(SUM(T$3091:T3961)>0,0,\nIF(MAX(L3962:L$4531)=MAX(L$3091:L$4531),0,\nIF(Hydrograph_Source_WQCV=\"USER\",IF(J3962>0.01*D$4532,0,$C3962/60),\nIF(J3962>0.01*J$4532,0,$C3962/60))))","v":0},0,0,0,0,0,0,0,0,0,{"$error":"#N/A"},{"$error":"#N/A"},{"$error":"#N/A"},{"$error":"#N/A"},{"$error":"#N/A"},{"$error":"#N/A"},{"$f":"IF(SUM(AJ$3091:AJ3961)>0,0,\nIF(MAX(AC3962:AC$4531)=MAX(AC$3091:AC$4531),0,\nIF(Hydrograph_Source_EURV=\"USER\",IF(AA3962>0.03*U$4532,0,$C3962/60),\nIF(AA3962>0.03*AA$4532,0,$C3962/60))))","v":0},{"$f":"IF(SUM(AK$3091:AK3961)>0,0,\nIF(MAX(AC3962:AC$4531)=MAX(AC$3091:AC$4531),0,\nIF(Hydrograph_Source_EURV=\"USER\",IF(AA3962>0.01*U$4532,0,$C3962/60),\nIF(AA3962>0.01*AA$4532,0,$C3962/60))))","v":0},0,0,0,0,0,0,0,0,0,{"$error":"#N/A"},{"$error":"#N/A"},{"$error":"#N/A"},{"$error":"#N/A"},{"$error":"#N/A"},{"$error":"#N/A"},{"$f":"IF(SUM(BA$3091:BA3961)>0,0,IF(MAX(AT3962:AT$4531)=MAX(AT$3091:AT$4531),0,IF(AR3962>0.03*AL$4532,0,$C3962/60)))","v":0},{"$f":"IF(SUM(BB$3091:BB3961)>0,0,IF(MAX(AT3962:AT$4531)=MAX(AT$3091:AT$4531),0,IF(AR3962>0.01*AL$4532,0,$C3962/60)))","v":0},0,0,0,0,0,0,0,0,0,{"$error":"#N/A"},{"$error":"#N/A"},{"$error":"#N/A"},{"$error":"#N/A"},{"$error":"#N/A"},{"$error":"#N/A"},{"$f":"IF(SUM(BR$3091:BR3961)>0,0,IF(MAX(BK3962:BK$4531)=MAX(BK$3091:BK$4531),0,IF(BI3962>0.03*BC$4532,0,$C3962/60)))","v":0},{"$f":"IF(SUM(BS$3091:BS3961)>0,0,IF(MAX(BK3962:BK$4531)=MAX(BK$3091:BK$4531),0,IF(BI3962>0.01*BC$4532,0,$C3962/60)))","v":0},0,0,0,0,0,0,0,0,0,{"$error":"#N/A"},{"$error":"#N/A"},{"$error":"#N/A"},{"$error":"#N/A"},{"$error":"#N/A"},{"$error":"#N/A"},{"$f":"IF(SUM(CI$3091:CI3961)>0,0,IF(MAX(CB3962:CB$4531)=MAX(CB$3091:CB$4531),0,IF(BZ3962>0.03*BT$4532,0,$C3962/60)))","v":0},{"$f":"IF(SUM(CJ$3091:CJ3961)>0,0,IF(MAX(CB3962:CB$4531)=MAX(CB$3091:CB$4531),0,IF(BZ3962>0.01*BT$4532,0,$C3962/60)))","v":0},0,0,0,0,0,0,0,0,0,{"$error":"#N/A"},{"$error":"#N/A"},{"$error":"#N/A"},{"$error":"#N/A"},{"$error":"#N/A"},{"$error":"#N/A"},{"$f":"IF(SUM(CZ$3091:CZ3961)>0,0,IF(MAX(CS3962:CS$4531)=MAX(CS$3091:CS$4531),0,IF(CQ3962>0.03*CK$4532,0,$C3962/60)))","v":0},{"$f":"IF(SUM(DA$3091:DA3961)>0,0,IF(MAX(CS3962:CS$4531)=MAX(CS$3091:CS$4531),0,IF(CQ3962>0.01*CK$4532,0,$C3962/60)))","v":0},0,0,0,0,0,0,0,0,0,{"$error":"#N/A"},{"$error":"#N/A"},{"$error":"#N/A"},{"$error":"#N/A"},{"$error":"#N/A"},{"$error":"#N/A"},{"$f":"IF(SUM(DQ$3091:DQ3961)>0,0,IF(MAX(DJ3962:DJ$4531)=MAX(DJ$3091:DJ$4531),0,IF(DH3962>0.03*DB$4532,0,$C3962/60)))","v":0},{"$f":"IF(SUM(DR$3091:DR3961)>0,0,IF(MAX(DJ3962:DJ$4531)=MAX(DJ$3091:DJ$4531),0,IF(DH3962>0.01*DB$4532,0,$C3962/60)))","v":0},0,0,0,0,0,0,0,0,0,{"$error":"#N/A"},{"$error":"#N/A"},{"$error":"#N/A"},{"$error":"#N/A"},{"$error":"#N/A"},{"$error":"#N/A"},{"$f":"IF(SUM(EH$3091:EH3961)>0,0,IF(MAX(EA3962:EA$4531)=MAX(EA$3091:EA$4531),0,IF(DY3962>0.03*DS$4532,0,$C3962/60)))","v":0},{"$f":"IF(SUM(EI$3091:EI3961)>0,0,IF(MAX(EA3962:EA$4531)=MAX(EA$3091:EA$4531),0,IF(DY3962>0.01*DS$4532,0,$C3962/60)))","v":0},0,0,0,0,0,0,0,0,0,{"$error":"#N/A"},{"$error":"#N/A"},{"$error":"#N/A"},{"$error":"#N/A"},{"$error":"#N/A"},{"$error":"#N/A"},{"$f":"IF(SUM(EY$3091:EY3961)>0,0,IF(MAX(ER3962:ER$4531)=MAX(ER$3091:ER$4531),0,IF(EP3962>0.03*EJ$4532,0,$C3962/60)))","v":0},{"$f":"IF(SUM(EZ$3091:EZ3961)>0,0,IF(MAX(ER3962:ER$4531)=MAX(ER$3091:ER$4531),0,IF(EP3962>0.01*EJ$4532,0,$C3962/60)))","v":0}]
[null,73.333333333333329,4400,0,0,0,0,0,0,0,0,0,{"$error":"#N/A"},{"$error":"#N/A"},{"$error":"#N/A"},{"$error":"#N/A"},{"$error":"#N/A"},{"$error":"#N/A"},{"$f":"IF(SUM(S$3091:S3970)>0,0,\nIF(MAX(L3971:L$4531)=MAX(L$3091:L$4531),0,\nIF(Hydrograph_Source_WQCV=\"USER\",IF(J3971>0.03*D$4532,0,$C3971/60),\nIF(J3971>0.03*J$4532,0,$C3971/60))))","v":0},{"$f":"IF(SUM(T$3091:T3970)>0,0,\nIF(MAX(L3971:L$4531)=MAX(L$3091:L$4531),0,\nIF(Hydrograph_Source_WQCV=\"USER\",IF(J3971>0.01*D$4532,0,$C3971/60),\nIF(J3971>0.01*J$4532,0,$C3971/60))))","v":0},0,0,0,0,0,0,0,0,0,{"$error":"#N/A"},{"$error":"#N/A"},{"$error":"#N/A"},{"$error":"#N/A"},{"$error":"#N/A"},{"$error":"#N/A"},{"$f":"IF(SUM(AJ$3091:AJ3970)>0,0,\nIF(MAX(AC3971:AC$4531)=MAX(AC$3091:AC$4531),0,\nIF(Hydrograph_Source_EURV=\"USER\",IF(AA3971>0.03*U$4532,0,$C3971/60),\nIF(AA3971>0.03*AA$4532,0,$C3971/60))))","v":0},{"$f":"IF(SUM(AK$3091:AK3970)>0,0,\nIF(MAX(AC3971:AC$4531)=MAX(AC$3091:AC$4531),0,\nIF(Hydrograph_Source_EURV=\"USER\",IF(AA3971>0.01*U$4532,0,$C3971/60),\nIF(AA3971>0.01*AA$4532,0,$C3971/60))))","v":0},0,0,0,0,0,0,0,0,0,{"$error":"#N/A"},{"$error":"#N/A"},{"$error":"#N/A"},{"$error":"#N/A"},{"$error":"#N/A"},{"$error":"#N/A"},{"$f":"IF(SUM(BA$3091:BA3970)>0,0,IF(MAX(AT3971:AT$4531)=MAX(AT$3091:AT$4531),0,IF(AR3971>0.03*AL$4532,0,$C3971/60)))","v":0},{"$f":"IF(SUM(BB$3091:BB3970)>0,0,IF(MAX(AT3971:AT$4531)=MAX(AT$3091:AT$4531),0,IF(AR3971>0.01*AL$4532,0,$C3971/60)))","v":0},0,0,0,0,0,0,0,0,0,{"$error":"#N/A"},{"$error":"#N/A"},{"$error":"#N/A"},{"$error":"#N/A"},{"$error":"#N/A"},{"$error":"#N/A"},{"$f":"IF(SUM(BR$3091:BR3970)>0,0,IF(MAX(BK3971:BK$4531)=MAX(BK$3091:BK$4531),0,IF(BI3971>0.03*BC$4532,0,$C3971/60)))","v":0},{"$f":"IF(SUM(BS$3091:BS3970)>0,0,IF(MAX(BK3971:BK$4531)=MAX(BK$3091:BK$4531),0,IF(BI3971>0.01*BC$4532,0,$C3971/60)))","v":0},0,0,0,0,0,0,0,0,0,{"$error":"#N/A"},{"$error":"#N/A"},{"$error":"#N/A"},{"$error":"#N/A"},{"$error":"#N/A"},{"$error":"#N/A"},{"$f":"IF(SUM(CI$3091:CI3970)>0,0,IF(MAX(CB3971:CB$4531)=MAX(CB$3091:CB$4531),0,IF(BZ3971>0.03*BT$4532,0,$C3971/60)))","v":0},{"$f":"IF(SUM(CJ$3091:CJ3970)>0,0,IF(MAX(CB3971:CB$4531)=MAX(CB$3091:CB$4531),0,IF(BZ3971>0.01*BT$4532,0,$C3971/60)))","v":0},0,0,0,0,0,0,0,0,0,{"$error":"#N/A"},{"$error":"#N/A"},{"$error":"#N/A"},{"$error":"#N/A"},{"$error":"#N/A"},{"$error":"#N/A"},{"$f":"IF(SUM(CZ$3091:CZ3970)>0,0,IF(MAX(CS3971:CS$4531)=MAX(CS$3091:CS$4531),0,IF(CQ3971>0.03*CK$4532,0,$C3971/60)))","v":0},{"$f":"IF(SUM(DA$3091:DA3970)>0,0,IF(MAX(CS3971:CS$4531)=MAX(CS$3091:CS$4531),0,IF(CQ3971>0.01*CK$4532,0,$C3971/60)))","v":0},0,0,0,0,0,0,0,0,0,{"$error":"#N/A"},{"$error":"#N/A"},{"$error":"#N/A"},{"$error":"#N/A"},{"$error":"#N/A"},{"$error":"#N/A"},{"$f":"IF(SUM(DQ$3091:DQ3970)>0,0,IF(MAX(DJ3971:DJ$4531)=MAX(DJ$3091:DJ$4531),0,IF(DH3971>0.03*DB$4532,0,$C3971/60)))","v":0},{"$f":"IF(SUM(DR$3091:DR3970)>0,0,IF(MAX(DJ3971:DJ$4531)=MAX(DJ$3091:DJ$4531),0,IF(DH3971>0.01*DB$4532,0,$C3971/60)))","v":0},0,0,0,0,0,0,0,0,0,{"$error":"#N/A"},{"$error":"#N/A"},{"$error":"#N/A"},{"$error":"#N/A"},{"$error":"#N/A"},{"$error":"#N/A"},{"$f":"IF(SUM(EH$3091:EH3970)>0,0,IF(MAX(EA3971:EA$4531)=MAX(EA$3091:EA$4531),0,IF(DY3971>0.03*DS$4532,0,$C3971/60)))","v":0},{"$f":"IF(SUM(EI$3091:EI3970)>0,0,IF(MAX(EA3971:EA$4531)=MAX(EA$3091:EA$4531),0,IF(DY3971>0.01*DS$4532,0,$C3971/60)))","v":0},0,0,0,0,0,0,0,0,0,{"$error":"#N/A"},{"$error":"#N/A"},{"$error":"#N/A"},{"$error":"#N/A"},{"$error":"#N/A"},{"$error":"#N/A"},{"$f":"IF(SUM(EY$3091:EY3970)>0,0,IF(MAX(ER3971:ER$4531)=MAX(ER$3091:ER$4531),0,IF(EP3971>0.03*EJ$4532,0,$C3971/60)))","v":0},{"$f":"IF(SUM(EZ$3091:EZ3970)>0,0,IF(MAX(ER3971:ER$4531)=MAX(ER$3091:ER$4531),0,IF(EP3971>0.01*EJ$4532,0,$C3971/60)))","v":0}]
[null,74.083333333333329,4445,0,0,0,0,0,0,0,0,0,{"$error":"#N/A"},{"$error":"#N/A"},{"$error":"#N/A"},{"$error":"#N/A"},{"$error":"#N/A"},{"$error":"#N/A"},{"$f":"IF(SUM(S$3091:S3979)>0,0,\nIF(MAX(L3980:L$4531)=MAX(L$3091:L$4531),0,\nIF(Hydrograph_Source_WQCV=\"USER\",IF(J3980>0.03*D$4532,0,$C3980/60),\nIF(J3980>0.03*J$4532,0,$C3980/60))))","v":0},{"$f":"IF(SUM(T$3091:T3979)>0,0,\nIF(MAX(L3980:L$4531)=MAX(L$3091:L$4531),0,\nIF(Hydrograph_Source_WQCV=\"USER\",IF(J3980>0.01*D$4532,0,$C3980/60),\nIF(J3980>0.01*J$4532,0,$C3980/60))))","v":0},0,0,0,0,0,0,0,0,0,{"$error":"#N/A"},{"$error":"#N/A"},{"$error":"#N/A"},{"$error":"#N/A"},{"$error":"#N/A"},{"$error":"#N/A"},{"$f":"IF(SUM(AJ$3091:AJ3979)>0,0,\nIF(MAX(AC3980:AC$4531)=MAX(AC$3091:AC$4531),0,\nIF(Hydrograph_Source_EURV=\"USER\",IF(AA3980>0.03*U$4532,0,$C3980/60),\nIF(AA3980>0.03*AA$4532,0,$C3980/60))))","v":0},{"$f":"IF(SUM(AK$3091:AK3979)>0,0,\nIF(MAX(AC3980:AC$4531)=MAX(AC$3091:AC$4531),0,\nIF(Hydrograph_Source_EURV=\"USER\",IF(AA3980>0.01*U$4532,0,$C3980/60),\nIF(AA3980>0.01*AA$4532,0,$C3980/60))))","v":0},0,0,0,0,0,0,0,0,0,{"$error":"#N/A"},{"$error":"#N/A"},{"$error":"#N/A"},{"$error":"#N/A"},{"$error":"#N/A"},{"$error":"#N/A"},{"$f":"IF(SUM(BA$3091:BA3979)>0,0,IF(MAX(AT3980:AT$4531)=MAX(AT$3091:AT$4531),0,IF(AR3980>0.03*AL$4532,0,$C3980/60)))","v":0},{"$f":"IF(SUM(BB$3091:BB3979)>0,0,IF(MAX(AT3980:AT$4531)=MAX(AT$3091:AT$4531),0,IF(AR3980>0.01*AL$4532,0,$C3980/60)))","v":0},0,0,0,0,0,0,0,0,0,{"$error":"#N/A"},{"$error":"#N/A"},{"$error":"#N/A"},{"$error":"#N/A"},{"$error":"#N/A"},{"$error":"#N/A"},{"$f":"IF(SUM(BR$3091:BR3979)>0,0,IF(MAX(BK3980:BK$4531)=MAX(BK$3091:BK$4531),0,IF(BI3980>0.03*BC$4532,0,$C3980/60)))","v":0},{"$f":"IF(SUM(BS$3091:BS3979)>0,0,IF(MAX(BK3980:BK$4531)=MAX(BK$3091:BK$4531),0,IF(BI3980>0.01*BC$4532,0,$C3980/60)))","v":0},0,0,0,0,0,0,0,0,0,{"$error":"#N/A"},{"$error":"#N/A"},{"$error":"#N/A"},{"$error":"#N/A"},{"$error":"#N/A"},{"$error":"#N/A"},{"$f":"IF(SUM(CI$3091:CI3979)>0,0,IF(MAX(CB3980:CB$4531)=MAX(CB$3091:CB$4531),0,IF(BZ3980>0.03*BT$4532,0,$C3980/60)))","v":0},{"$f":"IF(SUM(CJ$3091:CJ3979)>0,0,IF(MAX(CB3980:CB$4531)=MAX(CB$3091:CB$4531),0,IF(BZ3980>0.01*BT$4532,0,$C3980/60)))","v":0},0,0,0,0,0,0,0,0,0,{"$error":"#N/A"},{"$error":"#N/A"},{"$error":"#N/A"},{"$error":"#N/A"},{"$error":"#N/A"},{"$error":"#N/A"},{"$f":"IF(SUM(CZ$3091:CZ3979)>0,0,IF(MAX(CS3980:CS$4531)=MAX(CS$3091:CS$4531),0,IF(CQ3980>0.03*CK$4532,0,$C3980/60)))","v":0},{"$f":"IF(SUM(DA$3091:DA3979)>0,0,IF(MAX(CS3980:CS$4531)=MAX(CS$3091:CS$4531),0,IF(CQ3980>0.01*CK$4532,0,$C3980/60)))","v":0},0,0,0,0,0,0,0,0,0,{"$error":"#N/A"},{"$error":"#N/A"},{"$error":"#N/A"},{"$error":"#N/A"},{"$error":"#N/A"},{"$error":"#N/A"},{"$f":"IF(SUM(DQ$3091:DQ3979)>0,0,IF(MAX(DJ3980:DJ$4531)=MAX(DJ$3091:DJ$4531),0,IF(DH3980>0.03*DB$4532,0,$C3980/60)))","v":0},{"$f":"IF(SUM(DR$3091:DR3979)>0,0,IF(MAX(DJ3980:DJ$4531)=MAX(DJ$3091:DJ$4531),0,IF(DH3980>0.01*DB$4532,0,$C3980/60)))","v":0},0,0,0,0,0,0,0,0,0,{"$error":"#N/A"},{"$error":"#N/A"},{"$error":"#N/A"},{"$error":"#N/A"},{"$error":"#N/A"},{"$error":"#N/A"},{"$f":"IF(SUM(EH$3091:EH3979)>0,0,IF(MAX(EA3980:EA$4531)=MAX(EA$3091:EA$4531),0,IF(DY3980>0.03*DS$4532,0,$C3980/60)))","v":0},{"$f":"IF(SUM(EI$3091:EI3979)>0,0,IF(MAX(EA3980:EA$4531)=MAX(EA$3091:EA$4531),0,IF(DY3980>0.01*DS$4532,0,$C3980/60)))","v":0},0,0,0,0,0,0,0,0,0,{"$error":"#N/A"},{"$error":"#N/A"},{"$error":"#N/A"},{"$error":"#N/A"},{"$error":"#N/A"},{"$error":"#N/A"},{"$f":"IF(SUM(EY$3091:EY3979)>0,0,IF(MAX(ER3980:ER$4531)=MAX(ER$3091:ER$4531),0,IF(EP3980>0.03*EJ$4532,0,$C3980/60)))","v":0},{"$f":"IF(SUM(EZ$3091:EZ3979)>0,0,IF(MAX(ER3980:ER$4531)=MAX(ER$3091:ER$4531),0,IF(EP3980>0.01*EJ$4532,0,$C3980/60)))","v":0}]
[null,74.583333333333329,4475,0,0,0,0,0,0,0,0,0,{"$error":"#N/A"},{"$error":"#N/A"},{"$error":"#N/A"},{"$error":"#N/A"},{"$error":"#N/A"},{"$error":"#N/A"},{"$f":"IF(SUM(S$3091:S3985)>0,0,\nIF(MAX(L3986:L$4531)=MAX(L$3091:L$4531),0,\nIF(Hydrograph_Source_WQCV=\"USER\",IF(J3986>0.03*D$4532,0,$C3986/60),\nIF(J3986>0.03*J$4532,0,$C3986/60))))","v":0},{"$f":"IF(SUM(T$3091:T3985)>0,0,\nIF(MAX(L3986:L$4531)=MAX(L$3091:L$4531),0,\nIF(Hydrograph_Source_WQCV=\"USER\",IF(J3986>0.01*D$4532,0,$C3986/60),\nIF(J3986>0.01*J$4532,0,$C3986/60))))","v":0},0,0,0,0,0,0,0,0,0,{"$error":"#N/A"},{"$error":"#N/A"},{"$error":"#N/A"},{"$error":"#N/A"},{"$error":"#N/A"},{"$error":"#N/A"},{"$f":"IF(SUM(AJ$3091:AJ3985)>0,0,\nIF(MAX(AC3986:AC$4531)=MAX(AC$3091:AC$4531),0,\nIF(Hydrograph_Source_EURV=\"USER\",IF(AA3986>0.03*U$4532,0,$C3986/60),\nIF(AA3986>0.03*AA$4532,0,$C3986/60))))","v":0},{"$f":"IF(SUM(AK$3091:AK3985)>0,0,\nIF(MAX(AC3986:AC$4531)=MAX(AC$3091:AC$4531),0,\nIF(Hydrograph_Source_EURV=\"USER\",IF(AA3986>0.01*U$4532,0,$C3986/60),\nIF(AA3986>0.01*AA$4532,0,$C3986/60))))","v":0},0,0,0,0,0,0,0,0,0,{"$error":"#N/A"},{"$error":"#N/A"},{"$error":"#N/A"},{"$error":"#N/A"},{"$error":"#N/A"},{"$error":"#N/A"},{"$f":"IF(SUM(BA$3091:BA3985)>0,0,IF(MAX(AT3986:AT$4531)=MAX(AT$3091:AT$4531),0,IF(AR3986>0.03*AL$4532,0,$C3986/60)))","v":0},{"$f":"IF(SUM(BB$3091:BB3985)>0,0,IF(MAX(AT3986:AT$4531)=MAX(AT$3091:AT$4531),0,IF(AR3986>0.01*AL$4532,0,$C3986/60)))","v":0},0,0,0,0,0,0,0,0,0,{"$error":"#N/A"},{"$error":"#N/A"},{"$error":"#N/A"},{"$error":"#N/A"},{"$error":"#N/A"},{"$error":"#N/A"},{"$f":"IF(SUM(BR$3091:BR3985)>0,0,IF(MAX(BK3986:BK$4531)=MAX(BK$3091:BK$4531),0,IF(BI3986>0.03*BC$4532,0,$C3986/60)))","v":0},{"$f":"IF(SUM(BS$3091:BS3985)>0,0,IF(MAX(BK3986:BK$4531)=MAX(BK$3091:BK$4531),0,IF(BI3986>0.01*BC$4532,0,$C3986/60)))","v":0},0,0,0,0,0,0,0,0,0,{"$error":"#N/A"},{"$error":"#N/A"},{"$error":"#N/A"},{"$error":"#N/A"},{"$error":"#N/A"},{"$error":"#N/A"},{"$f":"IF(SUM(CI$3091:CI3985)>0,0,IF(MAX(CB3986:CB$4531)=MAX(CB$3091:CB$4531),0,IF(BZ3986>0.03*BT$4532,0,$C3986/60)))","v":0},{"$f":"IF(SUM(CJ$3091:CJ3985)>0,0,IF(MAX(CB3986:CB$4531)=MAX(CB$3091:CB$4531),0,IF(BZ3986>0.01*BT$4532,0,$C3986/60)))","v":0},0,0,0,0,0,0,0,0,0,{"$error":"#N/A"},{"$error":"#N/A"},{"$error":"#N/A"},{"$error":"#N/A"},{"$error":"#N/A"},{"$error":"#N/A"},{"$f":"IF(SUM(CZ$3091:CZ3985)>0,0,IF(MAX(CS3986:CS$4531)=MAX(CS$3091:CS$4531),0,IF(CQ3986>0.03*CK$4532,0,$C3986/60)))","v":0},{"$f":"IF(SUM(DA$3091:DA3985)>0,0,IF(MAX(CS3986:CS$4531)=MAX(CS$3091:CS$4531),0,IF(CQ3986>0.01*CK$4532,0,$C3986/60)))","v":0},0,0,0,0,0,0,0,0,0,{"$error":"#N/A"},{"$error":"#N/A"},{"$error":"#N/A"},{"$error":"#N/A"},{"$error":"#N/A"},{"$error":"#N/A"},{"$f":"IF(SUM(DQ$3091:DQ3985)>0,0,IF(MAX(DJ3986:DJ$4531)=MAX(DJ$3091:DJ$4531),0,IF(DH3986>0.03*DB$4532,0,$C3986/60)))","v":0},{"$f":"IF(SUM(DR$3091:DR3985)>0,0,IF(MAX(DJ3986:DJ$4531)=MAX(DJ$3091:DJ$4531),0,IF(DH3986>0.01*DB$4532,0,$C3986/60)))","v":0},0,0,0,0,0,0,0,0,0,{"$error":"#N/A"},{"$error":"#N/A"},{"$error":"#N/A"},{"$error":"#N/A"},{"$error":"#N/A"},{"$error":"#N/A"},{"$f":"IF(SUM(EH$3091:EH3985)>0,0,IF(MAX(EA3986:EA$4531)=MAX(EA$3091:EA$4531),0,IF(DY3986>0.03*DS$4532,0,$C3986/60)))","v":0},{"$f":"IF(SUM(EI$3091:EI3985)>0,0,IF(MAX(EA3986:EA$4531)=MAX(EA$3091:EA$4531),0,IF(DY3986>0.01*DS$4532,0,$C3986/60)))","v":0},0,0,0,0,0,0,0,0,0,{"$error":"#N/A"},{"$error":"#N/A"},{"$error":"#N/A"},{"$error":"#N/A"},{"$error":"#N/A"},{"$error":"#N/A"},{"$f":"IF(SUM(EY$3091:EY3985)>0,0,IF(MAX(ER3986:ER$4531)=MAX(ER$3091:ER$4531),0,IF(EP3986>0.03*EJ$4532,0,$C3986/60)))","v":0},{"$f":"IF(SUM(EZ$3091:EZ3985)>0,0,IF(MAX(ER3986:ER$4531)=MAX(ER$3091:ER$4531),0,IF(EP3986>0.01*EJ$4532,0,$C3986/60)))","v":0}]
[null,75.5,4530,0,0,0,0,0,0,0,0,0,{"$error":"#N/A"},{"$error":"#N/A"},{"$error":"#N/A"},{"$error":"#N/A"},{"$error":"#N/A"},{"$error":"#N/A"},{"$f":"IF(SUM(S$3091:S3996)>0,0,\nIF(MAX(L3997:L$4531)=MAX(L$3091:L$4531),0,\nIF(Hydrograph_Source_WQCV=\"USER\",IF(J3997>0.03*D$4532,0,$C3997/60),\nIF(J3997>0.03*J$4532,0,$C3997/60))))","v":0},{"$f":"IF(SUM(T$3091:T3996)>0,0,\nIF(MAX(L3997:L$4531)=MAX(L$3091:L$4531),0,\nIF(Hydrograph_Source_WQCV=\"USER\",IF(J3997>0.01*D$4532,0,$C3997/60),\nIF(J3997>0.01*J$4532,0,$C3997/60))))","v":0},0,0,0,0,0,0,0,0,0,{"$error":"#N/A"},{"$error":"#N/A"},{"$error":"#N/A"},{"$error":"#N/A"},{"$error":"#N/A"},{"$error":"#N/A"},{"$f":"IF(SUM(AJ$3091:AJ3996)>0,0,\nIF(MAX(AC3997:AC$4531)=MAX(AC$3091:AC$4531),0,\nIF(Hydrograph_Source_EURV=\"USER\",IF(AA3997>0.03*U$4532,0,$C3997/60),\nIF(AA3997>0.03*AA$4532,0,$C3997/60))))","v":0},{"$f":"IF(SUM(AK$3091:AK3996)>0,0,\nIF(MAX(AC3997:AC$4531)=MAX(AC$3091:AC$4531),0,\nIF(Hydrograph_Source_EURV=\"USER\",IF(AA3997>0.01*U$4532,0,$C3997/60),\nIF(AA3997>0.01*AA$4532,0,$C3997/60))))","v":0},0,0,0,0,0,0,0,0,0,{"$error":"#N/A"},{"$error":"#N/A"},{"$error":"#N/A"},{"$error":"#N/A"},{"$error":"#N/A"},{"$error":"#N/A"},{"$f":"IF(SUM(BA$3091:BA3996)>0,0,IF(MAX(AT3997:AT$4531)=MAX(AT$3091:AT$4531),0,IF(AR3997>0.03*AL$4532,0,$C3997/60)))","v":0},{"$f":"IF(SUM(BB$3091:BB3996)>0,0,IF(MAX(AT3997:AT$4531)=MAX(AT$3091:AT$4531),0,IF(AR3997>0.01*AL$4532,0,$C3997/60)))","v":0},0,0,0,0,0,0,0,0,0,{"$error":"#N/A"},{"$error":"#N/A"},{"$error":"#N/A"},{"$error":"#N/A"},{"$error":"#N/A"},{"$error":"#N/A"},{"$f":"IF(SUM(BR$3091:BR3996)>0,0,IF(MAX(BK3997:BK$4531)=MAX(BK$3091:BK$4531),0,IF(BI3997>0.03*BC$4532,0,$C3997/60)))","v":0},{"$f":"IF(SUM(BS$3091:BS3996)>0,0,IF(MAX(BK3997:BK$4531)=MAX(BK$3091:BK$4531),0,IF(BI3997>0.01*BC$4532,0,$C3997/60)))","v":0},0,0,0,0,0,0,0,0,0,{"$error":"#N/A"},{"$error":"#N/A"},{"$error":"#N/A"},{"$error":"#N/A"},{"$error":"#N/A"},{"$error":"#N/A"},{"$f":"IF(SUM(CI$3091:CI3996)>0,0,IF(MAX(CB3997:CB$4531)=MAX(CB$3091:CB$4531),0,IF(BZ3997>0.03*BT$4532,0,$C3997/60)))","v":0},{"$f":"IF(SUM(CJ$3091:CJ3996)>0,0,IF(MAX(CB3997:CB$4531)=MAX(CB$3091:CB$4531),0,IF(BZ3997>0.01*BT$4532,0,$C3997/60)))","v":0},0,0,0,0,0,0,0,0,0,{"$error":"#N/A"},{"$error":"#N/A"},{"$error":"#N/A"},{"$error":"#N/A"},{"$error":"#N/A"},{"$error":"#N/A"},{"$f":"IF(SUM(CZ$3091:CZ3996)>0,0,IF(MAX(CS3997:CS$4531)=MAX(CS$3091:CS$4531),0,IF(CQ3997>0.03*CK$4532,0,$C3997/60)))","v":0},{"$f":"IF(SUM(DA$3091:DA3996)>0,0,IF(MAX(CS3997:CS$4531)=MAX(CS$3091:CS$4531),0,IF(CQ3997>0.01*CK$4532,0,$C3997/60)))","v":0},0,0,0,0,0,0,0,0,0,{"$error":"#N/A"},{"$error":"#N/A"},{"$error":"#N/A"},{"$error":"#N/A"},{"$error":"#N/A"},{"$error":"#N/A"},{"$f":"IF(SUM(DQ$3091:DQ3996)>0,0,IF(MAX(DJ3997:DJ$4531)=MAX(DJ$3091:DJ$4531),0,IF(DH3997>0.03*DB$4532,0,$C3997/60)))","v":0},{"$f":"IF(SUM(DR$3091:DR3996)>0,0,IF(MAX(DJ3997:DJ$4531)=MAX(DJ$3091:DJ$4531),0,IF(DH3997>0.01*DB$4532,0,$C3997/60)))","v":0},0,0,0,0,0,0,0,0,0,{"$error":"#N/A"},{"$error":"#N/A"},{"$error":"#N/A"},{"$error":"#N/A"},{"$error":"#N/A"},{"$error":"#N/A"},{"$f":"IF(SUM(EH$3091:EH3996)>0,0,IF(MAX(EA3997:EA$4531)=MAX(EA$3091:EA$4531),0,IF(DY3997>0.03*DS$4532,0,$C3997/60)))","v":0},{"$f":"IF(SUM(EI$3091:EI3996)>0,0,IF(MAX(EA3997:EA$4531)=MAX(EA$3091:EA$4531),0,IF(DY3997>0.01*DS$4532,0,$C3997/60)))","v":0},0,0,0,0,0,0,0,0,0,{"$error":"#N/A"},{"$error":"#N/A"},{"$error":"#N/A"},{"$error":"#N/A"},{"$error":"#N/A"},{"$error":"#N/A"},{"$f":"IF(SUM(EY$3091:EY3996)>0,0,IF(MAX(ER3997:ER$4531)=MAX(ER$3091:ER$4531),0,IF(EP3997>0.03*EJ$4532,0,$C3997/60)))","v":0},{"$f":"IF(SUM(EZ$3091:EZ3996)>0,0,IF(MAX(ER3997:ER$4531)=MAX(ER$3091:ER$4531),0,IF(EP3997>0.01*EJ$4532,0,$C3997/60)))","v":0}]
[null,75.583333333333329,4535,0,0,0,0,0,0,0,0,0,{"$error":"#N/A"},{"$error":"#N/A"},{"$error":"#N/A"},{"$error":"#N/A"},{"$error":"#N/A"},{"$error":"#N/A"},{"$f":"IF(SUM(S$3091:S3997)>0,0,\nIF(MAX(L3998:L$4531)=MAX(L$3091:L$4531),0,\nIF(Hydrograph_Source_WQCV=\"USER\",IF(J3998>0.03*D$4532,0,$C3998/60),\nIF(J3998>0.03*J$4532,0,$C3998/60))))","v":0},{"$f":"IF(SUM(T$3091:T3997)>0,0,\nIF(MAX(L3998:L$4531)=MAX(L$3091:L$4531),0,\nIF(Hydrograph_Source_WQCV=\"USER\",IF(J3998>0.01*D$4532,0,$C3998/60),\nIF(J3998>0.01*J$4532,0,$C3998/60))))","v":0},0,0,0,0,0,0,0,0,0,{"$error":"#N/A"},{"$error":"#N/A"},{"$error":"#N/A"},{"$error":"#N/A"},{"$error":"#N/A"},{"$error":"#N/A"},{"$f":"IF(SUM(AJ$3091:AJ3997)>0,0,\nIF(MAX(AC3998:AC$4531)=MAX(AC$3091:AC$4531),0,\nIF(Hydrograph_Source_EURV=\"USER\",IF(AA3998>0.03*U$4532,0,$C3998/60),\nIF(AA3998>0.03*AA$4532,0,$C3998/60))))","v":0},{"$f":"IF(SUM(AK$3091:AK3997)>0,0,\nIF(MAX(AC3998:AC$4531)=MAX(AC$3091:AC$4531),0,\nIF(Hydrograph_Source_EURV=\"USER\",IF(AA3998>0.01*U$4532,0,$C3998/60),\nIF(AA3998>0.01*AA$4532,0,$C3998/60))))","v":0},0,0,0,0,0,0,0,0,0,{"$error":"#N/A"},{"$error":"#N/A"},{"$error":"#N/A"},{"$error":"#N/A"},{"$error":"#N/A"},{"$error":"#N/A"},{"$f":"IF(SUM(BA$3091:BA3997)>0,0,IF(MAX(AT3998:AT$4531)=MAX(AT$3091:AT$4531),0,IF(AR3998>0.03*AL$4532,0,$C3998/60)))","v":0},{"$f":"IF(SUM(BB$3091:BB3997)>0,0,IF(MAX(AT3998:AT$4531)=MAX(AT$3091:AT$4531),0,IF(AR3998>0.01*AL$4532,0,$C3998/60)))","v":0},0,0,0,0,0,0,0,0,0,{"$error":"#N/A"},{"$error":"#N/A"},{"$error":"#N/A"},{"$error":"#N/A"},{"$error":"#N/A"},{"$error":"#N/A"},{"$f":"IF(SUM(BR$3091:BR3997)>0,0,IF(MAX(BK3998:BK$4531)=MAX(BK$3091:BK$4531),0,IF(BI3998>0.03*BC$4532,0,$C3998/60)))","v":0},{"$f":"IF(SUM(BS$3091:BS3997)>0,0,IF(MAX(BK3998:BK$4531)=MAX(BK$3091:BK$4531),0,IF(BI3998>0.01*BC$4532,0,$C3998/60)))","v":0},0,0,0,0,0,0,0,0,0,{"$error":"#N/A"},{"$error":"#N/A"},{"$error":"#N/A"},{"$error":"#N/A"},{"$error":"#N/A"},{"$error":"#N/A"},{"$f":"IF(SUM(CI$3091:CI3997)>0,0,IF(MAX(CB3998:CB$4531)=MAX(CB$3091:CB$4531),0,IF(BZ3998>0.03*BT$4532,0,$C3998/60)))","v":0},{"$f":"IF(SUM(CJ$3091:CJ3997)>0,0,IF(MAX(CB3998:CB$4531)=MAX(CB$3091:CB$4531),0,IF(BZ3998>0.01*BT$4532,0,$C3998/60)))","v":0},0,0,0,0,0,0,0,0,0,{"$error":"#N/A"},{"$error":"#N/A"},{"$error":"#N/A"},{"$error":"#N/A"},{"$error":"#N/A"},{"$error":"#N/A"},{"$f":"IF(SUM(CZ$3091:CZ3997)>0,0,IF(MAX(CS3998:CS$4531)=MAX(CS$3091:CS$4531),0,IF(CQ3998>0.03*CK$4532,0,$C3998/60)))","v":0},{"$f":"IF(SUM(DA$3091:DA3997)>0,0,IF(MAX(CS3998:CS$4531)=MAX(CS$3091:CS$4531),0,IF(CQ3998>0.01*CK$4532,0,$C3998/60)))","v":0},0,0,0,0,0,0,0,0,0,{"$error":"#N/A"},{"$error":"#N/A"},{"$error":"#N/A"},{"$error":"#N/A"},{"$error":"#N/A"},{"$error":"#N/A"},{"$f":"IF(SUM(DQ$3091:DQ3997)>0,0,IF(MAX(DJ3998:DJ$4531)=MAX(DJ$3091:DJ$4531),0,IF(DH3998>0.03*DB$4532,0,$C3998/60)))","v":0},{"$f":"IF(SUM(DR$3091:DR3997)>0,0,IF(MAX(DJ3998:DJ$4531)=MAX(DJ$3091:DJ$4531),0,IF(DH3998>0.01*DB$4532,0,$C3998/60)))","v":0},0,0,0,0,0,0,0,0,0,{"$error":"#N/A"},{"$error":"#N/A"},{"$error":"#N/A"},{"$error":"#N/A"},{"$error":"#N/A"},{"$error":"#N/A"},{"$f":"IF(SUM(EH$3091:EH3997)>0,0,IF(MAX(EA3998:EA$4531)=MAX(EA$3091:EA$4531),0,IF(DY3998>0.03*DS$4532,0,$C3998/60)))","v":0},{"$f":"IF(SUM(EI$3091:EI3997)>0,0,IF(MAX(EA3998:EA$4531)=MAX(EA$3091:EA$4531),0,IF(DY3998>0.01*DS$4532,0,$C3998/60)))","v":0},0,0,0,0,0,0,0,0,0,{"$error":"#N/A"},{"$error":"#N/A"},{"$error":"#N/A"},{"$error":"#N/A"},{"$error":"#N/A"},{"$error":"#N/A"},{"$f":"IF(SUM(EY$3091:EY3997)>0,0,IF(MAX(ER3998:ER$4531)=MAX(ER$3091:ER$4531),0,IF(EP3998>0.03*EJ$4532,0,$C3998/60)))","v":0},{"$f":"IF(SUM(EZ$3091:EZ3997)>0,0,IF(MAX(ER3998:ER$4531)=MAX(ER$3091:ER$4531),0,IF(EP3998>0.01*EJ$4532,0,$C3998/60)))","v":0}]
[null,76.333333333333329,4580,0,0,0,0,0,0,0,0,0,{"$error":"#N/A"},{"$error":"#N/A"},{"$error":"#N/A"},{"$error":"#N/A"},{"$error":"#N/A"},{"$error":"#N/A"},{"$f":"IF(SUM(S$3091:S4006)>0,0,\nIF(MAX(L4007:L$4531)=MAX(L$3091:L$4531),0,\nIF(Hydrograph_Source_WQCV=\"USER\",IF(J4007>0.03*D$4532,0,$C4007/60),\nIF(J4007>0.03*J$4532,0,$C4007/60))))","v":0},{"$f":"IF(SUM(T$3091:T4006)>0,0,\nIF(MAX(L4007:L$4531)=MAX(L$3091:L$4531),0,\nIF(Hydrograph_Source_WQCV=\"USER\",IF(J4007>0.01*D$4532,0,$C4007/60),\nIF(J4007>0.01*J$4532,0,$C4007/60))))","v":0},0,0,0,0,0,0,0,0,0,{"$error":"#N/A"},{"$error":"#N/A"},{"$error":"#N/A"},{"$error":"#N/A"},{"$error":"#N/A"},{"$error":"#N/A"},{"$f":"IF(SUM(AJ$3091:AJ4006)>0,0,\nIF(MAX(AC4007:AC$4531)=MAX(AC$3091:AC$4531),0,\nIF(Hydrograph_Source_EURV=\"USER\",IF(AA4007>0.03*U$4532,0,$C4007/60),\nIF(AA4007>0.03*AA$4532,0,$C4007/60))))","v":0},{"$f":"IF(SUM(AK$3091:AK4006)>0,0,\nIF(MAX(AC4007:AC$4531)=MAX(AC$3091:AC$4531),0,\nIF(Hydrograph_Source_EURV=\"USER\",IF(AA4007>0.01*U$4532,0,$C4007/60),\nIF(AA4007>0.01*AA$4532,0,$C4007/60))))","v":0},0,0,0,0,0,0,0,0,0,{"$error":"#N/A"},{"$error":"#N/A"},{"$error":"#N/A"},{"$error":"#N/A"},{"$error":"#N/A"},{"$error":"#N/A"},{"$f":"IF(SUM(BA$3091:BA4006)>0,0,IF(MAX(AT4007:AT$4531)=MAX(AT$3091:AT$4531),0,IF(AR4007>0.03*AL$4532,0,$C4007/60)))","v":0},{"$f":"IF(SUM(BB$3091:BB4006)>0,0,IF(MAX(AT4007:AT$4531)=MAX(AT$3091:AT$4531),0,IF(AR4007>0.01*AL$4532,0,$C4007/60)))","v":0},0,0,0,0,0,0,0,0,0,{"$error":"#N/A"},{"$error":"#N/A"},{"$error":"#N/A"},{"$error":"#N/A"},{"$error":"#N/A"},{"$error":"#N/A"},{"$f":"IF(SUM(BR$3091:BR4006)>0,0,IF(MAX(BK4007:BK$4531)=MAX(BK$3091:BK$4531),0,IF(BI4007>0.03*BC$4532,0,$C4007/60)))","v":0},{"$f":"IF(SUM(BS$3091:BS4006)>0,0,IF(MAX(BK4007:BK$4531)=MAX(BK$3091:BK$4531),0,IF(BI4007>0.01*BC$4532,0,$C4007/60)))","v":0},0,0,0,0,0,0,0,0,0,{"$error":"#N/A"},{"$error":"#N/A"},{"$error":"#N/A"},{"$error":"#N/A"},{"$error":"#N/A"},{"$error":"#N/A"},{"$f":"IF(SUM(CI$3091:CI4006)>0,0,IF(MAX(CB4007:CB$4531)=MAX(CB$3091:CB$4531),0,IF(BZ4007>0.03*BT$4532,0,$C4007/60)))","v":0},{"$f":"IF(SUM(CJ$3091:CJ4006)>0,0,IF(MAX(CB4007:CB$4531)=MAX(CB$3091:CB$4531),0,IF(BZ4007>0.01*BT$4532,0,$C4007/60)))","v":0},0,0,0,0,0,0,0,0,0,{"$error":"#N/A"},{"$error":"#N/A"},{"$error":"#N/A"},{"$error":"#N/A"},{"$error":"#N/A"},{"$error":"#N/A"},{"$f":"IF(SUM(CZ$3091:CZ4006)>0,0,IF(MAX(CS4007:CS$4531)=MAX(CS$3091:CS$4531),0,IF(CQ4007>0.03*CK$4532,0,$C4007/60)))","v":0},{"$f":"IF(SUM(DA$3091:DA4006)>0,0,IF(MAX(CS4007:CS$4531)=MAX(CS$3091:CS$4531),0,IF(CQ4007>0.01*CK$4532,0,$C4007/60)))","v":0},0,0,0,0,0,0,0,0,0,{"$error":"#N/A"},{"$error":"#N/A"},{"$error":"#N/A"},{"$error":"#N/A"},{"$error":"#N/A"},{"$error":"#N/A"},{"$f":"IF(SUM(DQ$3091:DQ4006)>0,0,IF(MAX(DJ4007:DJ$4531)=MAX(DJ$3091:DJ$4531),0,IF(DH4007>0.03*DB$4532,0,$C4007/60)))","v":0},{"$f":"IF(SUM(DR$3091:DR4006)>0,0,IF(MAX(DJ4007:DJ$4531)=MAX(DJ$3091:DJ$4531),0,IF(DH4007>0.01*DB$4532,0,$C4007/60)))","v":0},0,0,0,0,0,0,0,0,0,{"$error":"#N/A"},{"$error":"#N/A"},{"$error":"#N/A"},{"$error":"#N/A"},{"$error":"#N/A"},{"$error":"#N/A"},{"$f":"IF(SUM(EH$3091:EH4006)>0,0,IF(MAX(EA4007:EA$4531)=MAX(EA$3091:EA$4531),0,IF(DY4007>0.03*DS$4532,0,$C4007/60)))","v":0},{"$f":"IF(SUM(EI$3091:EI4006)>0,0,IF(MAX(EA4007:EA$4531)=MAX(EA$3091:EA$4531),0,IF(DY4007>0.01*DS$4532,0,$C4007/60)))","v":0},0,0,0,0,0,0,0,0,0,{"$error":"#N/A"},{"$error":"#N/A"},{"$error":"#N/A"},{"$error":"#N/A"},{"$error":"#N/A"},{"$error":"#N/A"},{"$f":"IF(SUM(EY$3091:EY4006)>0,0,IF(MAX(ER4007:ER$4531)=MAX(ER$3091:ER$4531),0,IF(EP4007>0.03*EJ$4532,0,$C4007/60)))","v":0},{"$f":"IF(SUM(EZ$3091:EZ4006)>0,0,IF(MAX(ER4007:ER$4531)=MAX(ER$3091:ER$4531),0,IF(EP4007>0.01*EJ$4532,0,$C4007/60)))","v":0}]
[null,77.083333333333329,4625,0,0,0,0,0,0,0,0,0,{"$error":"#N/A"},{"$error":"#N/A"},{"$error":"#N/A"},{"$error":"#N/A"},{"$error":"#N/A"},{"$error":"#N/A"},{"$f":"IF(SUM(S$3091:S4015)>0,0,\nIF(MAX(L4016:L$4531)=MAX(L$3091:L$4531),0,\nIF(Hydrograph_Source_WQCV=\"USER\",IF(J4016>0.03*D$4532,0,$C4016/60),\nIF(J4016>0.03*J$4532,0,$C4016/60))))","v":0},{"$f":"IF(SUM(T$3091:T4015)>0,0,\nIF(MAX(L4016:L$4531)=MAX(L$3091:L$4531),0,\nIF(Hydrograph_Source_WQCV=\"USER\",IF(J4016>0.01*D$4532,0,$C4016/60),\nIF(J4016>0.01*J$4532,0,$C4016/60))))","v":0},0,0,0,0,0,0,0,0,0,{"$error":"#N/A"},{"$error":"#N/A"},{"$error":"#N/A"},{"$error":"#N/A"},{"$error":"#N/A"},{"$error":"#N/A"},{"$f":"IF(SUM(AJ$3091:AJ4015)>0,0,\nIF(MAX(AC4016:AC$4531)=MAX(AC$3091:AC$4531),0,\nIF(Hydrograph_Source_EURV=\"USER\",IF(AA4016>0.03*U$4532,0,$C4016/60),\nIF(AA4016>0.03*AA$4532,0,$C4016/60))))","v":0},{"$f":"IF(SUM(AK$3091:AK4015)>0,0,\nIF(MAX(AC4016:AC$4531)=MAX(AC$3091:AC$4531),0,\nIF(Hydrograph_Source_EURV=\"USER\",IF(AA4016>0.01*U$4532,0,$C4016/60),\nIF(AA4016>0.01*AA$4532,0,$C4016/60))))","v":0},0,0,0,0,0,0,0,0,0,{"$error":"#N/A"},{"$error":"#N/A"},{"$error":"#N/A"},{"$error":"#N/A"},{"$error":"#N/A"},{"$error":"#N/A"},{"$f":"IF(SUM(BA$3091:BA4015)>0,0,IF(MAX(AT4016:AT$4531)=MAX(AT$3091:AT$4531),0,IF(AR4016>0.03*AL$4532,0,$C4016/60)))","v":0},{"$f":"IF(SUM(BB$3091:BB4015)>0,0,IF(MAX(AT4016:AT$4531)=MAX(AT$3091:AT$4531),0,IF(AR4016>0.01*AL$4532,0,$C4016/60)))","v":0},0,0,0,0,0,0,0,0,0,{"$error":"#N/A"},{"$error":"#N/A"},{"$error":"#N/A"},{"$error":"#N/A"},{"$error":"#N/A"},{"$error":"#N/A"},{"$f":"IF(SUM(BR$3091:BR4015)>0,0,IF(MAX(BK4016:BK$4531)=MAX(BK$3091:BK$4531),0,IF(BI4016>0.03*BC$4532,0,$C4016/60)))","v":0},{"$f":"IF(SUM(BS$3091:BS4015)>0,0,IF(MAX(BK4016:BK$4531)=MAX(BK$3091:BK$4531),0,IF(BI4016>0.01*BC$4532,0,$C4016/60)))","v":0},0,0,0,0,0,0,0,0,0,{"$error":"#N/A"},{"$error":"#N/A"},{"$error":"#N/A"},{"$error":"#N/A"},{"$error":"#N/A"},{"$error":"#N/A"},{"$f":"IF(SUM(CI$3091:CI4015)>0,0,IF(MAX(CB4016:CB$4531)=MAX(CB$3091:CB$4531),0,IF(BZ4016>0.03*BT$4532,0,$C4016/60)))","v":0},{"$f":"IF(SUM(CJ$3091:CJ4015)>0,0,IF(MAX(CB4016:CB$4531)=MAX(CB$3091:CB$4531),0,IF(BZ4016>0.01*BT$4532,0,$C4016/60)))","v":0},0,0,0,0,0,0,0,0,0,{"$error":"#N/A"},{"$error":"#N/A"},{"$error":"#N/A"},{"$error":"#N/A"},{"$error":"#N/A"},{"$error":"#N/A"},{"$f":"IF(SUM(CZ$3091:CZ4015)>0,0,IF(MAX(CS4016:CS$4531)=MAX(CS$3091:CS$4531),0,IF(CQ4016>0.03*CK$4532,0,$C4016/60)))","v":0},{"$f":"IF(SUM(DA$3091:DA4015)>0,0,IF(MAX(CS4016:CS$4531)=MAX(CS$3091:CS$4531),0,IF(CQ4016>0.01*CK$4532,0,$C4016/60)))","v":0},0,0,0,0,0,0,0,0,0,{"$error":"#N/A"},{"$error":"#N/A"},{"$error":"#N/A"},{"$error":"#N/A"},{"$error":"#N/A"},{"$error":"#N/A"},{"$f":"IF(SUM(DQ$3091:DQ4015)>0,0,IF(MAX(DJ4016:DJ$4531)=MAX(DJ$3091:DJ$4531),0,IF(DH4016>0.03*DB$4532,0,$C4016/60)))","v":0},{"$f":"IF(SUM(DR$3091:DR4015)>0,0,IF(MAX(DJ4016:DJ$4531)=MAX(DJ$3091:DJ$4531),0,IF(DH4016>0.01*DB$4532,0,$C4016/60)))","v":0},0,0,0,0,0,0,0,0,0,{"$error":"#N/A"},{"$error":"#N/A"},{"$error":"#N/A"},{"$error":"#N/A"},{"$error":"#N/A"},{"$error":"#N/A"},{"$f":"IF(SUM(EH$3091:EH4015)>0,0,IF(MAX(EA4016:EA$4531)=MAX(EA$3091:EA$4531),0,IF(DY4016>0.03*DS$4532,0,$C4016/60)))","v":0},{"$f":"IF(SUM(EI$3091:EI4015)>0,0,IF(MAX(EA4016:EA$4531)=MAX(EA$3091:EA$4531),0,IF(DY4016>0.01*DS$4532,0,$C4016/60)))","v":0},0,0,0,0,0,0,0,0,0,{"$error":"#N/A"},{"$error":"#N/A"},{"$error":"#N/A"},{"$error":"#N/A"},{"$error":"#N/A"},{"$error":"#N/A"},{"$f":"IF(SUM(EY$3091:EY4015)>0,0,IF(MAX(ER4016:ER$4531)=MAX(ER$3091:ER$4531),0,IF(EP4016>0.03*EJ$4532,0,$C4016/60)))","v":0},{"$f":"IF(SUM(EZ$3091:EZ4015)>0,0,IF(MAX(ER4016:ER$4531)=MAX(ER$3091:ER$4531),0,IF(EP4016>0.01*EJ$4532,0,$C4016/60)))","v":0}]
[null,77.833333333333329,4670,0,0,0,0,0,0,0,0,0,{"$error":"#N/A"},{"$error":"#N/A"},{"$error":"#N/A"},{"$error":"#N/A"},{"$error":"#N/A"},{"$error":"#N/A"},{"$f":"IF(SUM(S$3091:S4024)>0,0,\nIF(MAX(L4025:L$4531)=MAX(L$3091:L$4531),0,\nIF(Hydrograph_Source_WQCV=\"USER\",IF(J4025>0.03*D$4532,0,$C4025/60),\nIF(J4025>0.03*J$4532,0,$C4025/60))))","v":0},{"$f":"IF(SUM(T$3091:T4024)>0,0,\nIF(MAX(L4025:L$4531)=MAX(L$3091:L$4531),0,\nIF(Hydrograph_Source_WQCV=\"USER\",IF(J4025>0.01*D$4532,0,$C4025/60),\nIF(J4025>0.01*J$4532,0,$C4025/60))))","v":0},0,0,0,0,0,0,0,0,0,{"$error":"#N/A"},{"$error":"#N/A"},{"$error":"#N/A"},{"$error":"#N/A"},{"$error":"#N/A"},{"$error":"#N/A"},{"$f":"IF(SUM(AJ$3091:AJ4024)>0,0,\nIF(MAX(AC4025:AC$4531)=MAX(AC$3091:AC$4531),0,\nIF(Hydrograph_Source_EURV=\"USER\",IF(AA4025>0.03*U$4532,0,$C4025/60),\nIF(AA4025>0.03*AA$4532,0,$C4025/60))))","v":0},{"$f":"IF(SUM(AK$3091:AK4024)>0,0,\nIF(MAX(AC4025:AC$4531)=MAX(AC$3091:AC$4531),0,\nIF(Hydrograph_Source_EURV=\"USER\",IF(AA4025>0.01*U$4532,0,$C4025/60),\nIF(AA4025>0.01*AA$4532,0,$C4025/60))))","v":0},0,0,0,0,0,0,0,0,0,{"$error":"#N/A"},{"$error":"#N/A"},{"$error":"#N/A"},{"$error":"#N/A"},{"$error":"#N/A"},{"$error":"#N/A"},{"$f":"IF(SUM(BA$3091:BA4024)>0,0,IF(MAX(AT4025:AT$4531)=MAX(AT$3091:AT$4531),0,IF(AR4025>0.03*AL$4532,0,$C4025/60)))","v":0},{"$f":"IF(SUM(BB$3091:BB4024)>0,0,IF(MAX(AT4025:AT$4531)=MAX(AT$3091:AT$4531),0,IF(AR4025>0.01*AL$4532,0,$C4025/60)))","v":0},0,0,0,0,0,0,0,0,0,{"$error":"#N/A"},{"$error":"#N/A"},{"$error":"#N/A"},{"$error":"#N/A"},{"$error":"#N/A"},{"$error":"#N/A"},{"$f":"IF(SUM(BR$3091:BR4024)>0,0,IF(MAX(BK4025:BK$4531)=MAX(BK$3091:BK$4531),0,IF(BI4025>0.03*BC$4532,0,$C4025/60)))","v":0},{"$f":"IF(SUM(BS$3091:BS4024)>0,0,IF(MAX(BK4025:BK$4531)=MAX(BK$3091:BK$4531),0,IF(BI4025>0.01*BC$4532,0,$C4025/60)))","v":0},0,0,0,0,0,0,0,0,0,{"$error":"#N/A"},{"$error":"#N/A"},{"$error":"#N/A"},{"$error":"#N/A"},{"$error":"#N/A"},{"$error":"#N/A"},{"$f":"IF(SUM(CI$3091:CI4024)>0,0,IF(MAX(CB4025:CB$4531)=MAX(CB$3091:CB$4531),0,IF(BZ4025>0.03*BT$4532,0,$C4025/60)))","v":0},{"$f":"IF(SUM(CJ$3091:CJ4024)>0,0,IF(MAX(CB4025:CB$4531)=MAX(CB$3091:CB$4531),0,IF(BZ4025>0.01*BT$4532,0,$C4025/60)))","v":0},0,0,0,0,0,0,0,0,0,{"$error":"#N/A"},{"$error":"#N/A"},{"$error":"#N/A"},{"$error":"#N/A"},{"$error":"#N/A"},{"$error":"#N/A"},{"$f":"IF(SUM(CZ$3091:CZ4024)>0,0,IF(MAX(CS4025:CS$4531)=MAX(CS$3091:CS$4531),0,IF(CQ4025>0.03*CK$4532,0,$C4025/60)))","v":0},{"$f":"IF(SUM(DA$3091:DA4024)>0,0,IF(MAX(CS4025:CS$4531)=MAX(CS$3091:CS$4531),0,IF(CQ4025>0.01*CK$4532,0,$C4025/60)))","v":0},0,0,0,0,0,0,0,0,0,{"$error":"#N/A"},{"$error":"#N/A"},{"$error":"#N/A"},{"$error":"#N/A"},{"$error":"#N/A"},{"$error":"#N/A"},{"$f":"IF(SUM(DQ$3091:DQ4024)>0,0,IF(MAX(DJ4025:DJ$4531)=MAX(DJ$3091:DJ$4531),0,IF(DH4025>0.03*DB$4532,0,$C4025/60)))","v":0},{"$f":"IF(SUM(DR$3091:DR4024)>0,0,IF(MAX(DJ4025:DJ$4531)=MAX(DJ$3091:DJ$4531),0,IF(DH4025>0.01*DB$4532,0,$C4025/60)))","v":0},0,0,0,0,0,0,0,0,0,{"$error":"#N/A"},{"$error":"#N/A"},{"$error":"#N/A"},{"$error":"#N/A"},{"$error":"#N/A"},{"$error":"#N/A"},{"$f":"IF(SUM(EH$3091:EH4024)>0,0,IF(MAX(EA4025:EA$4531)=MAX(EA$3091:EA$4531),0,IF(DY4025>0.03*DS$4532,0,$C4025/60)))","v":0},{"$f":"IF(SUM(EI$3091:EI4024)>0,0,IF(MAX(EA4025:EA$4531)=MAX(EA$3091:EA$4531),0,IF(DY4025>0.01*DS$4532,0,$C4025/60)))","v":0},0,0,0,0,0,0,0,0,0,{"$error":"#N/A"},{"$error":"#N/A"},{"$error":"#N/A"},{"$error":"#N/A"},{"$error":"#N/A"},{"$error":"#N/A"},{"$f":"IF(SUM(EY$3091:EY4024)>0,0,IF(MAX(ER4025:ER$4531)=MAX(ER$3091:ER$4531),0,IF(EP4025>0.03*EJ$4532,0,$C4025/60)))","v":0},{"$f":"IF(SUM(EZ$3091:EZ4024)>0,0,IF(MAX(ER4025:ER$4531)=MAX(ER$3091:ER$4531),0,IF(EP4025>0.01*EJ$4532,0,$C4025/60)))","v":0}]
[null,78.583333333333329,4715,0,0,0,0,0,0,0,0,0,{"$error":"#N/A"},{"$error":"#N/A"},{"$error":"#N/A"},{"$error":"#N/A"},{"$error":"#N/A"},{"$error":"#N/A"},{"$f":"IF(SUM(S$3091:S4033)>0,0,\nIF(MAX(L4034:L$4531)=MAX(L$3091:L$4531),0,\nIF(Hydrograph_Source_WQCV=\"USER\",IF(J4034>0.03*D$4532,0,$C4034/60),\nIF(J4034>0.03*J$4532,0,$C4034/60))))","v":0},{"$f":"IF(SUM(T$3091:T4033)>0,0,\nIF(MAX(L4034:L$4531)=MAX(L$3091:L$4531),0,\nIF(Hydrograph_Source_WQCV=\"USER\",IF(J4034>0.01*D$4532,0,$C4034/60),\nIF(J4034>0.01*J$4532,0,$C4034/60))))","v":0},0,0,0,0,0,0,0,0,0,{"$error":"#N/A"},{"$error":"#N/A"},{"$error":"#N/A"},{"$error":"#N/A"},{"$error":"#N/A"},{"$error":"#N/A"},{"$f":"IF(SUM(AJ$3091:AJ4033)>0,0,\nIF(MAX(AC4034:AC$4531)=MAX(AC$3091:AC$4531),0,\nIF(Hydrograph_Source_EURV=\"USER\",IF(AA4034>0.03*U$4532,0,$C4034/60),\nIF(AA4034>0.03*AA$4532,0,$C4034/60))))","v":0},{"$f":"IF(SUM(AK$3091:AK4033)>0,0,\nIF(MAX(AC4034:AC$4531)=MAX(AC$3091:AC$4531),0,\nIF(Hydrograph_Source_EURV=\"USER\",IF(AA4034>0.01*U$4532,0,$C4034/60),\nIF(AA4034>0.01*AA$4532,0,$C4034/60))))","v":0},0,0,0,0,0,0,0,0,0,{"$error":"#N/A"},{"$error":"#N/A"},{"$error":"#N/A"},{"$error":"#N/A"},{"$error":"#N/A"},{"$error":"#N/A"},{"$f":"IF(SUM(BA$3091:BA4033)>0,0,IF(MAX(AT4034:AT$4531)=MAX(AT$3091:AT$4531),0,IF(AR4034>0.03*AL$4532,0,$C4034/60)))","v":0},{"$f":"IF(SUM(BB$3091:BB4033)>0,0,IF(MAX(AT4034:AT$4531)=MAX(AT$3091:AT$4531),0,IF(AR4034>0.01*AL$4532,0,$C4034/60)))","v":0},0,0,0,0,0,0,0,0,0,{"$error":"#N/A"},{"$error":"#N/A"},{"$error":"#N/A"},{"$error":"#N/A"},{"$error":"#N/A"},{"$error":"#N/A"},{"$f":"IF(SUM(BR$3091:BR4033)>0,0,IF(MAX(BK4034:BK$4531)=MAX(BK$3091:BK$4531),0,IF(BI4034>0.03*BC$4532,0,$C4034/60)))","v":0},{"$f":"IF(SUM(BS$3091:BS4033)>0,0,IF(MAX(BK4034:BK$4531)=MAX(BK$3091:BK$4531),0,IF(BI4034>0.01*BC$4532,0,$C4034/60)))","v":0},0,0,0,0,0,0,0,0,0,{"$error":"#N/A"},{"$error":"#N/A"},{"$error":"#N/A"},{"$error":"#N/A"},{"$error":"#N/A"},{"$error":"#N/A"},{"$f":"IF(SUM(CI$3091:CI4033)>0,0,IF(MAX(CB4034:CB$4531)=MAX(CB$3091:CB$4531),0,IF(BZ4034>0.03*BT$4532,0,$C4034/60)))","v":0},{"$f":"IF(SUM(CJ$3091:CJ4033)>0,0,IF(MAX(CB4034:CB$4531)=MAX(CB$3091:CB$4531),0,IF(BZ4034>0.01*BT$4532,0,$C4034/60)))","v":0},0,0,0,0,0,0,0,0,0,{"$error":"#N/A"},{"$error":"#N/A"},{"$error":"#N/A"},{"$error":"#N/A"},{"$error":"#N/A"},{"$error":"#N/A"},{"$f":"IF(SUM(CZ$3091:CZ4033)>0,0,IF(MAX(CS4034:CS$4531)=MAX(CS$3091:CS$4531),0,IF(CQ4034>0.03*CK$4532,0,$C4034/60)))","v":0},{"$f":"IF(SUM(DA$3091:DA4033)>0,0,IF(MAX(CS4034:CS$4531)=MAX(CS$3091:CS$4531),0,IF(CQ4034>0.01*CK$4532,0,$C4034/60)))","v":0},0,0,0,0,0,0,0,0,0,{"$error":"#N/A"},{"$error":"#N/A"},{"$error":"#N/A"},{"$error":"#N/A"},{"$error":"#N/A"},{"$error":"#N/A"},{"$f":"IF(SUM(DQ$3091:DQ4033)>0,0,IF(MAX(DJ4034:DJ$4531)=MAX(DJ$3091:DJ$4531),0,IF(DH4034>0.03*DB$4532,0,$C4034/60)))","v":0},{"$f":"IF(SUM(DR$3091:DR4033)>0,0,IF(MAX(DJ4034:DJ$4531)=MAX(DJ$3091:DJ$4531),0,IF(DH4034>0.01*DB$4532,0,$C4034/60)))","v":0},0,0,0,0,0,0,0,0,0,{"$error":"#N/A"},{"$error":"#N/A"},{"$error":"#N/A"},{"$error":"#N/A"},{"$error":"#N/A"},{"$error":"#N/A"},{"$f":"IF(SUM(EH$3091:EH4033)>0,0,IF(MAX(EA4034:EA$4531)=MAX(EA$3091:EA$4531),0,IF(DY4034>0.03*DS$4532,0,$C4034/60)))","v":0},{"$f":"IF(SUM(EI$3091:EI4033)>0,0,IF(MAX(EA4034:EA$4531)=MAX(EA$3091:EA$4531),0,IF(DY4034>0.01*DS$4532,0,$C4034/60)))","v":0},0,0,0,0,0,0,0,0,0,{"$error":"#N/A"},{"$error":"#N/A"},{"$error":"#N/A"},{"$error":"#N/A"},{"$error":"#N/A"},{"$error":"#N/A"},{"$f":"IF(SUM(EY$3091:EY4033)>0,0,IF(MAX(ER4034:ER$4531)=MAX(ER$3091:ER$4531),0,IF(EP4034>0.03*EJ$4532,0,$C4034/60)))","v":0},{"$f":"IF(SUM(EZ$3091:EZ4033)>0,0,IF(MAX(ER4034:ER$4531)=MAX(ER$3091:ER$4531),0,IF(EP4034>0.01*EJ$4532,0,$C4034/60)))","v":0}]
[null,79.333333333333329,4760,0,0,0,0,0,0,0,0,0,{"$error":"#N/A"},{"$error":"#N/A"},{"$error":"#N/A"},{"$error":"#N/A"},{"$error":"#N/A"},{"$error":"#N/A"},{"$f":"IF(SUM(S$3091:S4042)>0,0,\nIF(MAX(L4043:L$4531)=MAX(L$3091:L$4531),0,\nIF(Hydrograph_Source_WQCV=\"USER\",IF(J4043>0.03*D$4532,0,$C4043/60),\nIF(J4043>0.03*J$4532,0,$C4043/60))))","v":0},{"$f":"IF(SUM(T$3091:T4042)>0,0,\nIF(MAX(L4043:L$4531)=MAX(L$3091:L$4531),0,\nIF(Hydrograph_Source_WQCV=\"USER\",IF(J4043>0.01*D$4532,0,$C4043/60),\nIF(J4043>0.01*J$4532,0,$C4043/60))))","v":0},0,0,0,0,0,0,0,0,0,{"$error":"#N/A"},{"$error":"#N/A"},{"$error":"#N/A"},{"$error":"#N/A"},{"$error":"#N/A"},{"$error":"#N/A"},{"$f":"IF(SUM(AJ$3091:AJ4042)>0,0,\nIF(MAX(AC4043:AC$4531)=MAX(AC$3091:AC$4531),0,\nIF(Hydrograph_Source_EURV=\"USER\",IF(AA4043>0.03*U$4532,0,$C4043/60),\nIF(AA4043>0.03*AA$4532,0,$C4043/60))))","v":0},{"$f":"IF(SUM(AK$3091:AK4042)>0,0,\nIF(MAX(AC4043:AC$4531)=MAX(AC$3091:AC$4531),0,\nIF(Hydrograph_Source_EURV=\"USER\",IF(AA4043>0.01*U$4532,0,$C4043/60),\nIF(AA4043>0.01*AA$4532,0,$C4043/60))))","v":0},0,0,0,0,0,0,0,0,0,{"$error":"#N/A"},{"$error":"#N/A"},{"$error":"#N/A"},{"$error":"#N/A"},{"$error":"#N/A"},{"$error":"#N/A"},{"$f":"IF(SUM(BA$3091:BA4042)>0,0,IF(MAX(AT4043:AT$4531)=MAX(AT$3091:AT$4531),0,IF(AR4043>0.03*AL$4532,0,$C4043/60)))","v":0},{"$f":"IF(SUM(BB$3091:BB4042)>0,0,IF(MAX(AT4043:AT$4531)=MAX(AT$3091:AT$4531),0,IF(AR4043>0.01*AL$4532,0,$C4043/60)))","v":0},0,0,0,0,0,0,0,0,0,{"$error":"#N/A"},{"$error":"#N/A"},{"$error":"#N/A"},{"$error":"#N/A"},{"$error":"#N/A"},{"$error":"#N/A"},{"$f":"IF(SUM(BR$3091:BR4042)>0,0,IF(MAX(BK4043:BK$4531)=MAX(BK$3091:BK$4531),0,IF(BI4043>0.03*BC$4532,0,$C4043/60)))","v":0},{"$f":"IF(SUM(BS$3091:BS4042)>0,0,IF(MAX(BK4043:BK$4531)=MAX(BK$3091:BK$4531),0,IF(BI4043>0.01*BC$4532,0,$C4043/60)))","v":0},0,0,0,0,0,0,0,0,0,{"$error":"#N/A"},{"$error":"#N/A"},{"$error":"#N/A"},{"$error":"#N/A"},{"$error":"#N/A"},{"$error":"#N/A"},{"$f":"IF(SUM(CI$3091:CI4042)>0,0,IF(MAX(CB4043:CB$4531)=MAX(CB$3091:CB$4531),0,IF(BZ4043>0.03*BT$4532,0,$C4043/60)))","v":0},{"$f":"IF(SUM(CJ$3091:CJ4042)>0,0,IF(MAX(CB4043:CB$4531)=MAX(CB$3091:CB$4531),0,IF(BZ4043>0.01*BT$4532,0,$C4043/60)))","v":0},0,0,0,0,0,0,0,0,0,{"$error":"#N/A"},{"$error":"#N/A"},{"$error":"#N/A"},{"$error":"#N/A"},{"$error":"#N/A"},{"$error":"#N/A"},{"$f":"IF(SUM(CZ$3091:CZ4042)>0,0,IF(MAX(CS4043:CS$4531)=MAX(CS$3091:CS$4531),0,IF(CQ4043>0.03*CK$4532,0,$C4043/60)))","v":0},{"$f":"IF(SUM(DA$3091:DA4042)>0,0,IF(MAX(CS4043:CS$4531)=MAX(CS$3091:CS$4531),0,IF(CQ4043>0.01*CK$4532,0,$C4043/60)))","v":0},0,0,0,0,0,0,0,0,0,{"$error":"#N/A"},{"$error":"#N/A"},{"$error":"#N/A"},{"$error":"#N/A"},{"$error":"#N/A"},{"$error":"#N/A"},{"$f":"IF(SUM(DQ$3091:DQ4042)>0,0,IF(MAX(DJ4043:DJ$4531)=MAX(DJ$3091:DJ$4531),0,IF(DH4043>0.03*DB$4532,0,$C4043/60)))","v":0},{"$f":"IF(SUM(DR$3091:DR4042)>0,0,IF(MAX(DJ4043:DJ$4531)=MAX(DJ$3091:DJ$4531),0,IF(DH4043>0.01*DB$4532,0,$C4043/60)))","v":0},0,0,0,0,0,0,0,0,0,{"$error":"#N/A"},{"$error":"#N/A"},{"$error":"#N/A"},{"$error":"#N/A"},{"$error":"#N/A"},{"$error":"#N/A"},{"$f":"IF(SUM(EH$3091:EH4042)>0,0,IF(MAX(EA4043:EA$4531)=MAX(EA$3091:EA$4531),0,IF(DY4043>0.03*DS$4532,0,$C4043/60)))","v":0},{"$f":"IF(SUM(EI$3091:EI4042)>0,0,IF(MAX(EA4043:EA$4531)=MAX(EA$3091:EA$4531),0,IF(DY4043>0.01*DS$4532,0,$C4043/60)))","v":0},0,0,0,0,0,0,0,0,0,{"$error":"#N/A"},{"$error":"#N/A"},{"$error":"#N/A"},{"$error":"#N/A"},{"$error":"#N/A"},{"$error":"#N/A"},{"$f":"IF(SUM(EY$3091:EY4042)>0,0,IF(MAX(ER4043:ER$4531)=MAX(ER$3091:ER$4531),0,IF(EP4043>0.03*EJ$4532,0,$C4043/60)))","v":0},{"$f":"IF(SUM(EZ$3091:EZ4042)>0,0,IF(MAX(ER4043:ER$4531)=MAX(ER$3091:ER$4531),0,IF(EP4043>0.01*EJ$4532,0,$C4043/60)))","v":0}]
[null,80.083333333333329,4805,0,0,{"$f":"G4051","v":0},0,{"$f":"I4051","v":0},0,0,0,{"$f":"IF($D$3091=\"\",0,ROUND((R4052*K4052+Q4052-R4052*P4052),7))","v":0},{"$error":"#N/A"},{"$f":"MATCH(K4052,$Y$87:$Y$3087,1)","v":{"$error":"#N/A"}},{"$f":"INDEX($X$87:$X$3087,N4052,1)","v":{"$error":"#N/A"}},{"$f":"INDEX($Y$87:$Y$3087,N4052,1)","v":{"$error":"#N/A"}},{"$error":"#N/A"},{"$error":"#N/A"},{"$f":"IF(SUM(S$3091:S4051)>0,0,\nIF(MAX(L4052:L$4531)=MAX(L$3091:L$4531),0,\nIF(Hydrograph_Source_WQCV=\"USER\",IF(J4052>0.03*D$4532,0,$C4052/60),\nIF(J4052>0.03*J$4532,0,$C4052/60))))","v":0},{"$f":"IF(SUM(T$3091:T4051)>0,0,\nIF(MAX(L4052:L$4531)=MAX(L$3091:L$4531),0,\nIF(Hydrograph_Source_WQCV=\"USER\",IF(J4052>0.01*D$4532,0,$C4052/60),\nIF(J4052>0.01*J$4532,0,$C4052/60))))","v":0},0,0,{"$f":"X4051","v":0},0,{"$f":"Z4051","v":0},0,0,0,{"$f":"IF($U$3091=\"\",0,ROUND((AI4052*AB4052+AH4052-AI4052*AG4052),7))","v":0},{"$error":"#N/A"},{"$f":"MATCH(AB4052,$Y$87:$Y$3087,1)","v":{"$error":"#N/A"}},{"$f":"INDEX($X$87:$X$3087,AE4052,1)","v":{"$error":"#N/A"}},{"$f":"INDEX($Y$87:$Y$3087,AE4052,1)","v":{"$error":"#N/A"}},{"$error":"#N/A"},{"$error":"#N/A"},{"$f":"IF(SUM(AJ$3091:AJ4051)>0,0,\nIF(MAX(AC4052:AC$4531)=MAX(AC$3091:AC$4531),0,\nIF(Hydrograph_Source_EURV=\"USER\",IF(AA4052>0.03*U$4532,0,$C4052/60),\nIF(AA4052>0.03*AA$4532,0,$C4052/60))))","v":0},{"$f":"IF(SUM(AK$3091:AK4051)>0,0,\nIF(MAX(AC4052:AC$4531)=MAX(AC$3091:AC$4531),0,\nIF(Hydrograph_Source_EURV=\"USER\",IF(AA4052>0.01*U$4532,0,$C4052/60),\nIF(AA4052>0.01*AA$4532,0,$C4052/60))))","v":0},0,0,{"$f":"AO4051","v":0},0,{"$f":"AQ4051","v":0},0,0,0,{"$f":"IF($AL$3091=\"\",0,ROUND((AZ4052*AS4052+AY4052-AZ4052*AX4052),7))","v":0},{"$error":"#N/A"},{"$f":"MATCH(AS4052,$Y$87:$Y$3087,1)","v":{"$error":"#N/A"}},{"$f":"INDEX($X$87:$X$3087,AV4052,1)","v":{"$error":"#N/A"}},{"$f":"INDEX($Y$87:$Y$3087,AV4052,1)","v":{"$error":"#N/A"}},{"$error":"#N/A"},{"$error":"#N/A"},{"$f":"IF(SUM(BA$3091:BA4051)>0,0,IF(MAX(AT4052:AT$4531)=MAX(AT$3091:AT$4531),0,IF(AR4052>0.03*AL$4532,0,$C4052/60)))","v":0},{"$f":"IF(SUM(BB$3091:BB4051)>0,0,IF(MAX(AT4052:AT$4531)=MAX(AT$3091:AT$4531),0,IF(AR4052>0.01*AL$4532,0,$C4052/60)))","v":0},0,0,{"$f":"BF4051","v":0},0,{"$f":"BH4051","v":0},0,0,0,{"$f":"IF($BC$3091=\"\",0,ROUND((BQ4052*BJ4052+BP4052-BQ4052*BO4052),7))","v":0},{"$error":"#N/A"},{"$f":"MATCH(BJ4052,$Y$87:$Y$3087,1)","v":{"$error":"#N/A"}},{"$f":"INDEX($X$87:$X$3087,BM4052,1)","v":{"$error":"#N/A"}},{"$f":"INDEX($Y$87:$Y$3087,BM4052,1)","v":{"$error":"#N/A"}},{"$error":"#N/A"},{"$error":"#N/A"},{"$f":"IF(SUM(BR$3091:BR4051)>0,0,IF(MAX(BK4052:BK$4531)=MAX(BK$3091:BK$4531),0,IF(BI4052>0.03*BC$4532,0,$C4052/60)))","v":0},{"$f":"IF(SUM(BS$3091:BS4051)>0,0,IF(MAX(BK4052:BK$4531)=MAX(BK$3091:BK$4531),0,IF(BI4052>0.01*BC$4532,0,$C4052/60)))","v":0},0,0,{"$f":"BW4051","v":0},0,{"$f":"BY4051","v":0},0,0,0,{"$f":"IF($BT$3091=\"\",0,ROUND((CH4052*CA4052+CG4052-CH4052*CF4052),7))","v":0},{"$error":"#N/A"},{"$f":"MATCH(CA4052,$Y$87:$Y$3087,1)","v":{"$error":"#N/A"}},{"$f":"INDEX($X$87:$X$3087,CD4052,1)","v":{"$error":"#N/A"}},{"$f":"INDEX($Y$87:$Y$3087,CD4052,1)","v":{"$error":"#N/A"}},{"$error":"#N/A"},{"$error":"#N/A"},{"$f":"IF(SUM(CI$3091:CI4051)>0,0,IF(MAX(CB4052:CB$4531)=MAX(CB$3091:CB$4531),0,IF(BZ4052>0.03*BT$4532,0,$C4052/60)))","v":0},{"$f":"IF(SUM(CJ$3091:CJ4051)>0,0,IF(MAX(CB4052:CB$4531)=MAX(CB$3091:CB$4531),0,IF(BZ4052>0.01*BT$4532,0,$C4052/60)))","v":0},0,0,{"$f":"CN4051","v":0},0,{"$f":"CP4051","v":0},0,0,0,{"$f":"IF($CK$3091=\"\",0,ROUND((CY4052*CR4052+CX4052-CY4052*CW4052),7))","v":0},{"$error":"#N/A"},{"$f":"MATCH(CR4052,$Y$87:$Y$3087,1)","v":{"$error":"#N/A"}},{"$f":"INDEX($X$87:$X$3087,CU4052,1)","v":{"$error":"#N/A"}},{"$f":"INDEX($Y$87:$Y$3087,CU4052,1)","v":{"$error":"#N/A"}},{"$error":"#N/A"},{"$error":"#N/A"},{"$f":"IF(SUM(CZ$3091:CZ4051)>0,0,IF(MAX(CS4052:CS$4531)=MAX(CS$3091:CS$4531),0,IF(CQ4052>0.03*CK$4532,0,$C4052/60)))","v":0},{"$f":"IF(SUM(DA$3091:DA4051)>0,0,IF(MAX(CS4052:CS$4531)=MAX(CS$3091:CS$4531),0,IF(CQ4052>0.01*CK$4532,0,$C4052/60)))","v":0},0,0,{"$f":"DE4051","v":0},0,{"$f":"DG4051","v":0},0,0,0,{"$f":"IF($DB$3091=\"\",0,ROUND((DP4052*DI4052+DO4052-DP4052*DN4052),7))","v":0},{"$error":"#N/A"},{"$f":"MATCH(DI4052,$Y$87:$Y$3087,1)","v":{"$error":"#N/A"}},{"$f":"INDEX($X$87:$X$3087,DL4052,1)","v":{"$error":"#N/A"}},{"$f":"INDEX($Y$87:$Y$3087,DL4052,1)","v":{"$error":"#N/A"}},{"$error":"#N/A"},{"$error":"#N/A"},{"$f":"IF(SUM(DQ$3091:DQ4051)>0,0,IF(MAX(DJ4052:DJ$4531)=MAX(DJ$3091:DJ$4531),0,IF(DH4052>0.03*DB$4532,0,$C4052/60)))","v":0},{"$f":"IF(SUM(DR$3091:DR4051)>0,0,IF(MAX(DJ4052:DJ$4531)=MAX(DJ$3091:DJ$4531),0,IF(DH4052>0.01*DB$4532,0,$C4052/60)))","v":0},0,0,{"$f":"DV4051","v":0},0,{"$f":"DX4051","v":0},0,0,0,{"$f":"IF($DS$3091=\"\",0,ROUND((EG4052*DZ4052+EF4052-EG4052*EE4052),7))","v":0},{"$error":"#N/A"},{"$f":"MATCH(DZ4052,$Y$87:$Y$3087,1)","v":{"$error":"#N/A"}},{"$f":"INDEX($X$87:$X$3087,EC4052,1)","v":{"$error":"#N/A"}},{"$f":"INDEX($Y$87:$Y$3087,EC4052,1)","v":{"$error":"#N/A"}},{"$error":"#N/A"},{"$error":"#N/A"},{"$f":"IF(SUM(EH$3091:EH4051)>0,0,IF(MAX(EA4052:EA$4531)=MAX(EA$3091:EA$4531),0,IF(DY4052>0.03*DS$4532,0,$C4052/60)))","v":0},{"$f":"IF(SUM(EI$3091:EI4051)>0,0,IF(MAX(EA4052:EA$4531)=MAX(EA$3091:EA$4531),0,IF(DY4052>0.01*DS$4532,0,$C4052/60)))","v":0},0,0,{"$f":"EM4051","v":0},0,{"$f":"EO4051","v":0},0,0,0,{"$f":"IF($EJ$3091=\"\",0,ROUND((EX4052*EQ4052+EW4052-EX4052*EV4052),7))","v":0},{"$error":"#N/A"},{"$f":"MATCH(EQ4052,$Y$87:$Y$3087,1)","v":{"$error":"#N/A"}},{"$f":"INDEX($X$87:$X$3087,ET4052,1)","v":{"$error":"#N/A"}},{"$f":"INDEX($Y$87:$Y$3087,ET4052,1)","v":{"$error":"#N/A"}},{"$error":"#N/A"},{"$error":"#N/A"},{"$f":"IF(SUM(EY$3091:EY4051)>0,0,IF(MAX(ER4052:ER$4531)=MAX(ER$3091:ER$4531),0,IF(EP4052>0.03*EJ$4532,0,$C4052/60)))","v":0},{"$f":"IF(SUM(EZ$3091:EZ4051)>0,0,IF(MAX(ER4052:ER$4531)=MAX(ER$3091:ER$4531),0,IF(EP4052>0.01*EJ$4532,0,$C4052/60)))","v":0}]
[null,80.833333333333329,4850,0,0,0,0,0,0,0,0,0,{"$error":"#N/A"},{"$error":"#N/A"},{"$error":"#N/A"},{"$error":"#N/A"},{"$error":"#N/A"},{"$error":"#N/A"},{"$f":"IF(SUM(S$3091:S4060)>0,0,\nIF(MAX(L4061:L$4531)=MAX(L$3091:L$4531),0,\nIF(Hydrograph_Source_WQCV=\"USER\",IF(J4061>0.03*D$4532,0,$C4061/60),\nIF(J4061>0.03*J$4532,0,$C4061/60))))","v":0},{"$f":"IF(SUM(T$3091:T4060)>0,0,\nIF(MAX(L4061:L$4531)=MAX(L$3091:L$4531),0,\nIF(Hydrograph_Source_WQCV=\"USER\",IF(J4061>0.01*D$4532,0,$C4061/60),\nIF(J4061>0.01*J$4532,0,$C4061/60))))","v":0},0,0,0,0,0,0,0,0,0,{"$error":"#N/A"},{"$error":"#N/A"},{"$error":"#N/A"},{"$error":"#N/A"},{"$error":"#N/A"},{"$error":"#N/A"},{"$f":"IF(SUM(AJ$3091:AJ4060)>0,0,\nIF(MAX(AC4061:AC$4531)=MAX(AC$3091:AC$4531),0,\nIF(Hydrograph_Source_EURV=\"USER\",IF(AA4061>0.03*U$4532,0,$C4061/60),\nIF(AA4061>0.03*AA$4532,0,$C4061/60))))","v":0},{"$f":"IF(SUM(AK$3091:AK4060)>0,0,\nIF(MAX(AC4061:AC$4531)=MAX(AC$3091:AC$4531),0,\nIF(Hydrograph_Source_EURV=\"USER\",IF(AA4061>0.01*U$4532,0,$C4061/60),\nIF(AA4061>0.01*AA$4532,0,$C4061/60))))","v":0},0,0,0,0,0,0,0,0,0,{"$error":"#N/A"},{"$error":"#N/A"},{"$error":"#N/A"},{"$error":"#N/A"},{"$error":"#N/A"},{"$error":"#N/A"},{"$f":"IF(SUM(BA$3091:BA4060)>0,0,IF(MAX(AT4061:AT$4531)=MAX(AT$3091:AT$4531),0,IF(AR4061>0.03*AL$4532,0,$C4061/60)))","v":0},{"$f":"IF(SUM(BB$3091:BB4060)>0,0,IF(MAX(AT4061:AT$4531)=MAX(AT$3091:AT$4531),0,IF(AR4061>0.01*AL$4532,0,$C4061/60)))","v":0},0,0,0,0,0,0,0,0,0,{"$error":"#N/A"},{"$error":"#N/A"},{"$error":"#N/A"},{"$error":"#N/A"},{"$error":"#N/A"},{"$error":"#N/A"},{"$f":"IF(SUM(BR$3091:BR4060)>0,0,IF(MAX(BK4061:BK$4531)=MAX(BK$3091:BK$4531),0,IF(BI4061>0.03*BC$4532,0,$C4061/60)))","v":0},{"$f":"IF(SUM(BS$3091:BS4060)>0,0,IF(MAX(BK4061:BK$4531)=MAX(BK$3091:BK$4531),0,IF(BI4061>0.01*BC$4532,0,$C4061/60)))","v":0},0,0,0,0,0,0,0,0,0,{"$error":"#N/A"},{"$error":"#N/A"},{"$error":"#N/A"},{"$error":"#N/A"},{"$error":"#N/A"},{"$error":"#N/A"},{"$f":"IF(SUM(CI$3091:CI4060)>0,0,IF(MAX(CB4061:CB$4531)=MAX(CB$3091:CB$4531),0,IF(BZ4061>0.03*BT$4532,0,$C4061/60)))","v":0},{"$f":"IF(SUM(CJ$3091:CJ4060)>0,0,IF(MAX(CB4061:CB$4531)=MAX(CB$3091:CB$4531),0,IF(BZ4061>0.01*BT$4532,0,$C4061/60)))","v":0},0,0,0,0,0,0,0,0,0,{"$error":"#N/A"},{"$error":"#N/A"},{"$error":"#N/A"},{"$error":"#N/A"},{"$error":"#N/A"},{"$error":"#N/A"},{"$f":"IF(SUM(CZ$3091:CZ4060)>0,0,IF(MAX(CS4061:CS$4531)=MAX(CS$3091:CS$4531),0,IF(CQ4061>0.03*CK$4532,0,$C4061/60)))","v":0},{"$f":"IF(SUM(DA$3091:DA4060)>0,0,IF(MAX(CS4061:CS$4531)=MAX(CS$3091:CS$4531),0,IF(CQ4061>0.01*CK$4532,0,$C4061/60)))","v":0},0,0,0,0,0,0,0,0,0,{"$error":"#N/A"},{"$error":"#N/A"},{"$error":"#N/A"},{"$error":"#N/A"},{"$error":"#N/A"},{"$error":"#N/A"},{"$f":"IF(SUM(DQ$3091:DQ4060)>0,0,IF(MAX(DJ4061:DJ$4531)=MAX(DJ$3091:DJ$4531),0,IF(DH4061>0.03*DB$4532,0,$C4061/60)))","v":0},{"$f":"IF(SUM(DR$3091:DR4060)>0,0,IF(MAX(DJ4061:DJ$4531)=MAX(DJ$3091:DJ$4531),0,IF(DH4061>0.01*DB$4532,0,$C4061/60)))","v":0},0,0,0,0,0,0,0,0,0,{"$error":"#N/A"},{"$error":"#N/A"},{"$error":"#N/A"},{"$error":"#N/A"},{"$error":"#N/A"},{"$error":"#N/A"},{"$f":"IF(SUM(EH$3091:EH4060)>0,0,IF(MAX(EA4061:EA$4531)=MAX(EA$3091:EA$4531),0,IF(DY4061>0.03*DS$4532,0,$C4061/60)))","v":0},{"$f":"IF(SUM(EI$3091:EI4060)>0,0,IF(MAX(EA4061:EA$4531)=MAX(EA$3091:EA$4531),0,IF(DY4061>0.01*DS$4532,0,$C4061/60)))","v":0},0,0,0,0,0,0,0,0,0,{"$error":"#N/A"},{"$error":"#N/A"},{"$error":"#N/A"},{"$error":"#N/A"},{"$error":"#N/A"},{"$error":"#N/A"},{"$f":"IF(SUM(EY$3091:EY4060)>0,0,IF(MAX(ER4061:ER$4531)=MAX(ER$3091:ER$4531),0,IF(EP4061>0.03*EJ$4532,0,$C4061/60)))","v":0},{"$f":"IF(SUM(EZ$3091:EZ4060)>0,0,IF(MAX(ER4061:ER$4531)=MAX(ER$3091:ER$4531),0,IF(EP4061>0.01*EJ$4532,0,$C4061/60)))","v":0}]
[null,80.916666666666671,4855,0,0,0,0,0,0,0,0,0,{"$error":"#N/A"},{"$error":"#N/A"},{"$error":"#N/A"},{"$error":"#N/A"},{"$error":"#N/A"},{"$error":"#N/A"},{"$f":"IF(SUM(S$3091:S4061)>0,0,\nIF(MAX(L4062:L$4531)=MAX(L$3091:L$4531),0,\nIF(Hydrograph_Source_WQCV=\"USER\",IF(J4062>0.03*D$4532,0,$C4062/60),\nIF(J4062>0.03*J$4532,0,$C4062/60))))","v":0},{"$f":"IF(SUM(T$3091:T4061)>0,0,\nIF(MAX(L4062:L$4531)=MAX(L$3091:L$4531),0,\nIF(Hydrograph_Source_WQCV=\"USER\",IF(J4062>0.01*D$4532,0,$C4062/60),\nIF(J4062>0.01*J$4532,0,$C4062/60))))","v":0},0,0,0,0,0,0,0,0,0,{"$error":"#N/A"},{"$error":"#N/A"},{"$error":"#N/A"},{"$error":"#N/A"},{"$error":"#N/A"},{"$error":"#N/A"},{"$f":"IF(SUM(AJ$3091:AJ4061)>0,0,\nIF(MAX(AC4062:AC$4531)=MAX(AC$3091:AC$4531),0,\nIF(Hydrograph_Source_EURV=\"USER\",IF(AA4062>0.03*U$4532,0,$C4062/60),\nIF(AA4062>0.03*AA$4532,0,$C4062/60))))","v":0},{"$f":"IF(SUM(AK$3091:AK4061)>0,0,\nIF(MAX(AC4062:AC$4531)=MAX(AC$3091:AC$4531),0,\nIF(Hydrograph_Source_EURV=\"USER\",IF(AA4062>0.01*U$4532,0,$C4062/60),\nIF(AA4062>0.01*AA$4532,0,$C4062/60))))","v":0},0,0,0,0,0,0,0,0,0,{"$error":"#N/A"},{"$error":"#N/A"},{"$error":"#N/A"},{"$error":"#N/A"},{"$error":"#N/A"},{"$error":"#N/A"},{"$f":"IF(SUM(BA$3091:BA4061)>0,0,IF(MAX(AT4062:AT$4531)=MAX(AT$3091:AT$4531),0,IF(AR4062>0.03*AL$4532,0,$C4062/60)))","v":0},{"$f":"IF(SUM(BB$3091:BB4061)>0,0,IF(MAX(AT4062:AT$4531)=MAX(AT$3091:AT$4531),0,IF(AR4062>0.01*AL$4532,0,$C4062/60)))","v":0},0,0,0,0,0,0,0,0,0,{"$error":"#N/A"},{"$error":"#N/A"},{"$error":"#N/A"},{"$error":"#N/A"},{"$error":"#N/A"},{"$error":"#N/A"},{"$f":"IF(SUM(BR$3091:BR4061)>0,0,IF(MAX(BK4062:BK$4531)=MAX(BK$3091:BK$4531),0,IF(BI4062>0.03*BC$4532,0,$C4062/60)))","v":0},{"$f":"IF(SUM(BS$3091:BS4061)>0,0,IF(MAX(BK4062:BK$4531)=MAX(BK$3091:BK$4531),0,IF(BI4062>0.01*BC$4532,0,$C4062/60)))","v":0},0,0,0,0,0,0,0,0,0,{"$error":"#N/A"},{"$error":"#N/A"},{"$error":"#N/A"},{"$error":"#N/A"},{"$error":"#N/A"},{"$error":"#N/A"},{"$f":"IF(SUM(CI$3091:CI4061)>0,0,IF(MAX(CB4062:CB$4531)=MAX(CB$3091:CB$4531),0,IF(BZ4062>0.03*BT$4532,0,$C4062/60)))","v":0},{"$f":"IF(SUM(CJ$3091:CJ4061)>0,0,IF(MAX(CB4062:CB$4531)=MAX(CB$3091:CB$4531),0,IF(BZ4062>0.01*BT$4532,0,$C4062/60)))","v":0},0,0,0,0,0,0,0,0,0,{"$error":"#N/A"},{"$error":"#N/A"},{"$error":"#N/A"},{"$error":"#N/A"},{"$error":"#N/A"},{"$error":"#N/A"},{"$f":"IF(SUM(CZ$3091:CZ4061)>0,0,IF(MAX(CS4062:CS$4531)=MAX(CS$3091:CS$4531),0,IF(CQ4062>0.03*CK$4532,0,$C4062/60)))","v":0},{"$f":"IF(SUM(DA$3091:DA4061)>0,0,IF(MAX(CS4062:CS$4531)=MAX(CS$3091:CS$4531),0,IF(CQ4062>0.01*CK$4532,0,$C4062/60)))","v":0},0,0,0,0,0,0,0,0,0,{"$error":"#N/A"},{"$error":"#N/A"},{"$error":"#N/A"},{"$error":"#N/A"},{"$error":"#N/A"},{"$error":"#N/A"},{"$f":"IF(SUM(DQ$3091:DQ4061)>0,0,IF(MAX(DJ4062:DJ$4531)=MAX(DJ$3091:DJ$4531),0,IF(DH4062>0.03*DB$4532,0,$C4062/60)))","v":0},{"$f":"IF(SUM(DR$3091:DR4061)>0,0,IF(MAX(DJ4062:DJ$4531)=MAX(DJ$3091:DJ$4531),0,IF(DH4062>0.01*DB$4532,0,$C4062/60)))","v":0},0,0,0,0,0,0,0,0,0,{"$error":"#N/A"},{"$error":"#N/A"},{"$error":"#N/A"},{"$error":"#N/A"},{"$error":"#N/A"},{"$error":"#N/A"},{"$f":"IF(SUM(EH$3091:EH4061)>0,0,IF(MAX(EA4062:EA$4531)=MAX(EA$3091:EA$4531),0,IF(DY4062>0.03*DS$4532,0,$C4062/60)))","v":0},{"$f":"IF(SUM(EI$3091:EI4061)>0,0,IF(MAX(EA4062:EA$4531)=MAX(EA$3091:EA$4531),0,IF(DY4062>0.01*DS$4532,0,$C4062/60)))","v":0},0,0,0,0,0,0,0,0,0,{"$error":"#N/A"},{"$error":"#N/A"},{"$error":"#N/A"},{"$error":"#N/A"},{"$error":"#N/A"},{"$error":"#N/A"},{"$f":"IF(SUM(EY$3091:EY4061)>0,0,IF(MAX(ER4062:ER$4531)=MAX(ER$3091:ER$4531),0,IF(EP4062>0.03*EJ$4532,0,$C4062/60)))","v":0},{"$f":"IF(SUM(EZ$3091:EZ4061)>0,0,IF(MAX(ER4062:ER$4531)=MAX(ER$3091:ER$4531),0,IF(EP4062>0.01*EJ$4532,0,$C4062/60)))","v":0}]
[null,81.666666666666671,4900,0,0,0,0,0,0,0,0,0,{"$error":"#N/A"},{"$error":"#N/A"},{"$error":"#N/A"},{"$error":"#N/A"},{"$error":"#N/A"},{"$error":"#N/A"},{"$f":"IF(SUM(S$3091:S4070)>0,0,\nIF(MAX(L4071:L$4531)=MAX(L$3091:L$4531),0,\nIF(Hydrograph_Source_WQCV=\"USER\",IF(J4071>0.03*D$4532,0,$C4071/60),\nIF(J4071>0.03*J$4532,0,$C4071/60))))","v":0},{"$f":"IF(SUM(T$3091:T4070)>0,0,\nIF(MAX(L4071:L$4531)=MAX(L$3091:L$4531),0,\nIF(Hydrograph_Source_WQCV=\"USER\",IF(J4071>0.01*D$4532,0,$C4071/60),\nIF(J4071>0.01*J$4532,0,$C4071/60))))","v":0},0,0,0,0,0,0,0,0,0,{"$error":"#N/A"},{"$error":"#N/A"},{"$error":"#N/A"},{"$error":"#N/A"},{"$error":"#N/A"},{"$error":"#N/A"},{"$f":"IF(SUM(AJ$3091:AJ4070)>0,0,\nIF(MAX(AC4071:AC$4531)=MAX(AC$3091:AC$4531),0,\nIF(Hydrograph_Source_EURV=\"USER\",IF(AA4071>0.03*U$4532,0,$C4071/60),\nIF(AA4071>0.03*AA$4532,0,$C4071/60))))","v":0},{"$f":"IF(SUM(AK$3091:AK4070)>0,0,\nIF(MAX(AC4071:AC$4531)=MAX(AC$3091:AC$4531),0,\nIF(Hydrograph_Source_EURV=\"USER\",IF(AA4071>0.01*U$4532,0,$C4071/60),\nIF(AA4071>0.01*AA$4532,0,$C4071/60))))","v":0},0,0,0,0,0,0,0,0,0,{"$error":"#N/A"},{"$error":"#N/A"},{"$error":"#N/A"},{"$error":"#N/A"},{"$error":"#N/A"},{"$error":"#N/A"},{"$f":"IF(SUM(BA$3091:BA4070)>0,0,IF(MAX(AT4071:AT$4531)=MAX(AT$3091:AT$4531),0,IF(AR4071>0.03*AL$4532,0,$C4071/60)))","v":0},{"$f":"IF(SUM(BB$3091:BB4070)>0,0,IF(MAX(AT4071:AT$4531)=MAX(AT$3091:AT$4531),0,IF(AR4071>0.01*AL$4532,0,$C4071/60)))","v":0},0,0,0,0,0,0,0,0,0,{"$error":"#N/A"},{"$error":"#N/A"},{"$error":"#N/A"},{"$error":"#N/A"},{"$error":"#N/A"},{"$error":"#N/A"},{"$f":"IF(SUM(BR$3091:BR4070)>0,0,IF(MAX(BK4071:BK$4531)=MAX(BK$3091:BK$4531),0,IF(BI4071>0.03*BC$4532,0,$C4071/60)))","v":0},{"$f":"IF(SUM(BS$3091:BS4070)>0,0,IF(MAX(BK4071:BK$4531)=MAX(BK$3091:BK$4531),0,IF(BI4071>0.01*BC$4532,0,$C4071/60)))","v":0},0,0,0,0,0,0,0,0,0,{"$error":"#N/A"},{"$error":"#N/A"},{"$error":"#N/A"},{"$error":"#N/A"},{"$error":"#N/A"},{"$error":"#N/A"},{"$f":"IF(SUM(CI$3091:CI4070)>0,0,IF(MAX(CB4071:CB$4531)=MAX(CB$3091:CB$4531),0,IF(BZ4071>0.03*BT$4532,0,$C4071/60)))","v":0},{"$f":"IF(SUM(CJ$3091:CJ4070)>0,0,IF(MAX(CB4071:CB$4531)=MAX(CB$3091:CB$4531),0,IF(BZ4071>0.01*BT$4532,0,$C4071/60)))","v":0},0,0,0,0,0,0,0,0,0,{"$error":"#N/A"},{"$error":"#N/A"},{"$error":"#N/A"},{"$error":"#N/A"},{"$error":"#N/A"},{"$error":"#N/A"},{"$f":"IF(SUM(CZ$3091:CZ4070)>0,0,IF(MAX(CS4071:CS$4531)=MAX(CS$3091:CS$4531),0,IF(CQ4071>0.03*CK$4532,0,$C4071/60)))","v":0},{"$f":"IF(SUM(DA$3091:DA4070)>0,0,IF(MAX(CS4071:CS$4531)=MAX(CS$3091:CS$4531),0,IF(CQ4071>0.01*CK$4532,0,$C4071/60)))","v":0},0,0,0,0,0,0,0,0,0,{"$error":"#N/A"},{"$error":"#N/A"},{"$error":"#N/A"},{"$error":"#N/A"},{"$error":"#N/A"},{"$error":"#N/A"},{"$f":"IF(SUM(DQ$3091:DQ4070)>0,0,IF(MAX(DJ4071:DJ$4531)=MAX(DJ$3091:DJ$4531),0,IF(DH4071>0.03*DB$4532,0,$C4071/60)))","v":0},{"$f":"IF(SUM(DR$3091:DR4070)>0,0,IF(MAX(DJ4071:DJ$4531)=MAX(DJ$3091:DJ$4531),0,IF(DH4071>0.01*DB$4532,0,$C4071/60)))","v":0},0,0,0,0,0,0,0,0,0,{"$error":"#N/A"},{"$error":"#N/A"},{"$error":"#N/A"},{"$error":"#N/A"},{"$error":"#N/A"},{"$error":"#N/A"},{"$f":"IF(SUM(EH$3091:EH4070)>0,0,IF(MAX(EA4071:EA$4531)=MAX(EA$3091:EA$4531),0,IF(DY4071>0.03*DS$4532,0,$C4071/60)))","v":0},{"$f":"IF(SUM(EI$3091:EI4070)>0,0,IF(MAX(EA4071:EA$4531)=MAX(EA$3091:EA$4531),0,IF(DY4071>0.01*DS$4532,0,$C4071/60)))","v":0},0,0,0,0,0,0,0,0,0,{"$error":"#N/A"},{"$error":"#N/A"},{"$error":"#N/A"},{"$error":"#N/A"},{"$error":"#N/A"},{"$error":"#N/A"},{"$f":"IF(SUM(EY$3091:EY4070)>0,0,IF(MAX(ER4071:ER$4531)=MAX(ER$3091:ER$4531),0,IF(EP4071>0.03*EJ$4532,0,$C4071/60)))","v":0},{"$f":"IF(SUM(EZ$3091:EZ4070)>0,0,IF(MAX(ER4071:ER$4531)=MAX(ER$3091:ER$4531),0,IF(EP4071>0.01*EJ$4532,0,$C4071/60)))","v":0}]
[null,82.416666666666671,4945,0,0,0,0,0,0,0,0,0,{"$error":"#N/A"},{"$error":"#N/A"},{"$error":"#N/A"},{"$error":"#N/A"},{"$error":"#N/A"},{"$error":"#N/A"},{"$f":"IF(SUM(S$3091:S4079)>0,0,\nIF(MAX(L4080:L$4531)=MAX(L$3091:L$4531),0,\nIF(Hydrograph_Source_WQCV=\"USER\",IF(J4080>0.03*D$4532,0,$C4080/60),\nIF(J4080>0.03*J$4532,0,$C4080/60))))","v":0},{"$f":"IF(SUM(T$3091:T4079)>0,0,\nIF(MAX(L4080:L$4531)=MAX(L$3091:L$4531),0,\nIF(Hydrograph_Source_WQCV=\"USER\",IF(J4080>0.01*D$4532,0,$C4080/60),\nIF(J4080>0.01*J$4532,0,$C4080/60))))","v":0},0,0,0,0,0,0,0,0,0,{"$error":"#N/A"},{"$error":"#N/A"},{"$error":"#N/A"},{"$error":"#N/A"},{"$error":"#N/A"},{"$error":"#N/A"},{"$f":"IF(SUM(AJ$3091:AJ4079)>0,0,\nIF(MAX(AC4080:AC$4531)=MAX(AC$3091:AC$4531),0,\nIF(Hydrograph_Source_EURV=\"USER\",IF(AA4080>0.03*U$4532,0,$C4080/60),\nIF(AA4080>0.03*AA$4532,0,$C4080/60))))","v":0},{"$f":"IF(SUM(AK$3091:AK4079)>0,0,\nIF(MAX(AC4080:AC$4531)=MAX(AC$3091:AC$4531),0,\nIF(Hydrograph_Source_EURV=\"USER\",IF(AA4080>0.01*U$4532,0,$C4080/60),\nIF(AA4080>0.01*AA$4532,0,$C4080/60))))","v":0},0,0,0,0,0,0,0,0,0,{"$error":"#N/A"},{"$error":"#N/A"},{"$error":"#N/A"},{"$error":"#N/A"},{"$error":"#N/A"},{"$error":"#N/A"},{"$f":"IF(SUM(BA$3091:BA4079)>0,0,IF(MAX(AT4080:AT$4531)=MAX(AT$3091:AT$4531),0,IF(AR4080>0.03*AL$4532,0,$C4080/60)))","v":0},{"$f":"IF(SUM(BB$3091:BB4079)>0,0,IF(MAX(AT4080:AT$4531)=MAX(AT$3091:AT$4531),0,IF(AR4080>0.01*AL$4532,0,$C4080/60)))","v":0},0,0,0,0,0,0,0,0,0,{"$error":"#N/A"},{"$error":"#N/A"},{"$error":"#N/A"},{"$error":"#N/A"},{"$error":"#N/A"},{"$error":"#N/A"},{"$f":"IF(SUM(BR$3091:BR4079)>0,0,IF(MAX(BK4080:BK$4531)=MAX(BK$3091:BK$4531),0,IF(BI4080>0.03*BC$4532,0,$C4080/60)))","v":0},{"$f":"IF(SUM(BS$3091:BS4079)>0,0,IF(MAX(BK4080:BK$4531)=MAX(BK$3091:BK$4531),0,IF(BI4080>0.01*BC$4532,0,$C4080/60)))","v":0},0,0,0,0,0,0,0,0,0,{"$error":"#N/A"},{"$error":"#N/A"},{"$error":"#N/A"},{"$error":"#N/A"},{"$error":"#N/A"},{"$error":"#N/A"},{"$f":"IF(SUM(CI$3091:CI4079)>0,0,IF(MAX(CB4080:CB$4531)=MAX(CB$3091:CB$4531),0,IF(BZ4080>0.03*BT$4532,0,$C4080/60)))","v":0},{"$f":"IF(SUM(CJ$3091:CJ4079)>0,0,IF(MAX(CB4080:CB$4531)=MAX(CB$3091:CB$4531),0,IF(BZ4080>0.01*BT$4532,0,$C4080/60)))","v":0},0,0,0,0,0,0,0,0,0,{"$error":"#N/A"},{"$error":"#N/A"},{"$error":"#N/A"},{"$error":"#N/A"},{"$error":"#N/A"},{"$error":"#N/A"},{"$f":"IF(SUM(CZ$3091:CZ4079)>0,0,IF(MAX(CS4080:CS$4531)=MAX(CS$3091:CS$4531),0,IF(CQ4080>0.03*CK$4532,0,$C4080/60)))","v":0},{"$f":"IF(SUM(DA$3091:DA4079)>0,0,IF(MAX(CS4080:CS$4531)=MAX(CS$3091:CS$4531),0,IF(CQ4080>0.01*CK$4532,0,$C4080/60)))","v":0},0,0,0,0,0,0,0,0,0,{"$error":"#N/A"},{"$error":"#N/A"},{"$error":"#N/A"},{"$error":"#N/A"},{"$error":"#N/A"},{"$error":"#N/A"},{"$f":"IF(SUM(DQ$3091:DQ4079)>0,0,IF(MAX(DJ4080:DJ$4531)=MAX(DJ$3091:DJ$4531),0,IF(DH4080>0.03*DB$4532,0,$C4080/60)))","v":0},{"$f":"IF(SUM(DR$3091:DR4079)>0,0,IF(MAX(DJ4080:DJ$4531)=MAX(DJ$3091:DJ$4531),0,IF(DH4080>0.01*DB$4532,0,$C4080/60)))","v":0},0,0,0,0,0,0,0,0,0,{"$error":"#N/A"},{"$error":"#N/A"},{"$error":"#N/A"},{"$error":"#N/A"},{"$error":"#N/A"},{"$error":"#N/A"},{"$f":"IF(SUM(EH$3091:EH4079)>0,0,IF(MAX(EA4080:EA$4531)=MAX(EA$3091:EA$4531),0,IF(DY4080>0.03*DS$4532,0,$C4080/60)))","v":0},{"$f":"IF(SUM(EI$3091:EI4079)>0,0,IF(MAX(EA4080:EA$4531)=MAX(EA$3091:EA$4531),0,IF(DY4080>0.01*DS$4532,0,$C4080/60)))","v":0},0,0,0,0,0,0,0,0,0,{"$error":"#N/A"},{"$error":"#N/A"},{"$error":"#N/A"},{"$error":"#N/A"},{"$error":"#N/A"},{"$error":"#N/A"},{"$f":"IF(SUM(EY$3091:EY4079)>0,0,IF(MAX(ER4080:ER$4531)=MAX(ER$3091:ER$4531),0,IF(EP4080>0.03*EJ$4532,0,$C4080/60)))","v":0},{"$f":"IF(SUM(EZ$3091:EZ4079)>0,0,IF(MAX(ER4080:ER$4531)=MAX(ER$3091:ER$4531),0,IF(EP4080>0.01*EJ$4532,0,$C4080/60)))","v":0}]
[null,83.166666666666671,4990,0,0,0,0,0,0,0,0,0,{"$error":"#N/A"},{"$error":"#N/A"},{"$error":"#N/A"},{"$error":"#N/A"},{"$error":"#N/A"},{"$error":"#N/A"},{"$f":"IF(SUM(S$3091:S4088)>0,0,\nIF(MAX(L4089:L$4531)=MAX(L$3091:L$4531),0,\nIF(Hydrograph_Source_WQCV=\"USER\",IF(J4089>0.03*D$4532,0,$C4089/60),\nIF(J4089>0.03*J$4532,0,$C4089/60))))","v":0},{"$f":"IF(SUM(T$3091:T4088)>0,0,\nIF(MAX(L4089:L$4531)=MAX(L$3091:L$4531),0,\nIF(Hydrograph_Source_WQCV=\"USER\",IF(J4089>0.01*D$4532,0,$C4089/60),\nIF(J4089>0.01*J$4532,0,$C4089/60))))","v":0},0,0,0,0,0,0,0,0,0,{"$error":"#N/A"},{"$error":"#N/A"},{"$error":"#N/A"},{"$error":"#N/A"},{"$error":"#N/A"},{"$error":"#N/A"},{"$f":"IF(SUM(AJ$3091:AJ4088)>0,0,\nIF(MAX(AC4089:AC$4531)=MAX(AC$3091:AC$4531),0,\nIF(Hydrograph_Source_EURV=\"USER\",IF(AA4089>0.03*U$4532,0,$C4089/60),\nIF(AA4089>0.03*AA$4532,0,$C4089/60))))","v":0},{"$f":"IF(SUM(AK$3091:AK4088)>0,0,\nIF(MAX(AC4089:AC$4531)=MAX(AC$3091:AC$4531),0,\nIF(Hydrograph_Source_EURV=\"USER\",IF(AA4089>0.01*U$4532,0,$C4089/60),\nIF(AA4089>0.01*AA$4532,0,$C4089/60))))","v":0},0,0,0,0,0,0,0,0,0,{"$error":"#N/A"},{"$error":"#N/A"},{"$error":"#N/A"},{"$error":"#N/A"},{"$error":"#N/A"},{"$error":"#N/A"},{"$f":"IF(SUM(BA$3091:BA4088)>0,0,IF(MAX(AT4089:AT$4531)=MAX(AT$3091:AT$4531),0,IF(AR4089>0.03*AL$4532,0,$C4089/60)))","v":0},{"$f":"IF(SUM(BB$3091:BB4088)>0,0,IF(MAX(AT4089:AT$4531)=MAX(AT$3091:AT$4531),0,IF(AR4089>0.01*AL$4532,0,$C4089/60)))","v":0},0,0,0,0,0,0,0,0,0,{"$error":"#N/A"},{"$error":"#N/A"},{"$error":"#N/A"},{"$error":"#N/A"},{"$error":"#N/A"},{"$error":"#N/A"},{"$f":"IF(SUM(BR$3091:BR4088)>0,0,IF(MAX(BK4089:BK$4531)=MAX(BK$3091:BK$4531),0,IF(BI4089>0.03*BC$4532,0,$C4089/60)))","v":0},{"$f":"IF(SUM(BS$3091:BS4088)>0,0,IF(MAX(BK4089:BK$4531)=MAX(BK$3091:BK$4531),0,IF(BI4089>0.01*BC$4532,0,$C4089/60)))","v":0},0,0,0,0,0,0,0,0,0,{"$error":"#N/A"},{"$error":"#N/A"},{"$error":"#N/A"},{"$error":"#N/A"},{"$error":"#N/A"},{"$error":"#N/A"},{"$f":"IF(SUM(CI$3091:CI4088)>0,0,IF(MAX(CB4089:CB$4531)=MAX(CB$3091:CB$4531),0,IF(BZ4089>0.03*BT$4532,0,$C4089/60)))","v":0},{"$f":"IF(SUM(CJ$3091:CJ4088)>0,0,IF(MAX(CB4089:CB$4531)=MAX(CB$3091:CB$4531),0,IF(BZ4089>0.01*BT$4532,0,$C4089/60)))","v":0},0,0,0,0,0,0,0,0,0,{"$error":"#N/A"},{"$error":"#N/A"},{"$error":"#N/A"},{"$error":"#N/A"},{"$error":"#N/A"},{"$error":"#N/A"},{"$f":"IF(SUM(CZ$3091:CZ4088)>0,0,IF(MAX(CS4089:CS$4531)=MAX(CS$3091:CS$4531),0,IF(CQ4089>0.03*CK$4532,0,$C4089/60)))","v":0},{"$f":"IF(SUM(DA$3091:DA4088)>0,0,IF(MAX(CS4089:CS$4531)=MAX(CS$3091:CS$4531),0,IF(CQ4089>0.01*CK$4532,0,$C4089/60)))","v":0},0,0,0,0,0,0,0,0,0,{"$error":"#N/A"},{"$error":"#N/A"},{"$error":"#N/A"},{"$error":"#N/A"},{"$error":"#N/A"},{"$error":"#N/A"},{"$f":"IF(SUM(DQ$3091:DQ4088)>0,0,IF(MAX(DJ4089:DJ$4531)=MAX(DJ$3091:DJ$4531),0,IF(DH4089>0.03*DB$4532,0,$C4089/60)))","v":0},{"$f":"IF(SUM(DR$3091:DR4088)>0,0,IF(MAX(DJ4089:DJ$4531)=MAX(DJ$3091:DJ$4531),0,IF(DH4089>0.01*DB$4532,0,$C4089/60)))","v":0},0,0,0,0,0,0,0,0,0,{"$error":"#N/A"},{"$error":"#N/A"},{"$error":"#N/A"},{"$error":"#N/A"},{"$error":"#N/A"},{"$error":"#N/A"},{"$f":"IF(SUM(EH$3091:EH4088)>0,0,IF(MAX(EA4089:EA$4531)=MAX(EA$3091:EA$4531),0,IF(DY4089>0.03*DS$4532,0,$C4089/60)))","v":0},{"$f":"IF(SUM(EI$3091:EI4088)>0,0,IF(MAX(EA4089:EA$4531)=MAX(EA$3091:EA$4531),0,IF(DY4089>0.01*DS$4532,0,$C4089/60)))","v":0},0,0,0,0,0,0,0,0,0,{"$error":"#N/A"},{"$error":"#N/A"},{"$error":"#N/A"},{"$error":"#N/A"},{"$error":"#N/A"},{"$error":"#N/A"},{"$f":"IF(SUM(EY$3091:EY4088)>0,0,IF(MAX(ER4089:ER$4531)=MAX(ER$3091:ER$4531),0,IF(EP4089>0.03*EJ$4532,0,$C4089/60)))","v":0},{"$f":"IF(SUM(EZ$3091:EZ4088)>0,0,IF(MAX(ER4089:ER$4531)=MAX(ER$3091:ER$4531),0,IF(EP4089>0.01*EJ$4532,0,$C4089/60)))","v":0}]
[null,83.916666666666671,5035,0,0,0,0,0,0,0,0,0,{"$error":"#N/A"},{"$error":"#N/A"},{"$error":"#N/A"},{"$error":"#N/A"},{"$error":"#N/A"},{"$error":"#N/A"},{"$f":"IF(SUM(S$3091:S4097)>0,0,\nIF(MAX(L4098:L$4531)=MAX(L$3091:L$4531),0,\nIF(Hydrograph_Source_WQCV=\"USER\",IF(J4098>0.03*D$4532,0,$C4098/60),\nIF(J4098>0.03*J$4532,0,$C4098/60))))","v":0},{"$f":"IF(SUM(T$3091:T4097)>0,0,\nIF(MAX(L4098:L$4531)=MAX(L$3091:L$4531),0,\nIF(Hydrograph_Source_WQCV=\"USER\",IF(J4098>0.01*D$4532,0,$C4098/60),\nIF(J4098>0.01*J$4532,0,$C4098/60))))","v":0},0,0,0,0,0,0,0,0,0,{"$error":"#N/A"},{"$error":"#N/A"},{"$error":"#N/A"},{"$error":"#N/A"},{"$error":"#N/A"},{"$error":"#N/A"},{"$f":"IF(SUM(AJ$3091:AJ4097)>0,0,\nIF(MAX(AC4098:AC$4531)=MAX(AC$3091:AC$4531),0,\nIF(Hydrograph_Source_EURV=\"USER\",IF(AA4098>0.03*U$4532,0,$C4098/60),\nIF(AA4098>0.03*AA$4532,0,$C4098/60))))","v":0},{"$f":"IF(SUM(AK$3091:AK4097)>0,0,\nIF(MAX(AC4098:AC$4531)=MAX(AC$3091:AC$4531),0,\nIF(Hydrograph_Source_EURV=\"USER\",IF(AA4098>0.01*U$4532,0,$C4098/60),\nIF(AA4098>0.01*AA$4532,0,$C4098/60))))","v":0},0,0,0,0,0,0,0,0,0,{"$error":"#N/A"},{"$error":"#N/A"},{"$error":"#N/A"},{"$error":"#N/A"},{"$error":"#N/A"},{"$error":"#N/A"},{"$f":"IF(SUM(BA$3091:BA4097)>0,0,IF(MAX(AT4098:AT$4531)=MAX(AT$3091:AT$4531),0,IF(AR4098>0.03*AL$4532,0,$C4098/60)))","v":0},{"$f":"IF(SUM(BB$3091:BB4097)>0,0,IF(MAX(AT4098:AT$4531)=MAX(AT$3091:AT$4531),0,IF(AR4098>0.01*AL$4532,0,$C4098/60)))","v":0},0,0,0,0,0,0,0,0,0,{"$error":"#N/A"},{"$error":"#N/A"},{"$error":"#N/A"},{"$error":"#N/A"},{"$error":"#N/A"},{"$error":"#N/A"},{"$f":"IF(SUM(BR$3091:BR4097)>0,0,IF(MAX(BK4098:BK$4531)=MAX(BK$3091:BK$4531),0,IF(BI4098>0.03*BC$4532,0,$C4098/60)))","v":0},{"$f":"IF(SUM(BS$3091:BS4097)>0,0,IF(MAX(BK4098:BK$4531)=MAX(BK$3091:BK$4531),0,IF(BI4098>0.01*BC$4532,0,$C4098/60)))","v":0},0,0,0,0,0,0,0,0,0,{"$error":"#N/A"},{"$error":"#N/A"},{"$error":"#N/A"},{"$error":"#N/A"},{"$error":"#N/A"},{"$error":"#N/A"},{"$f":"IF(SUM(CI$3091:CI4097)>0,0,IF(MAX(CB4098:CB$4531)=MAX(CB$3091:CB$4531),0,IF(BZ4098>0.03*BT$4532,0,$C4098/60)))","v":0},{"$f":"IF(SUM(CJ$3091:CJ4097)>0,0,IF(MAX(CB4098:CB$4531)=MAX(CB$3091:CB$4531),0,IF(BZ4098>0.01*BT$4532,0,$C4098/60)))","v":0},0,0,0,0,0,0,0,0,0,{"$error":"#N/A"},{"$error":"#N/A"},{"$error":"#N/A"},{"$error":"#N/A"},{"$error":"#N/A"},{"$error":"#N/A"},{"$f":"IF(SUM(CZ$3091:CZ4097)>0,0,IF(MAX(CS4098:CS$4531)=MAX(CS$3091:CS$4531),0,IF(CQ4098>0.03*CK$4532,0,$C4098/60)))","v":0},{"$f":"IF(SUM(DA$3091:DA4097)>0,0,IF(MAX(CS4098:CS$4531)=MAX(CS$3091:CS$4531),0,IF(CQ4098>0.01*CK$4532,0,$C4098/60)))","v":0},0,0,0,0,0,0,0,0,0,{"$error":"#N/A"},{"$error":"#N/A"},{"$error":"#N/A"},{"$error":"#N/A"},{"$error":"#N/A"},{"$error":"#N/A"},{"$f":"IF(SUM(DQ$3091:DQ4097)>0,0,IF(MAX(DJ4098:DJ$4531)=MAX(DJ$3091:DJ$4531),0,IF(DH4098>0.03*DB$4532,0,$C4098/60)))","v":0},{"$f":"IF(SUM(DR$3091:DR4097)>0,0,IF(MAX(DJ4098:DJ$4531)=MAX(DJ$3091:DJ$4531),0,IF(DH4098>0.01*DB$4532,0,$C4098/60)))","v":0},0,0,0,0,0,0,0,0,0,{"$error":"#N/A"},{"$error":"#N/A"},{"$error":"#N/A"},{"$error":"#N/A"},{"$error":"#N/A"},{"$error":"#N/A"},{"$f":"IF(SUM(EH$3091:EH4097)>0,0,IF(MAX(EA4098:EA$4531)=MAX(EA$3091:EA$4531),0,IF(DY4098>0.03*DS$4532,0,$C4098/60)))","v":0},{"$f":"IF(SUM(EI$3091:EI4097)>0,0,IF(MAX(EA4098:EA$4531)=MAX(EA$3091:EA$4531),0,IF(DY4098>0.01*DS$4532,0,$C4098/60)))","v":0},0,0,0,0,0,0,0,0,0,{"$error":"#N/A"},{"$error":"#N/A"},{"$error":"#N/A"},{"$error":"#N/A"},{"$error":"#N/A"},{"$error":"#N/A"},{"$f":"IF(SUM(EY$3091:EY4097)>0,0,IF(MAX(ER4098:ER$4531)=MAX(ER$3091:ER$4531),0,IF(EP4098>0.03*EJ$4532,0,$C4098/60)))","v":0},{"$f":"IF(SUM(EZ$3091:EZ4097)>0,0,IF(MAX(ER4098:ER$4531)=MAX(ER$3091:ER$4531),0,IF(EP4098>0.01*EJ$4532,0,$C4098/60)))","v":0}]
[null,84.666666666666671,5080,0,0,0,0,0,0,0,0,0,{"$error":"#N/A"},{"$error":"#N/A"},{"$error":"#N/A"},{"$error":"#N/A"},{"$error":"#N/A"},{"$error":"#N/A"},{"$f":"IF(SUM(S$3091:S4106)>0,0,\nIF(MAX(L4107:L$4531)=MAX(L$3091:L$4531),0,\nIF(Hydrograph_Source_WQCV=\"USER\",IF(J4107>0.03*D$4532,0,$C4107/60),\nIF(J4107>0.03*J$4532,0,$C4107/60))))","v":0},{"$f":"IF(SUM(T$3091:T4106)>0,0,\nIF(MAX(L4107:L$4531)=MAX(L$3091:L$4531),0,\nIF(Hydrograph_Source_WQCV=\"USER\",IF(J4107>0.01*D$4532,0,$C4107/60),\nIF(J4107>0.01*J$4532,0,$C4107/60))))","v":0},0,0,0,0,0,0,0,0,0,{"$error":"#N/A"},{"$error":"#N/A"},{"$error":"#N/A"},{"$error":"#N/A"},{"$error":"#N/A"},{"$error":"#N/A"},{"$f":"IF(SUM(AJ$3091:AJ4106)>0,0,\nIF(MAX(AC4107:AC$4531)=MAX(AC$3091:AC$4531),0,\nIF(Hydrograph_Source_EURV=\"USER\",IF(AA4107>0.03*U$4532,0,$C4107/60),\nIF(AA4107>0.03*AA$4532,0,$C4107/60))))","v":0},{"$f":"IF(SUM(AK$3091:AK4106)>0,0,\nIF(MAX(AC4107:AC$4531)=MAX(AC$3091:AC$4531),0,\nIF(Hydrograph_Source_EURV=\"USER\",IF(AA4107>0.01*U$4532,0,$C4107/60),\nIF(AA4107>0.01*AA$4532,0,$C4107/60))))","v":0},0,0,0,0,0,0,0,0,0,{"$error":"#N/A"},{"$error":"#N/A"},{"$error":"#N/A"},{"$error":"#N/A"},{"$error":"#N/A"},{"$error":"#N/A"},{"$f":"IF(SUM(BA$3091:BA4106)>0,0,IF(MAX(AT4107:AT$4531)=MAX(AT$3091:AT$4531),0,IF(AR4107>0.03*AL$4532,0,$C4107/60)))","v":0},{"$f":"IF(SUM(BB$3091:BB4106)>0,0,IF(MAX(AT4107:AT$4531)=MAX(AT$3091:AT$4531),0,IF(AR4107>0.01*AL$4532,0,$C4107/60)))","v":0},0,0,0,0,0,0,0,0,0,{"$error":"#N/A"},{"$error":"#N/A"},{"$error":"#N/A"},{"$error":"#N/A"},{"$error":"#N/A"},{"$error":"#N/A"},{"$f":"IF(SUM(BR$3091:BR4106)>0,0,IF(MAX(BK4107:BK$4531)=MAX(BK$3091:BK$4531),0,IF(BI4107>0.03*BC$4532,0,$C4107/60)))","v":0},{"$f":"IF(SUM(BS$3091:BS4106)>0,0,IF(MAX(BK4107:BK$4531)=MAX(BK$3091:BK$4531),0,IF(BI4107>0.01*BC$4532,0,$C4107/60)))","v":0},0,0,0,0,0,0,0,0,0,{"$error":"#N/A"},{"$error":"#N/A"},{"$error":"#N/A"},{"$error":"#N/A"},{"$error":"#N/A"},{"$error":"#N/A"},{"$f":"IF(SUM(CI$3091:CI4106)>0,0,IF(MAX(CB4107:CB$4531)=MAX(CB$3091:CB$4531),0,IF(BZ4107>0.03*BT$4532,0,$C4107/60)))","v":0},{"$f":"IF(SUM(CJ$3091:CJ4106)>0,0,IF(MAX(CB4107:CB$4531)=MAX(CB$3091:CB$4531),0,IF(BZ4107>0.01*BT$4532,0,$C4107/60)))","v":0},0,0,0,0,0,0,0,0,0,{"$error":"#N/A"},{"$error":"#N/A"},{"$error":"#N/A"},{"$error":"#N/A"},{"$error":"#N/A"},{"$error":"#N/A"},{"$f":"IF(SUM(CZ$3091:CZ4106)>0,0,IF(MAX(CS4107:CS$4531)=MAX(CS$3091:CS$4531),0,IF(CQ4107>0.03*CK$4532,0,$C4107/60)))","v":0},{"$f":"IF(SUM(DA$3091:DA4106)>0,0,IF(MAX(CS4107:CS$4531)=MAX(CS$3091:CS$4531),0,IF(CQ4107>0.01*CK$4532,0,$C4107/60)))","v":0},0,0,0,0,0,0,0,0,0,{"$error":"#N/A"},{"$error":"#N/A"},{"$error":"#N/A"},{"$error":"#N/A"},{"$error":"#N/A"},{"$error":"#N/A"},{"$f":"IF(SUM(DQ$3091:DQ4106)>0,0,IF(MAX(DJ4107:DJ$4531)=MAX(DJ$3091:DJ$4531),0,IF(DH4107>0.03*DB$4532,0,$C4107/60)))","v":0},{"$f":"IF(SUM(DR$3091:DR4106)>0,0,IF(MAX(DJ4107:DJ$4531)=MAX(DJ$3091:DJ$4531),0,IF(DH4107>0.01*DB$4532,0,$C4107/60)))","v":0},0,0,0,0,0,0,0,0,0,{"$error":"#N/A"},{"$error":"#N/A"},{"$error":"#N/A"},{"$error":"#N/A"},{"$error":"#N/A"},{"$error":"#N/A"},{"$f":"IF(SUM(EH$3091:EH4106)>0,0,IF(MAX(EA4107:EA$4531)=MAX(EA$3091:EA$4531),0,IF(DY4107>0.03*DS$4532,0,$C4107/60)))","v":0},{"$f":"IF(SUM(EI$3091:EI4106)>0,0,IF(MAX(EA4107:EA$4531)=MAX(EA$3091:EA$4531),0,IF(DY4107>0.01*DS$4532,0,$C4107/60)))","v":0},0,0,0,0,0,0,0,0,0,{"$error":"#N/A"},{"$error":"#N/A"},{"$error":"#N/A"},{"$error":"#N/A"},{"$error":"#N/A"},{"$error":"#N/A"},{"$f":"IF(SUM(EY$3091:EY4106)>0,0,IF(MAX(ER4107:ER$4531)=MAX(ER$3091:ER$4531),0,IF(EP4107>0.03*EJ$4532,0,$C4107/60)))","v":0},{"$f":"IF(SUM(EZ$3091:EZ4106)>0,0,IF(MAX(ER4107:ER$4531)=MAX(ER$3091:ER$4531),0,IF(EP4107>0.01*EJ$4532,0,$C4107/60)))","v":0}]
[null,85.416666666666671,5125,0,0,{"$f":"G4115","v":0},0,{"$f":"I4115","v":0},0,0,0,{"$f":"IF($D$3091=\"\",0,ROUND((R4116*K4116+Q4116-R4116*P4116),7))","v":0},{"$error":"#N/A"},{"$f":"MATCH(K4116,$Y$87:$Y$3087,1)","v":{"$error":"#N/A"}},{"$f":"INDEX($X$87:$X$3087,N4116,1)","v":{"$error":"#N/A"}},{"$f":"INDEX($Y$87:$Y$3087,N4116,1)","v":{"$error":"#N/A"}},{"$error":"#N/A"},{"$error":"#N/A"},{"$f":"IF(SUM(S$3091:S4115)>0,0,\nIF(MAX(L4116:L$4531)=MAX(L$3091:L$4531),0,\nIF(Hydrograph_Source_WQCV=\"USER\",IF(J4116>0.03*D$4532,0,$C4116/60),\nIF(J4116>0.03*J$4532,0,$C4116/60))))","v":0},{"$f":"IF(SUM(T$3091:T4115)>0,0,\nIF(MAX(L4116:L$4531)=MAX(L$3091:L$4531),0,\nIF(Hydrograph_Source_WQCV=\"USER\",IF(J4116>0.01*D$4532,0,$C4116/60),\nIF(J4116>0.01*J$4532,0,$C4116/60))))","v":0},0,0,{"$f":"X4115","v":0},0,{"$f":"Z4115","v":0},0,0,0,{"$f":"IF($U$3091=\"\",0,ROUND((AI4116*AB4116+AH4116-AI4116*AG4116),7))","v":0},{"$error":"#N/A"},{"$f":"MATCH(AB4116,$Y$87:$Y$3087,1)","v":{"$error":"#N/A"}},{"$f":"INDEX($X$87:$X$3087,AE4116,1)","v":{"$error":"#N/A"}},{"$f":"INDEX($Y$87:$Y$3087,AE4116,1)","v":{"$error":"#N/A"}},{"$error":"#N/A"},{"$error":"#N/A"},{"$f":"IF(SUM(AJ$3091:AJ4115)>0,0,\nIF(MAX(AC4116:AC$4531)=MAX(AC$3091:AC$4531),0,\nIF(Hydrograph_Source_EURV=\"USER\",IF(AA4116>0.03*U$4532,0,$C4116/60),\nIF(AA4116>0.03*AA$4532,0,$C4116/60))))","v":0},{"$f":"IF(SUM(AK$3091:AK4115)>0,0,\nIF(MAX(AC4116:AC$4531)=MAX(AC$3091:AC$4531),0,\nIF(Hydrograph_Source_EURV=\"USER\",IF(AA4116>0.01*U$4532,0,$C4116/60),\nIF(AA4116>0.01*AA$4532,0,$C4116/60))))","v":0},0,0,{"$f":"AO4115","v":0},0,{"$f":"AQ4115","v":0},0,0,0,{"$f":"IF($AL$3091=\"\",0,ROUND((AZ4116*AS4116+AY4116-AZ4116*AX4116),7))","v":0},{"$error":"#N/A"},{"$f":"MATCH(AS4116,$Y$87:$Y$3087,1)","v":{"$error":"#N/A"}},{"$f":"INDEX($X$87:$X$3087,AV4116,1)","v":{"$error":"#N/A"}},{"$f":"INDEX($Y$87:$Y$3087,AV4116,1)","v":{"$error":"#N/A"}},{"$error":"#N/A"},{"$error":"#N/A"},{"$f":"IF(SUM(BA$3091:BA4115)>0,0,IF(MAX(AT4116:AT$4531)=MAX(AT$3091:AT$4531),0,IF(AR4116>0.03*AL$4532,0,$C4116/60)))","v":0},{"$f":"IF(SUM(BB$3091:BB4115)>0,0,IF(MAX(AT4116:AT$4531)=MAX(AT$3091:AT$4531),0,IF(AR4116>0.01*AL$4532,0,$C4116/60)))","v":0},0,0,{"$f":"BF4115","v":0},0,{"$f":"BH4115","v":0},0,0,0,{"$f":"IF($BC$3091=\"\",0,ROUND((BQ4116*BJ4116+BP4116-BQ4116*BO4116),7))","v":0},{"$error":"#N/A"},{"$f":"MATCH(BJ4116,$Y$87:$Y$3087,1)","v":{"$error":"#N/A"}},{"$f":"INDEX($X$87:$X$3087,BM4116,1)","v":{"$error":"#N/A"}},{"$f":"INDEX($Y$87:$Y$3087,BM4116,1)","v":{"$error":"#N/A"}},{"$error":"#N/A"},{"$error":"#N/A"},{"$f":"IF(SUM(BR$3091:BR4115)>0,0,IF(MAX(BK4116:BK$4531)=MAX(BK$3091:BK$4531),0,IF(BI4116>0.03*BC$4532,0,$C4116/60)))","v":0},{"$f":"IF(SUM(BS$3091:BS4115)>0,0,IF(MAX(BK4116:BK$4531)=MAX(BK$3091:BK$4531),0,IF(BI4116>0.01*BC$4532,0,$C4116/60)))","v":0},0,0,{"$f":"BW4115","v":0},0,{"$f":"BY4115","v":0},0,0,0,{"$f":"IF($BT$3091=\"\",0,ROUND((CH4116*CA4116+CG4116-CH4116*CF4116),7))","v":0},{"$error":"#N/A"},{"$f":"MATCH(CA4116,$Y$87:$Y$3087,1)","v":{"$error":"#N/A"}},{"$f":"INDEX($X$87:$X$3087,CD4116,1)","v":{"$error":"#N/A"}},{"$f":"INDEX($Y$87:$Y$3087,CD4116,1)","v":{"$error":"#N/A"}},{"$error":"#N/A"},{"$error":"#N/A"},{"$f":"IF(SUM(CI$3091:CI4115)>0,0,IF(MAX(CB4116:CB$4531)=MAX(CB$3091:CB$4531),0,IF(BZ4116>0.03*BT$4532,0,$C4116/60)))","v":0},{"$f":"IF(SUM(CJ$3091:CJ4115)>0,0,IF(MAX(CB4116:CB$4531)=MAX(CB$3091:CB$4531),0,IF(BZ4116>0.01*BT$4532,0,$C4116/60)))","v":0},0,0,{"$f":"CN4115","v":0},0,{"$f":"CP4115","v":0},0,0,0,{"$f":"IF($CK$3091=\"\",0,ROUND((CY4116*CR4116+CX4116-CY4116*CW4116),7))","v":0},{"$error":"#N/A"},{"$f":"MATCH(CR4116,$Y$87:$Y$3087,1)","v":{"$error":"#N/A"}},{"$f":"INDEX($X$87:$X$3087,CU4116,1)","v":{"$error":"#N/A"}},{"$f":"INDEX($Y$87:$Y$3087,CU4116,1)","v":{"$error":"#N/A"}},{"$error":"#N/A"},{"$error":"#N/A"},{"$f":"IF(SUM(CZ$3091:CZ4115)>0,0,IF(MAX(CS4116:CS$4531)=MAX(CS$3091:CS$4531),0,IF(CQ4116>0.03*CK$4532,0,$C4116/60)))","v":0},{"$f":"IF(SUM(DA$3091:DA4115)>0,0,IF(MAX(CS4116:CS$4531)=MAX(CS$3091:CS$4531),0,IF(CQ4116>0.01*CK$4532,0,$C4116/60)))","v":0},0,0,{"$f":"DE4115","v":0},0,{"$f":"DG4115","v":0},0,0,0,{"$f":"IF($DB$3091=\"\",0,ROUND((DP4116*DI4116+DO4116-DP4116*DN4116),7))","v":0},{"$error":"#N/A"},{"$f":"MATCH(DI4116,$Y$87:$Y$3087,1)","v":{"$error":"#N/A"}},{"$f":"INDEX($X$87:$X$3087,DL4116,1)","v":{"$error":"#N/A"}},{"$f":"INDEX($Y$87:$Y$3087,DL4116,1)","v":{"$error":"#N/A"}},{"$error":"#N/A"},{"$error":"#N/A"},{"$f":"IF(SUM(DQ$3091:DQ4115)>0,0,IF(MAX(DJ4116:DJ$4531)=MAX(DJ$3091:DJ$4531),0,IF(DH4116>0.03*DB$4532,0,$C4116/60)))","v":0},{"$f":"IF(SUM(DR$3091:DR4115)>0,0,IF(MAX(DJ4116:DJ$4531)=MAX(DJ$3091:DJ$4531),0,IF(DH4116>0.01*DB$4532,0,$C4116/60)))","v":0},0,0,{"$f":"DV4115","v":0},0,{"$f":"DX4115","v":0},0,0,0,{"$f":"IF($DS$3091=\"\",0,ROUND((EG4116*DZ4116+EF4116-EG4116*EE4116),7))","v":0},{"$error":"#N/A"},{"$f":"MATCH(DZ4116,$Y$87:$Y$3087,1)","v":{"$error":"#N/A"}},{"$f":"INDEX($X$87:$X$3087,EC4116,1)","v":{"$error":"#N/A"}},{"$f":"INDEX($Y$87:$Y$3087,EC4116,1)","v":{"$error":"#N/A"}},{"$error":"#N/A"},{"$error":"#N/A"},{"$f":"IF(SUM(EH$3091:EH4115)>0,0,IF(MAX(EA4116:EA$4531)=MAX(EA$3091:EA$4531),0,IF(DY4116>0.03*DS$4532,0,$C4116/60)))","v":0},{"$f":"IF(SUM(EI$3091:EI4115)>0,0,IF(MAX(EA4116:EA$4531)=MAX(EA$3091:EA$4531),0,IF(DY4116>0.01*DS$4532,0,$C4116/60)))","v":0},0,0,{"$f":"EM4115","v":0},0,{"$f":"EO4115","v":0},0,0,0,{"$f":"IF($EJ$3091=\"\",0,ROUND((EX4116*EQ4116+EW4116-EX4116*EV4116),7))","v":0},{"$error":"#N/A"},{"$f":"MATCH(EQ4116,$Y$87:$Y$3087,1)","v":{"$error":"#N/A"}},{"$f":"INDEX($X$87:$X$3087,ET4116,1)","v":{"$error":"#N/A"}},{"$f":"INDEX($Y$87:$Y$3087,ET4116,1)","v":{"$error":"#N/A"}},{"$error":"#N/A"},{"$error":"#N/A"},{"$f":"IF(SUM(EY$3091:EY4115)>0,0,IF(MAX(ER4116:ER$4531)=MAX(ER$3091:ER$4531),0,IF(EP4116>0.03*EJ$4532,0,$C4116/60)))","v":0},{"$f":"IF(SUM(EZ$3091:EZ4115)>0,0,IF(MAX(ER4116:ER$4531)=MAX(ER$3091:ER$4531),0,IF(EP4116>0.01*EJ$4532,0,$C4116/60)))","v":0}]
[null,86.166666666666671,5170,0,0,0,0,0,0,0,0,0,{"$error":"#N/A"},{"$error":"#N/A"},{"$error":"#N/A"},{"$error":"#N/A"},{"$error":"#N/A"},{"$error":"#N/A"},{"$f":"IF(SUM(S$3091:S4124)>0,0,\nIF(MAX(L4125:L$4531)=MAX(L$3091:L$4531),0,\nIF(Hydrograph_Source_WQCV=\"USER\",IF(J4125>0.03*D$4532,0,$C4125/60),\nIF(J4125>0.03*J$4532,0,$C4125/60))))","v":0},{"$f":"IF(SUM(T$3091:T4124)>0,0,\nIF(MAX(L4125:L$4531)=MAX(L$3091:L$4531),0,\nIF(Hydrograph_Source_WQCV=\"USER\",IF(J4125>0.01*D$4532,0,$C4125/60),\nIF(J4125>0.01*J$4532,0,$C4125/60))))","v":0},0,0,0,0,0,0,0,0,0,{"$error":"#N/A"},{"$error":"#N/A"},{"$error":"#N/A"},{"$error":"#N/A"},{"$error":"#N/A"},{"$error":"#N/A"},{"$f":"IF(SUM(AJ$3091:AJ4124)>0,0,\nIF(MAX(AC4125:AC$4531)=MAX(AC$3091:AC$4531),0,\nIF(Hydrograph_Source_EURV=\"USER\",IF(AA4125>0.03*U$4532,0,$C4125/60),\nIF(AA4125>0.03*AA$4532,0,$C4125/60))))","v":0},{"$f":"IF(SUM(AK$3091:AK4124)>0,0,\nIF(MAX(AC4125:AC$4531)=MAX(AC$3091:AC$4531),0,\nIF(Hydrograph_Source_EURV=\"USER\",IF(AA4125>0.01*U$4532,0,$C4125/60),\nIF(AA4125>0.01*AA$4532,0,$C4125/60))))","v":0},0,0,0,0,0,0,0,0,0,{"$error":"#N/A"},{"$error":"#N/A"},{"$error":"#N/A"},{"$error":"#N/A"},{"$error":"#N/A"},{"$error":"#N/A"},{"$f":"IF(SUM(BA$3091:BA4124)>0,0,IF(MAX(AT4125:AT$4531)=MAX(AT$3091:AT$4531),0,IF(AR4125>0.03*AL$4532,0,$C4125/60)))","v":0},{"$f":"IF(SUM(BB$3091:BB4124)>0,0,IF(MAX(AT4125:AT$4531)=MAX(AT$3091:AT$4531),0,IF(AR4125>0.01*AL$4532,0,$C4125/60)))","v":0},0,0,0,0,0,0,0,0,0,{"$error":"#N/A"},{"$error":"#N/A"},{"$error":"#N/A"},{"$error":"#N/A"},{"$error":"#N/A"},{"$error":"#N/A"},{"$f":"IF(SUM(BR$3091:BR4124)>0,0,IF(MAX(BK4125:BK$4531)=MAX(BK$3091:BK$4531),0,IF(BI4125>0.03*BC$4532,0,$C4125/60)))","v":0},{"$f":"IF(SUM(BS$3091:BS4124)>0,0,IF(MAX(BK4125:BK$4531)=MAX(BK$3091:BK$4531),0,IF(BI4125>0.01*BC$4532,0,$C4125/60)))","v":0},0,0,0,0,0,0,0,0,0,{"$error":"#N/A"},{"$error":"#N/A"},{"$error":"#N/A"},{"$error":"#N/A"},{"$error":"#N/A"},{"$error":"#N/A"},{"$f":"IF(SUM(CI$3091:CI4124)>0,0,IF(MAX(CB4125:CB$4531)=MAX(CB$3091:CB$4531),0,IF(BZ4125>0.03*BT$4532,0,$C4125/60)))","v":0},{"$f":"IF(SUM(CJ$3091:CJ4124)>0,0,IF(MAX(CB4125:CB$4531)=MAX(CB$3091:CB$4531),0,IF(BZ4125>0.01*BT$4532,0,$C4125/60)))","v":0},0,0,0,0,0,0,0,0,0,{"$error":"#N/A"},{"$error":"#N/A"},{"$error":"#N/A"},{"$error":"#N/A"},{"$error":"#N/A"},{"$error":"#N/A"},{"$f":"IF(SUM(CZ$3091:CZ4124)>0,0,IF(MAX(CS4125:CS$4531)=MAX(CS$3091:CS$4531),0,IF(CQ4125>0.03*CK$4532,0,$C4125/60)))","v":0},{"$f":"IF(SUM(DA$3091:DA4124)>0,0,IF(MAX(CS4125:CS$4531)=MAX(CS$3091:CS$4531),0,IF(CQ4125>0.01*CK$4532,0,$C4125/60)))","v":0},0,0,0,0,0,0,0,0,0,{"$error":"#N/A"},{"$error":"#N/A"},{"$error":"#N/A"},{"$error":"#N/A"},{"$error":"#N/A"},{"$error":"#N/A"},{"$f":"IF(SUM(DQ$3091:DQ4124)>0,0,IF(MAX(DJ4125:DJ$4531)=MAX(DJ$3091:DJ$4531),0,IF(DH4125>0.03*DB$4532,0,$C4125/60)))","v":0},{"$f":"IF(SUM(DR$3091:DR4124)>0,0,IF(MAX(DJ4125:DJ$4531)=MAX(DJ$3091:DJ$4531),0,IF(DH4125>0.01*DB$4532,0,$C4125/60)))","v":0},0,0,0,0,0,0,0,0,0,{"$error":"#N/A"},{"$error":"#N/A"},{"$error":"#N/A"},{"$error":"#N/A"},{"$error":"#N/A"},{"$error":"#N/A"},{"$f":"IF(SUM(EH$3091:EH4124)>0,0,IF(MAX(EA4125:EA$4531)=MAX(EA$3091:EA$4531),0,IF(DY4125>0.03*DS$4532,0,$C4125/60)))","v":0},{"$f":"IF(SUM(EI$3091:EI4124)>0,0,IF(MAX(EA4125:EA$4531)=MAX(EA$3091:EA$4531),0,IF(DY4125>0.01*DS$4532,0,$C4125/60)))","v":0},0,0,0,0,0,0,0,0,0,{"$error":"#N/A"},{"$error":"#N/A"},{"$error":"#N/A"},{"$error":"#N/A"},{"$error":"#N/A"},{"$error":"#N/A"},{"$f":"IF(SUM(EY$3091:EY4124)>0,0,IF(MAX(ER4125:ER$4531)=MAX(ER$3091:ER$4531),0,IF(EP4125>0.03*EJ$4532,0,$C4125/60)))","v":0},{"$f":"IF(SUM(EZ$3091:EZ4124)>0,0,IF(MAX(ER4125:ER$4531)=MAX(ER$3091:ER$4531),0,IF(EP4125>0.01*EJ$4532,0,$C4125/60)))","v":0}]
[null,86.25,5175,0,0,0,0,0,0,0,0,0,{"$error":"#N/A"},{"$error":"#N/A"},{"$error":"#N/A"},{"$error":"#N/A"},{"$error":"#N/A"},{"$error":"#N/A"},{"$f":"IF(SUM(S$3091:S4125)>0,0,\nIF(MAX(L4126:L$4531)=MAX(L$3091:L$4531),0,\nIF(Hydrograph_Source_WQCV=\"USER\",IF(J4126>0.03*D$4532,0,$C4126/60),\nIF(J4126>0.03*J$4532,0,$C4126/60))))","v":0},{"$f":"IF(SUM(T$3091:T4125)>0,0,\nIF(MAX(L4126:L$4531)=MAX(L$3091:L$4531),0,\nIF(Hydrograph_Source_WQCV=\"USER\",IF(J4126>0.01*D$4532,0,$C4126/60),\nIF(J4126>0.01*J$4532,0,$C4126/60))))","v":0},0,0,0,0,0,0,0,0,0,{"$error":"#N/A"},{"$error":"#N/A"},{"$error":"#N/A"},{"$error":"#N/A"},{"$error":"#N/A"},{"$error":"#N/A"},{"$f":"IF(SUM(AJ$3091:AJ4125)>0,0,\nIF(MAX(AC4126:AC$4531)=MAX(AC$3091:AC$4531),0,\nIF(Hydrograph_Source_EURV=\"USER\",IF(AA4126>0.03*U$4532,0,$C4126/60),\nIF(AA4126>0.03*AA$4532,0,$C4126/60))))","v":0},{"$f":"IF(SUM(AK$3091:AK4125)>0,0,\nIF(MAX(AC4126:AC$4531)=MAX(AC$3091:AC$4531),0,\nIF(Hydrograph_Source_EURV=\"USER\",IF(AA4126>0.01*U$4532,0,$C4126/60),\nIF(AA4126>0.01*AA$4532,0,$C4126/60))))","v":0},0,0,0,0,0,0,0,0,0,{"$error":"#N/A"},{"$error":"#N/A"},{"$error":"#N/A"},{"$error":"#N/A"},{"$error":"#N/A"},{"$error":"#N/A"},{"$f":"IF(SUM(BA$3091:BA4125)>0,0,IF(MAX(AT4126:AT$4531)=MAX(AT$3091:AT$4531),0,IF(AR4126>0.03*AL$4532,0,$C4126/60)))","v":0},{"$f":"IF(SUM(BB$3091:BB4125)>0,0,IF(MAX(AT4126:AT$4531)=MAX(AT$3091:AT$4531),0,IF(AR4126>0.01*AL$4532,0,$C4126/60)))","v":0},0,0,0,0,0,0,0,0,0,{"$error":"#N/A"},{"$error":"#N/A"},{"$error":"#N/A"},{"$error":"#N/A"},{"$error":"#N/A"},{"$error":"#N/A"},{"$f":"IF(SUM(BR$3091:BR4125)>0,0,IF(MAX(BK4126:BK$4531)=MAX(BK$3091:BK$4531),0,IF(BI4126>0.03*BC$4532,0,$C4126/60)))","v":0},{"$f":"IF(SUM(BS$3091:BS4125)>0,0,IF(MAX(BK4126:BK$4531)=MAX(BK$3091:BK$4531),0,IF(BI4126>0.01*BC$4532,0,$C4126/60)))","v":0},0,0,0,0,0,0,0,0,0,{"$error":"#N/A"},{"$error":"#N/A"},{"$error":"#N/A"},{"$error":"#N/A"},{"$error":"#N/A"},{"$error":"#N/A"},{"$f":"IF(SUM(CI$3091:CI4125)>0,0,IF(MAX(CB4126:CB$4531)=MAX(CB$3091:CB$4531),0,IF(BZ4126>0.03*BT$4532,0,$C4126/60)))","v":0},{"$f":"IF(SUM(CJ$3091:CJ4125)>0,0,IF(MAX(CB4126:CB$4531)=MAX(CB$3091:CB$4531),0,IF(BZ4126>0.01*BT$4532,0,$C4126/60)))","v":0},0,0,0,0,0,0,0,0,0,{"$error":"#N/A"},{"$error":"#N/A"},{"$error":"#N/A"},{"$error":"#N/A"},{"$error":"#N/A"},{"$error":"#N/A"},{"$f":"IF(SUM(CZ$3091:CZ4125)>0,0,IF(MAX(CS4126:CS$4531)=MAX(CS$3091:CS$4531),0,IF(CQ4126>0.03*CK$4532,0,$C4126/60)))","v":0},{"$f":"IF(SUM(DA$3091:DA4125)>0,0,IF(MAX(CS4126:CS$4531)=MAX(CS$3091:CS$4531),0,IF(CQ4126>0.01*CK$4532,0,$C4126/60)))","v":0},0,0,0,0,0,0,0,0,0,{"$error":"#N/A"},{"$error":"#N/A"},{"$error":"#N/A"},{"$error":"#N/A"},{"$error":"#N/A"},{"$error":"#N/A"},{"$f":"IF(SUM(DQ$3091:DQ4125)>0,0,IF(MAX(DJ4126:DJ$4531)=MAX(DJ$3091:DJ$4531),0,IF(DH4126>0.03*DB$4532,0,$C4126/60)))","v":0},{"$f":"IF(SUM(DR$3091:DR4125)>0,0,IF(MAX(DJ4126:DJ$4531)=MAX(DJ$3091:DJ$4531),0,IF(DH4126>0.01*DB$4532,0,$C4126/60)))","v":0},0,0,0,0,0,0,0,0,0,{"$error":"#N/A"},{"$error":"#N/A"},{"$error":"#N/A"},{"$error":"#N/A"},{"$error":"#N/A"},{"$error":"#N/A"},{"$f":"IF(SUM(EH$3091:EH4125)>0,0,IF(MAX(EA4126:EA$4531)=MAX(EA$3091:EA$4531),0,IF(DY4126>0.03*DS$4532,0,$C4126/60)))","v":0},{"$f":"IF(SUM(EI$3091:EI4125)>0,0,IF(MAX(EA4126:EA$4531)=MAX(EA$3091:EA$4531),0,IF(DY4126>0.01*DS$4532,0,$C4126/60)))","v":0},0,0,0,0,0,0,0,0,0,{"$error":"#N/A"},{"$error":"#N/A"},{"$error":"#N/A"},{"$error":"#N/A"},{"$error":"#N/A"},{"$error":"#N/A"},{"$f":"IF(SUM(EY$3091:EY4125)>0,0,IF(MAX(ER4126:ER$4531)=MAX(ER$3091:ER$4531),0,IF(EP4126>0.03*EJ$4532,0,$C4126/60)))","v":0},{"$f":"IF(SUM(EZ$3091:EZ4125)>0,0,IF(MAX(ER4126:ER$4531)=MAX(ER$3091:ER$4531),0,IF(EP4126>0.01*EJ$4532,0,$C4126/60)))","v":0}]
[null,87,5220,0,0,0,0,0,0,0,0,0,{"$error":"#N/A"},{"$error":"#N/A"},{"$error":"#N/A"},{"$error":"#N/A"},{"$error":"#N/A"},{"$error":"#N/A"},{"$f":"IF(SUM(S$3091:S4134)>0,0,\nIF(MAX(L4135:L$4531)=MAX(L$3091:L$4531),0,\nIF(Hydrograph_Source_WQCV=\"USER\",IF(J4135>0.03*D$4532,0,$C4135/60),\nIF(J4135>0.03*J$4532,0,$C4135/60))))","v":0},{"$f":"IF(SUM(T$3091:T4134)>0,0,\nIF(MAX(L4135:L$4531)=MAX(L$3091:L$4531),0,\nIF(Hydrograph_Source_WQCV=\"USER\",IF(J4135>0.01*D$4532,0,$C4135/60),\nIF(J4135>0.01*J$4532,0,$C4135/60))))","v":0},0,0,0,0,0,0,0,0,0,{"$error":"#N/A"},{"$error":"#N/A"},{"$error":"#N/A"},{"$error":"#N/A"},{"$error":"#N/A"},{"$error":"#N/A"},{"$f":"IF(SUM(AJ$3091:AJ4134)>0,0,\nIF(MAX(AC4135:AC$4531)=MAX(AC$3091:AC$4531),0,\nIF(Hydrograph_Source_EURV=\"USER\",IF(AA4135>0.03*U$4532,0,$C4135/60),\nIF(AA4135>0.03*AA$4532,0,$C4135/60))))","v":0},{"$f":"IF(SUM(AK$3091:AK4134)>0,0,\nIF(MAX(AC4135:AC$4531)=MAX(AC$3091:AC$4531),0,\nIF(Hydrograph_Source_EURV=\"USER\",IF(AA4135>0.01*U$4532,0,$C4135/60),\nIF(AA4135>0.01*AA$4532,0,$C4135/60))))","v":0},0,0,0,0,0,0,0,0,0,{"$error":"#N/A"},{"$error":"#N/A"},{"$error":"#N/A"},{"$error":"#N/A"},{"$error":"#N/A"},{"$error":"#N/A"},{"$f":"IF(SUM(BA$3091:BA4134)>0,0,IF(MAX(AT4135:AT$4531)=MAX(AT$3091:AT$4531),0,IF(AR4135>0.03*AL$4532,0,$C4135/60)))","v":0},{"$f":"IF(SUM(BB$3091:BB4134)>0,0,IF(MAX(AT4135:AT$4531)=MAX(AT$3091:AT$4531),0,IF(AR4135>0.01*AL$4532,0,$C4135/60)))","v":0},0,0,0,0,0,0,0,0,0,{"$error":"#N/A"},{"$error":"#N/A"},{"$error":"#N/A"},{"$error":"#N/A"},{"$error":"#N/A"},{"$error":"#N/A"},{"$f":"IF(SUM(BR$3091:BR4134)>0,0,IF(MAX(BK4135:BK$4531)=MAX(BK$3091:BK$4531),0,IF(BI4135>0.03*BC$4532,0,$C4135/60)))","v":0},{"$f":"IF(SUM(BS$3091:BS4134)>0,0,IF(MAX(BK4135:BK$4531)=MAX(BK$3091:BK$4531),0,IF(BI4135>0.01*BC$4532,0,$C4135/60)))","v":0},0,0,0,0,0,0,0,0,0,{"$error":"#N/A"},{"$error":"#N/A"},{"$error":"#N/A"},{"$error":"#N/A"},{"$error":"#N/A"},{"$error":"#N/A"},{"$f":"IF(SUM(CI$3091:CI4134)>0,0,IF(MAX(CB4135:CB$4531)=MAX(CB$3091:CB$4531),0,IF(BZ4135>0.03*BT$4532,0,$C4135/60)))","v":0},{"$f":"IF(SUM(CJ$3091:CJ4134)>0,0,IF(MAX(CB4135:CB$4531)=MAX(CB$3091:CB$4531),0,IF(BZ4135>0.01*BT$4532,0,$C4135/60)))","v":0},0,0,0,0,0,0,0,0,0,{"$error":"#N/A"},{"$error":"#N/A"},{"$error":"#N/A"},{"$error":"#N/A"},{"$error":"#N/A"},{"$error":"#N/A"},{"$f":"IF(SUM(CZ$3091:CZ4134)>0,0,IF(MAX(CS4135:CS$4531)=MAX(CS$3091:CS$4531),0,IF(CQ4135>0.03*CK$4532,0,$C4135/60)))","v":0},{"$f":"IF(SUM(DA$3091:DA4134)>0,0,IF(MAX(CS4135:CS$4531)=MAX(CS$3091:CS$4531),0,IF(CQ4135>0.01*CK$4532,0,$C4135/60)))","v":0},0,0,0,0,0,0,0,0,0,{"$error":"#N/A"},{"$error":"#N/A"},{"$error":"#N/A"},{"$error":"#N/A"},{"$error":"#N/A"},{"$error":"#N/A"},{"$f":"IF(SUM(DQ$3091:DQ4134)>0,0,IF(MAX(DJ4135:DJ$4531)=MAX(DJ$3091:DJ$4531),0,IF(DH4135>0.03*DB$4532,0,$C4135/60)))","v":0},{"$f":"IF(SUM(DR$3091:DR4134)>0,0,IF(MAX(DJ4135:DJ$4531)=MAX(DJ$3091:DJ$4531),0,IF(DH4135>0.01*DB$4532,0,$C4135/60)))","v":0},0,0,0,0,0,0,0,0,0,{"$error":"#N/A"},{"$error":"#N/A"},{"$error":"#N/A"},{"$error":"#N/A"},{"$error":"#N/A"},{"$error":"#N/A"},{"$f":"IF(SUM(EH$3091:EH4134)>0,0,IF(MAX(EA4135:EA$4531)=MAX(EA$3091:EA$4531),0,IF(DY4135>0.03*DS$4532,0,$C4135/60)))","v":0},{"$f":"IF(SUM(EI$3091:EI4134)>0,0,IF(MAX(EA4135:EA$4531)=MAX(EA$3091:EA$4531),0,IF(DY4135>0.01*DS$4532,0,$C4135/60)))","v":0},0,0,0,0,0,0,0,0,0,{"$error":"#N/A"},{"$error":"#N/A"},{"$error":"#N/A"},{"$error":"#N/A"},{"$error":"#N/A"},{"$error":"#N/A"},{"$f":"IF(SUM(EY$3091:EY4134)>0,0,IF(MAX(ER4135:ER$4531)=MAX(ER$3091:ER$4531),0,IF(EP4135>0.03*EJ$4532,0,$C4135/60)))","v":0},{"$f":"IF(SUM(EZ$3091:EZ4134)>0,0,IF(MAX(ER4135:ER$4531)=MAX(ER$3091:ER$4531),0,IF(EP4135>0.01*EJ$4532,0,$C4135/60)))","v":0}]
[null,87.75,5265,0,0,0,0,0,0,0,0,0,{"$error":"#N/A"},{"$error":"#N/A"},{"$error":"#N/A"},{"$error":"#N/A"},{"$error":"#N/A"},{"$error":"#N/A"},{"$f":"IF(SUM(S$3091:S4143)>0,0,\nIF(MAX(L4144:L$4531)=MAX(L$3091:L$4531),0,\nIF(Hydrograph_Source_WQCV=\"USER\",IF(J4144>0.03*D$4532,0,$C4144/60),\nIF(J4144>0.03*J$4532,0,$C4144/60))))","v":0},{"$f":"IF(SUM(T$3091:T4143)>0,0,\nIF(MAX(L4144:L$4531)=MAX(L$3091:L$4531),0,\nIF(Hydrograph_Source_WQCV=\"USER\",IF(J4144>0.01*D$4532,0,$C4144/60),\nIF(J4144>0.01*J$4532,0,$C4144/60))))","v":0},0,0,0,0,0,0,0,0,0,{"$error":"#N/A"},{"$error":"#N/A"},{"$error":"#N/A"},{"$error":"#N/A"},{"$error":"#N/A"},{"$error":"#N/A"},{"$f":"IF(SUM(AJ$3091:AJ4143)>0,0,\nIF(MAX(AC4144:AC$4531)=MAX(AC$3091:AC$4531),0,\nIF(Hydrograph_Source_EURV=\"USER\",IF(AA4144>0.03*U$4532,0,$C4144/60),\nIF(AA4144>0.03*AA$4532,0,$C4144/60))))","v":0},{"$f":"IF(SUM(AK$3091:AK4143)>0,0,\nIF(MAX(AC4144:AC$4531)=MAX(AC$3091:AC$4531),0,\nIF(Hydrograph_Source_EURV=\"USER\",IF(AA4144>0.01*U$4532,0,$C4144/60),\nIF(AA4144>0.01*AA$4532,0,$C4144/60))))","v":0},0,0,0,0,0,0,0,0,0,{"$error":"#N/A"},{"$error":"#N/A"},{"$error":"#N/A"},{"$error":"#N/A"},{"$error":"#N/A"},{"$error":"#N/A"},{"$f":"IF(SUM(BA$3091:BA4143)>0,0,IF(MAX(AT4144:AT$4531)=MAX(AT$3091:AT$4531),0,IF(AR4144>0.03*AL$4532,0,$C4144/60)))","v":0},{"$f":"IF(SUM(BB$3091:BB4143)>0,0,IF(MAX(AT4144:AT$4531)=MAX(AT$3091:AT$4531),0,IF(AR4144>0.01*AL$4532,0,$C4144/60)))","v":0},0,0,0,0,0,0,0,0,0,{"$error":"#N/A"},{"$error":"#N/A"},{"$error":"#N/A"},{"$error":"#N/A"},{"$error":"#N/A"},{"$error":"#N/A"},{"$f":"IF(SUM(BR$3091:BR4143)>0,0,IF(MAX(BK4144:BK$4531)=MAX(BK$3091:BK$4531),0,IF(BI4144>0.03*BC$4532,0,$C4144/60)))","v":0},{"$f":"IF(SUM(BS$3091:BS4143)>0,0,IF(MAX(BK4144:BK$4531)=MAX(BK$3091:BK$4531),0,IF(BI4144>0.01*BC$4532,0,$C4144/60)))","v":0},0,0,0,0,0,0,0,0,0,{"$error":"#N/A"},{"$error":"#N/A"},{"$error":"#N/A"},{"$error":"#N/A"},{"$error":"#N/A"},{"$error":"#N/A"},{"$f":"IF(SUM(CI$3091:CI4143)>0,0,IF(MAX(CB4144:CB$4531)=MAX(CB$3091:CB$4531),0,IF(BZ4144>0.03*BT$4532,0,$C4144/60)))","v":0},{"$f":"IF(SUM(CJ$3091:CJ4143)>0,0,IF(MAX(CB4144:CB$4531)=MAX(CB$3091:CB$4531),0,IF(BZ4144>0.01*BT$4532,0,$C4144/60)))","v":0},0,0,0,0,0,0,0,0,0,{"$error":"#N/A"},{"$error":"#N/A"},{"$error":"#N/A"},{"$error":"#N/A"},{"$error":"#N/A"},{"$error":"#N/A"},{"$f":"IF(SUM(CZ$3091:CZ4143)>0,0,IF(MAX(CS4144:CS$4531)=MAX(CS$3091:CS$4531),0,IF(CQ4144>0.03*CK$4532,0,$C4144/60)))","v":0},{"$f":"IF(SUM(DA$3091:DA4143)>0,0,IF(MAX(CS4144:CS$4531)=MAX(CS$3091:CS$4531),0,IF(CQ4144>0.01*CK$4532,0,$C4144/60)))","v":0},0,0,0,0,0,0,0,0,0,{"$error":"#N/A"},{"$error":"#N/A"},{"$error":"#N/A"},{"$error":"#N/A"},{"$error":"#N/A"},{"$error":"#N/A"},{"$f":"IF(SUM(DQ$3091:DQ4143)>0,0,IF(MAX(DJ4144:DJ$4531)=MAX(DJ$3091:DJ$4531),0,IF(DH4144>0.03*DB$4532,0,$C4144/60)))","v":0},{"$f":"IF(SUM(DR$3091:DR4143)>0,0,IF(MAX(DJ4144:DJ$4531)=MAX(DJ$3091:DJ$4531),0,IF(DH4144>0.01*DB$4532,0,$C4144/60)))","v":0},0,0,0,0,0,0,0,0,0,{"$error":"#N/A"},{"$error":"#N/A"},{"$error":"#N/A"},{"$error":"#N/A"},{"$error":"#N/A"},{"$error":"#N/A"},{"$f":"IF(SUM(EH$3091:EH4143)>0,0,IF(MAX(EA4144:EA$4531)=MAX(EA$3091:EA$4531),0,IF(DY4144>0.03*DS$4532,0,$C4144/60)))","v":0},{"$f":"IF(SUM(EI$3091:EI4143)>0,0,IF(MAX(EA4144:EA$4531)=MAX(EA$3091:EA$4531),0,IF(DY4144>0.01*DS$4532,0,$C4144/60)))","v":0},0,0,0,0,0,0,0,0,0,{"$error":"#N/A"},{"$error":"#N/A"},{"$error":"#N/A"},{"$error":"#N/A"},{"$error":"#N/A"},{"$error":"#N/A"},{"$f":"IF(SUM(EY$3091:EY4143)>0,0,IF(MAX(ER4144:ER$4531)=MAX(ER$3091:ER$4531),0,IF(EP4144>0.03*EJ$4532,0,$C4144/60)))","v":0},{"$f":"IF(SUM(EZ$3091:EZ4143)>0,0,IF(MAX(ER4144:ER$4531)=MAX(ER$3091:ER$4531),0,IF(EP4144>0.01*EJ$4532,0,$C4144/60)))","v":0}]
[null,88.5,5310,0,0,0,0,0,0,0,0,0,{"$error":"#N/A"},{"$error":"#N/A"},{"$error":"#N/A"},{"$error":"#N/A"},{"$error":"#N/A"},{"$error":"#N/A"},{"$f":"IF(SUM(S$3091:S4152)>0,0,\nIF(MAX(L4153:L$4531)=MAX(L$3091:L$4531),0,\nIF(Hydrograph_Source_WQCV=\"USER\",IF(J4153>0.03*D$4532,0,$C4153/60),\nIF(J4153>0.03*J$4532,0,$C4153/60))))","v":0},{"$f":"IF(SUM(T$3091:T4152)>0,0,\nIF(MAX(L4153:L$4531)=MAX(L$3091:L$4531),0,\nIF(Hydrograph_Source_WQCV=\"USER\",IF(J4153>0.01*D$4532,0,$C4153/60),\nIF(J4153>0.01*J$4532,0,$C4153/60))))","v":0},0,0,0,0,0,0,0,0,0,{"$error":"#N/A"},{"$error":"#N/A"},{"$error":"#N/A"},{"$error":"#N/A"},{"$error":"#N/A"},{"$error":"#N/A"},{"$f":"IF(SUM(AJ$3091:AJ4152)>0,0,\nIF(MAX(AC4153:AC$4531)=MAX(AC$3091:AC$4531),0,\nIF(Hydrograph_Source_EURV=\"USER\",IF(AA4153>0.03*U$4532,0,$C4153/60),\nIF(AA4153>0.03*AA$4532,0,$C4153/60))))","v":0},{"$f":"IF(SUM(AK$3091:AK4152)>0,0,\nIF(MAX(AC4153:AC$4531)=MAX(AC$3091:AC$4531),0,\nIF(Hydrograph_Source_EURV=\"USER\",IF(AA4153>0.01*U$4532,0,$C4153/60),\nIF(AA4153>0.01*AA$4532,0,$C4153/60))))","v":0},0,0,0,0,0,0,0,0,0,{"$error":"#N/A"},{"$error":"#N/A"},{"$error":"#N/A"},{"$error":"#N/A"},{"$error":"#N/A"},{"$error":"#N/A"},{"$f":"IF(SUM(BA$3091:BA4152)>0,0,IF(MAX(AT4153:AT$4531)=MAX(AT$3091:AT$4531),0,IF(AR4153>0.03*AL$4532,0,$C4153/60)))","v":0},{"$f":"IF(SUM(BB$3091:BB4152)>0,0,IF(MAX(AT4153:AT$4531)=MAX(AT$3091:AT$4531),0,IF(AR4153>0.01*AL$4532,0,$C4153/60)))","v":0},0,0,0,0,0,0,0,0,0,{"$error":"#N/A"},{"$error":"#N/A"},{"$error":"#N/A"},{"$error":"#N/A"},{"$error":"#N/A"},{"$error":"#N/A"},{"$f":"IF(SUM(BR$3091:BR4152)>0,0,IF(MAX(BK4153:BK$4531)=MAX(BK$3091:BK$4531),0,IF(BI4153>0.03*BC$4532,0,$C4153/60)))","v":0},{"$f":"IF(SUM(BS$3091:BS4152)>0,0,IF(MAX(BK4153:BK$4531)=MAX(BK$3091:BK$4531),0,IF(BI4153>0.01*BC$4532,0,$C4153/60)))","v":0},0,0,0,0,0,0,0,0,0,{"$error":"#N/A"},{"$error":"#N/A"},{"$error":"#N/A"},{"$error":"#N/A"},{"$error":"#N/A"},{"$error":"#N/A"},{"$f":"IF(SUM(CI$3091:CI4152)>0,0,IF(MAX(CB4153:CB$4531)=MAX(CB$3091:CB$4531),0,IF(BZ4153>0.03*BT$4532,0,$C4153/60)))","v":0},{"$f":"IF(SUM(CJ$3091:CJ4152)>0,0,IF(MAX(CB4153:CB$4531)=MAX(CB$3091:CB$4531),0,IF(BZ4153>0.01*BT$4532,0,$C4153/60)))","v":0},0,0,0,0,0,0,0,0,0,{"$error":"#N/A"},{"$error":"#N/A"},{"$error":"#N/A"},{"$error":"#N/A"},{"$error":"#N/A"},{"$error":"#N/A"},{"$f":"IF(SUM(CZ$3091:CZ4152)>0,0,IF(MAX(CS4153:CS$4531)=MAX(CS$3091:CS$4531),0,IF(CQ4153>0.03*CK$4532,0,$C4153/60)))","v":0},{"$f":"IF(SUM(DA$3091:DA4152)>0,0,IF(MAX(CS4153:CS$4531)=MAX(CS$3091:CS$4531),0,IF(CQ4153>0.01*CK$4532,0,$C4153/60)))","v":0},0,0,0,0,0,0,0,0,0,{"$error":"#N/A"},{"$error":"#N/A"},{"$error":"#N/A"},{"$error":"#N/A"},{"$error":"#N/A"},{"$error":"#N/A"},{"$f":"IF(SUM(DQ$3091:DQ4152)>0,0,IF(MAX(DJ4153:DJ$4531)=MAX(DJ$3091:DJ$4531),0,IF(DH4153>0.03*DB$4532,0,$C4153/60)))","v":0},{"$f":"IF(SUM(DR$3091:DR4152)>0,0,IF(MAX(DJ4153:DJ$4531)=MAX(DJ$3091:DJ$4531),0,IF(DH4153>0.01*DB$4532,0,$C4153/60)))","v":0},0,0,0,0,0,0,0,0,0,{"$error":"#N/A"},{"$error":"#N/A"},{"$error":"#N/A"},{"$error":"#N/A"},{"$error":"#N/A"},{"$error":"#N/A"},{"$f":"IF(SUM(EH$3091:EH4152)>0,0,IF(MAX(EA4153:EA$4531)=MAX(EA$3091:EA$4531),0,IF(DY4153>0.03*DS$4532,0,$C4153/60)))","v":0},{"$f":"IF(SUM(EI$3091:EI4152)>0,0,IF(MAX(EA4153:EA$4531)=MAX(EA$3091:EA$4531),0,IF(DY4153>0.01*DS$4532,0,$C4153/60)))","v":0},0,0,0,0,0,0,0,0,0,{"$error":"#N/A"},{"$error":"#N/A"},{"$error":"#N/A"},{"$error":"#N/A"},{"$error":"#N/A"},{"$error":"#N/A"},{"$f":"IF(SUM(EY$3091:EY4152)>0,0,IF(MAX(ER4153:ER$4531)=MAX(ER$3091:ER$4531),0,IF(EP4153>0.03*EJ$4532,0,$C4153/60)))","v":0},{"$f":"IF(SUM(EZ$3091:EZ4152)>0,0,IF(MAX(ER4153:ER$4531)=MAX(ER$3091:ER$4531),0,IF(EP4153>0.01*EJ$4532,0,$C4153/60)))","v":0}]
[null,89.25,5355,0,0,0,0,0,0,0,0,0,{"$error":"#N/A"},{"$error":"#N/A"},{"$error":"#N/A"},{"$error":"#N/A"},{"$error":"#N/A"},{"$error":"#N/A"},{"$f":"IF(SUM(S$3091:S4161)>0,0,\nIF(MAX(L4162:L$4531)=MAX(L$3091:L$4531),0,\nIF(Hydrograph_Source_WQCV=\"USER\",IF(J4162>0.03*D$4532,0,$C4162/60),\nIF(J4162>0.03*J$4532,0,$C4162/60))))","v":0},{"$f":"IF(SUM(T$3091:T4161)>0,0,\nIF(MAX(L4162:L$4531)=MAX(L$3091:L$4531),0,\nIF(Hydrograph_Source_WQCV=\"USER\",IF(J4162>0.01*D$4532,0,$C4162/60),\nIF(J4162>0.01*J$4532,0,$C4162/60))))","v":0},0,0,0,0,0,0,0,0,0,{"$error":"#N/A"},{"$error":"#N/A"},{"$error":"#N/A"},{"$error":"#N/A"},{"$error":"#N/A"},{"$error":"#N/A"},{"$f":"IF(SUM(AJ$3091:AJ4161)>0,0,\nIF(MAX(AC4162:AC$4531)=MAX(AC$3091:AC$4531),0,\nIF(Hydrograph_Source_EURV=\"USER\",IF(AA4162>0.03*U$4532,0,$C4162/60),\nIF(AA4162>0.03*AA$4532,0,$C4162/60))))","v":0},{"$f":"IF(SUM(AK$3091:AK4161)>0,0,\nIF(MAX(AC4162:AC$4531)=MAX(AC$3091:AC$4531),0,\nIF(Hydrograph_Source_EURV=\"USER\",IF(AA4162>0.01*U$4532,0,$C4162/60),\nIF(AA4162>0.01*AA$4532,0,$C4162/60))))","v":0},0,0,0,0,0,0,0,0,0,{"$error":"#N/A"},{"$error":"#N/A"},{"$error":"#N/A"},{"$error":"#N/A"},{"$error":"#N/A"},{"$error":"#N/A"},{"$f":"IF(SUM(BA$3091:BA4161)>0,0,IF(MAX(AT4162:AT$4531)=MAX(AT$3091:AT$4531),0,IF(AR4162>0.03*AL$4532,0,$C4162/60)))","v":0},{"$f":"IF(SUM(BB$3091:BB4161)>0,0,IF(MAX(AT4162:AT$4531)=MAX(AT$3091:AT$4531),0,IF(AR4162>0.01*AL$4532,0,$C4162/60)))","v":0},0,0,0,0,0,0,0,0,0,{"$error":"#N/A"},{"$error":"#N/A"},{"$error":"#N/A"},{"$error":"#N/A"},{"$error":"#N/A"},{"$error":"#N/A"},{"$f":"IF(SUM(BR$3091:BR4161)>0,0,IF(MAX(BK4162:BK$4531)=MAX(BK$3091:BK$4531),0,IF(BI4162>0.03*BC$4532,0,$C4162/60)))","v":0},{"$f":"IF(SUM(BS$3091:BS4161)>0,0,IF(MAX(BK4162:BK$4531)=MAX(BK$3091:BK$4531),0,IF(BI4162>0.01*BC$4532,0,$C4162/60)))","v":0},0,0,0,0,0,0,0,0,0,{"$error":"#N/A"},{"$error":"#N/A"},{"$error":"#N/A"},{"$error":"#N/A"},{"$error":"#N/A"},{"$error":"#N/A"},{"$f":"IF(SUM(CI$3091:CI4161)>0,0,IF(MAX(CB4162:CB$4531)=MAX(CB$3091:CB$4531),0,IF(BZ4162>0.03*BT$4532,0,$C4162/60)))","v":0},{"$f":"IF(SUM(CJ$3091:CJ4161)>0,0,IF(MAX(CB4162:CB$4531)=MAX(CB$3091:CB$4531),0,IF(BZ4162>0.01*BT$4532,0,$C4162/60)))","v":0},0,0,0,0,0,0,0,0,0,{"$error":"#N/A"},{"$error":"#N/A"},{"$error":"#N/A"},{"$error":"#N/A"},{"$error":"#N/A"},{"$error":"#N/A"},{"$f":"IF(SUM(CZ$3091:CZ4161)>0,0,IF(MAX(CS4162:CS$4531)=MAX(CS$3091:CS$4531),0,IF(CQ4162>0.03*CK$4532,0,$C4162/60)))","v":0},{"$f":"IF(SUM(DA$3091:DA4161)>0,0,IF(MAX(CS4162:CS$4531)=MAX(CS$3091:CS$4531),0,IF(CQ4162>0.01*CK$4532,0,$C4162/60)))","v":0},0,0,0,0,0,0,0,0,0,{"$error":"#N/A"},{"$error":"#N/A"},{"$error":"#N/A"},{"$error":"#N/A"},{"$error":"#N/A"},{"$error":"#N/A"},{"$f":"IF(SUM(DQ$3091:DQ4161)>0,0,IF(MAX(DJ4162:DJ$4531)=MAX(DJ$3091:DJ$4531),0,IF(DH4162>0.03*DB$4532,0,$C4162/60)))","v":0},{"$f":"IF(SUM(DR$3091:DR4161)>0,0,IF(MAX(DJ4162:DJ$4531)=MAX(DJ$3091:DJ$4531),0,IF(DH4162>0.01*DB$4532,0,$C4162/60)))","v":0},0,0,0,0,0,0,0,0,0,{"$error":"#N/A"},{"$error":"#N/A"},{"$error":"#N/A"},{"$error":"#N/A"},{"$error":"#N/A"},{"$error":"#N/A"},{"$f":"IF(SUM(EH$3091:EH4161)>0,0,IF(MAX(EA4162:EA$4531)=MAX(EA$3091:EA$4531),0,IF(DY4162>0.03*DS$4532,0,$C4162/60)))","v":0},{"$f":"IF(SUM(EI$3091:EI4161)>0,0,IF(MAX(EA4162:EA$4531)=MAX(EA$3091:EA$4531),0,IF(DY4162>0.01*DS$4532,0,$C4162/60)))","v":0},0,0,0,0,0,0,0,0,0,{"$error":"#N/A"},{"$error":"#N/A"},{"$error":"#N/A"},{"$error":"#N/A"},{"$error":"#N/A"},{"$error":"#N/A"},{"$f":"IF(SUM(EY$3091:EY4161)>0,0,IF(MAX(ER4162:ER$4531)=MAX(ER$3091:ER$4531),0,IF(EP4162>0.03*EJ$4532,0,$C4162/60)))","v":0},{"$f":"IF(SUM(EZ$3091:EZ4161)>0,0,IF(MAX(ER4162:ER$4531)=MAX(ER$3091:ER$4531),0,IF(EP4162>0.01*EJ$4532,0,$C4162/60)))","v":0}]
[null,90,5400,0,0,0,0,0,0,0,0,0,{"$error":"#N/A"},{"$error":"#N/A"},{"$error":"#N/A"},{"$error":"#N/A"},{"$error":"#N/A"},{"$error":"#N/A"},{"$f":"IF(SUM(S$3091:S4170)>0,0,\nIF(MAX(L4171:L$4531)=MAX(L$3091:L$4531),0,\nIF(Hydrograph_Source_WQCV=\"USER\",IF(J4171>0.03*D$4532,0,$C4171/60),\nIF(J4171>0.03*J$4532,0,$C4171/60))))","v":0},{"$f":"IF(SUM(T$3091:T4170)>0,0,\nIF(MAX(L4171:L$4531)=MAX(L$3091:L$4531),0,\nIF(Hydrograph_Source_WQCV=\"USER\",IF(J4171>0.01*D$4532,0,$C4171/60),\nIF(J4171>0.01*J$4532,0,$C4171/60))))","v":0},0,0,0,0,0,0,0,0,0,{"$error":"#N/A"},{"$error":"#N/A"},{"$error":"#N/A"},{"$error":"#N/A"},{"$error":"#N/A"},{"$error":"#N/A"},{"$f":"IF(SUM(AJ$3091:AJ4170)>0,0,\nIF(MAX(AC4171:AC$4531)=MAX(AC$3091:AC$4531),0,\nIF(Hydrograph_Source_EURV=\"USER\",IF(AA4171>0.03*U$4532,0,$C4171/60),\nIF(AA4171>0.03*AA$4532,0,$C4171/60))))","v":0},{"$f":"IF(SUM(AK$3091:AK4170)>0,0,\nIF(MAX(AC4171:AC$4531)=MAX(AC$3091:AC$4531),0,\nIF(Hydrograph_Source_EURV=\"USER\",IF(AA4171>0.01*U$4532,0,$C4171/60),\nIF(AA4171>0.01*AA$4532,0,$C4171/60))))","v":0},0,0,0,0,0,0,0,0,0,{"$error":"#N/A"},{"$error":"#N/A"},{"$error":"#N/A"},{"$error":"#N/A"},{"$error":"#N/A"},{"$error":"#N/A"},{"$f":"IF(SUM(BA$3091:BA4170)>0,0,IF(MAX(AT4171:AT$4531)=MAX(AT$3091:AT$4531),0,IF(AR4171>0.03*AL$4532,0,$C4171/60)))","v":0},{"$f":"IF(SUM(BB$3091:BB4170)>0,0,IF(MAX(AT4171:AT$4531)=MAX(AT$3091:AT$4531),0,IF(AR4171>0.01*AL$4532,0,$C4171/60)))","v":0},0,0,0,0,0,0,0,0,0,{"$error":"#N/A"},{"$error":"#N/A"},{"$error":"#N/A"},{"$error":"#N/A"},{"$error":"#N/A"},{"$error":"#N/A"},{"$f":"IF(SUM(BR$3091:BR4170)>0,0,IF(MAX(BK4171:BK$4531)=MAX(BK$3091:BK$4531),0,IF(BI4171>0.03*BC$4532,0,$C4171/60)))","v":0},{"$f":"IF(SUM(BS$3091:BS4170)>0,0,IF(MAX(BK4171:BK$4531)=MAX(BK$3091:BK$4531),0,IF(BI4171>0.01*BC$4532,0,$C4171/60)))","v":0},0,0,0,0,0,0,0,0,0,{"$error":"#N/A"},{"$error":"#N/A"},{"$error":"#N/A"},{"$error":"#N/A"},{"$error":"#N/A"},{"$error":"#N/A"},{"$f":"IF(SUM(CI$3091:CI4170)>0,0,IF(MAX(CB4171:CB$4531)=MAX(CB$3091:CB$4531),0,IF(BZ4171>0.03*BT$4532,0,$C4171/60)))","v":0},{"$f":"IF(SUM(CJ$3091:CJ4170)>0,0,IF(MAX(CB4171:CB$4531)=MAX(CB$3091:CB$4531),0,IF(BZ4171>0.01*BT$4532,0,$C4171/60)))","v":0},0,0,0,0,0,0,0,0,0,{"$error":"#N/A"},{"$error":"#N/A"},{"$error":"#N/A"},{"$error":"#N/A"},{"$error":"#N/A"},{"$error":"#N/A"},{"$f":"IF(SUM(CZ$3091:CZ4170)>0,0,IF(MAX(CS4171:CS$4531)=MAX(CS$3091:CS$4531),0,IF(CQ4171>0.03*CK$4532,0,$C4171/60)))","v":0},{"$f":"IF(SUM(DA$3091:DA4170)>0,0,IF(MAX(CS4171:CS$4531)=MAX(CS$3091:CS$4531),0,IF(CQ4171>0.01*CK$4532,0,$C4171/60)))","v":0},0,0,0,0,0,0,0,0,0,{"$error":"#N/A"},{"$error":"#N/A"},{"$error":"#N/A"},{"$error":"#N/A"},{"$error":"#N/A"},{"$error":"#N/A"},{"$f":"IF(SUM(DQ$3091:DQ4170)>0,0,IF(MAX(DJ4171:DJ$4531)=MAX(DJ$3091:DJ$4531),0,IF(DH4171>0.03*DB$4532,0,$C4171/60)))","v":0},{"$f":"IF(SUM(DR$3091:DR4170)>0,0,IF(MAX(DJ4171:DJ$4531)=MAX(DJ$3091:DJ$4531),0,IF(DH4171>0.01*DB$4532,0,$C4171/60)))","v":0},0,0,0,0,0,0,0,0,0,{"$error":"#N/A"},{"$error":"#N/A"},{"$error":"#N/A"},{"$error":"#N/A"},{"$error":"#N/A"},{"$error":"#N/A"},{"$f":"IF(SUM(EH$3091:EH4170)>0,0,IF(MAX(EA4171:EA$4531)=MAX(EA$3091:EA$4531),0,IF(DY4171>0.03*DS$4532,0,$C4171/60)))","v":0},{"$f":"IF(SUM(EI$3091:EI4170)>0,0,IF(MAX(EA4171:EA$4531)=MAX(EA$3091:EA$4531),0,IF(DY4171>0.01*DS$4532,0,$C4171/60)))","v":0},0,0,0,0,0,0,0,0,0,{"$error":"#N/A"},{"$error":"#N/A"},{"$error":"#N/A"},{"$error":"#N/A"},{"$error":"#N/A"},{"$error":"#N/A"},{"$f":"IF(SUM(EY$3091:EY4170)>0,0,IF(MAX(ER4171:ER$4531)=MAX(ER$3091:ER$4531),0,IF(EP4171>0.03*EJ$4532,0,$C4171/60)))","v":0},{"$f":"IF(SUM(EZ$3091:EZ4170)>0,0,IF(MAX(ER4171:ER$4531)=MAX(ER$3091:ER$4531),0,IF(EP4171>0.01*EJ$4532,0,$C4171/60)))","v":0}]
[null,90.75,5445,0,0,{"$f":"G4179","v":0},0,{"$f":"I4179","v":0},0,0,0,{"$f":"IF($D$3091=\"\",0,ROUND((R4180*K4180+Q4180-R4180*P4180),7))","v":0},{"$error":"#N/A"},{"$f":"MATCH(K4180,$Y$87:$Y$3087,1)","v":{"$error":"#N/A"}},{"$f":"INDEX($X$87:$X$3087,N4180,1)","v":{"$error":"#N/A"}},{"$f":"INDEX($Y$87:$Y$3087,N4180,1)","v":{"$error":"#N/A"}},{"$error":"#N/A"},{"$error":"#N/A"},{"$f":"IF(SUM(S$3091:S4179)>0,0,\nIF(MAX(L4180:L$4531)=MAX(L$3091:L$4531),0,\nIF(Hydrograph_Source_WQCV=\"USER\",IF(J4180>0.03*D$4532,0,$C4180/60),\nIF(J4180>0.03*J$4532,0,$C4180/60))))","v":0},{"$f":"IF(SUM(T$3091:T4179)>0,0,\nIF(MAX(L4180:L$4531)=MAX(L$3091:L$4531),0,\nIF(Hydrograph_Source_WQCV=\"USER\",IF(J4180>0.01*D$4532,0,$C4180/60),\nIF(J4180>0.01*J$4532,0,$C4180/60))))","v":0},0,0,{"$f":"X4179","v":0},0,{"$f":"Z4179","v":0},0,0,0,{"$f":"IF($U$3091=\"\",0,ROUND((AI4180*AB4180+AH4180-AI4180*AG4180),7))","v":0},{"$error":"#N/A"},{"$f":"MATCH(AB4180,$Y$87:$Y$3087,1)","v":{"$error":"#N/A"}},{"$f":"INDEX($X$87:$X$3087,AE4180,1)","v":{"$error":"#N/A"}},{"$f":"INDEX($Y$87:$Y$3087,AE4180,1)","v":{"$error":"#N/A"}},{"$error":"#N/A"},{"$error":"#N/A"},{"$f":"IF(SUM(AJ$3091:AJ4179)>0,0,\nIF(MAX(AC4180:AC$4531)=MAX(AC$3091:AC$4531),0,\nIF(Hydrograph_Source_EURV=\"USER\",IF(AA4180>0.03*U$4532,0,$C4180/60),\nIF(AA4180>0.03*AA$4532,0,$C4180/60))))","v":0},{"$f":"IF(SUM(AK$3091:AK4179)>0,0,\nIF(MAX(AC4180:AC$4531)=MAX(AC$3091:AC$4531),0,\nIF(Hydrograph_Source_EURV=\"USER\",IF(AA4180>0.01*U$4532,0,$C4180/60),\nIF(AA4180>0.01*AA$4532,0,$C4180/60))))","v":0},0,0,{"$f":"AO4179","v":0},0,{"$f":"AQ4179","v":0},0,0,0,{"$f":"IF($AL$3091=\"\",0,ROUND((AZ4180*AS4180+AY4180-AZ4180*AX4180),7))","v":0},{"$error":"#N/A"},{"$f":"MATCH(AS4180,$Y$87:$Y$3087,1)","v":{"$error":"#N/A"}},{"$f":"INDEX($X$87:$X$3087,AV4180,1)","v":{"$error":"#N/A"}},{"$f":"INDEX($Y$87:$Y$3087,AV4180,1)","v":{"$error":"#N/A"}},{"$error":"#N/A"},{"$error":"#N/A"},{"$f":"IF(SUM(BA$3091:BA4179)>0,0,IF(MAX(AT4180:AT$4531)=MAX(AT$3091:AT$4531),0,IF(AR4180>0.03*AL$4532,0,$C4180/60)))","v":0},{"$f":"IF(SUM(BB$3091:BB4179)>0,0,IF(MAX(AT4180:AT$4531)=MAX(AT$3091:AT$4531),0,IF(AR4180>0.01*AL$4532,0,$C4180/60)))","v":0},0,0,{"$f":"BF4179","v":0},0,{"$f":"BH4179","v":0},0,0,0,{"$f":"IF($BC$3091=\"\",0,ROUND((BQ4180*BJ4180+BP4180-BQ4180*BO4180),7))","v":0},{"$error":"#N/A"},{"$f":"MATCH(BJ4180,$Y$87:$Y$3087,1)","v":{"$error":"#N/A"}},{"$f":"INDEX($X$87:$X$3087,BM4180,1)","v":{"$error":"#N/A"}},{"$f":"INDEX($Y$87:$Y$3087,BM4180,1)","v":{"$error":"#N/A"}},{"$error":"#N/A"},{"$error":"#N/A"},{"$f":"IF(SUM(BR$3091:BR4179)>0,0,IF(MAX(BK4180:BK$4531)=MAX(BK$3091:BK$4531),0,IF(BI4180>0.03*BC$4532,0,$C4180/60)))","v":0},{"$f":"IF(SUM(BS$3091:BS4179)>0,0,IF(MAX(BK4180:BK$4531)=MAX(BK$3091:BK$4531),0,IF(BI4180>0.01*BC$4532,0,$C4180/60)))","v":0},0,0,{"$f":"BW4179","v":0},0,{"$f":"BY4179","v":0},0,0,0,{"$f":"IF($BT$3091=\"\",0,ROUND((CH4180*CA4180+CG4180-CH4180*CF4180),7))","v":0},{"$error":"#N/A"},{"$f":"MATCH(CA4180,$Y$87:$Y$3087,1)","v":{"$error":"#N/A"}},{"$f":"INDEX($X$87:$X$3087,CD4180,1)","v":{"$error":"#N/A"}},{"$f":"INDEX($Y$87:$Y$3087,CD4180,1)","v":{"$error":"#N/A"}},{"$error":"#N/A"},{"$error":"#N/A"},{"$f":"IF(SUM(CI$3091:CI4179)>0,0,IF(MAX(CB4180:CB$4531)=MAX(CB$3091:CB$4531),0,IF(BZ4180>0.03*BT$4532,0,$C4180/60)))","v":0},{"$f":"IF(SUM(CJ$3091:CJ4179)>0,0,IF(MAX(CB4180:CB$4531)=MAX(CB$3091:CB$4531),0,IF(BZ4180>0.01*BT$4532,0,$C4180/60)))","v":0},0,0,{"$f":"CN4179","v":0},0,{"$f":"CP4179","v":0},0,0,0,{"$f":"IF($CK$3091=\"\",0,ROUND((CY4180*CR4180+CX4180-CY4180*CW4180),7))","v":0},{"$error":"#N/A"},{"$f":"MATCH(CR4180,$Y$87:$Y$3087,1)","v":{"$error":"#N/A"}},{"$f":"INDEX($X$87:$X$3087,CU4180,1)","v":{"$error":"#N/A"}},{"$f":"INDEX($Y$87:$Y$3087,CU4180,1)","v":{"$error":"#N/A"}},{"$error":"#N/A"},{"$error":"#N/A"},{"$f":"IF(SUM(CZ$3091:CZ4179)>0,0,IF(MAX(CS4180:CS$4531)=MAX(CS$3091:CS$4531),0,IF(CQ4180>0.03*CK$4532,0,$C4180/60)))","v":0},{"$f":"IF(SUM(DA$3091:DA4179)>0,0,IF(MAX(CS4180:CS$4531)=MAX(CS$3091:CS$4531),0,IF(CQ4180>0.01*CK$4532,0,$C4180/60)))","v":0},0,0,{"$f":"DE4179","v":0},0,{"$f":"DG4179","v":0},0,0,0,{"$f":"IF($DB$3091=\"\",0,ROUND((DP4180*DI4180+DO4180-DP4180*DN4180),7))","v":0},{"$error":"#N/A"},{"$f":"MATCH(DI4180,$Y$87:$Y$3087,1)","v":{"$error":"#N/A"}},{"$f":"INDEX($X$87:$X$3087,DL4180,1)","v":{"$error":"#N/A"}},{"$f":"INDEX($Y$87:$Y$3087,DL4180,1)","v":{"$error":"#N/A"}},{"$error":"#N/A"},{"$error":"#N/A"},{"$f":"IF(SUM(DQ$3091:DQ4179)>0,0,IF(MAX(DJ4180:DJ$4531)=MAX(DJ$3091:DJ$4531),0,IF(DH4180>0.03*DB$4532,0,$C4180/60)))","v":0},{"$f":"IF(SUM(DR$3091:DR4179)>0,0,IF(MAX(DJ4180:DJ$4531)=MAX(DJ$3091:DJ$4531),0,IF(DH4180>0.01*DB$4532,0,$C4180/60)))","v":0},0,0,{"$f":"DV4179","v":0},0,{"$f":"DX4179","v":0},0,0,0,{"$f":"IF($DS$3091=\"\",0,ROUND((EG4180*DZ4180+EF4180-EG4180*EE4180),7))","v":0},{"$error":"#N/A"},{"$f":"MATCH(DZ4180,$Y$87:$Y$3087,1)","v":{"$error":"#N/A"}},{"$f":"INDEX($X$87:$X$3087,EC4180,1)","v":{"$error":"#N/A"}},{"$f":"INDEX($Y$87:$Y$3087,EC4180,1)","v":{"$error":"#N/A"}},{"$error":"#N/A"},{"$error":"#N/A"},{"$f":"IF(SUM(EH$3091:EH4179)>0,0,IF(MAX(EA4180:EA$4531)=MAX(EA$3091:EA$4531),0,IF(DY4180>0.03*DS$4532,0,$C4180/60)))","v":0},{"$f":"IF(SUM(EI$3091:EI4179)>0,0,IF(MAX(EA4180:EA$4531)=MAX(EA$3091:EA$4531),0,IF(DY4180>0.01*DS$4532,0,$C4180/60)))","v":0},0,0,{"$f":"EM4179","v":0},0,{"$f":"EO4179","v":0},0,0,0,{"$f":"IF($EJ$3091=\"\",0,ROUND((EX4180*EQ4180+EW4180-EX4180*EV4180),7))","v":0},{"$error":"#N/A"},{"$f":"MATCH(EQ4180,$Y$87:$Y$3087,1)","v":{"$error":"#N/A"}},{"$f":"INDEX($X$87:$X$3087,ET4180,1)","v":{"$error":"#N/A"}},{"$f":"INDEX($Y$87:$Y$3087,ET4180,1)","v":{"$error":"#N/A"}},{"$error":"#N/A"},{"$error":"#N/A"},{"$f":"IF(SUM(EY$3091:EY4179)>0,0,IF(MAX(ER4180:ER$4531)=MAX(ER$3091:ER$4531),0,IF(EP4180>0.03*EJ$4532,0,$C4180/60)))","v":0},{"$f":"IF(SUM(EZ$3091:EZ4179)>0,0,IF(MAX(ER4180:ER$4531)=MAX(ER$3091:ER$4531),0,IF(EP4180>0.01*EJ$4532,0,$C4180/60)))","v":0}]
[null,91.5,5490,0,0,0,0,0,0,0,0,0,{"$error":"#N/A"},{"$error":"#N/A"},{"$error":"#N/A"},{"$error":"#N/A"},{"$error":"#N/A"},{"$error":"#N/A"},{"$f":"IF(SUM(S$3091:S4188)>0,0,\nIF(MAX(L4189:L$4531)=MAX(L$3091:L$4531),0,\nIF(Hydrograph_Source_WQCV=\"USER\",IF(J4189>0.03*D$4532,0,$C4189/60),\nIF(J4189>0.03*J$4532,0,$C4189/60))))","v":0},{"$f":"IF(SUM(T$3091:T4188)>0,0,\nIF(MAX(L4189:L$4531)=MAX(L$3091:L$4531),0,\nIF(Hydrograph_Source_WQCV=\"USER\",IF(J4189>0.01*D$4532,0,$C4189/60),\nIF(J4189>0.01*J$4532,0,$C4189/60))))","v":0},0,0,0,0,0,0,0,0,0,{"$error":"#N/A"},{"$error":"#N/A"},{"$error":"#N/A"},{"$error":"#N/A"},{"$error":"#N/A"},{"$error":"#N/A"},{"$f":"IF(SUM(AJ$3091:AJ4188)>0,0,\nIF(MAX(AC4189:AC$4531)=MAX(AC$3091:AC$4531),0,\nIF(Hydrograph_Source_EURV=\"USER\",IF(AA4189>0.03*U$4532,0,$C4189/60),\nIF(AA4189>0.03*AA$4532,0,$C4189/60))))","v":0},{"$f":"IF(SUM(AK$3091:AK4188)>0,0,\nIF(MAX(AC4189:AC$4531)=MAX(AC$3091:AC$4531),0,\nIF(Hydrograph_Source_EURV=\"USER\",IF(AA4189>0.01*U$4532,0,$C4189/60),\nIF(AA4189>0.01*AA$4532,0,$C4189/60))))","v":0},0,0,0,0,0,0,0,0,0,{"$error":"#N/A"},{"$error":"#N/A"},{"$error":"#N/A"},{"$error":"#N/A"},{"$error":"#N/A"},{"$error":"#N/A"},{"$f":"IF(SUM(BA$3091:BA4188)>0,0,IF(MAX(AT4189:AT$4531)=MAX(AT$3091:AT$4531),0,IF(AR4189>0.03*AL$4532,0,$C4189/60)))","v":0},{"$f":"IF(SUM(BB$3091:BB4188)>0,0,IF(MAX(AT4189:AT$4531)=MAX(AT$3091:AT$4531),0,IF(AR4189>0.01*AL$4532,0,$C4189/60)))","v":0},0,0,0,0,0,0,0,0,0,{"$error":"#N/A"},{"$error":"#N/A"},{"$error":"#N/A"},{"$error":"#N/A"},{"$error":"#N/A"},{"$error":"#N/A"},{"$f":"IF(SUM(BR$3091:BR4188)>0,0,IF(MAX(BK4189:BK$4531)=MAX(BK$3091:BK$4531),0,IF(BI4189>0.03*BC$4532,0,$C4189/60)))","v":0},{"$f":"IF(SUM(BS$3091:BS4188)>0,0,IF(MAX(BK4189:BK$4531)=MAX(BK$3091:BK$4531),0,IF(BI4189>0.01*BC$4532,0,$C4189/60)))","v":0},0,0,0,0,0,0,0,0,0,{"$error":"#N/A"},{"$error":"#N/A"},{"$error":"#N/A"},{"$error":"#N/A"},{"$error":"#N/A"},{"$error":"#N/A"},{"$f":"IF(SUM(CI$3091:CI4188)>0,0,IF(MAX(CB4189:CB$4531)=MAX(CB$3091:CB$4531),0,IF(BZ4189>0.03*BT$4532,0,$C4189/60)))","v":0},{"$f":"IF(SUM(CJ$3091:CJ4188)>0,0,IF(MAX(CB4189:CB$4531)=MAX(CB$3091:CB$4531),0,IF(BZ4189>0.01*BT$4532,0,$C4189/60)))","v":0},0,0,0,0,0,0,0,0,0,{"$error":"#N/A"},{"$error":"#N/A"},{"$error":"#N/A"},{"$error":"#N/A"},{"$error":"#N/A"},{"$error":"#N/A"},{"$f":"IF(SUM(CZ$3091:CZ4188)>0,0,IF(MAX(CS4189:CS$4531)=MAX(CS$3091:CS$4531),0,IF(CQ4189>0.03*CK$4532,0,$C4189/60)))","v":0},{"$f":"IF(SUM(DA$3091:DA4188)>0,0,IF(MAX(CS4189:CS$4531)=MAX(CS$3091:CS$4531),0,IF(CQ4189>0.01*CK$4532,0,$C4189/60)))","v":0},0,0,0,0,0,0,0,0,0,{"$error":"#N/A"},{"$error":"#N/A"},{"$error":"#N/A"},{"$error":"#N/A"},{"$error":"#N/A"},{"$error":"#N/A"},{"$f":"IF(SUM(DQ$3091:DQ4188)>0,0,IF(MAX(DJ4189:DJ$4531)=MAX(DJ$3091:DJ$4531),0,IF(DH4189>0.03*DB$4532,0,$C4189/60)))","v":0},{"$f":"IF(SUM(DR$3091:DR4188)>0,0,IF(MAX(DJ4189:DJ$4531)=MAX(DJ$3091:DJ$4531),0,IF(DH4189>0.01*DB$4532,0,$C4189/60)))","v":0},0,0,0,0,0,0,0,0,0,{"$error":"#N/A"},{"$error":"#N/A"},{"$error":"#N/A"},{"$error":"#N/A"},{"$error":"#N/A"},{"$error":"#N/A"},{"$f":"IF(SUM(EH$3091:EH4188)>0,0,IF(MAX(EA4189:EA$4531)=MAX(EA$3091:EA$4531),0,IF(DY4189>0.03*DS$4532,0,$C4189/60)))","v":0},{"$f":"IF(SUM(EI$3091:EI4188)>0,0,IF(MAX(EA4189:EA$4531)=MAX(EA$3091:EA$4531),0,IF(DY4189>0.01*DS$4532,0,$C4189/60)))","v":0},0,0,0,0,0,0,0,0,0,{"$error":"#N/A"},{"$error":"#N/A"},{"$error":"#N/A"},{"$error":"#N/A"},{"$error":"#N/A"},{"$error":"#N/A"},{"$f":"IF(SUM(EY$3091:EY4188)>0,0,IF(MAX(ER4189:ER$4531)=MAX(ER$3091:ER$4531),0,IF(EP4189>0.03*EJ$4532,0,$C4189/60)))","v":0},{"$f":"IF(SUM(EZ$3091:EZ4188)>0,0,IF(MAX(ER4189:ER$4531)=MAX(ER$3091:ER$4531),0,IF(EP4189>0.01*EJ$4532,0,$C4189/60)))","v":0}]
[null,91.583333333333329,5495,0,0,0,0,0,0,0,0,0,{"$error":"#N/A"},{"$error":"#N/A"},{"$error":"#N/A"},{"$error":"#N/A"},{"$error":"#N/A"},{"$error":"#N/A"},{"$f":"IF(SUM(S$3091:S4189)>0,0,\nIF(MAX(L4190:L$4531)=MAX(L$3091:L$4531),0,\nIF(Hydrograph_Source_WQCV=\"USER\",IF(J4190>0.03*D$4532,0,$C4190/60),\nIF(J4190>0.03*J$4532,0,$C4190/60))))","v":0},{"$f":"IF(SUM(T$3091:T4189)>0,0,\nIF(MAX(L4190:L$4531)=MAX(L$3091:L$4531),0,\nIF(Hydrograph_Source_WQCV=\"USER\",IF(J4190>0.01*D$4532,0,$C4190/60),\nIF(J4190>0.01*J$4532,0,$C4190/60))))","v":0},0,0,0,0,0,0,0,0,0,{"$error":"#N/A"},{"$error":"#N/A"},{"$error":"#N/A"},{"$error":"#N/A"},{"$error":"#N/A"},{"$error":"#N/A"},{"$f":"IF(SUM(AJ$3091:AJ4189)>0,0,\nIF(MAX(AC4190:AC$4531)=MAX(AC$3091:AC$4531),0,\nIF(Hydrograph_Source_EURV=\"USER\",IF(AA4190>0.03*U$4532,0,$C4190/60),\nIF(AA4190>0.03*AA$4532,0,$C4190/60))))","v":0},{"$f":"IF(SUM(AK$3091:AK4189)>0,0,\nIF(MAX(AC4190:AC$4531)=MAX(AC$3091:AC$4531),0,\nIF(Hydrograph_Source_EURV=\"USER\",IF(AA4190>0.01*U$4532,0,$C4190/60),\nIF(AA4190>0.01*AA$4532,0,$C4190/60))))","v":0},0,0,0,0,0,0,0,0,0,{"$error":"#N/A"},{"$error":"#N/A"},{"$error":"#N/A"},{"$error":"#N/A"},{"$error":"#N/A"},{"$error":"#N/A"},{"$f":"IF(SUM(BA$3091:BA4189)>0,0,IF(MAX(AT4190:AT$4531)=MAX(AT$3091:AT$4531),0,IF(AR4190>0.03*AL$4532,0,$C4190/60)))","v":0},{"$f":"IF(SUM(BB$3091:BB4189)>0,0,IF(MAX(AT4190:AT$4531)=MAX(AT$3091:AT$4531),0,IF(AR4190>0.01*AL$4532,0,$C4190/60)))","v":0},0,0,0,0,0,0,0,0,0,{"$error":"#N/A"},{"$error":"#N/A"},{"$error":"#N/A"},{"$error":"#N/A"},{"$error":"#N/A"},{"$error":"#N/A"},{"$f":"IF(SUM(BR$3091:BR4189)>0,0,IF(MAX(BK4190:BK$4531)=MAX(BK$3091:BK$4531),0,IF(BI4190>0.03*BC$4532,0,$C4190/60)))","v":0},{"$f":"IF(SUM(BS$3091:BS4189)>0,0,IF(MAX(BK4190:BK$4531)=MAX(BK$3091:BK$4531),0,IF(BI4190>0.01*BC$4532,0,$C4190/60)))","v":0},0,0,0,0,0,0,0,0,0,{"$error":"#N/A"},{"$error":"#N/A"},{"$error":"#N/A"},{"$error":"#N/A"},{"$error":"#N/A"},{"$error":"#N/A"},{"$f":"IF(SUM(CI$3091:CI4189)>0,0,IF(MAX(CB4190:CB$4531)=MAX(CB$3091:CB$4531),0,IF(BZ4190>0.03*BT$4532,0,$C4190/60)))","v":0},{"$f":"IF(SUM(CJ$3091:CJ4189)>0,0,IF(MAX(CB4190:CB$4531)=MAX(CB$3091:CB$4531),0,IF(BZ4190>0.01*BT$4532,0,$C4190/60)))","v":0},0,0,0,0,0,0,0,0,0,{"$error":"#N/A"},{"$error":"#N/A"},{"$error":"#N/A"},{"$error":"#N/A"},{"$error":"#N/A"},{"$error":"#N/A"},{"$f":"IF(SUM(CZ$3091:CZ4189)>0,0,IF(MAX(CS4190:CS$4531)=MAX(CS$3091:CS$4531),0,IF(CQ4190>0.03*CK$4532,0,$C4190/60)))","v":0},{"$f":"IF(SUM(DA$3091:DA4189)>0,0,IF(MAX(CS4190:CS$4531)=MAX(CS$3091:CS$4531),0,IF(CQ4190>0.01*CK$4532,0,$C4190/60)))","v":0},0,0,0,0,0,0,0,0,0,{"$error":"#N/A"},{"$error":"#N/A"},{"$error":"#N/A"},{"$error":"#N/A"},{"$error":"#N/A"},{"$error":"#N/A"},{"$f":"IF(SUM(DQ$3091:DQ4189)>0,0,IF(MAX(DJ4190:DJ$4531)=MAX(DJ$3091:DJ$4531),0,IF(DH4190>0.03*DB$4532,0,$C4190/60)))","v":0},{"$f":"IF(SUM(DR$3091:DR4189)>0,0,IF(MAX(DJ4190:DJ$4531)=MAX(DJ$3091:DJ$4531),0,IF(DH4190>0.01*DB$4532,0,$C4190/60)))","v":0},0,0,0,0,0,0,0,0,0,{"$error":"#N/A"},{"$error":"#N/A"},{"$error":"#N/A"},{"$error":"#N/A"},{"$error":"#N/A"},{"$error":"#N/A"},{"$f":"IF(SUM(EH$3091:EH4189)>0,0,IF(MAX(EA4190:EA$4531)=MAX(EA$3091:EA$4531),0,IF(DY4190>0.03*DS$4532,0,$C4190/60)))","v":0},{"$f":"IF(SUM(EI$3091:EI4189)>0,0,IF(MAX(EA4190:EA$4531)=MAX(EA$3091:EA$4531),0,IF(DY4190>0.01*DS$4532,0,$C4190/60)))","v":0},0,0,0,0,0,0,0,0,0,{"$error":"#N/A"},{"$error":"#N/A"},{"$error":"#N/A"},{"$error":"#N/A"},{"$error":"#N/A"},{"$error":"#N/A"},{"$f":"IF(SUM(EY$3091:EY4189)>0,0,IF(MAX(ER4190:ER$4531)=MAX(ER$3091:ER$4531),0,IF(EP4190>0.03*EJ$4532,0,$C4190/60)))","v":0},{"$f":"IF(SUM(EZ$3091:EZ4189)>0,0,IF(MAX(ER4190:ER$4531)=MAX(ER$3091:ER$4531),0,IF(EP4190>0.01*EJ$4532,0,$C4190/60)))","v":0}]
[null,92.333333333333329,5540,0,0,0,0,0,0,0,0,0,{"$error":"#N/A"},{"$error":"#N/A"},{"$error":"#N/A"},{"$error":"#N/A"},{"$error":"#N/A"},{"$error":"#N/A"},{"$f":"IF(SUM(S$3091:S4198)>0,0,\nIF(MAX(L4199:L$4531)=MAX(L$3091:L$4531),0,\nIF(Hydrograph_Source_WQCV=\"USER\",IF(J4199>0.03*D$4532,0,$C4199/60),\nIF(J4199>0.03*J$4532,0,$C4199/60))))","v":0},{"$f":"IF(SUM(T$3091:T4198)>0,0,\nIF(MAX(L4199:L$4531)=MAX(L$3091:L$4531),0,\nIF(Hydrograph_Source_WQCV=\"USER\",IF(J4199>0.01*D$4532,0,$C4199/60),\nIF(J4199>0.01*J$4532,0,$C4199/60))))","v":0},0,0,0,0,0,0,0,0,0,{"$error":"#N/A"},{"$error":"#N/A"},{"$error":"#N/A"},{"$error":"#N/A"},{"$error":"#N/A"},{"$error":"#N/A"},{"$f":"IF(SUM(AJ$3091:AJ4198)>0,0,\nIF(MAX(AC4199:AC$4531)=MAX(AC$3091:AC$4531),0,\nIF(Hydrograph_Source_EURV=\"USER\",IF(AA4199>0.03*U$4532,0,$C4199/60),\nIF(AA4199>0.03*AA$4532,0,$C4199/60))))","v":0},{"$f":"IF(SUM(AK$3091:AK4198)>0,0,\nIF(MAX(AC4199:AC$4531)=MAX(AC$3091:AC$4531),0,\nIF(Hydrograph_Source_EURV=\"USER\",IF(AA4199>0.01*U$4532,0,$C4199/60),\nIF(AA4199>0.01*AA$4532,0,$C4199/60))))","v":0},0,0,0,0,0,0,0,0,0,{"$error":"#N/A"},{"$error":"#N/A"},{"$error":"#N/A"},{"$error":"#N/A"},{"$error":"#N/A"},{"$error":"#N/A"},{"$f":"IF(SUM(BA$3091:BA4198)>0,0,IF(MAX(AT4199:AT$4531)=MAX(AT$3091:AT$4531),0,IF(AR4199>0.03*AL$4532,0,$C4199/60)))","v":0},{"$f":"IF(SUM(BB$3091:BB4198)>0,0,IF(MAX(AT4199:AT$4531)=MAX(AT$3091:AT$4531),0,IF(AR4199>0.01*AL$4532,0,$C4199/60)))","v":0},0,0,0,0,0,0,0,0,0,{"$error":"#N/A"},{"$error":"#N/A"},{"$error":"#N/A"},{"$error":"#N/A"},{"$error":"#N/A"},{"$error":"#N/A"},{"$f":"IF(SUM(BR$3091:BR4198)>0,0,IF(MAX(BK4199:BK$4531)=MAX(BK$3091:BK$4531),0,IF(BI4199>0.03*BC$4532,0,$C4199/60)))","v":0},{"$f":"IF(SUM(BS$3091:BS4198)>0,0,IF(MAX(BK4199:BK$4531)=MAX(BK$3091:BK$4531),0,IF(BI4199>0.01*BC$4532,0,$C4199/60)))","v":0},0,0,0,0,0,0,0,0,0,{"$error":"#N/A"},{"$error":"#N/A"},{"$error":"#N/A"},{"$error":"#N/A"},{"$error":"#N/A"},{"$error":"#N/A"},{"$f":"IF(SUM(CI$3091:CI4198)>0,0,IF(MAX(CB4199:CB$4531)=MAX(CB$3091:CB$4531),0,IF(BZ4199>0.03*BT$4532,0,$C4199/60)))","v":0},{"$f":"IF(SUM(CJ$3091:CJ4198)>0,0,IF(MAX(CB4199:CB$4531)=MAX(CB$3091:CB$4531),0,IF(BZ4199>0.01*BT$4532,0,$C4199/60)))","v":0},0,0,0,0,0,0,0,0,0,{"$error":"#N/A"},{"$error":"#N/A"},{"$error":"#N/A"},{"$error":"#N/A"},{"$error":"#N/A"},{"$error":"#N/A"},{"$f":"IF(SUM(CZ$3091:CZ4198)>0,0,IF(MAX(CS4199:CS$4531)=MAX(CS$3091:CS$4531),0,IF(CQ4199>0.03*CK$4532,0,$C4199/60)))","v":0},{"$f":"IF(SUM(DA$3091:DA4198)>0,0,IF(MAX(CS4199:CS$4531)=MAX(CS$3091:CS$4531),0,IF(CQ4199>0.01*CK$4532,0,$C4199/60)))","v":0},0,0,0,0,0,0,0,0,0,{"$error":"#N/A"},{"$error":"#N/A"},{"$error":"#N/A"},{"$error":"#N/A"},{"$error":"#N/A"},{"$error":"#N/A"},{"$f":"IF(SUM(DQ$3091:DQ4198)>0,0,IF(MAX(DJ4199:DJ$4531)=MAX(DJ$3091:DJ$4531),0,IF(DH4199>0.03*DB$4532,0,$C4199/60)))","v":0},{"$f":"IF(SUM(DR$3091:DR4198)>0,0,IF(MAX(DJ4199:DJ$4531)=MAX(DJ$3091:DJ$4531),0,IF(DH4199>0.01*DB$4532,0,$C4199/60)))","v":0},0,0,0,0,0,0,0,0,0,{"$error":"#N/A"},{"$error":"#N/A"},{"$error":"#N/A"},{"$error":"#N/A"},{"$error":"#N/A"},{"$error":"#N/A"},{"$f":"IF(SUM(EH$3091:EH4198)>0,0,IF(MAX(EA4199:EA$4531)=MAX(EA$3091:EA$4531),0,IF(DY4199>0.03*DS$4532,0,$C4199/60)))","v":0},{"$f":"IF(SUM(EI$3091:EI4198)>0,0,IF(MAX(EA4199:EA$4531)=MAX(EA$3091:EA$4531),0,IF(DY4199>0.01*DS$4532,0,$C4199/60)))","v":0},0,0,0,0,0,0,0,0,0,{"$error":"#N/A"},{"$error":"#N/A"},{"$error":"#N/A"},{"$error":"#N/A"},{"$error":"#N/A"},{"$error":"#N/A"},{"$f":"IF(SUM(EY$3091:EY4198)>0,0,IF(MAX(ER4199:ER$4531)=MAX(ER$3091:ER$4531),0,IF(EP4199>0.03*EJ$4532,0,$C4199/60)))","v":0},{"$f":"IF(SUM(EZ$3091:EZ4198)>0,0,IF(MAX(ER4199:ER$4531)=MAX(ER$3091:ER$4531),0,IF(EP4199>0.01*EJ$4532,0,$C4199/60)))","v":0}]
[null,93.083333333333329,5585,0,0,0,0,0,0,0,0,0,{"$error":"#N/A"},{"$error":"#N/A"},{"$error":"#N/A"},{"$error":"#N/A"},{"$error":"#N/A"},{"$error":"#N/A"},{"$f":"IF(SUM(S$3091:S4207)>0,0,\nIF(MAX(L4208:L$4531)=MAX(L$3091:L$4531),0,\nIF(Hydrograph_Source_WQCV=\"USER\",IF(J4208>0.03*D$4532,0,$C4208/60),\nIF(J4208>0.03*J$4532,0,$C4208/60))))","v":0},{"$f":"IF(SUM(T$3091:T4207)>0,0,\nIF(MAX(L4208:L$4531)=MAX(L$3091:L$4531),0,\nIF(Hydrograph_Source_WQCV=\"USER\",IF(J4208>0.01*D$4532,0,$C4208/60),\nIF(J4208>0.01*J$4532,0,$C4208/60))))","v":0},0,0,0,0,0,0,0,0,0,{"$error":"#N/A"},{"$error":"#N/A"},{"$error":"#N/A"},{"$error":"#N/A"},{"$error":"#N/A"},{"$error":"#N/A"},{"$f":"IF(SUM(AJ$3091:AJ4207)>0,0,\nIF(MAX(AC4208:AC$4531)=MAX(AC$3091:AC$4531),0,\nIF(Hydrograph_Source_EURV=\"USER\",IF(AA4208>0.03*U$4532,0,$C4208/60),\nIF(AA4208>0.03*AA$4532,0,$C4208/60))))","v":0},{"$f":"IF(SUM(AK$3091:AK4207)>0,0,\nIF(MAX(AC4208:AC$4531)=MAX(AC$3091:AC$4531),0,\nIF(Hydrograph_Source_EURV=\"USER\",IF(AA4208>0.01*U$4532,0,$C4208/60),\nIF(AA4208>0.01*AA$4532,0,$C4208/60))))","v":0},0,0,0,0,0,0,0,0,0,{"$error":"#N/A"},{"$error":"#N/A"},{"$error":"#N/A"},{"$error":"#N/A"},{"$error":"#N/A"},{"$error":"#N/A"},{"$f":"IF(SUM(BA$3091:BA4207)>0,0,IF(MAX(AT4208:AT$4531)=MAX(AT$3091:AT$4531),0,IF(AR4208>0.03*AL$4532,0,$C4208/60)))","v":0},{"$f":"IF(SUM(BB$3091:BB4207)>0,0,IF(MAX(AT4208:AT$4531)=MAX(AT$3091:AT$4531),0,IF(AR4208>0.01*AL$4532,0,$C4208/60)))","v":0},0,0,0,0,0,0,0,0,0,{"$error":"#N/A"},{"$error":"#N/A"},{"$error":"#N/A"},{"$error":"#N/A"},{"$error":"#N/A"},{"$error":"#N/A"},{"$f":"IF(SUM(BR$3091:BR4207)>0,0,IF(MAX(BK4208:BK$4531)=MAX(BK$3091:BK$4531),0,IF(BI4208>0.03*BC$4532,0,$C4208/60)))","v":0},{"$f":"IF(SUM(BS$3091:BS4207)>0,0,IF(MAX(BK4208:BK$4531)=MAX(BK$3091:BK$4531),0,IF(BI4208>0.01*BC$4532,0,$C4208/60)))","v":0},0,0,0,0,0,0,0,0,0,{"$error":"#N/A"},{"$error":"#N/A"},{"$error":"#N/A"},{"$error":"#N/A"},{"$error":"#N/A"},{"$error":"#N/A"},{"$f":"IF(SUM(CI$3091:CI4207)>0,0,IF(MAX(CB4208:CB$4531)=MAX(CB$3091:CB$4531),0,IF(BZ4208>0.03*BT$4532,0,$C4208/60)))","v":0},{"$f":"IF(SUM(CJ$3091:CJ4207)>0,0,IF(MAX(CB4208:CB$4531)=MAX(CB$3091:CB$4531),0,IF(BZ4208>0.01*BT$4532,0,$C4208/60)))","v":0},0,0,0,0,0,0,0,0,0,{"$error":"#N/A"},{"$error":"#N/A"},{"$error":"#N/A"},{"$error":"#N/A"},{"$error":"#N/A"},{"$error":"#N/A"},{"$f":"IF(SUM(CZ$3091:CZ4207)>0,0,IF(MAX(CS4208:CS$4531)=MAX(CS$3091:CS$4531),0,IF(CQ4208>0.03*CK$4532,0,$C4208/60)))","v":0},{"$f":"IF(SUM(DA$3091:DA4207)>0,0,IF(MAX(CS4208:CS$4531)=MAX(CS$3091:CS$4531),0,IF(CQ4208>0.01*CK$4532,0,$C4208/60)))","v":0},0,0,0,0,0,0,0,0,0,{"$error":"#N/A"},{"$error":"#N/A"},{"$error":"#N/A"},{"$error":"#N/A"},{"$error":"#N/A"},{"$error":"#N/A"},{"$f":"IF(SUM(DQ$3091:DQ4207)>0,0,IF(MAX(DJ4208:DJ$4531)=MAX(DJ$3091:DJ$4531),0,IF(DH4208>0.03*DB$4532,0,$C4208/60)))","v":0},{"$f":"IF(SUM(DR$3091:DR4207)>0,0,IF(MAX(DJ4208:DJ$4531)=MAX(DJ$3091:DJ$4531),0,IF(DH4208>0.01*DB$4532,0,$C4208/60)))","v":0},0,0,0,0,0,0,0,0,0,{"$error":"#N/A"},{"$error":"#N/A"},{"$error":"#N/A"},{"$error":"#N/A"},{"$error":"#N/A"},{"$error":"#N/A"},{"$f":"IF(SUM(EH$3091:EH4207)>0,0,IF(MAX(EA4208:EA$4531)=MAX(EA$3091:EA$4531),0,IF(DY4208>0.03*DS$4532,0,$C4208/60)))","v":0},{"$f":"IF(SUM(EI$3091:EI4207)>0,0,IF(MAX(EA4208:EA$4531)=MAX(EA$3091:EA$4531),0,IF(DY4208>0.01*DS$4532,0,$C4208/60)))","v":0},0,0,0,0,0,0,0,0,0,{"$error":"#N/A"},{"$error":"#N/A"},{"$error":"#N/A"},{"$error":"#N/A"},{"$error":"#N/A"},{"$error":"#N/A"},{"$f":"IF(SUM(EY$3091:EY4207)>0,0,IF(MAX(ER4208:ER$4531)=MAX(ER$3091:ER$4531),0,IF(EP4208>0.03*EJ$4532,0,$C4208/60)))","v":0},{"$f":"IF(SUM(EZ$3091:EZ4207)>0,0,IF(MAX(ER4208:ER$4531)=MAX(ER$3091:ER$4531),0,IF(EP4208>0.01*EJ$4532,0,$C4208/60)))","v":0}]
[null,93.833333333333329,5630,0,0,0,0,0,0,0,0,0,{"$error":"#N/A"},{"$error":"#N/A"},{"$error":"#N/A"},{"$error":"#N/A"},{"$error":"#N/A"},{"$error":"#N/A"},{"$f":"IF(SUM(S$3091:S4216)>0,0,\nIF(MAX(L4217:L$4531)=MAX(L$3091:L$4531),0,\nIF(Hydrograph_Source_WQCV=\"USER\",IF(J4217>0.03*D$4532,0,$C4217/60),\nIF(J4217>0.03*J$4532,0,$C4217/60))))","v":0},{"$f":"IF(SUM(T$3091:T4216)>0,0,\nIF(MAX(L4217:L$4531)=MAX(L$3091:L$4531),0,\nIF(Hydrograph_Source_WQCV=\"USER\",IF(J4217>0.01*D$4532,0,$C4217/60),\nIF(J4217>0.01*J$4532,0,$C4217/60))))","v":0},0,0,0,0,0,0,0,0,0,{"$error":"#N/A"},{"$error":"#N/A"},{"$error":"#N/A"},{"$error":"#N/A"},{"$error":"#N/A"},{"$error":"#N/A"},{"$f":"IF(SUM(AJ$3091:AJ4216)>0,0,\nIF(MAX(AC4217:AC$4531)=MAX(AC$3091:AC$4531),0,\nIF(Hydrograph_Source_EURV=\"USER\",IF(AA4217>0.03*U$4532,0,$C4217/60),\nIF(AA4217>0.03*AA$4532,0,$C4217/60))))","v":0},{"$f":"IF(SUM(AK$3091:AK4216)>0,0,\nIF(MAX(AC4217:AC$4531)=MAX(AC$3091:AC$4531),0,\nIF(Hydrograph_Source_EURV=\"USER\",IF(AA4217>0.01*U$4532,0,$C4217/60),\nIF(AA4217>0.01*AA$4532,0,$C4217/60))))","v":0},0,0,0,0,0,0,0,0,0,{"$error":"#N/A"},{"$error":"#N/A"},{"$error":"#N/A"},{"$error":"#N/A"},{"$error":"#N/A"},{"$error":"#N/A"},{"$f":"IF(SUM(BA$3091:BA4216)>0,0,IF(MAX(AT4217:AT$4531)=MAX(AT$3091:AT$4531),0,IF(AR4217>0.03*AL$4532,0,$C4217/60)))","v":0},{"$f":"IF(SUM(BB$3091:BB4216)>0,0,IF(MAX(AT4217:AT$4531)=MAX(AT$3091:AT$4531),0,IF(AR4217>0.01*AL$4532,0,$C4217/60)))","v":0},0,0,0,0,0,0,0,0,0,{"$error":"#N/A"},{"$error":"#N/A"},{"$error":"#N/A"},{"$error":"#N/A"},{"$error":"#N/A"},{"$error":"#N/A"},{"$f":"IF(SUM(BR$3091:BR4216)>0,0,IF(MAX(BK4217:BK$4531)=MAX(BK$3091:BK$4531),0,IF(BI4217>0.03*BC$4532,0,$C4217/60)))","v":0},{"$f":"IF(SUM(BS$3091:BS4216)>0,0,IF(MAX(BK4217:BK$4531)=MAX(BK$3091:BK$4531),0,IF(BI4217>0.01*BC$4532,0,$C4217/60)))","v":0},0,0,0,0,0,0,0,0,0,{"$error":"#N/A"},{"$error":"#N/A"},{"$error":"#N/A"},{"$error":"#N/A"},{"$error":"#N/A"},{"$error":"#N/A"},{"$f":"IF(SUM(CI$3091:CI4216)>0,0,IF(MAX(CB4217:CB$4531)=MAX(CB$3091:CB$4531),0,IF(BZ4217>0.03*BT$4532,0,$C4217/60)))","v":0},{"$f":"IF(SUM(CJ$3091:CJ4216)>0,0,IF(MAX(CB4217:CB$4531)=MAX(CB$3091:CB$4531),0,IF(BZ4217>0.01*BT$4532,0,$C4217/60)))","v":0},0,0,0,0,0,0,0,0,0,{"$error":"#N/A"},{"$error":"#N/A"},{"$error":"#N/A"},{"$error":"#N/A"},{"$error":"#N/A"},{"$error":"#N/A"},{"$f":"IF(SUM(CZ$3091:CZ4216)>0,0,IF(MAX(CS4217:CS$4531)=MAX(CS$3091:CS$4531),0,IF(CQ4217>0.03*CK$4532,0,$C4217/60)))","v":0},{"$f":"IF(SUM(DA$3091:DA4216)>0,0,IF(MAX(CS4217:CS$4531)=MAX(CS$3091:CS$4531),0,IF(CQ4217>0.01*CK$4532,0,$C4217/60)))","v":0},0,0,0,0,0,0,0,0,0,{"$error":"#N/A"},{"$error":"#N/A"},{"$error":"#N/A"},{"$error":"#N/A"},{"$error":"#N/A"},{"$error":"#N/A"},{"$f":"IF(SUM(DQ$3091:DQ4216)>0,0,IF(MAX(DJ4217:DJ$4531)=MAX(DJ$3091:DJ$4531),0,IF(DH4217>0.03*DB$4532,0,$C4217/60)))","v":0},{"$f":"IF(SUM(DR$3091:DR4216)>0,0,IF(MAX(DJ4217:DJ$4531)=MAX(DJ$3091:DJ$4531),0,IF(DH4217>0.01*DB$4532,0,$C4217/60)))","v":0},0,0,0,0,0,0,0,0,0,{"$error":"#N/A"},{"$error":"#N/A"},{"$error":"#N/A"},{"$error":"#N/A"},{"$error":"#N/A"},{"$error":"#N/A"},{"$f":"IF(SUM(EH$3091:EH4216)>0,0,IF(MAX(EA4217:EA$4531)=MAX(EA$3091:EA$4531),0,IF(DY4217>0.03*DS$4532,0,$C4217/60)))","v":0},{"$f":"IF(SUM(EI$3091:EI4216)>0,0,IF(MAX(EA4217:EA$4531)=MAX(EA$3091:EA$4531),0,IF(DY4217>0.01*DS$4532,0,$C4217/60)))","v":0},0,0,0,0,0,0,0,0,0,{"$error":"#N/A"},{"$error":"#N/A"},{"$error":"#N/A"},{"$error":"#N/A"},{"$error":"#N/A"},{"$error":"#N/A"},{"$f":"IF(SUM(EY$3091:EY4216)>0,0,IF(MAX(ER4217:ER$4531)=MAX(ER$3091:ER$4531),0,IF(EP4217>0.03*EJ$4532,0,$C4217/60)))","v":0},{"$f":"IF(SUM(EZ$3091:EZ4216)>0,0,IF(MAX(ER4217:ER$4531)=MAX(ER$3091:ER$4531),0,IF(EP4217>0.01*EJ$4532,0,$C4217/60)))","v":0}]
[null,94.583333333333329,5675,0,0,0,0,0,0,0,0,0,{"$error":"#N/A"},{"$error":"#N/A"},{"$error":"#N/A"},{"$error":"#N/A"},{"$error":"#N/A"},{"$error":"#N/A"},{"$f":"IF(SUM(S$3091:S4225)>0,0,\nIF(MAX(L4226:L$4531)=MAX(L$3091:L$4531),0,\nIF(Hydrograph_Source_WQCV=\"USER\",IF(J4226>0.03*D$4532,0,$C4226/60),\nIF(J4226>0.03*J$4532,0,$C4226/60))))","v":0},{"$f":"IF(SUM(T$3091:T4225)>0,0,\nIF(MAX(L4226:L$4531)=MAX(L$3091:L$4531),0,\nIF(Hydrograph_Source_WQCV=\"USER\",IF(J4226>0.01*D$4532,0,$C4226/60),\nIF(J4226>0.01*J$4532,0,$C4226/60))))","v":0},0,0,0,0,0,0,0,0,0,{"$error":"#N/A"},{"$error":"#N/A"},{"$error":"#N/A"},{"$error":"#N/A"},{"$error":"#N/A"},{"$error":"#N/A"},{"$f":"IF(SUM(AJ$3091:AJ4225)>0,0,\nIF(MAX(AC4226:AC$4531)=MAX(AC$3091:AC$4531),0,\nIF(Hydrograph_Source_EURV=\"USER\",IF(AA4226>0.03*U$4532,0,$C4226/60),\nIF(AA4226>0.03*AA$4532,0,$C4226/60))))","v":0},{"$f":"IF(SUM(AK$3091:AK4225)>0,0,\nIF(MAX(AC4226:AC$4531)=MAX(AC$3091:AC$4531),0,\nIF(Hydrograph_Source_EURV=\"USER\",IF(AA4226>0.01*U$4532,0,$C4226/60),\nIF(AA4226>0.01*AA$4532,0,$C4226/60))))","v":0},0,0,0,0,0,0,0,0,0,{"$error":"#N/A"},{"$error":"#N/A"},{"$error":"#N/A"},{"$error":"#N/A"},{"$error":"#N/A"},{"$error":"#N/A"},{"$f":"IF(SUM(BA$3091:BA4225)>0,0,IF(MAX(AT4226:AT$4531)=MAX(AT$3091:AT$4531),0,IF(AR4226>0.03*AL$4532,0,$C4226/60)))","v":0},{"$f":"IF(SUM(BB$3091:BB4225)>0,0,IF(MAX(AT4226:AT$4531)=MAX(AT$3091:AT$4531),0,IF(AR4226>0.01*AL$4532,0,$C4226/60)))","v":0},0,0,0,0,0,0,0,0,0,{"$error":"#N/A"},{"$error":"#N/A"},{"$error":"#N/A"},{"$error":"#N/A"},{"$error":"#N/A"},{"$error":"#N/A"},{"$f":"IF(SUM(BR$3091:BR4225)>0,0,IF(MAX(BK4226:BK$4531)=MAX(BK$3091:BK$4531),0,IF(BI4226>0.03*BC$4532,0,$C4226/60)))","v":0},{"$f":"IF(SUM(BS$3091:BS4225)>0,0,IF(MAX(BK4226:BK$4531)=MAX(BK$3091:BK$4531),0,IF(BI4226>0.01*BC$4532,0,$C4226/60)))","v":0},0,0,0,0,0,0,0,0,0,{"$error":"#N/A"},{"$error":"#N/A"},{"$error":"#N/A"},{"$error":"#N/A"},{"$error":"#N/A"},{"$error":"#N/A"},{"$f":"IF(SUM(CI$3091:CI4225)>0,0,IF(MAX(CB4226:CB$4531)=MAX(CB$3091:CB$4531),0,IF(BZ4226>0.03*BT$4532,0,$C4226/60)))","v":0},{"$f":"IF(SUM(CJ$3091:CJ4225)>0,0,IF(MAX(CB4226:CB$4531)=MAX(CB$3091:CB$4531),0,IF(BZ4226>0.01*BT$4532,0,$C4226/60)))","v":0},0,0,0,0,0,0,0,0,0,{"$error":"#N/A"},{"$error":"#N/A"},{"$error":"#N/A"},{"$error":"#N/A"},{"$error":"#N/A"},{"$error":"#N/A"},{"$f":"IF(SUM(CZ$3091:CZ4225)>0,0,IF(MAX(CS4226:CS$4531)=MAX(CS$3091:CS$4531),0,IF(CQ4226>0.03*CK$4532,0,$C4226/60)))","v":0},{"$f":"IF(SUM(DA$3091:DA4225)>0,0,IF(MAX(CS4226:CS$4531)=MAX(CS$3091:CS$4531),0,IF(CQ4226>0.01*CK$4532,0,$C4226/60)))","v":0},0,0,0,0,0,0,0,0,0,{"$error":"#N/A"},{"$error":"#N/A"},{"$error":"#N/A"},{"$error":"#N/A"},{"$error":"#N/A"},{"$error":"#N/A"},{"$f":"IF(SUM(DQ$3091:DQ4225)>0,0,IF(MAX(DJ4226:DJ$4531)=MAX(DJ$3091:DJ$4531),0,IF(DH4226>0.03*DB$4532,0,$C4226/60)))","v":0},{"$f":"IF(SUM(DR$3091:DR4225)>0,0,IF(MAX(DJ4226:DJ$4531)=MAX(DJ$3091:DJ$4531),0,IF(DH4226>0.01*DB$4532,0,$C4226/60)))","v":0},0,0,0,0,0,0,0,0,0,{"$error":"#N/A"},{"$error":"#N/A"},{"$error":"#N/A"},{"$error":"#N/A"},{"$error":"#N/A"},{"$error":"#N/A"},{"$f":"IF(SUM(EH$3091:EH4225)>0,0,IF(MAX(EA4226:EA$4531)=MAX(EA$3091:EA$4531),0,IF(DY4226>0.03*DS$4532,0,$C4226/60)))","v":0},{"$f":"IF(SUM(EI$3091:EI4225)>0,0,IF(MAX(EA4226:EA$4531)=MAX(EA$3091:EA$4531),0,IF(DY4226>0.01*DS$4532,0,$C4226/60)))","v":0},0,0,0,0,0,0,0,0,0,{"$error":"#N/A"},{"$error":"#N/A"},{"$error":"#N/A"},{"$error":"#N/A"},{"$error":"#N/A"},{"$error":"#N/A"},{"$f":"IF(SUM(EY$3091:EY4225)>0,0,IF(MAX(ER4226:ER$4531)=MAX(ER$3091:ER$4531),0,IF(EP4226>0.03*EJ$4532,0,$C4226/60)))","v":0},{"$f":"IF(SUM(EZ$3091:EZ4225)>0,0,IF(MAX(ER4226:ER$4531)=MAX(ER$3091:ER$4531),0,IF(EP4226>0.01*EJ$4532,0,$C4226/60)))","v":0}]
[null,95.333333333333329,5720,0,0,0,0,0,0,0,0,0,{"$error":"#N/A"},{"$error":"#N/A"},{"$error":"#N/A"},{"$error":"#N/A"},{"$error":"#N/A"},{"$error":"#N/A"},{"$f":"IF(SUM(S$3091:S4234)>0,0,\nIF(MAX(L4235:L$4531)=MAX(L$3091:L$4531),0,\nIF(Hydrograph_Source_WQCV=\"USER\",IF(J4235>0.03*D$4532,0,$C4235/60),\nIF(J4235>0.03*J$4532,0,$C4235/60))))","v":0},{"$f":"IF(SUM(T$3091:T4234)>0,0,\nIF(MAX(L4235:L$4531)=MAX(L$3091:L$4531),0,\nIF(Hydrograph_Source_WQCV=\"USER\",IF(J4235>0.01*D$4532,0,$C4235/60),\nIF(J4235>0.01*J$4532,0,$C4235/60))))","v":0},0,0,0,0,0,0,0,0,0,{"$error":"#N/A"},{"$error":"#N/A"},{"$error":"#N/A"},{"$error":"#N/A"},{"$error":"#N/A"},{"$error":"#N/A"},{"$f":"IF(SUM(AJ$3091:AJ4234)>0,0,\nIF(MAX(AC4235:AC$4531)=MAX(AC$3091:AC$4531),0,\nIF(Hydrograph_Source_EURV=\"USER\",IF(AA4235>0.03*U$4532,0,$C4235/60),\nIF(AA4235>0.03*AA$4532,0,$C4235/60))))","v":0},{"$f":"IF(SUM(AK$3091:AK4234)>0,0,\nIF(MAX(AC4235:AC$4531)=MAX(AC$3091:AC$4531),0,\nIF(Hydrograph_Source_EURV=\"USER\",IF(AA4235>0.01*U$4532,0,$C4235/60),\nIF(AA4235>0.01*AA$4532,0,$C4235/60))))","v":0},0,0,0,0,0,0,0,0,0,{"$error":"#N/A"},{"$error":"#N/A"},{"$error":"#N/A"},{"$error":"#N/A"},{"$error":"#N/A"},{"$error":"#N/A"},{"$f":"IF(SUM(BA$3091:BA4234)>0,0,IF(MAX(AT4235:AT$4531)=MAX(AT$3091:AT$4531),0,IF(AR4235>0.03*AL$4532,0,$C4235/60)))","v":0},{"$f":"IF(SUM(BB$3091:BB4234)>0,0,IF(MAX(AT4235:AT$4531)=MAX(AT$3091:AT$4531),0,IF(AR4235>0.01*AL$4532,0,$C4235/60)))","v":0},0,0,0,0,0,0,0,0,0,{"$error":"#N/A"},{"$error":"#N/A"},{"$error":"#N/A"},{"$error":"#N/A"},{"$error":"#N/A"},{"$error":"#N/A"},{"$f":"IF(SUM(BR$3091:BR4234)>0,0,IF(MAX(BK4235:BK$4531)=MAX(BK$3091:BK$4531),0,IF(BI4235>0.03*BC$4532,0,$C4235/60)))","v":0},{"$f":"IF(SUM(BS$3091:BS4234)>0,0,IF(MAX(BK4235:BK$4531)=MAX(BK$3091:BK$4531),0,IF(BI4235>0.01*BC$4532,0,$C4235/60)))","v":0},0,0,0,0,0,0,0,0,0,{"$error":"#N/A"},{"$error":"#N/A"},{"$error":"#N/A"},{"$error":"#N/A"},{"$error":"#N/A"},{"$error":"#N/A"},{"$f":"IF(SUM(CI$3091:CI4234)>0,0,IF(MAX(CB4235:CB$4531)=MAX(CB$3091:CB$4531),0,IF(BZ4235>0.03*BT$4532,0,$C4235/60)))","v":0},{"$f":"IF(SUM(CJ$3091:CJ4234)>0,0,IF(MAX(CB4235:CB$4531)=MAX(CB$3091:CB$4531),0,IF(BZ4235>0.01*BT$4532,0,$C4235/60)))","v":0},0,0,0,0,0,0,0,0,0,{"$error":"#N/A"},{"$error":"#N/A"},{"$error":"#N/A"},{"$error":"#N/A"},{"$error":"#N/A"},{"$error":"#N/A"},{"$f":"IF(SUM(CZ$3091:CZ4234)>0,0,IF(MAX(CS4235:CS$4531)=MAX(CS$3091:CS$4531),0,IF(CQ4235>0.03*CK$4532,0,$C4235/60)))","v":0},{"$f":"IF(SUM(DA$3091:DA4234)>0,0,IF(MAX(CS4235:CS$4531)=MAX(CS$3091:CS$4531),0,IF(CQ4235>0.01*CK$4532,0,$C4235/60)))","v":0},0,0,0,0,0,0,0,0,0,{"$error":"#N/A"},{"$error":"#N/A"},{"$error":"#N/A"},{"$error":"#N/A"},{"$error":"#N/A"},{"$error":"#N/A"},{"$f":"IF(SUM(DQ$3091:DQ4234)>0,0,IF(MAX(DJ4235:DJ$4531)=MAX(DJ$3091:DJ$4531),0,IF(DH4235>0.03*DB$4532,0,$C4235/60)))","v":0},{"$f":"IF(SUM(DR$3091:DR4234)>0,0,IF(MAX(DJ4235:DJ$4531)=MAX(DJ$3091:DJ$4531),0,IF(DH4235>0.01*DB$4532,0,$C4235/60)))","v":0},0,0,0,0,0,0,0,0,0,{"$error":"#N/A"},{"$error":"#N/A"},{"$error":"#N/A"},{"$error":"#N/A"},{"$error":"#N/A"},{"$error":"#N/A"},{"$f":"IF(SUM(EH$3091:EH4234)>0,0,IF(MAX(EA4235:EA$4531)=MAX(EA$3091:EA$4531),0,IF(DY4235>0.03*DS$4532,0,$C4235/60)))","v":0},{"$f":"IF(SUM(EI$3091:EI4234)>0,0,IF(MAX(EA4235:EA$4531)=MAX(EA$3091:EA$4531),0,IF(DY4235>0.01*DS$4532,0,$C4235/60)))","v":0},0,0,0,0,0,0,0,0,0,{"$error":"#N/A"},{"$error":"#N/A"},{"$error":"#N/A"},{"$error":"#N/A"},{"$error":"#N/A"},{"$error":"#N/A"},{"$f":"IF(SUM(EY$3091:EY4234)>0,0,IF(MAX(ER4235:ER$4531)=MAX(ER$3091:ER$4531),0,IF(EP4235>0.03*EJ$4532,0,$C4235/60)))","v":0},{"$f":"IF(SUM(EZ$3091:EZ4234)>0,0,IF(MAX(ER4235:ER$4531)=MAX(ER$3091:ER$4531),0,IF(EP4235>0.01*EJ$4532,0,$C4235/60)))","v":0}]
[null,{"$f":"C4243/60","v":96},5760,0,{"$f":"D4244","v":0},0,{"$f":"IF(D4243=\"\",0,IF($F$87=\"\",0,(M4243*K4243+O4243-M4243*P4243)))","v":0},0,{"$f":"IF($D$3091=\"\",0,(K4243-$C$3089*60*G4243)/2)","v":0},{"$f":"I4243/43560","v":0},{"$f":"IF((D4243+E4243-F4243)*$C$3089*60+2*H4243<0,0,(D4243+E4243-F4243)*$C$3089*60+2*H4243)","v":0},0,{"$f":"IF(INDEX($Z$88:$Z$3087,N4243,1)=\"\",0,INDEX($Z$88:$Z$3087,N4243,1))","v":{"$error":"#N/A"}},{"$error":"#N/A"},{"$error":"#N/A"},{"$error":"#N/A"},{"$f":"INDEX(H_stage1,N4243,1)","v":{"$error":"#N/A"}},{"$f":"IF(INDEX($AA$88:$AA$3087,N4243,1)=\"\",0,INDEX($AA$88:$AA$3087,N4243,1))","v":{"$error":"#N/A"}},{"$f":"IF(SUM(S$3091:S4242)>0,0,\nIF(MAX(L4243:L$4531)=MAX(L$3091:L$4531),0,\nIF(Hydrograph_Source_WQCV=\"USER\",IF(J4243>0.03*D$4532,0,$C4243/60),\nIF(J4243>0.03*J$4532,0,$C4243/60))))","v":0},{"$f":"IF(SUM(T$3091:T4242)>0,0,\nIF(MAX(L4243:L$4531)=MAX(L$3091:L$4531),0,\nIF(Hydrograph_Source_WQCV=\"USER\",IF(J4243>0.01*D$4532,0,$C4243/60),\nIF(J4243>0.01*J$4532,0,$C4243/60))))","v":0},0,{"$f":"U4244","v":0},0,{"$f":"IF(U4243=\"\",0,IF($F$87=\"\",0,(AD4243*AB4243+AF4243-AD4243*AG4243)))","v":0},0,{"$f":"IF($U$3091=\"\",0,(AB4243-$C$3089*60*X4243)/2)","v":0},{"$f":"Z4243/43560","v":0},{"$f":"IF((U4243+V4243-W4243)*$C$3089*60+2*Y4243<0,0,(U4243+V4243-W4243)*$C$3089*60+2*Y4243)","v":0},0,{"$f":"IF(INDEX($Z$88:$Z$3087,AE4243,1)=\"\",0,INDEX($Z$88:$Z$3087,AE4243,1))","v":{"$error":"#N/A"}},{"$error":"#N/A"},{"$error":"#N/A"},{"$error":"#N/A"},{"$f":"INDEX(H_stage1,AE4243,1)","v":{"$error":"#N/A"}},{"$f":"IF(INDEX($AA$88:$AA$3087,AE4243,1)=\"\",0,INDEX($AA$88:$AA$3087,AE4243,1))","v":{"$error":"#N/A"}},{"$f":"IF(SUM(AJ$3091:AJ4242)>0,0,\nIF(MAX(AC4243:AC$4531)=MAX(AC$3091:AC$4531),0,\nIF(Hydrograph_Source_EURV=\"USER\",IF(AA4243>0.03*U$4532,0,$C4243/60),\nIF(AA4243>0.03*AA$4532,0,$C4243/60))))","v":0},{"$f":"IF(SUM(AK$3091:AK4242)>0,0,\nIF(MAX(AC4243:AC$4531)=MAX(AC$3091:AC$4531),0,\nIF(Hydrograph_Source_EURV=\"USER\",IF(AA4243>0.01*U$4532,0,$C4243/60),\nIF(AA4243>0.01*AA$4532,0,$C4243/60))))","v":0},0,{"$f":"AL4244","v":0},0,{"$f":"IF(AL4243=\"\",0,IF($F$87=\"\",0,(AU4243*AS4243+AW4243-AU4243*AX4243)))","v":0},0,{"$f":"IF($AL$3091=\"\",0,(AS4243-$C$3089*60*AO4243)/2)","v":0},{"$f":"AQ4243/43560","v":0},{"$f":"IF((AL4243+AM4243-AN4243)*$C$3089*60+2*AP4243<0,0,(AL4243+AM4243-AN4243)*$C$3089*60+2*AP4243)","v":0},0,{"$f":"IF(INDEX($Z$88:$Z$3087,AV4243,1)=\"\",0,INDEX($Z$88:$Z$3087,AV4243,1))","v":{"$error":"#N/A"}},{"$error":"#N/A"},{"$error":"#N/A"},{"$error":"#N/A"},{"$f":"INDEX(H_stage1,AV4243,1)","v":{"$error":"#N/A"}},{"$f":"IF(INDEX($AA$88:$AA$3087,AV4243,1)=\"\",0,INDEX($AA$88:$AA$3087,AV4243,1))","v":{"$error":"#N/A"}},{"$f":"IF(SUM(BA$3091:BA4242)>0,0,IF(MAX(AT4243:AT$4531)=MAX(AT$3091:AT$4531),0,IF(AR4243>0.03*AL$4532,0,$C4243/60)))","v":0},{"$f":"IF(SUM(BB$3091:BB4242)>0,0,IF(MAX(AT4243:AT$4531)=MAX(AT$3091:AT$4531),0,IF(AR4243>0.01*AL$4532,0,$C4243/60)))","v":0},0,{"$f":"BC4244","v":0},0,{"$f":"IF(BC4243=\"\",0,IF($F$87=\"\",0,(BL4243*BJ4243+BN4243-BL4243*BO4243)))","v":0},0,{"$f":"IF($BC$3091=\"\",0,(BJ4243-$C$3089*60*BF4243)/2)","v":0},{"$f":"BH4243/43560","v":0},{"$f":"IF((BC4243+BD4243-BE4243)*$C$3089*60+2*BG4243<0,0,(BC4243+BD4243-BE4243)*$C$3089*60+2*BG4243)","v":0},0,{"$f":"IF(INDEX($Z$88:$Z$3087,BM4243,1)=\"\",0,INDEX($Z$88:$Z$3087,BM4243,1))","v":{"$error":"#N/A"}},{"$error":"#N/A"},{"$error":"#N/A"},{"$error":"#N/A"},{"$f":"INDEX(H_stage1,BM4243,1)","v":{"$error":"#N/A"}},{"$f":"IF(INDEX($AA$88:$AA$3087,BM4243,1)=\"\",0,INDEX($AA$88:$AA$3087,BM4243,1))","v":{"$error":"#N/A"}},{"$f":"IF(SUM(BR$3091:BR4242)>0,0,IF(MAX(BK4243:BK$4531)=MAX(BK$3091:BK$4531),0,IF(BI4243>0.03*BC$4532,0,$C4243/60)))","v":0},{"$f":"IF(SUM(BS$3091:BS4242)>0,0,IF(MAX(BK4243:BK$4531)=MAX(BK$3091:BK$4531),0,IF(BI4243>0.01*BC$4532,0,$C4243/60)))","v":0},0,{"$f":"BT4244","v":0},0,{"$f":"IF(BT4243=\"\",0,IF($F$87=\"\",0,(CC4243*CA4243+CE4243-CC4243*CF4243)))","v":0},0,{"$f":"IF($BT$3091=\"\",0,(CA4243-$C$3089*60*BW4243)/2)","v":0},{"$f":"BY4243/43560","v":0},{"$f":"IF((BT4243+BU4243-BV4243)*$C$3089*60+2*BX4243<0,0,(BT4243+BU4243-BV4243)*$C$3089*60+2*BX4243)","v":0},0,{"$f":"IF(INDEX($Z$88:$Z$3087,CD4243,1)=\"\",0,INDEX($Z$88:$Z$3087,CD4243,1))","v":{"$error":"#N/A"}},{"$error":"#N/A"},{"$error":"#N/A"},{"$error":"#N/A"},{"$f":"INDEX(H_stage1,CD4243,1)","v":{"$error":"#N/A"}},{"$f":"IF(INDEX($AA$88:$AA$3087,CD4243,1)=\"\",0,INDEX($AA$88:$AA$3087,CD4243,1))","v":{"$error":"#N/A"}},{"$f":"IF(SUM(CI$3091:CI4242)>0,0,IF(MAX(CB4243:CB$4531)=MAX(CB$3091:CB$4531),0,IF(BZ4243>0.03*BT$4532,0,$C4243/60)))","v":0},{"$f":"IF(SUM(CJ$3091:CJ4242)>0,0,IF(MAX(CB4243:CB$4531)=MAX(CB$3091:CB$4531),0,IF(BZ4243>0.01*BT$4532,0,$C4243/60)))","v":0},0,{"$f":"CK4244","v":0},0,{"$f":"IF(CK4243=\"\",0,IF($F$87=\"\",0,(CT4243*CR4243+CV4243-CT4243*CW4243)))","v":0},0,{"$f":"IF($CK$3091=\"\",0,(CR4243-$C$3089*60*CN4243)/2)","v":0},{"$f":"CP4243/43560","v":0},{"$f":"IF((CK4243+CL4243-CM4243)*$C$3089*60+2*CO4243<0,0,(CK4243+CL4243-CM4243)*$C$3089*60+2*CO4243)","v":0},0,{"$f":"IF(INDEX($Z$88:$Z$3087,CU4243,1)=\"\",0,INDEX($Z$88:$Z$3087,CU4243,1))","v":{"$error":"#N/A"}},{"$error":"#N/A"},{"$error":"#N/A"},{"$error":"#N/A"},{"$f":"INDEX(H_stage1,CU4243,1)","v":{"$error":"#N/A"}},{"$f":"IF(INDEX($AA$88:$AA$3087,CU4243,1)=\"\",0,INDEX($AA$88:$AA$3087,CU4243,1))","v":{"$error":"#N/A"}},{"$f":"IF(SUM(CZ$3091:CZ4242)>0,0,IF(MAX(CS4243:CS$4531)=MAX(CS$3091:CS$4531),0,IF(CQ4243>0.03*CK$4532,0,$C4243/60)))","v":0},{"$f":"IF(SUM(DA$3091:DA4242)>0,0,IF(MAX(CS4243:CS$4531)=MAX(CS$3091:CS$4531),0,IF(CQ4243>0.01*CK$4532,0,$C4243/60)))","v":0},0,{"$f":"DB4244","v":0},0,{"$f":"IF(DB4243=\"\",0,IF($F$87=\"\",0,(DK4243*DI4243+DM4243-DK4243*DN4243)))","v":0},0,{"$f":"IF($DB$3091=\"\",0,(DI4243-$C$3089*60*DE4243)/2)","v":0},{"$f":"DG4243/43560","v":0},{"$f":"IF((DB4243+DC4243-DD4243)*$C$3089*60+2*DF4243<0,0,(DB4243+DC4243-DD4243)*$C$3089*60+2*DF4243)","v":0},0,{"$f":"IF(INDEX($Z$88:$Z$3087,DL4243,1)=\"\",0,INDEX($Z$88:$Z$3087,DL4243,1))","v":{"$error":"#N/A"}},{"$error":"#N/A"},{"$error":"#N/A"},{"$error":"#N/A"},{"$f":"INDEX(H_stage1,DL4243,1)","v":{"$error":"#N/A"}},{"$f":"IF(INDEX($AA$88:$AA$3087,DL4243,1)=\"\",0,INDEX($AA$88:$AA$3087,DL4243,1))","v":{"$error":"#N/A"}},{"$f":"IF(SUM(DQ$3091:DQ4242)>0,0,IF(MAX(DJ4243:DJ$4531)=MAX(DJ$3091:DJ$4531),0,IF(DH4243>0.03*DB$4532,0,$C4243/60)))","v":0},{"$f":"IF(SUM(DR$3091:DR4242)>0,0,IF(MAX(DJ4243:DJ$4531)=MAX(DJ$3091:DJ$4531),0,IF(DH4243>0.01*DB$4532,0,$C4243/60)))","v":0},0,{"$f":"DS4244","v":0},0,{"$f":"IF(DS4243=\"\",0,IF($F$87=\"\",0,(EB4243*DZ4243+ED4243-EB4243*EE4243)))","v":0},0,{"$f":"IF($DS$3091=\"\",0,(DZ4243-$C$3089*60*DV4243)/2)","v":0},{"$f":"DX4243/43560","v":0},{"$f":"IF((DS4243+DT4243-DU4243)*$C$3089*60+2*DW4243<0,0,(DS4243+DT4243-DU4243)*$C$3089*60+2*DW4243)","v":0},0,{"$f":"IF(INDEX($Z$88:$Z$3087,EC4243,1)=\"\",0,INDEX($Z$88:$Z$3087,EC4243,1))","v":{"$error":"#N/A"}},{"$error":"#N/A"},{"$error":"#N/A"},{"$error":"#N/A"},{"$f":"INDEX(H_stage1,EC4243,1)","v":{"$error":"#N/A"}},{"$f":"IF(INDEX($AA$88:$AA$3087,EC4243,1)=\"\",0,INDEX($AA$88:$AA$3087,EC4243,1))","v":{"$error":"#N/A"}},{"$f":"IF(SUM(EH$3091:EH4242)>0,0,IF(MAX(EA4243:EA$4531)=MAX(EA$3091:EA$4531),0,IF(DY4243>0.03*DS$4532,0,$C4243/60)))","v":0},{"$f":"IF(SUM(EI$3091:EI4242)>0,0,IF(MAX(EA4243:EA$4531)=MAX(EA$3091:EA$4531),0,IF(DY4243>0.01*DS$4532,0,$C4243/60)))","v":0},0,{"$f":"EJ4244","v":0},0,{"$f":"IF(EJ4243=\"\",0,IF($F$87=\"\",0,(ES4243*EQ4243+EU4243-ES4243*EV4243)))","v":0},0,{"$f":"IF($EJ$3091=\"\",0,(EQ4243-$C$3089*60*EM4243)/2)","v":0},{"$f":"EO4243/43560","v":0},{"$f":"IF((EJ4243+EK4243-EL4243)*$C$3089*60+2*EN4243<0,0,(EJ4243+EK4243-EL4243)*$C$3089*60+2*EN4243)","v":0},0,{"$f":"IF(INDEX($Z$88:$Z$3087,ET4243,1)=\"\",0,INDEX($Z$88:$Z$3087,ET4243,1))","v":{"$error":"#N/A"}},{"$error":"#N/A"},{"$error":"#N/A"},{"$error":"#N/A"},{"$f":"INDEX(H_stage1,ET4243,1)","v":{"$error":"#N/A"}},{"$f":"IF(INDEX($AA$88:$AA$3087,ET4243,1)=\"\",0,INDEX($AA$88:$AA$3087,ET4243,1))","v":{"$error":"#N/A"}},{"$f":"IF(SUM(EY$3091:EY4242)>0,0,IF(MAX(ER4243:ER$4531)=MAX(ER$3091:ER$4531),0,IF(EP4243>0.03*EJ$4532,0,$C4243/60)))","v":0},{"$f":"IF(SUM(EZ$3091:EZ4242)>0,0,IF(MAX(ER4243:ER$4531)=MAX(ER$3091:ER$4531),0,IF(EP4243>0.01*EJ$4532,0,$C4243/60)))","v":0}]
[null,96.75,5805,0,0,0,0,0,0,0,0,0,{"$error":"#N/A"},{"$error":"#N/A"},{"$error":"#N/A"},{"$error":"#N/A"},{"$error":"#N/A"},{"$error":"#N/A"},{"$f":"IF(SUM(S$3091:S4251)>0,0,\nIF(MAX(L4252:L$4531)=MAX(L$3091:L$4531),0,\nIF(Hydrograph_Source_WQCV=\"USER\",IF(J4252>0.03*D$4532,0,$C4252/60),\nIF(J4252>0.03*J$4532,0,$C4252/60))))","v":0},{"$f":"IF(SUM(T$3091:T4251)>0,0,\nIF(MAX(L4252:L$4531)=MAX(L$3091:L$4531),0,\nIF(Hydrograph_Source_WQCV=\"USER\",IF(J4252>0.01*D$4532,0,$C4252/60),\nIF(J4252>0.01*J$4532,0,$C4252/60))))","v":0},0,0,0,0,0,0,0,0,0,{"$error":"#N/A"},{"$error":"#N/A"},{"$error":"#N/A"},{"$error":"#N/A"},{"$error":"#N/A"},{"$error":"#N/A"},{"$f":"IF(SUM(AJ$3091:AJ4251)>0,0,\nIF(MAX(AC4252:AC$4531)=MAX(AC$3091:AC$4531),0,\nIF(Hydrograph_Source_EURV=\"USER\",IF(AA4252>0.03*U$4532,0,$C4252/60),\nIF(AA4252>0.03*AA$4532,0,$C4252/60))))","v":0},{"$f":"IF(SUM(AK$3091:AK4251)>0,0,\nIF(MAX(AC4252:AC$4531)=MAX(AC$3091:AC$4531),0,\nIF(Hydrograph_Source_EURV=\"USER\",IF(AA4252>0.01*U$4532,0,$C4252/60),\nIF(AA4252>0.01*AA$4532,0,$C4252/60))))","v":0},0,0,0,0,0,0,0,0,0,{"$error":"#N/A"},{"$error":"#N/A"},{"$error":"#N/A"},{"$error":"#N/A"},{"$error":"#N/A"},{"$error":"#N/A"},{"$f":"IF(SUM(BA$3091:BA4251)>0,0,IF(MAX(AT4252:AT$4531)=MAX(AT$3091:AT$4531),0,IF(AR4252>0.03*AL$4532,0,$C4252/60)))","v":0},{"$f":"IF(SUM(BB$3091:BB4251)>0,0,IF(MAX(AT4252:AT$4531)=MAX(AT$3091:AT$4531),0,IF(AR4252>0.01*AL$4532,0,$C4252/60)))","v":0},0,0,0,0,0,0,0,0,0,{"$error":"#N/A"},{"$error":"#N/A"},{"$error":"#N/A"},{"$error":"#N/A"},{"$error":"#N/A"},{"$error":"#N/A"},{"$f":"IF(SUM(BR$3091:BR4251)>0,0,IF(MAX(BK4252:BK$4531)=MAX(BK$3091:BK$4531),0,IF(BI4252>0.03*BC$4532,0,$C4252/60)))","v":0},{"$f":"IF(SUM(BS$3091:BS4251)>0,0,IF(MAX(BK4252:BK$4531)=MAX(BK$3091:BK$4531),0,IF(BI4252>0.01*BC$4532,0,$C4252/60)))","v":0},0,0,0,0,0,0,0,0,0,{"$error":"#N/A"},{"$error":"#N/A"},{"$error":"#N/A"},{"$error":"#N/A"},{"$error":"#N/A"},{"$error":"#N/A"},{"$f":"IF(SUM(CI$3091:CI4251)>0,0,IF(MAX(CB4252:CB$4531)=MAX(CB$3091:CB$4531),0,IF(BZ4252>0.03*BT$4532,0,$C4252/60)))","v":0},{"$f":"IF(SUM(CJ$3091:CJ4251)>0,0,IF(MAX(CB4252:CB$4531)=MAX(CB$3091:CB$4531),0,IF(BZ4252>0.01*BT$4532,0,$C4252/60)))","v":0},0,0,0,0,0,0,0,0,0,{"$error":"#N/A"},{"$error":"#N/A"},{"$error":"#N/A"},{"$error":"#N/A"},{"$error":"#N/A"},{"$error":"#N/A"},{"$f":"IF(SUM(CZ$3091:CZ4251)>0,0,IF(MAX(CS4252:CS$4531)=MAX(CS$3091:CS$4531),0,IF(CQ4252>0.03*CK$4532,0,$C4252/60)))","v":0},{"$f":"IF(SUM(DA$3091:DA4251)>0,0,IF(MAX(CS4252:CS$4531)=MAX(CS$3091:CS$4531),0,IF(CQ4252>0.01*CK$4532,0,$C4252/60)))","v":0},0,0,0,0,0,0,0,0,0,{"$error":"#N/A"},{"$error":"#N/A"},{"$error":"#N/A"},{"$error":"#N/A"},{"$error":"#N/A"},{"$error":"#N/A"},{"$f":"IF(SUM(DQ$3091:DQ4251)>0,0,IF(MAX(DJ4252:DJ$4531)=MAX(DJ$3091:DJ$4531),0,IF(DH4252>0.03*DB$4532,0,$C4252/60)))","v":0},{"$f":"IF(SUM(DR$3091:DR4251)>0,0,IF(MAX(DJ4252:DJ$4531)=MAX(DJ$3091:DJ$4531),0,IF(DH4252>0.01*DB$4532,0,$C4252/60)))","v":0},0,0,0,0,0,0,0,0,0,{"$error":"#N/A"},{"$error":"#N/A"},{"$error":"#N/A"},{"$error":"#N/A"},{"$error":"#N/A"},{"$error":"#N/A"},{"$f":"IF(SUM(EH$3091:EH4251)>0,0,IF(MAX(EA4252:EA$4531)=MAX(EA$3091:EA$4531),0,IF(DY4252>0.03*DS$4532,0,$C4252/60)))","v":0},{"$f":"IF(SUM(EI$3091:EI4251)>0,0,IF(MAX(EA4252:EA$4531)=MAX(EA$3091:EA$4531),0,IF(DY4252>0.01*DS$4532,0,$C4252/60)))","v":0},0,0,0,0,0,0,0,0,0,{"$error":"#N/A"},{"$error":"#N/A"},{"$error":"#N/A"},{"$error":"#N/A"},{"$error":"#N/A"},{"$error":"#N/A"},{"$f":"IF(SUM(EY$3091:EY4251)>0,0,IF(MAX(ER4252:ER$4531)=MAX(ER$3091:ER$4531),0,IF(EP4252>0.03*EJ$4532,0,$C4252/60)))","v":0},{"$f":"IF(SUM(EZ$3091:EZ4251)>0,0,IF(MAX(ER4252:ER$4531)=MAX(ER$3091:ER$4531),0,IF(EP4252>0.01*EJ$4532,0,$C4252/60)))","v":0}]
[null,96.833333333333329,5810,0,0,0,0,0,0,0,0,0,{"$error":"#N/A"},{"$error":"#N/A"},{"$error":"#N/A"},{"$error":"#N/A"},{"$error":"#N/A"},{"$error":"#N/A"},{"$f":"IF(SUM(S$3091:S4252)>0,0,\nIF(MAX(L4253:L$4531)=MAX(L$3091:L$4531),0,\nIF(Hydrograph_Source_WQCV=\"USER\",IF(J4253>0.03*D$4532,0,$C4253/60),\nIF(J4253>0.03*J$4532,0,$C4253/60))))","v":0},{"$f":"IF(SUM(T$3091:T4252)>0,0,\nIF(MAX(L4253:L$4531)=MAX(L$3091:L$4531),0,\nIF(Hydrograph_Source_WQCV=\"USER\",IF(J4253>0.01*D$4532,0,$C4253/60),\nIF(J4253>0.01*J$4532,0,$C4253/60))))","v":0},0,0,0,0,0,0,0,0,0,{"$error":"#N/A"},{"$error":"#N/A"},{"$error":"#N/A"},{"$error":"#N/A"},{"$error":"#N/A"},{"$error":"#N/A"},{"$f":"IF(SUM(AJ$3091:AJ4252)>0,0,\nIF(MAX(AC4253:AC$4531)=MAX(AC$3091:AC$4531),0,\nIF(Hydrograph_Source_EURV=\"USER\",IF(AA4253>0.03*U$4532,0,$C4253/60),\nIF(AA4253>0.03*AA$4532,0,$C4253/60))))","v":0},{"$f":"IF(SUM(AK$3091:AK4252)>0,0,\nIF(MAX(AC4253:AC$4531)=MAX(AC$3091:AC$4531),0,\nIF(Hydrograph_Source_EURV=\"USER\",IF(AA4253>0.01*U$4532,0,$C4253/60),\nIF(AA4253>0.01*AA$4532,0,$C4253/60))))","v":0},0,0,0,0,0,0,0,0,0,{"$error":"#N/A"},{"$error":"#N/A"},{"$error":"#N/A"},{"$error":"#N/A"},{"$error":"#N/A"},{"$error":"#N/A"},{"$f":"IF(SUM(BA$3091:BA4252)>0,0,IF(MAX(AT4253:AT$4531)=MAX(AT$3091:AT$4531),0,IF(AR4253>0.03*AL$4532,0,$C4253/60)))","v":0},{"$f":"IF(SUM(BB$3091:BB4252)>0,0,IF(MAX(AT4253:AT$4531)=MAX(AT$3091:AT$4531),0,IF(AR4253>0.01*AL$4532,0,$C4253/60)))","v":0},0,0,0,0,0,0,0,0,0,{"$error":"#N/A"},{"$error":"#N/A"},{"$error":"#N/A"},{"$error":"#N/A"},{"$error":"#N/A"},{"$error":"#N/A"},{"$f":"IF(SUM(BR$3091:BR4252)>0,0,IF(MAX(BK4253:BK$4531)=MAX(BK$3091:BK$4531),0,IF(BI4253>0.03*BC$4532,0,$C4253/60)))","v":0},{"$f":"IF(SUM(BS$3091:BS4252)>0,0,IF(MAX(BK4253:BK$4531)=MAX(BK$3091:BK$4531),0,IF(BI4253>0.01*BC$4532,0,$C4253/60)))","v":0},0,0,0,0,0,0,0,0,0,{"$error":"#N/A"},{"$error":"#N/A"},{"$error":"#N/A"},{"$error":"#N/A"},{"$error":"#N/A"},{"$error":"#N/A"},{"$f":"IF(SUM(CI$3091:CI4252)>0,0,IF(MAX(CB4253:CB$4531)=MAX(CB$3091:CB$4531),0,IF(BZ4253>0.03*BT$4532,0,$C4253/60)))","v":0},{"$f":"IF(SUM(CJ$3091:CJ4252)>0,0,IF(MAX(CB4253:CB$4531)=MAX(CB$3091:CB$4531),0,IF(BZ4253>0.01*BT$4532,0,$C4253/60)))","v":0},0,0,0,0,0,0,0,0,0,{"$error":"#N/A"},{"$error":"#N/A"},{"$error":"#N/A"},{"$error":"#N/A"},{"$error":"#N/A"},{"$error":"#N/A"},{"$f":"IF(SUM(CZ$3091:CZ4252)>0,0,IF(MAX(CS4253:CS$4531)=MAX(CS$3091:CS$4531),0,IF(CQ4253>0.03*CK$4532,0,$C4253/60)))","v":0},{"$f":"IF(SUM(DA$3091:DA4252)>0,0,IF(MAX(CS4253:CS$4531)=MAX(CS$3091:CS$4531),0,IF(CQ4253>0.01*CK$4532,0,$C4253/60)))","v":0},0,0,0,0,0,0,0,0,0,{"$error":"#N/A"},{"$error":"#N/A"},{"$error":"#N/A"},{"$error":"#N/A"},{"$error":"#N/A"},{"$error":"#N/A"},{"$f":"IF(SUM(DQ$3091:DQ4252)>0,0,IF(MAX(DJ4253:DJ$4531)=MAX(DJ$3091:DJ$4531),0,IF(DH4253>0.03*DB$4532,0,$C4253/60)))","v":0},{"$f":"IF(SUM(DR$3091:DR4252)>0,0,IF(MAX(DJ4253:DJ$4531)=MAX(DJ$3091:DJ$4531),0,IF(DH4253>0.01*DB$4532,0,$C4253/60)))","v":0},0,0,0,0,0,0,0,0,0,{"$error":"#N/A"},{"$error":"#N/A"},{"$error":"#N/A"},{"$error":"#N/A"},{"$error":"#N/A"},{"$error":"#N/A"},{"$f":"IF(SUM(EH$3091:EH4252)>0,0,IF(MAX(EA4253:EA$4531)=MAX(EA$3091:EA$4531),0,IF(DY4253>0.03*DS$4532,0,$C4253/60)))","v":0},{"$f":"IF(SUM(EI$3091:EI4252)>0,0,IF(MAX(EA4253:EA$4531)=MAX(EA$3091:EA$4531),0,IF(DY4253>0.01*DS$4532,0,$C4253/60)))","v":0},0,0,0,0,0,0,0,0,0,{"$error":"#N/A"},{"$error":"#N/A"},{"$error":"#N/A"},{"$error":"#N/A"},{"$error":"#N/A"},{"$error":"#N/A"},{"$f":"IF(SUM(EY$3091:EY4252)>0,0,IF(MAX(ER4253:ER$4531)=MAX(ER$3091:ER$4531),0,IF(EP4253>0.03*EJ$4532,0,$C4253/60)))","v":0},{"$f":"IF(SUM(EZ$3091:EZ4252)>0,0,IF(MAX(ER4253:ER$4531)=MAX(ER$3091:ER$4531),0,IF(EP4253>0.01*EJ$4532,0,$C4253/60)))","v":0}]
[null,97.583333333333329,5855,0,0,0,0,0,0,0,0,0,{"$error":"#N/A"},{"$error":"#N/A"},{"$error":"#N/A"},{"$error":"#N/A"},{"$error":"#N/A"},{"$error":"#N/A"},{"$f":"IF(SUM(S$3091:S4261)>0,0,\nIF(MAX(L4262:L$4531)=MAX(L$3091:L$4531),0,\nIF(Hydrograph_Source_WQCV=\"USER\",IF(J4262>0.03*D$4532,0,$C4262/60),\nIF(J4262>0.03*J$4532,0,$C4262/60))))","v":0},{"$f":"IF(SUM(T$3091:T4261)>0,0,\nIF(MAX(L4262:L$4531)=MAX(L$3091:L$4531),0,\nIF(Hydrograph_Source_WQCV=\"USER\",IF(J4262>0.01*D$4532,0,$C4262/60),\nIF(J4262>0.01*J$4532,0,$C4262/60))))","v":0},0,0,0,0,0,0,0,0,0,{"$error":"#N/A"},{"$error":"#N/A"},{"$error":"#N/A"},{"$error":"#N/A"},{"$error":"#N/A"},{"$error":"#N/A"},{"$f":"IF(SUM(AJ$3091:AJ4261)>0,0,\nIF(MAX(AC4262:AC$4531)=MAX(AC$3091:AC$4531),0,\nIF(Hydrograph_Source_EURV=\"USER\",IF(AA4262>0.03*U$4532,0,$C4262/60),\nIF(AA4262>0.03*AA$4532,0,$C4262/60))))","v":0},{"$f":"IF(SUM(AK$3091:AK4261)>0,0,\nIF(MAX(AC4262:AC$4531)=MAX(AC$3091:AC$4531),0,\nIF(Hydrograph_Source_EURV=\"USER\",IF(AA4262>0.01*U$4532,0,$C4262/60),\nIF(AA4262>0.01*AA$4532,0,$C4262/60))))","v":0},0,0,0,0,0,0,0,0,0,{"$error":"#N/A"},{"$error":"#N/A"},{"$error":"#N/A"},{"$error":"#N/A"},{"$error":"#N/A"},{"$error":"#N/A"},{"$f":"IF(SUM(BA$3091:BA4261)>0,0,IF(MAX(AT4262:AT$4531)=MAX(AT$3091:AT$4531),0,IF(AR4262>0.03*AL$4532,0,$C4262/60)))","v":0},{"$f":"IF(SUM(BB$3091:BB4261)>0,0,IF(MAX(AT4262:AT$4531)=MAX(AT$3091:AT$4531),0,IF(AR4262>0.01*AL$4532,0,$C4262/60)))","v":0},0,0,0,0,0,0,0,0,0,{"$error":"#N/A"},{"$error":"#N/A"},{"$error":"#N/A"},{"$error":"#N/A"},{"$error":"#N/A"},{"$error":"#N/A"},{"$f":"IF(SUM(BR$3091:BR4261)>0,0,IF(MAX(BK4262:BK$4531)=MAX(BK$3091:BK$4531),0,IF(BI4262>0.03*BC$4532,0,$C4262/60)))","v":0},{"$f":"IF(SUM(BS$3091:BS4261)>0,0,IF(MAX(BK4262:BK$4531)=MAX(BK$3091:BK$4531),0,IF(BI4262>0.01*BC$4532,0,$C4262/60)))","v":0},0,0,0,0,0,0,0,0,0,{"$error":"#N/A"},{"$error":"#N/A"},{"$error":"#N/A"},{"$error":"#N/A"},{"$error":"#N/A"},{"$error":"#N/A"},{"$f":"IF(SUM(CI$3091:CI4261)>0,0,IF(MAX(CB4262:CB$4531)=MAX(CB$3091:CB$4531),0,IF(BZ4262>0.03*BT$4532,0,$C4262/60)))","v":0},{"$f":"IF(SUM(CJ$3091:CJ4261)>0,0,IF(MAX(CB4262:CB$4531)=MAX(CB$3091:CB$4531),0,IF(BZ4262>0.01*BT$4532,0,$C4262/60)))","v":0},0,0,0,0,0,0,0,0,0,{"$error":"#N/A"},{"$error":"#N/A"},{"$error":"#N/A"},{"$error":"#N/A"},{"$error":"#N/A"},{"$error":"#N/A"},{"$f":"IF(SUM(CZ$3091:CZ4261)>0,0,IF(MAX(CS4262:CS$4531)=MAX(CS$3091:CS$4531),0,IF(CQ4262>0.03*CK$4532,0,$C4262/60)))","v":0},{"$f":"IF(SUM(DA$3091:DA4261)>0,0,IF(MAX(CS4262:CS$4531)=MAX(CS$3091:CS$4531),0,IF(CQ4262>0.01*CK$4532,0,$C4262/60)))","v":0},0,0,0,0,0,0,0,0,0,{"$error":"#N/A"},{"$error":"#N/A"},{"$error":"#N/A"},{"$error":"#N/A"},{"$error":"#N/A"},{"$error":"#N/A"},{"$f":"IF(SUM(DQ$3091:DQ4261)>0,0,IF(MAX(DJ4262:DJ$4531)=MAX(DJ$3091:DJ$4531),0,IF(DH4262>0.03*DB$4532,0,$C4262/60)))","v":0},{"$f":"IF(SUM(DR$3091:DR4261)>0,0,IF(MAX(DJ4262:DJ$4531)=MAX(DJ$3091:DJ$4531),0,IF(DH4262>0.01*DB$4532,0,$C4262/60)))","v":0},0,0,0,0,0,0,0,0,0,{"$error":"#N/A"},{"$error":"#N/A"},{"$error":"#N/A"},{"$error":"#N/A"},{"$error":"#N/A"},{"$error":"#N/A"},{"$f":"IF(SUM(EH$3091:EH4261)>0,0,IF(MAX(EA4262:EA$4531)=MAX(EA$3091:EA$4531),0,IF(DY4262>0.03*DS$4532,0,$C4262/60)))","v":0},{"$f":"IF(SUM(EI$3091:EI4261)>0,0,IF(MAX(EA4262:EA$4531)=MAX(EA$3091:EA$4531),0,IF(DY4262>0.01*DS$4532,0,$C4262/60)))","v":0},0,0,0,0,0,0,0,0,0,{"$error":"#N/A"},{"$error":"#N/A"},{"$error":"#N/A"},{"$error":"#N/A"},{"$error":"#N/A"},{"$error":"#N/A"},{"$f":"IF(SUM(EY$3091:EY4261)>0,0,IF(MAX(ER4262:ER$4531)=MAX(ER$3091:ER$4531),0,IF(EP4262>0.03*EJ$4532,0,$C4262/60)))","v":0},{"$f":"IF(SUM(EZ$3091:EZ4261)>0,0,IF(MAX(ER4262:ER$4531)=MAX(ER$3091:ER$4531),0,IF(EP4262>0.01*EJ$4532,0,$C4262/60)))","v":0}]
[null,98.333333333333329,5900,0,0,0,0,0,0,0,0,0,{"$error":"#N/A"},{"$error":"#N/A"},{"$error":"#N/A"},{"$error":"#N/A"},{"$error":"#N/A"},{"$error":"#N/A"},{"$f":"IF(SUM(S$3091:S4270)>0,0,\nIF(MAX(L4271:L$4531)=MAX(L$3091:L$4531),0,\nIF(Hydrograph_Source_WQCV=\"USER\",IF(J4271>0.03*D$4532,0,$C4271/60),\nIF(J4271>0.03*J$4532,0,$C4271/60))))","v":0},{"$f":"IF(SUM(T$3091:T4270)>0,0,\nIF(MAX(L4271:L$4531)=MAX(L$3091:L$4531),0,\nIF(Hydrograph_Source_WQCV=\"USER\",IF(J4271>0.01*D$4532,0,$C4271/60),\nIF(J4271>0.01*J$4532,0,$C4271/60))))","v":0},0,0,0,0,0,0,0,0,0,{"$error":"#N/A"},{"$error":"#N/A"},{"$error":"#N/A"},{"$error":"#N/A"},{"$error":"#N/A"},{"$error":"#N/A"},{"$f":"IF(SUM(AJ$3091:AJ4270)>0,0,\nIF(MAX(AC4271:AC$4531)=MAX(AC$3091:AC$4531),0,\nIF(Hydrograph_Source_EURV=\"USER\",IF(AA4271>0.03*U$4532,0,$C4271/60),\nIF(AA4271>0.03*AA$4532,0,$C4271/60))))","v":0},{"$f":"IF(SUM(AK$3091:AK4270)>0,0,\nIF(MAX(AC4271:AC$4531)=MAX(AC$3091:AC$4531),0,\nIF(Hydrograph_Source_EURV=\"USER\",IF(AA4271>0.01*U$4532,0,$C4271/60),\nIF(AA4271>0.01*AA$4532,0,$C4271/60))))","v":0},0,0,0,0,0,0,0,0,0,{"$error":"#N/A"},{"$error":"#N/A"},{"$error":"#N/A"},{"$error":"#N/A"},{"$error":"#N/A"},{"$error":"#N/A"},{"$f":"IF(SUM(BA$3091:BA4270)>0,0,IF(MAX(AT4271:AT$4531)=MAX(AT$3091:AT$4531),0,IF(AR4271>0.03*AL$4532,0,$C4271/60)))","v":0},{"$f":"IF(SUM(BB$3091:BB4270)>0,0,IF(MAX(AT4271:AT$4531)=MAX(AT$3091:AT$4531),0,IF(AR4271>0.01*AL$4532,0,$C4271/60)))","v":0},0,0,0,0,0,0,0,0,0,{"$error":"#N/A"},{"$error":"#N/A"},{"$error":"#N/A"},{"$error":"#N/A"},{"$error":"#N/A"},{"$error":"#N/A"},{"$f":"IF(SUM(BR$3091:BR4270)>0,0,IF(MAX(BK4271:BK$4531)=MAX(BK$3091:BK$4531),0,IF(BI4271>0.03*BC$4532,0,$C4271/60)))","v":0},{"$f":"IF(SUM(BS$3091:BS4270)>0,0,IF(MAX(BK4271:BK$4531)=MAX(BK$3091:BK$4531),0,IF(BI4271>0.01*BC$4532,0,$C4271/60)))","v":0},0,0,0,0,0,0,0,0,0,{"$error":"#N/A"},{"$error":"#N/A"},{"$error":"#N/A"},{"$error":"#N/A"},{"$error":"#N/A"},{"$error":"#N/A"},{"$f":"IF(SUM(CI$3091:CI4270)>0,0,IF(MAX(CB4271:CB$4531)=MAX(CB$3091:CB$4531),0,IF(BZ4271>0.03*BT$4532,0,$C4271/60)))","v":0},{"$f":"IF(SUM(CJ$3091:CJ4270)>0,0,IF(MAX(CB4271:CB$4531)=MAX(CB$3091:CB$4531),0,IF(BZ4271>0.01*BT$4532,0,$C4271/60)))","v":0},0,0,0,0,0,0,0,0,0,{"$error":"#N/A"},{"$error":"#N/A"},{"$error":"#N/A"},{"$error":"#N/A"},{"$error":"#N/A"},{"$error":"#N/A"},{"$f":"IF(SUM(CZ$3091:CZ4270)>0,0,IF(MAX(CS4271:CS$4531)=MAX(CS$3091:CS$4531),0,IF(CQ4271>0.03*CK$4532,0,$C4271/60)))","v":0},{"$f":"IF(SUM(DA$3091:DA4270)>0,0,IF(MAX(CS4271:CS$4531)=MAX(CS$3091:CS$4531),0,IF(CQ4271>0.01*CK$4532,0,$C4271/60)))","v":0},0,0,0,0,0,0,0,0,0,{"$error":"#N/A"},{"$error":"#N/A"},{"$error":"#N/A"},{"$error":"#N/A"},{"$error":"#N/A"},{"$error":"#N/A"},{"$f":"IF(SUM(DQ$3091:DQ4270)>0,0,IF(MAX(DJ4271:DJ$4531)=MAX(DJ$3091:DJ$4531),0,IF(DH4271>0.03*DB$4532,0,$C4271/60)))","v":0},{"$f":"IF(SUM(DR$3091:DR4270)>0,0,IF(MAX(DJ4271:DJ$4531)=MAX(DJ$3091:DJ$4531),0,IF(DH4271>0.01*DB$4532,0,$C4271/60)))","v":0},0,0,0,0,0,0,0,0,0,{"$error":"#N/A"},{"$error":"#N/A"},{"$error":"#N/A"},{"$error":"#N/A"},{"$error":"#N/A"},{"$error":"#N/A"},{"$f":"IF(SUM(EH$3091:EH4270)>0,0,IF(MAX(EA4271:EA$4531)=MAX(EA$3091:EA$4531),0,IF(DY4271>0.03*DS$4532,0,$C4271/60)))","v":0},{"$f":"IF(SUM(EI$3091:EI4270)>0,0,IF(MAX(EA4271:EA$4531)=MAX(EA$3091:EA$4531),0,IF(DY4271>0.01*DS$4532,0,$C4271/60)))","v":0},0,0,0,0,0,0,0,0,0,{"$error":"#N/A"},{"$error":"#N/A"},{"$error":"#N/A"},{"$error":"#N/A"},{"$error":"#N/A"},{"$error":"#N/A"},{"$f":"IF(SUM(EY$3091:EY4270)>0,0,IF(MAX(ER4271:ER$4531)=MAX(ER$3091:ER$4531),0,IF(EP4271>0.03*EJ$4532,0,$C4271/60)))","v":0},{"$f":"IF(SUM(EZ$3091:EZ4270)>0,0,IF(MAX(ER4271:ER$4531)=MAX(ER$3091:ER$4531),0,IF(EP4271>0.01*EJ$4532,0,$C4271/60)))","v":0}]
[null,99.083333333333329,5945,0,0,0,0,0,0,0,0,0,{"$error":"#N/A"},{"$error":"#N/A"},{"$error":"#N/A"},{"$error":"#N/A"},{"$error":"#N/A"},{"$error":"#N/A"},{"$f":"IF(SUM(S$3091:S4279)>0,0,\nIF(MAX(L4280:L$4531)=MAX(L$3091:L$4531),0,\nIF(Hydrograph_Source_WQCV=\"USER\",IF(J4280>0.03*D$4532,0,$C4280/60),\nIF(J4280>0.03*J$4532,0,$C4280/60))))","v":0},{"$f":"IF(SUM(T$3091:T4279)>0,0,\nIF(MAX(L4280:L$4531)=MAX(L$3091:L$4531),0,\nIF(Hydrograph_Source_WQCV=\"USER\",IF(J4280>0.01*D$4532,0,$C4280/60),\nIF(J4280>0.01*J$4532,0,$C4280/60))))","v":0},0,0,0,0,0,0,0,0,0,{"$error":"#N/A"},{"$error":"#N/A"},{"$error":"#N/A"},{"$error":"#N/A"},{"$error":"#N/A"},{"$error":"#N/A"},{"$f":"IF(SUM(AJ$3091:AJ4279)>0,0,\nIF(MAX(AC4280:AC$4531)=MAX(AC$3091:AC$4531),0,\nIF(Hydrograph_Source_EURV=\"USER\",IF(AA4280>0.03*U$4532,0,$C4280/60),\nIF(AA4280>0.03*AA$4532,0,$C4280/60))))","v":0},{"$f":"IF(SUM(AK$3091:AK4279)>0,0,\nIF(MAX(AC4280:AC$4531)=MAX(AC$3091:AC$4531),0,\nIF(Hydrograph_Source_EURV=\"USER\",IF(AA4280>0.01*U$4532,0,$C4280/60),\nIF(AA4280>0.01*AA$4532,0,$C4280/60))))","v":0},0,0,0,0,0,0,0,0,0,{"$error":"#N/A"},{"$error":"#N/A"},{"$error":"#N/A"},{"$error":"#N/A"},{"$error":"#N/A"},{"$error":"#N/A"},{"$f":"IF(SUM(BA$3091:BA4279)>0,0,IF(MAX(AT4280:AT$4531)=MAX(AT$3091:AT$4531),0,IF(AR4280>0.03*AL$4532,0,$C4280/60)))","v":0},{"$f":"IF(SUM(BB$3091:BB4279)>0,0,IF(MAX(AT4280:AT$4531)=MAX(AT$3091:AT$4531),0,IF(AR4280>0.01*AL$4532,0,$C4280/60)))","v":0},0,0,0,0,0,0,0,0,0,{"$error":"#N/A"},{"$error":"#N/A"},{"$error":"#N/A"},{"$error":"#N/A"},{"$error":"#N/A"},{"$error":"#N/A"},{"$f":"IF(SUM(BR$3091:BR4279)>0,0,IF(MAX(BK4280:BK$4531)=MAX(BK$3091:BK$4531),0,IF(BI4280>0.03*BC$4532,0,$C4280/60)))","v":0},{"$f":"IF(SUM(BS$3091:BS4279)>0,0,IF(MAX(BK4280:BK$4531)=MAX(BK$3091:BK$4531),0,IF(BI4280>0.01*BC$4532,0,$C4280/60)))","v":0},0,0,0,0,0,0,0,0,0,{"$error":"#N/A"},{"$error":"#N/A"},{"$error":"#N/A"},{"$error":"#N/A"},{"$error":"#N/A"},{"$error":"#N/A"},{"$f":"IF(SUM(CI$3091:CI4279)>0,0,IF(MAX(CB4280:CB$4531)=MAX(CB$3091:CB$4531),0,IF(BZ4280>0.03*BT$4532,0,$C4280/60)))","v":0},{"$f":"IF(SUM(CJ$3091:CJ4279)>0,0,IF(MAX(CB4280:CB$4531)=MAX(CB$3091:CB$4531),0,IF(BZ4280>0.01*BT$4532,0,$C4280/60)))","v":0},0,0,0,0,0,0,0,0,0,{"$error":"#N/A"},{"$error":"#N/A"},{"$error":"#N/A"},{"$error":"#N/A"},{"$error":"#N/A"},{"$error":"#N/A"},{"$f":"IF(SUM(CZ$3091:CZ4279)>0,0,IF(MAX(CS4280:CS$4531)=MAX(CS$3091:CS$4531),0,IF(CQ4280>0.03*CK$4532,0,$C4280/60)))","v":0},{"$f":"IF(SUM(DA$3091:DA4279)>0,0,IF(MAX(CS4280:CS$4531)=MAX(CS$3091:CS$4531),0,IF(CQ4280>0.01*CK$4532,0,$C4280/60)))","v":0},0,0,0,0,0,0,0,0,0,{"$error":"#N/A"},{"$error":"#N/A"},{"$error":"#N/A"},{"$error":"#N/A"},{"$error":"#N/A"},{"$error":"#N/A"},{"$f":"IF(SUM(DQ$3091:DQ4279)>0,0,IF(MAX(DJ4280:DJ$4531)=MAX(DJ$3091:DJ$4531),0,IF(DH4280>0.03*DB$4532,0,$C4280/60)))","v":0},{"$f":"IF(SUM(DR$3091:DR4279)>0,0,IF(MAX(DJ4280:DJ$4531)=MAX(DJ$3091:DJ$4531),0,IF(DH4280>0.01*DB$4532,0,$C4280/60)))","v":0},0,0,0,0,0,0,0,0,0,{"$error":"#N/A"},{"$error":"#N/A"},{"$error":"#N/A"},{"$error":"#N/A"},{"$error":"#N/A"},{"$error":"#N/A"},{"$f":"IF(SUM(EH$3091:EH4279)>0,0,IF(MAX(EA4280:EA$4531)=MAX(EA$3091:EA$4531),0,IF(DY4280>0.03*DS$4532,0,$C4280/60)))","v":0},{"$f":"IF(SUM(EI$3091:EI4279)>0,0,IF(MAX(EA4280:EA$4531)=MAX(EA$3091:EA$4531),0,IF(DY4280>0.01*DS$4532,0,$C4280/60)))","v":0},0,0,0,0,0,0,0,0,0,{"$error":"#N/A"},{"$error":"#N/A"},{"$error":"#N/A"},{"$error":"#N/A"},{"$error":"#N/A"},{"$error":"#N/A"},{"$f":"IF(SUM(EY$3091:EY4279)>0,0,IF(MAX(ER4280:ER$4531)=MAX(ER$3091:ER$4531),0,IF(EP4280>0.03*EJ$4532,0,$C4280/60)))","v":0},{"$f":"IF(SUM(EZ$3091:EZ4279)>0,0,IF(MAX(ER4280:ER$4531)=MAX(ER$3091:ER$4531),0,IF(EP4280>0.01*EJ$4532,0,$C4280/60)))","v":0}]
[null,99.833333333333329,5990,0,0,0,0,0,0,0,0,0,{"$error":"#N/A"},{"$error":"#N/A"},{"$error":"#N/A"},{"$error":"#N/A"},{"$error":"#N/A"},{"$error":"#N/A"},{"$f":"IF(SUM(S$3091:S4288)>0,0,\nIF(MAX(L4289:L$4531)=MAX(L$3091:L$4531),0,\nIF(Hydrograph_Source_WQCV=\"USER\",IF(J4289>0.03*D$4532,0,$C4289/60),\nIF(J4289>0.03*J$4532,0,$C4289/60))))","v":0},{"$f":"IF(SUM(T$3091:T4288)>0,0,\nIF(MAX(L4289:L$4531)=MAX(L$3091:L$4531),0,\nIF(Hydrograph_Source_WQCV=\"USER\",IF(J4289>0.01*D$4532,0,$C4289/60),\nIF(J4289>0.01*J$4532,0,$C4289/60))))","v":0},0,0,0,0,0,0,0,0,0,{"$error":"#N/A"},{"$error":"#N/A"},{"$error":"#N/A"},{"$error":"#N/A"},{"$error":"#N/A"},{"$error":"#N/A"},{"$f":"IF(SUM(AJ$3091:AJ4288)>0,0,\nIF(MAX(AC4289:AC$4531)=MAX(AC$3091:AC$4531),0,\nIF(Hydrograph_Source_EURV=\"USER\",IF(AA4289>0.03*U$4532,0,$C4289/60),\nIF(AA4289>0.03*AA$4532,0,$C4289/60))))","v":0},{"$f":"IF(SUM(AK$3091:AK4288)>0,0,\nIF(MAX(AC4289:AC$4531)=MAX(AC$3091:AC$4531),0,\nIF(Hydrograph_Source_EURV=\"USER\",IF(AA4289>0.01*U$4532,0,$C4289/60),\nIF(AA4289>0.01*AA$4532,0,$C4289/60))))","v":0},0,0,0,0,0,0,0,0,0,{"$error":"#N/A"},{"$error":"#N/A"},{"$error":"#N/A"},{"$error":"#N/A"},{"$error":"#N/A"},{"$error":"#N/A"},{"$f":"IF(SUM(BA$3091:BA4288)>0,0,IF(MAX(AT4289:AT$4531)=MAX(AT$3091:AT$4531),0,IF(AR4289>0.03*AL$4532,0,$C4289/60)))","v":0},{"$f":"IF(SUM(BB$3091:BB4288)>0,0,IF(MAX(AT4289:AT$4531)=MAX(AT$3091:AT$4531),0,IF(AR4289>0.01*AL$4532,0,$C4289/60)))","v":0},0,0,0,0,0,0,0,0,0,{"$error":"#N/A"},{"$error":"#N/A"},{"$error":"#N/A"},{"$error":"#N/A"},{"$error":"#N/A"},{"$error":"#N/A"},{"$f":"IF(SUM(BR$3091:BR4288)>0,0,IF(MAX(BK4289:BK$4531)=MAX(BK$3091:BK$4531),0,IF(BI4289>0.03*BC$4532,0,$C4289/60)))","v":0},{"$f":"IF(SUM(BS$3091:BS4288)>0,0,IF(MAX(BK4289:BK$4531)=MAX(BK$3091:BK$4531),0,IF(BI4289>0.01*BC$4532,0,$C4289/60)))","v":0},0,0,0,0,0,0,0,0,0,{"$error":"#N/A"},{"$error":"#N/A"},{"$error":"#N/A"},{"$error":"#N/A"},{"$error":"#N/A"},{"$error":"#N/A"},{"$f":"IF(SUM(CI$3091:CI4288)>0,0,IF(MAX(CB4289:CB$4531)=MAX(CB$3091:CB$4531),0,IF(BZ4289>0.03*BT$4532,0,$C4289/60)))","v":0},{"$f":"IF(SUM(CJ$3091:CJ4288)>0,0,IF(MAX(CB4289:CB$4531)=MAX(CB$3091:CB$4531),0,IF(BZ4289>0.01*BT$4532,0,$C4289/60)))","v":0},0,0,0,0,0,0,0,0,0,{"$error":"#N/A"},{"$error":"#N/A"},{"$error":"#N/A"},{"$error":"#N/A"},{"$error":"#N/A"},{"$error":"#N/A"},{"$f":"IF(SUM(CZ$3091:CZ4288)>0,0,IF(MAX(CS4289:CS$4531)=MAX(CS$3091:CS$4531),0,IF(CQ4289>0.03*CK$4532,0,$C4289/60)))","v":0},{"$f":"IF(SUM(DA$3091:DA4288)>0,0,IF(MAX(CS4289:CS$4531)=MAX(CS$3091:CS$4531),0,IF(CQ4289>0.01*CK$4532,0,$C4289/60)))","v":0},0,0,0,0,0,0,0,0,0,{"$error":"#N/A"},{"$error":"#N/A"},{"$error":"#N/A"},{"$error":"#N/A"},{"$error":"#N/A"},{"$error":"#N/A"},{"$f":"IF(SUM(DQ$3091:DQ4288)>0,0,IF(MAX(DJ4289:DJ$4531)=MAX(DJ$3091:DJ$4531),0,IF(DH4289>0.03*DB$4532,0,$C4289/60)))","v":0},{"$f":"IF(SUM(DR$3091:DR4288)>0,0,IF(MAX(DJ4289:DJ$4531)=MAX(DJ$3091:DJ$4531),0,IF(DH4289>0.01*DB$4532,0,$C4289/60)))","v":0},0,0,0,0,0,0,0,0,0,{"$error":"#N/A"},{"$error":"#N/A"},{"$error":"#N/A"},{"$error":"#N/A"},{"$error":"#N/A"},{"$error":"#N/A"},{"$f":"IF(SUM(EH$3091:EH4288)>0,0,IF(MAX(EA4289:EA$4531)=MAX(EA$3091:EA$4531),0,IF(DY4289>0.03*DS$4532,0,$C4289/60)))","v":0},{"$f":"IF(SUM(EI$3091:EI4288)>0,0,IF(MAX(EA4289:EA$4531)=MAX(EA$3091:EA$4531),0,IF(DY4289>0.01*DS$4532,0,$C4289/60)))","v":0},0,0,0,0,0,0,0,0,0,{"$error":"#N/A"},{"$error":"#N/A"},{"$error":"#N/A"},{"$error":"#N/A"},{"$error":"#N/A"},{"$error":"#N/A"},{"$f":"IF(SUM(EY$3091:EY4288)>0,0,IF(MAX(ER4289:ER$4531)=MAX(ER$3091:ER$4531),0,IF(EP4289>0.03*EJ$4532,0,$C4289/60)))","v":0},{"$f":"IF(SUM(EZ$3091:EZ4288)>0,0,IF(MAX(ER4289:ER$4531)=MAX(ER$3091:ER$4531),0,IF(EP4289>0.01*EJ$4532,0,$C4289/60)))","v":0}]
[null,100.58333333333333,6035,0,0,0,0,0,0,0,0,0,{"$error":"#N/A"},{"$error":"#N/A"},{"$error":"#N/A"},{"$error":"#N/A"},{"$error":"#N/A"},{"$error":"#N/A"},{"$f":"IF(SUM(S$3091:S4297)>0,0,\nIF(MAX(L4298:L$4531)=MAX(L$3091:L$4531),0,\nIF(Hydrograph_Source_WQCV=\"USER\",IF(J4298>0.03*D$4532,0,$C4298/60),\nIF(J4298>0.03*J$4532,0,$C4298/60))))","v":0},{"$f":"IF(SUM(T$3091:T4297)>0,0,\nIF(MAX(L4298:L$4531)=MAX(L$3091:L$4531),0,\nIF(Hydrograph_Source_WQCV=\"USER\",IF(J4298>0.01*D$4532,0,$C4298/60),\nIF(J4298>0.01*J$4532,0,$C4298/60))))","v":0},0,0,0,0,0,0,0,0,0,{"$error":"#N/A"},{"$error":"#N/A"},{"$error":"#N/A"},{"$error":"#N/A"},{"$error":"#N/A"},{"$error":"#N/A"},{"$f":"IF(SUM(AJ$3091:AJ4297)>0,0,\nIF(MAX(AC4298:AC$4531)=MAX(AC$3091:AC$4531),0,\nIF(Hydrograph_Source_EURV=\"USER\",IF(AA4298>0.03*U$4532,0,$C4298/60),\nIF(AA4298>0.03*AA$4532,0,$C4298/60))))","v":0},{"$f":"IF(SUM(AK$3091:AK4297)>0,0,\nIF(MAX(AC4298:AC$4531)=MAX(AC$3091:AC$4531),0,\nIF(Hydrograph_Source_EURV=\"USER\",IF(AA4298>0.01*U$4532,0,$C4298/60),\nIF(AA4298>0.01*AA$4532,0,$C4298/60))))","v":0},0,0,0,0,0,0,0,0,0,{"$error":"#N/A"},{"$error":"#N/A"},{"$error":"#N/A"},{"$error":"#N/A"},{"$error":"#N/A"},{"$error":"#N/A"},{"$f":"IF(SUM(BA$3091:BA4297)>0,0,IF(MAX(AT4298:AT$4531)=MAX(AT$3091:AT$4531),0,IF(AR4298>0.03*AL$4532,0,$C4298/60)))","v":0},{"$f":"IF(SUM(BB$3091:BB4297)>0,0,IF(MAX(AT4298:AT$4531)=MAX(AT$3091:AT$4531),0,IF(AR4298>0.01*AL$4532,0,$C4298/60)))","v":0},0,0,0,0,0,0,0,0,0,{"$error":"#N/A"},{"$error":"#N/A"},{"$error":"#N/A"},{"$error":"#N/A"},{"$error":"#N/A"},{"$error":"#N/A"},{"$f":"IF(SUM(BR$3091:BR4297)>0,0,IF(MAX(BK4298:BK$4531)=MAX(BK$3091:BK$4531),0,IF(BI4298>0.03*BC$4532,0,$C4298/60)))","v":0},{"$f":"IF(SUM(BS$3091:BS4297)>0,0,IF(MAX(BK4298:BK$4531)=MAX(BK$3091:BK$4531),0,IF(BI4298>0.01*BC$4532,0,$C4298/60)))","v":0},0,0,0,0,0,0,0,0,0,{"$error":"#N/A"},{"$error":"#N/A"},{"$error":"#N/A"},{"$error":"#N/A"},{"$error":"#N/A"},{"$error":"#N/A"},{"$f":"IF(SUM(CI$3091:CI4297)>0,0,IF(MAX(CB4298:CB$4531)=MAX(CB$3091:CB$4531),0,IF(BZ4298>0.03*BT$4532,0,$C4298/60)))","v":0},{"$f":"IF(SUM(CJ$3091:CJ4297)>0,0,IF(MAX(CB4298:CB$4531)=MAX(CB$3091:CB$4531),0,IF(BZ4298>0.01*BT$4532,0,$C4298/60)))","v":0},0,0,0,0,0,0,0,0,0,{"$error":"#N/A"},{"$error":"#N/A"},{"$error":"#N/A"},{"$error":"#N/A"},{"$error":"#N/A"},{"$error":"#N/A"},{"$f":"IF(SUM(CZ$3091:CZ4297)>0,0,IF(MAX(CS4298:CS$4531)=MAX(CS$3091:CS$4531),0,IF(CQ4298>0.03*CK$4532,0,$C4298/60)))","v":0},{"$f":"IF(SUM(DA$3091:DA4297)>0,0,IF(MAX(CS4298:CS$4531)=MAX(CS$3091:CS$4531),0,IF(CQ4298>0.01*CK$4532,0,$C4298/60)))","v":0},0,0,0,0,0,0,0,0,0,{"$error":"#N/A"},{"$error":"#N/A"},{"$error":"#N/A"},{"$error":"#N/A"},{"$error":"#N/A"},{"$error":"#N/A"},{"$f":"IF(SUM(DQ$3091:DQ4297)>0,0,IF(MAX(DJ4298:DJ$4531)=MAX(DJ$3091:DJ$4531),0,IF(DH4298>0.03*DB$4532,0,$C4298/60)))","v":0},{"$f":"IF(SUM(DR$3091:DR4297)>0,0,IF(MAX(DJ4298:DJ$4531)=MAX(DJ$3091:DJ$4531),0,IF(DH4298>0.01*DB$4532,0,$C4298/60)))","v":0},0,0,0,0,0,0,0,0,0,{"$error":"#N/A"},{"$error":"#N/A"},{"$error":"#N/A"},{"$error":"#N/A"},{"$error":"#N/A"},{"$error":"#N/A"},{"$f":"IF(SUM(EH$3091:EH4297)>0,0,IF(MAX(EA4298:EA$4531)=MAX(EA$3091:EA$4531),0,IF(DY4298>0.03*DS$4532,0,$C4298/60)))","v":0},{"$f":"IF(SUM(EI$3091:EI4297)>0,0,IF(MAX(EA4298:EA$4531)=MAX(EA$3091:EA$4531),0,IF(DY4298>0.01*DS$4532,0,$C4298/60)))","v":0},0,0,0,0,0,0,0,0,0,{"$error":"#N/A"},{"$error":"#N/A"},{"$error":"#N/A"},{"$error":"#N/A"},{"$error":"#N/A"},{"$error":"#N/A"},{"$f":"IF(SUM(EY$3091:EY4297)>0,0,IF(MAX(ER4298:ER$4531)=MAX(ER$3091:ER$4531),0,IF(EP4298>0.03*EJ$4532,0,$C4298/60)))","v":0},{"$f":"IF(SUM(EZ$3091:EZ4297)>0,0,IF(MAX(ER4298:ER$4531)=MAX(ER$3091:ER$4531),0,IF(EP4298>0.01*EJ$4532,0,$C4298/60)))","v":0}]
[null,{"$f":"C4307/60","v":101.33333333333333},6080,0,{"$f":"D4308","v":0},0,{"$f":"IF(D4307=\"\",0,IF($F$87=\"\",0,(M4307*K4307+O4307-M4307*P4307)))","v":0},0,{"$f":"IF($D$3091=\"\",0,(K4307-$C$3089*60*G4307)/2)","v":0},{"$f":"I4307/43560","v":0},{"$f":"IF((D4307+E4307-F4307)*$C$3089*60+2*H4307<0,0,(D4307+E4307-F4307)*$C$3089*60+2*H4307)","v":0},0,{"$f":"IF(INDEX($Z$88:$Z$3087,N4307,1)=\"\",0,INDEX($Z$88:$Z$3087,N4307,1))","v":{"$error":"#N/A"}},{"$error":"#N/A"},{"$error":"#N/A"},{"$error":"#N/A"},{"$f":"INDEX(H_stage1,N4307,1)","v":{"$error":"#N/A"}},{"$f":"IF(INDEX($AA$88:$AA$3087,N4307,1)=\"\",0,INDEX($AA$88:$AA$3087,N4307,1))","v":{"$error":"#N/A"}},{"$f":"IF(SUM(S$3091:S4306)>0,0,\nIF(MAX(L4307:L$4531)=MAX(L$3091:L$4531),0,\nIF(Hydrograph_Source_WQCV=\"USER\",IF(J4307>0.03*D$4532,0,$C4307/60),\nIF(J4307>0.03*J$4532,0,$C4307/60))))","v":0},{"$f":"IF(SUM(T$3091:T4306)>0,0,\nIF(MAX(L4307:L$4531)=MAX(L$3091:L$4531),0,\nIF(Hydrograph_Source_WQCV=\"USER\",IF(J4307>0.01*D$4532,0,$C4307/60),\nIF(J4307>0.01*J$4532,0,$C4307/60))))","v":0},0,{"$f":"U4308","v":0},0,{"$f":"IF(U4307=\"\",0,IF($F$87=\"\",0,(AD4307*AB4307+AF4307-AD4307*AG4307)))","v":0},0,{"$f":"IF($U$3091=\"\",0,(AB4307-$C$3089*60*X4307)/2)","v":0},{"$f":"Z4307/43560","v":0},{"$f":"IF((U4307+V4307-W4307)*$C$3089*60+2*Y4307<0,0,(U4307+V4307-W4307)*$C$3089*60+2*Y4307)","v":0},0,{"$f":"IF(INDEX($Z$88:$Z$3087,AE4307,1)=\"\",0,INDEX($Z$88:$Z$3087,AE4307,1))","v":{"$error":"#N/A"}},{"$error":"#N/A"},{"$error":"#N/A"},{"$error":"#N/A"},{"$f":"INDEX(H_stage1,AE4307,1)","v":{"$error":"#N/A"}},{"$f":"IF(INDEX($AA$88:$AA$3087,AE4307,1)=\"\",0,INDEX($AA$88:$AA$3087,AE4307,1))","v":{"$error":"#N/A"}},{"$f":"IF(SUM(AJ$3091:AJ4306)>0,0,\nIF(MAX(AC4307:AC$4531)=MAX(AC$3091:AC$4531),0,\nIF(Hydrograph_Source_EURV=\"USER\",IF(AA4307>0.03*U$4532,0,$C4307/60),\nIF(AA4307>0.03*AA$4532,0,$C4307/60))))","v":0},{"$f":"IF(SUM(AK$3091:AK4306)>0,0,\nIF(MAX(AC4307:AC$4531)=MAX(AC$3091:AC$4531),0,\nIF(Hydrograph_Source_EURV=\"USER\",IF(AA4307>0.01*U$4532,0,$C4307/60),\nIF(AA4307>0.01*AA$4532,0,$C4307/60))))","v":0},0,{"$f":"AL4308","v":0},0,{"$f":"IF(AL4307=\"\",0,IF($F$87=\"\",0,(AU4307*AS4307+AW4307-AU4307*AX4307)))","v":0},0,{"$f":"IF($AL$3091=\"\",0,(AS4307-$C$3089*60*AO4307)/2)","v":0},{"$f":"AQ4307/43560","v":0},{"$f":"IF((AL4307+AM4307-AN4307)*$C$3089*60+2*AP4307<0,0,(AL4307+AM4307-AN4307)*$C$3089*60+2*AP4307)","v":0},0,{"$f":"IF(INDEX($Z$88:$Z$3087,AV4307,1)=\"\",0,INDEX($Z$88:$Z$3087,AV4307,1))","v":{"$error":"#N/A"}},{"$error":"#N/A"},{"$error":"#N/A"},{"$error":"#N/A"},{"$f":"INDEX(H_stage1,AV4307,1)","v":{"$error":"#N/A"}},{"$f":"IF(INDEX($AA$88:$AA$3087,AV4307,1)=\"\",0,INDEX($AA$88:$AA$3087,AV4307,1))","v":{"$error":"#N/A"}},{"$f":"IF(SUM(BA$3091:BA4306)>0,0,IF(MAX(AT4307:AT$4531)=MAX(AT$3091:AT$4531),0,IF(AR4307>0.03*AL$4532,0,$C4307/60)))","v":0},{"$f":"IF(SUM(BB$3091:BB4306)>0,0,IF(MAX(AT4307:AT$4531)=MAX(AT$3091:AT$4531),0,IF(AR4307>0.01*AL$4532,0,$C4307/60)))","v":0},0,{"$f":"BC4308","v":0},0,{"$f":"IF(BC4307=\"\",0,IF($F$87=\"\",0,(BL4307*BJ4307+BN4307-BL4307*BO4307)))","v":0},0,{"$f":"IF($BC$3091=\"\",0,(BJ4307-$C$3089*60*BF4307)/2)","v":0},{"$f":"BH4307/43560","v":0},{"$f":"IF((BC4307+BD4307-BE4307)*$C$3089*60+2*BG4307<0,0,(BC4307+BD4307-BE4307)*$C$3089*60+2*BG4307)","v":0},0,{"$f":"IF(INDEX($Z$88:$Z$3087,BM4307,1)=\"\",0,INDEX($Z$88:$Z$3087,BM4307,1))","v":{"$error":"#N/A"}},{"$error":"#N/A"},{"$error":"#N/A"},{"$error":"#N/A"},{"$f":"INDEX(H_stage1,BM4307,1)","v":{"$error":"#N/A"}},{"$f":"IF(INDEX($AA$88:$AA$3087,BM4307,1)=\"\",0,INDEX($AA$88:$AA$3087,BM4307,1))","v":{"$error":"#N/A"}},{"$f":"IF(SUM(BR$3091:BR4306)>0,0,IF(MAX(BK4307:BK$4531)=MAX(BK$3091:BK$4531),0,IF(BI4307>0.03*BC$4532,0,$C4307/60)))","v":0},{"$f":"IF(SUM(BS$3091:BS4306)>0,0,IF(MAX(BK4307:BK$4531)=MAX(BK$3091:BK$4531),0,IF(BI4307>0.01*BC$4532,0,$C4307/60)))","v":0},0,{"$f":"BT4308","v":0},0,{"$f":"IF(BT4307=\"\",0,IF($F$87=\"\",0,(CC4307*CA4307+CE4307-CC4307*CF4307)))","v":0},0,{"$f":"IF($BT$3091=\"\",0,(CA4307-$C$3089*60*BW4307)/2)","v":0},{"$f":"BY4307/43560","v":0},{"$f":"IF((BT4307+BU4307-BV4307)*$C$3089*60+2*BX4307<0,0,(BT4307+BU4307-BV4307)*$C$3089*60+2*BX4307)","v":0},0,{"$f":"IF(INDEX($Z$88:$Z$3087,CD4307,1)=\"\",0,INDEX($Z$88:$Z$3087,CD4307,1))","v":{"$error":"#N/A"}},{"$error":"#N/A"},{"$error":"#N/A"},{"$error":"#N/A"},{"$f":"INDEX(H_stage1,CD4307,1)","v":{"$error":"#N/A"}},{"$f":"IF(INDEX($AA$88:$AA$3087,CD4307,1)=\"\",0,INDEX($AA$88:$AA$3087,CD4307,1))","v":{"$error":"#N/A"}},{"$f":"IF(SUM(CI$3091:CI4306)>0,0,IF(MAX(CB4307:CB$4531)=MAX(CB$3091:CB$4531),0,IF(BZ4307>0.03*BT$4532,0,$C4307/60)))","v":0},{"$f":"IF(SUM(CJ$3091:CJ4306)>0,0,IF(MAX(CB4307:CB$4531)=MAX(CB$3091:CB$4531),0,IF(BZ4307>0.01*BT$4532,0,$C4307/60)))","v":0},0,{"$f":"CK4308","v":0},0,{"$f":"IF(CK4307=\"\",0,IF($F$87=\"\",0,(CT4307*CR4307+CV4307-CT4307*CW4307)))","v":0},0,{"$f":"IF($CK$3091=\"\",0,(CR4307-$C$3089*60*CN4307)/2)","v":0},{"$f":"CP4307/43560","v":0},{"$f":"IF((CK4307+CL4307-CM4307)*$C$3089*60+2*CO4307<0,0,(CK4307+CL4307-CM4307)*$C$3089*60+2*CO4307)","v":0},0,{"$f":"IF(INDEX($Z$88:$Z$3087,CU4307,1)=\"\",0,INDEX($Z$88:$Z$3087,CU4307,1))","v":{"$error":"#N/A"}},{"$error":"#N/A"},{"$error":"#N/A"},{"$error":"#N/A"},{"$f":"INDEX(H_stage1,CU4307,1)","v":{"$error":"#N/A"}},{"$f":"IF(INDEX($AA$88:$AA$3087,CU4307,1)=\"\",0,INDEX($AA$88:$AA$3087,CU4307,1))","v":{"$error":"#N/A"}},{"$f":"IF(SUM(CZ$3091:CZ4306)>0,0,IF(MAX(CS4307:CS$4531)=MAX(CS$3091:CS$4531),0,IF(CQ4307>0.03*CK$4532,0,$C4307/60)))","v":0},{"$f":"IF(SUM(DA$3091:DA4306)>0,0,IF(MAX(CS4307:CS$4531)=MAX(CS$3091:CS$4531),0,IF(CQ4307>0.01*CK$4532,0,$C4307/60)))","v":0},0,{"$f":"DB4308","v":0},0,{"$f":"IF(DB4307=\"\",0,IF($F$87=\"\",0,(DK4307*DI4307+DM4307-DK4307*DN4307)))","v":0},0,{"$f":"IF($DB$3091=\"\",0,(DI4307-$C$3089*60*DE4307)/2)","v":0},{"$f":"DG4307/43560","v":0},{"$f":"IF((DB4307+DC4307-DD4307)*$C$3089*60+2*DF4307<0,0,(DB4307+DC4307-DD4307)*$C$3089*60+2*DF4307)","v":0},0,{"$f":"IF(INDEX($Z$88:$Z$3087,DL4307,1)=\"\",0,INDEX($Z$88:$Z$3087,DL4307,1))","v":{"$error":"#N/A"}},{"$error":"#N/A"},{"$error":"#N/A"},{"$error":"#N/A"},{"$f":"INDEX(H_stage1,DL4307,1)","v":{"$error":"#N/A"}},{"$f":"IF(INDEX($AA$88:$AA$3087,DL4307,1)=\"\",0,INDEX($AA$88:$AA$3087,DL4307,1))","v":{"$error":"#N/A"}},{"$f":"IF(SUM(DQ$3091:DQ4306)>0,0,IF(MAX(DJ4307:DJ$4531)=MAX(DJ$3091:DJ$4531),0,IF(DH4307>0.03*DB$4532,0,$C4307/60)))","v":0},{"$f":"IF(SUM(DR$3091:DR4306)>0,0,IF(MAX(DJ4307:DJ$4531)=MAX(DJ$3091:DJ$4531),0,IF(DH4307>0.01*DB$4532,0,$C4307/60)))","v":0},0,{"$f":"DS4308","v":0},0,{"$f":"IF(DS4307=\"\",0,IF($F$87=\"\",0,(EB4307*DZ4307+ED4307-EB4307*EE4307)))","v":0},0,{"$f":"IF($DS$3091=\"\",0,(DZ4307-$C$3089*60*DV4307)/2)","v":0},{"$f":"DX4307/43560","v":0},{"$f":"IF((DS4307+DT4307-DU4307)*$C$3089*60+2*DW4307<0,0,(DS4307+DT4307-DU4307)*$C$3089*60+2*DW4307)","v":0},0,{"$f":"IF(INDEX($Z$88:$Z$3087,EC4307,1)=\"\",0,INDEX($Z$88:$Z$3087,EC4307,1))","v":{"$error":"#N/A"}},{"$error":"#N/A"},{"$error":"#N/A"},{"$error":"#N/A"},{"$f":"INDEX(H_stage1,EC4307,1)","v":{"$error":"#N/A"}},{"$f":"IF(INDEX($AA$88:$AA$3087,EC4307,1)=\"\",0,INDEX($AA$88:$AA$3087,EC4307,1))","v":{"$error":"#N/A"}},{"$f":"IF(SUM(EH$3091:EH4306)>0,0,IF(MAX(EA4307:EA$4531)=MAX(EA$3091:EA$4531),0,IF(DY4307>0.03*DS$4532,0,$C4307/60)))","v":0},{"$f":"IF(SUM(EI$3091:EI4306)>0,0,IF(MAX(EA4307:EA$4531)=MAX(EA$3091:EA$4531),0,IF(DY4307>0.01*DS$4532,0,$C4307/60)))","v":0},0,{"$f":"EJ4308","v":0},0,{"$f":"IF(EJ4307=\"\",0,IF($F$87=\"\",0,(ES4307*EQ4307+EU4307-ES4307*EV4307)))","v":0},0,{"$f":"IF($EJ$3091=\"\",0,(EQ4307-$C$3089*60*EM4307)/2)","v":0},{"$f":"EO4307/43560","v":0},{"$f":"IF((EJ4307+EK4307-EL4307)*$C$3089*60+2*EN4307<0,0,(EJ4307+EK4307-EL4307)*$C$3089*60+2*EN4307)","v":0},0,{"$f":"IF(INDEX($Z$88:$Z$3087,ET4307,1)=\"\",0,INDEX($Z$88:$Z$3087,ET4307,1))","v":{"$error":"#N/A"}},{"$error":"#N/A"},{"$error":"#N/A"},{"$error":"#N/A"},{"$f":"INDEX(H_stage1,ET4307,1)","v":{"$error":"#N/A"}},{"$f":"IF(INDEX($AA$88:$AA$3087,ET4307,1)=\"\",0,INDEX($AA$88:$AA$3087,ET4307,1))","v":{"$error":"#N/A"}},{"$f":"IF(SUM(EY$3091:EY4306)>0,0,IF(MAX(ER4307:ER$4531)=MAX(ER$3091:ER$4531),0,IF(EP4307>0.03*EJ$4532,0,$C4307/60)))","v":0},{"$f":"IF(SUM(EZ$3091:EZ4306)>0,0,IF(MAX(ER4307:ER$4531)=MAX(ER$3091:ER$4531),0,IF(EP4307>0.01*EJ$4532,0,$C4307/60)))","v":0}]
[null,102.08333333333333,6125,0,0,0,0,0,0,0,0,0,{"$error":"#N/A"},{"$error":"#N/A"},{"$error":"#N/A"},{"$error":"#N/A"},{"$error":"#N/A"},{"$error":"#N/A"},{"$f":"IF(SUM(S$3091:S4315)>0,0,\nIF(MAX(L4316:L$4531)=MAX(L$3091:L$4531),0,\nIF(Hydrograph_Source_WQCV=\"USER\",IF(J4316>0.03*D$4532,0,$C4316/60),\nIF(J4316>0.03*J$4532,0,$C4316/60))))","v":0},{"$f":"IF(SUM(T$3091:T4315)>0,0,\nIF(MAX(L4316:L$4531)=MAX(L$3091:L$4531),0,\nIF(Hydrograph_Source_WQCV=\"USER\",IF(J4316>0.01*D$4532,0,$C4316/60),\nIF(J4316>0.01*J$4532,0,$C4316/60))))","v":0},0,0,0,0,0,0,0,0,0,{"$error":"#N/A"},{"$error":"#N/A"},{"$error":"#N/A"},{"$error":"#N/A"},{"$error":"#N/A"},{"$error":"#N/A"},{"$f":"IF(SUM(AJ$3091:AJ4315)>0,0,\nIF(MAX(AC4316:AC$4531)=MAX(AC$3091:AC$4531),0,\nIF(Hydrograph_Source_EURV=\"USER\",IF(AA4316>0.03*U$4532,0,$C4316/60),\nIF(AA4316>0.03*AA$4532,0,$C4316/60))))","v":0},{"$f":"IF(SUM(AK$3091:AK4315)>0,0,\nIF(MAX(AC4316:AC$4531)=MAX(AC$3091:AC$4531),0,\nIF(Hydrograph_Source_EURV=\"USER\",IF(AA4316>0.01*U$4532,0,$C4316/60),\nIF(AA4316>0.01*AA$4532,0,$C4316/60))))","v":0},0,0,0,0,0,0,0,0,0,{"$error":"#N/A"},{"$error":"#N/A"},{"$error":"#N/A"},{"$error":"#N/A"},{"$error":"#N/A"},{"$error":"#N/A"},{"$f":"IF(SUM(BA$3091:BA4315)>0,0,IF(MAX(AT4316:AT$4531)=MAX(AT$3091:AT$4531),0,IF(AR4316>0.03*AL$4532,0,$C4316/60)))","v":0},{"$f":"IF(SUM(BB$3091:BB4315)>0,0,IF(MAX(AT4316:AT$4531)=MAX(AT$3091:AT$4531),0,IF(AR4316>0.01*AL$4532,0,$C4316/60)))","v":0},0,0,0,0,0,0,0,0,0,{"$error":"#N/A"},{"$error":"#N/A"},{"$error":"#N/A"},{"$error":"#N/A"},{"$error":"#N/A"},{"$error":"#N/A"},{"$f":"IF(SUM(BR$3091:BR4315)>0,0,IF(MAX(BK4316:BK$4531)=MAX(BK$3091:BK$4531),0,IF(BI4316>0.03*BC$4532,0,$C4316/60)))","v":0},{"$f":"IF(SUM(BS$3091:BS4315)>0,0,IF(MAX(BK4316:BK$4531)=MAX(BK$3091:BK$4531),0,IF(BI4316>0.01*BC$4532,0,$C4316/60)))","v":0},0,0,0,0,0,0,0,0,0,{"$error":"#N/A"},{"$error":"#N/A"},{"$error":"#N/A"},{"$error":"#N/A"},{"$error":"#N/A"},{"$error":"#N/A"},{"$f":"IF(SUM(CI$3091:CI4315)>0,0,IF(MAX(CB4316:CB$4531)=MAX(CB$3091:CB$4531),0,IF(BZ4316>0.03*BT$4532,0,$C4316/60)))","v":0},{"$f":"IF(SUM(CJ$3091:CJ4315)>0,0,IF(MAX(CB4316:CB$4531)=MAX(CB$3091:CB$4531),0,IF(BZ4316>0.01*BT$4532,0,$C4316/60)))","v":0},0,0,0,0,0,0,0,0,0,{"$error":"#N/A"},{"$error":"#N/A"},{"$error":"#N/A"},{"$error":"#N/A"},{"$error":"#N/A"},{"$error":"#N/A"},{"$f":"IF(SUM(CZ$3091:CZ4315)>0,0,IF(MAX(CS4316:CS$4531)=MAX(CS$3091:CS$4531),0,IF(CQ4316>0.03*CK$4532,0,$C4316/60)))","v":0},{"$f":"IF(SUM(DA$3091:DA4315)>0,0,IF(MAX(CS4316:CS$4531)=MAX(CS$3091:CS$4531),0,IF(CQ4316>0.01*CK$4532,0,$C4316/60)))","v":0},0,0,0,0,0,0,0,0,0,{"$error":"#N/A"},{"$error":"#N/A"},{"$error":"#N/A"},{"$error":"#N/A"},{"$error":"#N/A"},{"$error":"#N/A"},{"$f":"IF(SUM(DQ$3091:DQ4315)>0,0,IF(MAX(DJ4316:DJ$4531)=MAX(DJ$3091:DJ$4531),0,IF(DH4316>0.03*DB$4532,0,$C4316/60)))","v":0},{"$f":"IF(SUM(DR$3091:DR4315)>0,0,IF(MAX(DJ4316:DJ$4531)=MAX(DJ$3091:DJ$4531),0,IF(DH4316>0.01*DB$4532,0,$C4316/60)))","v":0},0,0,0,0,0,0,0,0,0,{"$error":"#N/A"},{"$error":"#N/A"},{"$error":"#N/A"},{"$error":"#N/A"},{"$error":"#N/A"},{"$error":"#N/A"},{"$f":"IF(SUM(EH$3091:EH4315)>0,0,IF(MAX(EA4316:EA$4531)=MAX(EA$3091:EA$4531),0,IF(DY4316>0.03*DS$4532,0,$C4316/60)))","v":0},{"$f":"IF(SUM(EI$3091:EI4315)>0,0,IF(MAX(EA4316:EA$4531)=MAX(EA$3091:EA$4531),0,IF(DY4316>0.01*DS$4532,0,$C4316/60)))","v":0},0,0,0,0,0,0,0,0,0,{"$error":"#N/A"},{"$error":"#N/A"},{"$error":"#N/A"},{"$error":"#N/A"},{"$error":"#N/A"},{"$error":"#N/A"},{"$f":"IF(SUM(EY$3091:EY4315)>0,0,IF(MAX(ER4316:ER$4531)=MAX(ER$3091:ER$4531),0,IF(EP4316>0.03*EJ$4532,0,$C4316/60)))","v":0},{"$f":"IF(SUM(EZ$3091:EZ4315)>0,0,IF(MAX(ER4316:ER$4531)=MAX(ER$3091:ER$4531),0,IF(EP4316>0.01*EJ$4532,0,$C4316/60)))","v":0}]
[null,102.16666666666667,6130,0,0,0,0,0,0,0,0,0,{"$error":"#N/A"},{"$error":"#N/A"},{"$error":"#N/A"},{"$error":"#N/A"},{"$error":"#N/A"},{"$error":"#N/A"},{"$f":"IF(SUM(S$3091:S4316)>0,0,\nIF(MAX(L4317:L$4531)=MAX(L$3091:L$4531),0,\nIF(Hydrograph_Source_WQCV=\"USER\",IF(J4317>0.03*D$4532,0,$C4317/60),\nIF(J4317>0.03*J$4532,0,$C4317/60))))","v":0},{"$f":"IF(SUM(T$3091:T4316)>0,0,\nIF(MAX(L4317:L$4531)=MAX(L$3091:L$4531),0,\nIF(Hydrograph_Source_WQCV=\"USER\",IF(J4317>0.01*D$4532,0,$C4317/60),\nIF(J4317>0.01*J$4532,0,$C4317/60))))","v":0},0,0,0,0,0,0,0,0,0,{"$error":"#N/A"},{"$error":"#N/A"},{"$error":"#N/A"},{"$error":"#N/A"},{"$error":"#N/A"},{"$error":"#N/A"},{"$f":"IF(SUM(AJ$3091:AJ4316)>0,0,\nIF(MAX(AC4317:AC$4531)=MAX(AC$3091:AC$4531),0,\nIF(Hydrograph_Source_EURV=\"USER\",IF(AA4317>0.03*U$4532,0,$C4317/60),\nIF(AA4317>0.03*AA$4532,0,$C4317/60))))","v":0},{"$f":"IF(SUM(AK$3091:AK4316)>0,0,\nIF(MAX(AC4317:AC$4531)=MAX(AC$3091:AC$4531),0,\nIF(Hydrograph_Source_EURV=\"USER\",IF(AA4317>0.01*U$4532,0,$C4317/60),\nIF(AA4317>0.01*AA$4532,0,$C4317/60))))","v":0},0,0,0,0,0,0,0,0,0,{"$error":"#N/A"},{"$error":"#N/A"},{"$error":"#N/A"},{"$error":"#N/A"},{"$error":"#N/A"},{"$error":"#N/A"},{"$f":"IF(SUM(BA$3091:BA4316)>0,0,IF(MAX(AT4317:AT$4531)=MAX(AT$3091:AT$4531),0,IF(AR4317>0.03*AL$4532,0,$C4317/60)))","v":0},{"$f":"IF(SUM(BB$3091:BB4316)>0,0,IF(MAX(AT4317:AT$4531)=MAX(AT$3091:AT$4531),0,IF(AR4317>0.01*AL$4532,0,$C4317/60)))","v":0},0,0,0,0,0,0,0,0,0,{"$error":"#N/A"},{"$error":"#N/A"},{"$error":"#N/A"},{"$error":"#N/A"},{"$error":"#N/A"},{"$error":"#N/A"},{"$f":"IF(SUM(BR$3091:BR4316)>0,0,IF(MAX(BK4317:BK$4531)=MAX(BK$3091:BK$4531),0,IF(BI4317>0.03*BC$4532,0,$C4317/60)))","v":0},{"$f":"IF(SUM(BS$3091:BS4316)>0,0,IF(MAX(BK4317:BK$4531)=MAX(BK$3091:BK$4531),0,IF(BI4317>0.01*BC$4532,0,$C4317/60)))","v":0},0,0,0,0,0,0,0,0,0,{"$error":"#N/A"},{"$error":"#N/A"},{"$error":"#N/A"},{"$error":"#N/A"},{"$error":"#N/A"},{"$error":"#N/A"},{"$f":"IF(SUM(CI$3091:CI4316)>0,0,IF(MAX(CB4317:CB$4531)=MAX(CB$3091:CB$4531),0,IF(BZ4317>0.03*BT$4532,0,$C4317/60)))","v":0},{"$f":"IF(SUM(CJ$3091:CJ4316)>0,0,IF(MAX(CB4317:CB$4531)=MAX(CB$3091:CB$4531),0,IF(BZ4317>0.01*BT$4532,0,$C4317/60)))","v":0},0,0,0,0,0,0,0,0,0,{"$error":"#N/A"},{"$error":"#N/A"},{"$error":"#N/A"},{"$error":"#N/A"},{"$error":"#N/A"},{"$error":"#N/A"},{"$f":"IF(SUM(CZ$3091:CZ4316)>0,0,IF(MAX(CS4317:CS$4531)=MAX(CS$3091:CS$4531),0,IF(CQ4317>0.03*CK$4532,0,$C4317/60)))","v":0},{"$f":"IF(SUM(DA$3091:DA4316)>0,0,IF(MAX(CS4317:CS$4531)=MAX(CS$3091:CS$4531),0,IF(CQ4317>0.01*CK$4532,0,$C4317/60)))","v":0},0,0,0,0,0,0,0,0,0,{"$error":"#N/A"},{"$error":"#N/A"},{"$error":"#N/A"},{"$error":"#N/A"},{"$error":"#N/A"},{"$error":"#N/A"},{"$f":"IF(SUM(DQ$3091:DQ4316)>0,0,IF(MAX(DJ4317:DJ$4531)=MAX(DJ$3091:DJ$4531),0,IF(DH4317>0.03*DB$4532,0,$C4317/60)))","v":0},{"$f":"IF(SUM(DR$3091:DR4316)>0,0,IF(MAX(DJ4317:DJ$4531)=MAX(DJ$3091:DJ$4531),0,IF(DH4317>0.01*DB$4532,0,$C4317/60)))","v":0},0,0,0,0,0,0,0,0,0,{"$error":"#N/A"},{"$error":"#N/A"},{"$error":"#N/A"},{"$error":"#N/A"},{"$error":"#N/A"},{"$error":"#N/A"},{"$f":"IF(SUM(EH$3091:EH4316)>0,0,IF(MAX(EA4317:EA$4531)=MAX(EA$3091:EA$4531),0,IF(DY4317>0.03*DS$4532,0,$C4317/60)))","v":0},{"$f":"IF(SUM(EI$3091:EI4316)>0,0,IF(MAX(EA4317:EA$4531)=MAX(EA$3091:EA$4531),0,IF(DY4317>0.01*DS$4532,0,$C4317/60)))","v":0},0,0,0,0,0,0,0,0,0,{"$error":"#N/A"},{"$error":"#N/A"},{"$error":"#N/A"},{"$error":"#N/A"},{"$error":"#N/A"},{"$error":"#N/A"},{"$f":"IF(SUM(EY$3091:EY4316)>0,0,IF(MAX(ER4317:ER$4531)=MAX(ER$3091:ER$4531),0,IF(EP4317>0.03*EJ$4532,0,$C4317/60)))","v":0},{"$f":"IF(SUM(EZ$3091:EZ4316)>0,0,IF(MAX(ER4317:ER$4531)=MAX(ER$3091:ER$4531),0,IF(EP4317>0.01*EJ$4532,0,$C4317/60)))","v":0}]
[null,102.91666666666667,6175,0,0,0,0,0,0,0,0,0,{"$error":"#N/A"},{"$error":"#N/A"},{"$error":"#N/A"},{"$error":"#N/A"},{"$error":"#N/A"},{"$error":"#N/A"},{"$f":"IF(SUM(S$3091:S4325)>0,0,\nIF(MAX(L4326:L$4531)=MAX(L$3091:L$4531),0,\nIF(Hydrograph_Source_WQCV=\"USER\",IF(J4326>0.03*D$4532,0,$C4326/60),\nIF(J4326>0.03*J$4532,0,$C4326/60))))","v":0},{"$f":"IF(SUM(T$3091:T4325)>0,0,\nIF(MAX(L4326:L$4531)=MAX(L$3091:L$4531),0,\nIF(Hydrograph_Source_WQCV=\"USER\",IF(J4326>0.01*D$4532,0,$C4326/60),\nIF(J4326>0.01*J$4532,0,$C4326/60))))","v":0},0,0,0,0,0,0,0,0,0,{"$error":"#N/A"},{"$error":"#N/A"},{"$error":"#N/A"},{"$error":"#N/A"},{"$error":"#N/A"},{"$error":"#N/A"},{"$f":"IF(SUM(AJ$3091:AJ4325)>0,0,\nIF(MAX(AC4326:AC$4531)=MAX(AC$3091:AC$4531),0,\nIF(Hydrograph_Source_EURV=\"USER\",IF(AA4326>0.03*U$4532,0,$C4326/60),\nIF(AA4326>0.03*AA$4532,0,$C4326/60))))","v":0},{"$f":"IF(SUM(AK$3091:AK4325)>0,0,\nIF(MAX(AC4326:AC$4531)=MAX(AC$3091:AC$4531),0,\nIF(Hydrograph_Source_EURV=\"USER\",IF(AA4326>0.01*U$4532,0,$C4326/60),\nIF(AA4326>0.01*AA$4532,0,$C4326/60))))","v":0},0,0,0,0,0,0,0,0,0,{"$error":"#N/A"},{"$error":"#N/A"},{"$error":"#N/A"},{"$error":"#N/A"},{"$error":"#N/A"},{"$error":"#N/A"},{"$f":"IF(SUM(BA$3091:BA4325)>0,0,IF(MAX(AT4326:AT$4531)=MAX(AT$3091:AT$4531),0,IF(AR4326>0.03*AL$4532,0,$C4326/60)))","v":0},{"$f":"IF(SUM(BB$3091:BB4325)>0,0,IF(MAX(AT4326:AT$4531)=MAX(AT$3091:AT$4531),0,IF(AR4326>0.01*AL$4532,0,$C4326/60)))","v":0},0,0,0,0,0,0,0,0,0,{"$error":"#N/A"},{"$error":"#N/A"},{"$error":"#N/A"},{"$error":"#N/A"},{"$error":"#N/A"},{"$error":"#N/A"},{"$f":"IF(SUM(BR$3091:BR4325)>0,0,IF(MAX(BK4326:BK$4531)=MAX(BK$3091:BK$4531),0,IF(BI4326>0.03*BC$4532,0,$C4326/60)))","v":0},{"$f":"IF(SUM(BS$3091:BS4325)>0,0,IF(MAX(BK4326:BK$4531)=MAX(BK$3091:BK$4531),0,IF(BI4326>0.01*BC$4532,0,$C4326/60)))","v":0},0,0,0,0,0,0,0,0,0,{"$error":"#N/A"},{"$error":"#N/A"},{"$error":"#N/A"},{"$error":"#N/A"},{"$error":"#N/A"},{"$error":"#N/A"},{"$f":"IF(SUM(CI$3091:CI4325)>0,0,IF(MAX(CB4326:CB$4531)=MAX(CB$3091:CB$4531),0,IF(BZ4326>0.03*BT$4532,0,$C4326/60)))","v":0},{"$f":"IF(SUM(CJ$3091:CJ4325)>0,0,IF(MAX(CB4326:CB$4531)=MAX(CB$3091:CB$4531),0,IF(BZ4326>0.01*BT$4532,0,$C4326/60)))","v":0},0,0,0,0,0,0,0,0,0,{"$error":"#N/A"},{"$error":"#N/A"},{"$error":"#N/A"},{"$error":"#N/A"},{"$error":"#N/A"},{"$error":"#N/A"},{"$f":"IF(SUM(CZ$3091:CZ4325)>0,0,IF(MAX(CS4326:CS$4531)=MAX(CS$3091:CS$4531),0,IF(CQ4326>0.03*CK$4532,0,$C4326/60)))","v":0},{"$f":"IF(SUM(DA$3091:DA4325)>0,0,IF(MAX(CS4326:CS$4531)=MAX(CS$3091:CS$4531),0,IF(CQ4326>0.01*CK$4532,0,$C4326/60)))","v":0},0,0,0,0,0,0,0,0,0,{"$error":"#N/A"},{"$error":"#N/A"},{"$error":"#N/A"},{"$error":"#N/A"},{"$error":"#N/A"},{"$error":"#N/A"},{"$f":"IF(SUM(DQ$3091:DQ4325)>0,0,IF(MAX(DJ4326:DJ$4531)=MAX(DJ$3091:DJ$4531),0,IF(DH4326>0.03*DB$4532,0,$C4326/60)))","v":0},{"$f":"IF(SUM(DR$3091:DR4325)>0,0,IF(MAX(DJ4326:DJ$4531)=MAX(DJ$3091:DJ$4531),0,IF(DH4326>0.01*DB$4532,0,$C4326/60)))","v":0},0,0,0,0,0,0,0,0,0,{"$error":"#N/A"},{"$error":"#N/A"},{"$error":"#N/A"},{"$error":"#N/A"},{"$error":"#N/A"},{"$error":"#N/A"},{"$f":"IF(SUM(EH$3091:EH4325)>0,0,IF(MAX(EA4326:EA$4531)=MAX(EA$3091:EA$4531),0,IF(DY4326>0.03*DS$4532,0,$C4326/60)))","v":0},{"$f":"IF(SUM(EI$3091:EI4325)>0,0,IF(MAX(EA4326:EA$4531)=MAX(EA$3091:EA$4531),0,IF(DY4326>0.01*DS$4532,0,$C4326/60)))","v":0},0,0,0,0,0,0,0,0,0,{"$error":"#N/A"},{"$error":"#N/A"},{"$error":"#N/A"},{"$error":"#N/A"},{"$error":"#N/A"},{"$error":"#N/A"},{"$f":"IF(SUM(EY$3091:EY4325)>0,0,IF(MAX(ER4326:ER$4531)=MAX(ER$3091:ER$4531),0,IF(EP4326>0.03*EJ$4532,0,$C4326/60)))","v":0},{"$f":"IF(SUM(EZ$3091:EZ4325)>0,0,IF(MAX(ER4326:ER$4531)=MAX(ER$3091:ER$4531),0,IF(EP4326>0.01*EJ$4532,0,$C4326/60)))","v":0}]
[null,103.66666666666667,6220,0,0,0,0,0,0,0,0,0,{"$error":"#N/A"},{"$error":"#N/A"},{"$error":"#N/A"},{"$error":"#N/A"},{"$error":"#N/A"},{"$error":"#N/A"},{"$f":"IF(SUM(S$3091:S4334)>0,0,\nIF(MAX(L4335:L$4531)=MAX(L$3091:L$4531),0,\nIF(Hydrograph_Source_WQCV=\"USER\",IF(J4335>0.03*D$4532,0,$C4335/60),\nIF(J4335>0.03*J$4532,0,$C4335/60))))","v":0},{"$f":"IF(SUM(T$3091:T4334)>0,0,\nIF(MAX(L4335:L$4531)=MAX(L$3091:L$4531),0,\nIF(Hydrograph_Source_WQCV=\"USER\",IF(J4335>0.01*D$4532,0,$C4335/60),\nIF(J4335>0.01*J$4532,0,$C4335/60))))","v":0},0,0,0,0,0,0,0,0,0,{"$error":"#N/A"},{"$error":"#N/A"},{"$error":"#N/A"},{"$error":"#N/A"},{"$error":"#N/A"},{"$error":"#N/A"},{"$f":"IF(SUM(AJ$3091:AJ4334)>0,0,\nIF(MAX(AC4335:AC$4531)=MAX(AC$3091:AC$4531),0,\nIF(Hydrograph_Source_EURV=\"USER\",IF(AA4335>0.03*U$4532,0,$C4335/60),\nIF(AA4335>0.03*AA$4532,0,$C4335/60))))","v":0},{"$f":"IF(SUM(AK$3091:AK4334)>0,0,\nIF(MAX(AC4335:AC$4531)=MAX(AC$3091:AC$4531),0,\nIF(Hydrograph_Source_EURV=\"USER\",IF(AA4335>0.01*U$4532,0,$C4335/60),\nIF(AA4335>0.01*AA$4532,0,$C4335/60))))","v":0},0,0,0,0,0,0,0,0,0,{"$error":"#N/A"},{"$error":"#N/A"},{"$error":"#N/A"},{"$error":"#N/A"},{"$error":"#N/A"},{"$error":"#N/A"},{"$f":"IF(SUM(BA$3091:BA4334)>0,0,IF(MAX(AT4335:AT$4531)=MAX(AT$3091:AT$4531),0,IF(AR4335>0.03*AL$4532,0,$C4335/60)))","v":0},{"$f":"IF(SUM(BB$3091:BB4334)>0,0,IF(MAX(AT4335:AT$4531)=MAX(AT$3091:AT$4531),0,IF(AR4335>0.01*AL$4532,0,$C4335/60)))","v":0},0,0,0,0,0,0,0,0,0,{"$error":"#N/A"},{"$error":"#N/A"},{"$error":"#N/A"},{"$error":"#N/A"},{"$error":"#N/A"},{"$error":"#N/A"},{"$f":"IF(SUM(BR$3091:BR4334)>0,0,IF(MAX(BK4335:BK$4531)=MAX(BK$3091:BK$4531),0,IF(BI4335>0.03*BC$4532,0,$C4335/60)))","v":0},{"$f":"IF(SUM(BS$3091:BS4334)>0,0,IF(MAX(BK4335:BK$4531)=MAX(BK$3091:BK$4531),0,IF(BI4335>0.01*BC$4532,0,$C4335/60)))","v":0},0,0,0,0,0,0,0,0,0,{"$error":"#N/A"},{"$error":"#N/A"},{"$error":"#N/A"},{"$error":"#N/A"},{"$error":"#N/A"},{"$error":"#N/A"},{"$f":"IF(SUM(CI$3091:CI4334)>0,0,IF(MAX(CB4335:CB$4531)=MAX(CB$3091:CB$4531),0,IF(BZ4335>0.03*BT$4532,0,$C4335/60)))","v":0},{"$f":"IF(SUM(CJ$3091:CJ4334)>0,0,IF(MAX(CB4335:CB$4531)=MAX(CB$3091:CB$4531),0,IF(BZ4335>0.01*BT$4532,0,$C4335/60)))","v":0},0,0,0,0,0,0,0,0,0,{"$error":"#N/A"},{"$error":"#N/A"},{"$error":"#N/A"},{"$error":"#N/A"},{"$error":"#N/A"},{"$error":"#N/A"},{"$f":"IF(SUM(CZ$3091:CZ4334)>0,0,IF(MAX(CS4335:CS$4531)=MAX(CS$3091:CS$4531),0,IF(CQ4335>0.03*CK$4532,0,$C4335/60)))","v":0},{"$f":"IF(SUM(DA$3091:DA4334)>0,0,IF(MAX(CS4335:CS$4531)=MAX(CS$3091:CS$4531),0,IF(CQ4335>0.01*CK$4532,0,$C4335/60)))","v":0},0,0,0,0,0,0,0,0,0,{"$error":"#N/A"},{"$error":"#N/A"},{"$error":"#N/A"},{"$error":"#N/A"},{"$error":"#N/A"},{"$error":"#N/A"},{"$f":"IF(SUM(DQ$3091:DQ4334)>0,0,IF(MAX(DJ4335:DJ$4531)=MAX(DJ$3091:DJ$4531),0,IF(DH4335>0.03*DB$4532,0,$C4335/60)))","v":0},{"$f":"IF(SUM(DR$3091:DR4334)>0,0,IF(MAX(DJ4335:DJ$4531)=MAX(DJ$3091:DJ$4531),0,IF(DH4335>0.01*DB$4532,0,$C4335/60)))","v":0},0,0,0,0,0,0,0,0,0,{"$error":"#N/A"},{"$error":"#N/A"},{"$error":"#N/A"},{"$error":"#N/A"},{"$error":"#N/A"},{"$error":"#N/A"},{"$f":"IF(SUM(EH$3091:EH4334)>0,0,IF(MAX(EA4335:EA$4531)=MAX(EA$3091:EA$4531),0,IF(DY4335>0.03*DS$4532,0,$C4335/60)))","v":0},{"$f":"IF(SUM(EI$3091:EI4334)>0,0,IF(MAX(EA4335:EA$4531)=MAX(EA$3091:EA$4531),0,IF(DY4335>0.01*DS$4532,0,$C4335/60)))","v":0},0,0,0,0,0,0,0,0,0,{"$error":"#N/A"},{"$error":"#N/A"},{"$error":"#N/A"},{"$error":"#N/A"},{"$error":"#N/A"},{"$error":"#N/A"},{"$f":"IF(SUM(EY$3091:EY4334)>0,0,IF(MAX(ER4335:ER$4531)=MAX(ER$3091:ER$4531),0,IF(EP4335>0.03*EJ$4532,0,$C4335/60)))","v":0},{"$f":"IF(SUM(EZ$3091:EZ4334)>0,0,IF(MAX(ER4335:ER$4531)=MAX(ER$3091:ER$4531),0,IF(EP4335>0.01*EJ$4532,0,$C4335/60)))","v":0}]
[null,104.41666666666667,6265,0,0,0,0,0,0,0,0,0,{"$error":"#N/A"},{"$error":"#N/A"},{"$error":"#N/A"},{"$error":"#N/A"},{"$error":"#N/A"},{"$error":"#N/A"},{"$f":"IF(SUM(S$3091:S4343)>0,0,\nIF(MAX(L4344:L$4531)=MAX(L$3091:L$4531),0,\nIF(Hydrograph_Source_WQCV=\"USER\",IF(J4344>0.03*D$4532,0,$C4344/60),\nIF(J4344>0.03*J$4532,0,$C4344/60))))","v":0},{"$f":"IF(SUM(T$3091:T4343)>0,0,\nIF(MAX(L4344:L$4531)=MAX(L$3091:L$4531),0,\nIF(Hydrograph_Source_WQCV=\"USER\",IF(J4344>0.01*D$4532,0,$C4344/60),\nIF(J4344>0.01*J$4532,0,$C4344/60))))","v":0},0,0,0,0,0,0,0,0,0,{"$error":"#N/A"},{"$error":"#N/A"},{"$error":"#N/A"},{"$error":"#N/A"},{"$error":"#N/A"},{"$error":"#N/A"},{"$f":"IF(SUM(AJ$3091:AJ4343)>0,0,\nIF(MAX(AC4344:AC$4531)=MAX(AC$3091:AC$4531),0,\nIF(Hydrograph_Source_EURV=\"USER\",IF(AA4344>0.03*U$4532,0,$C4344/60),\nIF(AA4344>0.03*AA$4532,0,$C4344/60))))","v":0},{"$f":"IF(SUM(AK$3091:AK4343)>0,0,\nIF(MAX(AC4344:AC$4531)=MAX(AC$3091:AC$4531),0,\nIF(Hydrograph_Source_EURV=\"USER\",IF(AA4344>0.01*U$4532,0,$C4344/60),\nIF(AA4344>0.01*AA$4532,0,$C4344/60))))","v":0},0,0,0,0,0,0,0,0,0,{"$error":"#N/A"},{"$error":"#N/A"},{"$error":"#N/A"},{"$error":"#N/A"},{"$error":"#N/A"},{"$error":"#N/A"},{"$f":"IF(SUM(BA$3091:BA4343)>0,0,IF(MAX(AT4344:AT$4531)=MAX(AT$3091:AT$4531),0,IF(AR4344>0.03*AL$4532,0,$C4344/60)))","v":0},{"$f":"IF(SUM(BB$3091:BB4343)>0,0,IF(MAX(AT4344:AT$4531)=MAX(AT$3091:AT$4531),0,IF(AR4344>0.01*AL$4532,0,$C4344/60)))","v":0},0,0,0,0,0,0,0,0,0,{"$error":"#N/A"},{"$error":"#N/A"},{"$error":"#N/A"},{"$error":"#N/A"},{"$error":"#N/A"},{"$error":"#N/A"},{"$f":"IF(SUM(BR$3091:BR4343)>0,0,IF(MAX(BK4344:BK$4531)=MAX(BK$3091:BK$4531),0,IF(BI4344>0.03*BC$4532,0,$C4344/60)))","v":0},{"$f":"IF(SUM(BS$3091:BS4343)>0,0,IF(MAX(BK4344:BK$4531)=MAX(BK$3091:BK$4531),0,IF(BI4344>0.01*BC$4532,0,$C4344/60)))","v":0},0,0,0,0,0,0,0,0,0,{"$error":"#N/A"},{"$error":"#N/A"},{"$error":"#N/A"},{"$error":"#N/A"},{"$error":"#N/A"},{"$error":"#N/A"},{"$f":"IF(SUM(CI$3091:CI4343)>0,0,IF(MAX(CB4344:CB$4531)=MAX(CB$3091:CB$4531),0,IF(BZ4344>0.03*BT$4532,0,$C4344/60)))","v":0},{"$f":"IF(SUM(CJ$3091:CJ4343)>0,0,IF(MAX(CB4344:CB$4531)=MAX(CB$3091:CB$4531),0,IF(BZ4344>0.01*BT$4532,0,$C4344/60)))","v":0},0,0,0,0,0,0,0,0,0,{"$error":"#N/A"},{"$error":"#N/A"},{"$error":"#N/A"},{"$error":"#N/A"},{"$error":"#N/A"},{"$error":"#N/A"},{"$f":"IF(SUM(CZ$3091:CZ4343)>0,0,IF(MAX(CS4344:CS$4531)=MAX(CS$3091:CS$4531),0,IF(CQ4344>0.03*CK$4532,0,$C4344/60)))","v":0},{"$f":"IF(SUM(DA$3091:DA4343)>0,0,IF(MAX(CS4344:CS$4531)=MAX(CS$3091:CS$4531),0,IF(CQ4344>0.01*CK$4532,0,$C4344/60)))","v":0},0,0,0,0,0,0,0,0,0,{"$error":"#N/A"},{"$error":"#N/A"},{"$error":"#N/A"},{"$error":"#N/A"},{"$error":"#N/A"},{"$error":"#N/A"},{"$f":"IF(SUM(DQ$3091:DQ4343)>0,0,IF(MAX(DJ4344:DJ$4531)=MAX(DJ$3091:DJ$4531),0,IF(DH4344>0.03*DB$4532,0,$C4344/60)))","v":0},{"$f":"IF(SUM(DR$3091:DR4343)>0,0,IF(MAX(DJ4344:DJ$4531)=MAX(DJ$3091:DJ$4531),0,IF(DH4344>0.01*DB$4532,0,$C4344/60)))","v":0},0,0,0,0,0,0,0,0,0,{"$error":"#N/A"},{"$error":"#N/A"},{"$error":"#N/A"},{"$error":"#N/A"},{"$error":"#N/A"},{"$error":"#N/A"},{"$f":"IF(SUM(EH$3091:EH4343)>0,0,IF(MAX(EA4344:EA$4531)=MAX(EA$3091:EA$4531),0,IF(DY4344>0.03*DS$4532,0,$C4344/60)))","v":0},{"$f":"IF(SUM(EI$3091:EI4343)>0,0,IF(MAX(EA4344:EA$4531)=MAX(EA$3091:EA$4531),0,IF(DY4344>0.01*DS$4532,0,$C4344/60)))","v":0},0,0,0,0,0,0,0,0,0,{"$error":"#N/A"},{"$error":"#N/A"},{"$error":"#N/A"},{"$error":"#N/A"},{"$error":"#N/A"},{"$error":"#N/A"},{"$f":"IF(SUM(EY$3091:EY4343)>0,0,IF(MAX(ER4344:ER$4531)=MAX(ER$3091:ER$4531),0,IF(EP4344>0.03*EJ$4532,0,$C4344/60)))","v":0},{"$f":"IF(SUM(EZ$3091:EZ4343)>0,0,IF(MAX(ER4344:ER$4531)=MAX(ER$3091:ER$4531),0,IF(EP4344>0.01*EJ$4532,0,$C4344/60)))","v":0}]
[null,105.16666666666667,6310,0,0,0,0,0,0,0,0,0,{"$error":"#N/A"},{"$error":"#N/A"},{"$error":"#N/A"},{"$error":"#N/A"},{"$error":"#N/A"},{"$error":"#N/A"},{"$f":"IF(SUM(S$3091:S4352)>0,0,\nIF(MAX(L4353:L$4531)=MAX(L$3091:L$4531),0,\nIF(Hydrograph_Source_WQCV=\"USER\",IF(J4353>0.03*D$4532,0,$C4353/60),\nIF(J4353>0.03*J$4532,0,$C4353/60))))","v":0},{"$f":"IF(SUM(T$3091:T4352)>0,0,\nIF(MAX(L4353:L$4531)=MAX(L$3091:L$4531),0,\nIF(Hydrograph_Source_WQCV=\"USER\",IF(J4353>0.01*D$4532,0,$C4353/60),\nIF(J4353>0.01*J$4532,0,$C4353/60))))","v":0},0,0,0,0,0,0,0,0,0,{"$error":"#N/A"},{"$error":"#N/A"},{"$error":"#N/A"},{"$error":"#N/A"},{"$error":"#N/A"},{"$error":"#N/A"},{"$f":"IF(SUM(AJ$3091:AJ4352)>0,0,\nIF(MAX(AC4353:AC$4531)=MAX(AC$3091:AC$4531),0,\nIF(Hydrograph_Source_EURV=\"USER\",IF(AA4353>0.03*U$4532,0,$C4353/60),\nIF(AA4353>0.03*AA$4532,0,$C4353/60))))","v":0},{"$f":"IF(SUM(AK$3091:AK4352)>0,0,\nIF(MAX(AC4353:AC$4531)=MAX(AC$3091:AC$4531),0,\nIF(Hydrograph_Source_EURV=\"USER\",IF(AA4353>0.01*U$4532,0,$C4353/60),\nIF(AA4353>0.01*AA$4532,0,$C4353/60))))","v":0},0,0,0,0,0,0,0,0,0,{"$error":"#N/A"},{"$error":"#N/A"},{"$error":"#N/A"},{"$error":"#N/A"},{"$error":"#N/A"},{"$error":"#N/A"},{"$f":"IF(SUM(BA$3091:BA4352)>0,0,IF(MAX(AT4353:AT$4531)=MAX(AT$3091:AT$4531),0,IF(AR4353>0.03*AL$4532,0,$C4353/60)))","v":0},{"$f":"IF(SUM(BB$3091:BB4352)>0,0,IF(MAX(AT4353:AT$4531)=MAX(AT$3091:AT$4531),0,IF(AR4353>0.01*AL$4532,0,$C4353/60)))","v":0},0,0,0,0,0,0,0,0,0,{"$error":"#N/A"},{"$error":"#N/A"},{"$error":"#N/A"},{"$error":"#N/A"},{"$error":"#N/A"},{"$error":"#N/A"},{"$f":"IF(SUM(BR$3091:BR4352)>0,0,IF(MAX(BK4353:BK$4531)=MAX(BK$3091:BK$4531),0,IF(BI4353>0.03*BC$4532,0,$C4353/60)))","v":0},{"$f":"IF(SUM(BS$3091:BS4352)>0,0,IF(MAX(BK4353:BK$4531)=MAX(BK$3091:BK$4531),0,IF(BI4353>0.01*BC$4532,0,$C4353/60)))","v":0},0,0,0,0,0,0,0,0,0,{"$error":"#N/A"},{"$error":"#N/A"},{"$error":"#N/A"},{"$error":"#N/A"},{"$error":"#N/A"},{"$error":"#N/A"},{"$f":"IF(SUM(CI$3091:CI4352)>0,0,IF(MAX(CB4353:CB$4531)=MAX(CB$3091:CB$4531),0,IF(BZ4353>0.03*BT$4532,0,$C4353/60)))","v":0},{"$f":"IF(SUM(CJ$3091:CJ4352)>0,0,IF(MAX(CB4353:CB$4531)=MAX(CB$3091:CB$4531),0,IF(BZ4353>0.01*BT$4532,0,$C4353/60)))","v":0},0,0,0,0,0,0,0,0,0,{"$error":"#N/A"},{"$error":"#N/A"},{"$error":"#N/A"},{"$error":"#N/A"},{"$error":"#N/A"},{"$error":"#N/A"},{"$f":"IF(SUM(CZ$3091:CZ4352)>0,0,IF(MAX(CS4353:CS$4531)=MAX(CS$3091:CS$4531),0,IF(CQ4353>0.03*CK$4532,0,$C4353/60)))","v":0},{"$f":"IF(SUM(DA$3091:DA4352)>0,0,IF(MAX(CS4353:CS$4531)=MAX(CS$3091:CS$4531),0,IF(CQ4353>0.01*CK$4532,0,$C4353/60)))","v":0},0,0,0,0,0,0,0,0,0,{"$error":"#N/A"},{"$error":"#N/A"},{"$error":"#N/A"},{"$error":"#N/A"},{"$error":"#N/A"},{"$error":"#N/A"},{"$f":"IF(SUM(DQ$3091:DQ4352)>0,0,IF(MAX(DJ4353:DJ$4531)=MAX(DJ$3091:DJ$4531),0,IF(DH4353>0.03*DB$4532,0,$C4353/60)))","v":0},{"$f":"IF(SUM(DR$3091:DR4352)>0,0,IF(MAX(DJ4353:DJ$4531)=MAX(DJ$3091:DJ$4531),0,IF(DH4353>0.01*DB$4532,0,$C4353/60)))","v":0},0,0,0,0,0,0,0,0,0,{"$error":"#N/A"},{"$error":"#N/A"},{"$error":"#N/A"},{"$error":"#N/A"},{"$error":"#N/A"},{"$error":"#N/A"},{"$f":"IF(SUM(EH$3091:EH4352)>0,0,IF(MAX(EA4353:EA$4531)=MAX(EA$3091:EA$4531),0,IF(DY4353>0.03*DS$4532,0,$C4353/60)))","v":0},{"$f":"IF(SUM(EI$3091:EI4352)>0,0,IF(MAX(EA4353:EA$4531)=MAX(EA$3091:EA$4531),0,IF(DY4353>0.01*DS$4532,0,$C4353/60)))","v":0},0,0,0,0,0,0,0,0,0,{"$error":"#N/A"},{"$error":"#N/A"},{"$error":"#N/A"},{"$error":"#N/A"},{"$error":"#N/A"},{"$error":"#N/A"},{"$f":"IF(SUM(EY$3091:EY4352)>0,0,IF(MAX(ER4353:ER$4531)=MAX(ER$3091:ER$4531),0,IF(EP4353>0.03*EJ$4532,0,$C4353/60)))","v":0},{"$f":"IF(SUM(EZ$3091:EZ4352)>0,0,IF(MAX(ER4353:ER$4531)=MAX(ER$3091:ER$4531),0,IF(EP4353>0.01*EJ$4532,0,$C4353/60)))","v":0}]
[null,105.91666666666667,6355,0,0,0,0,0,0,0,0,0,{"$error":"#N/A"},{"$error":"#N/A"},{"$error":"#N/A"},{"$error":"#N/A"},{"$error":"#N/A"},{"$error":"#N/A"},{"$f":"IF(SUM(S$3091:S4361)>0,0,\nIF(MAX(L4362:L$4531)=MAX(L$3091:L$4531),0,\nIF(Hydrograph_Source_WQCV=\"USER\",IF(J4362>0.03*D$4532,0,$C4362/60),\nIF(J4362>0.03*J$4532,0,$C4362/60))))","v":0},{"$f":"IF(SUM(T$3091:T4361)>0,0,\nIF(MAX(L4362:L$4531)=MAX(L$3091:L$4531),0,\nIF(Hydrograph_Source_WQCV=\"USER\",IF(J4362>0.01*D$4532,0,$C4362/60),\nIF(J4362>0.01*J$4532,0,$C4362/60))))","v":0},0,0,0,0,0,0,0,0,0,{"$error":"#N/A"},{"$error":"#N/A"},{"$error":"#N/A"},{"$error":"#N/A"},{"$error":"#N/A"},{"$error":"#N/A"},{"$f":"IF(SUM(AJ$3091:AJ4361)>0,0,\nIF(MAX(AC4362:AC$4531)=MAX(AC$3091:AC$4531),0,\nIF(Hydrograph_Source_EURV=\"USER\",IF(AA4362>0.03*U$4532,0,$C4362/60),\nIF(AA4362>0.03*AA$4532,0,$C4362/60))))","v":0},{"$f":"IF(SUM(AK$3091:AK4361)>0,0,\nIF(MAX(AC4362:AC$4531)=MAX(AC$3091:AC$4531),0,\nIF(Hydrograph_Source_EURV=\"USER\",IF(AA4362>0.01*U$4532,0,$C4362/60),\nIF(AA4362>0.01*AA$4532,0,$C4362/60))))","v":0},0,0,0,0,0,0,0,0,0,{"$error":"#N/A"},{"$error":"#N/A"},{"$error":"#N/A"},{"$error":"#N/A"},{"$error":"#N/A"},{"$error":"#N/A"},{"$f":"IF(SUM(BA$3091:BA4361)>0,0,IF(MAX(AT4362:AT$4531)=MAX(AT$3091:AT$4531),0,IF(AR4362>0.03*AL$4532,0,$C4362/60)))","v":0},{"$f":"IF(SUM(BB$3091:BB4361)>0,0,IF(MAX(AT4362:AT$4531)=MAX(AT$3091:AT$4531),0,IF(AR4362>0.01*AL$4532,0,$C4362/60)))","v":0},0,0,0,0,0,0,0,0,0,{"$error":"#N/A"},{"$error":"#N/A"},{"$error":"#N/A"},{"$error":"#N/A"},{"$error":"#N/A"},{"$error":"#N/A"},{"$f":"IF(SUM(BR$3091:BR4361)>0,0,IF(MAX(BK4362:BK$4531)=MAX(BK$3091:BK$4531),0,IF(BI4362>0.03*BC$4532,0,$C4362/60)))","v":0},{"$f":"IF(SUM(BS$3091:BS4361)>0,0,IF(MAX(BK4362:BK$4531)=MAX(BK$3091:BK$4531),0,IF(BI4362>0.01*BC$4532,0,$C4362/60)))","v":0},0,0,0,0,0,0,0,0,0,{"$error":"#N/A"},{"$error":"#N/A"},{"$error":"#N/A"},{"$error":"#N/A"},{"$error":"#N/A"},{"$error":"#N/A"},{"$f":"IF(SUM(CI$3091:CI4361)>0,0,IF(MAX(CB4362:CB$4531)=MAX(CB$3091:CB$4531),0,IF(BZ4362>0.03*BT$4532,0,$C4362/60)))","v":0},{"$f":"IF(SUM(CJ$3091:CJ4361)>0,0,IF(MAX(CB4362:CB$4531)=MAX(CB$3091:CB$4531),0,IF(BZ4362>0.01*BT$4532,0,$C4362/60)))","v":0},0,0,0,0,0,0,0,0,0,{"$error":"#N/A"},{"$error":"#N/A"},{"$error":"#N/A"},{"$error":"#N/A"},{"$error":"#N/A"},{"$error":"#N/A"},{"$f":"IF(SUM(CZ$3091:CZ4361)>0,0,IF(MAX(CS4362:CS$4531)=MAX(CS$3091:CS$4531),0,IF(CQ4362>0.03*CK$4532,0,$C4362/60)))","v":0},{"$f":"IF(SUM(DA$3091:DA4361)>0,0,IF(MAX(CS4362:CS$4531)=MAX(CS$3091:CS$4531),0,IF(CQ4362>0.01*CK$4532,0,$C4362/60)))","v":0},0,0,0,0,0,0,0,0,0,{"$error":"#N/A"},{"$error":"#N/A"},{"$error":"#N/A"},{"$error":"#N/A"},{"$error":"#N/A"},{"$error":"#N/A"},{"$f":"IF(SUM(DQ$3091:DQ4361)>0,0,IF(MAX(DJ4362:DJ$4531)=MAX(DJ$3091:DJ$4531),0,IF(DH4362>0.03*DB$4532,0,$C4362/60)))","v":0},{"$f":"IF(SUM(DR$3091:DR4361)>0,0,IF(MAX(DJ4362:DJ$4531)=MAX(DJ$3091:DJ$4531),0,IF(DH4362>0.01*DB$4532,0,$C4362/60)))","v":0},0,0,0,0,0,0,0,0,0,{"$error":"#N/A"},{"$error":"#N/A"},{"$error":"#N/A"},{"$error":"#N/A"},{"$error":"#N/A"},{"$error":"#N/A"},{"$f":"IF(SUM(EH$3091:EH4361)>0,0,IF(MAX(EA4362:EA$4531)=MAX(EA$3091:EA$4531),0,IF(DY4362>0.03*DS$4532,0,$C4362/60)))","v":0},{"$f":"IF(SUM(EI$3091:EI4361)>0,0,IF(MAX(EA4362:EA$4531)=MAX(EA$3091:EA$4531),0,IF(DY4362>0.01*DS$4532,0,$C4362/60)))","v":0},0,0,0,0,0,0,0,0,0,{"$error":"#N/A"},{"$error":"#N/A"},{"$error":"#N/A"},{"$error":"#N/A"},{"$error":"#N/A"},{"$error":"#N/A"},{"$f":"IF(SUM(EY$3091:EY4361)>0,0,IF(MAX(ER4362:ER$4531)=MAX(ER$3091:ER$4531),0,IF(EP4362>0.03*EJ$4532,0,$C4362/60)))","v":0},{"$f":"IF(SUM(EZ$3091:EZ4361)>0,0,IF(MAX(ER4362:ER$4531)=MAX(ER$3091:ER$4531),0,IF(EP4362>0.01*EJ$4532,0,$C4362/60)))","v":0}]
[null,{"$f":"C4371/60","v":106.66666666666667},6400,0,{"$f":"D4372","v":0},0,{"$f":"IF(D4371=\"\",0,IF($F$87=\"\",0,(M4371*K4371+O4371-M4371*P4371)))","v":0},0,{"$f":"IF($D$3091=\"\",0,(K4371-$C$3089*60*G4371)/2)","v":0},{"$f":"I4371/43560","v":0},{"$f":"IF((D4371+E4371-F4371)*$C$3089*60+2*H4371<0,0,(D4371+E4371-F4371)*$C$3089*60+2*H4371)","v":0},0,{"$f":"IF(INDEX($Z$88:$Z$3087,N4371,1)=\"\",0,INDEX($Z$88:$Z$3087,N4371,1))","v":{"$error":"#N/A"}},{"$error":"#N/A"},{"$error":"#N/A"},{"$error":"#N/A"},{"$f":"INDEX(H_stage1,N4371,1)","v":{"$error":"#N/A"}},{"$f":"IF(INDEX($AA$88:$AA$3087,N4371,1)=\"\",0,INDEX($AA$88:$AA$3087,N4371,1))","v":{"$error":"#N/A"}},{"$f":"IF(SUM(S$3091:S4370)>0,0,\nIF(MAX(L4371:L$4531)=MAX(L$3091:L$4531),0,\nIF(Hydrograph_Source_WQCV=\"USER\",IF(J4371>0.03*D$4532,0,$C4371/60),\nIF(J4371>0.03*J$4532,0,$C4371/60))))","v":0},{"$f":"IF(SUM(T$3091:T4370)>0,0,\nIF(MAX(L4371:L$4531)=MAX(L$3091:L$4531),0,\nIF(Hydrograph_Source_WQCV=\"USER\",IF(J4371>0.01*D$4532,0,$C4371/60),\nIF(J4371>0.01*J$4532,0,$C4371/60))))","v":0},0,{"$f":"U4372","v":0},0,{"$f":"IF(U4371=\"\",0,IF($F$87=\"\",0,(AD4371*AB4371+AF4371-AD4371*AG4371)))","v":0},0,{"$f":"IF($U$3091=\"\",0,(AB4371-$C$3089*60*X4371)/2)","v":0},{"$f":"Z4371/43560","v":0},{"$f":"IF((U4371+V4371-W4371)*$C$3089*60+2*Y4371<0,0,(U4371+V4371-W4371)*$C$3089*60+2*Y4371)","v":0},0,{"$f":"IF(INDEX($Z$88:$Z$3087,AE4371,1)=\"\",0,INDEX($Z$88:$Z$3087,AE4371,1))","v":{"$error":"#N/A"}},{"$error":"#N/A"},{"$error":"#N/A"},{"$error":"#N/A"},{"$f":"INDEX(H_stage1,AE4371,1)","v":{"$error":"#N/A"}},{"$f":"IF(INDEX($AA$88:$AA$3087,AE4371,1)=\"\",0,INDEX($AA$88:$AA$3087,AE4371,1))","v":{"$error":"#N/A"}},{"$f":"IF(SUM(AJ$3091:AJ4370)>0,0,\nIF(MAX(AC4371:AC$4531)=MAX(AC$3091:AC$4531),0,\nIF(Hydrograph_Source_EURV=\"USER\",IF(AA4371>0.03*U$4532,0,$C4371/60),\nIF(AA4371>0.03*AA$4532,0,$C4371/60))))","v":0},{"$f":"IF(SUM(AK$3091:AK4370)>0,0,\nIF(MAX(AC4371:AC$4531)=MAX(AC$3091:AC$4531),0,\nIF(Hydrograph_Source_EURV=\"USER\",IF(AA4371>0.01*U$4532,0,$C4371/60),\nIF(AA4371>0.01*AA$4532,0,$C4371/60))))","v":0},0,{"$f":"AL4372","v":0},0,{"$f":"IF(AL4371=\"\",0,IF($F$87=\"\",0,(AU4371*AS4371+AW4371-AU4371*AX4371)))","v":0},0,{"$f":"IF($AL$3091=\"\",0,(AS4371-$C$3089*60*AO4371)/2)","v":0},{"$f":"AQ4371/43560","v":0},{"$f":"IF((AL4371+AM4371-AN4371)*$C$3089*60+2*AP4371<0,0,(AL4371+AM4371-AN4371)*$C$3089*60+2*AP4371)","v":0},0,{"$f":"IF(INDEX($Z$88:$Z$3087,AV4371,1)=\"\",0,INDEX($Z$88:$Z$3087,AV4371,1))","v":{"$error":"#N/A"}},{"$error":"#N/A"},{"$error":"#N/A"},{"$error":"#N/A"},{"$f":"INDEX(H_stage1,AV4371,1)","v":{"$error":"#N/A"}},{"$f":"IF(INDEX($AA$88:$AA$3087,AV4371,1)=\"\",0,INDEX($AA$88:$AA$3087,AV4371,1))","v":{"$error":"#N/A"}},{"$f":"IF(SUM(BA$3091:BA4370)>0,0,IF(MAX(AT4371:AT$4531)=MAX(AT$3091:AT$4531),0,IF(AR4371>0.03*AL$4532,0,$C4371/60)))","v":0},{"$f":"IF(SUM(BB$3091:BB4370)>0,0,IF(MAX(AT4371:AT$4531)=MAX(AT$3091:AT$4531),0,IF(AR4371>0.01*AL$4532,0,$C4371/60)))","v":0},0,{"$f":"BC4372","v":0},0,{"$f":"IF(BC4371=\"\",0,IF($F$87=\"\",0,(BL4371*BJ4371+BN4371-BL4371*BO4371)))","v":0},0,{"$f":"IF($BC$3091=\"\",0,(BJ4371-$C$3089*60*BF4371)/2)","v":0},{"$f":"BH4371/43560","v":0},{"$f":"IF((BC4371+BD4371-BE4371)*$C$3089*60+2*BG4371<0,0,(BC4371+BD4371-BE4371)*$C$3089*60+2*BG4371)","v":0},0,{"$f":"IF(INDEX($Z$88:$Z$3087,BM4371,1)=\"\",0,INDEX($Z$88:$Z$3087,BM4371,1))","v":{"$error":"#N/A"}},{"$error":"#N/A"},{"$error":"#N/A"},{"$error":"#N/A"},{"$f":"INDEX(H_stage1,BM4371,1)","v":{"$error":"#N/A"}},{"$f":"IF(INDEX($AA$88:$AA$3087,BM4371,1)=\"\",0,INDEX($AA$88:$AA$3087,BM4371,1))","v":{"$error":"#N/A"}},{"$f":"IF(SUM(BR$3091:BR4370)>0,0,IF(MAX(BK4371:BK$4531)=MAX(BK$3091:BK$4531),0,IF(BI4371>0.03*BC$4532,0,$C4371/60)))","v":0},{"$f":"IF(SUM(BS$3091:BS4370)>0,0,IF(MAX(BK4371:BK$4531)=MAX(BK$3091:BK$4531),0,IF(BI4371>0.01*BC$4532,0,$C4371/60)))","v":0},0,{"$f":"BT4372","v":0},0,{"$f":"IF(BT4371=\"\",0,IF($F$87=\"\",0,(CC4371*CA4371+CE4371-CC4371*CF4371)))","v":0},0,{"$f":"IF($BT$3091=\"\",0,(CA4371-$C$3089*60*BW4371)/2)","v":0},{"$f":"BY4371/43560","v":0},{"$f":"IF((BT4371+BU4371-BV4371)*$C$3089*60+2*BX4371<0,0,(BT4371+BU4371-BV4371)*$C$3089*60+2*BX4371)","v":0},0,{"$f":"IF(INDEX($Z$88:$Z$3087,CD4371,1)=\"\",0,INDEX($Z$88:$Z$3087,CD4371,1))","v":{"$error":"#N/A"}},{"$error":"#N/A"},{"$error":"#N/A"},{"$error":"#N/A"},{"$f":"INDEX(H_stage1,CD4371,1)","v":{"$error":"#N/A"}},{"$f":"IF(INDEX($AA$88:$AA$3087,CD4371,1)=\"\",0,INDEX($AA$88:$AA$3087,CD4371,1))","v":{"$error":"#N/A"}},{"$f":"IF(SUM(CI$3091:CI4370)>0,0,IF(MAX(CB4371:CB$4531)=MAX(CB$3091:CB$4531),0,IF(BZ4371>0.03*BT$4532,0,$C4371/60)))","v":0},{"$f":"IF(SUM(CJ$3091:CJ4370)>0,0,IF(MAX(CB4371:CB$4531)=MAX(CB$3091:CB$4531),0,IF(BZ4371>0.01*BT$4532,0,$C4371/60)))","v":0},0,{"$f":"CK4372","v":0},0,{"$f":"IF(CK4371=\"\",0,IF($F$87=\"\",0,(CT4371*CR4371+CV4371-CT4371*CW4371)))","v":0},0,{"$f":"IF($CK$3091=\"\",0,(CR4371-$C$3089*60*CN4371)/2)","v":0},{"$f":"CP4371/43560","v":0},{"$f":"IF((CK4371+CL4371-CM4371)*$C$3089*60+2*CO4371<0,0,(CK4371+CL4371-CM4371)*$C$3089*60+2*CO4371)","v":0},0,{"$f":"IF(INDEX($Z$88:$Z$3087,CU4371,1)=\"\",0,INDEX($Z$88:$Z$3087,CU4371,1))","v":{"$error":"#N/A"}},{"$error":"#N/A"},{"$error":"#N/A"},{"$error":"#N/A"},{"$f":"INDEX(H_stage1,CU4371,1)","v":{"$error":"#N/A"}},{"$f":"IF(INDEX($AA$88:$AA$3087,CU4371,1)=\"\",0,INDEX($AA$88:$AA$3087,CU4371,1))","v":{"$error":"#N/A"}},{"$f":"IF(SUM(CZ$3091:CZ4370)>0,0,IF(MAX(CS4371:CS$4531)=MAX(CS$3091:CS$4531),0,IF(CQ4371>0.03*CK$4532,0,$C4371/60)))","v":0},{"$f":"IF(SUM(DA$3091:DA4370)>0,0,IF(MAX(CS4371:CS$4531)=MAX(CS$3091:CS$4531),0,IF(CQ4371>0.01*CK$4532,0,$C4371/60)))","v":0},0,{"$f":"DB4372","v":0},0,{"$f":"IF(DB4371=\"\",0,IF($F$87=\"\",0,(DK4371*DI4371+DM4371-DK4371*DN4371)))","v":0},0,{"$f":"IF($DB$3091=\"\",0,(DI4371-$C$3089*60*DE4371)/2)","v":0},{"$f":"DG4371/43560","v":0},{"$f":"IF((DB4371+DC4371-DD4371)*$C$3089*60+2*DF4371<0,0,(DB4371+DC4371-DD4371)*$C$3089*60+2*DF4371)","v":0},0,{"$f":"IF(INDEX($Z$88:$Z$3087,DL4371,1)=\"\",0,INDEX($Z$88:$Z$3087,DL4371,1))","v":{"$error":"#N/A"}},{"$error":"#N/A"},{"$error":"#N/A"},{"$error":"#N/A"},{"$f":"INDEX(H_stage1,DL4371,1)","v":{"$error":"#N/A"}},{"$f":"IF(INDEX($AA$88:$AA$3087,DL4371,1)=\"\",0,INDEX($AA$88:$AA$3087,DL4371,1))","v":{"$error":"#N/A"}},{"$f":"IF(SUM(DQ$3091:DQ4370)>0,0,IF(MAX(DJ4371:DJ$4531)=MAX(DJ$3091:DJ$4531),0,IF(DH4371>0.03*DB$4532,0,$C4371/60)))","v":0},{"$f":"IF(SUM(DR$3091:DR4370)>0,0,IF(MAX(DJ4371:DJ$4531)=MAX(DJ$3091:DJ$4531),0,IF(DH4371>0.01*DB$4532,0,$C4371/60)))","v":0},0,{"$f":"DS4372","v":0},0,{"$f":"IF(DS4371=\"\",0,IF($F$87=\"\",0,(EB4371*DZ4371+ED4371-EB4371*EE4371)))","v":0},0,{"$f":"IF($DS$3091=\"\",0,(DZ4371-$C$3089*60*DV4371)/2)","v":0},{"$f":"DX4371/43560","v":0},{"$f":"IF((DS4371+DT4371-DU4371)*$C$3089*60+2*DW4371<0,0,(DS4371+DT4371-DU4371)*$C$3089*60+2*DW4371)","v":0},0,{"$f":"IF(INDEX($Z$88:$Z$3087,EC4371,1)=\"\",0,INDEX($Z$88:$Z$3087,EC4371,1))","v":{"$error":"#N/A"}},{"$error":"#N/A"},{"$error":"#N/A"},{"$error":"#N/A"},{"$f":"INDEX(H_stage1,EC4371,1)","v":{"$error":"#N/A"}},{"$f":"IF(INDEX($AA$88:$AA$3087,EC4371,1)=\"\",0,INDEX($AA$88:$AA$3087,EC4371,1))","v":{"$error":"#N/A"}},{"$f":"IF(SUM(EH$3091:EH4370)>0,0,IF(MAX(EA4371:EA$4531)=MAX(EA$3091:EA$4531),0,IF(DY4371>0.03*DS$4532,0,$C4371/60)))","v":0},{"$f":"IF(SUM(EI$3091:EI4370)>0,0,IF(MAX(EA4371:EA$4531)=MAX(EA$3091:EA$4531),0,IF(DY4371>0.01*DS$4532,0,$C4371/60)))","v":0},0,{"$f":"EJ4372","v":0},0,{"$f":"IF(EJ4371=\"\",0,IF($F$87=\"\",0,(ES4371*EQ4371+EU4371-ES4371*EV4371)))","v":0},0,{"$f":"IF($EJ$3091=\"\",0,(EQ4371-$C$3089*60*EM4371)/2)","v":0},{"$f":"EO4371/43560","v":0},{"$f":"IF((EJ4371+EK4371-EL4371)*$C$3089*60+2*EN4371<0,0,(EJ4371+EK4371-EL4371)*$C$3089*60+2*EN4371)","v":0},0,{"$f":"IF(INDEX($Z$88:$Z$3087,ET4371,1)=\"\",0,INDEX($Z$88:$Z$3087,ET4371,1))","v":{"$error":"#N/A"}},{"$error":"#N/A"},{"$error":"#N/A"},{"$error":"#N/A"},{"$f":"INDEX(H_stage1,ET4371,1)","v":{"$error":"#N/A"}},{"$f":"IF(INDEX($AA$88:$AA$3087,ET4371,1)=\"\",0,INDEX($AA$88:$AA$3087,ET4371,1))","v":{"$error":"#N/A"}},{"$f":"IF(SUM(EY$3091:EY4370)>0,0,IF(MAX(ER4371:ER$4531)=MAX(ER$3091:ER$4531),0,IF(EP4371>0.03*EJ$4532,0,$C4371/60)))","v":0},{"$f":"IF(SUM(EZ$3091:EZ4370)>0,0,IF(MAX(ER4371:ER$4531)=MAX(ER$3091:ER$4531),0,IF(EP4371>0.01*EJ$4532,0,$C4371/60)))","v":0}]
[null,107.41666666666667,6445,0,0,0,0,0,0,0,0,0,{"$error":"#N/A"},{"$error":"#N/A"},{"$error":"#N/A"},{"$error":"#N/A"},{"$error":"#N/A"},{"$error":"#N/A"},{"$f":"IF(SUM(S$3091:S4379)>0,0,\nIF(MAX(L4380:L$4531)=MAX(L$3091:L$4531),0,\nIF(Hydrograph_Source_WQCV=\"USER\",IF(J4380>0.03*D$4532,0,$C4380/60),\nIF(J4380>0.03*J$4532,0,$C4380/60))))","v":0},{"$f":"IF(SUM(T$3091:T4379)>0,0,\nIF(MAX(L4380:L$4531)=MAX(L$3091:L$4531),0,\nIF(Hydrograph_Source_WQCV=\"USER\",IF(J4380>0.01*D$4532,0,$C4380/60),\nIF(J4380>0.01*J$4532,0,$C4380/60))))","v":0},0,0,0,0,0,0,0,0,0,{"$error":"#N/A"},{"$error":"#N/A"},{"$error":"#N/A"},{"$error":"#N/A"},{"$error":"#N/A"},{"$error":"#N/A"},{"$f":"IF(SUM(AJ$3091:AJ4379)>0,0,\nIF(MAX(AC4380:AC$4531)=MAX(AC$3091:AC$4531),0,\nIF(Hydrograph_Source_EURV=\"USER\",IF(AA4380>0.03*U$4532,0,$C4380/60),\nIF(AA4380>0.03*AA$4532,0,$C4380/60))))","v":0},{"$f":"IF(SUM(AK$3091:AK4379)>0,0,\nIF(MAX(AC4380:AC$4531)=MAX(AC$3091:AC$4531),0,\nIF(Hydrograph_Source_EURV=\"USER\",IF(AA4380>0.01*U$4532,0,$C4380/60),\nIF(AA4380>0.01*AA$4532,0,$C4380/60))))","v":0},0,0,0,0,0,0,0,0,0,{"$error":"#N/A"},{"$error":"#N/A"},{"$error":"#N/A"},{"$error":"#N/A"},{"$error":"#N/A"},{"$error":"#N/A"},{"$f":"IF(SUM(BA$3091:BA4379)>0,0,IF(MAX(AT4380:AT$4531)=MAX(AT$3091:AT$4531),0,IF(AR4380>0.03*AL$4532,0,$C4380/60)))","v":0},{"$f":"IF(SUM(BB$3091:BB4379)>0,0,IF(MAX(AT4380:AT$4531)=MAX(AT$3091:AT$4531),0,IF(AR4380>0.01*AL$4532,0,$C4380/60)))","v":0},0,0,0,0,0,0,0,0,0,{"$error":"#N/A"},{"$error":"#N/A"},{"$error":"#N/A"},{"$error":"#N/A"},{"$error":"#N/A"},{"$error":"#N/A"},{"$f":"IF(SUM(BR$3091:BR4379)>0,0,IF(MAX(BK4380:BK$4531)=MAX(BK$3091:BK$4531),0,IF(BI4380>0.03*BC$4532,0,$C4380/60)))","v":0},{"$f":"IF(SUM(BS$3091:BS4379)>0,0,IF(MAX(BK4380:BK$4531)=MAX(BK$3091:BK$4531),0,IF(BI4380>0.01*BC$4532,0,$C4380/60)))","v":0},0,0,0,0,0,0,0,0,0,{"$error":"#N/A"},{"$error":"#N/A"},{"$error":"#N/A"},{"$error":"#N/A"},{"$error":"#N/A"},{"$error":"#N/A"},{"$f":"IF(SUM(CI$3091:CI4379)>0,0,IF(MAX(CB4380:CB$4531)=MAX(CB$3091:CB$4531),0,IF(BZ4380>0.03*BT$4532,0,$C4380/60)))","v":0},{"$f":"IF(SUM(CJ$3091:CJ4379)>0,0,IF(MAX(CB4380:CB$4531)=MAX(CB$3091:CB$4531),0,IF(BZ4380>0.01*BT$4532,0,$C4380/60)))","v":0},0,0,0,0,0,0,0,0,0,{"$error":"#N/A"},{"$error":"#N/A"},{"$error":"#N/A"},{"$error":"#N/A"},{"$error":"#N/A"},{"$error":"#N/A"},{"$f":"IF(SUM(CZ$3091:CZ4379)>0,0,IF(MAX(CS4380:CS$4531)=MAX(CS$3091:CS$4531),0,IF(CQ4380>0.03*CK$4532,0,$C4380/60)))","v":0},{"$f":"IF(SUM(DA$3091:DA4379)>0,0,IF(MAX(CS4380:CS$4531)=MAX(CS$3091:CS$4531),0,IF(CQ4380>0.01*CK$4532,0,$C4380/60)))","v":0},0,0,0,0,0,0,0,0,0,{"$error":"#N/A"},{"$error":"#N/A"},{"$error":"#N/A"},{"$error":"#N/A"},{"$error":"#N/A"},{"$error":"#N/A"},{"$f":"IF(SUM(DQ$3091:DQ4379)>0,0,IF(MAX(DJ4380:DJ$4531)=MAX(DJ$3091:DJ$4531),0,IF(DH4380>0.03*DB$4532,0,$C4380/60)))","v":0},{"$f":"IF(SUM(DR$3091:DR4379)>0,0,IF(MAX(DJ4380:DJ$4531)=MAX(DJ$3091:DJ$4531),0,IF(DH4380>0.01*DB$4532,0,$C4380/60)))","v":0},0,0,0,0,0,0,0,0,0,{"$error":"#N/A"},{"$error":"#N/A"},{"$error":"#N/A"},{"$error":"#N/A"},{"$error":"#N/A"},{"$error":"#N/A"},{"$f":"IF(SUM(EH$3091:EH4379)>0,0,IF(MAX(EA4380:EA$4531)=MAX(EA$3091:EA$4531),0,IF(DY4380>0.03*DS$4532,0,$C4380/60)))","v":0},{"$f":"IF(SUM(EI$3091:EI4379)>0,0,IF(MAX(EA4380:EA$4531)=MAX(EA$3091:EA$4531),0,IF(DY4380>0.01*DS$4532,0,$C4380/60)))","v":0},0,0,0,0,0,0,0,0,0,{"$error":"#N/A"},{"$error":"#N/A"},{"$error":"#N/A"},{"$error":"#N/A"},{"$error":"#N/A"},{"$error":"#N/A"},{"$f":"IF(SUM(EY$3091:EY4379)>0,0,IF(MAX(ER4380:ER$4531)=MAX(ER$3091:ER$4531),0,IF(EP4380>0.03*EJ$4532,0,$C4380/60)))","v":0},{"$f":"IF(SUM(EZ$3091:EZ4379)>0,0,IF(MAX(ER4380:ER$4531)=MAX(ER$3091:ER$4531),0,IF(EP4380>0.01*EJ$4532,0,$C4380/60)))","v":0}]
[null,107.5,6450,0,0,0,0,0,0,0,0,0,{"$error":"#N/A"},{"$error":"#N/A"},{"$error":"#N/A"},{"$error":"#N/A"},{"$error":"#N/A"},{"$error":"#N/A"},{"$f":"IF(SUM(S$3091:S4380)>0,0,\nIF(MAX(L4381:L$4531)=MAX(L$3091:L$4531),0,\nIF(Hydrograph_Source_WQCV=\"USER\",IF(J4381>0.03*D$4532,0,$C4381/60),\nIF(J4381>0.03*J$4532,0,$C4381/60))))","v":0},{"$f":"IF(SUM(T$3091:T4380)>0,0,\nIF(MAX(L4381:L$4531)=MAX(L$3091:L$4531),0,\nIF(Hydrograph_Source_WQCV=\"USER\",IF(J4381>0.01*D$4532,0,$C4381/60),\nIF(J4381>0.01*J$4532,0,$C4381/60))))","v":0},0,0,0,0,0,0,0,0,0,{"$error":"#N/A"},{"$error":"#N/A"},{"$error":"#N/A"},{"$error":"#N/A"},{"$error":"#N/A"},{"$error":"#N/A"},{"$f":"IF(SUM(AJ$3091:AJ4380)>0,0,\nIF(MAX(AC4381:AC$4531)=MAX(AC$3091:AC$4531),0,\nIF(Hydrograph_Source_EURV=\"USER\",IF(AA4381>0.03*U$4532,0,$C4381/60),\nIF(AA4381>0.03*AA$4532,0,$C4381/60))))","v":0},{"$f":"IF(SUM(AK$3091:AK4380)>0,0,\nIF(MAX(AC4381:AC$4531)=MAX(AC$3091:AC$4531),0,\nIF(Hydrograph_Source_EURV=\"USER\",IF(AA4381>0.01*U$4532,0,$C4381/60),\nIF(AA4381>0.01*AA$4532,0,$C4381/60))))","v":0},0,0,0,0,0,0,0,0,0,{"$error":"#N/A"},{"$error":"#N/A"},{"$error":"#N/A"},{"$error":"#N/A"},{"$error":"#N/A"},{"$error":"#N/A"},{"$f":"IF(SUM(BA$3091:BA4380)>0,0,IF(MAX(AT4381:AT$4531)=MAX(AT$3091:AT$4531),0,IF(AR4381>0.03*AL$4532,0,$C4381/60)))","v":0},{"$f":"IF(SUM(BB$3091:BB4380)>0,0,IF(MAX(AT4381:AT$4531)=MAX(AT$3091:AT$4531),0,IF(AR4381>0.01*AL$4532,0,$C4381/60)))","v":0},0,0,0,0,0,0,0,0,0,{"$error":"#N/A"},{"$error":"#N/A"},{"$error":"#N/A"},{"$error":"#N/A"},{"$error":"#N/A"},{"$error":"#N/A"},{"$f":"IF(SUM(BR$3091:BR4380)>0,0,IF(MAX(BK4381:BK$4531)=MAX(BK$3091:BK$4531),0,IF(BI4381>0.03*BC$4532,0,$C4381/60)))","v":0},{"$f":"IF(SUM(BS$3091:BS4380)>0,0,IF(MAX(BK4381:BK$4531)=MAX(BK$3091:BK$4531),0,IF(BI4381>0.01*BC$4532,0,$C4381/60)))","v":0},0,0,0,0,0,0,0,0,0,{"$error":"#N/A"},{"$error":"#N/A"},{"$error":"#N/A"},{"$error":"#N/A"},{"$error":"#N/A"},{"$error":"#N/A"},{"$f":"IF(SUM(CI$3091:CI4380)>0,0,IF(MAX(CB4381:CB$4531)=MAX(CB$3091:CB$4531),0,IF(BZ4381>0.03*BT$4532,0,$C4381/60)))","v":0},{"$f":"IF(SUM(CJ$3091:CJ4380)>0,0,IF(MAX(CB4381:CB$4531)=MAX(CB$3091:CB$4531),0,IF(BZ4381>0.01*BT$4532,0,$C4381/60)))","v":0},0,0,0,0,0,0,0,0,0,{"$error":"#N/A"},{"$error":"#N/A"},{"$error":"#N/A"},{"$error":"#N/A"},{"$error":"#N/A"},{"$error":"#N/A"},{"$f":"IF(SUM(CZ$3091:CZ4380)>0,0,IF(MAX(CS4381:CS$4531)=MAX(CS$3091:CS$4531),0,IF(CQ4381>0.03*CK$4532,0,$C4381/60)))","v":0},{"$f":"IF(SUM(DA$3091:DA4380)>0,0,IF(MAX(CS4381:CS$4531)=MAX(CS$3091:CS$4531),0,IF(CQ4381>0.01*CK$4532,0,$C4381/60)))","v":0},0,0,0,0,0,0,0,0,0,{"$error":"#N/A"},{"$error":"#N/A"},{"$error":"#N/A"},{"$error":"#N/A"},{"$error":"#N/A"},{"$error":"#N/A"},{"$f":"IF(SUM(DQ$3091:DQ4380)>0,0,IF(MAX(DJ4381:DJ$4531)=MAX(DJ$3091:DJ$4531),0,IF(DH4381>0.03*DB$4532,0,$C4381/60)))","v":0},{"$f":"IF(SUM(DR$3091:DR4380)>0,0,IF(MAX(DJ4381:DJ$4531)=MAX(DJ$3091:DJ$4531),0,IF(DH4381>0.01*DB$4532,0,$C4381/60)))","v":0},0,0,0,0,0,0,0,0,0,{"$error":"#N/A"},{"$error":"#N/A"},{"$error":"#N/A"},{"$error":"#N/A"},{"$error":"#N/A"},{"$error":"#N/A"},{"$f":"IF(SUM(EH$3091:EH4380)>0,0,IF(MAX(EA4381:EA$4531)=MAX(EA$3091:EA$4531),0,IF(DY4381>0.03*DS$4532,0,$C4381/60)))","v":0},{"$f":"IF(SUM(EI$3091:EI4380)>0,0,IF(MAX(EA4381:EA$4531)=MAX(EA$3091:EA$4531),0,IF(DY4381>0.01*DS$4532,0,$C4381/60)))","v":0},0,0,0,0,0,0,0,0,0,{"$error":"#N/A"},{"$error":"#N/A"},{"$error":"#N/A"},{"$error":"#N/A"},{"$error":"#N/A"},{"$error":"#N/A"},{"$f":"IF(SUM(EY$3091:EY4380)>0,0,IF(MAX(ER4381:ER$4531)=MAX(ER$3091:ER$4531),0,IF(EP4381>0.03*EJ$4532,0,$C4381/60)))","v":0},{"$f":"IF(SUM(EZ$3091:EZ4380)>0,0,IF(MAX(ER4381:ER$4531)=MAX(ER$3091:ER$4531),0,IF(EP4381>0.01*EJ$4532,0,$C4381/60)))","v":0}]
[null,108.25,6495,0,0,0,0,0,0,0,0,0,{"$error":"#N/A"},{"$error":"#N/A"},{"$error":"#N/A"},{"$error":"#N/A"},{"$error":"#N/A"},{"$error":"#N/A"},{"$f":"IF(SUM(S$3091:S4389)>0,0,\nIF(MAX(L4390:L$4531)=MAX(L$3091:L$4531),0,\nIF(Hydrograph_Source_WQCV=\"USER\",IF(J4390>0.03*D$4532,0,$C4390/60),\nIF(J4390>0.03*J$4532,0,$C4390/60))))","v":0},{"$f":"IF(SUM(T$3091:T4389)>0,0,\nIF(MAX(L4390:L$4531)=MAX(L$3091:L$4531),0,\nIF(Hydrograph_Source_WQCV=\"USER\",IF(J4390>0.01*D$4532,0,$C4390/60),\nIF(J4390>0.01*J$4532,0,$C4390/60))))","v":0},0,0,0,0,0,0,0,0,0,{"$error":"#N/A"},{"$error":"#N/A"},{"$error":"#N/A"},{"$error":"#N/A"},{"$error":"#N/A"},{"$error":"#N/A"},{"$f":"IF(SUM(AJ$3091:AJ4389)>0,0,\nIF(MAX(AC4390:AC$4531)=MAX(AC$3091:AC$4531),0,\nIF(Hydrograph_Source_EURV=\"USER\",IF(AA4390>0.03*U$4532,0,$C4390/60),\nIF(AA4390>0.03*AA$4532,0,$C4390/60))))","v":0},{"$f":"IF(SUM(AK$3091:AK4389)>0,0,\nIF(MAX(AC4390:AC$4531)=MAX(AC$3091:AC$4531),0,\nIF(Hydrograph_Source_EURV=\"USER\",IF(AA4390>0.01*U$4532,0,$C4390/60),\nIF(AA4390>0.01*AA$4532,0,$C4390/60))))","v":0},0,0,0,0,0,0,0,0,0,{"$error":"#N/A"},{"$error":"#N/A"},{"$error":"#N/A"},{"$error":"#N/A"},{"$error":"#N/A"},{"$error":"#N/A"},{"$f":"IF(SUM(BA$3091:BA4389)>0,0,IF(MAX(AT4390:AT$4531)=MAX(AT$3091:AT$4531),0,IF(AR4390>0.03*AL$4532,0,$C4390/60)))","v":0},{"$f":"IF(SUM(BB$3091:BB4389)>0,0,IF(MAX(AT4390:AT$4531)=MAX(AT$3091:AT$4531),0,IF(AR4390>0.01*AL$4532,0,$C4390/60)))","v":0},0,0,0,0,0,0,0,0,0,{"$error":"#N/A"},{"$error":"#N/A"},{"$error":"#N/A"},{"$error":"#N/A"},{"$error":"#N/A"},{"$error":"#N/A"},{"$f":"IF(SUM(BR$3091:BR4389)>0,0,IF(MAX(BK4390:BK$4531)=MAX(BK$3091:BK$4531),0,IF(BI4390>0.03*BC$4532,0,$C4390/60)))","v":0},{"$f":"IF(SUM(BS$3091:BS4389)>0,0,IF(MAX(BK4390:BK$4531)=MAX(BK$3091:BK$4531),0,IF(BI4390>0.01*BC$4532,0,$C4390/60)))","v":0},0,0,0,0,0,0,0,0,0,{"$error":"#N/A"},{"$error":"#N/A"},{"$error":"#N/A"},{"$error":"#N/A"},{"$error":"#N/A"},{"$error":"#N/A"},{"$f":"IF(SUM(CI$3091:CI4389)>0,0,IF(MAX(CB4390:CB$4531)=MAX(CB$3091:CB$4531),0,IF(BZ4390>0.03*BT$4532,0,$C4390/60)))","v":0},{"$f":"IF(SUM(CJ$3091:CJ4389)>0,0,IF(MAX(CB4390:CB$4531)=MAX(CB$3091:CB$4531),0,IF(BZ4390>0.01*BT$4532,0,$C4390/60)))","v":0},0,0,0,0,0,0,0,0,0,{"$error":"#N/A"},{"$error":"#N/A"},{"$error":"#N/A"},{"$error":"#N/A"},{"$error":"#N/A"},{"$error":"#N/A"},{"$f":"IF(SUM(CZ$3091:CZ4389)>0,0,IF(MAX(CS4390:CS$4531)=MAX(CS$3091:CS$4531),0,IF(CQ4390>0.03*CK$4532,0,$C4390/60)))","v":0},{"$f":"IF(SUM(DA$3091:DA4389)>0,0,IF(MAX(CS4390:CS$4531)=MAX(CS$3091:CS$4531),0,IF(CQ4390>0.01*CK$4532,0,$C4390/60)))","v":0},0,0,0,0,0,0,0,0,0,{"$error":"#N/A"},{"$error":"#N/A"},{"$error":"#N/A"},{"$error":"#N/A"},{"$error":"#N/A"},{"$error":"#N/A"},{"$f":"IF(SUM(DQ$3091:DQ4389)>0,0,IF(MAX(DJ4390:DJ$4531)=MAX(DJ$3091:DJ$4531),0,IF(DH4390>0.03*DB$4532,0,$C4390/60)))","v":0},{"$f":"IF(SUM(DR$3091:DR4389)>0,0,IF(MAX(DJ4390:DJ$4531)=MAX(DJ$3091:DJ$4531),0,IF(DH4390>0.01*DB$4532,0,$C4390/60)))","v":0},0,0,0,0,0,0,0,0,0,{"$error":"#N/A"},{"$error":"#N/A"},{"$error":"#N/A"},{"$error":"#N/A"},{"$error":"#N/A"},{"$error":"#N/A"},{"$f":"IF(SUM(EH$3091:EH4389)>0,0,IF(MAX(EA4390:EA$4531)=MAX(EA$3091:EA$4531),0,IF(DY4390>0.03*DS$4532,0,$C4390/60)))","v":0},{"$f":"IF(SUM(EI$3091:EI4389)>0,0,IF(MAX(EA4390:EA$4531)=MAX(EA$3091:EA$4531),0,IF(DY4390>0.01*DS$4532,0,$C4390/60)))","v":0},0,0,0,0,0,0,0,0,0,{"$error":"#N/A"},{"$error":"#N/A"},{"$error":"#N/A"},{"$error":"#N/A"},{"$error":"#N/A"},{"$error":"#N/A"},{"$f":"IF(SUM(EY$3091:EY4389)>0,0,IF(MAX(ER4390:ER$4531)=MAX(ER$3091:ER$4531),0,IF(EP4390>0.03*EJ$4532,0,$C4390/60)))","v":0},{"$f":"IF(SUM(EZ$3091:EZ4389)>0,0,IF(MAX(ER4390:ER$4531)=MAX(ER$3091:ER$4531),0,IF(EP4390>0.01*EJ$4532,0,$C4390/60)))","v":0}]
[null,109,6540,0,0,0,0,0,0,0,0,0,{"$error":"#N/A"},{"$error":"#N/A"},{"$error":"#N/A"},{"$error":"#N/A"},{"$error":"#N/A"},{"$error":"#N/A"},{"$f":"IF(SUM(S$3091:S4398)>0,0,\nIF(MAX(L4399:L$4531)=MAX(L$3091:L$4531),0,\nIF(Hydrograph_Source_WQCV=\"USER\",IF(J4399>0.03*D$4532,0,$C4399/60),\nIF(J4399>0.03*J$4532,0,$C4399/60))))","v":0},{"$f":"IF(SUM(T$3091:T4398)>0,0,\nIF(MAX(L4399:L$4531)=MAX(L$3091:L$4531),0,\nIF(Hydrograph_Source_WQCV=\"USER\",IF(J4399>0.01*D$4532,0,$C4399/60),\nIF(J4399>0.01*J$4532,0,$C4399/60))))","v":0},0,0,0,0,0,0,0,0,0,{"$error":"#N/A"},{"$error":"#N/A"},{"$error":"#N/A"},{"$error":"#N/A"},{"$error":"#N/A"},{"$error":"#N/A"},{"$f":"IF(SUM(AJ$3091:AJ4398)>0,0,\nIF(MAX(AC4399:AC$4531)=MAX(AC$3091:AC$4531),0,\nIF(Hydrograph_Source_EURV=\"USER\",IF(AA4399>0.03*U$4532,0,$C4399/60),\nIF(AA4399>0.03*AA$4532,0,$C4399/60))))","v":0},{"$f":"IF(SUM(AK$3091:AK4398)>0,0,\nIF(MAX(AC4399:AC$4531)=MAX(AC$3091:AC$4531),0,\nIF(Hydrograph_Source_EURV=\"USER\",IF(AA4399>0.01*U$4532,0,$C4399/60),\nIF(AA4399>0.01*AA$4532,0,$C4399/60))))","v":0},0,0,0,0,0,0,0,0,0,{"$error":"#N/A"},{"$error":"#N/A"},{"$error":"#N/A"},{"$error":"#N/A"},{"$error":"#N/A"},{"$error":"#N/A"},{"$f":"IF(SUM(BA$3091:BA4398)>0,0,IF(MAX(AT4399:AT$4531)=MAX(AT$3091:AT$4531),0,IF(AR4399>0.03*AL$4532,0,$C4399/60)))","v":0},{"$f":"IF(SUM(BB$3091:BB4398)>0,0,IF(MAX(AT4399:AT$4531)=MAX(AT$3091:AT$4531),0,IF(AR4399>0.01*AL$4532,0,$C4399/60)))","v":0},0,0,0,0,0,0,0,0,0,{"$error":"#N/A"},{"$error":"#N/A"},{"$error":"#N/A"},{"$error":"#N/A"},{"$error":"#N/A"},{"$error":"#N/A"},{"$f":"IF(SUM(BR$3091:BR4398)>0,0,IF(MAX(BK4399:BK$4531)=MAX(BK$3091:BK$4531),0,IF(BI4399>0.03*BC$4532,0,$C4399/60)))","v":0},{"$f":"IF(SUM(BS$3091:BS4398)>0,0,IF(MAX(BK4399:BK$4531)=MAX(BK$3091:BK$4531),0,IF(BI4399>0.01*BC$4532,0,$C4399/60)))","v":0},0,0,0,0,0,0,0,0,0,{"$error":"#N/A"},{"$error":"#N/A"},{"$error":"#N/A"},{"$error":"#N/A"},{"$error":"#N/A"},{"$error":"#N/A"},{"$f":"IF(SUM(CI$3091:CI4398)>0,0,IF(MAX(CB4399:CB$4531)=MAX(CB$3091:CB$4531),0,IF(BZ4399>0.03*BT$4532,0,$C4399/60)))","v":0},{"$f":"IF(SUM(CJ$3091:CJ4398)>0,0,IF(MAX(CB4399:CB$4531)=MAX(CB$3091:CB$4531),0,IF(BZ4399>0.01*BT$4532,0,$C4399/60)))","v":0},0,0,0,0,0,0,0,0,0,{"$error":"#N/A"},{"$error":"#N/A"},{"$error":"#N/A"},{"$error":"#N/A"},{"$error":"#N/A"},{"$error":"#N/A"},{"$f":"IF(SUM(CZ$3091:CZ4398)>0,0,IF(MAX(CS4399:CS$4531)=MAX(CS$3091:CS$4531),0,IF(CQ4399>0.03*CK$4532,0,$C4399/60)))","v":0},{"$f":"IF(SUM(DA$3091:DA4398)>0,0,IF(MAX(CS4399:CS$4531)=MAX(CS$3091:CS$4531),0,IF(CQ4399>0.01*CK$4532,0,$C4399/60)))","v":0},0,0,0,0,0,0,0,0,0,{"$error":"#N/A"},{"$error":"#N/A"},{"$error":"#N/A"},{"$error":"#N/A"},{"$error":"#N/A"},{"$error":"#N/A"},{"$f":"IF(SUM(DQ$3091:DQ4398)>0,0,IF(MAX(DJ4399:DJ$4531)=MAX(DJ$3091:DJ$4531),0,IF(DH4399>0.03*DB$4532,0,$C4399/60)))","v":0},{"$f":"IF(SUM(DR$3091:DR4398)>0,0,IF(MAX(DJ4399:DJ$4531)=MAX(DJ$3091:DJ$4531),0,IF(DH4399>0.01*DB$4532,0,$C4399/60)))","v":0},0,0,0,0,0,0,0,0,0,{"$error":"#N/A"},{"$error":"#N/A"},{"$error":"#N/A"},{"$error":"#N/A"},{"$error":"#N/A"},{"$error":"#N/A"},{"$f":"IF(SUM(EH$3091:EH4398)>0,0,IF(MAX(EA4399:EA$4531)=MAX(EA$3091:EA$4531),0,IF(DY4399>0.03*DS$4532,0,$C4399/60)))","v":0},{"$f":"IF(SUM(EI$3091:EI4398)>0,0,IF(MAX(EA4399:EA$4531)=MAX(EA$3091:EA$4531),0,IF(DY4399>0.01*DS$4532,0,$C4399/60)))","v":0},0,0,0,0,0,0,0,0,0,{"$error":"#N/A"},{"$error":"#N/A"},{"$error":"#N/A"},{"$error":"#N/A"},{"$error":"#N/A"},{"$error":"#N/A"},{"$f":"IF(SUM(EY$3091:EY4398)>0,0,IF(MAX(ER4399:ER$4531)=MAX(ER$3091:ER$4531),0,IF(EP4399>0.03*EJ$4532,0,$C4399/60)))","v":0},{"$f":"IF(SUM(EZ$3091:EZ4398)>0,0,IF(MAX(ER4399:ER$4531)=MAX(ER$3091:ER$4531),0,IF(EP4399>0.01*EJ$4532,0,$C4399/60)))","v":0}]
[null,109.75,6585,0,0,0,0,0,0,0,0,0,{"$error":"#N/A"},{"$error":"#N/A"},{"$error":"#N/A"},{"$error":"#N/A"},{"$error":"#N/A"},{"$error":"#N/A"},{"$f":"IF(SUM(S$3091:S4407)>0,0,\nIF(MAX(L4408:L$4531)=MAX(L$3091:L$4531),0,\nIF(Hydrograph_Source_WQCV=\"USER\",IF(J4408>0.03*D$4532,0,$C4408/60),\nIF(J4408>0.03*J$4532,0,$C4408/60))))","v":0},{"$f":"IF(SUM(T$3091:T4407)>0,0,\nIF(MAX(L4408:L$4531)=MAX(L$3091:L$4531),0,\nIF(Hydrograph_Source_WQCV=\"USER\",IF(J4408>0.01*D$4532,0,$C4408/60),\nIF(J4408>0.01*J$4532,0,$C4408/60))))","v":0},0,0,0,0,0,0,0,0,0,{"$error":"#N/A"},{"$error":"#N/A"},{"$error":"#N/A"},{"$error":"#N/A"},{"$error":"#N/A"},{"$error":"#N/A"},{"$f":"IF(SUM(AJ$3091:AJ4407)>0,0,\nIF(MAX(AC4408:AC$4531)=MAX(AC$3091:AC$4531),0,\nIF(Hydrograph_Source_EURV=\"USER\",IF(AA4408>0.03*U$4532,0,$C4408/60),\nIF(AA4408>0.03*AA$4532,0,$C4408/60))))","v":0},{"$f":"IF(SUM(AK$3091:AK4407)>0,0,\nIF(MAX(AC4408:AC$4531)=MAX(AC$3091:AC$4531),0,\nIF(Hydrograph_Source_EURV=\"USER\",IF(AA4408>0.01*U$4532,0,$C4408/60),\nIF(AA4408>0.01*AA$4532,0,$C4408/60))))","v":0},0,0,0,0,0,0,0,0,0,{"$error":"#N/A"},{"$error":"#N/A"},{"$error":"#N/A"},{"$error":"#N/A"},{"$error":"#N/A"},{"$error":"#N/A"},{"$f":"IF(SUM(BA$3091:BA4407)>0,0,IF(MAX(AT4408:AT$4531)=MAX(AT$3091:AT$4531),0,IF(AR4408>0.03*AL$4532,0,$C4408/60)))","v":0},{"$f":"IF(SUM(BB$3091:BB4407)>0,0,IF(MAX(AT4408:AT$4531)=MAX(AT$3091:AT$4531),0,IF(AR4408>0.01*AL$4532,0,$C4408/60)))","v":0},0,0,0,0,0,0,0,0,0,{"$error":"#N/A"},{"$error":"#N/A"},{"$error":"#N/A"},{"$error":"#N/A"},{"$error":"#N/A"},{"$error":"#N/A"},{"$f":"IF(SUM(BR$3091:BR4407)>0,0,IF(MAX(BK4408:BK$4531)=MAX(BK$3091:BK$4531),0,IF(BI4408>0.03*BC$4532,0,$C4408/60)))","v":0},{"$f":"IF(SUM(BS$3091:BS4407)>0,0,IF(MAX(BK4408:BK$4531)=MAX(BK$3091:BK$4531),0,IF(BI4408>0.01*BC$4532,0,$C4408/60)))","v":0},0,0,0,0,0,0,0,0,0,{"$error":"#N/A"},{"$error":"#N/A"},{"$error":"#N/A"},{"$error":"#N/A"},{"$error":"#N/A"},{"$error":"#N/A"},{"$f":"IF(SUM(CI$3091:CI4407)>0,0,IF(MAX(CB4408:CB$4531)=MAX(CB$3091:CB$4531),0,IF(BZ4408>0.03*BT$4532,0,$C4408/60)))","v":0},{"$f":"IF(SUM(CJ$3091:CJ4407)>0,0,IF(MAX(CB4408:CB$4531)=MAX(CB$3091:CB$4531),0,IF(BZ4408>0.01*BT$4532,0,$C4408/60)))","v":0},0,0,0,0,0,0,0,0,0,{"$error":"#N/A"},{"$error":"#N/A"},{"$error":"#N/A"},{"$error":"#N/A"},{"$error":"#N/A"},{"$error":"#N/A"},{"$f":"IF(SUM(CZ$3091:CZ4407)>0,0,IF(MAX(CS4408:CS$4531)=MAX(CS$3091:CS$4531),0,IF(CQ4408>0.03*CK$4532,0,$C4408/60)))","v":0},{"$f":"IF(SUM(DA$3091:DA4407)>0,0,IF(MAX(CS4408:CS$4531)=MAX(CS$3091:CS$4531),0,IF(CQ4408>0.01*CK$4532,0,$C4408/60)))","v":0},0,0,0,0,0,0,0,0,0,{"$error":"#N/A"},{"$error":"#N/A"},{"$error":"#N/A"},{"$error":"#N/A"},{"$error":"#N/A"},{"$error":"#N/A"},{"$f":"IF(SUM(DQ$3091:DQ4407)>0,0,IF(MAX(DJ4408:DJ$4531)=MAX(DJ$3091:DJ$4531),0,IF(DH4408>0.03*DB$4532,0,$C4408/60)))","v":0},{"$f":"IF(SUM(DR$3091:DR4407)>0,0,IF(MAX(DJ4408:DJ$4531)=MAX(DJ$3091:DJ$4531),0,IF(DH4408>0.01*DB$4532,0,$C4408/60)))","v":0},0,0,0,0,0,0,0,0,0,{"$error":"#N/A"},{"$error":"#N/A"},{"$error":"#N/A"},{"$error":"#N/A"},{"$error":"#N/A"},{"$error":"#N/A"},{"$f":"IF(SUM(EH$3091:EH4407)>0,0,IF(MAX(EA4408:EA$4531)=MAX(EA$3091:EA$4531),0,IF(DY4408>0.03*DS$4532,0,$C4408/60)))","v":0},{"$f":"IF(SUM(EI$3091:EI4407)>0,0,IF(MAX(EA4408:EA$4531)=MAX(EA$3091:EA$4531),0,IF(DY4408>0.01*DS$4532,0,$C4408/60)))","v":0},0,0,0,0,0,0,0,0,0,{"$error":"#N/A"},{"$error":"#N/A"},{"$error":"#N/A"},{"$error":"#N/A"},{"$error":"#N/A"},{"$error":"#N/A"},{"$f":"IF(SUM(EY$3091:EY4407)>0,0,IF(MAX(ER4408:ER$4531)=MAX(ER$3091:ER$4531),0,IF(EP4408>0.03*EJ$4532,0,$C4408/60)))","v":0},{"$f":"IF(SUM(EZ$3091:EZ4407)>0,0,IF(MAX(ER4408:ER$4531)=MAX(ER$3091:ER$4531),0,IF(EP4408>0.01*EJ$4532,0,$C4408/60)))","v":0}]
[null,110.5,6630,0,0,0,0,0,0,0,0,0,{"$error":"#N/A"},{"$error":"#N/A"},{"$error":"#N/A"},{"$error":"#N/A"},{"$error":"#N/A"},{"$error":"#N/A"},{"$f":"IF(SUM(S$3091:S4416)>0,0,\nIF(MAX(L4417:L$4531)=MAX(L$3091:L$4531),0,\nIF(Hydrograph_Source_WQCV=\"USER\",IF(J4417>0.03*D$4532,0,$C4417/60),\nIF(J4417>0.03*J$4532,0,$C4417/60))))","v":0},{"$f":"IF(SUM(T$3091:T4416)>0,0,\nIF(MAX(L4417:L$4531)=MAX(L$3091:L$4531),0,\nIF(Hydrograph_Source_WQCV=\"USER\",IF(J4417>0.01*D$4532,0,$C4417/60),\nIF(J4417>0.01*J$4532,0,$C4417/60))))","v":0},0,0,0,0,0,0,0,0,0,{"$error":"#N/A"},{"$error":"#N/A"},{"$error":"#N/A"},{"$error":"#N/A"},{"$error":"#N/A"},{"$error":"#N/A"},{"$f":"IF(SUM(AJ$3091:AJ4416)>0,0,\nIF(MAX(AC4417:AC$4531)=MAX(AC$3091:AC$4531),0,\nIF(Hydrograph_Source_EURV=\"USER\",IF(AA4417>0.03*U$4532,0,$C4417/60),\nIF(AA4417>0.03*AA$4532,0,$C4417/60))))","v":0},{"$f":"IF(SUM(AK$3091:AK4416)>0,0,\nIF(MAX(AC4417:AC$4531)=MAX(AC$3091:AC$4531),0,\nIF(Hydrograph_Source_EURV=\"USER\",IF(AA4417>0.01*U$4532,0,$C4417/60),\nIF(AA4417>0.01*AA$4532,0,$C4417/60))))","v":0},0,0,0,0,0,0,0,0,0,{"$error":"#N/A"},{"$error":"#N/A"},{"$error":"#N/A"},{"$error":"#N/A"},{"$error":"#N/A"},{"$error":"#N/A"},{"$f":"IF(SUM(BA$3091:BA4416)>0,0,IF(MAX(AT4417:AT$4531)=MAX(AT$3091:AT$4531),0,IF(AR4417>0.03*AL$4532,0,$C4417/60)))","v":0},{"$f":"IF(SUM(BB$3091:BB4416)>0,0,IF(MAX(AT4417:AT$4531)=MAX(AT$3091:AT$4531),0,IF(AR4417>0.01*AL$4532,0,$C4417/60)))","v":0},0,0,0,0,0,0,0,0,0,{"$error":"#N/A"},{"$error":"#N/A"},{"$error":"#N/A"},{"$error":"#N/A"},{"$error":"#N/A"},{"$error":"#N/A"},{"$f":"IF(SUM(BR$3091:BR4416)>0,0,IF(MAX(BK4417:BK$4531)=MAX(BK$3091:BK$4531),0,IF(BI4417>0.03*BC$4532,0,$C4417/60)))","v":0},{"$f":"IF(SUM(BS$3091:BS4416)>0,0,IF(MAX(BK4417:BK$4531)=MAX(BK$3091:BK$4531),0,IF(BI4417>0.01*BC$4532,0,$C4417/60)))","v":0},0,0,0,0,0,0,0,0,0,{"$error":"#N/A"},{"$error":"#N/A"},{"$error":"#N/A"},{"$error":"#N/A"},{"$error":"#N/A"},{"$error":"#N/A"},{"$f":"IF(SUM(CI$3091:CI4416)>0,0,IF(MAX(CB4417:CB$4531)=MAX(CB$3091:CB$4531),0,IF(BZ4417>0.03*BT$4532,0,$C4417/60)))","v":0},{"$f":"IF(SUM(CJ$3091:CJ4416)>0,0,IF(MAX(CB4417:CB$4531)=MAX(CB$3091:CB$4531),0,IF(BZ4417>0.01*BT$4532,0,$C4417/60)))","v":0},0,0,0,0,0,0,0,0,0,{"$error":"#N/A"},{"$error":"#N/A"},{"$error":"#N/A"},{"$error":"#N/A"},{"$error":"#N/A"},{"$error":"#N/A"},{"$f":"IF(SUM(CZ$3091:CZ4416)>0,0,IF(MAX(CS4417:CS$4531)=MAX(CS$3091:CS$4531),0,IF(CQ4417>0.03*CK$4532,0,$C4417/60)))","v":0},{"$f":"IF(SUM(DA$3091:DA4416)>0,0,IF(MAX(CS4417:CS$4531)=MAX(CS$3091:CS$4531),0,IF(CQ4417>0.01*CK$4532,0,$C4417/60)))","v":0},0,0,0,0,0,0,0,0,0,{"$error":"#N/A"},{"$error":"#N/A"},{"$error":"#N/A"},{"$error":"#N/A"},{"$error":"#N/A"},{"$error":"#N/A"},{"$f":"IF(SUM(DQ$3091:DQ4416)>0,0,IF(MAX(DJ4417:DJ$4531)=MAX(DJ$3091:DJ$4531),0,IF(DH4417>0.03*DB$4532,0,$C4417/60)))","v":0},{"$f":"IF(SUM(DR$3091:DR4416)>0,0,IF(MAX(DJ4417:DJ$4531)=MAX(DJ$3091:DJ$4531),0,IF(DH4417>0.01*DB$4532,0,$C4417/60)))","v":0},0,0,0,0,0,0,0,0,0,{"$error":"#N/A"},{"$error":"#N/A"},{"$error":"#N/A"},{"$error":"#N/A"},{"$error":"#N/A"},{"$error":"#N/A"},{"$f":"IF(SUM(EH$3091:EH4416)>0,0,IF(MAX(EA4417:EA$4531)=MAX(EA$3091:EA$4531),0,IF(DY4417>0.03*DS$4532,0,$C4417/60)))","v":0},{"$f":"IF(SUM(EI$3091:EI4416)>0,0,IF(MAX(EA4417:EA$4531)=MAX(EA$3091:EA$4531),0,IF(DY4417>0.01*DS$4532,0,$C4417/60)))","v":0},0,0,0,0,0,0,0,0,0,{"$error":"#N/A"},{"$error":"#N/A"},{"$error":"#N/A"},{"$error":"#N/A"},{"$error":"#N/A"},{"$error":"#N/A"},{"$f":"IF(SUM(EY$3091:EY4416)>0,0,IF(MAX(ER4417:ER$4531)=MAX(ER$3091:ER$4531),0,IF(EP4417>0.03*EJ$4532,0,$C4417/60)))","v":0},{"$f":"IF(SUM(EZ$3091:EZ4416)>0,0,IF(MAX(ER4417:ER$4531)=MAX(ER$3091:ER$4531),0,IF(EP4417>0.01*EJ$4532,0,$C4417/60)))","v":0}]
[null,111.25,6675,0,0,0,0,0,0,0,0,0,{"$error":"#N/A"},{"$error":"#N/A"},{"$error":"#N/A"},{"$error":"#N/A"},{"$error":"#N/A"},{"$error":"#N/A"},{"$f":"IF(SUM(S$3091:S4425)>0,0,\nIF(MAX(L4426:L$4531)=MAX(L$3091:L$4531),0,\nIF(Hydrograph_Source_WQCV=\"USER\",IF(J4426>0.03*D$4532,0,$C4426/60),\nIF(J4426>0.03*J$4532,0,$C4426/60))))","v":0},{"$f":"IF(SUM(T$3091:T4425)>0,0,\nIF(MAX(L4426:L$4531)=MAX(L$3091:L$4531),0,\nIF(Hydrograph_Source_WQCV=\"USER\",IF(J4426>0.01*D$4532,0,$C4426/60),\nIF(J4426>0.01*J$4532,0,$C4426/60))))","v":0},0,0,0,0,0,0,0,0,0,{"$error":"#N/A"},{"$error":"#N/A"},{"$error":"#N/A"},{"$error":"#N/A"},{"$error":"#N/A"},{"$error":"#N/A"},{"$f":"IF(SUM(AJ$3091:AJ4425)>0,0,\nIF(MAX(AC4426:AC$4531)=MAX(AC$3091:AC$4531),0,\nIF(Hydrograph_Source_EURV=\"USER\",IF(AA4426>0.03*U$4532,0,$C4426/60),\nIF(AA4426>0.03*AA$4532,0,$C4426/60))))","v":0},{"$f":"IF(SUM(AK$3091:AK4425)>0,0,\nIF(MAX(AC4426:AC$4531)=MAX(AC$3091:AC$4531),0,\nIF(Hydrograph_Source_EURV=\"USER\",IF(AA4426>0.01*U$4532,0,$C4426/60),\nIF(AA4426>0.01*AA$4532,0,$C4426/60))))","v":0},0,0,0,0,0,0,0,0,0,{"$error":"#N/A"},{"$error":"#N/A"},{"$error":"#N/A"},{"$error":"#N/A"},{"$error":"#N/A"},{"$error":"#N/A"},{"$f":"IF(SUM(BA$3091:BA4425)>0,0,IF(MAX(AT4426:AT$4531)=MAX(AT$3091:AT$4531),0,IF(AR4426>0.03*AL$4532,0,$C4426/60)))","v":0},{"$f":"IF(SUM(BB$3091:BB4425)>0,0,IF(MAX(AT4426:AT$4531)=MAX(AT$3091:AT$4531),0,IF(AR4426>0.01*AL$4532,0,$C4426/60)))","v":0},0,0,0,0,0,0,0,0,0,{"$error":"#N/A"},{"$error":"#N/A"},{"$error":"#N/A"},{"$error":"#N/A"},{"$error":"#N/A"},{"$error":"#N/A"},{"$f":"IF(SUM(BR$3091:BR4425)>0,0,IF(MAX(BK4426:BK$4531)=MAX(BK$3091:BK$4531),0,IF(BI4426>0.03*BC$4532,0,$C4426/60)))","v":0},{"$f":"IF(SUM(BS$3091:BS4425)>0,0,IF(MAX(BK4426:BK$4531)=MAX(BK$3091:BK$4531),0,IF(BI4426>0.01*BC$4532,0,$C4426/60)))","v":0},0,0,0,0,0,0,0,0,0,{"$error":"#N/A"},{"$error":"#N/A"},{"$error":"#N/A"},{"$error":"#N/A"},{"$error":"#N/A"},{"$error":"#N/A"},{"$f":"IF(SUM(CI$3091:CI4425)>0,0,IF(MAX(CB4426:CB$4531)=MAX(CB$3091:CB$4531),0,IF(BZ4426>0.03*BT$4532,0,$C4426/60)))","v":0},{"$f":"IF(SUM(CJ$3091:CJ4425)>0,0,IF(MAX(CB4426:CB$4531)=MAX(CB$3091:CB$4531),0,IF(BZ4426>0.01*BT$4532,0,$C4426/60)))","v":0},0,0,0,0,0,0,0,0,0,{"$error":"#N/A"},{"$error":"#N/A"},{"$error":"#N/A"},{"$error":"#N/A"},{"$error":"#N/A"},{"$error":"#N/A"},{"$f":"IF(SUM(CZ$3091:CZ4425)>0,0,IF(MAX(CS4426:CS$4531)=MAX(CS$3091:CS$4531),0,IF(CQ4426>0.03*CK$4532,0,$C4426/60)))","v":0},{"$f":"IF(SUM(DA$3091:DA4425)>0,0,IF(MAX(CS4426:CS$4531)=MAX(CS$3091:CS$4531),0,IF(CQ4426>0.01*CK$4532,0,$C4426/60)))","v":0},0,0,0,0,0,0,0,0,0,{"$error":"#N/A"},{"$error":"#N/A"},{"$error":"#N/A"},{"$error":"#N/A"},{"$error":"#N/A"},{"$error":"#N/A"},{"$f":"IF(SUM(DQ$3091:DQ4425)>0,0,IF(MAX(DJ4426:DJ$4531)=MAX(DJ$3091:DJ$4531),0,IF(DH4426>0.03*DB$4532,0,$C4426/60)))","v":0},{"$f":"IF(SUM(DR$3091:DR4425)>0,0,IF(MAX(DJ4426:DJ$4531)=MAX(DJ$3091:DJ$4531),0,IF(DH4426>0.01*DB$4532,0,$C4426/60)))","v":0},0,0,0,0,0,0,0,0,0,{"$error":"#N/A"},{"$error":"#N/A"},{"$error":"#N/A"},{"$error":"#N/A"},{"$error":"#N/A"},{"$error":"#N/A"},{"$f":"IF(SUM(EH$3091:EH4425)>0,0,IF(MAX(EA4426:EA$4531)=MAX(EA$3091:EA$4531),0,IF(DY4426>0.03*DS$4532,0,$C4426/60)))","v":0},{"$f":"IF(SUM(EI$3091:EI4425)>0,0,IF(MAX(EA4426:EA$4531)=MAX(EA$3091:EA$4531),0,IF(DY4426>0.01*DS$4532,0,$C4426/60)))","v":0},0,0,0,0,0,0,0,0,0,{"$error":"#N/A"},{"$error":"#N/A"},{"$error":"#N/A"},{"$error":"#N/A"},{"$error":"#N/A"},{"$error":"#N/A"},{"$f":"IF(SUM(EY$3091:EY4425)>0,0,IF(MAX(ER4426:ER$4531)=MAX(ER$3091:ER$4531),0,IF(EP4426>0.03*EJ$4532,0,$C4426/60)))","v":0},{"$f":"IF(SUM(EZ$3091:EZ4425)>0,0,IF(MAX(ER4426:ER$4531)=MAX(ER$3091:ER$4531),0,IF(EP4426>0.01*EJ$4532,0,$C4426/60)))","v":0}]
[null,{"$f":"C4435/60","v":112},6720,0,{"$f":"D4436","v":0},0,{"$f":"IF(D4435=\"\",0,IF($F$87=\"\",0,(M4435*K4435+O4435-M4435*P4435)))","v":0},0,{"$f":"IF($D$3091=\"\",0,(K4435-$C$3089*60*G4435)/2)","v":0},{"$f":"I4435/43560","v":0},{"$f":"IF((D4435+E4435-F4435)*$C$3089*60+2*H4435<0,0,(D4435+E4435-F4435)*$C$3089*60+2*H4435)","v":0},0,{"$f":"IF(INDEX($Z$88:$Z$3087,N4435,1)=\"\",0,INDEX($Z$88:$Z$3087,N4435,1))","v":{"$error":"#N/A"}},{"$error":"#N/A"},{"$error":"#N/A"},{"$error":"#N/A"},{"$f":"INDEX(H_stage1,N4435,1)","v":{"$error":"#N/A"}},{"$f":"IF(INDEX($AA$88:$AA$3087,N4435,1)=\"\",0,INDEX($AA$88:$AA$3087,N4435,1))","v":{"$error":"#N/A"}},{"$f":"IF(SUM(S$3091:S4434)>0,0,\nIF(MAX(L4435:L$4531)=MAX(L$3091:L$4531),0,\nIF(Hydrograph_Source_WQCV=\"USER\",IF(J4435>0.03*D$4532,0,$C4435/60),\nIF(J4435>0.03*J$4532,0,$C4435/60))))","v":0},{"$f":"IF(SUM(T$3091:T4434)>0,0,\nIF(MAX(L4435:L$4531)=MAX(L$3091:L$4531),0,\nIF(Hydrograph_Source_WQCV=\"USER\",IF(J4435>0.01*D$4532,0,$C4435/60),\nIF(J4435>0.01*J$4532,0,$C4435/60))))","v":0},0,{"$f":"U4436","v":0},0,{"$f":"IF(U4435=\"\",0,IF($F$87=\"\",0,(AD4435*AB4435+AF4435-AD4435*AG4435)))","v":0},0,{"$f":"IF($U$3091=\"\",0,(AB4435-$C$3089*60*X4435)/2)","v":0},{"$f":"Z4435/43560","v":0},{"$f":"IF((U4435+V4435-W4435)*$C$3089*60+2*Y4435<0,0,(U4435+V4435-W4435)*$C$3089*60+2*Y4435)","v":0},0,{"$f":"IF(INDEX($Z$88:$Z$3087,AE4435,1)=\"\",0,INDEX($Z$88:$Z$3087,AE4435,1))","v":{"$error":"#N/A"}},{"$error":"#N/A"},{"$error":"#N/A"},{"$error":"#N/A"},{"$f":"INDEX(H_stage1,AE4435,1)","v":{"$error":"#N/A"}},{"$f":"IF(INDEX($AA$88:$AA$3087,AE4435,1)=\"\",0,INDEX($AA$88:$AA$3087,AE4435,1))","v":{"$error":"#N/A"}},{"$f":"IF(SUM(AJ$3091:AJ4434)>0,0,\nIF(MAX(AC4435:AC$4531)=MAX(AC$3091:AC$4531),0,\nIF(Hydrograph_Source_EURV=\"USER\",IF(AA4435>0.03*U$4532,0,$C4435/60),\nIF(AA4435>0.03*AA$4532,0,$C4435/60))))","v":0},{"$f":"IF(SUM(AK$3091:AK4434)>0,0,\nIF(MAX(AC4435:AC$4531)=MAX(AC$3091:AC$4531),0,\nIF(Hydrograph_Source_EURV=\"USER\",IF(AA4435>0.01*U$4532,0,$C4435/60),\nIF(AA4435>0.01*AA$4532,0,$C4435/60))))","v":0},0,{"$f":"AL4436","v":0},0,{"$f":"IF(AL4435=\"\",0,IF($F$87=\"\",0,(AU4435*AS4435+AW4435-AU4435*AX4435)))","v":0},0,{"$f":"IF($AL$3091=\"\",0,(AS4435-$C$3089*60*AO4435)/2)","v":0},{"$f":"AQ4435/43560","v":0},{"$f":"IF((AL4435+AM4435-AN4435)*$C$3089*60+2*AP4435<0,0,(AL4435+AM4435-AN4435)*$C$3089*60+2*AP4435)","v":0},0,{"$f":"IF(INDEX($Z$88:$Z$3087,AV4435,1)=\"\",0,INDEX($Z$88:$Z$3087,AV4435,1))","v":{"$error":"#N/A"}},{"$error":"#N/A"},{"$error":"#N/A"},{"$error":"#N/A"},{"$f":"INDEX(H_stage1,AV4435,1)","v":{"$error":"#N/A"}},{"$f":"IF(INDEX($AA$88:$AA$3087,AV4435,1)=\"\",0,INDEX($AA$88:$AA$3087,AV4435,1))","v":{"$error":"#N/A"}},{"$f":"IF(SUM(BA$3091:BA4434)>0,0,IF(MAX(AT4435:AT$4531)=MAX(AT$3091:AT$4531),0,IF(AR4435>0.03*AL$4532,0,$C4435/60)))","v":0},{"$f":"IF(SUM(BB$3091:BB4434)>0,0,IF(MAX(AT4435:AT$4531)=MAX(AT$3091:AT$4531),0,IF(AR4435>0.01*AL$4532,0,$C4435/60)))","v":0},0,{"$f":"BC4436","v":0},0,{"$f":"IF(BC4435=\"\",0,IF($F$87=\"\",0,(BL4435*BJ4435+BN4435-BL4435*BO4435)))","v":0},0,{"$f":"IF($BC$3091=\"\",0,(BJ4435-$C$3089*60*BF4435)/2)","v":0},{"$f":"BH4435/43560","v":0},{"$f":"IF((BC4435+BD4435-BE4435)*$C$3089*60+2*BG4435<0,0,(BC4435+BD4435-BE4435)*$C$3089*60+2*BG4435)","v":0},0,{"$f":"IF(INDEX($Z$88:$Z$3087,BM4435,1)=\"\",0,INDEX($Z$88:$Z$3087,BM4435,1))","v":{"$error":"#N/A"}},{"$error":"#N/A"},{"$error":"#N/A"},{"$error":"#N/A"},{"$f":"INDEX(H_stage1,BM4435,1)","v":{"$error":"#N/A"}},{"$f":"IF(INDEX($AA$88:$AA$3087,BM4435,1)=\"\",0,INDEX($AA$88:$AA$3087,BM4435,1))","v":{"$error":"#N/A"}},{"$f":"IF(SUM(BR$3091:BR4434)>0,0,IF(MAX(BK4435:BK$4531)=MAX(BK$3091:BK$4531),0,IF(BI4435>0.03*BC$4532,0,$C4435/60)))","v":0},{"$f":"IF(SUM(BS$3091:BS4434)>0,0,IF(MAX(BK4435:BK$4531)=MAX(BK$3091:BK$4531),0,IF(BI4435>0.01*BC$4532,0,$C4435/60)))","v":0},0,{"$f":"BT4436","v":0},0,{"$f":"IF(BT4435=\"\",0,IF($F$87=\"\",0,(CC4435*CA4435+CE4435-CC4435*CF4435)))","v":0},0,{"$f":"IF($BT$3091=\"\",0,(CA4435-$C$3089*60*BW4435)/2)","v":0},{"$f":"BY4435/43560","v":0},{"$f":"IF((BT4435+BU4435-BV4435)*$C$3089*60+2*BX4435<0,0,(BT4435+BU4435-BV4435)*$C$3089*60+2*BX4435)","v":0},0,{"$f":"IF(INDEX($Z$88:$Z$3087,CD4435,1)=\"\",0,INDEX($Z$88:$Z$3087,CD4435,1))","v":{"$error":"#N/A"}},{"$error":"#N/A"},{"$error":"#N/A"},{"$error":"#N/A"},{"$f":"INDEX(H_stage1,CD4435,1)","v":{"$error":"#N/A"}},{"$f":"IF(INDEX($AA$88:$AA$3087,CD4435,1)=\"\",0,INDEX($AA$88:$AA$3087,CD4435,1))","v":{"$error":"#N/A"}},{"$f":"IF(SUM(CI$3091:CI4434)>0,0,IF(MAX(CB4435:CB$4531)=MAX(CB$3091:CB$4531),0,IF(BZ4435>0.03*BT$4532,0,$C4435/60)))","v":0},{"$f":"IF(SUM(CJ$3091:CJ4434)>0,0,IF(MAX(CB4435:CB$4531)=MAX(CB$3091:CB$4531),0,IF(BZ4435>0.01*BT$4532,0,$C4435/60)))","v":0},0,{"$f":"CK4436","v":0},0,{"$f":"IF(CK4435=\"\",0,IF($F$87=\"\",0,(CT4435*CR4435+CV4435-CT4435*CW4435)))","v":0},0,{"$f":"IF($CK$3091=\"\",0,(CR4435-$C$3089*60*CN4435)/2)","v":0},{"$f":"CP4435/43560","v":0},{"$f":"IF((CK4435+CL4435-CM4435)*$C$3089*60+2*CO4435<0,0,(CK4435+CL4435-CM4435)*$C$3089*60+2*CO4435)","v":0},0,{"$f":"IF(INDEX($Z$88:$Z$3087,CU4435,1)=\"\",0,INDEX($Z$88:$Z$3087,CU4435,1))","v":{"$error":"#N/A"}},{"$error":"#N/A"},{"$error":"#N/A"},{"$error":"#N/A"},{"$f":"INDEX(H_stage1,CU4435,1)","v":{"$error":"#N/A"}},{"$f":"IF(INDEX($AA$88:$AA$3087,CU4435,1)=\"\",0,INDEX($AA$88:$AA$3087,CU4435,1))","v":{"$error":"#N/A"}},{"$f":"IF(SUM(CZ$3091:CZ4434)>0,0,IF(MAX(CS4435:CS$4531)=MAX(CS$3091:CS$4531),0,IF(CQ4435>0.03*CK$4532,0,$C4435/60)))","v":0},{"$f":"IF(SUM(DA$3091:DA4434)>0,0,IF(MAX(CS4435:CS$4531)=MAX(CS$3091:CS$4531),0,IF(CQ4435>0.01*CK$4532,0,$C4435/60)))","v":0},0,{"$f":"DB4436","v":0},0,{"$f":"IF(DB4435=\"\",0,IF($F$87=\"\",0,(DK4435*DI4435+DM4435-DK4435*DN4435)))","v":0},0,{"$f":"IF($DB$3091=\"\",0,(DI4435-$C$3089*60*DE4435)/2)","v":0},{"$f":"DG4435/43560","v":0},{"$f":"IF((DB4435+DC4435-DD4435)*$C$3089*60+2*DF4435<0,0,(DB4435+DC4435-DD4435)*$C$3089*60+2*DF4435)","v":0},0,{"$f":"IF(INDEX($Z$88:$Z$3087,DL4435,1)=\"\",0,INDEX($Z$88:$Z$3087,DL4435,1))","v":{"$error":"#N/A"}},{"$error":"#N/A"},{"$error":"#N/A"},{"$error":"#N/A"},{"$f":"INDEX(H_stage1,DL4435,1)","v":{"$error":"#N/A"}},{"$f":"IF(INDEX($AA$88:$AA$3087,DL4435,1)=\"\",0,INDEX($AA$88:$AA$3087,DL4435,1))","v":{"$error":"#N/A"}},{"$f":"IF(SUM(DQ$3091:DQ4434)>0,0,IF(MAX(DJ4435:DJ$4531)=MAX(DJ$3091:DJ$4531),0,IF(DH4435>0.03*DB$4532,0,$C4435/60)))","v":0},{"$f":"IF(SUM(DR$3091:DR4434)>0,0,IF(MAX(DJ4435:DJ$4531)=MAX(DJ$3091:DJ$4531),0,IF(DH4435>0.01*DB$4532,0,$C4435/60)))","v":0},0,{"$f":"DS4436","v":0},0,{"$f":"IF(DS4435=\"\",0,IF($F$87=\"\",0,(EB4435*DZ4435+ED4435-EB4435*EE4435)))","v":0},0,{"$f":"IF($DS$3091=\"\",0,(DZ4435-$C$3089*60*DV4435)/2)","v":0},{"$f":"DX4435/43560","v":0},{"$f":"IF((DS4435+DT4435-DU4435)*$C$3089*60+2*DW4435<0,0,(DS4435+DT4435-DU4435)*$C$3089*60+2*DW4435)","v":0},0,{"$f":"IF(INDEX($Z$88:$Z$3087,EC4435,1)=\"\",0,INDEX($Z$88:$Z$3087,EC4435,1))","v":{"$error":"#N/A"}},{"$error":"#N/A"},{"$error":"#N/A"},{"$error":"#N/A"},{"$f":"INDEX(H_stage1,EC4435,1)","v":{"$error":"#N/A"}},{"$f":"IF(INDEX($AA$88:$AA$3087,EC4435,1)=\"\",0,INDEX($AA$88:$AA$3087,EC4435,1))","v":{"$error":"#N/A"}},{"$f":"IF(SUM(EH$3091:EH4434)>0,0,IF(MAX(EA4435:EA$4531)=MAX(EA$3091:EA$4531),0,IF(DY4435>0.03*DS$4532,0,$C4435/60)))","v":0},{"$f":"IF(SUM(EI$3091:EI4434)>0,0,IF(MAX(EA4435:EA$4531)=MAX(EA$3091:EA$4531),0,IF(DY4435>0.01*DS$4532,0,$C4435/60)))","v":0},0,{"$f":"EJ4436","v":0},0,{"$f":"IF(EJ4435=\"\",0,IF($F$87=\"\",0,(ES4435*EQ4435+EU4435-ES4435*EV4435)))","v":0},0,{"$f":"IF($EJ$3091=\"\",0,(EQ4435-$C$3089*60*EM4435)/2)","v":0},{"$f":"EO4435/43560","v":0},{"$f":"IF((EJ4435+EK4435-EL4435)*$C$3089*60+2*EN4435<0,0,(EJ4435+EK4435-EL4435)*$C$3089*60+2*EN4435)","v":0},0,{"$f":"IF(INDEX($Z$88:$Z$3087,ET4435,1)=\"\",0,INDEX($Z$88:$Z$3087,ET4435,1))","v":{"$error":"#N/A"}},{"$error":"#N/A"},{"$error":"#N/A"},{"$error":"#N/A"},{"$f":"INDEX(H_stage1,ET4435,1)","v":{"$error":"#N/A"}},{"$f":"IF(INDEX($AA$88:$AA$3087,ET4435,1)=\"\",0,INDEX($AA$88:$AA$3087,ET4435,1))","v":{"$error":"#N/A"}},{"$f":"IF(SUM(EY$3091:EY4434)>0,0,IF(MAX(ER4435:ER$4531)=MAX(ER$3091:ER$4531),0,IF(EP4435>0.03*EJ$4532,0,$C4435/60)))","v":0},{"$f":"IF(SUM(EZ$3091:EZ4434)>0,0,IF(MAX(ER4435:ER$4531)=MAX(ER$3091:ER$4531),0,IF(EP4435>0.01*EJ$4532,0,$C4435/60)))","v":0}]
[null,112.75,6765,0,0,0,0,0,0,0,0,0,{"$error":"#N/A"},{"$error":"#N/A"},{"$error":"#N/A"},{"$error":"#N/A"},{"$error":"#N/A"},{"$error":"#N/A"},{"$f":"IF(SUM(S$3091:S4443)>0,0,\nIF(MAX(L4444:L$4531)=MAX(L$3091:L$4531),0,\nIF(Hydrograph_Source_WQCV=\"USER\",IF(J4444>0.03*D$4532,0,$C4444/60),\nIF(J4444>0.03*J$4532,0,$C4444/60))))","v":0},{"$f":"IF(SUM(T$3091:T4443)>0,0,\nIF(MAX(L4444:L$4531)=MAX(L$3091:L$4531),0,\nIF(Hydrograph_Source_WQCV=\"USER\",IF(J4444>0.01*D$4532,0,$C4444/60),\nIF(J4444>0.01*J$4532,0,$C4444/60))))","v":0},0,0,0,0,0,0,0,0,0,{"$error":"#N/A"},{"$error":"#N/A"},{"$error":"#N/A"},{"$error":"#N/A"},{"$error":"#N/A"},{"$error":"#N/A"},{"$f":"IF(SUM(AJ$3091:AJ4443)>0,0,\nIF(MAX(AC4444:AC$4531)=MAX(AC$3091:AC$4531),0,\nIF(Hydrograph_Source_EURV=\"USER\",IF(AA4444>0.03*U$4532,0,$C4444/60),\nIF(AA4444>0.03*AA$4532,0,$C4444/60))))","v":0},{"$f":"IF(SUM(AK$3091:AK4443)>0,0,\nIF(MAX(AC4444:AC$4531)=MAX(AC$3091:AC$4531),0,\nIF(Hydrograph_Source_EURV=\"USER\",IF(AA4444>0.01*U$4532,0,$C4444/60),\nIF(AA4444>0.01*AA$4532,0,$C4444/60))))","v":0},0,0,0,0,0,0,0,0,0,{"$error":"#N/A"},{"$error":"#N/A"},{"$error":"#N/A"},{"$error":"#N/A"},{"$error":"#N/A"},{"$error":"#N/A"},{"$f":"IF(SUM(BA$3091:BA4443)>0,0,IF(MAX(AT4444:AT$4531)=MAX(AT$3091:AT$4531),0,IF(AR4444>0.03*AL$4532,0,$C4444/60)))","v":0},{"$f":"IF(SUM(BB$3091:BB4443)>0,0,IF(MAX(AT4444:AT$4531)=MAX(AT$3091:AT$4531),0,IF(AR4444>0.01*AL$4532,0,$C4444/60)))","v":0},0,0,0,0,0,0,0,0,0,{"$error":"#N/A"},{"$error":"#N/A"},{"$error":"#N/A"},{"$error":"#N/A"},{"$error":"#N/A"},{"$error":"#N/A"},{"$f":"IF(SUM(BR$3091:BR4443)>0,0,IF(MAX(BK4444:BK$4531)=MAX(BK$3091:BK$4531),0,IF(BI4444>0.03*BC$4532,0,$C4444/60)))","v":0},{"$f":"IF(SUM(BS$3091:BS4443)>0,0,IF(MAX(BK4444:BK$4531)=MAX(BK$3091:BK$4531),0,IF(BI4444>0.01*BC$4532,0,$C4444/60)))","v":0},0,0,0,0,0,0,0,0,0,{"$error":"#N/A"},{"$error":"#N/A"},{"$error":"#N/A"},{"$error":"#N/A"},{"$error":"#N/A"},{"$error":"#N/A"},{"$f":"IF(SUM(CI$3091:CI4443)>0,0,IF(MAX(CB4444:CB$4531)=MAX(CB$3091:CB$4531),0,IF(BZ4444>0.03*BT$4532,0,$C4444/60)))","v":0},{"$f":"IF(SUM(CJ$3091:CJ4443)>0,0,IF(MAX(CB4444:CB$4531)=MAX(CB$3091:CB$4531),0,IF(BZ4444>0.01*BT$4532,0,$C4444/60)))","v":0},0,0,0,0,0,0,0,0,0,{"$error":"#N/A"},{"$error":"#N/A"},{"$error":"#N/A"},{"$error":"#N/A"},{"$error":"#N/A"},{"$error":"#N/A"},{"$f":"IF(SUM(CZ$3091:CZ4443)>0,0,IF(MAX(CS4444:CS$4531)=MAX(CS$3091:CS$4531),0,IF(CQ4444>0.03*CK$4532,0,$C4444/60)))","v":0},{"$f":"IF(SUM(DA$3091:DA4443)>0,0,IF(MAX(CS4444:CS$4531)=MAX(CS$3091:CS$4531),0,IF(CQ4444>0.01*CK$4532,0,$C4444/60)))","v":0},0,0,0,0,0,0,0,0,0,{"$error":"#N/A"},{"$error":"#N/A"},{"$error":"#N/A"},{"$error":"#N/A"},{"$error":"#N/A"},{"$error":"#N/A"},{"$f":"IF(SUM(DQ$3091:DQ4443)>0,0,IF(MAX(DJ4444:DJ$4531)=MAX(DJ$3091:DJ$4531),0,IF(DH4444>0.03*DB$4532,0,$C4444/60)))","v":0},{"$f":"IF(SUM(DR$3091:DR4443)>0,0,IF(MAX(DJ4444:DJ$4531)=MAX(DJ$3091:DJ$4531),0,IF(DH4444>0.01*DB$4532,0,$C4444/60)))","v":0},0,0,0,0,0,0,0,0,0,{"$error":"#N/A"},{"$error":"#N/A"},{"$error":"#N/A"},{"$error":"#N/A"},{"$error":"#N/A"},{"$error":"#N/A"},{"$f":"IF(SUM(EH$3091:EH4443)>0,0,IF(MAX(EA4444:EA$4531)=MAX(EA$3091:EA$4531),0,IF(DY4444>0.03*DS$4532,0,$C4444/60)))","v":0},{"$f":"IF(SUM(EI$3091:EI4443)>0,0,IF(MAX(EA4444:EA$4531)=MAX(EA$3091:EA$4531),0,IF(DY4444>0.01*DS$4532,0,$C4444/60)))","v":0},0,0,0,0,0,0,0,0,0,{"$error":"#N/A"},{"$error":"#N/A"},{"$error":"#N/A"},{"$error":"#N/A"},{"$error":"#N/A"},{"$error":"#N/A"},{"$f":"IF(SUM(EY$3091:EY4443)>0,0,IF(MAX(ER4444:ER$4531)=MAX(ER$3091:ER$4531),0,IF(EP4444>0.03*EJ$4532,0,$C4444/60)))","v":0},{"$f":"IF(SUM(EZ$3091:EZ4443)>0,0,IF(MAX(ER4444:ER$4531)=MAX(ER$3091:ER$4531),0,IF(EP4444>0.01*EJ$4532,0,$C4444/60)))","v":0}]
[null,112.83333333333333,6770,0,0,0,0,0,0,0,0,0,{"$error":"#N/A"},{"$error":"#N/A"},{"$error":"#N/A"},{"$error":"#N/A"},{"$error":"#N/A"},{"$error":"#N/A"},{"$f":"IF(SUM(S$3091:S4444)>0,0,\nIF(MAX(L4445:L$4531)=MAX(L$3091:L$4531),0,\nIF(Hydrograph_Source_WQCV=\"USER\",IF(J4445>0.03*D$4532,0,$C4445/60),\nIF(J4445>0.03*J$4532,0,$C4445/60))))","v":0},{"$f":"IF(SUM(T$3091:T4444)>0,0,\nIF(MAX(L4445:L$4531)=MAX(L$3091:L$4531),0,\nIF(Hydrograph_Source_WQCV=\"USER\",IF(J4445>0.01*D$4532,0,$C4445/60),\nIF(J4445>0.01*J$4532,0,$C4445/60))))","v":0},0,0,0,0,0,0,0,0,0,{"$error":"#N/A"},{"$error":"#N/A"},{"$error":"#N/A"},{"$error":"#N/A"},{"$error":"#N/A"},{"$error":"#N/A"},{"$f":"IF(SUM(AJ$3091:AJ4444)>0,0,\nIF(MAX(AC4445:AC$4531)=MAX(AC$3091:AC$4531),0,\nIF(Hydrograph_Source_EURV=\"USER\",IF(AA4445>0.03*U$4532,0,$C4445/60),\nIF(AA4445>0.03*AA$4532,0,$C4445/60))))","v":0},{"$f":"IF(SUM(AK$3091:AK4444)>0,0,\nIF(MAX(AC4445:AC$4531)=MAX(AC$3091:AC$4531),0,\nIF(Hydrograph_Source_EURV=\"USER\",IF(AA4445>0.01*U$4532,0,$C4445/60),\nIF(AA4445>0.01*AA$4532,0,$C4445/60))))","v":0},0,0,0,0,0,0,0,0,0,{"$error":"#N/A"},{"$error":"#N/A"},{"$error":"#N/A"},{"$error":"#N/A"},{"$error":"#N/A"},{"$error":"#N/A"},{"$f":"IF(SUM(BA$3091:BA4444)>0,0,IF(MAX(AT4445:AT$4531)=MAX(AT$3091:AT$4531),0,IF(AR4445>0.03*AL$4532,0,$C4445/60)))","v":0},{"$f":"IF(SUM(BB$3091:BB4444)>0,0,IF(MAX(AT4445:AT$4531)=MAX(AT$3091:AT$4531),0,IF(AR4445>0.01*AL$4532,0,$C4445/60)))","v":0},0,0,0,0,0,0,0,0,0,{"$error":"#N/A"},{"$error":"#N/A"},{"$error":"#N/A"},{"$error":"#N/A"},{"$error":"#N/A"},{"$error":"#N/A"},{"$f":"IF(SUM(BR$3091:BR4444)>0,0,IF(MAX(BK4445:BK$4531)=MAX(BK$3091:BK$4531),0,IF(BI4445>0.03*BC$4532,0,$C4445/60)))","v":0},{"$f":"IF(SUM(BS$3091:BS4444)>0,0,IF(MAX(BK4445:BK$4531)=MAX(BK$3091:BK$4531),0,IF(BI4445>0.01*BC$4532,0,$C4445/60)))","v":0},0,0,0,0,0,0,0,0,0,{"$error":"#N/A"},{"$error":"#N/A"},{"$error":"#N/A"},{"$error":"#N/A"},{"$error":"#N/A"},{"$error":"#N/A"},{"$f":"IF(SUM(CI$3091:CI4444)>0,0,IF(MAX(CB4445:CB$4531)=MAX(CB$3091:CB$4531),0,IF(BZ4445>0.03*BT$4532,0,$C4445/60)))","v":0},{"$f":"IF(SUM(CJ$3091:CJ4444)>0,0,IF(MAX(CB4445:CB$4531)=MAX(CB$3091:CB$4531),0,IF(BZ4445>0.01*BT$4532,0,$C4445/60)))","v":0},0,0,0,0,0,0,0,0,0,{"$error":"#N/A"},{"$error":"#N/A"},{"$error":"#N/A"},{"$error":"#N/A"},{"$error":"#N/A"},{"$error":"#N/A"},{"$f":"IF(SUM(CZ$3091:CZ4444)>0,0,IF(MAX(CS4445:CS$4531)=MAX(CS$3091:CS$4531),0,IF(CQ4445>0.03*CK$4532,0,$C4445/60)))","v":0},{"$f":"IF(SUM(DA$3091:DA4444)>0,0,IF(MAX(CS4445:CS$4531)=MAX(CS$3091:CS$4531),0,IF(CQ4445>0.01*CK$4532,0,$C4445/60)))","v":0},0,0,0,0,0,0,0,0,0,{"$error":"#N/A"},{"$error":"#N/A"},{"$error":"#N/A"},{"$error":"#N/A"},{"$error":"#N/A"},{"$error":"#N/A"},{"$f":"IF(SUM(DQ$3091:DQ4444)>0,0,IF(MAX(DJ4445:DJ$4531)=MAX(DJ$3091:DJ$4531),0,IF(DH4445>0.03*DB$4532,0,$C4445/60)))","v":0},{"$f":"IF(SUM(DR$3091:DR4444)>0,0,IF(MAX(DJ4445:DJ$4531)=MAX(DJ$3091:DJ$4531),0,IF(DH4445>0.01*DB$4532,0,$C4445/60)))","v":0},0,0,0,0,0,0,0,0,0,{"$error":"#N/A"},{"$error":"#N/A"},{"$error":"#N/A"},{"$error":"#N/A"},{"$error":"#N/A"},{"$error":"#N/A"},{"$f":"IF(SUM(EH$3091:EH4444)>0,0,IF(MAX(EA4445:EA$4531)=MAX(EA$3091:EA$4531),0,IF(DY4445>0.03*DS$4532,0,$C4445/60)))","v":0},{"$f":"IF(SUM(EI$3091:EI4444)>0,0,IF(MAX(EA4445:EA$4531)=MAX(EA$3091:EA$4531),0,IF(DY4445>0.01*DS$4532,0,$C4445/60)))","v":0},0,0,0,0,0,0,0,0,0,{"$error":"#N/A"},{"$error":"#N/A"},{"$error":"#N/A"},{"$error":"#N/A"},{"$error":"#N/A"},{"$error":"#N/A"},{"$f":"IF(SUM(EY$3091:EY4444)>0,0,IF(MAX(ER4445:ER$4531)=MAX(ER$3091:ER$4531),0,IF(EP4445>0.03*EJ$4532,0,$C4445/60)))","v":0},{"$f":"IF(SUM(EZ$3091:EZ4444)>0,0,IF(MAX(ER4445:ER$4531)=MAX(ER$3091:ER$4531),0,IF(EP4445>0.01*EJ$4532,0,$C4445/60)))","v":0}]
[null,113.58333333333333,6815,0,0,0,0,0,0,0,0,0,{"$error":"#N/A"},{"$error":"#N/A"},{"$error":"#N/A"},{"$error":"#N/A"},{"$error":"#N/A"},{"$error":"#N/A"},{"$f":"IF(SUM(S$3091:S4453)>0,0,\nIF(MAX(L4454:L$4531)=MAX(L$3091:L$4531),0,\nIF(Hydrograph_Source_WQCV=\"USER\",IF(J4454>0.03*D$4532,0,$C4454/60),\nIF(J4454>0.03*J$4532,0,$C4454/60))))","v":0},{"$f":"IF(SUM(T$3091:T4453)>0,0,\nIF(MAX(L4454:L$4531)=MAX(L$3091:L$4531),0,\nIF(Hydrograph_Source_WQCV=\"USER\",IF(J4454>0.01*D$4532,0,$C4454/60),\nIF(J4454>0.01*J$4532,0,$C4454/60))))","v":0},0,0,0,0,0,0,0,0,0,{"$error":"#N/A"},{"$error":"#N/A"},{"$error":"#N/A"},{"$error":"#N/A"},{"$error":"#N/A"},{"$error":"#N/A"},{"$f":"IF(SUM(AJ$3091:AJ4453)>0,0,\nIF(MAX(AC4454:AC$4531)=MAX(AC$3091:AC$4531),0,\nIF(Hydrograph_Source_EURV=\"USER\",IF(AA4454>0.03*U$4532,0,$C4454/60),\nIF(AA4454>0.03*AA$4532,0,$C4454/60))))","v":0},{"$f":"IF(SUM(AK$3091:AK4453)>0,0,\nIF(MAX(AC4454:AC$4531)=MAX(AC$3091:AC$4531),0,\nIF(Hydrograph_Source_EURV=\"USER\",IF(AA4454>0.01*U$4532,0,$C4454/60),\nIF(AA4454>0.01*AA$4532,0,$C4454/60))))","v":0},0,0,0,0,0,0,0,0,0,{"$error":"#N/A"},{"$error":"#N/A"},{"$error":"#N/A"},{"$error":"#N/A"},{"$error":"#N/A"},{"$error":"#N/A"},{"$f":"IF(SUM(BA$3091:BA4453)>0,0,IF(MAX(AT4454:AT$4531)=MAX(AT$3091:AT$4531),0,IF(AR4454>0.03*AL$4532,0,$C4454/60)))","v":0},{"$f":"IF(SUM(BB$3091:BB4453)>0,0,IF(MAX(AT4454:AT$4531)=MAX(AT$3091:AT$4531),0,IF(AR4454>0.01*AL$4532,0,$C4454/60)))","v":0},0,0,0,0,0,0,0,0,0,{"$error":"#N/A"},{"$error":"#N/A"},{"$error":"#N/A"},{"$error":"#N/A"},{"$error":"#N/A"},{"$error":"#N/A"},{"$f":"IF(SUM(BR$3091:BR4453)>0,0,IF(MAX(BK4454:BK$4531)=MAX(BK$3091:BK$4531),0,IF(BI4454>0.03*BC$4532,0,$C4454/60)))","v":0},{"$f":"IF(SUM(BS$3091:BS4453)>0,0,IF(MAX(BK4454:BK$4531)=MAX(BK$3091:BK$4531),0,IF(BI4454>0.01*BC$4532,0,$C4454/60)))","v":0},0,0,0,0,0,0,0,0,0,{"$error":"#N/A"},{"$error":"#N/A"},{"$error":"#N/A"},{"$error":"#N/A"},{"$error":"#N/A"},{"$error":"#N/A"},{"$f":"IF(SUM(CI$3091:CI4453)>0,0,IF(MAX(CB4454:CB$4531)=MAX(CB$3091:CB$4531),0,IF(BZ4454>0.03*BT$4532,0,$C4454/60)))","v":0},{"$f":"IF(SUM(CJ$3091:CJ4453)>0,0,IF(MAX(CB4454:CB$4531)=MAX(CB$3091:CB$4531),0,IF(BZ4454>0.01*BT$4532,0,$C4454/60)))","v":0},0,0,0,0,0,0,0,0,0,{"$error":"#N/A"},{"$error":"#N/A"},{"$error":"#N/A"},{"$error":"#N/A"},{"$error":"#N/A"},{"$error":"#N/A"},{"$f":"IF(SUM(CZ$3091:CZ4453)>0,0,IF(MAX(CS4454:CS$4531)=MAX(CS$3091:CS$4531),0,IF(CQ4454>0.03*CK$4532,0,$C4454/60)))","v":0},{"$f":"IF(SUM(DA$3091:DA4453)>0,0,IF(MAX(CS4454:CS$4531)=MAX(CS$3091:CS$4531),0,IF(CQ4454>0.01*CK$4532,0,$C4454/60)))","v":0},0,0,0,0,0,0,0,0,0,{"$error":"#N/A"},{"$error":"#N/A"},{"$error":"#N/A"},{"$error":"#N/A"},{"$error":"#N/A"},{"$error":"#N/A"},{"$f":"IF(SUM(DQ$3091:DQ4453)>0,0,IF(MAX(DJ4454:DJ$4531)=MAX(DJ$3091:DJ$4531),0,IF(DH4454>0.03*DB$4532,0,$C4454/60)))","v":0},{"$f":"IF(SUM(DR$3091:DR4453)>0,0,IF(MAX(DJ4454:DJ$4531)=MAX(DJ$3091:DJ$4531),0,IF(DH4454>0.01*DB$4532,0,$C4454/60)))","v":0},0,0,0,0,0,0,0,0,0,{"$error":"#N/A"},{"$error":"#N/A"},{"$error":"#N/A"},{"$error":"#N/A"},{"$error":"#N/A"},{"$error":"#N/A"},{"$f":"IF(SUM(EH$3091:EH4453)>0,0,IF(MAX(EA4454:EA$4531)=MAX(EA$3091:EA$4531),0,IF(DY4454>0.03*DS$4532,0,$C4454/60)))","v":0},{"$f":"IF(SUM(EI$3091:EI4453)>0,0,IF(MAX(EA4454:EA$4531)=MAX(EA$3091:EA$4531),0,IF(DY4454>0.01*DS$4532,0,$C4454/60)))","v":0},0,0,0,0,0,0,0,0,0,{"$error":"#N/A"},{"$error":"#N/A"},{"$error":"#N/A"},{"$error":"#N/A"},{"$error":"#N/A"},{"$error":"#N/A"},{"$f":"IF(SUM(EY$3091:EY4453)>0,0,IF(MAX(ER4454:ER$4531)=MAX(ER$3091:ER$4531),0,IF(EP4454>0.03*EJ$4532,0,$C4454/60)))","v":0},{"$f":"IF(SUM(EZ$3091:EZ4453)>0,0,IF(MAX(ER4454:ER$4531)=MAX(ER$3091:ER$4531),0,IF(EP4454>0.01*EJ$4532,0,$C4454/60)))","v":0}]
[null,114.33333333333333,6860,0,0,0,0,0,0,0,0,0,{"$error":"#N/A"},{"$error":"#N/A"},{"$error":"#N/A"},{"$error":"#N/A"},{"$error":"#N/A"},{"$error":"#N/A"},{"$f":"IF(SUM(S$3091:S4462)>0,0,\nIF(MAX(L4463:L$4531)=MAX(L$3091:L$4531),0,\nIF(Hydrograph_Source_WQCV=\"USER\",IF(J4463>0.03*D$4532,0,$C4463/60),\nIF(J4463>0.03*J$4532,0,$C4463/60))))","v":0},{"$f":"IF(SUM(T$3091:T4462)>0,0,\nIF(MAX(L4463:L$4531)=MAX(L$3091:L$4531),0,\nIF(Hydrograph_Source_WQCV=\"USER\",IF(J4463>0.01*D$4532,0,$C4463/60),\nIF(J4463>0.01*J$4532,0,$C4463/60))))","v":0},0,0,0,0,0,0,0,0,0,{"$error":"#N/A"},{"$error":"#N/A"},{"$error":"#N/A"},{"$error":"#N/A"},{"$error":"#N/A"},{"$error":"#N/A"},{"$f":"IF(SUM(AJ$3091:AJ4462)>0,0,\nIF(MAX(AC4463:AC$4531)=MAX(AC$3091:AC$4531),0,\nIF(Hydrograph_Source_EURV=\"USER\",IF(AA4463>0.03*U$4532,0,$C4463/60),\nIF(AA4463>0.03*AA$4532,0,$C4463/60))))","v":0},{"$f":"IF(SUM(AK$3091:AK4462)>0,0,\nIF(MAX(AC4463:AC$4531)=MAX(AC$3091:AC$4531),0,\nIF(Hydrograph_Source_EURV=\"USER\",IF(AA4463>0.01*U$4532,0,$C4463/60),\nIF(AA4463>0.01*AA$4532,0,$C4463/60))))","v":0},0,0,0,0,0,0,0,0,0,{"$error":"#N/A"},{"$error":"#N/A"},{"$error":"#N/A"},{"$error":"#N/A"},{"$error":"#N/A"},{"$error":"#N/A"},{"$f":"IF(SUM(BA$3091:BA4462)>0,0,IF(MAX(AT4463:AT$4531)=MAX(AT$3091:AT$4531),0,IF(AR4463>0.03*AL$4532,0,$C4463/60)))","v":0},{"$f":"IF(SUM(BB$3091:BB4462)>0,0,IF(MAX(AT4463:AT$4531)=MAX(AT$3091:AT$4531),0,IF(AR4463>0.01*AL$4532,0,$C4463/60)))","v":0},0,0,0,0,0,0,0,0,0,{"$error":"#N/A"},{"$error":"#N/A"},{"$error":"#N/A"},{"$error":"#N/A"},{"$error":"#N/A"},{"$error":"#N/A"},{"$f":"IF(SUM(BR$3091:BR4462)>0,0,IF(MAX(BK4463:BK$4531)=MAX(BK$3091:BK$4531),0,IF(BI4463>0.03*BC$4532,0,$C4463/60)))","v":0},{"$f":"IF(SUM(BS$3091:BS4462)>0,0,IF(MAX(BK4463:BK$4531)=MAX(BK$3091:BK$4531),0,IF(BI4463>0.01*BC$4532,0,$C4463/60)))","v":0},0,0,0,0,0,0,0,0,0,{"$error":"#N/A"},{"$error":"#N/A"},{"$error":"#N/A"},{"$error":"#N/A"},{"$error":"#N/A"},{"$error":"#N/A"},{"$f":"IF(SUM(CI$3091:CI4462)>0,0,IF(MAX(CB4463:CB$4531)=MAX(CB$3091:CB$4531),0,IF(BZ4463>0.03*BT$4532,0,$C4463/60)))","v":0},{"$f":"IF(SUM(CJ$3091:CJ4462)>0,0,IF(MAX(CB4463:CB$4531)=MAX(CB$3091:CB$4531),0,IF(BZ4463>0.01*BT$4532,0,$C4463/60)))","v":0},0,0,0,0,0,0,0,0,0,{"$error":"#N/A"},{"$error":"#N/A"},{"$error":"#N/A"},{"$error":"#N/A"},{"$error":"#N/A"},{"$error":"#N/A"},{"$f":"IF(SUM(CZ$3091:CZ4462)>0,0,IF(MAX(CS4463:CS$4531)=MAX(CS$3091:CS$4531),0,IF(CQ4463>0.03*CK$4532,0,$C4463/60)))","v":0},{"$f":"IF(SUM(DA$3091:DA4462)>0,0,IF(MAX(CS4463:CS$4531)=MAX(CS$3091:CS$4531),0,IF(CQ4463>0.01*CK$4532,0,$C4463/60)))","v":0},0,0,0,0,0,0,0,0,0,{"$error":"#N/A"},{"$error":"#N/A"},{"$error":"#N/A"},{"$error":"#N/A"},{"$error":"#N/A"},{"$error":"#N/A"},{"$f":"IF(SUM(DQ$3091:DQ4462)>0,0,IF(MAX(DJ4463:DJ$4531)=MAX(DJ$3091:DJ$4531),0,IF(DH4463>0.03*DB$4532,0,$C4463/60)))","v":0},{"$f":"IF(SUM(DR$3091:DR4462)>0,0,IF(MAX(DJ4463:DJ$4531)=MAX(DJ$3091:DJ$4531),0,IF(DH4463>0.01*DB$4532,0,$C4463/60)))","v":0},0,0,0,0,0,0,0,0,0,{"$error":"#N/A"},{"$error":"#N/A"},{"$error":"#N/A"},{"$error":"#N/A"},{"$error":"#N/A"},{"$error":"#N/A"},{"$f":"IF(SUM(EH$3091:EH4462)>0,0,IF(MAX(EA4463:EA$4531)=MAX(EA$3091:EA$4531),0,IF(DY4463>0.03*DS$4532,0,$C4463/60)))","v":0},{"$f":"IF(SUM(EI$3091:EI4462)>0,0,IF(MAX(EA4463:EA$4531)=MAX(EA$3091:EA$4531),0,IF(DY4463>0.01*DS$4532,0,$C4463/60)))","v":0},0,0,0,0,0,0,0,0,0,{"$error":"#N/A"},{"$error":"#N/A"},{"$error":"#N/A"},{"$error":"#N/A"},{"$error":"#N/A"},{"$error":"#N/A"},{"$f":"IF(SUM(EY$3091:EY4462)>0,0,IF(MAX(ER4463:ER$4531)=MAX(ER$3091:ER$4531),0,IF(EP4463>0.03*EJ$4532,0,$C4463/60)))","v":0},{"$f":"IF(SUM(EZ$3091:EZ4462)>0,0,IF(MAX(ER4463:ER$4531)=MAX(ER$3091:ER$4531),0,IF(EP4463>0.01*EJ$4532,0,$C4463/60)))","v":0}]
[null,115.08333333333333,6905,0,0,0,0,0,0,0,0,0,{"$error":"#N/A"},{"$error":"#N/A"},{"$error":"#N/A"},{"$error":"#N/A"},{"$error":"#N/A"},{"$error":"#N/A"},{"$f":"IF(SUM(S$3091:S4471)>0,0,\nIF(MAX(L4472:L$4531)=MAX(L$3091:L$4531),0,\nIF(Hydrograph_Source_WQCV=\"USER\",IF(J4472>0.03*D$4532,0,$C4472/60),\nIF(J4472>0.03*J$4532,0,$C4472/60))))","v":0},{"$f":"IF(SUM(T$3091:T4471)>0,0,\nIF(MAX(L4472:L$4531)=MAX(L$3091:L$4531),0,\nIF(Hydrograph_Source_WQCV=\"USER\",IF(J4472>0.01*D$4532,0,$C4472/60),\nIF(J4472>0.01*J$4532,0,$C4472/60))))","v":0},0,0,0,0,0,0,0,0,0,{"$error":"#N/A"},{"$error":"#N/A"},{"$error":"#N/A"},{"$error":"#N/A"},{"$error":"#N/A"},{"$error":"#N/A"},{"$f":"IF(SUM(AJ$3091:AJ4471)>0,0,\nIF(MAX(AC4472:AC$4531)=MAX(AC$3091:AC$4531),0,\nIF(Hydrograph_Source_EURV=\"USER\",IF(AA4472>0.03*U$4532,0,$C4472/60),\nIF(AA4472>0.03*AA$4532,0,$C4472/60))))","v":0},{"$f":"IF(SUM(AK$3091:AK4471)>0,0,\nIF(MAX(AC4472:AC$4531)=MAX(AC$3091:AC$4531),0,\nIF(Hydrograph_Source_EURV=\"USER\",IF(AA4472>0.01*U$4532,0,$C4472/60),\nIF(AA4472>0.01*AA$4532,0,$C4472/60))))","v":0},0,0,0,0,0,0,0,0,0,{"$error":"#N/A"},{"$error":"#N/A"},{"$error":"#N/A"},{"$error":"#N/A"},{"$error":"#N/A"},{"$error":"#N/A"},{"$f":"IF(SUM(BA$3091:BA4471)>0,0,IF(MAX(AT4472:AT$4531)=MAX(AT$3091:AT$4531),0,IF(AR4472>0.03*AL$4532,0,$C4472/60)))","v":0},{"$f":"IF(SUM(BB$3091:BB4471)>0,0,IF(MAX(AT4472:AT$4531)=MAX(AT$3091:AT$4531),0,IF(AR4472>0.01*AL$4532,0,$C4472/60)))","v":0},0,0,0,0,0,0,0,0,0,{"$error":"#N/A"},{"$error":"#N/A"},{"$error":"#N/A"},{"$error":"#N/A"},{"$error":"#N/A"},{"$error":"#N/A"},{"$f":"IF(SUM(BR$3091:BR4471)>0,0,IF(MAX(BK4472:BK$4531)=MAX(BK$3091:BK$4531),0,IF(BI4472>0.03*BC$4532,0,$C4472/60)))","v":0},{"$f":"IF(SUM(BS$3091:BS4471)>0,0,IF(MAX(BK4472:BK$4531)=MAX(BK$3091:BK$4531),0,IF(BI4472>0.01*BC$4532,0,$C4472/60)))","v":0},0,0,0,0,0,0,0,0,0,{"$error":"#N/A"},{"$error":"#N/A"},{"$error":"#N/A"},{"$error":"#N/A"},{"$error":"#N/A"},{"$error":"#N/A"},{"$f":"IF(SUM(CI$3091:CI4471)>0,0,IF(MAX(CB4472:CB$4531)=MAX(CB$3091:CB$4531),0,IF(BZ4472>0.03*BT$4532,0,$C4472/60)))","v":0},{"$f":"IF(SUM(CJ$3091:CJ4471)>0,0,IF(MAX(CB4472:CB$4531)=MAX(CB$3091:CB$4531),0,IF(BZ4472>0.01*BT$4532,0,$C4472/60)))","v":0},0,0,0,0,0,0,0,0,0,{"$error":"#N/A"},{"$error":"#N/A"},{"$error":"#N/A"},{"$error":"#N/A"},{"$error":"#N/A"},{"$error":"#N/A"},{"$f":"IF(SUM(CZ$3091:CZ4471)>0,0,IF(MAX(CS4472:CS$4531)=MAX(CS$3091:CS$4531),0,IF(CQ4472>0.03*CK$4532,0,$C4472/60)))","v":0},{"$f":"IF(SUM(DA$3091:DA4471)>0,0,IF(MAX(CS4472:CS$4531)=MAX(CS$3091:CS$4531),0,IF(CQ4472>0.01*CK$4532,0,$C4472/60)))","v":0},0,0,0,0,0,0,0,0,0,{"$error":"#N/A"},{"$error":"#N/A"},{"$error":"#N/A"},{"$error":"#N/A"},{"$error":"#N/A"},{"$error":"#N/A"},{"$f":"IF(SUM(DQ$3091:DQ4471)>0,0,IF(MAX(DJ4472:DJ$4531)=MAX(DJ$3091:DJ$4531),0,IF(DH4472>0.03*DB$4532,0,$C4472/60)))","v":0},{"$f":"IF(SUM(DR$3091:DR4471)>0,0,IF(MAX(DJ4472:DJ$4531)=MAX(DJ$3091:DJ$4531),0,IF(DH4472>0.01*DB$4532,0,$C4472/60)))","v":0},0,0,0,0,0,0,0,0,0,{"$error":"#N/A"},{"$error":"#N/A"},{"$error":"#N/A"},{"$error":"#N/A"},{"$error":"#N/A"},{"$error":"#N/A"},{"$f":"IF(SUM(EH$3091:EH4471)>0,0,IF(MAX(EA4472:EA$4531)=MAX(EA$3091:EA$4531),0,IF(DY4472>0.03*DS$4532,0,$C4472/60)))","v":0},{"$f":"IF(SUM(EI$3091:EI4471)>0,0,IF(MAX(EA4472:EA$4531)=MAX(EA$3091:EA$4531),0,IF(DY4472>0.01*DS$4532,0,$C4472/60)))","v":0},0,0,0,0,0,0,0,0,0,{"$error":"#N/A"},{"$error":"#N/A"},{"$error":"#N/A"},{"$error":"#N/A"},{"$error":"#N/A"},{"$error":"#N/A"},{"$f":"IF(SUM(EY$3091:EY4471)>0,0,IF(MAX(ER4472:ER$4531)=MAX(ER$3091:ER$4531),0,IF(EP4472>0.03*EJ$4532,0,$C4472/60)))","v":0},{"$f":"IF(SUM(EZ$3091:EZ4471)>0,0,IF(MAX(ER4472:ER$4531)=MAX(ER$3091:ER$4531),0,IF(EP4472>0.01*EJ$4532,0,$C4472/60)))","v":0}]
[null,115.83333333333333,6950,0,0,0,0,0,0,0,0,0,{"$error":"#N/A"},{"$error":"#N/A"},{"$error":"#N/A"},{"$error":"#N/A"},{"$error":"#N/A"},{"$error":"#N/A"},{"$f":"IF(SUM(S$3091:S4480)>0,0,\nIF(MAX(L4481:L$4531)=MAX(L$3091:L$4531),0,\nIF(Hydrograph_Source_WQCV=\"USER\",IF(J4481>0.03*D$4532,0,$C4481/60),\nIF(J4481>0.03*J$4532,0,$C4481/60))))","v":0},{"$f":"IF(SUM(T$3091:T4480)>0,0,\nIF(MAX(L4481:L$4531)=MAX(L$3091:L$4531),0,\nIF(Hydrograph_Source_WQCV=\"USER\",IF(J4481>0.01*D$4532,0,$C4481/60),\nIF(J4481>0.01*J$4532,0,$C4481/60))))","v":0},0,0,0,0,0,0,0,0,0,{"$error":"#N/A"},{"$error":"#N/A"},{"$error":"#N/A"},{"$error":"#N/A"},{"$error":"#N/A"},{"$error":"#N/A"},{"$f":"IF(SUM(AJ$3091:AJ4480)>0,0,\nIF(MAX(AC4481:AC$4531)=MAX(AC$3091:AC$4531),0,\nIF(Hydrograph_Source_EURV=\"USER\",IF(AA4481>0.03*U$4532,0,$C4481/60),\nIF(AA4481>0.03*AA$4532,0,$C4481/60))))","v":0},{"$f":"IF(SUM(AK$3091:AK4480)>0,0,\nIF(MAX(AC4481:AC$4531)=MAX(AC$3091:AC$4531),0,\nIF(Hydrograph_Source_EURV=\"USER\",IF(AA4481>0.01*U$4532,0,$C4481/60),\nIF(AA4481>0.01*AA$4532,0,$C4481/60))))","v":0},0,0,0,0,0,0,0,0,0,{"$error":"#N/A"},{"$error":"#N/A"},{"$error":"#N/A"},{"$error":"#N/A"},{"$error":"#N/A"},{"$error":"#N/A"},{"$f":"IF(SUM(BA$3091:BA4480)>0,0,IF(MAX(AT4481:AT$4531)=MAX(AT$3091:AT$4531),0,IF(AR4481>0.03*AL$4532,0,$C4481/60)))","v":0},{"$f":"IF(SUM(BB$3091:BB4480)>0,0,IF(MAX(AT4481:AT$4531)=MAX(AT$3091:AT$4531),0,IF(AR4481>0.01*AL$4532,0,$C4481/60)))","v":0},0,0,0,0,0,0,0,0,0,{"$error":"#N/A"},{"$error":"#N/A"},{"$error":"#N/A"},{"$error":"#N/A"},{"$error":"#N/A"},{"$error":"#N/A"},{"$f":"IF(SUM(BR$3091:BR4480)>0,0,IF(MAX(BK4481:BK$4531)=MAX(BK$3091:BK$4531),0,IF(BI4481>0.03*BC$4532,0,$C4481/60)))","v":0},{"$f":"IF(SUM(BS$3091:BS4480)>0,0,IF(MAX(BK4481:BK$4531)=MAX(BK$3091:BK$4531),0,IF(BI4481>0.01*BC$4532,0,$C4481/60)))","v":0},0,0,0,0,0,0,0,0,0,{"$error":"#N/A"},{"$error":"#N/A"},{"$error":"#N/A"},{"$error":"#N/A"},{"$error":"#N/A"},{"$error":"#N/A"},{"$f":"IF(SUM(CI$3091:CI4480)>0,0,IF(MAX(CB4481:CB$4531)=MAX(CB$3091:CB$4531),0,IF(BZ4481>0.03*BT$4532,0,$C4481/60)))","v":0},{"$f":"IF(SUM(CJ$3091:CJ4480)>0,0,IF(MAX(CB4481:CB$4531)=MAX(CB$3091:CB$4531),0,IF(BZ4481>0.01*BT$4532,0,$C4481/60)))","v":0},0,0,0,0,0,0,0,0,0,{"$error":"#N/A"},{"$error":"#N/A"},{"$error":"#N/A"},{"$error":"#N/A"},{"$error":"#N/A"},{"$error":"#N/A"},{"$f":"IF(SUM(CZ$3091:CZ4480)>0,0,IF(MAX(CS4481:CS$4531)=MAX(CS$3091:CS$4531),0,IF(CQ4481>0.03*CK$4532,0,$C4481/60)))","v":0},{"$f":"IF(SUM(DA$3091:DA4480)>0,0,IF(MAX(CS4481:CS$4531)=MAX(CS$3091:CS$4531),0,IF(CQ4481>0.01*CK$4532,0,$C4481/60)))","v":0},0,0,0,0,0,0,0,0,0,{"$error":"#N/A"},{"$error":"#N/A"},{"$error":"#N/A"},{"$error":"#N/A"},{"$error":"#N/A"},{"$error":"#N/A"},{"$f":"IF(SUM(DQ$3091:DQ4480)>0,0,IF(MAX(DJ4481:DJ$4531)=MAX(DJ$3091:DJ$4531),0,IF(DH4481>0.03*DB$4532,0,$C4481/60)))","v":0},{"$f":"IF(SUM(DR$3091:DR4480)>0,0,IF(MAX(DJ4481:DJ$4531)=MAX(DJ$3091:DJ$4531),0,IF(DH4481>0.01*DB$4532,0,$C4481/60)))","v":0},0,0,0,0,0,0,0,0,0,{"$error":"#N/A"},{"$error":"#N/A"},{"$error":"#N/A"},{"$error":"#N/A"},{"$error":"#N/A"},{"$error":"#N/A"},{"$f":"IF(SUM(EH$3091:EH4480)>0,0,IF(MAX(EA4481:EA$4531)=MAX(EA$3091:EA$4531),0,IF(DY4481>0.03*DS$4532,0,$C4481/60)))","v":0},{"$f":"IF(SUM(EI$3091:EI4480)>0,0,IF(MAX(EA4481:EA$4531)=MAX(EA$3091:EA$4531),0,IF(DY4481>0.01*DS$4532,0,$C4481/60)))","v":0},0,0,0,0,0,0,0,0,0,{"$error":"#N/A"},{"$error":"#N/A"},{"$error":"#N/A"},{"$error":"#N/A"},{"$error":"#N/A"},{"$error":"#N/A"},{"$f":"IF(SUM(EY$3091:EY4480)>0,0,IF(MAX(ER4481:ER$4531)=MAX(ER$3091:ER$4531),0,IF(EP4481>0.03*EJ$4532,0,$C4481/60)))","v":0},{"$f":"IF(SUM(EZ$3091:EZ4480)>0,0,IF(MAX(ER4481:ER$4531)=MAX(ER$3091:ER$4531),0,IF(EP4481>0.01*EJ$4532,0,$C4481/60)))","v":0}]
[null,116.16666666666667,6970,0,0,0,0,0,0,0,0,0,{"$error":"#N/A"},{"$error":"#N/A"},{"$error":"#N/A"},{"$error":"#N/A"},{"$error":"#N/A"},{"$error":"#N/A"},{"$f":"IF(SUM(S$3091:S4484)>0,0,\nIF(MAX(L4485:L$4531)=MAX(L$3091:L$4531),0,\nIF(Hydrograph_Source_WQCV=\"USER\",IF(J4485>0.03*D$4532,0,$C4485/60),\nIF(J4485>0.03*J$4532,0,$C4485/60))))","v":0},{"$f":"IF(SUM(T$3091:T4484)>0,0,\nIF(MAX(L4485:L$4531)=MAX(L$3091:L$4531),0,\nIF(Hydrograph_Source_WQCV=\"USER\",IF(J4485>0.01*D$4532,0,$C4485/60),\nIF(J4485>0.01*J$4532,0,$C4485/60))))","v":0},0,0,0,0,0,0,0,0,0,{"$error":"#N/A"},{"$error":"#N/A"},{"$error":"#N/A"},{"$error":"#N/A"},{"$error":"#N/A"},{"$error":"#N/A"},{"$f":"IF(SUM(AJ$3091:AJ4484)>0,0,\nIF(MAX(AC4485:AC$4531)=MAX(AC$3091:AC$4531),0,\nIF(Hydrograph_Source_EURV=\"USER\",IF(AA4485>0.03*U$4532,0,$C4485/60),\nIF(AA4485>0.03*AA$4532,0,$C4485/60))))","v":0},{"$f":"IF(SUM(AK$3091:AK4484)>0,0,\nIF(MAX(AC4485:AC$4531)=MAX(AC$3091:AC$4531),0,\nIF(Hydrograph_Source_EURV=\"USER\",IF(AA4485>0.01*U$4532,0,$C4485/60),\nIF(AA4485>0.01*AA$4532,0,$C4485/60))))","v":0},0,0,0,0,0,0,0,0,0,{"$error":"#N/A"},{"$error":"#N/A"},{"$error":"#N/A"},{"$error":"#N/A"},{"$error":"#N/A"},{"$error":"#N/A"},{"$f":"IF(SUM(BA$3091:BA4484)>0,0,IF(MAX(AT4485:AT$4531)=MAX(AT$3091:AT$4531),0,IF(AR4485>0.03*AL$4532,0,$C4485/60)))","v":0},{"$f":"IF(SUM(BB$3091:BB4484)>0,0,IF(MAX(AT4485:AT$4531)=MAX(AT$3091:AT$4531),0,IF(AR4485>0.01*AL$4532,0,$C4485/60)))","v":0},0,0,0,0,0,0,0,0,0,{"$error":"#N/A"},{"$error":"#N/A"},{"$error":"#N/A"},{"$error":"#N/A"},{"$error":"#N/A"},{"$error":"#N/A"},{"$f":"IF(SUM(BR$3091:BR4484)>0,0,IF(MAX(BK4485:BK$4531)=MAX(BK$3091:BK$4531),0,IF(BI4485>0.03*BC$4532,0,$C4485/60)))","v":0},{"$f":"IF(SUM(BS$3091:BS4484)>0,0,IF(MAX(BK4485:BK$4531)=MAX(BK$3091:BK$4531),0,IF(BI4485>0.01*BC$4532,0,$C4485/60)))","v":0},0,0,0,0,0,0,0,0,0,{"$error":"#N/A"},{"$error":"#N/A"},{"$error":"#N/A"},{"$error":"#N/A"},{"$error":"#N/A"},{"$error":"#N/A"},{"$f":"IF(SUM(CI$3091:CI4484)>0,0,IF(MAX(CB4485:CB$4531)=MAX(CB$3091:CB$4531),0,IF(BZ4485>0.03*BT$4532,0,$C4485/60)))","v":0},{"$f":"IF(SUM(CJ$3091:CJ4484)>0,0,IF(MAX(CB4485:CB$4531)=MAX(CB$3091:CB$4531),0,IF(BZ4485>0.01*BT$4532,0,$C4485/60)))","v":0},0,0,0,0,0,0,0,0,0,{"$error":"#N/A"},{"$error":"#N/A"},{"$error":"#N/A"},{"$error":"#N/A"},{"$error":"#N/A"},{"$error":"#N/A"},{"$f":"IF(SUM(CZ$3091:CZ4484)>0,0,IF(MAX(CS4485:CS$4531)=MAX(CS$3091:CS$4531),0,IF(CQ4485>0.03*CK$4532,0,$C4485/60)))","v":0},{"$f":"IF(SUM(DA$3091:DA4484)>0,0,IF(MAX(CS4485:CS$4531)=MAX(CS$3091:CS$4531),0,IF(CQ4485>0.01*CK$4532,0,$C4485/60)))","v":0},0,0,0,0,0,0,0,0,0,{"$error":"#N/A"},{"$error":"#N/A"},{"$error":"#N/A"},{"$error":"#N/A"},{"$error":"#N/A"},{"$error":"#N/A"},{"$f":"IF(SUM(DQ$3091:DQ4484)>0,0,IF(MAX(DJ4485:DJ$4531)=MAX(DJ$3091:DJ$4531),0,IF(DH4485>0.03*DB$4532,0,$C4485/60)))","v":0},{"$f":"IF(SUM(DR$3091:DR4484)>0,0,IF(MAX(DJ4485:DJ$4531)=MAX(DJ$3091:DJ$4531),0,IF(DH4485>0.01*DB$4532,0,$C4485/60)))","v":0},0,0,0,0,0,0,0,0,0,{"$error":"#N/A"},{"$error":"#N/A"},{"$error":"#N/A"},{"$error":"#N/A"},{"$error":"#N/A"},{"$error":"#N/A"},{"$f":"IF(SUM(EH$3091:EH4484)>0,0,IF(MAX(EA4485:EA$4531)=MAX(EA$3091:EA$4531),0,IF(DY4485>0.03*DS$4532,0,$C4485/60)))","v":0},{"$f":"IF(SUM(EI$3091:EI4484)>0,0,IF(MAX(EA4485:EA$4531)=MAX(EA$3091:EA$4531),0,IF(DY4485>0.01*DS$4532,0,$C4485/60)))","v":0},0,0,0,0,0,0,0,0,0,{"$error":"#N/A"},{"$error":"#N/A"},{"$error":"#N/A"},{"$error":"#N/A"},{"$error":"#N/A"},{"$error":"#N/A"},{"$f":"IF(SUM(EY$3091:EY4484)>0,0,IF(MAX(ER4485:ER$4531)=MAX(ER$3091:ER$4531),0,IF(EP4485>0.03*EJ$4532,0,$C4485/60)))","v":0},{"$f":"IF(SUM(EZ$3091:EZ4484)>0,0,IF(MAX(ER4485:ER$4531)=MAX(ER$3091:ER$4531),0,IF(EP4485>0.01*EJ$4532,0,$C4485/60)))","v":0}]
[null,116.25,6975,0,0,0,0,0,0,0,0,0,{"$error":"#N/A"},{"$error":"#N/A"},{"$error":"#N/A"},{"$error":"#N/A"},{"$error":"#N/A"},{"$error":"#N/A"},{"$f":"IF(SUM(S$3091:S4485)>0,0,\nIF(MAX(L4486:L$4531)=MAX(L$3091:L$4531),0,\nIF(Hydrograph_Source_WQCV=\"USER\",IF(J4486>0.03*D$4532,0,$C4486/60),\nIF(J4486>0.03*J$4532,0,$C4486/60))))","v":0},{"$f":"IF(SUM(T$3091:T4485)>0,0,\nIF(MAX(L4486:L$4531)=MAX(L$3091:L$4531),0,\nIF(Hydrograph_Source_WQCV=\"USER\",IF(J4486>0.01*D$4532,0,$C4486/60),\nIF(J4486>0.01*J$4532,0,$C4486/60))))","v":0},0,0,0,0,0,0,0,0,0,{"$error":"#N/A"},{"$error":"#N/A"},{"$error":"#N/A"},{"$error":"#N/A"},{"$error":"#N/A"},{"$error":"#N/A"},{"$f":"IF(SUM(AJ$3091:AJ4485)>0,0,\nIF(MAX(AC4486:AC$4531)=MAX(AC$3091:AC$4531),0,\nIF(Hydrograph_Source_EURV=\"USER\",IF(AA4486>0.03*U$4532,0,$C4486/60),\nIF(AA4486>0.03*AA$4532,0,$C4486/60))))","v":0},{"$f":"IF(SUM(AK$3091:AK4485)>0,0,\nIF(MAX(AC4486:AC$4531)=MAX(AC$3091:AC$4531),0,\nIF(Hydrograph_Source_EURV=\"USER\",IF(AA4486>0.01*U$4532,0,$C4486/60),\nIF(AA4486>0.01*AA$4532,0,$C4486/60))))","v":0},0,0,0,0,0,0,0,0,0,{"$error":"#N/A"},{"$error":"#N/A"},{"$error":"#N/A"},{"$error":"#N/A"},{"$error":"#N/A"},{"$error":"#N/A"},{"$f":"IF(SUM(BA$3091:BA4485)>0,0,IF(MAX(AT4486:AT$4531)=MAX(AT$3091:AT$4531),0,IF(AR4486>0.03*AL$4532,0,$C4486/60)))","v":0},{"$f":"IF(SUM(BB$3091:BB4485)>0,0,IF(MAX(AT4486:AT$4531)=MAX(AT$3091:AT$4531),0,IF(AR4486>0.01*AL$4532,0,$C4486/60)))","v":0},0,0,0,0,0,0,0,0,0,{"$error":"#N/A"},{"$error":"#N/A"},{"$error":"#N/A"},{"$error":"#N/A"},{"$error":"#N/A"},{"$error":"#N/A"},{"$f":"IF(SUM(BR$3091:BR4485)>0,0,IF(MAX(BK4486:BK$4531)=MAX(BK$3091:BK$4531),0,IF(BI4486>0.03*BC$4532,0,$C4486/60)))","v":0},{"$f":"IF(SUM(BS$3091:BS4485)>0,0,IF(MAX(BK4486:BK$4531)=MAX(BK$3091:BK$4531),0,IF(BI4486>0.01*BC$4532,0,$C4486/60)))","v":0},0,0,0,0,0,0,0,0,0,{"$error":"#N/A"},{"$error":"#N/A"},{"$error":"#N/A"},{"$error":"#N/A"},{"$error":"#N/A"},{"$error":"#N/A"},{"$f":"IF(SUM(CI$3091:CI4485)>0,0,IF(MAX(CB4486:CB$4531)=MAX(CB$3091:CB$4531),0,IF(BZ4486>0.03*BT$4532,0,$C4486/60)))","v":0},{"$f":"IF(SUM(CJ$3091:CJ4485)>0,0,IF(MAX(CB4486:CB$4531)=MAX(CB$3091:CB$4531),0,IF(BZ4486>0.01*BT$4532,0,$C4486/60)))","v":0},0,0,0,0,0,0,0,0,0,{"$error":"#N/A"},{"$error":"#N/A"},{"$error":"#N/A"},{"$error":"#N/A"},{"$error":"#N/A"},{"$error":"#N/A"},{"$f":"IF(SUM(CZ$3091:CZ4485)>0,0,IF(MAX(CS4486:CS$4531)=MAX(CS$3091:CS$4531),0,IF(CQ4486>0.03*CK$4532,0,$C4486/60)))","v":0},{"$f":"IF(SUM(DA$3091:DA4485)>0,0,IF(MAX(CS4486:CS$4531)=MAX(CS$3091:CS$4531),0,IF(CQ4486>0.01*CK$4532,0,$C4486/60)))","v":0},0,0,0,0,0,0,0,0,0,{"$error":"#N/A"},{"$error":"#N/A"},{"$error":"#N/A"},{"$error":"#N/A"},{"$error":"#N/A"},{"$error":"#N/A"},{"$f":"IF(SUM(DQ$3091:DQ4485)>0,0,IF(MAX(DJ4486:DJ$4531)=MAX(DJ$3091:DJ$4531),0,IF(DH4486>0.03*DB$4532,0,$C4486/60)))","v":0},{"$f":"IF(SUM(DR$3091:DR4485)>0,0,IF(MAX(DJ4486:DJ$4531)=MAX(DJ$3091:DJ$4531),0,IF(DH4486>0.01*DB$4532,0,$C4486/60)))","v":0},0,0,0,0,0,0,0,0,0,{"$error":"#N/A"},{"$error":"#N/A"},{"$error":"#N/A"},{"$error":"#N/A"},{"$error":"#N/A"},{"$error":"#N/A"},{"$f":"IF(SUM(EH$3091:EH4485)>0,0,IF(MAX(EA4486:EA$4531)=MAX(EA$3091:EA$4531),0,IF(DY4486>0.03*DS$4532,0,$C4486/60)))","v":0},{"$f":"IF(SUM(EI$3091:EI4485)>0,0,IF(MAX(EA4486:EA$4531)=MAX(EA$3091:EA$4531),0,IF(DY4486>0.01*DS$4532,0,$C4486/60)))","v":0},0,0,0,0,0,0,0,0,0,{"$error":"#N/A"},{"$error":"#N/A"},{"$error":"#N/A"},{"$error":"#N/A"},{"$error":"#N/A"},{"$error":"#N/A"},{"$f":"IF(SUM(EY$3091:EY4485)>0,0,IF(MAX(ER4486:ER$4531)=MAX(ER$3091:ER$4531),0,IF(EP4486>0.03*EJ$4532,0,$C4486/60)))","v":0},{"$f":"IF(SUM(EZ$3091:EZ4485)>0,0,IF(MAX(ER4486:ER$4531)=MAX(ER$3091:ER$4531),0,IF(EP4486>0.01*EJ$4532,0,$C4486/60)))","v":0}]
[null,116.33333333333333,6980,0,0,0,0,0,0,0,0,0,{"$error":"#N/A"},{"$error":"#N/A"},{"$error":"#N/A"},{"$error":"#N/A"},{"$error":"#N/A"},{"$error":"#N/A"},{"$f":"IF(SUM(S$3091:S4486)>0,0,\nIF(MAX(L4487:L$4531)=MAX(L$3091:L$4531),0,\nIF(Hydrograph_Source_WQCV=\"USER\",IF(J4487>0.03*D$4532,0,$C4487/60),\nIF(J4487>0.03*J$4532,0,$C4487/60))))","v":0},{"$f":"IF(SUM(T$3091:T4486)>0,0,\nIF(MAX(L4487:L$4531)=MAX(L$3091:L$4531),0,\nIF(Hydrograph_Source_WQCV=\"USER\",IF(J4487>0.01*D$4532,0,$C4487/60),\nIF(J4487>0.01*J$4532,0,$C4487/60))))","v":0},0,0,0,0,0,0,0,0,0,{"$error":"#N/A"},{"$error":"#N/A"},{"$error":"#N/A"},{"$error":"#N/A"},{"$error":"#N/A"},{"$error":"#N/A"},{"$f":"IF(SUM(AJ$3091:AJ4486)>0,0,\nIF(MAX(AC4487:AC$4531)=MAX(AC$3091:AC$4531),0,\nIF(Hydrograph_Source_EURV=\"USER\",IF(AA4487>0.03*U$4532,0,$C4487/60),\nIF(AA4487>0.03*AA$4532,0,$C4487/60))))","v":0},{"$f":"IF(SUM(AK$3091:AK4486)>0,0,\nIF(MAX(AC4487:AC$4531)=MAX(AC$3091:AC$4531),0,\nIF(Hydrograph_Source_EURV=\"USER\",IF(AA4487>0.01*U$4532,0,$C4487/60),\nIF(AA4487>0.01*AA$4532,0,$C4487/60))))","v":0},0,0,0,0,0,0,0,0,0,{"$error":"#N/A"},{"$error":"#N/A"},{"$error":"#N/A"},{"$error":"#N/A"},{"$error":"#N/A"},{"$error":"#N/A"},{"$f":"IF(SUM(BA$3091:BA4486)>0,0,IF(MAX(AT4487:AT$4531)=MAX(AT$3091:AT$4531),0,IF(AR4487>0.03*AL$4532,0,$C4487/60)))","v":0},{"$f":"IF(SUM(BB$3091:BB4486)>0,0,IF(MAX(AT4487:AT$4531)=MAX(AT$3091:AT$4531),0,IF(AR4487>0.01*AL$4532,0,$C4487/60)))","v":0},0,0,0,0,0,0,0,0,0,{"$error":"#N/A"},{"$error":"#N/A"},{"$error":"#N/A"},{"$error":"#N/A"},{"$error":"#N/A"},{"$error":"#N/A"},{"$f":"IF(SUM(BR$3091:BR4486)>0,0,IF(MAX(BK4487:BK$4531)=MAX(BK$3091:BK$4531),0,IF(BI4487>0.03*BC$4532,0,$C4487/60)))","v":0},{"$f":"IF(SUM(BS$3091:BS4486)>0,0,IF(MAX(BK4487:BK$4531)=MAX(BK$3091:BK$4531),0,IF(BI4487>0.01*BC$4532,0,$C4487/60)))","v":0},0,0,0,0,0,0,0,0,0,{"$error":"#N/A"},{"$error":"#N/A"},{"$error":"#N/A"},{"$error":"#N/A"},{"$error":"#N/A"},{"$error":"#N/A"},{"$f":"IF(SUM(CI$3091:CI4486)>0,0,IF(MAX(CB4487:CB$4531)=MAX(CB$3091:CB$4531),0,IF(BZ4487>0.03*BT$4532,0,$C4487/60)))","v":0},{"$f":"IF(SUM(CJ$3091:CJ4486)>0,0,IF(MAX(CB4487:CB$4531)=MAX(CB$3091:CB$4531),0,IF(BZ4487>0.01*BT$4532,0,$C4487/60)))","v":0},0,0,0,0,0,0,0,0,0,{"$error":"#N/A"},{"$error":"#N/A"},{"$error":"#N/A"},{"$error":"#N/A"},{"$error":"#N/A"},{"$error":"#N/A"},{"$f":"IF(SUM(CZ$3091:CZ4486)>0,0,IF(MAX(CS4487:CS$4531)=MAX(CS$3091:CS$4531),0,IF(CQ4487>0.03*CK$4532,0,$C4487/60)))","v":0},{"$f":"IF(SUM(DA$3091:DA4486)>0,0,IF(MAX(CS4487:CS$4531)=MAX(CS$3091:CS$4531),0,IF(CQ4487>0.01*CK$4532,0,$C4487/60)))","v":0},0,0,0,0,0,0,0,0,0,{"$error":"#N/A"},{"$error":"#N/A"},{"$error":"#N/A"},{"$error":"#N/A"},{"$error":"#N/A"},{"$error":"#N/A"},{"$f":"IF(SUM(DQ$3091:DQ4486)>0,0,IF(MAX(DJ4487:DJ$4531)=MAX(DJ$3091:DJ$4531),0,IF(DH4487>0.03*DB$4532,0,$C4487/60)))","v":0},{"$f":"IF(SUM(DR$3091:DR4486)>0,0,IF(MAX(DJ4487:DJ$4531)=MAX(DJ$3091:DJ$4531),0,IF(DH4487>0.01*DB$4532,0,$C4487/60)))","v":0},0,0,0,0,0,0,0,0,0,{"$error":"#N/A"},{"$error":"#N/A"},{"$error":"#N/A"},{"$error":"#N/A"},{"$error":"#N/A"},{"$error":"#N/A"},{"$f":"IF(SUM(EH$3091:EH4486)>0,0,IF(MAX(EA4487:EA$4531)=MAX(EA$3091:EA$4531),0,IF(DY4487>0.03*DS$4532,0,$C4487/60)))","v":0},{"$f":"IF(SUM(EI$3091:EI4486)>0,0,IF(MAX(EA4487:EA$4531)=MAX(EA$3091:EA$4531),0,IF(DY4487>0.01*DS$4532,0,$C4487/60)))","v":0},0,0,0,0,0,0,0,0,0,{"$error":"#N/A"},{"$error":"#N/A"},{"$error":"#N/A"},{"$error":"#N/A"},{"$error":"#N/A"},{"$error":"#N/A"},{"$f":"IF(SUM(EY$3091:EY4486)>0,0,IF(MAX(ER4487:ER$4531)=MAX(ER$3091:ER$4531),0,IF(EP4487>0.03*EJ$4532,0,$C4487/60)))","v":0},{"$f":"IF(SUM(EZ$3091:EZ4486)>0,0,IF(MAX(ER4487:ER$4531)=MAX(ER$3091:ER$4531),0,IF(EP4487>0.01*EJ$4532,0,$C4487/60)))","v":0}]
[null,116.41666666666667,6985,0,0,0,0,0,0,0,0,0,{"$error":"#N/A"},{"$error":"#N/A"},{"$error":"#N/A"},{"$error":"#N/A"},{"$error":"#N/A"},{"$error":"#N/A"},{"$f":"IF(SUM(S$3091:S4487)>0,0,\nIF(MAX(L4488:L$4531)=MAX(L$3091:L$4531),0,\nIF(Hydrograph_Source_WQCV=\"USER\",IF(J4488>0.03*D$4532,0,$C4488/60),\nIF(J4488>0.03*J$4532,0,$C4488/60))))","v":0},{"$f":"IF(SUM(T$3091:T4487)>0,0,\nIF(MAX(L4488:L$4531)=MAX(L$3091:L$4531),0,\nIF(Hydrograph_Source_WQCV=\"USER\",IF(J4488>0.01*D$4532,0,$C4488/60),\nIF(J4488>0.01*J$4532,0,$C4488/60))))","v":0},0,0,0,0,0,0,0,0,0,{"$error":"#N/A"},{"$error":"#N/A"},{"$error":"#N/A"},{"$error":"#N/A"},{"$error":"#N/A"},{"$error":"#N/A"},{"$f":"IF(SUM(AJ$3091:AJ4487)>0,0,\nIF(MAX(AC4488:AC$4531)=MAX(AC$3091:AC$4531),0,\nIF(Hydrograph_Source_EURV=\"USER\",IF(AA4488>0.03*U$4532,0,$C4488/60),\nIF(AA4488>0.03*AA$4532,0,$C4488/60))))","v":0},{"$f":"IF(SUM(AK$3091:AK4487)>0,0,\nIF(MAX(AC4488:AC$4531)=MAX(AC$3091:AC$4531),0,\nIF(Hydrograph_Source_EURV=\"USER\",IF(AA4488>0.01*U$4532,0,$C4488/60),\nIF(AA4488>0.01*AA$4532,0,$C4488/60))))","v":0},0,0,0,0,0,0,0,0,0,{"$error":"#N/A"},{"$error":"#N/A"},{"$error":"#N/A"},{"$error":"#N/A"},{"$error":"#N/A"},{"$error":"#N/A"},{"$f":"IF(SUM(BA$3091:BA4487)>0,0,IF(MAX(AT4488:AT$4531)=MAX(AT$3091:AT$4531),0,IF(AR4488>0.03*AL$4532,0,$C4488/60)))","v":0},{"$f":"IF(SUM(BB$3091:BB4487)>0,0,IF(MAX(AT4488:AT$4531)=MAX(AT$3091:AT$4531),0,IF(AR4488>0.01*AL$4532,0,$C4488/60)))","v":0},0,0,0,0,0,0,0,0,0,{"$error":"#N/A"},{"$error":"#N/A"},{"$error":"#N/A"},{"$error":"#N/A"},{"$error":"#N/A"},{"$error":"#N/A"},{"$f":"IF(SUM(BR$3091:BR4487)>0,0,IF(MAX(BK4488:BK$4531)=MAX(BK$3091:BK$4531),0,IF(BI4488>0.03*BC$4532,0,$C4488/60)))","v":0},{"$f":"IF(SUM(BS$3091:BS4487)>0,0,IF(MAX(BK4488:BK$4531)=MAX(BK$3091:BK$4531),0,IF(BI4488>0.01*BC$4532,0,$C4488/60)))","v":0},0,0,0,0,0,0,0,0,0,{"$error":"#N/A"},{"$error":"#N/A"},{"$error":"#N/A"},{"$error":"#N/A"},{"$error":"#N/A"},{"$error":"#N/A"},{"$f":"IF(SUM(CI$3091:CI4487)>0,0,IF(MAX(CB4488:CB$4531)=MAX(CB$3091:CB$4531),0,IF(BZ4488>0.03*BT$4532,0,$C4488/60)))","v":0},{"$f":"IF(SUM(CJ$3091:CJ4487)>0,0,IF(MAX(CB4488:CB$4531)=MAX(CB$3091:CB$4531),0,IF(BZ4488>0.01*BT$4532,0,$C4488/60)))","v":0},0,0,0,0,0,0,0,0,0,{"$error":"#N/A"},{"$error":"#N/A"},{"$error":"#N/A"},{"$error":"#N/A"},{"$error":"#N/A"},{"$error":"#N/A"},{"$f":"IF(SUM(CZ$3091:CZ4487)>0,0,IF(MAX(CS4488:CS$4531)=MAX(CS$3091:CS$4531),0,IF(CQ4488>0.03*CK$4532,0,$C4488/60)))","v":0},{"$f":"IF(SUM(DA$3091:DA4487)>0,0,IF(MAX(CS4488:CS$4531)=MAX(CS$3091:CS$4531),0,IF(CQ4488>0.01*CK$4532,0,$C4488/60)))","v":0},0,0,0,0,0,0,0,0,0,{"$error":"#N/A"},{"$error":"#N/A"},{"$error":"#N/A"},{"$error":"#N/A"},{"$error":"#N/A"},{"$error":"#N/A"},{"$f":"IF(SUM(DQ$3091:DQ4487)>0,0,IF(MAX(DJ4488:DJ$4531)=MAX(DJ$3091:DJ$4531),0,IF(DH4488>0.03*DB$4532,0,$C4488/60)))","v":0},{"$f":"IF(SUM(DR$3091:DR4487)>0,0,IF(MAX(DJ4488:DJ$4531)=MAX(DJ$3091:DJ$4531),0,IF(DH4488>0.01*DB$4532,0,$C4488/60)))","v":0},0,0,0,0,0,0,0,0,0,{"$error":"#N/A"},{"$error":"#N/A"},{"$error":"#N/A"},{"$error":"#N/A"},{"$error":"#N/A"},{"$error":"#N/A"},{"$f":"IF(SUM(EH$3091:EH4487)>0,0,IF(MAX(EA4488:EA$4531)=MAX(EA$3091:EA$4531),0,IF(DY4488>0.03*DS$4532,0,$C4488/60)))","v":0},{"$f":"IF(SUM(EI$3091:EI4487)>0,0,IF(MAX(EA4488:EA$4531)=MAX(EA$3091:EA$4531),0,IF(DY4488>0.01*DS$4532,0,$C4488/60)))","v":0},0,0,0,0,0,0,0,0,0,{"$error":"#N/A"},{"$error":"#N/A"},{"$error":"#N/A"},{"$error":"#N/A"},{"$error":"#N/A"},{"$error":"#N/A"},{"$f":"IF(SUM(EY$3091:EY4487)>0,0,IF(MAX(ER4488:ER$4531)=MAX(ER$3091:ER$4531),0,IF(EP4488>0.03*EJ$4532,0,$C4488/60)))","v":0},{"$f":"IF(SUM(EZ$3091:EZ4487)>0,0,IF(MAX(ER4488:ER$4531)=MAX(ER$3091:ER$4531),0,IF(EP4488>0.01*EJ$4532,0,$C4488/60)))","v":0}]
[null,116.5,6990,0,0,0,0,0,0,0,0,0,{"$error":"#N/A"},{"$error":"#N/A"},{"$error":"#N/A"},{"$error":"#N/A"},{"$error":"#N/A"},{"$error":"#N/A"},{"$f":"IF(SUM(S$3091:S4488)>0,0,\nIF(MAX(L4489:L$4531)=MAX(L$3091:L$4531),0,\nIF(Hydrograph_Source_WQCV=\"USER\",IF(J4489>0.03*D$4532,0,$C4489/60),\nIF(J4489>0.03*J$4532,0,$C4489/60))))","v":0},{"$f":"IF(SUM(T$3091:T4488)>0,0,\nIF(MAX(L4489:L$4531)=MAX(L$3091:L$4531),0,\nIF(Hydrograph_Source_WQCV=\"USER\",IF(J4489>0.01*D$4532,0,$C4489/60),\nIF(J4489>0.01*J$4532,0,$C4489/60))))","v":0},0,0,0,0,0,0,0,0,0,{"$error":"#N/A"},{"$error":"#N/A"},{"$error":"#N/A"},{"$error":"#N/A"},{"$error":"#N/A"},{"$error":"#N/A"},{"$f":"IF(SUM(AJ$3091:AJ4488)>0,0,\nIF(MAX(AC4489:AC$4531)=MAX(AC$3091:AC$4531),0,\nIF(Hydrograph_Source_EURV=\"USER\",IF(AA4489>0.03*U$4532,0,$C4489/60),\nIF(AA4489>0.03*AA$4532,0,$C4489/60))))","v":0},{"$f":"IF(SUM(AK$3091:AK4488)>0,0,\nIF(MAX(AC4489:AC$4531)=MAX(AC$3091:AC$4531),0,\nIF(Hydrograph_Source_EURV=\"USER\",IF(AA4489>0.01*U$4532,0,$C4489/60),\nIF(AA4489>0.01*AA$4532,0,$C4489/60))))","v":0},0,0,0,0,0,0,0,0,0,{"$error":"#N/A"},{"$error":"#N/A"},{"$error":"#N/A"},{"$error":"#N/A"},{"$error":"#N/A"},{"$error":"#N/A"},{"$f":"IF(SUM(BA$3091:BA4488)>0,0,IF(MAX(AT4489:AT$4531)=MAX(AT$3091:AT$4531),0,IF(AR4489>0.03*AL$4532,0,$C4489/60)))","v":0},{"$f":"IF(SUM(BB$3091:BB4488)>0,0,IF(MAX(AT4489:AT$4531)=MAX(AT$3091:AT$4531),0,IF(AR4489>0.01*AL$4532,0,$C4489/60)))","v":0},0,0,0,0,0,0,0,0,0,{"$error":"#N/A"},{"$error":"#N/A"},{"$error":"#N/A"},{"$error":"#N/A"},{"$error":"#N/A"},{"$error":"#N/A"},{"$f":"IF(SUM(BR$3091:BR4488)>0,0,IF(MAX(BK4489:BK$4531)=MAX(BK$3091:BK$4531),0,IF(BI4489>0.03*BC$4532,0,$C4489/60)))","v":0},{"$f":"IF(SUM(BS$3091:BS4488)>0,0,IF(MAX(BK4489:BK$4531)=MAX(BK$3091:BK$4531),0,IF(BI4489>0.01*BC$4532,0,$C4489/60)))","v":0},0,0,0,0,0,0,0,0,0,{"$error":"#N/A"},{"$error":"#N/A"},{"$error":"#N/A"},{"$error":"#N/A"},{"$error":"#N/A"},{"$error":"#N/A"},{"$f":"IF(SUM(CI$3091:CI4488)>0,0,IF(MAX(CB4489:CB$4531)=MAX(CB$3091:CB$4531),0,IF(BZ4489>0.03*BT$4532,0,$C4489/60)))","v":0},{"$f":"IF(SUM(CJ$3091:CJ4488)>0,0,IF(MAX(CB4489:CB$4531)=MAX(CB$3091:CB$4531),0,IF(BZ4489>0.01*BT$4532,0,$C4489/60)))","v":0},0,0,0,0,0,0,0,0,0,{"$error":"#N/A"},{"$error":"#N/A"},{"$error":"#N/A"},{"$error":"#N/A"},{"$error":"#N/A"},{"$error":"#N/A"},{"$f":"IF(SUM(CZ$3091:CZ4488)>0,0,IF(MAX(CS4489:CS$4531)=MAX(CS$3091:CS$4531),0,IF(CQ4489>0.03*CK$4532,0,$C4489/60)))","v":0},{"$f":"IF(SUM(DA$3091:DA4488)>0,0,IF(MAX(CS4489:CS$4531)=MAX(CS$3091:CS$4531),0,IF(CQ4489>0.01*CK$4532,0,$C4489/60)))","v":0},0,0,0,0,0,0,0,0,0,{"$error":"#N/A"},{"$error":"#N/A"},{"$error":"#N/A"},{"$error":"#N/A"},{"$error":"#N/A"},{"$error":"#N/A"},{"$f":"IF(SUM(DQ$3091:DQ4488)>0,0,IF(MAX(DJ4489:DJ$4531)=MAX(DJ$3091:DJ$4531),0,IF(DH4489>0.03*DB$4532,0,$C4489/60)))","v":0},{"$f":"IF(SUM(DR$3091:DR4488)>0,0,IF(MAX(DJ4489:DJ$4531)=MAX(DJ$3091:DJ$4531),0,IF(DH4489>0.01*DB$4532,0,$C4489/60)))","v":0},0,0,0,0,0,0,0,0,0,{"$error":"#N/A"},{"$error":"#N/A"},{"$error":"#N/A"},{"$error":"#N/A"},{"$error":"#N/A"},{"$error":"#N/A"},{"$f":"IF(SUM(EH$3091:EH4488)>0,0,IF(MAX(EA4489:EA$4531)=MAX(EA$3091:EA$4531),0,IF(DY4489>0.03*DS$4532,0,$C4489/60)))","v":0},{"$f":"IF(SUM(EI$3091:EI4488)>0,0,IF(MAX(EA4489:EA$4531)=MAX(EA$3091:EA$4531),0,IF(DY4489>0.01*DS$4532,0,$C4489/60)))","v":0},0,0,0,0,0,0,0,0,0,{"$error":"#N/A"},{"$error":"#N/A"},{"$error":"#N/A"},{"$error":"#N/A"},{"$error":"#N/A"},{"$error":"#N/A"},{"$f":"IF(SUM(EY$3091:EY4488)>0,0,IF(MAX(ER4489:ER$4531)=MAX(ER$3091:ER$4531),0,IF(EP4489>0.03*EJ$4532,0,$C4489/60)))","v":0},{"$f":"IF(SUM(EZ$3091:EZ4488)>0,0,IF(MAX(ER4489:ER$4531)=MAX(ER$3091:ER$4531),0,IF(EP4489>0.01*EJ$4532,0,$C4489/60)))","v":0}]
[null,116.58333333333333,6995,0,0,0,0,0,0,0,0,0,{"$error":"#N/A"},{"$error":"#N/A"},{"$error":"#N/A"},{"$error":"#N/A"},{"$error":"#N/A"},{"$error":"#N/A"},{"$f":"IF(SUM(S$3091:S4489)>0,0,\nIF(MAX(L4490:L$4531)=MAX(L$3091:L$4531),0,\nIF(Hydrograph_Source_WQCV=\"USER\",IF(J4490>0.03*D$4532,0,$C4490/60),\nIF(J4490>0.03*J$4532,0,$C4490/60))))","v":0},{"$f":"IF(SUM(T$3091:T4489)>0,0,\nIF(MAX(L4490:L$4531)=MAX(L$3091:L$4531),0,\nIF(Hydrograph_Source_WQCV=\"USER\",IF(J4490>0.01*D$4532,0,$C4490/60),\nIF(J4490>0.01*J$4532,0,$C4490/60))))","v":0},0,0,0,0,0,0,0,0,0,{"$error":"#N/A"},{"$error":"#N/A"},{"$error":"#N/A"},{"$error":"#N/A"},{"$error":"#N/A"},{"$error":"#N/A"},{"$f":"IF(SUM(AJ$3091:AJ4489)>0,0,\nIF(MAX(AC4490:AC$4531)=MAX(AC$3091:AC$4531),0,\nIF(Hydrograph_Source_EURV=\"USER\",IF(AA4490>0.03*U$4532,0,$C4490/60),\nIF(AA4490>0.03*AA$4532,0,$C4490/60))))","v":0},{"$f":"IF(SUM(AK$3091:AK4489)>0,0,\nIF(MAX(AC4490:AC$4531)=MAX(AC$3091:AC$4531),0,\nIF(Hydrograph_Source_EURV=\"USER\",IF(AA4490>0.01*U$4532,0,$C4490/60),\nIF(AA4490>0.01*AA$4532,0,$C4490/60))))","v":0},0,0,0,0,0,0,0,0,0,{"$error":"#N/A"},{"$error":"#N/A"},{"$error":"#N/A"},{"$error":"#N/A"},{"$error":"#N/A"},{"$error":"#N/A"},{"$f":"IF(SUM(BA$3091:BA4489)>0,0,IF(MAX(AT4490:AT$4531)=MAX(AT$3091:AT$4531),0,IF(AR4490>0.03*AL$4532,0,$C4490/60)))","v":0},{"$f":"IF(SUM(BB$3091:BB4489)>0,0,IF(MAX(AT4490:AT$4531)=MAX(AT$3091:AT$4531),0,IF(AR4490>0.01*AL$4532,0,$C4490/60)))","v":0},0,0,0,0,0,0,0,0,0,{"$error":"#N/A"},{"$error":"#N/A"},{"$error":"#N/A"},{"$error":"#N/A"},{"$error":"#N/A"},{"$error":"#N/A"},{"$f":"IF(SUM(BR$3091:BR4489)>0,0,IF(MAX(BK4490:BK$4531)=MAX(BK$3091:BK$4531),0,IF(BI4490>0.03*BC$4532,0,$C4490/60)))","v":0},{"$f":"IF(SUM(BS$3091:BS4489)>0,0,IF(MAX(BK4490:BK$4531)=MAX(BK$3091:BK$4531),0,IF(BI4490>0.01*BC$4532,0,$C4490/60)))","v":0},0,0,0,0,0,0,0,0,0,{"$error":"#N/A"},{"$error":"#N/A"},{"$error":"#N/A"},{"$error":"#N/A"},{"$error":"#N/A"},{"$error":"#N/A"},{"$f":"IF(SUM(CI$3091:CI4489)>0,0,IF(MAX(CB4490:CB$4531)=MAX(CB$3091:CB$4531),0,IF(BZ4490>0.03*BT$4532,0,$C4490/60)))","v":0},{"$f":"IF(SUM(CJ$3091:CJ4489)>0,0,IF(MAX(CB4490:CB$4531)=MAX(CB$3091:CB$4531),0,IF(BZ4490>0.01*BT$4532,0,$C4490/60)))","v":0},0,0,0,0,0,0,0,0,0,{"$error":"#N/A"},{"$error":"#N/A"},{"$error":"#N/A"},{"$error":"#N/A"},{"$error":"#N/A"},{"$error":"#N/A"},{"$f":"IF(SUM(CZ$3091:CZ4489)>0,0,IF(MAX(CS4490:CS$4531)=MAX(CS$3091:CS$4531),0,IF(CQ4490>0.03*CK$4532,0,$C4490/60)))","v":0},{"$f":"IF(SUM(DA$3091:DA4489)>0,0,IF(MAX(CS4490:CS$4531)=MAX(CS$3091:CS$4531),0,IF(CQ4490>0.01*CK$4532,0,$C4490/60)))","v":0},0,0,0,0,0,0,0,0,0,{"$error":"#N/A"},{"$error":"#N/A"},{"$error":"#N/A"},{"$error":"#N/A"},{"$error":"#N/A"},{"$error":"#N/A"},{"$f":"IF(SUM(DQ$3091:DQ4489)>0,0,IF(MAX(DJ4490:DJ$4531)=MAX(DJ$3091:DJ$4531),0,IF(DH4490>0.03*DB$4532,0,$C4490/60)))","v":0},{"$f":"IF(SUM(DR$3091:DR4489)>0,0,IF(MAX(DJ4490:DJ$4531)=MAX(DJ$3091:DJ$4531),0,IF(DH4490>0.01*DB$4532,0,$C4490/60)))","v":0},0,0,0,0,0,0,0,0,0,{"$error":"#N/A"},{"$error":"#N/A"},{"$error":"#N/A"},{"$error":"#N/A"},{"$error":"#N/A"},{"$error":"#N/A"},{"$f":"IF(SUM(EH$3091:EH4489)>0,0,IF(MAX(EA4490:EA$4531)=MAX(EA$3091:EA$4531),0,IF(DY4490>0.03*DS$4532,0,$C4490/60)))","v":0},{"$f":"IF(SUM(EI$3091:EI4489)>0,0,IF(MAX(EA4490:EA$4531)=MAX(EA$3091:EA$4531),0,IF(DY4490>0.01*DS$4532,0,$C4490/60)))","v":0},0,0,0,0,0,0,0,0,0,{"$error":"#N/A"},{"$error":"#N/A"},{"$error":"#N/A"},{"$error":"#N/A"},{"$error":"#N/A"},{"$error":"#N/A"},{"$f":"IF(SUM(EY$3091:EY4489)>0,0,IF(MAX(ER4490:ER$4531)=MAX(ER$3091:ER$4531),0,IF(EP4490>0.03*EJ$4532,0,$C4490/60)))","v":0},{"$f":"IF(SUM(EZ$3091:EZ4489)>0,0,IF(MAX(ER4490:ER$4531)=MAX(ER$3091:ER$4531),0,IF(EP4490>0.01*EJ$4532,0,$C4490/60)))","v":0}]
[null,116.66666666666667,7000,0,0,0,0,0,0,0,0,0,{"$error":"#N/A"},{"$error":"#N/A"},{"$error":"#N/A"},{"$error":"#N/A"},{"$error":"#N/A"},{"$error":"#N/A"},{"$f":"IF(SUM(S$3091:S4490)>0,0,\nIF(MAX(L4491:L$4531)=MAX(L$3091:L$4531),0,\nIF(Hydrograph_Source_WQCV=\"USER\",IF(J4491>0.03*D$4532,0,$C4491/60),\nIF(J4491>0.03*J$4532,0,$C4491/60))))","v":0},{"$f":"IF(SUM(T$3091:T4490)>0,0,\nIF(MAX(L4491:L$4531)=MAX(L$3091:L$4531),0,\nIF(Hydrograph_Source_WQCV=\"USER\",IF(J4491>0.01*D$4532,0,$C4491/60),\nIF(J4491>0.01*J$4532,0,$C4491/60))))","v":0},0,0,0,0,0,0,0,0,0,{"$error":"#N/A"},{"$error":"#N/A"},{"$error":"#N/A"},{"$error":"#N/A"},{"$error":"#N/A"},{"$error":"#N/A"},{"$f":"IF(SUM(AJ$3091:AJ4490)>0,0,\nIF(MAX(AC4491:AC$4531)=MAX(AC$3091:AC$4531),0,\nIF(Hydrograph_Source_EURV=\"USER\",IF(AA4491>0.03*U$4532,0,$C4491/60),\nIF(AA4491>0.03*AA$4532,0,$C4491/60))))","v":0},{"$f":"IF(SUM(AK$3091:AK4490)>0,0,\nIF(MAX(AC4491:AC$4531)=MAX(AC$3091:AC$4531),0,\nIF(Hydrograph_Source_EURV=\"USER\",IF(AA4491>0.01*U$4532,0,$C4491/60),\nIF(AA4491>0.01*AA$4532,0,$C4491/60))))","v":0},0,0,0,0,0,0,0,0,0,{"$error":"#N/A"},{"$error":"#N/A"},{"$error":"#N/A"},{"$error":"#N/A"},{"$error":"#N/A"},{"$error":"#N/A"},{"$f":"IF(SUM(BA$3091:BA4490)>0,0,IF(MAX(AT4491:AT$4531)=MAX(AT$3091:AT$4531),0,IF(AR4491>0.03*AL$4532,0,$C4491/60)))","v":0},{"$f":"IF(SUM(BB$3091:BB4490)>0,0,IF(MAX(AT4491:AT$4531)=MAX(AT$3091:AT$4531),0,IF(AR4491>0.01*AL$4532,0,$C4491/60)))","v":0},0,0,0,0,0,0,0,0,0,{"$error":"#N/A"},{"$error":"#N/A"},{"$error":"#N/A"},{"$error":"#N/A"},{"$error":"#N/A"},{"$error":"#N/A"},{"$f":"IF(SUM(BR$3091:BR4490)>0,0,IF(MAX(BK4491:BK$4531)=MAX(BK$3091:BK$4531),0,IF(BI4491>0.03*BC$4532,0,$C4491/60)))","v":0},{"$f":"IF(SUM(BS$3091:BS4490)>0,0,IF(MAX(BK4491:BK$4531)=MAX(BK$3091:BK$4531),0,IF(BI4491>0.01*BC$4532,0,$C4491/60)))","v":0},0,0,0,0,0,0,0,0,0,{"$error":"#N/A"},{"$error":"#N/A"},{"$error":"#N/A"},{"$error":"#N/A"},{"$error":"#N/A"},{"$error":"#N/A"},{"$f":"IF(SUM(CI$3091:CI4490)>0,0,IF(MAX(CB4491:CB$4531)=MAX(CB$3091:CB$4531),0,IF(BZ4491>0.03*BT$4532,0,$C4491/60)))","v":0},{"$f":"IF(SUM(CJ$3091:CJ4490)>0,0,IF(MAX(CB4491:CB$4531)=MAX(CB$3091:CB$4531),0,IF(BZ4491>0.01*BT$4532,0,$C4491/60)))","v":0},0,0,0,0,0,0,0,0,0,{"$error":"#N/A"},{"$error":"#N/A"},{"$error":"#N/A"},{"$error":"#N/A"},{"$error":"#N/A"},{"$error":"#N/A"},{"$f":"IF(SUM(CZ$3091:CZ4490)>0,0,IF(MAX(CS4491:CS$4531)=MAX(CS$3091:CS$4531),0,IF(CQ4491>0.03*CK$4532,0,$C4491/60)))","v":0},{"$f":"IF(SUM(DA$3091:DA4490)>0,0,IF(MAX(CS4491:CS$4531)=MAX(CS$3091:CS$4531),0,IF(CQ4491>0.01*CK$4532,0,$C4491/60)))","v":0},0,0,0,0,0,0,0,0,0,{"$error":"#N/A"},{"$error":"#N/A"},{"$error":"#N/A"},{"$error":"#N/A"},{"$error":"#N/A"},{"$error":"#N/A"},{"$f":"IF(SUM(DQ$3091:DQ4490)>0,0,IF(MAX(DJ4491:DJ$4531)=MAX(DJ$3091:DJ$4531),0,IF(DH4491>0.03*DB$4532,0,$C4491/60)))","v":0},{"$f":"IF(SUM(DR$3091:DR4490)>0,0,IF(MAX(DJ4491:DJ$4531)=MAX(DJ$3091:DJ$4531),0,IF(DH4491>0.01*DB$4532,0,$C4491/60)))","v":0},0,0,0,0,0,0,0,0,0,{"$error":"#N/A"},{"$error":"#N/A"},{"$error":"#N/A"},{"$error":"#N/A"},{"$error":"#N/A"},{"$error":"#N/A"},{"$f":"IF(SUM(EH$3091:EH4490)>0,0,IF(MAX(EA4491:EA$4531)=MAX(EA$3091:EA$4531),0,IF(DY4491>0.03*DS$4532,0,$C4491/60)))","v":0},{"$f":"IF(SUM(EI$3091:EI4490)>0,0,IF(MAX(EA4491:EA$4531)=MAX(EA$3091:EA$4531),0,IF(DY4491>0.01*DS$4532,0,$C4491/60)))","v":0},0,0,0,0,0,0,0,0,0,{"$error":"#N/A"},{"$error":"#N/A"},{"$error":"#N/A"},{"$error":"#N/A"},{"$error":"#N/A"},{"$error":"#N/A"},{"$f":"IF(SUM(EY$3091:EY4490)>0,0,IF(MAX(ER4491:ER$4531)=MAX(ER$3091:ER$4531),0,IF(EP4491>0.03*EJ$4532,0,$C4491/60)))","v":0},{"$f":"IF(SUM(EZ$3091:EZ4490)>0,0,IF(MAX(ER4491:ER$4531)=MAX(ER$3091:ER$4531),0,IF(EP4491>0.01*EJ$4532,0,$C4491/60)))","v":0}]
[null,116.75,7005,0,0,0,0,0,0,0,0,0,{"$error":"#N/A"},{"$error":"#N/A"},{"$error":"#N/A"},{"$error":"#N/A"},{"$error":"#N/A"},{"$error":"#N/A"},{"$f":"IF(SUM(S$3091:S4491)>0,0,\nIF(MAX(L4492:L$4531)=MAX(L$3091:L$4531),0,\nIF(Hydrograph_Source_WQCV=\"USER\",IF(J4492>0.03*D$4532,0,$C4492/60),\nIF(J4492>0.03*J$4532,0,$C4492/60))))","v":0},{"$f":"IF(SUM(T$3091:T4491)>0,0,\nIF(MAX(L4492:L$4531)=MAX(L$3091:L$4531),0,\nIF(Hydrograph_Source_WQCV=\"USER\",IF(J4492>0.01*D$4532,0,$C4492/60),\nIF(J4492>0.01*J$4532,0,$C4492/60))))","v":0},0,0,0,0,0,0,0,0,0,{"$error":"#N/A"},{"$error":"#N/A"},{"$error":"#N/A"},{"$error":"#N/A"},{"$error":"#N/A"},{"$error":"#N/A"},{"$f":"IF(SUM(AJ$3091:AJ4491)>0,0,\nIF(MAX(AC4492:AC$4531)=MAX(AC$3091:AC$4531),0,\nIF(Hydrograph_Source_EURV=\"USER\",IF(AA4492>0.03*U$4532,0,$C4492/60),\nIF(AA4492>0.03*AA$4532,0,$C4492/60))))","v":0},{"$f":"IF(SUM(AK$3091:AK4491)>0,0,\nIF(MAX(AC4492:AC$4531)=MAX(AC$3091:AC$4531),0,\nIF(Hydrograph_Source_EURV=\"USER\",IF(AA4492>0.01*U$4532,0,$C4492/60),\nIF(AA4492>0.01*AA$4532,0,$C4492/60))))","v":0},0,0,0,0,0,0,0,0,0,{"$error":"#N/A"},{"$error":"#N/A"},{"$error":"#N/A"},{"$error":"#N/A"},{"$error":"#N/A"},{"$error":"#N/A"},{"$f":"IF(SUM(BA$3091:BA4491)>0,0,IF(MAX(AT4492:AT$4531)=MAX(AT$3091:AT$4531),0,IF(AR4492>0.03*AL$4532,0,$C4492/60)))","v":0},{"$f":"IF(SUM(BB$3091:BB4491)>0,0,IF(MAX(AT4492:AT$4531)=MAX(AT$3091:AT$4531),0,IF(AR4492>0.01*AL$4532,0,$C4492/60)))","v":0},0,0,0,0,0,0,0,0,0,{"$error":"#N/A"},{"$error":"#N/A"},{"$error":"#N/A"},{"$error":"#N/A"},{"$error":"#N/A"},{"$error":"#N/A"},{"$f":"IF(SUM(BR$3091:BR4491)>0,0,IF(MAX(BK4492:BK$4531)=MAX(BK$3091:BK$4531),0,IF(BI4492>0.03*BC$4532,0,$C4492/60)))","v":0},{"$f":"IF(SUM(BS$3091:BS4491)>0,0,IF(MAX(BK4492:BK$4531)=MAX(BK$3091:BK$4531),0,IF(BI4492>0.01*BC$4532,0,$C4492/60)))","v":0},0,0,0,0,0,0,0,0,0,{"$error":"#N/A"},{"$error":"#N/A"},{"$error":"#N/A"},{"$error":"#N/A"},{"$error":"#N/A"},{"$error":"#N/A"},{"$f":"IF(SUM(CI$3091:CI4491)>0,0,IF(MAX(CB4492:CB$4531)=MAX(CB$3091:CB$4531),0,IF(BZ4492>0.03*BT$4532,0,$C4492/60)))","v":0},{"$f":"IF(SUM(CJ$3091:CJ4491)>0,0,IF(MAX(CB4492:CB$4531)=MAX(CB$3091:CB$4531),0,IF(BZ4492>0.01*BT$4532,0,$C4492/60)))","v":0},0,0,0,0,0,0,0,0,0,{"$error":"#N/A"},{"$error":"#N/A"},{"$error":"#N/A"},{"$error":"#N/A"},{"$error":"#N/A"},{"$error":"#N/A"},{"$f":"IF(SUM(CZ$3091:CZ4491)>0,0,IF(MAX(CS4492:CS$4531)=MAX(CS$3091:CS$4531),0,IF(CQ4492>0.03*CK$4532,0,$C4492/60)))","v":0},{"$f":"IF(SUM(DA$3091:DA4491)>0,0,IF(MAX(CS4492:CS$4531)=MAX(CS$3091:CS$4531),0,IF(CQ4492>0.01*CK$4532,0,$C4492/60)))","v":0},0,0,0,0,0,0,0,0,0,{"$error":"#N/A"},{"$error":"#N/A"},{"$error":"#N/A"},{"$error":"#N/A"},{"$error":"#N/A"},{"$error":"#N/A"},{"$f":"IF(SUM(DQ$3091:DQ4491)>0,0,IF(MAX(DJ4492:DJ$4531)=MAX(DJ$3091:DJ$4531),0,IF(DH4492>0.03*DB$4532,0,$C4492/60)))","v":0},{"$f":"IF(SUM(DR$3091:DR4491)>0,0,IF(MAX(DJ4492:DJ$4531)=MAX(DJ$3091:DJ$4531),0,IF(DH4492>0.01*DB$4532,0,$C4492/60)))","v":0},0,0,0,0,0,0,0,0,0,{"$error":"#N/A"},{"$error":"#N/A"},{"$error":"#N/A"},{"$error":"#N/A"},{"$error":"#N/A"},{"$error":"#N/A"},{"$f":"IF(SUM(EH$3091:EH4491)>0,0,IF(MAX(EA4492:EA$4531)=MAX(EA$3091:EA$4531),0,IF(DY4492>0.03*DS$4532,0,$C4492/60)))","v":0},{"$f":"IF(SUM(EI$3091:EI4491)>0,0,IF(MAX(EA4492:EA$4531)=MAX(EA$3091:EA$4531),0,IF(DY4492>0.01*DS$4532,0,$C4492/60)))","v":0},0,0,0,0,0,0,0,0,0,{"$error":"#N/A"},{"$error":"#N/A"},{"$error":"#N/A"},{"$error":"#N/A"},{"$error":"#N/A"},{"$error":"#N/A"},{"$f":"IF(SUM(EY$3091:EY4491)>0,0,IF(MAX(ER4492:ER$4531)=MAX(ER$3091:ER$4531),0,IF(EP4492>0.03*EJ$4532,0,$C4492/60)))","v":0},{"$f":"IF(SUM(EZ$3091:EZ4491)>0,0,IF(MAX(ER4492:ER$4531)=MAX(ER$3091:ER$4531),0,IF(EP4492>0.01*EJ$4532,0,$C4492/60)))","v":0}]
[null,116.83333333333333,7010,0,0,0,0,0,0,0,0,0,{"$error":"#N/A"},{"$error":"#N/A"},{"$error":"#N/A"},{"$error":"#N/A"},{"$error":"#N/A"},{"$error":"#N/A"},{"$f":"IF(SUM(S$3091:S4492)>0,0,\nIF(MAX(L4493:L$4531)=MAX(L$3091:L$4531),0,\nIF(Hydrograph_Source_WQCV=\"USER\",IF(J4493>0.03*D$4532,0,$C4493/60),\nIF(J4493>0.03*J$4532,0,$C4493/60))))","v":0},{"$f":"IF(SUM(T$3091:T4492)>0,0,\nIF(MAX(L4493:L$4531)=MAX(L$3091:L$4531),0,\nIF(Hydrograph_Source_WQCV=\"USER\",IF(J4493>0.01*D$4532,0,$C4493/60),\nIF(J4493>0.01*J$4532,0,$C4493/60))))","v":0},0,0,0,0,0,0,0,0,0,{"$error":"#N/A"},{"$error":"#N/A"},{"$error":"#N/A"},{"$error":"#N/A"},{"$error":"#N/A"},{"$error":"#N/A"},{"$f":"IF(SUM(AJ$3091:AJ4492)>0,0,\nIF(MAX(AC4493:AC$4531)=MAX(AC$3091:AC$4531),0,\nIF(Hydrograph_Source_EURV=\"USER\",IF(AA4493>0.03*U$4532,0,$C4493/60),\nIF(AA4493>0.03*AA$4532,0,$C4493/60))))","v":0},{"$f":"IF(SUM(AK$3091:AK4492)>0,0,\nIF(MAX(AC4493:AC$4531)=MAX(AC$3091:AC$4531),0,\nIF(Hydrograph_Source_EURV=\"USER\",IF(AA4493>0.01*U$4532,0,$C4493/60),\nIF(AA4493>0.01*AA$4532,0,$C4493/60))))","v":0},0,0,0,0,0,0,0,0,0,{"$error":"#N/A"},{"$error":"#N/A"},{"$error":"#N/A"},{"$error":"#N/A"},{"$error":"#N/A"},{"$error":"#N/A"},{"$f":"IF(SUM(BA$3091:BA4492)>0,0,IF(MAX(AT4493:AT$4531)=MAX(AT$3091:AT$4531),0,IF(AR4493>0.03*AL$4532,0,$C4493/60)))","v":0},{"$f":"IF(SUM(BB$3091:BB4492)>0,0,IF(MAX(AT4493:AT$4531)=MAX(AT$3091:AT$4531),0,IF(AR4493>0.01*AL$4532,0,$C4493/60)))","v":0},0,0,0,0,0,0,0,0,0,{"$error":"#N/A"},{"$error":"#N/A"},{"$error":"#N/A"},{"$error":"#N/A"},{"$error":"#N/A"},{"$error":"#N/A"},{"$f":"IF(SUM(BR$3091:BR4492)>0,0,IF(MAX(BK4493:BK$4531)=MAX(BK$3091:BK$4531),0,IF(BI4493>0.03*BC$4532,0,$C4493/60)))","v":0},{"$f":"IF(SUM(BS$3091:BS4492)>0,0,IF(MAX(BK4493:BK$4531)=MAX(BK$3091:BK$4531),0,IF(BI4493>0.01*BC$4532,0,$C4493/60)))","v":0},0,0,0,0,0,0,0,0,0,{"$error":"#N/A"},{"$error":"#N/A"},{"$error":"#N/A"},{"$error":"#N/A"},{"$error":"#N/A"},{"$error":"#N/A"},{"$f":"IF(SUM(CI$3091:CI4492)>0,0,IF(MAX(CB4493:CB$4531)=MAX(CB$3091:CB$4531),0,IF(BZ4493>0.03*BT$4532,0,$C4493/60)))","v":0},{"$f":"IF(SUM(CJ$3091:CJ4492)>0,0,IF(MAX(CB4493:CB$4531)=MAX(CB$3091:CB$4531),0,IF(BZ4493>0.01*BT$4532,0,$C4493/60)))","v":0},0,0,0,0,0,0,0,0,0,{"$error":"#N/A"},{"$error":"#N/A"},{"$error":"#N/A"},{"$error":"#N/A"},{"$error":"#N/A"},{"$error":"#N/A"},{"$f":"IF(SUM(CZ$3091:CZ4492)>0,0,IF(MAX(CS4493:CS$4531)=MAX(CS$3091:CS$4531),0,IF(CQ4493>0.03*CK$4532,0,$C4493/60)))","v":0},{"$f":"IF(SUM(DA$3091:DA4492)>0,0,IF(MAX(CS4493:CS$4531)=MAX(CS$3091:CS$4531),0,IF(CQ4493>0.01*CK$4532,0,$C4493/60)))","v":0},0,0,0,0,0,0,0,0,0,{"$error":"#N/A"},{"$error":"#N/A"},{"$error":"#N/A"},{"$error":"#N/A"},{"$error":"#N/A"},{"$error":"#N/A"},{"$f":"IF(SUM(DQ$3091:DQ4492)>0,0,IF(MAX(DJ4493:DJ$4531)=MAX(DJ$3091:DJ$4531),0,IF(DH4493>0.03*DB$4532,0,$C4493/60)))","v":0},{"$f":"IF(SUM(DR$3091:DR4492)>0,0,IF(MAX(DJ4493:DJ$4531)=MAX(DJ$3091:DJ$4531),0,IF(DH4493>0.01*DB$4532,0,$C4493/60)))","v":0},0,0,0,0,0,0,0,0,0,{"$error":"#N/A"},{"$error":"#N/A"},{"$error":"#N/A"},{"$error":"#N/A"},{"$error":"#N/A"},{"$error":"#N/A"},{"$f":"IF(SUM(EH$3091:EH4492)>0,0,IF(MAX(EA4493:EA$4531)=MAX(EA$3091:EA$4531),0,IF(DY4493>0.03*DS$4532,0,$C4493/60)))","v":0},{"$f":"IF(SUM(EI$3091:EI4492)>0,0,IF(MAX(EA4493:EA$4531)=MAX(EA$3091:EA$4531),0,IF(DY4493>0.01*DS$4532,0,$C4493/60)))","v":0},0,0,0,0,0,0,0,0,0,{"$error":"#N/A"},{"$error":"#N/A"},{"$error":"#N/A"},{"$error":"#N/A"},{"$error":"#N/A"},{"$error":"#N/A"},{"$f":"IF(SUM(EY$3091:EY4492)>0,0,IF(MAX(ER4493:ER$4531)=MAX(ER$3091:ER$4531),0,IF(EP4493>0.03*EJ$4532,0,$C4493/60)))","v":0},{"$f":"IF(SUM(EZ$3091:EZ4492)>0,0,IF(MAX(ER4493:ER$4531)=MAX(ER$3091:ER$4531),0,IF(EP4493>0.01*EJ$4532,0,$C4493/60)))","v":0}]
[null,116.91666666666667,7015,0,0,0,0,0,0,0,0,0,{"$error":"#N/A"},{"$error":"#N/A"},{"$error":"#N/A"},{"$error":"#N/A"},{"$error":"#N/A"},{"$error":"#N/A"},{"$f":"IF(SUM(S$3091:S4493)>0,0,\nIF(MAX(L4494:L$4531)=MAX(L$3091:L$4531),0,\nIF(Hydrograph_Source_WQCV=\"USER\",IF(J4494>0.03*D$4532,0,$C4494/60),\nIF(J4494>0.03*J$4532,0,$C4494/60))))","v":0},{"$f":"IF(SUM(T$3091:T4493)>0,0,\nIF(MAX(L4494:L$4531)=MAX(L$3091:L$4531),0,\nIF(Hydrograph_Source_WQCV=\"USER\",IF(J4494>0.01*D$4532,0,$C4494/60),\nIF(J4494>0.01*J$4532,0,$C4494/60))))","v":0},0,0,0,0,0,0,0,0,0,{"$error":"#N/A"},{"$error":"#N/A"},{"$error":"#N/A"},{"$error":"#N/A"},{"$error":"#N/A"},{"$error":"#N/A"},{"$f":"IF(SUM(AJ$3091:AJ4493)>0,0,\nIF(MAX(AC4494:AC$4531)=MAX(AC$3091:AC$4531),0,\nIF(Hydrograph_Source_EURV=\"USER\",IF(AA4494>0.03*U$4532,0,$C4494/60),\nIF(AA4494>0.03*AA$4532,0,$C4494/60))))","v":0},{"$f":"IF(SUM(AK$3091:AK4493)>0,0,\nIF(MAX(AC4494:AC$4531)=MAX(AC$3091:AC$4531),0,\nIF(Hydrograph_Source_EURV=\"USER\",IF(AA4494>0.01*U$4532,0,$C4494/60),\nIF(AA4494>0.01*AA$4532,0,$C4494/60))))","v":0},0,0,0,0,0,0,0,0,0,{"$error":"#N/A"},{"$error":"#N/A"},{"$error":"#N/A"},{"$error":"#N/A"},{"$error":"#N/A"},{"$error":"#N/A"},{"$f":"IF(SUM(BA$3091:BA4493)>0,0,IF(MAX(AT4494:AT$4531)=MAX(AT$3091:AT$4531),0,IF(AR4494>0.03*AL$4532,0,$C4494/60)))","v":0},{"$f":"IF(SUM(BB$3091:BB4493)>0,0,IF(MAX(AT4494:AT$4531)=MAX(AT$3091:AT$4531),0,IF(AR4494>0.01*AL$4532,0,$C4494/60)))","v":0},0,0,0,0,0,0,0,0,0,{"$error":"#N/A"},{"$error":"#N/A"},{"$error":"#N/A"},{"$error":"#N/A"},{"$error":"#N/A"},{"$error":"#N/A"},{"$f":"IF(SUM(BR$3091:BR4493)>0,0,IF(MAX(BK4494:BK$4531)=MAX(BK$3091:BK$4531),0,IF(BI4494>0.03*BC$4532,0,$C4494/60)))","v":0},{"$f":"IF(SUM(BS$3091:BS4493)>0,0,IF(MAX(BK4494:BK$4531)=MAX(BK$3091:BK$4531),0,IF(BI4494>0.01*BC$4532,0,$C4494/60)))","v":0},0,0,0,0,0,0,0,0,0,{"$error":"#N/A"},{"$error":"#N/A"},{"$error":"#N/A"},{"$error":"#N/A"},{"$error":"#N/A"},{"$error":"#N/A"},{"$f":"IF(SUM(CI$3091:CI4493)>0,0,IF(MAX(CB4494:CB$4531)=MAX(CB$3091:CB$4531),0,IF(BZ4494>0.03*BT$4532,0,$C4494/60)))","v":0},{"$f":"IF(SUM(CJ$3091:CJ4493)>0,0,IF(MAX(CB4494:CB$4531)=MAX(CB$3091:CB$4531),0,IF(BZ4494>0.01*BT$4532,0,$C4494/60)))","v":0},0,0,0,0,0,0,0,0,0,{"$error":"#N/A"},{"$error":"#N/A"},{"$error":"#N/A"},{"$error":"#N/A"},{"$error":"#N/A"},{"$error":"#N/A"},{"$f":"IF(SUM(CZ$3091:CZ4493)>0,0,IF(MAX(CS4494:CS$4531)=MAX(CS$3091:CS$4531),0,IF(CQ4494>0.03*CK$4532,0,$C4494/60)))","v":0},{"$f":"IF(SUM(DA$3091:DA4493)>0,0,IF(MAX(CS4494:CS$4531)=MAX(CS$3091:CS$4531),0,IF(CQ4494>0.01*CK$4532,0,$C4494/60)))","v":0},0,0,0,0,0,0,0,0,0,{"$error":"#N/A"},{"$error":"#N/A"},{"$error":"#N/A"},{"$error":"#N/A"},{"$error":"#N/A"},{"$error":"#N/A"},{"$f":"IF(SUM(DQ$3091:DQ4493)>0,0,IF(MAX(DJ4494:DJ$4531)=MAX(DJ$3091:DJ$4531),0,IF(DH4494>0.03*DB$4532,0,$C4494/60)))","v":0},{"$f":"IF(SUM(DR$3091:DR4493)>0,0,IF(MAX(DJ4494:DJ$4531)=MAX(DJ$3091:DJ$4531),0,IF(DH4494>0.01*DB$4532,0,$C4494/60)))","v":0},0,0,0,0,0,0,0,0,0,{"$error":"#N/A"},{"$error":"#N/A"},{"$error":"#N/A"},{"$error":"#N/A"},{"$error":"#N/A"},{"$error":"#N/A"},{"$f":"IF(SUM(EH$3091:EH4493)>0,0,IF(MAX(EA4494:EA$4531)=MAX(EA$3091:EA$4531),0,IF(DY4494>0.03*DS$4532,0,$C4494/60)))","v":0},{"$f":"IF(SUM(EI$3091:EI4493)>0,0,IF(MAX(EA4494:EA$4531)=MAX(EA$3091:EA$4531),0,IF(DY4494>0.01*DS$4532,0,$C4494/60)))","v":0},0,0,0,0,0,0,0,0,0,{"$error":"#N/A"},{"$error":"#N/A"},{"$error":"#N/A"},{"$error":"#N/A"},{"$error":"#N/A"},{"$error":"#N/A"},{"$f":"IF(SUM(EY$3091:EY4493)>0,0,IF(MAX(ER4494:ER$4531)=MAX(ER$3091:ER$4531),0,IF(EP4494>0.03*EJ$4532,0,$C4494/60)))","v":0},{"$f":"IF(SUM(EZ$3091:EZ4493)>0,0,IF(MAX(ER4494:ER$4531)=MAX(ER$3091:ER$4531),0,IF(EP4494>0.01*EJ$4532,0,$C4494/60)))","v":0}]
[null,117,7020,0,0,0,0,0,0,0,0,0,{"$error":"#N/A"},{"$error":"#N/A"},{"$error":"#N/A"},{"$error":"#N/A"},{"$error":"#N/A"},{"$error":"#N/A"},{"$f":"IF(SUM(S$3091:S4494)>0,0,\nIF(MAX(L4495:L$4531)=MAX(L$3091:L$4531),0,\nIF(Hydrograph_Source_WQCV=\"USER\",IF(J4495>0.03*D$4532,0,$C4495/60),\nIF(J4495>0.03*J$4532,0,$C4495/60))))","v":0},{"$f":"IF(SUM(T$3091:T4494)>0,0,\nIF(MAX(L4495:L$4531)=MAX(L$3091:L$4531),0,\nIF(Hydrograph_Source_WQCV=\"USER\",IF(J4495>0.01*D$4532,0,$C4495/60),\nIF(J4495>0.01*J$4532,0,$C4495/60))))","v":0},0,0,0,0,0,0,0,0,0,{"$error":"#N/A"},{"$error":"#N/A"},{"$error":"#N/A"},{"$error":"#N/A"},{"$error":"#N/A"},{"$error":"#N/A"},{"$f":"IF(SUM(AJ$3091:AJ4494)>0,0,\nIF(MAX(AC4495:AC$4531)=MAX(AC$3091:AC$4531),0,\nIF(Hydrograph_Source_EURV=\"USER\",IF(AA4495>0.03*U$4532,0,$C4495/60),\nIF(AA4495>0.03*AA$4532,0,$C4495/60))))","v":0},{"$f":"IF(SUM(AK$3091:AK4494)>0,0,\nIF(MAX(AC4495:AC$4531)=MAX(AC$3091:AC$4531),0,\nIF(Hydrograph_Source_EURV=\"USER\",IF(AA4495>0.01*U$4532,0,$C4495/60),\nIF(AA4495>0.01*AA$4532,0,$C4495/60))))","v":0},0,0,0,0,0,0,0,0,0,{"$error":"#N/A"},{"$error":"#N/A"},{"$error":"#N/A"},{"$error":"#N/A"},{"$error":"#N/A"},{"$error":"#N/A"},{"$f":"IF(SUM(BA$3091:BA4494)>0,0,IF(MAX(AT4495:AT$4531)=MAX(AT$3091:AT$4531),0,IF(AR4495>0.03*AL$4532,0,$C4495/60)))","v":0},{"$f":"IF(SUM(BB$3091:BB4494)>0,0,IF(MAX(AT4495:AT$4531)=MAX(AT$3091:AT$4531),0,IF(AR4495>0.01*AL$4532,0,$C4495/60)))","v":0},0,0,0,0,0,0,0,0,0,{"$error":"#N/A"},{"$error":"#N/A"},{"$error":"#N/A"},{"$error":"#N/A"},{"$error":"#N/A"},{"$error":"#N/A"},{"$f":"IF(SUM(BR$3091:BR4494)>0,0,IF(MAX(BK4495:BK$4531)=MAX(BK$3091:BK$4531),0,IF(BI4495>0.03*BC$4532,0,$C4495/60)))","v":0},{"$f":"IF(SUM(BS$3091:BS4494)>0,0,IF(MAX(BK4495:BK$4531)=MAX(BK$3091:BK$4531),0,IF(BI4495>0.01*BC$4532,0,$C4495/60)))","v":0},0,0,0,0,0,0,0,0,0,{"$error":"#N/A"},{"$error":"#N/A"},{"$error":"#N/A"},{"$error":"#N/A"},{"$error":"#N/A"},{"$error":"#N/A"},{"$f":"IF(SUM(CI$3091:CI4494)>0,0,IF(MAX(CB4495:CB$4531)=MAX(CB$3091:CB$4531),0,IF(BZ4495>0.03*BT$4532,0,$C4495/60)))","v":0},{"$f":"IF(SUM(CJ$3091:CJ4494)>0,0,IF(MAX(CB4495:CB$4531)=MAX(CB$3091:CB$4531),0,IF(BZ4495>0.01*BT$4532,0,$C4495/60)))","v":0},0,0,0,0,0,0,0,0,0,{"$error":"#N/A"},{"$error":"#N/A"},{"$error":"#N/A"},{"$error":"#N/A"},{"$error":"#N/A"},{"$error":"#N/A"},{"$f":"IF(SUM(CZ$3091:CZ4494)>0,0,IF(MAX(CS4495:CS$4531)=MAX(CS$3091:CS$4531),0,IF(CQ4495>0.03*CK$4532,0,$C4495/60)))","v":0},{"$f":"IF(SUM(DA$3091:DA4494)>0,0,IF(MAX(CS4495:CS$4531)=MAX(CS$3091:CS$4531),0,IF(CQ4495>0.01*CK$4532,0,$C4495/60)))","v":0},0,0,0,0,0,0,0,0,0,{"$error":"#N/A"},{"$error":"#N/A"},{"$error":"#N/A"},{"$error":"#N/A"},{"$error":"#N/A"},{"$error":"#N/A"},{"$f":"IF(SUM(DQ$3091:DQ4494)>0,0,IF(MAX(DJ4495:DJ$4531)=MAX(DJ$3091:DJ$4531),0,IF(DH4495>0.03*DB$4532,0,$C4495/60)))","v":0},{"$f":"IF(SUM(DR$3091:DR4494)>0,0,IF(MAX(DJ4495:DJ$4531)=MAX(DJ$3091:DJ$4531),0,IF(DH4495>0.01*DB$4532,0,$C4495/60)))","v":0},0,0,0,0,0,0,0,0,0,{"$error":"#N/A"},{"$error":"#N/A"},{"$error":"#N/A"},{"$error":"#N/A"},{"$error":"#N/A"},{"$error":"#N/A"},{"$f":"IF(SUM(EH$3091:EH4494)>0,0,IF(MAX(EA4495:EA$4531)=MAX(EA$3091:EA$4531),0,IF(DY4495>0.03*DS$4532,0,$C4495/60)))","v":0},{"$f":"IF(SUM(EI$3091:EI4494)>0,0,IF(MAX(EA4495:EA$4531)=MAX(EA$3091:EA$4531),0,IF(DY4495>0.01*DS$4532,0,$C4495/60)))","v":0},0,0,0,0,0,0,0,0,0,{"$error":"#N/A"},{"$error":"#N/A"},{"$error":"#N/A"},{"$error":"#N/A"},{"$error":"#N/A"},{"$error":"#N/A"},{"$f":"IF(SUM(EY$3091:EY4494)>0,0,IF(MAX(ER4495:ER$4531)=MAX(ER$3091:ER$4531),0,IF(EP4495>0.03*EJ$4532,0,$C4495/60)))","v":0},{"$f":"IF(SUM(EZ$3091:EZ4494)>0,0,IF(MAX(ER4495:ER$4531)=MAX(ER$3091:ER$4531),0,IF(EP4495>0.01*EJ$4532,0,$C4495/60)))","v":0}]
[null,117.08333333333333,7025,0,0,0,0,0,0,0,0,0,{"$error":"#N/A"},{"$error":"#N/A"},{"$error":"#N/A"},{"$error":"#N/A"},{"$error":"#N/A"},{"$error":"#N/A"},{"$f":"IF(SUM(S$3091:S4495)>0,0,\nIF(MAX(L4496:L$4531)=MAX(L$3091:L$4531),0,\nIF(Hydrograph_Source_WQCV=\"USER\",IF(J4496>0.03*D$4532,0,$C4496/60),\nIF(J4496>0.03*J$4532,0,$C4496/60))))","v":0},{"$f":"IF(SUM(T$3091:T4495)>0,0,\nIF(MAX(L4496:L$4531)=MAX(L$3091:L$4531),0,\nIF(Hydrograph_Source_WQCV=\"USER\",IF(J4496>0.01*D$4532,0,$C4496/60),\nIF(J4496>0.01*J$4532,0,$C4496/60))))","v":0},0,0,0,0,0,0,0,0,0,{"$error":"#N/A"},{"$error":"#N/A"},{"$error":"#N/A"},{"$error":"#N/A"},{"$error":"#N/A"},{"$error":"#N/A"},{"$f":"IF(SUM(AJ$3091:AJ4495)>0,0,\nIF(MAX(AC4496:AC$4531)=MAX(AC$3091:AC$4531),0,\nIF(Hydrograph_Source_EURV=\"USER\",IF(AA4496>0.03*U$4532,0,$C4496/60),\nIF(AA4496>0.03*AA$4532,0,$C4496/60))))","v":0},{"$f":"IF(SUM(AK$3091:AK4495)>0,0,\nIF(MAX(AC4496:AC$4531)=MAX(AC$3091:AC$4531),0,\nIF(Hydrograph_Source_EURV=\"USER\",IF(AA4496>0.01*U$4532,0,$C4496/60),\nIF(AA4496>0.01*AA$4532,0,$C4496/60))))","v":0},0,0,0,0,0,0,0,0,0,{"$error":"#N/A"},{"$error":"#N/A"},{"$error":"#N/A"},{"$error":"#N/A"},{"$error":"#N/A"},{"$error":"#N/A"},{"$f":"IF(SUM(BA$3091:BA4495)>0,0,IF(MAX(AT4496:AT$4531)=MAX(AT$3091:AT$4531),0,IF(AR4496>0.03*AL$4532,0,$C4496/60)))","v":0},{"$f":"IF(SUM(BB$3091:BB4495)>0,0,IF(MAX(AT4496:AT$4531)=MAX(AT$3091:AT$4531),0,IF(AR4496>0.01*AL$4532,0,$C4496/60)))","v":0},0,0,0,0,0,0,0,0,0,{"$error":"#N/A"},{"$error":"#N/A"},{"$error":"#N/A"},{"$error":"#N/A"},{"$error":"#N/A"},{"$error":"#N/A"},{"$f":"IF(SUM(BR$3091:BR4495)>0,0,IF(MAX(BK4496:BK$4531)=MAX(BK$3091:BK$4531),0,IF(BI4496>0.03*BC$4532,0,$C4496/60)))","v":0},{"$f":"IF(SUM(BS$3091:BS4495)>0,0,IF(MAX(BK4496:BK$4531)=MAX(BK$3091:BK$4531),0,IF(BI4496>0.01*BC$4532,0,$C4496/60)))","v":0},0,0,0,0,0,0,0,0,0,{"$error":"#N/A"},{"$error":"#N/A"},{"$error":"#N/A"},{"$error":"#N/A"},{"$error":"#N/A"},{"$error":"#N/A"},{"$f":"IF(SUM(CI$3091:CI4495)>0,0,IF(MAX(CB4496:CB$4531)=MAX(CB$3091:CB$4531),0,IF(BZ4496>0.03*BT$4532,0,$C4496/60)))","v":0},{"$f":"IF(SUM(CJ$3091:CJ4495)>0,0,IF(MAX(CB4496:CB$4531)=MAX(CB$3091:CB$4531),0,IF(BZ4496>0.01*BT$4532,0,$C4496/60)))","v":0},0,0,0,0,0,0,0,0,0,{"$error":"#N/A"},{"$error":"#N/A"},{"$error":"#N/A"},{"$error":"#N/A"},{"$error":"#N/A"},{"$error":"#N/A"},{"$f":"IF(SUM(CZ$3091:CZ4495)>0,0,IF(MAX(CS4496:CS$4531)=MAX(CS$3091:CS$4531),0,IF(CQ4496>0.03*CK$4532,0,$C4496/60)))","v":0},{"$f":"IF(SUM(DA$3091:DA4495)>0,0,IF(MAX(CS4496:CS$4531)=MAX(CS$3091:CS$4531),0,IF(CQ4496>0.01*CK$4532,0,$C4496/60)))","v":0},0,0,0,0,0,0,0,0,0,{"$error":"#N/A"},{"$error":"#N/A"},{"$error":"#N/A"},{"$error":"#N/A"},{"$error":"#N/A"},{"$error":"#N/A"},{"$f":"IF(SUM(DQ$3091:DQ4495)>0,0,IF(MAX(DJ4496:DJ$4531)=MAX(DJ$3091:DJ$4531),0,IF(DH4496>0.03*DB$4532,0,$C4496/60)))","v":0},{"$f":"IF(SUM(DR$3091:DR4495)>0,0,IF(MAX(DJ4496:DJ$4531)=MAX(DJ$3091:DJ$4531),0,IF(DH4496>0.01*DB$4532,0,$C4496/60)))","v":0},0,0,0,0,0,0,0,0,0,{"$error":"#N/A"},{"$error":"#N/A"},{"$error":"#N/A"},{"$error":"#N/A"},{"$error":"#N/A"},{"$error":"#N/A"},{"$f":"IF(SUM(EH$3091:EH4495)>0,0,IF(MAX(EA4496:EA$4531)=MAX(EA$3091:EA$4531),0,IF(DY4496>0.03*DS$4532,0,$C4496/60)))","v":0},{"$f":"IF(SUM(EI$3091:EI4495)>0,0,IF(MAX(EA4496:EA$4531)=MAX(EA$3091:EA$4531),0,IF(DY4496>0.01*DS$4532,0,$C4496/60)))","v":0},0,0,0,0,0,0,0,0,0,{"$error":"#N/A"},{"$error":"#N/A"},{"$error":"#N/A"},{"$error":"#N/A"},{"$error":"#N/A"},{"$error":"#N/A"},{"$f":"IF(SUM(EY$3091:EY4495)>0,0,IF(MAX(ER4496:ER$4531)=MAX(ER$3091:ER$4531),0,IF(EP4496>0.03*EJ$4532,0,$C4496/60)))","v":0},{"$f":"IF(SUM(EZ$3091:EZ4495)>0,0,IF(MAX(ER4496:ER$4531)=MAX(ER$3091:ER$4531),0,IF(EP4496>0.01*EJ$4532,0,$C4496/60)))","v":0}]
[null,117.16666666666667,7030,0,0,0,0,0,0,0,0,0,{"$error":"#N/A"},{"$error":"#N/A"},{"$error":"#N/A"},{"$error":"#N/A"},{"$error":"#N/A"},{"$error":"#N/A"},{"$f":"IF(SUM(S$3091:S4496)>0,0,\nIF(MAX(L4497:L$4531)=MAX(L$3091:L$4531),0,\nIF(Hydrograph_Source_WQCV=\"USER\",IF(J4497>0.03*D$4532,0,$C4497/60),\nIF(J4497>0.03*J$4532,0,$C4497/60))))","v":0},{"$f":"IF(SUM(T$3091:T4496)>0,0,\nIF(MAX(L4497:L$4531)=MAX(L$3091:L$4531),0,\nIF(Hydrograph_Source_WQCV=\"USER\",IF(J4497>0.01*D$4532,0,$C4497/60),\nIF(J4497>0.01*J$4532,0,$C4497/60))))","v":0},0,0,0,0,0,0,0,0,0,{"$error":"#N/A"},{"$error":"#N/A"},{"$error":"#N/A"},{"$error":"#N/A"},{"$error":"#N/A"},{"$error":"#N/A"},{"$f":"IF(SUM(AJ$3091:AJ4496)>0,0,\nIF(MAX(AC4497:AC$4531)=MAX(AC$3091:AC$4531),0,\nIF(Hydrograph_Source_EURV=\"USER\",IF(AA4497>0.03*U$4532,0,$C4497/60),\nIF(AA4497>0.03*AA$4532,0,$C4497/60))))","v":0},{"$f":"IF(SUM(AK$3091:AK4496)>0,0,\nIF(MAX(AC4497:AC$4531)=MAX(AC$3091:AC$4531),0,\nIF(Hydrograph_Source_EURV=\"USER\",IF(AA4497>0.01*U$4532,0,$C4497/60),\nIF(AA4497>0.01*AA$4532,0,$C4497/60))))","v":0},0,0,0,0,0,0,0,0,0,{"$error":"#N/A"},{"$error":"#N/A"},{"$error":"#N/A"},{"$error":"#N/A"},{"$error":"#N/A"},{"$error":"#N/A"},{"$f":"IF(SUM(BA$3091:BA4496)>0,0,IF(MAX(AT4497:AT$4531)=MAX(AT$3091:AT$4531),0,IF(AR4497>0.03*AL$4532,0,$C4497/60)))","v":0},{"$f":"IF(SUM(BB$3091:BB4496)>0,0,IF(MAX(AT4497:AT$4531)=MAX(AT$3091:AT$4531),0,IF(AR4497>0.01*AL$4532,0,$C4497/60)))","v":0},0,0,0,0,0,0,0,0,0,{"$error":"#N/A"},{"$error":"#N/A"},{"$error":"#N/A"},{"$error":"#N/A"},{"$error":"#N/A"},{"$error":"#N/A"},{"$f":"IF(SUM(BR$3091:BR4496)>0,0,IF(MAX(BK4497:BK$4531)=MAX(BK$3091:BK$4531),0,IF(BI4497>0.03*BC$4532,0,$C4497/60)))","v":0},{"$f":"IF(SUM(BS$3091:BS4496)>0,0,IF(MAX(BK4497:BK$4531)=MAX(BK$3091:BK$4531),0,IF(BI4497>0.01*BC$4532,0,$C4497/60)))","v":0},0,0,0,0,0,0,0,0,0,{"$error":"#N/A"},{"$error":"#N/A"},{"$error":"#N/A"},{"$error":"#N/A"},{"$error":"#N/A"},{"$error":"#N/A"},{"$f":"IF(SUM(CI$3091:CI4496)>0,0,IF(MAX(CB4497:CB$4531)=MAX(CB$3091:CB$4531),0,IF(BZ4497>0.03*BT$4532,0,$C4497/60)))","v":0},{"$f":"IF(SUM(CJ$3091:CJ4496)>0,0,IF(MAX(CB4497:CB$4531)=MAX(CB$3091:CB$4531),0,IF(BZ4497>0.01*BT$4532,0,$C4497/60)))","v":0},0,0,0,0,0,0,0,0,0,{"$error":"#N/A"},{"$error":"#N/A"},{"$error":"#N/A"},{"$error":"#N/A"},{"$error":"#N/A"},{"$error":"#N/A"},{"$f":"IF(SUM(CZ$3091:CZ4496)>0,0,IF(MAX(CS4497:CS$4531)=MAX(CS$3091:CS$4531),0,IF(CQ4497>0.03*CK$4532,0,$C4497/60)))","v":0},{"$f":"IF(SUM(DA$3091:DA4496)>0,0,IF(MAX(CS4497:CS$4531)=MAX(CS$3091:CS$4531),0,IF(CQ4497>0.01*CK$4532,0,$C4497/60)))","v":0},0,0,0,0,0,0,0,0,0,{"$error":"#N/A"},{"$error":"#N/A"},{"$error":"#N/A"},{"$error":"#N/A"},{"$error":"#N/A"},{"$error":"#N/A"},{"$f":"IF(SUM(DQ$3091:DQ4496)>0,0,IF(MAX(DJ4497:DJ$4531)=MAX(DJ$3091:DJ$4531),0,IF(DH4497>0.03*DB$4532,0,$C4497/60)))","v":0},{"$f":"IF(SUM(DR$3091:DR4496)>0,0,IF(MAX(DJ4497:DJ$4531)=MAX(DJ$3091:DJ$4531),0,IF(DH4497>0.01*DB$4532,0,$C4497/60)))","v":0},0,0,0,0,0,0,0,0,0,{"$error":"#N/A"},{"$error":"#N/A"},{"$error":"#N/A"},{"$error":"#N/A"},{"$error":"#N/A"},{"$error":"#N/A"},{"$f":"IF(SUM(EH$3091:EH4496)>0,0,IF(MAX(EA4497:EA$4531)=MAX(EA$3091:EA$4531),0,IF(DY4497>0.03*DS$4532,0,$C4497/60)))","v":0},{"$f":"IF(SUM(EI$3091:EI4496)>0,0,IF(MAX(EA4497:EA$4531)=MAX(EA$3091:EA$4531),0,IF(DY4497>0.01*DS$4532,0,$C4497/60)))","v":0},0,0,0,0,0,0,0,0,0,{"$error":"#N/A"},{"$error":"#N/A"},{"$error":"#N/A"},{"$error":"#N/A"},{"$error":"#N/A"},{"$error":"#N/A"},{"$f":"IF(SUM(EY$3091:EY4496)>0,0,IF(MAX(ER4497:ER$4531)=MAX(ER$3091:ER$4531),0,IF(EP4497>0.03*EJ$4532,0,$C4497/60)))","v":0},{"$f":"IF(SUM(EZ$3091:EZ4496)>0,0,IF(MAX(ER4497:ER$4531)=MAX(ER$3091:ER$4531),0,IF(EP4497>0.01*EJ$4532,0,$C4497/60)))","v":0}]
[null,117.25,7035,0,0,0,0,0,0,0,0,0,{"$error":"#N/A"},{"$error":"#N/A"},{"$error":"#N/A"},{"$error":"#N/A"},{"$error":"#N/A"},{"$error":"#N/A"},{"$f":"IF(SUM(S$3091:S4497)>0,0,\nIF(MAX(L4498:L$4531)=MAX(L$3091:L$4531),0,\nIF(Hydrograph_Source_WQCV=\"USER\",IF(J4498>0.03*D$4532,0,$C4498/60),\nIF(J4498>0.03*J$4532,0,$C4498/60))))","v":0},{"$f":"IF(SUM(T$3091:T4497)>0,0,\nIF(MAX(L4498:L$4531)=MAX(L$3091:L$4531),0,\nIF(Hydrograph_Source_WQCV=\"USER\",IF(J4498>0.01*D$4532,0,$C4498/60),\nIF(J4498>0.01*J$4532,0,$C4498/60))))","v":0},0,0,0,0,0,0,0,0,0,{"$error":"#N/A"},{"$error":"#N/A"},{"$error":"#N/A"},{"$error":"#N/A"},{"$error":"#N/A"},{"$error":"#N/A"},{"$f":"IF(SUM(AJ$3091:AJ4497)>0,0,\nIF(MAX(AC4498:AC$4531)=MAX(AC$3091:AC$4531),0,\nIF(Hydrograph_Source_EURV=\"USER\",IF(AA4498>0.03*U$4532,0,$C4498/60),\nIF(AA4498>0.03*AA$4532,0,$C4498/60))))","v":0},{"$f":"IF(SUM(AK$3091:AK4497)>0,0,\nIF(MAX(AC4498:AC$4531)=MAX(AC$3091:AC$4531),0,\nIF(Hydrograph_Source_EURV=\"USER\",IF(AA4498>0.01*U$4532,0,$C4498/60),\nIF(AA4498>0.01*AA$4532,0,$C4498/60))))","v":0},0,0,0,0,0,0,0,0,0,{"$error":"#N/A"},{"$error":"#N/A"},{"$error":"#N/A"},{"$error":"#N/A"},{"$error":"#N/A"},{"$error":"#N/A"},{"$f":"IF(SUM(BA$3091:BA4497)>0,0,IF(MAX(AT4498:AT$4531)=MAX(AT$3091:AT$4531),0,IF(AR4498>0.03*AL$4532,0,$C4498/60)))","v":0},{"$f":"IF(SUM(BB$3091:BB4497)>0,0,IF(MAX(AT4498:AT$4531)=MAX(AT$3091:AT$4531),0,IF(AR4498>0.01*AL$4532,0,$C4498/60)))","v":0},0,0,0,0,0,0,0,0,0,{"$error":"#N/A"},{"$error":"#N/A"},{"$error":"#N/A"},{"$error":"#N/A"},{"$error":"#N/A"},{"$error":"#N/A"},{"$f":"IF(SUM(BR$3091:BR4497)>0,0,IF(MAX(BK4498:BK$4531)=MAX(BK$3091:BK$4531),0,IF(BI4498>0.03*BC$4532,0,$C4498/60)))","v":0},{"$f":"IF(SUM(BS$3091:BS4497)>0,0,IF(MAX(BK4498:BK$4531)=MAX(BK$3091:BK$4531),0,IF(BI4498>0.01*BC$4532,0,$C4498/60)))","v":0},0,0,0,0,0,0,0,0,0,{"$error":"#N/A"},{"$error":"#N/A"},{"$error":"#N/A"},{"$error":"#N/A"},{"$error":"#N/A"},{"$error":"#N/A"},{"$f":"IF(SUM(CI$3091:CI4497)>0,0,IF(MAX(CB4498:CB$4531)=MAX(CB$3091:CB$4531),0,IF(BZ4498>0.03*BT$4532,0,$C4498/60)))","v":0},{"$f":"IF(SUM(CJ$3091:CJ4497)>0,0,IF(MAX(CB4498:CB$4531)=MAX(CB$3091:CB$4531),0,IF(BZ4498>0.01*BT$4532,0,$C4498/60)))","v":0},0,0,0,0,0,0,0,0,0,{"$error":"#N/A"},{"$error":"#N/A"},{"$error":"#N/A"},{"$error":"#N/A"},{"$error":"#N/A"},{"$error":"#N/A"},{"$f":"IF(SUM(CZ$3091:CZ4497)>0,0,IF(MAX(CS4498:CS$4531)=MAX(CS$3091:CS$4531),0,IF(CQ4498>0.03*CK$4532,0,$C4498/60)))","v":0},{"$f":"IF(SUM(DA$3091:DA4497)>0,0,IF(MAX(CS4498:CS$4531)=MAX(CS$3091:CS$4531),0,IF(CQ4498>0.01*CK$4532,0,$C4498/60)))","v":0},0,0,0,0,0,0,0,0,0,{"$error":"#N/A"},{"$error":"#N/A"},{"$error":"#N/A"},{"$error":"#N/A"},{"$error":"#N/A"},{"$error":"#N/A"},{"$f":"IF(SUM(DQ$3091:DQ4497)>0,0,IF(MAX(DJ4498:DJ$4531)=MAX(DJ$3091:DJ$4531),0,IF(DH4498>0.03*DB$4532,0,$C4498/60)))","v":0},{"$f":"IF(SUM(DR$3091:DR4497)>0,0,IF(MAX(DJ4498:DJ$4531)=MAX(DJ$3091:DJ$4531),0,IF(DH4498>0.01*DB$4532,0,$C4498/60)))","v":0},0,0,0,0,0,0,0,0,0,{"$error":"#N/A"},{"$error":"#N/A"},{"$error":"#N/A"},{"$error":"#N/A"},{"$error":"#N/A"},{"$error":"#N/A"},{"$f":"IF(SUM(EH$3091:EH4497)>0,0,IF(MAX(EA4498:EA$4531)=MAX(EA$3091:EA$4531),0,IF(DY4498>0.03*DS$4532,0,$C4498/60)))","v":0},{"$f":"IF(SUM(EI$3091:EI4497)>0,0,IF(MAX(EA4498:EA$4531)=MAX(EA$3091:EA$4531),0,IF(DY4498>0.01*DS$4532,0,$C4498/60)))","v":0},0,0,0,0,0,0,0,0,0,{"$error":"#N/A"},{"$error":"#N/A"},{"$error":"#N/A"},{"$error":"#N/A"},{"$error":"#N/A"},{"$error":"#N/A"},{"$f":"IF(SUM(EY$3091:EY4497)>0,0,IF(MAX(ER4498:ER$4531)=MAX(ER$3091:ER$4531),0,IF(EP4498>0.03*EJ$4532,0,$C4498/60)))","v":0},{"$f":"IF(SUM(EZ$3091:EZ4497)>0,0,IF(MAX(ER4498:ER$4531)=MAX(ER$3091:ER$4531),0,IF(EP4498>0.01*EJ$4532,0,$C4498/60)))","v":0}]
[null,{"$f":"C4499/60","v":117.33333333333333},7040,0,{"$f":"D4500","v":0},0,{"$f":"IF(D4499=\"\",0,IF($F$87=\"\",0,(M4499*K4499+O4499-M4499*P4499)))","v":0},0,{"$f":"IF($D$3091=\"\",0,(K4499-$C$3089*60*G4499)/2)","v":0},{"$f":"I4499/43560","v":0},{"$f":"IF((D4499+E4499-F4499)*$C$3089*60+2*H4499<0,0,(D4499+E4499-F4499)*$C$3089*60+2*H4499)","v":0},0,{"$f":"IF(INDEX($Z$88:$Z$3087,N4499,1)=\"\",0,INDEX($Z$88:$Z$3087,N4499,1))","v":{"$error":"#N/A"}},{"$error":"#N/A"},{"$error":"#N/A"},{"$error":"#N/A"},{"$f":"INDEX(H_stage1,N4499,1)","v":{"$error":"#N/A"}},{"$f":"IF(INDEX($AA$88:$AA$3087,N4499,1)=\"\",0,INDEX($AA$88:$AA$3087,N4499,1))","v":{"$error":"#N/A"}},{"$f":"IF(SUM(S$3091:S4498)>0,0,\nIF(MAX(L4499:L$4531)=MAX(L$3091:L$4531),0,\nIF(Hydrograph_Source_WQCV=\"USER\",IF(J4499>0.03*D$4532,0,$C4499/60),\nIF(J4499>0.03*J$4532,0,$C4499/60))))","v":0},{"$f":"IF(SUM(T$3091:T4498)>0,0,\nIF(MAX(L4499:L$4531)=MAX(L$3091:L$4531),0,\nIF(Hydrograph_Source_WQCV=\"USER\",IF(J4499>0.01*D$4532,0,$C4499/60),\nIF(J4499>0.01*J$4532,0,$C4499/60))))","v":0},0,{"$f":"U4500","v":0},0,{"$f":"IF(U4499=\"\",0,IF($F$87=\"\",0,(AD4499*AB4499+AF4499-AD4499*AG4499)))","v":0},0,{"$f":"IF($U$3091=\"\",0,(AB4499-$C$3089*60*X4499)/2)","v":0},{"$f":"Z4499/43560","v":0},{"$f":"IF((U4499+V4499-W4499)*$C$3089*60+2*Y4499<0,0,(U4499+V4499-W4499)*$C$3089*60+2*Y4499)","v":0},0,{"$f":"IF(INDEX($Z$88:$Z$3087,AE4499,1)=\"\",0,INDEX($Z$88:$Z$3087,AE4499,1))","v":{"$error":"#N/A"}},{"$error":"#N/A"},{"$error":"#N/A"},{"$error":"#N/A"},{"$f":"INDEX(H_stage1,AE4499,1)","v":{"$error":"#N/A"}},{"$f":"IF(INDEX($AA$88:$AA$3087,AE4499,1)=\"\",0,INDEX($AA$88:$AA$3087,AE4499,1))","v":{"$error":"#N/A"}},{"$f":"IF(SUM(AJ$3091:AJ4498)>0,0,\nIF(MAX(AC4499:AC$4531)=MAX(AC$3091:AC$4531),0,\nIF(Hydrograph_Source_EURV=\"USER\",IF(AA4499>0.03*U$4532,0,$C4499/60),\nIF(AA4499>0.03*AA$4532,0,$C4499/60))))","v":0},{"$f":"IF(SUM(AK$3091:AK4498)>0,0,\nIF(MAX(AC4499:AC$4531)=MAX(AC$3091:AC$4531),0,\nIF(Hydrograph_Source_EURV=\"USER\",IF(AA4499>0.01*U$4532,0,$C4499/60),\nIF(AA4499>0.01*AA$4532,0,$C4499/60))))","v":0},0,{"$f":"AL4500","v":0},0,{"$f":"IF(AL4499=\"\",0,IF($F$87=\"\",0,(AU4499*AS4499+AW4499-AU4499*AX4499)))","v":0},0,{"$f":"IF($AL$3091=\"\",0,(AS4499-$C$3089*60*AO4499)/2)","v":0},{"$f":"AQ4499/43560","v":0},{"$f":"IF((AL4499+AM4499-AN4499)*$C$3089*60+2*AP4499<0,0,(AL4499+AM4499-AN4499)*$C$3089*60+2*AP4499)","v":0},0,{"$f":"IF(INDEX($Z$88:$Z$3087,AV4499,1)=\"\",0,INDEX($Z$88:$Z$3087,AV4499,1))","v":{"$error":"#N/A"}},{"$error":"#N/A"},{"$error":"#N/A"},{"$error":"#N/A"},{"$f":"INDEX(H_stage1,AV4499,1)","v":{"$error":"#N/A"}},{"$f":"IF(INDEX($AA$88:$AA$3087,AV4499,1)=\"\",0,INDEX($AA$88:$AA$3087,AV4499,1))","v":{"$error":"#N/A"}},{"$f":"IF(SUM(BA$3091:BA4498)>0,0,IF(MAX(AT4499:AT$4531)=MAX(AT$3091:AT$4531),0,IF(AR4499>0.03*AL$4532,0,$C4499/60)))","v":0},{"$f":"IF(SUM(BB$3091:BB4498)>0,0,IF(MAX(AT4499:AT$4531)=MAX(AT$3091:AT$4531),0,IF(AR4499>0.01*AL$4532,0,$C4499/60)))","v":0},0,{"$f":"BC4500","v":0},0,{"$f":"IF(BC4499=\"\",0,IF($F$87=\"\",0,(BL4499*BJ4499+BN4499-BL4499*BO4499)))","v":0},0,{"$f":"IF($BC$3091=\"\",0,(BJ4499-$C$3089*60*BF4499)/2)","v":0},{"$f":"BH4499/43560","v":0},{"$f":"IF((BC4499+BD4499-BE4499)*$C$3089*60+2*BG4499<0,0,(BC4499+BD4499-BE4499)*$C$3089*60+2*BG4499)","v":0},0,{"$f":"IF(INDEX($Z$88:$Z$3087,BM4499,1)=\"\",0,INDEX($Z$88:$Z$3087,BM4499,1))","v":{"$error":"#N/A"}},{"$error":"#N/A"},{"$error":"#N/A"},{"$error":"#N/A"},{"$f":"INDEX(H_stage1,BM4499,1)","v":{"$error":"#N/A"}},{"$f":"IF(INDEX($AA$88:$AA$3087,BM4499,1)=\"\",0,INDEX($AA$88:$AA$3087,BM4499,1))","v":{"$error":"#N/A"}},{"$f":"IF(SUM(BR$3091:BR4498)>0,0,IF(MAX(BK4499:BK$4531)=MAX(BK$3091:BK$4531),0,IF(BI4499>0.03*BC$4532,0,$C4499/60)))","v":0},{"$f":"IF(SUM(BS$3091:BS4498)>0,0,IF(MAX(BK4499:BK$4531)=MAX(BK$3091:BK$4531),0,IF(BI4499>0.01*BC$4532,0,$C4499/60)))","v":0},0,{"$f":"BT4500","v":0},0,{"$f":"IF(BT4499=\"\",0,IF($F$87=\"\",0,(CC4499*CA4499+CE4499-CC4499*CF4499)))","v":0},0,{"$f":"IF($BT$3091=\"\",0,(CA4499-$C$3089*60*BW4499)/2)","v":0},{"$f":"BY4499/43560","v":0},{"$f":"IF((BT4499+BU4499-BV4499)*$C$3089*60+2*BX4499<0,0,(BT4499+BU4499-BV4499)*$C$3089*60+2*BX4499)","v":0},0,{"$f":"IF(INDEX($Z$88:$Z$3087,CD4499,1)=\"\",0,INDEX($Z$88:$Z$3087,CD4499,1))","v":{"$error":"#N/A"}},{"$error":"#N/A"},{"$error":"#N/A"},{"$error":"#N/A"},{"$f":"INDEX(H_stage1,CD4499,1)","v":{"$error":"#N/A"}},{"$f":"IF(INDEX($AA$88:$AA$3087,CD4499,1)=\"\",0,INDEX($AA$88:$AA$3087,CD4499,1))","v":{"$error":"#N/A"}},{"$f":"IF(SUM(CI$3091:CI4498)>0,0,IF(MAX(CB4499:CB$4531)=MAX(CB$3091:CB$4531),0,IF(BZ4499>0.03*BT$4532,0,$C4499/60)))","v":0},{"$f":"IF(SUM(CJ$3091:CJ4498)>0,0,IF(MAX(CB4499:CB$4531)=MAX(CB$3091:CB$4531),0,IF(BZ4499>0.01*BT$4532,0,$C4499/60)))","v":0},0,{"$f":"CK4500","v":0},0,{"$f":"IF(CK4499=\"\",0,IF($F$87=\"\",0,(CT4499*CR4499+CV4499-CT4499*CW4499)))","v":0},0,{"$f":"IF($CK$3091=\"\",0,(CR4499-$C$3089*60*CN4499)/2)","v":0},{"$f":"CP4499/43560","v":0},{"$f":"IF((CK4499+CL4499-CM4499)*$C$3089*60+2*CO4499<0,0,(CK4499+CL4499-CM4499)*$C$3089*60+2*CO4499)","v":0},0,{"$f":"IF(INDEX($Z$88:$Z$3087,CU4499,1)=\"\",0,INDEX($Z$88:$Z$3087,CU4499,1))","v":{"$error":"#N/A"}},{"$error":"#N/A"},{"$error":"#N/A"},{"$error":"#N/A"},{"$f":"INDEX(H_stage1,CU4499,1)","v":{"$error":"#N/A"}},{"$f":"IF(INDEX($AA$88:$AA$3087,CU4499,1)=\"\",0,INDEX($AA$88:$AA$3087,CU4499,1))","v":{"$error":"#N/A"}},{"$f":"IF(SUM(CZ$3091:CZ4498)>0,0,IF(MAX(CS4499:CS$4531)=MAX(CS$3091:CS$4531),0,IF(CQ4499>0.03*CK$4532,0,$C4499/60)))","v":0},{"$f":"IF(SUM(DA$3091:DA4498)>0,0,IF(MAX(CS4499:CS$4531)=MAX(CS$3091:CS$4531),0,IF(CQ4499>0.01*CK$4532,0,$C4499/60)))","v":0},0,{"$f":"DB4500","v":0},0,{"$f":"IF(DB4499=\"\",0,IF($F$87=\"\",0,(DK4499*DI4499+DM4499-DK4499*DN4499)))","v":0},0,{"$f":"IF($DB$3091=\"\",0,(DI4499-$C$3089*60*DE4499)/2)","v":0},{"$f":"DG4499/43560","v":0},{"$f":"IF((DB4499+DC4499-DD4499)*$C$3089*60+2*DF4499<0,0,(DB4499+DC4499-DD4499)*$C$3089*60+2*DF4499)","v":0},0,{"$f":"IF(INDEX($Z$88:$Z$3087,DL4499,1)=\"\",0,INDEX($Z$88:$Z$3087,DL4499,1))","v":{"$error":"#N/A"}},{"$error":"#N/A"},{"$error":"#N/A"},{"$error":"#N/A"},{"$f":"INDEX(H_stage1,DL4499,1)","v":{"$error":"#N/A"}},{"$f":"IF(INDEX($AA$88:$AA$3087,DL4499,1)=\"\",0,INDEX($AA$88:$AA$3087,DL4499,1))","v":{"$error":"#N/A"}},{"$f":"IF(SUM(DQ$3091:DQ4498)>0,0,IF(MAX(DJ4499:DJ$4531)=MAX(DJ$3091:DJ$4531),0,IF(DH4499>0.03*DB$4532,0,$C4499/60)))","v":0},{"$f":"IF(SUM(DR$3091:DR4498)>0,0,IF(MAX(DJ4499:DJ$4531)=MAX(DJ$3091:DJ$4531),0,IF(DH4499>0.01*DB$4532,0,$C4499/60)))","v":0},0,{"$f":"DS4500","v":0},0,{"$f":"IF(DS4499=\"\",0,IF($F$87=\"\",0,(EB4499*DZ4499+ED4499-EB4499*EE4499)))","v":0},0,{"$f":"IF($DS$3091=\"\",0,(DZ4499-$C$3089*60*DV4499)/2)","v":0},{"$f":"DX4499/43560","v":0},{"$f":"IF((DS4499+DT4499-DU4499)*$C$3089*60+2*DW4499<0,0,(DS4499+DT4499-DU4499)*$C$3089*60+2*DW4499)","v":0},0,{"$f":"IF(INDEX($Z$88:$Z$3087,EC4499,1)=\"\",0,INDEX($Z$88:$Z$3087,EC4499,1))","v":{"$error":"#N/A"}},{"$error":"#N/A"},{"$error":"#N/A"},{"$error":"#N/A"},{"$f":"INDEX(H_stage1,EC4499,1)","v":{"$error":"#N/A"}},{"$f":"IF(INDEX($AA$88:$AA$3087,EC4499,1)=\"\",0,INDEX($AA$88:$AA$3087,EC4499,1))","v":{"$error":"#N/A"}},{"$f":"IF(SUM(EH$3091:EH4498)>0,0,IF(MAX(EA4499:EA$4531)=MAX(EA$3091:EA$4531),0,IF(DY4499>0.03*DS$4532,0,$C4499/60)))","v":0},{"$f":"IF(SUM(EI$3091:EI4498)>0,0,IF(MAX(EA4499:EA$4531)=MAX(EA$3091:EA$4531),0,IF(DY4499>0.01*DS$4532,0,$C4499/60)))","v":0},0,{"$f":"EJ4500","v":0},0,{"$f":"IF(EJ4499=\"\",0,IF($F$87=\"\",0,(ES4499*EQ4499+EU4499-ES4499*EV4499)))","v":0},0,{"$f":"IF($EJ$3091=\"\",0,(EQ4499-$C$3089*60*EM4499)/2)","v":0},{"$f":"EO4499/43560","v":0},{"$f":"IF((EJ4499+EK4499-EL4499)*$C$3089*60+2*EN4499<0,0,(EJ4499+EK4499-EL4499)*$C$3089*60+2*EN4499)","v":0},0,{"$f":"IF(INDEX($Z$88:$Z$3087,ET4499,1)=\"\",0,INDEX($Z$88:$Z$3087,ET4499,1))","v":{"$error":"#N/A"}},{"$error":"#N/A"},{"$error":"#N/A"},{"$error":"#N/A"},{"$f":"INDEX(H_stage1,ET4499,1)","v":{"$error":"#N/A"}},{"$f":"IF(INDEX($AA$88:$AA$3087,ET4499,1)=\"\",0,INDEX($AA$88:$AA$3087,ET4499,1))","v":{"$error":"#N/A"}},{"$f":"IF(SUM(EY$3091:EY4498)>0,0,IF(MAX(ER4499:ER$4531)=MAX(ER$3091:ER$4531),0,IF(EP4499>0.03*EJ$4532,0,$C4499/60)))","v":0},{"$f":"IF(SUM(EZ$3091:EZ4498)>0,0,IF(MAX(ER4499:ER$4531)=MAX(ER$3091:ER$4531),0,IF(EP4499>0.01*EJ$4532,0,$C4499/60)))","v":0}]
[null,117.41666666666667,7045,0,0,{"$f":"G4499","v":0},0,{"$f":"I4499","v":0},0,0,0,{"$f":"IF($D$3091=\"\",0,ROUND((R4500*K4500+Q4500-R4500*P4500),7))","v":0},{"$error":"#N/A"},{"$f":"MATCH(K4500,$Y$87:$Y$3087,1)","v":{"$error":"#N/A"}},{"$f":"INDEX($X$87:$X$3087,N4500,1)","v":{"$error":"#N/A"}},{"$f":"INDEX($Y$87:$Y$3087,N4500,1)","v":{"$error":"#N/A"}},{"$error":"#N/A"},{"$error":"#N/A"},{"$f":"IF(SUM(S$3091:S4499)>0,0,\nIF(MAX(L4500:L$4531)=MAX(L$3091:L$4531),0,\nIF(Hydrograph_Source_WQCV=\"USER\",IF(J4500>0.03*D$4532,0,$C4500/60),\nIF(J4500>0.03*J$4532,0,$C4500/60))))","v":0},{"$f":"IF(SUM(T$3091:T4499)>0,0,\nIF(MAX(L4500:L$4531)=MAX(L$3091:L$4531),0,\nIF(Hydrograph_Source_WQCV=\"USER\",IF(J4500>0.01*D$4532,0,$C4500/60),\nIF(J4500>0.01*J$4532,0,$C4500/60))))","v":0},0,0,{"$f":"X4499","v":0},0,{"$f":"Z4499","v":0},0,0,0,{"$f":"IF($U$3091=\"\",0,ROUND((AI4500*AB4500+AH4500-AI4500*AG4500),7))","v":0},{"$error":"#N/A"},{"$f":"MATCH(AB4500,$Y$87:$Y$3087,1)","v":{"$error":"#N/A"}},{"$f":"INDEX($X$87:$X$3087,AE4500,1)","v":{"$error":"#N/A"}},{"$f":"INDEX($Y$87:$Y$3087,AE4500,1)","v":{"$error":"#N/A"}},{"$error":"#N/A"},{"$error":"#N/A"},{"$f":"IF(SUM(AJ$3091:AJ4499)>0,0,\nIF(MAX(AC4500:AC$4531)=MAX(AC$3091:AC$4531),0,\nIF(Hydrograph_Source_EURV=\"USER\",IF(AA4500>0.03*U$4532,0,$C4500/60),\nIF(AA4500>0.03*AA$4532,0,$C4500/60))))","v":0},{"$f":"IF(SUM(AK$3091:AK4499)>0,0,\nIF(MAX(AC4500:AC$4531)=MAX(AC$3091:AC$4531),0,\nIF(Hydrograph_Source_EURV=\"USER\",IF(AA4500>0.01*U$4532,0,$C4500/60),\nIF(AA4500>0.01*AA$4532,0,$C4500/60))))","v":0},0,0,{"$f":"AO4499","v":0},0,{"$f":"AQ4499","v":0},0,0,0,{"$f":"IF($AL$3091=\"\",0,ROUND((AZ4500*AS4500+AY4500-AZ4500*AX4500),7))","v":0},{"$error":"#N/A"},{"$f":"MATCH(AS4500,$Y$87:$Y$3087,1)","v":{"$error":"#N/A"}},{"$f":"INDEX($X$87:$X$3087,AV4500,1)","v":{"$error":"#N/A"}},{"$f":"INDEX($Y$87:$Y$3087,AV4500,1)","v":{"$error":"#N/A"}},{"$error":"#N/A"},{"$error":"#N/A"},{"$f":"IF(SUM(BA$3091:BA4499)>0,0,IF(MAX(AT4500:AT$4531)=MAX(AT$3091:AT$4531),0,IF(AR4500>0.03*AL$4532,0,$C4500/60)))","v":0},{"$f":"IF(SUM(BB$3091:BB4499)>0,0,IF(MAX(AT4500:AT$4531)=MAX(AT$3091:AT$4531),0,IF(AR4500>0.01*AL$4532,0,$C4500/60)))","v":0},0,0,{"$f":"BF4499","v":0},0,{"$f":"BH4499","v":0},0,0,0,{"$f":"IF($BC$3091=\"\",0,ROUND((BQ4500*BJ4500+BP4500-BQ4500*BO4500),7))","v":0},{"$error":"#N/A"},{"$f":"MATCH(BJ4500,$Y$87:$Y$3087,1)","v":{"$error":"#N/A"}},{"$f":"INDEX($X$87:$X$3087,BM4500,1)","v":{"$error":"#N/A"}},{"$f":"INDEX($Y$87:$Y$3087,BM4500,1)","v":{"$error":"#N/A"}},{"$error":"#N/A"},{"$error":"#N/A"},{"$f":"IF(SUM(BR$3091:BR4499)>0,0,IF(MAX(BK4500:BK$4531)=MAX(BK$3091:BK$4531),0,IF(BI4500>0.03*BC$4532,0,$C4500/60)))","v":0},{"$f":"IF(SUM(BS$3091:BS4499)>0,0,IF(MAX(BK4500:BK$4531)=MAX(BK$3091:BK$4531),0,IF(BI4500>0.01*BC$4532,0,$C4500/60)))","v":0},0,0,{"$f":"BW4499","v":0},0,{"$f":"BY4499","v":0},0,0,0,{"$f":"IF($BT$3091=\"\",0,ROUND((CH4500*CA4500+CG4500-CH4500*CF4500),7))","v":0},{"$error":"#N/A"},{"$f":"MATCH(CA4500,$Y$87:$Y$3087,1)","v":{"$error":"#N/A"}},{"$f":"INDEX($X$87:$X$3087,CD4500,1)","v":{"$error":"#N/A"}},{"$f":"INDEX($Y$87:$Y$3087,CD4500,1)","v":{"$error":"#N/A"}},{"$error":"#N/A"},{"$error":"#N/A"},{"$f":"IF(SUM(CI$3091:CI4499)>0,0,IF(MAX(CB4500:CB$4531)=MAX(CB$3091:CB$4531),0,IF(BZ4500>0.03*BT$4532,0,$C4500/60)))","v":0},{"$f":"IF(SUM(CJ$3091:CJ4499)>0,0,IF(MAX(CB4500:CB$4531)=MAX(CB$3091:CB$4531),0,IF(BZ4500>0.01*BT$4532,0,$C4500/60)))","v":0},0,0,{"$f":"CN4499","v":0},0,{"$f":"CP4499","v":0},0,0,0,{"$f":"IF($CK$3091=\"\",0,ROUND((CY4500*CR4500+CX4500-CY4500*CW4500),7))","v":0},{"$error":"#N/A"},{"$f":"MATCH(CR4500,$Y$87:$Y$3087,1)","v":{"$error":"#N/A"}},{"$f":"INDEX($X$87:$X$3087,CU4500,1)","v":{"$error":"#N/A"}},{"$f":"INDEX($Y$87:$Y$3087,CU4500,1)","v":{"$error":"#N/A"}},{"$error":"#N/A"},{"$error":"#N/A"},{"$f":"IF(SUM(CZ$3091:CZ4499)>0,0,IF(MAX(CS4500:CS$4531)=MAX(CS$3091:CS$4531),0,IF(CQ4500>0.03*CK$4532,0,$C4500/60)))","v":0},{"$f":"IF(SUM(DA$3091:DA4499)>0,0,IF(MAX(CS4500:CS$4531)=MAX(CS$3091:CS$4531),0,IF(CQ4500>0.01*CK$4532,0,$C4500/60)))","v":0},0,0,{"$f":"DE4499","v":0},0,{"$f":"DG4499","v":0},0,0,0,{"$f":"IF($DB$3091=\"\",0,ROUND((DP4500*DI4500+DO4500-DP4500*DN4500),7))","v":0},{"$error":"#N/A"},{"$f":"MATCH(DI4500,$Y$87:$Y$3087,1)","v":{"$error":"#N/A"}},{"$f":"INDEX($X$87:$X$3087,DL4500,1)","v":{"$error":"#N/A"}},{"$f":"INDEX($Y$87:$Y$3087,DL4500,1)","v":{"$error":"#N/A"}},{"$error":"#N/A"},{"$error":"#N/A"},{"$f":"IF(SUM(DQ$3091:DQ4499)>0,0,IF(MAX(DJ4500:DJ$4531)=MAX(DJ$3091:DJ$4531),0,IF(DH4500>0.03*DB$4532,0,$C4500/60)))","v":0},{"$f":"IF(SUM(DR$3091:DR4499)>0,0,IF(MAX(DJ4500:DJ$4531)=MAX(DJ$3091:DJ$4531),0,IF(DH4500>0.01*DB$4532,0,$C4500/60)))","v":0},0,0,{"$f":"DV4499","v":0},0,{"$f":"DX4499","v":0},0,0,0,{"$f":"IF($DS$3091=\"\",0,ROUND((EG4500*DZ4500+EF4500-EG4500*EE4500),7))","v":0},{"$error":"#N/A"},{"$f":"MATCH(DZ4500,$Y$87:$Y$3087,1)","v":{"$error":"#N/A"}},{"$f":"INDEX($X$87:$X$3087,EC4500,1)","v":{"$error":"#N/A"}},{"$f":"INDEX($Y$87:$Y$3087,EC4500,1)","v":{"$error":"#N/A"}},{"$error":"#N/A"},{"$error":"#N/A"},{"$f":"IF(SUM(EH$3091:EH4499)>0,0,IF(MAX(EA4500:EA$4531)=MAX(EA$3091:EA$4531),0,IF(DY4500>0.03*DS$4532,0,$C4500/60)))","v":0},{"$f":"IF(SUM(EI$3091:EI4499)>0,0,IF(MAX(EA4500:EA$4531)=MAX(EA$3091:EA$4531),0,IF(DY4500>0.01*DS$4532,0,$C4500/60)))","v":0},0,0,{"$f":"EM4499","v":0},0,{"$f":"EO4499","v":0},0,0,0,{"$f":"IF($EJ$3091=\"\",0,ROUND((EX4500*EQ4500+EW4500-EX4500*EV4500),7))","v":0},{"$error":"#N/A"},{"$f":"MATCH(EQ4500,$Y$87:$Y$3087,1)","v":{"$error":"#N/A"}},{"$f":"INDEX($X$87:$X$3087,ET4500,1)","v":{"$error":"#N/A"}},{"$f":"INDEX($Y$87:$Y$3087,ET4500,1)","v":{"$error":"#N/A"}},{"$error":"#N/A"},{"$error":"#N/A"},{"$f":"IF(SUM(EY$3091:EY4499)>0,0,IF(MAX(ER4500:ER$4531)=MAX(ER$3091:ER$4531),0,IF(EP4500>0.03*EJ$4532,0,$C4500/60)))","v":0},{"$f":"IF(SUM(EZ$3091:EZ4499)>0,0,IF(MAX(ER4500:ER$4531)=MAX(ER$3091:ER$4531),0,IF(EP4500>0.01*EJ$4532,0,$C4500/60)))","v":0}]
[null,117.5,{"$f":"ROUND(C4500+$C$3089,2)","v":7050},0,0,0,0,0,0,0,0,0,{"$error":"#N/A"},{"$error":"#N/A"},{"$error":"#N/A"},{"$error":"#N/A"},{"$error":"#N/A"},{"$error":"#N/A"},{"$f":"IF(SUM(S$3091:S4500)>0,0,\nIF(MAX(L4501:L$4531)=MAX(L$3091:L$4531),0,\nIF(Hydrograph_Source_WQCV=\"USER\",IF(J4501>0.03*D$4532,0,$C4501/60),\nIF(J4501>0.03*J$4532,0,$C4501/60))))","v":0},{"$f":"IF(SUM(T$3091:T4500)>0,0,\nIF(MAX(L4501:L$4531)=MAX(L$3091:L$4531),0,\nIF(Hydrograph_Source_WQCV=\"USER\",IF(J4501>0.01*D$4532,0,$C4501/60),\nIF(J4501>0.01*J$4532,0,$C4501/60))))","v":0},0,0,0,0,0,0,0,0,0,{"$error":"#N/A"},{"$error":"#N/A"},{"$error":"#N/A"},{"$error":"#N/A"},{"$error":"#N/A"},{"$error":"#N/A"},{"$f":"IF(SUM(AJ$3091:AJ4500)>0,0,\nIF(MAX(AC4501:AC$4531)=MAX(AC$3091:AC$4531),0,\nIF(Hydrograph_Source_EURV=\"USER\",IF(AA4501>0.03*U$4532,0,$C4501/60),\nIF(AA4501>0.03*AA$4532,0,$C4501/60))))","v":0},{"$f":"IF(SUM(AK$3091:AK4500)>0,0,\nIF(MAX(AC4501:AC$4531)=MAX(AC$3091:AC$4531),0,\nIF(Hydrograph_Source_EURV=\"USER\",IF(AA4501>0.01*U$4532,0,$C4501/60),\nIF(AA4501>0.01*AA$4532,0,$C4501/60))))","v":0},0,0,0,0,0,0,0,0,0,{"$error":"#N/A"},{"$error":"#N/A"},{"$error":"#N/A"},{"$error":"#N/A"},{"$error":"#N/A"},{"$error":"#N/A"},{"$f":"IF(SUM(BA$3091:BA4500)>0,0,IF(MAX(AT4501:AT$4531)=MAX(AT$3091:AT$4531),0,IF(AR4501>0.03*AL$4532,0,$C4501/60)))","v":0},{"$f":"IF(SUM(BB$3091:BB4500)>0,0,IF(MAX(AT4501:AT$4531)=MAX(AT$3091:AT$4531),0,IF(AR4501>0.01*AL$4532,0,$C4501/60)))","v":0},0,0,0,0,0,0,0,0,0,{"$error":"#N/A"},{"$error":"#N/A"},{"$error":"#N/A"},{"$error":"#N/A"},{"$error":"#N/A"},{"$error":"#N/A"},{"$f":"IF(SUM(BR$3091:BR4500)>0,0,IF(MAX(BK4501:BK$4531)=MAX(BK$3091:BK$4531),0,IF(BI4501>0.03*BC$4532,0,$C4501/60)))","v":0},{"$f":"IF(SUM(BS$3091:BS4500)>0,0,IF(MAX(BK4501:BK$4531)=MAX(BK$3091:BK$4531),0,IF(BI4501>0.01*BC$4532,0,$C4501/60)))","v":0},0,0,0,0,0,0,0,0,0,{"$error":"#N/A"},{"$error":"#N/A"},{"$error":"#N/A"},{"$error":"#N/A"},{"$error":"#N/A"},{"$error":"#N/A"},{"$f":"IF(SUM(CI$3091:CI4500)>0,0,IF(MAX(CB4501:CB$4531)=MAX(CB$3091:CB$4531),0,IF(BZ4501>0.03*BT$4532,0,$C4501/60)))","v":0},{"$f":"IF(SUM(CJ$3091:CJ4500)>0,0,IF(MAX(CB4501:CB$4531)=MAX(CB$3091:CB$4531),0,IF(BZ4501>0.01*BT$4532,0,$C4501/60)))","v":0},0,0,0,0,0,0,0,0,0,{"$error":"#N/A"},{"$error":"#N/A"},{"$error":"#N/A"},{"$error":"#N/A"},{"$error":"#N/A"},{"$error":"#N/A"},{"$f":"IF(SUM(CZ$3091:CZ4500)>0,0,IF(MAX(CS4501:CS$4531)=MAX(CS$3091:CS$4531),0,IF(CQ4501>0.03*CK$4532,0,$C4501/60)))","v":0},{"$f":"IF(SUM(DA$3091:DA4500)>0,0,IF(MAX(CS4501:CS$4531)=MAX(CS$3091:CS$4531),0,IF(CQ4501>0.01*CK$4532,0,$C4501/60)))","v":0},0,0,0,0,0,0,0,0,0,{"$error":"#N/A"},{"$error":"#N/A"},{"$error":"#N/A"},{"$error":"#N/A"},{"$error":"#N/A"},{"$error":"#N/A"},{"$f":"IF(SUM(DQ$3091:DQ4500)>0,0,IF(MAX(DJ4501:DJ$4531)=MAX(DJ$3091:DJ$4531),0,IF(DH4501>0.03*DB$4532,0,$C4501/60)))","v":0},{"$f":"IF(SUM(DR$3091:DR4500)>0,0,IF(MAX(DJ4501:DJ$4531)=MAX(DJ$3091:DJ$4531),0,IF(DH4501>0.01*DB$4532,0,$C4501/60)))","v":0},0,0,0,0,0,0,0,0,0,{"$error":"#N/A"},{"$error":"#N/A"},{"$error":"#N/A"},{"$error":"#N/A"},{"$error":"#N/A"},{"$error":"#N/A"},{"$f":"IF(SUM(EH$3091:EH4500)>0,0,IF(MAX(EA4501:EA$4531)=MAX(EA$3091:EA$4531),0,IF(DY4501>0.03*DS$4532,0,$C4501/60)))","v":0},{"$f":"IF(SUM(EI$3091:EI4500)>0,0,IF(MAX(EA4501:EA$4531)=MAX(EA$3091:EA$4531),0,IF(DY4501>0.01*DS$4532,0,$C4501/60)))","v":0},0,0,0,0,0,0,0,0,0,{"$error":"#N/A"},{"$error":"#N/A"},{"$error":"#N/A"},{"$error":"#N/A"},{"$error":"#N/A"},{"$error":"#N/A"},{"$f":"IF(SUM(EY$3091:EY4500)>0,0,IF(MAX(ER4501:ER$4531)=MAX(ER$3091:ER$4531),0,IF(EP4501>0.03*EJ$4532,0,$C4501/60)))","v":0},{"$f":"IF(SUM(EZ$3091:EZ4500)>0,0,IF(MAX(ER4501:ER$4531)=MAX(ER$3091:ER$4531),0,IF(EP4501>0.01*EJ$4532,0,$C4501/60)))","v":0}]
[null,117.58333333333333,7055,0,0,0,0,0,0,0,0,0,{"$error":"#N/A"},{"$error":"#N/A"},{"$error":"#N/A"},{"$error":"#N/A"},{"$error":"#N/A"},{"$error":"#N/A"},{"$f":"IF(SUM(S$3091:S4501)>0,0,\nIF(MAX(L4502:L$4531)=MAX(L$3091:L$4531),0,\nIF(Hydrograph_Source_WQCV=\"USER\",IF(J4502>0.03*D$4532,0,$C4502/60),\nIF(J4502>0.03*J$4532,0,$C4502/60))))","v":0},{"$f":"IF(SUM(T$3091:T4501)>0,0,\nIF(MAX(L4502:L$4531)=MAX(L$3091:L$4531),0,\nIF(Hydrograph_Source_WQCV=\"USER\",IF(J4502>0.01*D$4532,0,$C4502/60),\nIF(J4502>0.01*J$4532,0,$C4502/60))))","v":0},0,0,0,0,0,0,0,0,0,{"$error":"#N/A"},{"$error":"#N/A"},{"$error":"#N/A"},{"$error":"#N/A"},{"$error":"#N/A"},{"$error":"#N/A"},{"$f":"IF(SUM(AJ$3091:AJ4501)>0,0,\nIF(MAX(AC4502:AC$4531)=MAX(AC$3091:AC$4531),0,\nIF(Hydrograph_Source_EURV=\"USER\",IF(AA4502>0.03*U$4532,0,$C4502/60),\nIF(AA4502>0.03*AA$4532,0,$C4502/60))))","v":0},{"$f":"IF(SUM(AK$3091:AK4501)>0,0,\nIF(MAX(AC4502:AC$4531)=MAX(AC$3091:AC$4531),0,\nIF(Hydrograph_Source_EURV=\"USER\",IF(AA4502>0.01*U$4532,0,$C4502/60),\nIF(AA4502>0.01*AA$4532,0,$C4502/60))))","v":0},0,0,0,0,0,0,0,0,0,{"$error":"#N/A"},{"$error":"#N/A"},{"$error":"#N/A"},{"$error":"#N/A"},{"$error":"#N/A"},{"$error":"#N/A"},{"$f":"IF(SUM(BA$3091:BA4501)>0,0,IF(MAX(AT4502:AT$4531)=MAX(AT$3091:AT$4531),0,IF(AR4502>0.03*AL$4532,0,$C4502/60)))","v":0},{"$f":"IF(SUM(BB$3091:BB4501)>0,0,IF(MAX(AT4502:AT$4531)=MAX(AT$3091:AT$4531),0,IF(AR4502>0.01*AL$4532,0,$C4502/60)))","v":0},0,0,0,0,0,0,0,0,0,{"$error":"#N/A"},{"$error":"#N/A"},{"$error":"#N/A"},{"$error":"#N/A"},{"$error":"#N/A"},{"$error":"#N/A"},{"$f":"IF(SUM(BR$3091:BR4501)>0,0,IF(MAX(BK4502:BK$4531)=MAX(BK$3091:BK$4531),0,IF(BI4502>0.03*BC$4532,0,$C4502/60)))","v":0},{"$f":"IF(SUM(BS$3091:BS4501)>0,0,IF(MAX(BK4502:BK$4531)=MAX(BK$3091:BK$4531),0,IF(BI4502>0.01*BC$4532,0,$C4502/60)))","v":0},0,0,0,0,0,0,0,0,0,{"$error":"#N/A"},{"$error":"#N/A"},{"$error":"#N/A"},{"$error":"#N/A"},{"$error":"#N/A"},{"$error":"#N/A"},{"$f":"IF(SUM(CI$3091:CI4501)>0,0,IF(MAX(CB4502:CB$4531)=MAX(CB$3091:CB$4531),0,IF(BZ4502>0.03*BT$4532,0,$C4502/60)))","v":0},{"$f":"IF(SUM(CJ$3091:CJ4501)>0,0,IF(MAX(CB4502:CB$4531)=MAX(CB$3091:CB$4531),0,IF(BZ4502>0.01*BT$4532,0,$C4502/60)))","v":0},0,0,0,0,0,0,0,0,0,{"$error":"#N/A"},{"$error":"#N/A"},{"$error":"#N/A"},{"$error":"#N/A"},{"$error":"#N/A"},{"$error":"#N/A"},{"$f":"IF(SUM(CZ$3091:CZ4501)>0,0,IF(MAX(CS4502:CS$4531)=MAX(CS$3091:CS$4531),0,IF(CQ4502>0.03*CK$4532,0,$C4502/60)))","v":0},{"$f":"IF(SUM(DA$3091:DA4501)>0,0,IF(MAX(CS4502:CS$4531)=MAX(CS$3091:CS$4531),0,IF(CQ4502>0.01*CK$4532,0,$C4502/60)))","v":0},0,0,0,0,0,0,0,0,0,{"$error":"#N/A"},{"$error":"#N/A"},{"$error":"#N/A"},{"$error":"#N/A"},{"$error":"#N/A"},{"$error":"#N/A"},{"$f":"IF(SUM(DQ$3091:DQ4501)>0,0,IF(MAX(DJ4502:DJ$4531)=MAX(DJ$3091:DJ$4531),0,IF(DH4502>0.03*DB$4532,0,$C4502/60)))","v":0},{"$f":"IF(SUM(DR$3091:DR4501)>0,0,IF(MAX(DJ4502:DJ$4531)=MAX(DJ$3091:DJ$4531),0,IF(DH4502>0.01*DB$4532,0,$C4502/60)))","v":0},0,0,0,0,0,0,0,0,0,{"$error":"#N/A"},{"$error":"#N/A"},{"$error":"#N/A"},{"$error":"#N/A"},{"$error":"#N/A"},{"$error":"#N/A"},{"$f":"IF(SUM(EH$3091:EH4501)>0,0,IF(MAX(EA4502:EA$4531)=MAX(EA$3091:EA$4531),0,IF(DY4502>0.03*DS$4532,0,$C4502/60)))","v":0},{"$f":"IF(SUM(EI$3091:EI4501)>0,0,IF(MAX(EA4502:EA$4531)=MAX(EA$3091:EA$4531),0,IF(DY4502>0.01*DS$4532,0,$C4502/60)))","v":0},0,0,0,0,0,0,0,0,0,{"$error":"#N/A"},{"$error":"#N/A"},{"$error":"#N/A"},{"$error":"#N/A"},{"$error":"#N/A"},{"$error":"#N/A"},{"$f":"IF(SUM(EY$3091:EY4501)>0,0,IF(MAX(ER4502:ER$4531)=MAX(ER$3091:ER$4531),0,IF(EP4502>0.03*EJ$4532,0,$C4502/60)))","v":0},{"$f":"IF(SUM(EZ$3091:EZ4501)>0,0,IF(MAX(ER4502:ER$4531)=MAX(ER$3091:ER$4531),0,IF(EP4502>0.01*EJ$4532,0,$C4502/60)))","v":0}]
[null,117.66666666666667,7060,0,0,0,0,0,0,0,0,0,{"$error":"#N/A"},{"$error":"#N/A"},{"$error":"#N/A"},{"$error":"#N/A"},{"$error":"#N/A"},{"$error":"#N/A"},{"$f":"IF(SUM(S$3091:S4502)>0,0,\nIF(MAX(L4503:L$4531)=MAX(L$3091:L$4531),0,\nIF(Hydrograph_Source_WQCV=\"USER\",IF(J4503>0.03*D$4532,0,$C4503/60),\nIF(J4503>0.03*J$4532,0,$C4503/60))))","v":0},{"$f":"IF(SUM(T$3091:T4502)>0,0,\nIF(MAX(L4503:L$4531)=MAX(L$3091:L$4531),0,\nIF(Hydrograph_Source_WQCV=\"USER\",IF(J4503>0.01*D$4532,0,$C4503/60),\nIF(J4503>0.01*J$4532,0,$C4503/60))))","v":0},0,0,0,0,0,0,0,0,0,{"$error":"#N/A"},{"$error":"#N/A"},{"$error":"#N/A"},{"$error":"#N/A"},{"$error":"#N/A"},{"$error":"#N/A"},{"$f":"IF(SUM(AJ$3091:AJ4502)>0,0,\nIF(MAX(AC4503:AC$4531)=MAX(AC$3091:AC$4531),0,\nIF(Hydrograph_Source_EURV=\"USER\",IF(AA4503>0.03*U$4532,0,$C4503/60),\nIF(AA4503>0.03*AA$4532,0,$C4503/60))))","v":0},{"$f":"IF(SUM(AK$3091:AK4502)>0,0,\nIF(MAX(AC4503:AC$4531)=MAX(AC$3091:AC$4531),0,\nIF(Hydrograph_Source_EURV=\"USER\",IF(AA4503>0.01*U$4532,0,$C4503/60),\nIF(AA4503>0.01*AA$4532,0,$C4503/60))))","v":0},0,0,0,0,0,0,0,0,0,{"$error":"#N/A"},{"$error":"#N/A"},{"$error":"#N/A"},{"$error":"#N/A"},{"$error":"#N/A"},{"$error":"#N/A"},{"$f":"IF(SUM(BA$3091:BA4502)>0,0,IF(MAX(AT4503:AT$4531)=MAX(AT$3091:AT$4531),0,IF(AR4503>0.03*AL$4532,0,$C4503/60)))","v":0},{"$f":"IF(SUM(BB$3091:BB4502)>0,0,IF(MAX(AT4503:AT$4531)=MAX(AT$3091:AT$4531),0,IF(AR4503>0.01*AL$4532,0,$C4503/60)))","v":0},0,0,0,0,0,0,0,0,0,{"$error":"#N/A"},{"$error":"#N/A"},{"$error":"#N/A"},{"$error":"#N/A"},{"$error":"#N/A"},{"$error":"#N/A"},{"$f":"IF(SUM(BR$3091:BR4502)>0,0,IF(MAX(BK4503:BK$4531)=MAX(BK$3091:BK$4531),0,IF(BI4503>0.03*BC$4532,0,$C4503/60)))","v":0},{"$f":"IF(SUM(BS$3091:BS4502)>0,0,IF(MAX(BK4503:BK$4531)=MAX(BK$3091:BK$4531),0,IF(BI4503>0.01*BC$4532,0,$C4503/60)))","v":0},0,0,0,0,0,0,0,0,0,{"$error":"#N/A"},{"$error":"#N/A"},{"$error":"#N/A"},{"$error":"#N/A"},{"$error":"#N/A"},{"$error":"#N/A"},{"$f":"IF(SUM(CI$3091:CI4502)>0,0,IF(MAX(CB4503:CB$4531)=MAX(CB$3091:CB$4531),0,IF(BZ4503>0.03*BT$4532,0,$C4503/60)))","v":0},{"$f":"IF(SUM(CJ$3091:CJ4502)>0,0,IF(MAX(CB4503:CB$4531)=MAX(CB$3091:CB$4531),0,IF(BZ4503>0.01*BT$4532,0,$C4503/60)))","v":0},0,0,0,0,0,0,0,0,0,{"$error":"#N/A"},{"$error":"#N/A"},{"$error":"#N/A"},{"$error":"#N/A"},{"$error":"#N/A"},{"$error":"#N/A"},{"$f":"IF(SUM(CZ$3091:CZ4502)>0,0,IF(MAX(CS4503:CS$4531)=MAX(CS$3091:CS$4531),0,IF(CQ4503>0.03*CK$4532,0,$C4503/60)))","v":0},{"$f":"IF(SUM(DA$3091:DA4502)>0,0,IF(MAX(CS4503:CS$4531)=MAX(CS$3091:CS$4531),0,IF(CQ4503>0.01*CK$4532,0,$C4503/60)))","v":0},0,0,0,0,0,0,0,0,0,{"$error":"#N/A"},{"$error":"#N/A"},{"$error":"#N/A"},{"$error":"#N/A"},{"$error":"#N/A"},{"$error":"#N/A"},{"$f":"IF(SUM(DQ$3091:DQ4502)>0,0,IF(MAX(DJ4503:DJ$4531)=MAX(DJ$3091:DJ$4531),0,IF(DH4503>0.03*DB$4532,0,$C4503/60)))","v":0},{"$f":"IF(SUM(DR$3091:DR4502)>0,0,IF(MAX(DJ4503:DJ$4531)=MAX(DJ$3091:DJ$4531),0,IF(DH4503>0.01*DB$4532,0,$C4503/60)))","v":0},0,0,0,0,0,0,0,0,0,{"$error":"#N/A"},{"$error":"#N/A"},{"$error":"#N/A"},{"$error":"#N/A"},{"$error":"#N/A"},{"$error":"#N/A"},{"$f":"IF(SUM(EH$3091:EH4502)>0,0,IF(MAX(EA4503:EA$4531)=MAX(EA$3091:EA$4531),0,IF(DY4503>0.03*DS$4532,0,$C4503/60)))","v":0},{"$f":"IF(SUM(EI$3091:EI4502)>0,0,IF(MAX(EA4503:EA$4531)=MAX(EA$3091:EA$4531),0,IF(DY4503>0.01*DS$4532,0,$C4503/60)))","v":0},0,0,0,0,0,0,0,0,0,{"$error":"#N/A"},{"$error":"#N/A"},{"$error":"#N/A"},{"$error":"#N/A"},{"$error":"#N/A"},{"$error":"#N/A"},{"$f":"IF(SUM(EY$3091:EY4502)>0,0,IF(MAX(ER4503:ER$4531)=MAX(ER$3091:ER$4531),0,IF(EP4503>0.03*EJ$4532,0,$C4503/60)))","v":0},{"$f":"IF(SUM(EZ$3091:EZ4502)>0,0,IF(MAX(ER4503:ER$4531)=MAX(ER$3091:ER$4531),0,IF(EP4503>0.01*EJ$4532,0,$C4503/60)))","v":0}]
[null,117.75,7065,0,0,0,0,0,0,0,0,0,{"$error":"#N/A"},{"$error":"#N/A"},{"$error":"#N/A"},{"$error":"#N/A"},{"$error":"#N/A"},{"$error":"#N/A"},{"$f":"IF(SUM(S$3091:S4503)>0,0,\nIF(MAX(L4504:L$4531)=MAX(L$3091:L$4531),0,\nIF(Hydrograph_Source_WQCV=\"USER\",IF(J4504>0.03*D$4532,0,$C4504/60),\nIF(J4504>0.03*J$4532,0,$C4504/60))))","v":0},{"$f":"IF(SUM(T$3091:T4503)>0,0,\nIF(MAX(L4504:L$4531)=MAX(L$3091:L$4531),0,\nIF(Hydrograph_Source_WQCV=\"USER\",IF(J4504>0.01*D$4532,0,$C4504/60),\nIF(J4504>0.01*J$4532,0,$C4504/60))))","v":0},0,0,0,0,0,0,0,0,0,{"$error":"#N/A"},{"$error":"#N/A"},{"$error":"#N/A"},{"$error":"#N/A"},{"$error":"#N/A"},{"$error":"#N/A"},{"$f":"IF(SUM(AJ$3091:AJ4503)>0,0,\nIF(MAX(AC4504:AC$4531)=MAX(AC$3091:AC$4531),0,\nIF(Hydrograph_Source_EURV=\"USER\",IF(AA4504>0.03*U$4532,0,$C4504/60),\nIF(AA4504>0.03*AA$4532,0,$C4504/60))))","v":0},{"$f":"IF(SUM(AK$3091:AK4503)>0,0,\nIF(MAX(AC4504:AC$4531)=MAX(AC$3091:AC$4531),0,\nIF(Hydrograph_Source_EURV=\"USER\",IF(AA4504>0.01*U$4532,0,$C4504/60),\nIF(AA4504>0.01*AA$4532,0,$C4504/60))))","v":0},0,0,0,0,0,0,0,0,0,{"$error":"#N/A"},{"$error":"#N/A"},{"$error":"#N/A"},{"$error":"#N/A"},{"$error":"#N/A"},{"$error":"#N/A"},{"$f":"IF(SUM(BA$3091:BA4503)>0,0,IF(MAX(AT4504:AT$4531)=MAX(AT$3091:AT$4531),0,IF(AR4504>0.03*AL$4532,0,$C4504/60)))","v":0},{"$f":"IF(SUM(BB$3091:BB4503)>0,0,IF(MAX(AT4504:AT$4531)=MAX(AT$3091:AT$4531),0,IF(AR4504>0.01*AL$4532,0,$C4504/60)))","v":0},0,0,0,0,0,0,0,0,0,{"$error":"#N/A"},{"$error":"#N/A"},{"$error":"#N/A"},{"$error":"#N/A"},{"$error":"#N/A"},{"$error":"#N/A"},{"$f":"IF(SUM(BR$3091:BR4503)>0,0,IF(MAX(BK4504:BK$4531)=MAX(BK$3091:BK$4531),0,IF(BI4504>0.03*BC$4532,0,$C4504/60)))","v":0},{"$f":"IF(SUM(BS$3091:BS4503)>0,0,IF(MAX(BK4504:BK$4531)=MAX(BK$3091:BK$4531),0,IF(BI4504>0.01*BC$4532,0,$C4504/60)))","v":0},0,0,0,0,0,0,0,0,0,{"$error":"#N/A"},{"$error":"#N/A"},{"$error":"#N/A"},{"$error":"#N/A"},{"$error":"#N/A"},{"$error":"#N/A"},{"$f":"IF(SUM(CI$3091:CI4503)>0,0,IF(MAX(CB4504:CB$4531)=MAX(CB$3091:CB$4531),0,IF(BZ4504>0.03*BT$4532,0,$C4504/60)))","v":0},{"$f":"IF(SUM(CJ$3091:CJ4503)>0,0,IF(MAX(CB4504:CB$4531)=MAX(CB$3091:CB$4531),0,IF(BZ4504>0.01*BT$4532,0,$C4504/60)))","v":0},0,0,0,0,0,0,0,0,0,{"$error":"#N/A"},{"$error":"#N/A"},{"$error":"#N/A"},{"$error":"#N/A"},{"$error":"#N/A"},{"$error":"#N/A"},{"$f":"IF(SUM(CZ$3091:CZ4503)>0,0,IF(MAX(CS4504:CS$4531)=MAX(CS$3091:CS$4531),0,IF(CQ4504>0.03*CK$4532,0,$C4504/60)))","v":0},{"$f":"IF(SUM(DA$3091:DA4503)>0,0,IF(MAX(CS4504:CS$4531)=MAX(CS$3091:CS$4531),0,IF(CQ4504>0.01*CK$4532,0,$C4504/60)))","v":0},0,0,0,0,0,0,0,0,0,{"$error":"#N/A"},{"$error":"#N/A"},{"$error":"#N/A"},{"$error":"#N/A"},{"$error":"#N/A"},{"$error":"#N/A"},{"$f":"IF(SUM(DQ$3091:DQ4503)>0,0,IF(MAX(DJ4504:DJ$4531)=MAX(DJ$3091:DJ$4531),0,IF(DH4504>0.03*DB$4532,0,$C4504/60)))","v":0},{"$f":"IF(SUM(DR$3091:DR4503)>0,0,IF(MAX(DJ4504:DJ$4531)=MAX(DJ$3091:DJ$4531),0,IF(DH4504>0.01*DB$4532,0,$C4504/60)))","v":0},0,0,0,0,0,0,0,0,0,{"$error":"#N/A"},{"$error":"#N/A"},{"$error":"#N/A"},{"$error":"#N/A"},{"$error":"#N/A"},{"$error":"#N/A"},{"$f":"IF(SUM(EH$3091:EH4503)>0,0,IF(MAX(EA4504:EA$4531)=MAX(EA$3091:EA$4531),0,IF(DY4504>0.03*DS$4532,0,$C4504/60)))","v":0},{"$f":"IF(SUM(EI$3091:EI4503)>0,0,IF(MAX(EA4504:EA$4531)=MAX(EA$3091:EA$4531),0,IF(DY4504>0.01*DS$4532,0,$C4504/60)))","v":0},0,0,0,0,0,0,0,0,0,{"$error":"#N/A"},{"$error":"#N/A"},{"$error":"#N/A"},{"$error":"#N/A"},{"$error":"#N/A"},{"$error":"#N/A"},{"$f":"IF(SUM(EY$3091:EY4503)>0,0,IF(MAX(ER4504:ER$4531)=MAX(ER$3091:ER$4531),0,IF(EP4504>0.03*EJ$4532,0,$C4504/60)))","v":0},{"$f":"IF(SUM(EZ$3091:EZ4503)>0,0,IF(MAX(ER4504:ER$4531)=MAX(ER$3091:ER$4531),0,IF(EP4504>0.01*EJ$4532,0,$C4504/60)))","v":0}]
[null,117.83333333333333,7070,0,0,0,0,0,0,0,0,0,{"$error":"#N/A"},{"$error":"#N/A"},{"$error":"#N/A"},{"$error":"#N/A"},{"$error":"#N/A"},{"$error":"#N/A"},{"$f":"IF(SUM(S$3091:S4504)>0,0,\nIF(MAX(L4505:L$4531)=MAX(L$3091:L$4531),0,\nIF(Hydrograph_Source_WQCV=\"USER\",IF(J4505>0.03*D$4532,0,$C4505/60),\nIF(J4505>0.03*J$4532,0,$C4505/60))))","v":0},{"$f":"IF(SUM(T$3091:T4504)>0,0,\nIF(MAX(L4505:L$4531)=MAX(L$3091:L$4531),0,\nIF(Hydrograph_Source_WQCV=\"USER\",IF(J4505>0.01*D$4532,0,$C4505/60),\nIF(J4505>0.01*J$4532,0,$C4505/60))))","v":0},0,0,0,0,0,0,0,0,0,{"$error":"#N/A"},{"$error":"#N/A"},{"$error":"#N/A"},{"$error":"#N/A"},{"$error":"#N/A"},{"$error":"#N/A"},{"$f":"IF(SUM(AJ$3091:AJ4504)>0,0,\nIF(MAX(AC4505:AC$4531)=MAX(AC$3091:AC$4531),0,\nIF(Hydrograph_Source_EURV=\"USER\",IF(AA4505>0.03*U$4532,0,$C4505/60),\nIF(AA4505>0.03*AA$4532,0,$C4505/60))))","v":0},{"$f":"IF(SUM(AK$3091:AK4504)>0,0,\nIF(MAX(AC4505:AC$4531)=MAX(AC$3091:AC$4531),0,\nIF(Hydrograph_Source_EURV=\"USER\",IF(AA4505>0.01*U$4532,0,$C4505/60),\nIF(AA4505>0.01*AA$4532,0,$C4505/60))))","v":0},0,0,0,0,0,0,0,0,0,{"$error":"#N/A"},{"$error":"#N/A"},{"$error":"#N/A"},{"$error":"#N/A"},{"$error":"#N/A"},{"$error":"#N/A"},{"$f":"IF(SUM(BA$3091:BA4504)>0,0,IF(MAX(AT4505:AT$4531)=MAX(AT$3091:AT$4531),0,IF(AR4505>0.03*AL$4532,0,$C4505/60)))","v":0},{"$f":"IF(SUM(BB$3091:BB4504)>0,0,IF(MAX(AT4505:AT$4531)=MAX(AT$3091:AT$4531),0,IF(AR4505>0.01*AL$4532,0,$C4505/60)))","v":0},0,0,0,0,0,0,0,0,0,{"$error":"#N/A"},{"$error":"#N/A"},{"$error":"#N/A"},{"$error":"#N/A"},{"$error":"#N/A"},{"$error":"#N/A"},{"$f":"IF(SUM(BR$3091:BR4504)>0,0,IF(MAX(BK4505:BK$4531)=MAX(BK$3091:BK$4531),0,IF(BI4505>0.03*BC$4532,0,$C4505/60)))","v":0},{"$f":"IF(SUM(BS$3091:BS4504)>0,0,IF(MAX(BK4505:BK$4531)=MAX(BK$3091:BK$4531),0,IF(BI4505>0.01*BC$4532,0,$C4505/60)))","v":0},0,0,0,0,0,0,0,0,0,{"$error":"#N/A"},{"$error":"#N/A"},{"$error":"#N/A"},{"$error":"#N/A"},{"$error":"#N/A"},{"$error":"#N/A"},{"$f":"IF(SUM(CI$3091:CI4504)>0,0,IF(MAX(CB4505:CB$4531)=MAX(CB$3091:CB$4531),0,IF(BZ4505>0.03*BT$4532,0,$C4505/60)))","v":0},{"$f":"IF(SUM(CJ$3091:CJ4504)>0,0,IF(MAX(CB4505:CB$4531)=MAX(CB$3091:CB$4531),0,IF(BZ4505>0.01*BT$4532,0,$C4505/60)))","v":0},0,0,0,0,0,0,0,0,0,{"$error":"#N/A"},{"$error":"#N/A"},{"$error":"#N/A"},{"$error":"#N/A"},{"$error":"#N/A"},{"$error":"#N/A"},{"$f":"IF(SUM(CZ$3091:CZ4504)>0,0,IF(MAX(CS4505:CS$4531)=MAX(CS$3091:CS$4531),0,IF(CQ4505>0.03*CK$4532,0,$C4505/60)))","v":0},{"$f":"IF(SUM(DA$3091:DA4504)>0,0,IF(MAX(CS4505:CS$4531)=MAX(CS$3091:CS$4531),0,IF(CQ4505>0.01*CK$4532,0,$C4505/60)))","v":0},0,0,0,0,0,0,0,0,0,{"$error":"#N/A"},{"$error":"#N/A"},{"$error":"#N/A"},{"$error":"#N/A"},{"$error":"#N/A"},{"$error":"#N/A"},{"$f":"IF(SUM(DQ$3091:DQ4504)>0,0,IF(MAX(DJ4505:DJ$4531)=MAX(DJ$3091:DJ$4531),0,IF(DH4505>0.03*DB$4532,0,$C4505/60)))","v":0},{"$f":"IF(SUM(DR$3091:DR4504)>0,0,IF(MAX(DJ4505:DJ$4531)=MAX(DJ$3091:DJ$4531),0,IF(DH4505>0.01*DB$4532,0,$C4505/60)))","v":0},0,0,0,0,0,0,0,0,0,{"$error":"#N/A"},{"$error":"#N/A"},{"$error":"#N/A"},{"$error":"#N/A"},{"$error":"#N/A"},{"$error":"#N/A"},{"$f":"IF(SUM(EH$3091:EH4504)>0,0,IF(MAX(EA4505:EA$4531)=MAX(EA$3091:EA$4531),0,IF(DY4505>0.03*DS$4532,0,$C4505/60)))","v":0},{"$f":"IF(SUM(EI$3091:EI4504)>0,0,IF(MAX(EA4505:EA$4531)=MAX(EA$3091:EA$4531),0,IF(DY4505>0.01*DS$4532,0,$C4505/60)))","v":0},0,0,0,0,0,0,0,0,0,{"$error":"#N/A"},{"$error":"#N/A"},{"$error":"#N/A"},{"$error":"#N/A"},{"$error":"#N/A"},{"$error":"#N/A"},{"$f":"IF(SUM(EY$3091:EY4504)>0,0,IF(MAX(ER4505:ER$4531)=MAX(ER$3091:ER$4531),0,IF(EP4505>0.03*EJ$4532,0,$C4505/60)))","v":0},{"$f":"IF(SUM(EZ$3091:EZ4504)>0,0,IF(MAX(ER4505:ER$4531)=MAX(ER$3091:ER$4531),0,IF(EP4505>0.01*EJ$4532,0,$C4505/60)))","v":0}]
[null,117.91666666666667,7075,0,0,0,0,0,0,0,0,0,{"$error":"#N/A"},{"$error":"#N/A"},{"$error":"#N/A"},{"$error":"#N/A"},{"$error":"#N/A"},{"$error":"#N/A"},{"$f":"IF(SUM(S$3091:S4505)>0,0,\nIF(MAX(L4506:L$4531)=MAX(L$3091:L$4531),0,\nIF(Hydrograph_Source_WQCV=\"USER\",IF(J4506>0.03*D$4532,0,$C4506/60),\nIF(J4506>0.03*J$4532,0,$C4506/60))))","v":0},{"$f":"IF(SUM(T$3091:T4505)>0,0,\nIF(MAX(L4506:L$4531)=MAX(L$3091:L$4531),0,\nIF(Hydrograph_Source_WQCV=\"USER\",IF(J4506>0.01*D$4532,0,$C4506/60),\nIF(J4506>0.01*J$4532,0,$C4506/60))))","v":0},0,0,0,0,0,0,0,0,0,{"$error":"#N/A"},{"$error":"#N/A"},{"$error":"#N/A"},{"$error":"#N/A"},{"$error":"#N/A"},{"$error":"#N/A"},{"$f":"IF(SUM(AJ$3091:AJ4505)>0,0,\nIF(MAX(AC4506:AC$4531)=MAX(AC$3091:AC$4531),0,\nIF(Hydrograph_Source_EURV=\"USER\",IF(AA4506>0.03*U$4532,0,$C4506/60),\nIF(AA4506>0.03*AA$4532,0,$C4506/60))))","v":0},{"$f":"IF(SUM(AK$3091:AK4505)>0,0,\nIF(MAX(AC4506:AC$4531)=MAX(AC$3091:AC$4531),0,\nIF(Hydrograph_Source_EURV=\"USER\",IF(AA4506>0.01*U$4532,0,$C4506/60),\nIF(AA4506>0.01*AA$4532,0,$C4506/60))))","v":0},0,0,0,0,0,0,0,0,0,{"$error":"#N/A"},{"$error":"#N/A"},{"$error":"#N/A"},{"$error":"#N/A"},{"$error":"#N/A"},{"$error":"#N/A"},{"$f":"IF(SUM(BA$3091:BA4505)>0,0,IF(MAX(AT4506:AT$4531)=MAX(AT$3091:AT$4531),0,IF(AR4506>0.03*AL$4532,0,$C4506/60)))","v":0},{"$f":"IF(SUM(BB$3091:BB4505)>0,0,IF(MAX(AT4506:AT$4531)=MAX(AT$3091:AT$4531),0,IF(AR4506>0.01*AL$4532,0,$C4506/60)))","v":0},0,0,0,0,0,0,0,0,0,{"$error":"#N/A"},{"$error":"#N/A"},{"$error":"#N/A"},{"$error":"#N/A"},{"$error":"#N/A"},{"$error":"#N/A"},{"$f":"IF(SUM(BR$3091:BR4505)>0,0,IF(MAX(BK4506:BK$4531)=MAX(BK$3091:BK$4531),0,IF(BI4506>0.03*BC$4532,0,$C4506/60)))","v":0},{"$f":"IF(SUM(BS$3091:BS4505)>0,0,IF(MAX(BK4506:BK$4531)=MAX(BK$3091:BK$4531),0,IF(BI4506>0.01*BC$4532,0,$C4506/60)))","v":0},0,0,0,0,0,0,0,0,0,{"$error":"#N/A"},{"$error":"#N/A"},{"$error":"#N/A"},{"$error":"#N/A"},{"$error":"#N/A"},{"$error":"#N/A"},{"$f":"IF(SUM(CI$3091:CI4505)>0,0,IF(MAX(CB4506:CB$4531)=MAX(CB$3091:CB$4531),0,IF(BZ4506>0.03*BT$4532,0,$C4506/60)))","v":0},{"$f":"IF(SUM(CJ$3091:CJ4505)>0,0,IF(MAX(CB4506:CB$4531)=MAX(CB$3091:CB$4531),0,IF(BZ4506>0.01*BT$4532,0,$C4506/60)))","v":0},0,0,0,0,0,0,0,0,0,{"$error":"#N/A"},{"$error":"#N/A"},{"$error":"#N/A"},{"$error":"#N/A"},{"$error":"#N/A"},{"$error":"#N/A"},{"$f":"IF(SUM(CZ$3091:CZ4505)>0,0,IF(MAX(CS4506:CS$4531)=MAX(CS$3091:CS$4531),0,IF(CQ4506>0.03*CK$4532,0,$C4506/60)))","v":0},{"$f":"IF(SUM(DA$3091:DA4505)>0,0,IF(MAX(CS4506:CS$4531)=MAX(CS$3091:CS$4531),0,IF(CQ4506>0.01*CK$4532,0,$C4506/60)))","v":0},0,0,0,0,0,0,0,0,0,{"$error":"#N/A"},{"$error":"#N/A"},{"$error":"#N/A"},{"$error":"#N/A"},{"$error":"#N/A"},{"$error":"#N/A"},{"$f":"IF(SUM(DQ$3091:DQ4505)>0,0,IF(MAX(DJ4506:DJ$4531)=MAX(DJ$3091:DJ$4531),0,IF(DH4506>0.03*DB$4532,0,$C4506/60)))","v":0},{"$f":"IF(SUM(DR$3091:DR4505)>0,0,IF(MAX(DJ4506:DJ$4531)=MAX(DJ$3091:DJ$4531),0,IF(DH4506>0.01*DB$4532,0,$C4506/60)))","v":0},0,0,0,0,0,0,0,0,0,{"$error":"#N/A"},{"$error":"#N/A"},{"$error":"#N/A"},{"$error":"#N/A"},{"$error":"#N/A"},{"$error":"#N/A"},{"$f":"IF(SUM(EH$3091:EH4505)>0,0,IF(MAX(EA4506:EA$4531)=MAX(EA$3091:EA$4531),0,IF(DY4506>0.03*DS$4532,0,$C4506/60)))","v":0},{"$f":"IF(SUM(EI$3091:EI4505)>0,0,IF(MAX(EA4506:EA$4531)=MAX(EA$3091:EA$4531),0,IF(DY4506>0.01*DS$4532,0,$C4506/60)))","v":0},0,0,0,0,0,0,0,0,0,{"$error":"#N/A"},{"$error":"#N/A"},{"$error":"#N/A"},{"$error":"#N/A"},{"$error":"#N/A"},{"$error":"#N/A"},{"$f":"IF(SUM(EY$3091:EY4505)>0,0,IF(MAX(ER4506:ER$4531)=MAX(ER$3091:ER$4531),0,IF(EP4506>0.03*EJ$4532,0,$C4506/60)))","v":0},{"$f":"IF(SUM(EZ$3091:EZ4505)>0,0,IF(MAX(ER4506:ER$4531)=MAX(ER$3091:ER$4531),0,IF(EP4506>0.01*EJ$4532,0,$C4506/60)))","v":0}]
[null,118,7080,0,0,0,0,0,0,0,0,0,{"$error":"#N/A"},{"$error":"#N/A"},{"$error":"#N/A"},{"$error":"#N/A"},{"$error":"#N/A"},{"$error":"#N/A"},{"$f":"IF(SUM(S$3091:S4506)>0,0,\nIF(MAX(L4507:L$4531)=MAX(L$3091:L$4531),0,\nIF(Hydrograph_Source_WQCV=\"USER\",IF(J4507>0.03*D$4532,0,$C4507/60),\nIF(J4507>0.03*J$4532,0,$C4507/60))))","v":0},{"$f":"IF(SUM(T$3091:T4506)>0,0,\nIF(MAX(L4507:L$4531)=MAX(L$3091:L$4531),0,\nIF(Hydrograph_Source_WQCV=\"USER\",IF(J4507>0.01*D$4532,0,$C4507/60),\nIF(J4507>0.01*J$4532,0,$C4507/60))))","v":0},0,0,0,0,0,0,0,0,0,{"$error":"#N/A"},{"$error":"#N/A"},{"$error":"#N/A"},{"$error":"#N/A"},{"$error":"#N/A"},{"$error":"#N/A"},{"$f":"IF(SUM(AJ$3091:AJ4506)>0,0,\nIF(MAX(AC4507:AC$4531)=MAX(AC$3091:AC$4531),0,\nIF(Hydrograph_Source_EURV=\"USER\",IF(AA4507>0.03*U$4532,0,$C4507/60),\nIF(AA4507>0.03*AA$4532,0,$C4507/60))))","v":0},{"$f":"IF(SUM(AK$3091:AK4506)>0,0,\nIF(MAX(AC4507:AC$4531)=MAX(AC$3091:AC$4531),0,\nIF(Hydrograph_Source_EURV=\"USER\",IF(AA4507>0.01*U$4532,0,$C4507/60),\nIF(AA4507>0.01*AA$4532,0,$C4507/60))))","v":0},0,0,0,0,0,0,0,0,0,{"$error":"#N/A"},{"$error":"#N/A"},{"$error":"#N/A"},{"$error":"#N/A"},{"$error":"#N/A"},{"$error":"#N/A"},{"$f":"IF(SUM(BA$3091:BA4506)>0,0,IF(MAX(AT4507:AT$4531)=MAX(AT$3091:AT$4531),0,IF(AR4507>0.03*AL$4532,0,$C4507/60)))","v":0},{"$f":"IF(SUM(BB$3091:BB4506)>0,0,IF(MAX(AT4507:AT$4531)=MAX(AT$3091:AT$4531),0,IF(AR4507>0.01*AL$4532,0,$C4507/60)))","v":0},0,0,0,0,0,0,0,0,0,{"$error":"#N/A"},{"$error":"#N/A"},{"$error":"#N/A"},{"$error":"#N/A"},{"$error":"#N/A"},{"$error":"#N/A"},{"$f":"IF(SUM(BR$3091:BR4506)>0,0,IF(MAX(BK4507:BK$4531)=MAX(BK$3091:BK$4531),0,IF(BI4507>0.03*BC$4532,0,$C4507/60)))","v":0},{"$f":"IF(SUM(BS$3091:BS4506)>0,0,IF(MAX(BK4507:BK$4531)=MAX(BK$3091:BK$4531),0,IF(BI4507>0.01*BC$4532,0,$C4507/60)))","v":0},0,0,0,0,0,0,0,0,0,{"$error":"#N/A"},{"$error":"#N/A"},{"$error":"#N/A"},{"$error":"#N/A"},{"$error":"#N/A"},{"$error":"#N/A"},{"$f":"IF(SUM(CI$3091:CI4506)>0,0,IF(MAX(CB4507:CB$4531)=MAX(CB$3091:CB$4531),0,IF(BZ4507>0.03*BT$4532,0,$C4507/60)))","v":0},{"$f":"IF(SUM(CJ$3091:CJ4506)>0,0,IF(MAX(CB4507:CB$4531)=MAX(CB$3091:CB$4531),0,IF(BZ4507>0.01*BT$4532,0,$C4507/60)))","v":0},0,0,0,0,0,0,0,0,0,{"$error":"#N/A"},{"$error":"#N/A"},{"$error":"#N/A"},{"$error":"#N/A"},{"$error":"#N/A"},{"$error":"#N/A"},{"$f":"IF(SUM(CZ$3091:CZ4506)>0,0,IF(MAX(CS4507:CS$4531)=MAX(CS$3091:CS$4531),0,IF(CQ4507>0.03*CK$4532,0,$C4507/60)))","v":0},{"$f":"IF(SUM(DA$3091:DA4506)>0,0,IF(MAX(CS4507:CS$4531)=MAX(CS$3091:CS$4531),0,IF(CQ4507>0.01*CK$4532,0,$C4507/60)))","v":0},0,0,0,0,0,0,0,0,0,{"$error":"#N/A"},{"$error":"#N/A"},{"$error":"#N/A"},{"$error":"#N/A"},{"$error":"#N/A"},{"$error":"#N/A"},{"$f":"IF(SUM(DQ$3091:DQ4506)>0,0,IF(MAX(DJ4507:DJ$4531)=MAX(DJ$3091:DJ$4531),0,IF(DH4507>0.03*DB$4532,0,$C4507/60)))","v":0},{"$f":"IF(SUM(DR$3091:DR4506)>0,0,IF(MAX(DJ4507:DJ$4531)=MAX(DJ$3091:DJ$4531),0,IF(DH4507>0.01*DB$4532,0,$C4507/60)))","v":0},0,0,0,0,0,0,0,0,0,{"$error":"#N/A"},{"$error":"#N/A"},{"$error":"#N/A"},{"$error":"#N/A"},{"$error":"#N/A"},{"$error":"#N/A"},{"$f":"IF(SUM(EH$3091:EH4506)>0,0,IF(MAX(EA4507:EA$4531)=MAX(EA$3091:EA$4531),0,IF(DY4507>0.03*DS$4532,0,$C4507/60)))","v":0},{"$f":"IF(SUM(EI$3091:EI4506)>0,0,IF(MAX(EA4507:EA$4531)=MAX(EA$3091:EA$4531),0,IF(DY4507>0.01*DS$4532,0,$C4507/60)))","v":0},0,0,0,0,0,0,0,0,0,{"$error":"#N/A"},{"$error":"#N/A"},{"$error":"#N/A"},{"$error":"#N/A"},{"$error":"#N/A"},{"$error":"#N/A"},{"$f":"IF(SUM(EY$3091:EY4506)>0,0,IF(MAX(ER4507:ER$4531)=MAX(ER$3091:ER$4531),0,IF(EP4507>0.03*EJ$4532,0,$C4507/60)))","v":0},{"$f":"IF(SUM(EZ$3091:EZ4506)>0,0,IF(MAX(ER4507:ER$4531)=MAX(ER$3091:ER$4531),0,IF(EP4507>0.01*EJ$4532,0,$C4507/60)))","v":0}]
[null,118.08333333333333,7085,0,0,0,0,0,0,0,0,0,{"$error":"#N/A"},{"$error":"#N/A"},{"$error":"#N/A"},{"$error":"#N/A"},{"$error":"#N/A"},{"$error":"#N/A"},{"$f":"IF(SUM(S$3091:S4507)>0,0,\nIF(MAX(L4508:L$4531)=MAX(L$3091:L$4531),0,\nIF(Hydrograph_Source_WQCV=\"USER\",IF(J4508>0.03*D$4532,0,$C4508/60),\nIF(J4508>0.03*J$4532,0,$C4508/60))))","v":0},{"$f":"IF(SUM(T$3091:T4507)>0,0,\nIF(MAX(L4508:L$4531)=MAX(L$3091:L$4531),0,\nIF(Hydrograph_Source_WQCV=\"USER\",IF(J4508>0.01*D$4532,0,$C4508/60),\nIF(J4508>0.01*J$4532,0,$C4508/60))))","v":0},0,0,0,0,0,0,0,0,0,{"$error":"#N/A"},{"$error":"#N/A"},{"$error":"#N/A"},{"$error":"#N/A"},{"$error":"#N/A"},{"$error":"#N/A"},{"$f":"IF(SUM(AJ$3091:AJ4507)>0,0,\nIF(MAX(AC4508:AC$4531)=MAX(AC$3091:AC$4531),0,\nIF(Hydrograph_Source_EURV=\"USER\",IF(AA4508>0.03*U$4532,0,$C4508/60),\nIF(AA4508>0.03*AA$4532,0,$C4508/60))))","v":0},{"$f":"IF(SUM(AK$3091:AK4507)>0,0,\nIF(MAX(AC4508:AC$4531)=MAX(AC$3091:AC$4531),0,\nIF(Hydrograph_Source_EURV=\"USER\",IF(AA4508>0.01*U$4532,0,$C4508/60),\nIF(AA4508>0.01*AA$4532,0,$C4508/60))))","v":0},0,0,0,0,0,0,0,0,0,{"$error":"#N/A"},{"$error":"#N/A"},{"$error":"#N/A"},{"$error":"#N/A"},{"$error":"#N/A"},{"$error":"#N/A"},{"$f":"IF(SUM(BA$3091:BA4507)>0,0,IF(MAX(AT4508:AT$4531)=MAX(AT$3091:AT$4531),0,IF(AR4508>0.03*AL$4532,0,$C4508/60)))","v":0},{"$f":"IF(SUM(BB$3091:BB4507)>0,0,IF(MAX(AT4508:AT$4531)=MAX(AT$3091:AT$4531),0,IF(AR4508>0.01*AL$4532,0,$C4508/60)))","v":0},0,0,0,0,0,0,0,0,0,{"$error":"#N/A"},{"$error":"#N/A"},{"$error":"#N/A"},{"$error":"#N/A"},{"$error":"#N/A"},{"$error":"#N/A"},{"$f":"IF(SUM(BR$3091:BR4507)>0,0,IF(MAX(BK4508:BK$4531)=MAX(BK$3091:BK$4531),0,IF(BI4508>0.03*BC$4532,0,$C4508/60)))","v":0},{"$f":"IF(SUM(BS$3091:BS4507)>0,0,IF(MAX(BK4508:BK$4531)=MAX(BK$3091:BK$4531),0,IF(BI4508>0.01*BC$4532,0,$C4508/60)))","v":0},0,0,0,0,0,0,0,0,0,{"$error":"#N/A"},{"$error":"#N/A"},{"$error":"#N/A"},{"$error":"#N/A"},{"$error":"#N/A"},{"$error":"#N/A"},{"$f":"IF(SUM(CI$3091:CI4507)>0,0,IF(MAX(CB4508:CB$4531)=MAX(CB$3091:CB$4531),0,IF(BZ4508>0.03*BT$4532,0,$C4508/60)))","v":0},{"$f":"IF(SUM(CJ$3091:CJ4507)>0,0,IF(MAX(CB4508:CB$4531)=MAX(CB$3091:CB$4531),0,IF(BZ4508>0.01*BT$4532,0,$C4508/60)))","v":0},0,0,0,0,0,0,0,0,0,{"$error":"#N/A"},{"$error":"#N/A"},{"$error":"#N/A"},{"$error":"#N/A"},{"$error":"#N/A"},{"$error":"#N/A"},{"$f":"IF(SUM(CZ$3091:CZ4507)>0,0,IF(MAX(CS4508:CS$4531)=MAX(CS$3091:CS$4531),0,IF(CQ4508>0.03*CK$4532,0,$C4508/60)))","v":0},{"$f":"IF(SUM(DA$3091:DA4507)>0,0,IF(MAX(CS4508:CS$4531)=MAX(CS$3091:CS$4531),0,IF(CQ4508>0.01*CK$4532,0,$C4508/60)))","v":0},0,0,0,0,0,0,0,0,0,{"$error":"#N/A"},{"$error":"#N/A"},{"$error":"#N/A"},{"$error":"#N/A"},{"$error":"#N/A"},{"$error":"#N/A"},{"$f":"IF(SUM(DQ$3091:DQ4507)>0,0,IF(MAX(DJ4508:DJ$4531)=MAX(DJ$3091:DJ$4531),0,IF(DH4508>0.03*DB$4532,0,$C4508/60)))","v":0},{"$f":"IF(SUM(DR$3091:DR4507)>0,0,IF(MAX(DJ4508:DJ$4531)=MAX(DJ$3091:DJ$4531),0,IF(DH4508>0.01*DB$4532,0,$C4508/60)))","v":0},0,0,0,0,0,0,0,0,0,{"$error":"#N/A"},{"$error":"#N/A"},{"$error":"#N/A"},{"$error":"#N/A"},{"$error":"#N/A"},{"$error":"#N/A"},{"$f":"IF(SUM(EH$3091:EH4507)>0,0,IF(MAX(EA4508:EA$4531)=MAX(EA$3091:EA$4531),0,IF(DY4508>0.03*DS$4532,0,$C4508/60)))","v":0},{"$f":"IF(SUM(EI$3091:EI4507)>0,0,IF(MAX(EA4508:EA$4531)=MAX(EA$3091:EA$4531),0,IF(DY4508>0.01*DS$4532,0,$C4508/60)))","v":0},0,0,0,0,0,0,0,0,0,{"$error":"#N/A"},{"$error":"#N/A"},{"$error":"#N/A"},{"$error":"#N/A"},{"$error":"#N/A"},{"$error":"#N/A"},{"$f":"IF(SUM(EY$3091:EY4507)>0,0,IF(MAX(ER4508:ER$4531)=MAX(ER$3091:ER$4531),0,IF(EP4508>0.03*EJ$4532,0,$C4508/60)))","v":0},{"$f":"IF(SUM(EZ$3091:EZ4507)>0,0,IF(MAX(ER4508:ER$4531)=MAX(ER$3091:ER$4531),0,IF(EP4508>0.01*EJ$4532,0,$C4508/60)))","v":0}]
[null,118.16666666666667,7090,0,0,0,0,0,0,0,0,0,{"$error":"#N/A"},{"$error":"#N/A"},{"$error":"#N/A"},{"$error":"#N/A"},{"$error":"#N/A"},{"$error":"#N/A"},{"$f":"IF(SUM(S$3091:S4508)>0,0,\nIF(MAX(L4509:L$4531)=MAX(L$3091:L$4531),0,\nIF(Hydrograph_Source_WQCV=\"USER\",IF(J4509>0.03*D$4532,0,$C4509/60),\nIF(J4509>0.03*J$4532,0,$C4509/60))))","v":0},{"$f":"IF(SUM(T$3091:T4508)>0,0,\nIF(MAX(L4509:L$4531)=MAX(L$3091:L$4531),0,\nIF(Hydrograph_Source_WQCV=\"USER\",IF(J4509>0.01*D$4532,0,$C4509/60),\nIF(J4509>0.01*J$4532,0,$C4509/60))))","v":0},0,0,0,0,0,0,0,0,0,{"$error":"#N/A"},{"$error":"#N/A"},{"$error":"#N/A"},{"$error":"#N/A"},{"$error":"#N/A"},{"$error":"#N/A"},{"$f":"IF(SUM(AJ$3091:AJ4508)>0,0,\nIF(MAX(AC4509:AC$4531)=MAX(AC$3091:AC$4531),0,\nIF(Hydrograph_Source_EURV=\"USER\",IF(AA4509>0.03*U$4532,0,$C4509/60),\nIF(AA4509>0.03*AA$4532,0,$C4509/60))))","v":0},{"$f":"IF(SUM(AK$3091:AK4508)>0,0,\nIF(MAX(AC4509:AC$4531)=MAX(AC$3091:AC$4531),0,\nIF(Hydrograph_Source_EURV=\"USER\",IF(AA4509>0.01*U$4532,0,$C4509/60),\nIF(AA4509>0.01*AA$4532,0,$C4509/60))))","v":0},0,0,0,0,0,0,0,0,0,{"$error":"#N/A"},{"$error":"#N/A"},{"$error":"#N/A"},{"$error":"#N/A"},{"$error":"#N/A"},{"$error":"#N/A"},{"$f":"IF(SUM(BA$3091:BA4508)>0,0,IF(MAX(AT4509:AT$4531)=MAX(AT$3091:AT$4531),0,IF(AR4509>0.03*AL$4532,0,$C4509/60)))","v":0},{"$f":"IF(SUM(BB$3091:BB4508)>0,0,IF(MAX(AT4509:AT$4531)=MAX(AT$3091:AT$4531),0,IF(AR4509>0.01*AL$4532,0,$C4509/60)))","v":0},0,0,0,0,0,0,0,0,0,{"$error":"#N/A"},{"$error":"#N/A"},{"$error":"#N/A"},{"$error":"#N/A"},{"$error":"#N/A"},{"$error":"#N/A"},{"$f":"IF(SUM(BR$3091:BR4508)>0,0,IF(MAX(BK4509:BK$4531)=MAX(BK$3091:BK$4531),0,IF(BI4509>0.03*BC$4532,0,$C4509/60)))","v":0},{"$f":"IF(SUM(BS$3091:BS4508)>0,0,IF(MAX(BK4509:BK$4531)=MAX(BK$3091:BK$4531),0,IF(BI4509>0.01*BC$4532,0,$C4509/60)))","v":0},0,0,0,0,0,0,0,0,0,{"$error":"#N/A"},{"$error":"#N/A"},{"$error":"#N/A"},{"$error":"#N/A"},{"$error":"#N/A"},{"$error":"#N/A"},{"$f":"IF(SUM(CI$3091:CI4508)>0,0,IF(MAX(CB4509:CB$4531)=MAX(CB$3091:CB$4531),0,IF(BZ4509>0.03*BT$4532,0,$C4509/60)))","v":0},{"$f":"IF(SUM(CJ$3091:CJ4508)>0,0,IF(MAX(CB4509:CB$4531)=MAX(CB$3091:CB$4531),0,IF(BZ4509>0.01*BT$4532,0,$C4509/60)))","v":0},0,0,0,0,0,0,0,0,0,{"$error":"#N/A"},{"$error":"#N/A"},{"$error":"#N/A"},{"$error":"#N/A"},{"$error":"#N/A"},{"$error":"#N/A"},{"$f":"IF(SUM(CZ$3091:CZ4508)>0,0,IF(MAX(CS4509:CS$4531)=MAX(CS$3091:CS$4531),0,IF(CQ4509>0.03*CK$4532,0,$C4509/60)))","v":0},{"$f":"IF(SUM(DA$3091:DA4508)>0,0,IF(MAX(CS4509:CS$4531)=MAX(CS$3091:CS$4531),0,IF(CQ4509>0.01*CK$4532,0,$C4509/60)))","v":0},0,0,0,0,0,0,0,0,0,{"$error":"#N/A"},{"$error":"#N/A"},{"$error":"#N/A"},{"$error":"#N/A"},{"$error":"#N/A"},{"$error":"#N/A"},{"$f":"IF(SUM(DQ$3091:DQ4508)>0,0,IF(MAX(DJ4509:DJ$4531)=MAX(DJ$3091:DJ$4531),0,IF(DH4509>0.03*DB$4532,0,$C4509/60)))","v":0},{"$f":"IF(SUM(DR$3091:DR4508)>0,0,IF(MAX(DJ4509:DJ$4531)=MAX(DJ$3091:DJ$4531),0,IF(DH4509>0.01*DB$4532,0,$C4509/60)))","v":0},0,0,0,0,0,0,0,0,0,{"$error":"#N/A"},{"$error":"#N/A"},{"$error":"#N/A"},{"$error":"#N/A"},{"$error":"#N/A"},{"$error":"#N/A"},{"$f":"IF(SUM(EH$3091:EH4508)>0,0,IF(MAX(EA4509:EA$4531)=MAX(EA$3091:EA$4531),0,IF(DY4509>0.03*DS$4532,0,$C4509/60)))","v":0},{"$f":"IF(SUM(EI$3091:EI4508)>0,0,IF(MAX(EA4509:EA$4531)=MAX(EA$3091:EA$4531),0,IF(DY4509>0.01*DS$4532,0,$C4509/60)))","v":0},0,0,0,0,0,0,0,0,0,{"$error":"#N/A"},{"$error":"#N/A"},{"$error":"#N/A"},{"$error":"#N/A"},{"$error":"#N/A"},{"$error":"#N/A"},{"$f":"IF(SUM(EY$3091:EY4508)>0,0,IF(MAX(ER4509:ER$4531)=MAX(ER$3091:ER$4531),0,IF(EP4509>0.03*EJ$4532,0,$C4509/60)))","v":0},{"$f":"IF(SUM(EZ$3091:EZ4508)>0,0,IF(MAX(ER4509:ER$4531)=MAX(ER$3091:ER$4531),0,IF(EP4509>0.01*EJ$4532,0,$C4509/60)))","v":0}]
[null,118.25,7095,0,0,0,0,0,0,0,0,0,{"$error":"#N/A"},{"$error":"#N/A"},{"$error":"#N/A"},{"$error":"#N/A"},{"$error":"#N/A"},{"$error":"#N/A"},{"$f":"IF(SUM(S$3091:S4509)>0,0,\nIF(MAX(L4510:L$4531)=MAX(L$3091:L$4531),0,\nIF(Hydrograph_Source_WQCV=\"USER\",IF(J4510>0.03*D$4532,0,$C4510/60),\nIF(J4510>0.03*J$4532,0,$C4510/60))))","v":0},{"$f":"IF(SUM(T$3091:T4509)>0,0,\nIF(MAX(L4510:L$4531)=MAX(L$3091:L$4531),0,\nIF(Hydrograph_Source_WQCV=\"USER\",IF(J4510>0.01*D$4532,0,$C4510/60),\nIF(J4510>0.01*J$4532,0,$C4510/60))))","v":0},0,0,0,0,0,0,0,0,0,{"$error":"#N/A"},{"$error":"#N/A"},{"$error":"#N/A"},{"$error":"#N/A"},{"$error":"#N/A"},{"$error":"#N/A"},{"$f":"IF(SUM(AJ$3091:AJ4509)>0,0,\nIF(MAX(AC4510:AC$4531)=MAX(AC$3091:AC$4531),0,\nIF(Hydrograph_Source_EURV=\"USER\",IF(AA4510>0.03*U$4532,0,$C4510/60),\nIF(AA4510>0.03*AA$4532,0,$C4510/60))))","v":0},{"$f":"IF(SUM(AK$3091:AK4509)>0,0,\nIF(MAX(AC4510:AC$4531)=MAX(AC$3091:AC$4531),0,\nIF(Hydrograph_Source_EURV=\"USER\",IF(AA4510>0.01*U$4532,0,$C4510/60),\nIF(AA4510>0.01*AA$4532,0,$C4510/60))))","v":0},0,0,0,0,0,0,0,0,0,{"$error":"#N/A"},{"$error":"#N/A"},{"$error":"#N/A"},{"$error":"#N/A"},{"$error":"#N/A"},{"$error":"#N/A"},{"$f":"IF(SUM(BA$3091:BA4509)>0,0,IF(MAX(AT4510:AT$4531)=MAX(AT$3091:AT$4531),0,IF(AR4510>0.03*AL$4532,0,$C4510/60)))","v":0},{"$f":"IF(SUM(BB$3091:BB4509)>0,0,IF(MAX(AT4510:AT$4531)=MAX(AT$3091:AT$4531),0,IF(AR4510>0.01*AL$4532,0,$C4510/60)))","v":0},0,0,0,0,0,0,0,0,0,{"$error":"#N/A"},{"$error":"#N/A"},{"$error":"#N/A"},{"$error":"#N/A"},{"$error":"#N/A"},{"$error":"#N/A"},{"$f":"IF(SUM(BR$3091:BR4509)>0,0,IF(MAX(BK4510:BK$4531)=MAX(BK$3091:BK$4531),0,IF(BI4510>0.03*BC$4532,0,$C4510/60)))","v":0},{"$f":"IF(SUM(BS$3091:BS4509)>0,0,IF(MAX(BK4510:BK$4531)=MAX(BK$3091:BK$4531),0,IF(BI4510>0.01*BC$4532,0,$C4510/60)))","v":0},0,0,0,0,0,0,0,0,0,{"$error":"#N/A"},{"$error":"#N/A"},{"$error":"#N/A"},{"$error":"#N/A"},{"$error":"#N/A"},{"$error":"#N/A"},{"$f":"IF(SUM(CI$3091:CI4509)>0,0,IF(MAX(CB4510:CB$4531)=MAX(CB$3091:CB$4531),0,IF(BZ4510>0.03*BT$4532,0,$C4510/60)))","v":0},{"$f":"IF(SUM(CJ$3091:CJ4509)>0,0,IF(MAX(CB4510:CB$4531)=MAX(CB$3091:CB$4531),0,IF(BZ4510>0.01*BT$4532,0,$C4510/60)))","v":0},0,0,0,0,0,0,0,0,0,{"$error":"#N/A"},{"$error":"#N/A"},{"$error":"#N/A"},{"$error":"#N/A"},{"$error":"#N/A"},{"$error":"#N/A"},{"$f":"IF(SUM(CZ$3091:CZ4509)>0,0,IF(MAX(CS4510:CS$4531)=MAX(CS$3091:CS$4531),0,IF(CQ4510>0.03*CK$4532,0,$C4510/60)))","v":0},{"$f":"IF(SUM(DA$3091:DA4509)>0,0,IF(MAX(CS4510:CS$4531)=MAX(CS$3091:CS$4531),0,IF(CQ4510>0.01*CK$4532,0,$C4510/60)))","v":0},0,0,0,0,0,0,0,0,0,{"$error":"#N/A"},{"$error":"#N/A"},{"$error":"#N/A"},{"$error":"#N/A"},{"$error":"#N/A"},{"$error":"#N/A"},{"$f":"IF(SUM(DQ$3091:DQ4509)>0,0,IF(MAX(DJ4510:DJ$4531)=MAX(DJ$3091:DJ$4531),0,IF(DH4510>0.03*DB$4532,0,$C4510/60)))","v":0},{"$f":"IF(SUM(DR$3091:DR4509)>0,0,IF(MAX(DJ4510:DJ$4531)=MAX(DJ$3091:DJ$4531),0,IF(DH4510>0.01*DB$4532,0,$C4510/60)))","v":0},0,0,0,0,0,0,0,0,0,{"$error":"#N/A"},{"$error":"#N/A"},{"$error":"#N/A"},{"$error":"#N/A"},{"$error":"#N/A"},{"$error":"#N/A"},{"$f":"IF(SUM(EH$3091:EH4509)>0,0,IF(MAX(EA4510:EA$4531)=MAX(EA$3091:EA$4531),0,IF(DY4510>0.03*DS$4532,0,$C4510/60)))","v":0},{"$f":"IF(SUM(EI$3091:EI4509)>0,0,IF(MAX(EA4510:EA$4531)=MAX(EA$3091:EA$4531),0,IF(DY4510>0.01*DS$4532,0,$C4510/60)))","v":0},0,0,0,0,0,0,0,0,0,{"$error":"#N/A"},{"$error":"#N/A"},{"$error":"#N/A"},{"$error":"#N/A"},{"$error":"#N/A"},{"$error":"#N/A"},{"$f":"IF(SUM(EY$3091:EY4509)>0,0,IF(MAX(ER4510:ER$4531)=MAX(ER$3091:ER$4531),0,IF(EP4510>0.03*EJ$4532,0,$C4510/60)))","v":0},{"$f":"IF(SUM(EZ$3091:EZ4509)>0,0,IF(MAX(ER4510:ER$4531)=MAX(ER$3091:ER$4531),0,IF(EP4510>0.01*EJ$4532,0,$C4510/60)))","v":0}]
[null,118.33333333333333,7100,0,0,0,0,0,0,0,0,0,{"$error":"#N/A"},{"$error":"#N/A"},{"$error":"#N/A"},{"$error":"#N/A"},{"$error":"#N/A"},{"$error":"#N/A"},{"$f":"IF(SUM(S$3091:S4510)>0,0,\nIF(MAX(L4511:L$4531)=MAX(L$3091:L$4531),0,\nIF(Hydrograph_Source_WQCV=\"USER\",IF(J4511>0.03*D$4532,0,$C4511/60),\nIF(J4511>0.03*J$4532,0,$C4511/60))))","v":0},{"$f":"IF(SUM(T$3091:T4510)>0,0,\nIF(MAX(L4511:L$4531)=MAX(L$3091:L$4531),0,\nIF(Hydrograph_Source_WQCV=\"USER\",IF(J4511>0.01*D$4532,0,$C4511/60),\nIF(J4511>0.01*J$4532,0,$C4511/60))))","v":0},0,0,0,0,0,0,0,0,0,{"$error":"#N/A"},{"$error":"#N/A"},{"$error":"#N/A"},{"$error":"#N/A"},{"$error":"#N/A"},{"$error":"#N/A"},{"$f":"IF(SUM(AJ$3091:AJ4510)>0,0,\nIF(MAX(AC4511:AC$4531)=MAX(AC$3091:AC$4531),0,\nIF(Hydrograph_Source_EURV=\"USER\",IF(AA4511>0.03*U$4532,0,$C4511/60),\nIF(AA4511>0.03*AA$4532,0,$C4511/60))))","v":0},{"$f":"IF(SUM(AK$3091:AK4510)>0,0,\nIF(MAX(AC4511:AC$4531)=MAX(AC$3091:AC$4531),0,\nIF(Hydrograph_Source_EURV=\"USER\",IF(AA4511>0.01*U$4532,0,$C4511/60),\nIF(AA4511>0.01*AA$4532,0,$C4511/60))))","v":0},0,0,0,0,0,0,0,0,0,{"$error":"#N/A"},{"$error":"#N/A"},{"$error":"#N/A"},{"$error":"#N/A"},{"$error":"#N/A"},{"$error":"#N/A"},{"$f":"IF(SUM(BA$3091:BA4510)>0,0,IF(MAX(AT4511:AT$4531)=MAX(AT$3091:AT$4531),0,IF(AR4511>0.03*AL$4532,0,$C4511/60)))","v":0},{"$f":"IF(SUM(BB$3091:BB4510)>0,0,IF(MAX(AT4511:AT$4531)=MAX(AT$3091:AT$4531),0,IF(AR4511>0.01*AL$4532,0,$C4511/60)))","v":0},0,0,0,0,0,0,0,0,0,{"$error":"#N/A"},{"$error":"#N/A"},{"$error":"#N/A"},{"$error":"#N/A"},{"$error":"#N/A"},{"$error":"#N/A"},{"$f":"IF(SUM(BR$3091:BR4510)>0,0,IF(MAX(BK4511:BK$4531)=MAX(BK$3091:BK$4531),0,IF(BI4511>0.03*BC$4532,0,$C4511/60)))","v":0},{"$f":"IF(SUM(BS$3091:BS4510)>0,0,IF(MAX(BK4511:BK$4531)=MAX(BK$3091:BK$4531),0,IF(BI4511>0.01*BC$4532,0,$C4511/60)))","v":0},0,0,0,0,0,0,0,0,0,{"$error":"#N/A"},{"$error":"#N/A"},{"$error":"#N/A"},{"$error":"#N/A"},{"$error":"#N/A"},{"$error":"#N/A"},{"$f":"IF(SUM(CI$3091:CI4510)>0,0,IF(MAX(CB4511:CB$4531)=MAX(CB$3091:CB$4531),0,IF(BZ4511>0.03*BT$4532,0,$C4511/60)))","v":0},{"$f":"IF(SUM(CJ$3091:CJ4510)>0,0,IF(MAX(CB4511:CB$4531)=MAX(CB$3091:CB$4531),0,IF(BZ4511>0.01*BT$4532,0,$C4511/60)))","v":0},0,0,0,0,0,0,0,0,0,{"$error":"#N/A"},{"$error":"#N/A"},{"$error":"#N/A"},{"$error":"#N/A"},{"$error":"#N/A"},{"$error":"#N/A"},{"$f":"IF(SUM(CZ$3091:CZ4510)>0,0,IF(MAX(CS4511:CS$4531)=MAX(CS$3091:CS$4531),0,IF(CQ4511>0.03*CK$4532,0,$C4511/60)))","v":0},{"$f":"IF(SUM(DA$3091:DA4510)>0,0,IF(MAX(CS4511:CS$4531)=MAX(CS$3091:CS$4531),0,IF(CQ4511>0.01*CK$4532,0,$C4511/60)))","v":0},0,0,0,0,0,0,0,0,0,{"$error":"#N/A"},{"$error":"#N/A"},{"$error":"#N/A"},{"$error":"#N/A"},{"$error":"#N/A"},{"$error":"#N/A"},{"$f":"IF(SUM(DQ$3091:DQ4510)>0,0,IF(MAX(DJ4511:DJ$4531)=MAX(DJ$3091:DJ$4531),0,IF(DH4511>0.03*DB$4532,0,$C4511/60)))","v":0},{"$f":"IF(SUM(DR$3091:DR4510)>0,0,IF(MAX(DJ4511:DJ$4531)=MAX(DJ$3091:DJ$4531),0,IF(DH4511>0.01*DB$4532,0,$C4511/60)))","v":0},0,0,0,0,0,0,0,0,0,{"$error":"#N/A"},{"$error":"#N/A"},{"$error":"#N/A"},{"$error":"#N/A"},{"$error":"#N/A"},{"$error":"#N/A"},{"$f":"IF(SUM(EH$3091:EH4510)>0,0,IF(MAX(EA4511:EA$4531)=MAX(EA$3091:EA$4531),0,IF(DY4511>0.03*DS$4532,0,$C4511/60)))","v":0},{"$f":"IF(SUM(EI$3091:EI4510)>0,0,IF(MAX(EA4511:EA$4531)=MAX(EA$3091:EA$4531),0,IF(DY4511>0.01*DS$4532,0,$C4511/60)))","v":0},0,0,0,0,0,0,0,0,0,{"$error":"#N/A"},{"$error":"#N/A"},{"$error":"#N/A"},{"$error":"#N/A"},{"$error":"#N/A"},{"$error":"#N/A"},{"$f":"IF(SUM(EY$3091:EY4510)>0,0,IF(MAX(ER4511:ER$4531)=MAX(ER$3091:ER$4531),0,IF(EP4511>0.03*EJ$4532,0,$C4511/60)))","v":0},{"$f":"IF(SUM(EZ$3091:EZ4510)>0,0,IF(MAX(ER4511:ER$4531)=MAX(ER$3091:ER$4531),0,IF(EP4511>0.01*EJ$4532,0,$C4511/60)))","v":0}]
[null,118.41666666666667,7105,0,0,0,0,0,0,0,0,0,{"$error":"#N/A"},{"$error":"#N/A"},{"$error":"#N/A"},{"$error":"#N/A"},{"$error":"#N/A"},{"$error":"#N/A"},{"$f":"IF(SUM(S$3091:S4511)>0,0,\nIF(MAX(L4512:L$4531)=MAX(L$3091:L$4531),0,\nIF(Hydrograph_Source_WQCV=\"USER\",IF(J4512>0.03*D$4532,0,$C4512/60),\nIF(J4512>0.03*J$4532,0,$C4512/60))))","v":0},{"$f":"IF(SUM(T$3091:T4511)>0,0,\nIF(MAX(L4512:L$4531)=MAX(L$3091:L$4531),0,\nIF(Hydrograph_Source_WQCV=\"USER\",IF(J4512>0.01*D$4532,0,$C4512/60),\nIF(J4512>0.01*J$4532,0,$C4512/60))))","v":0},0,0,0,0,0,0,0,0,0,{"$error":"#N/A"},{"$error":"#N/A"},{"$error":"#N/A"},{"$error":"#N/A"},{"$error":"#N/A"},{"$error":"#N/A"},{"$f":"IF(SUM(AJ$3091:AJ4511)>0,0,\nIF(MAX(AC4512:AC$4531)=MAX(AC$3091:AC$4531),0,\nIF(Hydrograph_Source_EURV=\"USER\",IF(AA4512>0.03*U$4532,0,$C4512/60),\nIF(AA4512>0.03*AA$4532,0,$C4512/60))))","v":0},{"$f":"IF(SUM(AK$3091:AK4511)>0,0,\nIF(MAX(AC4512:AC$4531)=MAX(AC$3091:AC$4531),0,\nIF(Hydrograph_Source_EURV=\"USER\",IF(AA4512>0.01*U$4532,0,$C4512/60),\nIF(AA4512>0.01*AA$4532,0,$C4512/60))))","v":0},0,0,0,0,0,0,0,0,0,{"$error":"#N/A"},{"$error":"#N/A"},{"$error":"#N/A"},{"$error":"#N/A"},{"$error":"#N/A"},{"$error":"#N/A"},{"$f":"IF(SUM(BA$3091:BA4511)>0,0,IF(MAX(AT4512:AT$4531)=MAX(AT$3091:AT$4531),0,IF(AR4512>0.03*AL$4532,0,$C4512/60)))","v":0},{"$f":"IF(SUM(BB$3091:BB4511)>0,0,IF(MAX(AT4512:AT$4531)=MAX(AT$3091:AT$4531),0,IF(AR4512>0.01*AL$4532,0,$C4512/60)))","v":0},0,0,0,0,0,0,0,0,0,{"$error":"#N/A"},{"$error":"#N/A"},{"$error":"#N/A"},{"$error":"#N/A"},{"$error":"#N/A"},{"$error":"#N/A"},{"$f":"IF(SUM(BR$3091:BR4511)>0,0,IF(MAX(BK4512:BK$4531)=MAX(BK$3091:BK$4531),0,IF(BI4512>0.03*BC$4532,0,$C4512/60)))","v":0},{"$f":"IF(SUM(BS$3091:BS4511)>0,0,IF(MAX(BK4512:BK$4531)=MAX(BK$3091:BK$4531),0,IF(BI4512>0.01*BC$4532,0,$C4512/60)))","v":0},0,0,0,0,0,0,0,0,0,{"$error":"#N/A"},{"$error":"#N/A"},{"$error":"#N/A"},{"$error":"#N/A"},{"$error":"#N/A"},{"$error":"#N/A"},{"$f":"IF(SUM(CI$3091:CI4511)>0,0,IF(MAX(CB4512:CB$4531)=MAX(CB$3091:CB$4531),0,IF(BZ4512>0.03*BT$4532,0,$C4512/60)))","v":0},{"$f":"IF(SUM(CJ$3091:CJ4511)>0,0,IF(MAX(CB4512:CB$4531)=MAX(CB$3091:CB$4531),0,IF(BZ4512>0.01*BT$4532,0,$C4512/60)))","v":0},0,0,0,0,0,0,0,0,0,{"$error":"#N/A"},{"$error":"#N/A"},{"$error":"#N/A"},{"$error":"#N/A"},{"$error":"#N/A"},{"$error":"#N/A"},{"$f":"IF(SUM(CZ$3091:CZ4511)>0,0,IF(MAX(CS4512:CS$4531)=MAX(CS$3091:CS$4531),0,IF(CQ4512>0.03*CK$4532,0,$C4512/60)))","v":0},{"$f":"IF(SUM(DA$3091:DA4511)>0,0,IF(MAX(CS4512:CS$4531)=MAX(CS$3091:CS$4531),0,IF(CQ4512>0.01*CK$4532,0,$C4512/60)))","v":0},0,0,0,0,0,0,0,0,0,{"$error":"#N/A"},{"$error":"#N/A"},{"$error":"#N/A"},{"$error":"#N/A"},{"$error":"#N/A"},{"$error":"#N/A"},{"$f":"IF(SUM(DQ$3091:DQ4511)>0,0,IF(MAX(DJ4512:DJ$4531)=MAX(DJ$3091:DJ$4531),0,IF(DH4512>0.03*DB$4532,0,$C4512/60)))","v":0},{"$f":"IF(SUM(DR$3091:DR4511)>0,0,IF(MAX(DJ4512:DJ$4531)=MAX(DJ$3091:DJ$4531),0,IF(DH4512>0.01*DB$4532,0,$C4512/60)))","v":0},0,0,0,0,0,0,0,0,0,{"$error":"#N/A"},{"$error":"#N/A"},{"$error":"#N/A"},{"$error":"#N/A"},{"$error":"#N/A"},{"$error":"#N/A"},{"$f":"IF(SUM(EH$3091:EH4511)>0,0,IF(MAX(EA4512:EA$4531)=MAX(EA$3091:EA$4531),0,IF(DY4512>0.03*DS$4532,0,$C4512/60)))","v":0},{"$f":"IF(SUM(EI$3091:EI4511)>0,0,IF(MAX(EA4512:EA$4531)=MAX(EA$3091:EA$4531),0,IF(DY4512>0.01*DS$4532,0,$C4512/60)))","v":0},0,0,0,0,0,0,0,0,0,{"$error":"#N/A"},{"$error":"#N/A"},{"$error":"#N/A"},{"$error":"#N/A"},{"$error":"#N/A"},{"$error":"#N/A"},{"$f":"IF(SUM(EY$3091:EY4511)>0,0,IF(MAX(ER4512:ER$4531)=MAX(ER$3091:ER$4531),0,IF(EP4512>0.03*EJ$4532,0,$C4512/60)))","v":0},{"$f":"IF(SUM(EZ$3091:EZ4511)>0,0,IF(MAX(ER4512:ER$4531)=MAX(ER$3091:ER$4531),0,IF(EP4512>0.01*EJ$4532,0,$C4512/60)))","v":0}]
[null,118.5,7110,0,0,0,0,0,0,0,0,0,{"$error":"#N/A"},{"$error":"#N/A"},{"$error":"#N/A"},{"$error":"#N/A"},{"$error":"#N/A"},{"$error":"#N/A"},{"$f":"IF(SUM(S$3091:S4512)>0,0,\nIF(MAX(L4513:L$4531)=MAX(L$3091:L$4531),0,\nIF(Hydrograph_Source_WQCV=\"USER\",IF(J4513>0.03*D$4532,0,$C4513/60),\nIF(J4513>0.03*J$4532,0,$C4513/60))))","v":0},{"$f":"IF(SUM(T$3091:T4512)>0,0,\nIF(MAX(L4513:L$4531)=MAX(L$3091:L$4531),0,\nIF(Hydrograph_Source_WQCV=\"USER\",IF(J4513>0.01*D$4532,0,$C4513/60),\nIF(J4513>0.01*J$4532,0,$C4513/60))))","v":0},0,0,0,0,0,0,0,0,0,{"$error":"#N/A"},{"$error":"#N/A"},{"$error":"#N/A"},{"$error":"#N/A"},{"$error":"#N/A"},{"$error":"#N/A"},{"$f":"IF(SUM(AJ$3091:AJ4512)>0,0,\nIF(MAX(AC4513:AC$4531)=MAX(AC$3091:AC$4531),0,\nIF(Hydrograph_Source_EURV=\"USER\",IF(AA4513>0.03*U$4532,0,$C4513/60),\nIF(AA4513>0.03*AA$4532,0,$C4513/60))))","v":0},{"$f":"IF(SUM(AK$3091:AK4512)>0,0,\nIF(MAX(AC4513:AC$4531)=MAX(AC$3091:AC$4531),0,\nIF(Hydrograph_Source_EURV=\"USER\",IF(AA4513>0.01*U$4532,0,$C4513/60),\nIF(AA4513>0.01*AA$4532,0,$C4513/60))))","v":0},0,0,0,0,0,0,0,0,0,{"$error":"#N/A"},{"$error":"#N/A"},{"$error":"#N/A"},{"$error":"#N/A"},{"$error":"#N/A"},{"$error":"#N/A"},{"$f":"IF(SUM(BA$3091:BA4512)>0,0,IF(MAX(AT4513:AT$4531)=MAX(AT$3091:AT$4531),0,IF(AR4513>0.03*AL$4532,0,$C4513/60)))","v":0},{"$f":"IF(SUM(BB$3091:BB4512)>0,0,IF(MAX(AT4513:AT$4531)=MAX(AT$3091:AT$4531),0,IF(AR4513>0.01*AL$4532,0,$C4513/60)))","v":0},0,0,0,0,0,0,0,0,0,{"$error":"#N/A"},{"$error":"#N/A"},{"$error":"#N/A"},{"$error":"#N/A"},{"$error":"#N/A"},{"$error":"#N/A"},{"$f":"IF(SUM(BR$3091:BR4512)>0,0,IF(MAX(BK4513:BK$4531)=MAX(BK$3091:BK$4531),0,IF(BI4513>0.03*BC$4532,0,$C4513/60)))","v":0},{"$f":"IF(SUM(BS$3091:BS4512)>0,0,IF(MAX(BK4513:BK$4531)=MAX(BK$3091:BK$4531),0,IF(BI4513>0.01*BC$4532,0,$C4513/60)))","v":0},0,0,0,0,0,0,0,0,0,{"$error":"#N/A"},{"$error":"#N/A"},{"$error":"#N/A"},{"$error":"#N/A"},{"$error":"#N/A"},{"$error":"#N/A"},{"$f":"IF(SUM(CI$3091:CI4512)>0,0,IF(MAX(CB4513:CB$4531)=MAX(CB$3091:CB$4531),0,IF(BZ4513>0.03*BT$4532,0,$C4513/60)))","v":0},{"$f":"IF(SUM(CJ$3091:CJ4512)>0,0,IF(MAX(CB4513:CB$4531)=MAX(CB$3091:CB$4531),0,IF(BZ4513>0.01*BT$4532,0,$C4513/60)))","v":0},0,0,0,0,0,0,0,0,0,{"$error":"#N/A"},{"$error":"#N/A"},{"$error":"#N/A"},{"$error":"#N/A"},{"$error":"#N/A"},{"$error":"#N/A"},{"$f":"IF(SUM(CZ$3091:CZ4512)>0,0,IF(MAX(CS4513:CS$4531)=MAX(CS$3091:CS$4531),0,IF(CQ4513>0.03*CK$4532,0,$C4513/60)))","v":0},{"$f":"IF(SUM(DA$3091:DA4512)>0,0,IF(MAX(CS4513:CS$4531)=MAX(CS$3091:CS$4531),0,IF(CQ4513>0.01*CK$4532,0,$C4513/60)))","v":0},0,0,0,0,0,0,0,0,0,{"$error":"#N/A"},{"$error":"#N/A"},{"$error":"#N/A"},{"$error":"#N/A"},{"$error":"#N/A"},{"$error":"#N/A"},{"$f":"IF(SUM(DQ$3091:DQ4512)>0,0,IF(MAX(DJ4513:DJ$4531)=MAX(DJ$3091:DJ$4531),0,IF(DH4513>0.03*DB$4532,0,$C4513/60)))","v":0},{"$f":"IF(SUM(DR$3091:DR4512)>0,0,IF(MAX(DJ4513:DJ$4531)=MAX(DJ$3091:DJ$4531),0,IF(DH4513>0.01*DB$4532,0,$C4513/60)))","v":0},0,0,0,0,0,0,0,0,0,{"$error":"#N/A"},{"$error":"#N/A"},{"$error":"#N/A"},{"$error":"#N/A"},{"$error":"#N/A"},{"$error":"#N/A"},{"$f":"IF(SUM(EH$3091:EH4512)>0,0,IF(MAX(EA4513:EA$4531)=MAX(EA$3091:EA$4531),0,IF(DY4513>0.03*DS$4532,0,$C4513/60)))","v":0},{"$f":"IF(SUM(EI$3091:EI4512)>0,0,IF(MAX(EA4513:EA$4531)=MAX(EA$3091:EA$4531),0,IF(DY4513>0.01*DS$4532,0,$C4513/60)))","v":0},0,0,0,0,0,0,0,0,0,{"$error":"#N/A"},{"$error":"#N/A"},{"$error":"#N/A"},{"$error":"#N/A"},{"$error":"#N/A"},{"$error":"#N/A"},{"$f":"IF(SUM(EY$3091:EY4512)>0,0,IF(MAX(ER4513:ER$4531)=MAX(ER$3091:ER$4531),0,IF(EP4513>0.03*EJ$4532,0,$C4513/60)))","v":0},{"$f":"IF(SUM(EZ$3091:EZ4512)>0,0,IF(MAX(ER4513:ER$4531)=MAX(ER$3091:ER$4531),0,IF(EP4513>0.01*EJ$4532,0,$C4513/60)))","v":0}]
[null,118.58333333333333,7115,0,0,0,0,0,0,0,0,0,{"$error":"#N/A"},{"$error":"#N/A"},{"$error":"#N/A"},{"$error":"#N/A"},{"$error":"#N/A"},{"$error":"#N/A"},{"$f":"IF(SUM(S$3091:S4513)>0,0,\nIF(MAX(L4514:L$4531)=MAX(L$3091:L$4531),0,\nIF(Hydrograph_Source_WQCV=\"USER\",IF(J4514>0.03*D$4532,0,$C4514/60),\nIF(J4514>0.03*J$4532,0,$C4514/60))))","v":0},{"$f":"IF(SUM(T$3091:T4513)>0,0,\nIF(MAX(L4514:L$4531)=MAX(L$3091:L$4531),0,\nIF(Hydrograph_Source_WQCV=\"USER\",IF(J4514>0.01*D$4532,0,$C4514/60),\nIF(J4514>0.01*J$4532,0,$C4514/60))))","v":0},0,0,0,0,0,0,0,0,0,{"$error":"#N/A"},{"$error":"#N/A"},{"$error":"#N/A"},{"$error":"#N/A"},{"$error":"#N/A"},{"$error":"#N/A"},{"$f":"IF(SUM(AJ$3091:AJ4513)>0,0,\nIF(MAX(AC4514:AC$4531)=MAX(AC$3091:AC$4531),0,\nIF(Hydrograph_Source_EURV=\"USER\",IF(AA4514>0.03*U$4532,0,$C4514/60),\nIF(AA4514>0.03*AA$4532,0,$C4514/60))))","v":0},{"$f":"IF(SUM(AK$3091:AK4513)>0,0,\nIF(MAX(AC4514:AC$4531)=MAX(AC$3091:AC$4531),0,\nIF(Hydrograph_Source_EURV=\"USER\",IF(AA4514>0.01*U$4532,0,$C4514/60),\nIF(AA4514>0.01*AA$4532,0,$C4514/60))))","v":0},0,0,0,0,0,0,0,0,0,{"$error":"#N/A"},{"$error":"#N/A"},{"$error":"#N/A"},{"$error":"#N/A"},{"$error":"#N/A"},{"$error":"#N/A"},{"$f":"IF(SUM(BA$3091:BA4513)>0,0,IF(MAX(AT4514:AT$4531)=MAX(AT$3091:AT$4531),0,IF(AR4514>0.03*AL$4532,0,$C4514/60)))","v":0},{"$f":"IF(SUM(BB$3091:BB4513)>0,0,IF(MAX(AT4514:AT$4531)=MAX(AT$3091:AT$4531),0,IF(AR4514>0.01*AL$4532,0,$C4514/60)))","v":0},0,0,0,0,0,0,0,0,0,{"$error":"#N/A"},{"$error":"#N/A"},{"$error":"#N/A"},{"$error":"#N/A"},{"$error":"#N/A"},{"$error":"#N/A"},{"$f":"IF(SUM(BR$3091:BR4513)>0,0,IF(MAX(BK4514:BK$4531)=MAX(BK$3091:BK$4531),0,IF(BI4514>0.03*BC$4532,0,$C4514/60)))","v":0},{"$f":"IF(SUM(BS$3091:BS4513)>0,0,IF(MAX(BK4514:BK$4531)=MAX(BK$3091:BK$4531),0,IF(BI4514>0.01*BC$4532,0,$C4514/60)))","v":0},0,0,0,0,0,0,0,0,0,{"$error":"#N/A"},{"$error":"#N/A"},{"$error":"#N/A"},{"$error":"#N/A"},{"$error":"#N/A"},{"$error":"#N/A"},{"$f":"IF(SUM(CI$3091:CI4513)>0,0,IF(MAX(CB4514:CB$4531)=MAX(CB$3091:CB$4531),0,IF(BZ4514>0.03*BT$4532,0,$C4514/60)))","v":0},{"$f":"IF(SUM(CJ$3091:CJ4513)>0,0,IF(MAX(CB4514:CB$4531)=MAX(CB$3091:CB$4531),0,IF(BZ4514>0.01*BT$4532,0,$C4514/60)))","v":0},0,0,0,0,0,0,0,0,0,{"$error":"#N/A"},{"$error":"#N/A"},{"$error":"#N/A"},{"$error":"#N/A"},{"$error":"#N/A"},{"$error":"#N/A"},{"$f":"IF(SUM(CZ$3091:CZ4513)>0,0,IF(MAX(CS4514:CS$4531)=MAX(CS$3091:CS$4531),0,IF(CQ4514>0.03*CK$4532,0,$C4514/60)))","v":0},{"$f":"IF(SUM(DA$3091:DA4513)>0,0,IF(MAX(CS4514:CS$4531)=MAX(CS$3091:CS$4531),0,IF(CQ4514>0.01*CK$4532,0,$C4514/60)))","v":0},0,0,0,0,0,0,0,0,0,{"$error":"#N/A"},{"$error":"#N/A"},{"$error":"#N/A"},{"$error":"#N/A"},{"$error":"#N/A"},{"$error":"#N/A"},{"$f":"IF(SUM(DQ$3091:DQ4513)>0,0,IF(MAX(DJ4514:DJ$4531)=MAX(DJ$3091:DJ$4531),0,IF(DH4514>0.03*DB$4532,0,$C4514/60)))","v":0},{"$f":"IF(SUM(DR$3091:DR4513)>0,0,IF(MAX(DJ4514:DJ$4531)=MAX(DJ$3091:DJ$4531),0,IF(DH4514>0.01*DB$4532,0,$C4514/60)))","v":0},0,0,0,0,0,0,0,0,0,{"$error":"#N/A"},{"$error":"#N/A"},{"$error":"#N/A"},{"$error":"#N/A"},{"$error":"#N/A"},{"$error":"#N/A"},{"$f":"IF(SUM(EH$3091:EH4513)>0,0,IF(MAX(EA4514:EA$4531)=MAX(EA$3091:EA$4531),0,IF(DY4514>0.03*DS$4532,0,$C4514/60)))","v":0},{"$f":"IF(SUM(EI$3091:EI4513)>0,0,IF(MAX(EA4514:EA$4531)=MAX(EA$3091:EA$4531),0,IF(DY4514>0.01*DS$4532,0,$C4514/60)))","v":0},0,0,0,0,0,0,0,0,0,{"$error":"#N/A"},{"$error":"#N/A"},{"$error":"#N/A"},{"$error":"#N/A"},{"$error":"#N/A"},{"$error":"#N/A"},{"$f":"IF(SUM(EY$3091:EY4513)>0,0,IF(MAX(ER4514:ER$4531)=MAX(ER$3091:ER$4531),0,IF(EP4514>0.03*EJ$4532,0,$C4514/60)))","v":0},{"$f":"IF(SUM(EZ$3091:EZ4513)>0,0,IF(MAX(ER4514:ER$4531)=MAX(ER$3091:ER$4531),0,IF(EP4514>0.01*EJ$4532,0,$C4514/60)))","v":0}]
[null,118.66666666666667,7120,0,0,0,0,0,0,0,0,0,{"$error":"#N/A"},{"$error":"#N/A"},{"$error":"#N/A"},{"$error":"#N/A"},{"$error":"#N/A"},{"$error":"#N/A"},{"$f":"IF(SUM(S$3091:S4514)>0,0,\nIF(MAX(L4515:L$4531)=MAX(L$3091:L$4531),0,\nIF(Hydrograph_Source_WQCV=\"USER\",IF(J4515>0.03*D$4532,0,$C4515/60),\nIF(J4515>0.03*J$4532,0,$C4515/60))))","v":0},{"$f":"IF(SUM(T$3091:T4514)>0,0,\nIF(MAX(L4515:L$4531)=MAX(L$3091:L$4531),0,\nIF(Hydrograph_Source_WQCV=\"USER\",IF(J4515>0.01*D$4532,0,$C4515/60),\nIF(J4515>0.01*J$4532,0,$C4515/60))))","v":0},0,0,0,0,0,0,0,0,0,{"$error":"#N/A"},{"$error":"#N/A"},{"$error":"#N/A"},{"$error":"#N/A"},{"$error":"#N/A"},{"$error":"#N/A"},{"$f":"IF(SUM(AJ$3091:AJ4514)>0,0,\nIF(MAX(AC4515:AC$4531)=MAX(AC$3091:AC$4531),0,\nIF(Hydrograph_Source_EURV=\"USER\",IF(AA4515>0.03*U$4532,0,$C4515/60),\nIF(AA4515>0.03*AA$4532,0,$C4515/60))))","v":0},{"$f":"IF(SUM(AK$3091:AK4514)>0,0,\nIF(MAX(AC4515:AC$4531)=MAX(AC$3091:AC$4531),0,\nIF(Hydrograph_Source_EURV=\"USER\",IF(AA4515>0.01*U$4532,0,$C4515/60),\nIF(AA4515>0.01*AA$4532,0,$C4515/60))))","v":0},0,0,0,0,0,0,0,0,0,{"$error":"#N/A"},{"$error":"#N/A"},{"$error":"#N/A"},{"$error":"#N/A"},{"$error":"#N/A"},{"$error":"#N/A"},{"$f":"IF(SUM(BA$3091:BA4514)>0,0,IF(MAX(AT4515:AT$4531)=MAX(AT$3091:AT$4531),0,IF(AR4515>0.03*AL$4532,0,$C4515/60)))","v":0},{"$f":"IF(SUM(BB$3091:BB4514)>0,0,IF(MAX(AT4515:AT$4531)=MAX(AT$3091:AT$4531),0,IF(AR4515>0.01*AL$4532,0,$C4515/60)))","v":0},0,0,0,0,0,0,0,0,0,{"$error":"#N/A"},{"$error":"#N/A"},{"$error":"#N/A"},{"$error":"#N/A"},{"$error":"#N/A"},{"$error":"#N/A"},{"$f":"IF(SUM(BR$3091:BR4514)>0,0,IF(MAX(BK4515:BK$4531)=MAX(BK$3091:BK$4531),0,IF(BI4515>0.03*BC$4532,0,$C4515/60)))","v":0},{"$f":"IF(SUM(BS$3091:BS4514)>0,0,IF(MAX(BK4515:BK$4531)=MAX(BK$3091:BK$4531),0,IF(BI4515>0.01*BC$4532,0,$C4515/60)))","v":0},0,0,0,0,0,0,0,0,0,{"$error":"#N/A"},{"$error":"#N/A"},{"$error":"#N/A"},{"$error":"#N/A"},{"$error":"#N/A"},{"$error":"#N/A"},{"$f":"IF(SUM(CI$3091:CI4514)>0,0,IF(MAX(CB4515:CB$4531)=MAX(CB$3091:CB$4531),0,IF(BZ4515>0.03*BT$4532,0,$C4515/60)))","v":0},{"$f":"IF(SUM(CJ$3091:CJ4514)>0,0,IF(MAX(CB4515:CB$4531)=MAX(CB$3091:CB$4531),0,IF(BZ4515>0.01*BT$4532,0,$C4515/60)))","v":0},0,0,0,0,0,0,0,0,0,{"$error":"#N/A"},{"$error":"#N/A"},{"$error":"#N/A"},{"$error":"#N/A"},{"$error":"#N/A"},{"$error":"#N/A"},{"$f":"IF(SUM(CZ$3091:CZ4514)>0,0,IF(MAX(CS4515:CS$4531)=MAX(CS$3091:CS$4531),0,IF(CQ4515>0.03*CK$4532,0,$C4515/60)))","v":0},{"$f":"IF(SUM(DA$3091:DA4514)>0,0,IF(MAX(CS4515:CS$4531)=MAX(CS$3091:CS$4531),0,IF(CQ4515>0.01*CK$4532,0,$C4515/60)))","v":0},0,0,0,0,0,0,0,0,0,{"$error":"#N/A"},{"$error":"#N/A"},{"$error":"#N/A"},{"$error":"#N/A"},{"$error":"#N/A"},{"$error":"#N/A"},{"$f":"IF(SUM(DQ$3091:DQ4514)>0,0,IF(MAX(DJ4515:DJ$4531)=MAX(DJ$3091:DJ$4531),0,IF(DH4515>0.03*DB$4532,0,$C4515/60)))","v":0},{"$f":"IF(SUM(DR$3091:DR4514)>0,0,IF(MAX(DJ4515:DJ$4531)=MAX(DJ$3091:DJ$4531),0,IF(DH4515>0.01*DB$4532,0,$C4515/60)))","v":0},0,0,0,0,0,0,0,0,0,{"$error":"#N/A"},{"$error":"#N/A"},{"$error":"#N/A"},{"$error":"#N/A"},{"$error":"#N/A"},{"$error":"#N/A"},{"$f":"IF(SUM(EH$3091:EH4514)>0,0,IF(MAX(EA4515:EA$4531)=MAX(EA$3091:EA$4531),0,IF(DY4515>0.03*DS$4532,0,$C4515/60)))","v":0},{"$f":"IF(SUM(EI$3091:EI4514)>0,0,IF(MAX(EA4515:EA$4531)=MAX(EA$3091:EA$4531),0,IF(DY4515>0.01*DS$4532,0,$C4515/60)))","v":0},0,0,0,0,0,0,0,0,0,{"$error":"#N/A"},{"$error":"#N/A"},{"$error":"#N/A"},{"$error":"#N/A"},{"$error":"#N/A"},{"$error":"#N/A"},{"$f":"IF(SUM(EY$3091:EY4514)>0,0,IF(MAX(ER4515:ER$4531)=MAX(ER$3091:ER$4531),0,IF(EP4515>0.03*EJ$4532,0,$C4515/60)))","v":0},{"$f":"IF(SUM(EZ$3091:EZ4514)>0,0,IF(MAX(ER4515:ER$4531)=MAX(ER$3091:ER$4531),0,IF(EP4515>0.01*EJ$4532,0,$C4515/60)))","v":0}]
[null,118.75,7125,0,0,0,0,0,0,0,0,0,{"$error":"#N/A"},{"$error":"#N/A"},{"$error":"#N/A"},{"$error":"#N/A"},{"$error":"#N/A"},{"$error":"#N/A"},{"$f":"IF(SUM(S$3091:S4515)>0,0,\nIF(MAX(L4516:L$4531)=MAX(L$3091:L$4531),0,\nIF(Hydrograph_Source_WQCV=\"USER\",IF(J4516>0.03*D$4532,0,$C4516/60),\nIF(J4516>0.03*J$4532,0,$C4516/60))))","v":0},{"$f":"IF(SUM(T$3091:T4515)>0,0,\nIF(MAX(L4516:L$4531)=MAX(L$3091:L$4531),0,\nIF(Hydrograph_Source_WQCV=\"USER\",IF(J4516>0.01*D$4532,0,$C4516/60),\nIF(J4516>0.01*J$4532,0,$C4516/60))))","v":0},0,0,0,0,0,0,0,0,0,{"$error":"#N/A"},{"$error":"#N/A"},{"$error":"#N/A"},{"$error":"#N/A"},{"$error":"#N/A"},{"$error":"#N/A"},{"$f":"IF(SUM(AJ$3091:AJ4515)>0,0,\nIF(MAX(AC4516:AC$4531)=MAX(AC$3091:AC$4531),0,\nIF(Hydrograph_Source_EURV=\"USER\",IF(AA4516>0.03*U$4532,0,$C4516/60),\nIF(AA4516>0.03*AA$4532,0,$C4516/60))))","v":0},{"$f":"IF(SUM(AK$3091:AK4515)>0,0,\nIF(MAX(AC4516:AC$4531)=MAX(AC$3091:AC$4531),0,\nIF(Hydrograph_Source_EURV=\"USER\",IF(AA4516>0.01*U$4532,0,$C4516/60),\nIF(AA4516>0.01*AA$4532,0,$C4516/60))))","v":0},0,0,0,0,0,0,0,0,0,{"$error":"#N/A"},{"$error":"#N/A"},{"$error":"#N/A"},{"$error":"#N/A"},{"$error":"#N/A"},{"$error":"#N/A"},{"$f":"IF(SUM(BA$3091:BA4515)>0,0,IF(MAX(AT4516:AT$4531)=MAX(AT$3091:AT$4531),0,IF(AR4516>0.03*AL$4532,0,$C4516/60)))","v":0},{"$f":"IF(SUM(BB$3091:BB4515)>0,0,IF(MAX(AT4516:AT$4531)=MAX(AT$3091:AT$4531),0,IF(AR4516>0.01*AL$4532,0,$C4516/60)))","v":0},0,0,0,0,0,0,0,0,0,{"$error":"#N/A"},{"$error":"#N/A"},{"$error":"#N/A"},{"$error":"#N/A"},{"$error":"#N/A"},{"$error":"#N/A"},{"$f":"IF(SUM(BR$3091:BR4515)>0,0,IF(MAX(BK4516:BK$4531)=MAX(BK$3091:BK$4531),0,IF(BI4516>0.03*BC$4532,0,$C4516/60)))","v":0},{"$f":"IF(SUM(BS$3091:BS4515)>0,0,IF(MAX(BK4516:BK$4531)=MAX(BK$3091:BK$4531),0,IF(BI4516>0.01*BC$4532,0,$C4516/60)))","v":0},0,0,0,0,0,0,0,0,0,{"$error":"#N/A"},{"$error":"#N/A"},{"$error":"#N/A"},{"$error":"#N/A"},{"$error":"#N/A"},{"$error":"#N/A"},{"$f":"IF(SUM(CI$3091:CI4515)>0,0,IF(MAX(CB4516:CB$4531)=MAX(CB$3091:CB$4531),0,IF(BZ4516>0.03*BT$4532,0,$C4516/60)))","v":0},{"$f":"IF(SUM(CJ$3091:CJ4515)>0,0,IF(MAX(CB4516:CB$4531)=MAX(CB$3091:CB$4531),0,IF(BZ4516>0.01*BT$4532,0,$C4516/60)))","v":0},0,0,0,0,0,0,0,0,0,{"$error":"#N/A"},{"$error":"#N/A"},{"$error":"#N/A"},{"$error":"#N/A"},{"$error":"#N/A"},{"$error":"#N/A"},{"$f":"IF(SUM(CZ$3091:CZ4515)>0,0,IF(MAX(CS4516:CS$4531)=MAX(CS$3091:CS$4531),0,IF(CQ4516>0.03*CK$4532,0,$C4516/60)))","v":0},{"$f":"IF(SUM(DA$3091:DA4515)>0,0,IF(MAX(CS4516:CS$4531)=MAX(CS$3091:CS$4531),0,IF(CQ4516>0.01*CK$4532,0,$C4516/60)))","v":0},0,0,0,0,0,0,0,0,0,{"$error":"#N/A"},{"$error":"#N/A"},{"$error":"#N/A"},{"$error":"#N/A"},{"$error":"#N/A"},{"$error":"#N/A"},{"$f":"IF(SUM(DQ$3091:DQ4515)>0,0,IF(MAX(DJ4516:DJ$4531)=MAX(DJ$3091:DJ$4531),0,IF(DH4516>0.03*DB$4532,0,$C4516/60)))","v":0},{"$f":"IF(SUM(DR$3091:DR4515)>0,0,IF(MAX(DJ4516:DJ$4531)=MAX(DJ$3091:DJ$4531),0,IF(DH4516>0.01*DB$4532,0,$C4516/60)))","v":0},0,0,0,0,0,0,0,0,0,{"$error":"#N/A"},{"$error":"#N/A"},{"$error":"#N/A"},{"$error":"#N/A"},{"$error":"#N/A"},{"$error":"#N/A"},{"$f":"IF(SUM(EH$3091:EH4515)>0,0,IF(MAX(EA4516:EA$4531)=MAX(EA$3091:EA$4531),0,IF(DY4516>0.03*DS$4532,0,$C4516/60)))","v":0},{"$f":"IF(SUM(EI$3091:EI4515)>0,0,IF(MAX(EA4516:EA$4531)=MAX(EA$3091:EA$4531),0,IF(DY4516>0.01*DS$4532,0,$C4516/60)))","v":0},0,0,0,0,0,0,0,0,0,{"$error":"#N/A"},{"$error":"#N/A"},{"$error":"#N/A"},{"$error":"#N/A"},{"$error":"#N/A"},{"$error":"#N/A"},{"$f":"IF(SUM(EY$3091:EY4515)>0,0,IF(MAX(ER4516:ER$4531)=MAX(ER$3091:ER$4531),0,IF(EP4516>0.03*EJ$4532,0,$C4516/60)))","v":0},{"$f":"IF(SUM(EZ$3091:EZ4515)>0,0,IF(MAX(ER4516:ER$4531)=MAX(ER$3091:ER$4531),0,IF(EP4516>0.01*EJ$4532,0,$C4516/60)))","v":0}]
[null,118.83333333333333,7130,0,0,0,0,0,0,0,0,0,{"$error":"#N/A"},{"$error":"#N/A"},{"$error":"#N/A"},{"$error":"#N/A"},{"$error":"#N/A"},{"$error":"#N/A"},{"$f":"IF(SUM(S$3091:S4516)>0,0,\nIF(MAX(L4517:L$4531)=MAX(L$3091:L$4531),0,\nIF(Hydrograph_Source_WQCV=\"USER\",IF(J4517>0.03*D$4532,0,$C4517/60),\nIF(J4517>0.03*J$4532,0,$C4517/60))))","v":0},{"$f":"IF(SUM(T$3091:T4516)>0,0,\nIF(MAX(L4517:L$4531)=MAX(L$3091:L$4531),0,\nIF(Hydrograph_Source_WQCV=\"USER\",IF(J4517>0.01*D$4532,0,$C4517/60),\nIF(J4517>0.01*J$4532,0,$C4517/60))))","v":0},0,0,0,0,0,0,0,0,0,{"$error":"#N/A"},{"$error":"#N/A"},{"$error":"#N/A"},{"$error":"#N/A"},{"$error":"#N/A"},{"$error":"#N/A"},{"$f":"IF(SUM(AJ$3091:AJ4516)>0,0,\nIF(MAX(AC4517:AC$4531)=MAX(AC$3091:AC$4531),0,\nIF(Hydrograph_Source_EURV=\"USER\",IF(AA4517>0.03*U$4532,0,$C4517/60),\nIF(AA4517>0.03*AA$4532,0,$C4517/60))))","v":0},{"$f":"IF(SUM(AK$3091:AK4516)>0,0,\nIF(MAX(AC4517:AC$4531)=MAX(AC$3091:AC$4531),0,\nIF(Hydrograph_Source_EURV=\"USER\",IF(AA4517>0.01*U$4532,0,$C4517/60),\nIF(AA4517>0.01*AA$4532,0,$C4517/60))))","v":0},0,0,0,0,0,0,0,0,0,{"$error":"#N/A"},{"$error":"#N/A"},{"$error":"#N/A"},{"$error":"#N/A"},{"$error":"#N/A"},{"$error":"#N/A"},{"$f":"IF(SUM(BA$3091:BA4516)>0,0,IF(MAX(AT4517:AT$4531)=MAX(AT$3091:AT$4531),0,IF(AR4517>0.03*AL$4532,0,$C4517/60)))","v":0},{"$f":"IF(SUM(BB$3091:BB4516)>0,0,IF(MAX(AT4517:AT$4531)=MAX(AT$3091:AT$4531),0,IF(AR4517>0.01*AL$4532,0,$C4517/60)))","v":0},0,0,0,0,0,0,0,0,0,{"$error":"#N/A"},{"$error":"#N/A"},{"$error":"#N/A"},{"$error":"#N/A"},{"$error":"#N/A"},{"$error":"#N/A"},{"$f":"IF(SUM(BR$3091:BR4516)>0,0,IF(MAX(BK4517:BK$4531)=MAX(BK$3091:BK$4531),0,IF(BI4517>0.03*BC$4532,0,$C4517/60)))","v":0},{"$f":"IF(SUM(BS$3091:BS4516)>0,0,IF(MAX(BK4517:BK$4531)=MAX(BK$3091:BK$4531),0,IF(BI4517>0.01*BC$4532,0,$C4517/60)))","v":0},0,0,0,0,0,0,0,0,0,{"$error":"#N/A"},{"$error":"#N/A"},{"$error":"#N/A"},{"$error":"#N/A"},{"$error":"#N/A"},{"$error":"#N/A"},{"$f":"IF(SUM(CI$3091:CI4516)>0,0,IF(MAX(CB4517:CB$4531)=MAX(CB$3091:CB$4531),0,IF(BZ4517>0.03*BT$4532,0,$C4517/60)))","v":0},{"$f":"IF(SUM(CJ$3091:CJ4516)>0,0,IF(MAX(CB4517:CB$4531)=MAX(CB$3091:CB$4531),0,IF(BZ4517>0.01*BT$4532,0,$C4517/60)))","v":0},0,0,0,0,0,0,0,0,0,{"$error":"#N/A"},{"$error":"#N/A"},{"$error":"#N/A"},{"$error":"#N/A"},{"$error":"#N/A"},{"$error":"#N/A"},{"$f":"IF(SUM(CZ$3091:CZ4516)>0,0,IF(MAX(CS4517:CS$4531)=MAX(CS$3091:CS$4531),0,IF(CQ4517>0.03*CK$4532,0,$C4517/60)))","v":0},{"$f":"IF(SUM(DA$3091:DA4516)>0,0,IF(MAX(CS4517:CS$4531)=MAX(CS$3091:CS$4531),0,IF(CQ4517>0.01*CK$4532,0,$C4517/60)))","v":0},0,0,0,0,0,0,0,0,0,{"$error":"#N/A"},{"$error":"#N/A"},{"$error":"#N/A"},{"$error":"#N/A"},{"$error":"#N/A"},{"$error":"#N/A"},{"$f":"IF(SUM(DQ$3091:DQ4516)>0,0,IF(MAX(DJ4517:DJ$4531)=MAX(DJ$3091:DJ$4531),0,IF(DH4517>0.03*DB$4532,0,$C4517/60)))","v":0},{"$f":"IF(SUM(DR$3091:DR4516)>0,0,IF(MAX(DJ4517:DJ$4531)=MAX(DJ$3091:DJ$4531),0,IF(DH4517>0.01*DB$4532,0,$C4517/60)))","v":0},0,0,0,0,0,0,0,0,0,{"$error":"#N/A"},{"$error":"#N/A"},{"$error":"#N/A"},{"$error":"#N/A"},{"$error":"#N/A"},{"$error":"#N/A"},{"$f":"IF(SUM(EH$3091:EH4516)>0,0,IF(MAX(EA4517:EA$4531)=MAX(EA$3091:EA$4531),0,IF(DY4517>0.03*DS$4532,0,$C4517/60)))","v":0},{"$f":"IF(SUM(EI$3091:EI4516)>0,0,IF(MAX(EA4517:EA$4531)=MAX(EA$3091:EA$4531),0,IF(DY4517>0.01*DS$4532,0,$C4517/60)))","v":0},0,0,0,0,0,0,0,0,0,{"$error":"#N/A"},{"$error":"#N/A"},{"$error":"#N/A"},{"$error":"#N/A"},{"$error":"#N/A"},{"$error":"#N/A"},{"$f":"IF(SUM(EY$3091:EY4516)>0,0,IF(MAX(ER4517:ER$4531)=MAX(ER$3091:ER$4531),0,IF(EP4517>0.03*EJ$4532,0,$C4517/60)))","v":0},{"$f":"IF(SUM(EZ$3091:EZ4516)>0,0,IF(MAX(ER4517:ER$4531)=MAX(ER$3091:ER$4531),0,IF(EP4517>0.01*EJ$4532,0,$C4517/60)))","v":0}]
[null,118.91666666666667,7135,0,0,0,0,0,0,0,0,0,{"$error":"#N/A"},{"$error":"#N/A"},{"$error":"#N/A"},{"$error":"#N/A"},{"$error":"#N/A"},{"$error":"#N/A"},{"$f":"IF(SUM(S$3091:S4517)>0,0,\nIF(MAX(L4518:L$4531)=MAX(L$3091:L$4531),0,\nIF(Hydrograph_Source_WQCV=\"USER\",IF(J4518>0.03*D$4532,0,$C4518/60),\nIF(J4518>0.03*J$4532,0,$C4518/60))))","v":0},{"$f":"IF(SUM(T$3091:T4517)>0,0,\nIF(MAX(L4518:L$4531)=MAX(L$3091:L$4531),0,\nIF(Hydrograph_Source_WQCV=\"USER\",IF(J4518>0.01*D$4532,0,$C4518/60),\nIF(J4518>0.01*J$4532,0,$C4518/60))))","v":0},0,0,0,0,0,0,0,0,0,{"$error":"#N/A"},{"$error":"#N/A"},{"$error":"#N/A"},{"$error":"#N/A"},{"$error":"#N/A"},{"$error":"#N/A"},{"$f":"IF(SUM(AJ$3091:AJ4517)>0,0,\nIF(MAX(AC4518:AC$4531)=MAX(AC$3091:AC$4531),0,\nIF(Hydrograph_Source_EURV=\"USER\",IF(AA4518>0.03*U$4532,0,$C4518/60),\nIF(AA4518>0.03*AA$4532,0,$C4518/60))))","v":0},{"$f":"IF(SUM(AK$3091:AK4517)>0,0,\nIF(MAX(AC4518:AC$4531)=MAX(AC$3091:AC$4531),0,\nIF(Hydrograph_Source_EURV=\"USER\",IF(AA4518>0.01*U$4532,0,$C4518/60),\nIF(AA4518>0.01*AA$4532,0,$C4518/60))))","v":0},0,0,0,0,0,0,0,0,0,{"$error":"#N/A"},{"$error":"#N/A"},{"$error":"#N/A"},{"$error":"#N/A"},{"$error":"#N/A"},{"$error":"#N/A"},{"$f":"IF(SUM(BA$3091:BA4517)>0,0,IF(MAX(AT4518:AT$4531)=MAX(AT$3091:AT$4531),0,IF(AR4518>0.03*AL$4532,0,$C4518/60)))","v":0},{"$f":"IF(SUM(BB$3091:BB4517)>0,0,IF(MAX(AT4518:AT$4531)=MAX(AT$3091:AT$4531),0,IF(AR4518>0.01*AL$4532,0,$C4518/60)))","v":0},0,0,0,0,0,0,0,0,0,{"$error":"#N/A"},{"$error":"#N/A"},{"$error":"#N/A"},{"$error":"#N/A"},{"$error":"#N/A"},{"$error":"#N/A"},{"$f":"IF(SUM(BR$3091:BR4517)>0,0,IF(MAX(BK4518:BK$4531)=MAX(BK$3091:BK$4531),0,IF(BI4518>0.03*BC$4532,0,$C4518/60)))","v":0},{"$f":"IF(SUM(BS$3091:BS4517)>0,0,IF(MAX(BK4518:BK$4531)=MAX(BK$3091:BK$4531),0,IF(BI4518>0.01*BC$4532,0,$C4518/60)))","v":0},0,0,0,0,0,0,0,0,0,{"$error":"#N/A"},{"$error":"#N/A"},{"$error":"#N/A"},{"$error":"#N/A"},{"$error":"#N/A"},{"$error":"#N/A"},{"$f":"IF(SUM(CI$3091:CI4517)>0,0,IF(MAX(CB4518:CB$4531)=MAX(CB$3091:CB$4531),0,IF(BZ4518>0.03*BT$4532,0,$C4518/60)))","v":0},{"$f":"IF(SUM(CJ$3091:CJ4517)>0,0,IF(MAX(CB4518:CB$4531)=MAX(CB$3091:CB$4531),0,IF(BZ4518>0.01*BT$4532,0,$C4518/60)))","v":0},0,0,0,0,0,0,0,0,0,{"$error":"#N/A"},{"$error":"#N/A"},{"$error":"#N/A"},{"$error":"#N/A"},{"$error":"#N/A"},{"$error":"#N/A"},{"$f":"IF(SUM(CZ$3091:CZ4517)>0,0,IF(MAX(CS4518:CS$4531)=MAX(CS$3091:CS$4531),0,IF(CQ4518>0.03*CK$4532,0,$C4518/60)))","v":0},{"$f":"IF(SUM(DA$3091:DA4517)>0,0,IF(MAX(CS4518:CS$4531)=MAX(CS$3091:CS$4531),0,IF(CQ4518>0.01*CK$4532,0,$C4518/60)))","v":0},0,0,0,0,0,0,0,0,0,{"$error":"#N/A"},{"$error":"#N/A"},{"$error":"#N/A"},{"$error":"#N/A"},{"$error":"#N/A"},{"$error":"#N/A"},{"$f":"IF(SUM(DQ$3091:DQ4517)>0,0,IF(MAX(DJ4518:DJ$4531)=MAX(DJ$3091:DJ$4531),0,IF(DH4518>0.03*DB$4532,0,$C4518/60)))","v":0},{"$f":"IF(SUM(DR$3091:DR4517)>0,0,IF(MAX(DJ4518:DJ$4531)=MAX(DJ$3091:DJ$4531),0,IF(DH4518>0.01*DB$4532,0,$C4518/60)))","v":0},0,0,0,0,0,0,0,0,0,{"$error":"#N/A"},{"$error":"#N/A"},{"$error":"#N/A"},{"$error":"#N/A"},{"$error":"#N/A"},{"$error":"#N/A"},{"$f":"IF(SUM(EH$3091:EH4517)>0,0,IF(MAX(EA4518:EA$4531)=MAX(EA$3091:EA$4531),0,IF(DY4518>0.03*DS$4532,0,$C4518/60)))","v":0},{"$f":"IF(SUM(EI$3091:EI4517)>0,0,IF(MAX(EA4518:EA$4531)=MAX(EA$3091:EA$4531),0,IF(DY4518>0.01*DS$4532,0,$C4518/60)))","v":0},0,0,0,0,0,0,0,0,0,{"$error":"#N/A"},{"$error":"#N/A"},{"$error":"#N/A"},{"$error":"#N/A"},{"$error":"#N/A"},{"$error":"#N/A"},{"$f":"IF(SUM(EY$3091:EY4517)>0,0,IF(MAX(ER4518:ER$4531)=MAX(ER$3091:ER$4531),0,IF(EP4518>0.03*EJ$4532,0,$C4518/60)))","v":0},{"$f":"IF(SUM(EZ$3091:EZ4517)>0,0,IF(MAX(ER4518:ER$4531)=MAX(ER$3091:ER$4531),0,IF(EP4518>0.01*EJ$4532,0,$C4518/60)))","v":0}]
[null,119,7140,0,0,0,0,0,0,0,0,0,{"$error":"#N/A"},{"$error":"#N/A"},{"$error":"#N/A"},{"$error":"#N/A"},{"$error":"#N/A"},{"$error":"#N/A"},{"$f":"IF(SUM(S$3091:S4518)>0,0,\nIF(MAX(L4519:L$4531)=MAX(L$3091:L$4531),0,\nIF(Hydrograph_Source_WQCV=\"USER\",IF(J4519>0.03*D$4532,0,$C4519/60),\nIF(J4519>0.03*J$4532,0,$C4519/60))))","v":0},{"$f":"IF(SUM(T$3091:T4518)>0,0,\nIF(MAX(L4519:L$4531)=MAX(L$3091:L$4531),0,\nIF(Hydrograph_Source_WQCV=\"USER\",IF(J4519>0.01*D$4532,0,$C4519/60),\nIF(J4519>0.01*J$4532,0,$C4519/60))))","v":0},0,0,0,0,0,0,0,0,0,{"$error":"#N/A"},{"$error":"#N/A"},{"$error":"#N/A"},{"$error":"#N/A"},{"$error":"#N/A"},{"$error":"#N/A"},{"$f":"IF(SUM(AJ$3091:AJ4518)>0,0,\nIF(MAX(AC4519:AC$4531)=MAX(AC$3091:AC$4531),0,\nIF(Hydrograph_Source_EURV=\"USER\",IF(AA4519>0.03*U$4532,0,$C4519/60),\nIF(AA4519>0.03*AA$4532,0,$C4519/60))))","v":0},{"$f":"IF(SUM(AK$3091:AK4518)>0,0,\nIF(MAX(AC4519:AC$4531)=MAX(AC$3091:AC$4531),0,\nIF(Hydrograph_Source_EURV=\"USER\",IF(AA4519>0.01*U$4532,0,$C4519/60),\nIF(AA4519>0.01*AA$4532,0,$C4519/60))))","v":0},0,0,0,0,0,0,0,0,0,{"$error":"#N/A"},{"$error":"#N/A"},{"$error":"#N/A"},{"$error":"#N/A"},{"$error":"#N/A"},{"$error":"#N/A"},{"$f":"IF(SUM(BA$3091:BA4518)>0,0,IF(MAX(AT4519:AT$4531)=MAX(AT$3091:AT$4531),0,IF(AR4519>0.03*AL$4532,0,$C4519/60)))","v":0},{"$f":"IF(SUM(BB$3091:BB4518)>0,0,IF(MAX(AT4519:AT$4531)=MAX(AT$3091:AT$4531),0,IF(AR4519>0.01*AL$4532,0,$C4519/60)))","v":0},0,0,0,0,0,0,0,0,0,{"$error":"#N/A"},{"$error":"#N/A"},{"$error":"#N/A"},{"$error":"#N/A"},{"$error":"#N/A"},{"$error":"#N/A"},{"$f":"IF(SUM(BR$3091:BR4518)>0,0,IF(MAX(BK4519:BK$4531)=MAX(BK$3091:BK$4531),0,IF(BI4519>0.03*BC$4532,0,$C4519/60)))","v":0},{"$f":"IF(SUM(BS$3091:BS4518)>0,0,IF(MAX(BK4519:BK$4531)=MAX(BK$3091:BK$4531),0,IF(BI4519>0.01*BC$4532,0,$C4519/60)))","v":0},0,0,0,0,0,0,0,0,0,{"$error":"#N/A"},{"$error":"#N/A"},{"$error":"#N/A"},{"$error":"#N/A"},{"$error":"#N/A"},{"$error":"#N/A"},{"$f":"IF(SUM(CI$3091:CI4518)>0,0,IF(MAX(CB4519:CB$4531)=MAX(CB$3091:CB$4531),0,IF(BZ4519>0.03*BT$4532,0,$C4519/60)))","v":0},{"$f":"IF(SUM(CJ$3091:CJ4518)>0,0,IF(MAX(CB4519:CB$4531)=MAX(CB$3091:CB$4531),0,IF(BZ4519>0.01*BT$4532,0,$C4519/60)))","v":0},0,0,0,0,0,0,0,0,0,{"$error":"#N/A"},{"$error":"#N/A"},{"$error":"#N/A"},{"$error":"#N/A"},{"$error":"#N/A"},{"$error":"#N/A"},{"$f":"IF(SUM(CZ$3091:CZ4518)>0,0,IF(MAX(CS4519:CS$4531)=MAX(CS$3091:CS$4531),0,IF(CQ4519>0.03*CK$4532,0,$C4519/60)))","v":0},{"$f":"IF(SUM(DA$3091:DA4518)>0,0,IF(MAX(CS4519:CS$4531)=MAX(CS$3091:CS$4531),0,IF(CQ4519>0.01*CK$4532,0,$C4519/60)))","v":0},0,0,0,0,0,0,0,0,0,{"$error":"#N/A"},{"$error":"#N/A"},{"$error":"#N/A"},{"$error":"#N/A"},{"$error":"#N/A"},{"$error":"#N/A"},{"$f":"IF(SUM(DQ$3091:DQ4518)>0,0,IF(MAX(DJ4519:DJ$4531)=MAX(DJ$3091:DJ$4531),0,IF(DH4519>0.03*DB$4532,0,$C4519/60)))","v":0},{"$f":"IF(SUM(DR$3091:DR4518)>0,0,IF(MAX(DJ4519:DJ$4531)=MAX(DJ$3091:DJ$4531),0,IF(DH4519>0.01*DB$4532,0,$C4519/60)))","v":0},0,0,0,0,0,0,0,0,0,{"$error":"#N/A"},{"$error":"#N/A"},{"$error":"#N/A"},{"$error":"#N/A"},{"$error":"#N/A"},{"$error":"#N/A"},{"$f":"IF(SUM(EH$3091:EH4518)>0,0,IF(MAX(EA4519:EA$4531)=MAX(EA$3091:EA$4531),0,IF(DY4519>0.03*DS$4532,0,$C4519/60)))","v":0},{"$f":"IF(SUM(EI$3091:EI4518)>0,0,IF(MAX(EA4519:EA$4531)=MAX(EA$3091:EA$4531),0,IF(DY4519>0.01*DS$4532,0,$C4519/60)))","v":0},0,0,0,0,0,0,0,0,0,{"$error":"#N/A"},{"$error":"#N/A"},{"$error":"#N/A"},{"$error":"#N/A"},{"$error":"#N/A"},{"$error":"#N/A"},{"$f":"IF(SUM(EY$3091:EY4518)>0,0,IF(MAX(ER4519:ER$4531)=MAX(ER$3091:ER$4531),0,IF(EP4519>0.03*EJ$4532,0,$C4519/60)))","v":0},{"$f":"IF(SUM(EZ$3091:EZ4518)>0,0,IF(MAX(ER4519:ER$4531)=MAX(ER$3091:ER$4531),0,IF(EP4519>0.01*EJ$4532,0,$C4519/60)))","v":0}]
[null,119.08333333333333,7145,0,0,0,0,0,0,0,0,0,{"$error":"#N/A"},{"$error":"#N/A"},{"$error":"#N/A"},{"$error":"#N/A"},{"$error":"#N/A"},{"$error":"#N/A"},{"$f":"IF(SUM(S$3091:S4519)>0,0,\nIF(MAX(L4520:L$4531)=MAX(L$3091:L$4531),0,\nIF(Hydrograph_Source_WQCV=\"USER\",IF(J4520>0.03*D$4532,0,$C4520/60),\nIF(J4520>0.03*J$4532,0,$C4520/60))))","v":0},{"$f":"IF(SUM(T$3091:T4519)>0,0,\nIF(MAX(L4520:L$4531)=MAX(L$3091:L$4531),0,\nIF(Hydrograph_Source_WQCV=\"USER\",IF(J4520>0.01*D$4532,0,$C4520/60),\nIF(J4520>0.01*J$4532,0,$C4520/60))))","v":0},0,0,0,0,0,0,0,0,0,{"$error":"#N/A"},{"$error":"#N/A"},{"$error":"#N/A"},{"$error":"#N/A"},{"$error":"#N/A"},{"$error":"#N/A"},{"$f":"IF(SUM(AJ$3091:AJ4519)>0,0,\nIF(MAX(AC4520:AC$4531)=MAX(AC$3091:AC$4531),0,\nIF(Hydrograph_Source_EURV=\"USER\",IF(AA4520>0.03*U$4532,0,$C4520/60),\nIF(AA4520>0.03*AA$4532,0,$C4520/60))))","v":0},{"$f":"IF(SUM(AK$3091:AK4519)>0,0,\nIF(MAX(AC4520:AC$4531)=MAX(AC$3091:AC$4531),0,\nIF(Hydrograph_Source_EURV=\"USER\",IF(AA4520>0.01*U$4532,0,$C4520/60),\nIF(AA4520>0.01*AA$4532,0,$C4520/60))))","v":0},0,0,0,0,0,0,0,0,0,{"$error":"#N/A"},{"$error":"#N/A"},{"$error":"#N/A"},{"$error":"#N/A"},{"$error":"#N/A"},{"$error":"#N/A"},{"$f":"IF(SUM(BA$3091:BA4519)>0,0,IF(MAX(AT4520:AT$4531)=MAX(AT$3091:AT$4531),0,IF(AR4520>0.03*AL$4532,0,$C4520/60)))","v":0},{"$f":"IF(SUM(BB$3091:BB4519)>0,0,IF(MAX(AT4520:AT$4531)=MAX(AT$3091:AT$4531),0,IF(AR4520>0.01*AL$4532,0,$C4520/60)))","v":0},0,0,0,0,0,0,0,0,0,{"$error":"#N/A"},{"$error":"#N/A"},{"$error":"#N/A"},{"$error":"#N/A"},{"$error":"#N/A"},{"$error":"#N/A"},{"$f":"IF(SUM(BR$3091:BR4519)>0,0,IF(MAX(BK4520:BK$4531)=MAX(BK$3091:BK$4531),0,IF(BI4520>0.03*BC$4532,0,$C4520/60)))","v":0},{"$f":"IF(SUM(BS$3091:BS4519)>0,0,IF(MAX(BK4520:BK$4531)=MAX(BK$3091:BK$4531),0,IF(BI4520>0.01*BC$4532,0,$C4520/60)))","v":0},0,0,0,0,0,0,0,0,0,{"$error":"#N/A"},{"$error":"#N/A"},{"$error":"#N/A"},{"$error":"#N/A"},{"$error":"#N/A"},{"$error":"#N/A"},{"$f":"IF(SUM(CI$3091:CI4519)>0,0,IF(MAX(CB4520:CB$4531)=MAX(CB$3091:CB$4531),0,IF(BZ4520>0.03*BT$4532,0,$C4520/60)))","v":0},{"$f":"IF(SUM(CJ$3091:CJ4519)>0,0,IF(MAX(CB4520:CB$4531)=MAX(CB$3091:CB$4531),0,IF(BZ4520>0.01*BT$4532,0,$C4520/60)))","v":0},0,0,0,0,0,0,0,0,0,{"$error":"#N/A"},{"$error":"#N/A"},{"$error":"#N/A"},{"$error":"#N/A"},{"$error":"#N/A"},{"$error":"#N/A"},{"$f":"IF(SUM(CZ$3091:CZ4519)>0,0,IF(MAX(CS4520:CS$4531)=MAX(CS$3091:CS$4531),0,IF(CQ4520>0.03*CK$4532,0,$C4520/60)))","v":0},{"$f":"IF(SUM(DA$3091:DA4519)>0,0,IF(MAX(CS4520:CS$4531)=MAX(CS$3091:CS$4531),0,IF(CQ4520>0.01*CK$4532,0,$C4520/60)))","v":0},0,0,0,0,0,0,0,0,0,{"$error":"#N/A"},{"$error":"#N/A"},{"$error":"#N/A"},{"$error":"#N/A"},{"$error":"#N/A"},{"$error":"#N/A"},{"$f":"IF(SUM(DQ$3091:DQ4519)>0,0,IF(MAX(DJ4520:DJ$4531)=MAX(DJ$3091:DJ$4531),0,IF(DH4520>0.03*DB$4532,0,$C4520/60)))","v":0},{"$f":"IF(SUM(DR$3091:DR4519)>0,0,IF(MAX(DJ4520:DJ$4531)=MAX(DJ$3091:DJ$4531),0,IF(DH4520>0.01*DB$4532,0,$C4520/60)))","v":0},0,0,0,0,0,0,0,0,0,{"$error":"#N/A"},{"$error":"#N/A"},{"$error":"#N/A"},{"$error":"#N/A"},{"$error":"#N/A"},{"$error":"#N/A"},{"$f":"IF(SUM(EH$3091:EH4519)>0,0,IF(MAX(EA4520:EA$4531)=MAX(EA$3091:EA$4531),0,IF(DY4520>0.03*DS$4532,0,$C4520/60)))","v":0},{"$f":"IF(SUM(EI$3091:EI4519)>0,0,IF(MAX(EA4520:EA$4531)=MAX(EA$3091:EA$4531),0,IF(DY4520>0.01*DS$4532,0,$C4520/60)))","v":0},0,0,0,0,0,0,0,0,0,{"$error":"#N/A"},{"$error":"#N/A"},{"$error":"#N/A"},{"$error":"#N/A"},{"$error":"#N/A"},{"$error":"#N/A"},{"$f":"IF(SUM(EY$3091:EY4519)>0,0,IF(MAX(ER4520:ER$4531)=MAX(ER$3091:ER$4531),0,IF(EP4520>0.03*EJ$4532,0,$C4520/60)))","v":0},{"$f":"IF(SUM(EZ$3091:EZ4519)>0,0,IF(MAX(ER4520:ER$4531)=MAX(ER$3091:ER$4531),0,IF(EP4520>0.01*EJ$4532,0,$C4520/60)))","v":0}]
[null,119.16666666666667,7150,0,0,0,0,0,0,0,0,0,{"$error":"#N/A"},{"$error":"#N/A"},{"$error":"#N/A"},{"$error":"#N/A"},{"$error":"#N/A"},{"$error":"#N/A"},{"$f":"IF(SUM(S$3091:S4520)>0,0,\nIF(MAX(L4521:L$4531)=MAX(L$3091:L$4531),0,\nIF(Hydrograph_Source_WQCV=\"USER\",IF(J4521>0.03*D$4532,0,$C4521/60),\nIF(J4521>0.03*J$4532,0,$C4521/60))))","v":0},{"$f":"IF(SUM(T$3091:T4520)>0,0,\nIF(MAX(L4521:L$4531)=MAX(L$3091:L$4531),0,\nIF(Hydrograph_Source_WQCV=\"USER\",IF(J4521>0.01*D$4532,0,$C4521/60),\nIF(J4521>0.01*J$4532,0,$C4521/60))))","v":0},0,0,0,0,0,0,0,0,0,{"$error":"#N/A"},{"$error":"#N/A"},{"$error":"#N/A"},{"$error":"#N/A"},{"$error":"#N/A"},{"$error":"#N/A"},{"$f":"IF(SUM(AJ$3091:AJ4520)>0,0,\nIF(MAX(AC4521:AC$4531)=MAX(AC$3091:AC$4531),0,\nIF(Hydrograph_Source_EURV=\"USER\",IF(AA4521>0.03*U$4532,0,$C4521/60),\nIF(AA4521>0.03*AA$4532,0,$C4521/60))))","v":0},{"$f":"IF(SUM(AK$3091:AK4520)>0,0,\nIF(MAX(AC4521:AC$4531)=MAX(AC$3091:AC$4531),0,\nIF(Hydrograph_Source_EURV=\"USER\",IF(AA4521>0.01*U$4532,0,$C4521/60),\nIF(AA4521>0.01*AA$4532,0,$C4521/60))))","v":0},0,0,0,0,0,0,0,0,0,{"$error":"#N/A"},{"$error":"#N/A"},{"$error":"#N/A"},{"$error":"#N/A"},{"$error":"#N/A"},{"$error":"#N/A"},{"$f":"IF(SUM(BA$3091:BA4520)>0,0,IF(MAX(AT4521:AT$4531)=MAX(AT$3091:AT$4531),0,IF(AR4521>0.03*AL$4532,0,$C4521/60)))","v":0},{"$f":"IF(SUM(BB$3091:BB4520)>0,0,IF(MAX(AT4521:AT$4531)=MAX(AT$3091:AT$4531),0,IF(AR4521>0.01*AL$4532,0,$C4521/60)))","v":0},0,0,0,0,0,0,0,0,0,{"$error":"#N/A"},{"$error":"#N/A"},{"$error":"#N/A"},{"$error":"#N/A"},{"$error":"#N/A"},{"$error":"#N/A"},{"$f":"IF(SUM(BR$3091:BR4520)>0,0,IF(MAX(BK4521:BK$4531)=MAX(BK$3091:BK$4531),0,IF(BI4521>0.03*BC$4532,0,$C4521/60)))","v":0},{"$f":"IF(SUM(BS$3091:BS4520)>0,0,IF(MAX(BK4521:BK$4531)=MAX(BK$3091:BK$4531),0,IF(BI4521>0.01*BC$4532,0,$C4521/60)))","v":0},0,0,0,0,0,0,0,0,0,{"$error":"#N/A"},{"$error":"#N/A"},{"$error":"#N/A"},{"$error":"#N/A"},{"$error":"#N/A"},{"$error":"#N/A"},{"$f":"IF(SUM(CI$3091:CI4520)>0,0,IF(MAX(CB4521:CB$4531)=MAX(CB$3091:CB$4531),0,IF(BZ4521>0.03*BT$4532,0,$C4521/60)))","v":0},{"$f":"IF(SUM(CJ$3091:CJ4520)>0,0,IF(MAX(CB4521:CB$4531)=MAX(CB$3091:CB$4531),0,IF(BZ4521>0.01*BT$4532,0,$C4521/60)))","v":0},0,0,0,0,0,0,0,0,0,{"$error":"#N/A"},{"$error":"#N/A"},{"$error":"#N/A"},{"$error":"#N/A"},{"$error":"#N/A"},{"$error":"#N/A"},{"$f":"IF(SUM(CZ$3091:CZ4520)>0,0,IF(MAX(CS4521:CS$4531)=MAX(CS$3091:CS$4531),0,IF(CQ4521>0.03*CK$4532,0,$C4521/60)))","v":0},{"$f":"IF(SUM(DA$3091:DA4520)>0,0,IF(MAX(CS4521:CS$4531)=MAX(CS$3091:CS$4531),0,IF(CQ4521>0.01*CK$4532,0,$C4521/60)))","v":0},0,0,0,0,0,0,0,0,0,{"$error":"#N/A"},{"$error":"#N/A"},{"$error":"#N/A"},{"$error":"#N/A"},{"$error":"#N/A"},{"$error":"#N/A"},{"$f":"IF(SUM(DQ$3091:DQ4520)>0,0,IF(MAX(DJ4521:DJ$4531)=MAX(DJ$3091:DJ$4531),0,IF(DH4521>0.03*DB$4532,0,$C4521/60)))","v":0},{"$f":"IF(SUM(DR$3091:DR4520)>0,0,IF(MAX(DJ4521:DJ$4531)=MAX(DJ$3091:DJ$4531),0,IF(DH4521>0.01*DB$4532,0,$C4521/60)))","v":0},0,0,0,0,0,0,0,0,0,{"$error":"#N/A"},{"$error":"#N/A"},{"$error":"#N/A"},{"$error":"#N/A"},{"$error":"#N/A"},{"$error":"#N/A"},{"$f":"IF(SUM(EH$3091:EH4520)>0,0,IF(MAX(EA4521:EA$4531)=MAX(EA$3091:EA$4531),0,IF(DY4521>0.03*DS$4532,0,$C4521/60)))","v":0},{"$f":"IF(SUM(EI$3091:EI4520)>0,0,IF(MAX(EA4521:EA$4531)=MAX(EA$3091:EA$4531),0,IF(DY4521>0.01*DS$4532,0,$C4521/60)))","v":0},0,0,0,0,0,0,0,0,0,{"$error":"#N/A"},{"$error":"#N/A"},{"$error":"#N/A"},{"$error":"#N/A"},{"$error":"#N/A"},{"$error":"#N/A"},{"$f":"IF(SUM(EY$3091:EY4520)>0,0,IF(MAX(ER4521:ER$4531)=MAX(ER$3091:ER$4531),0,IF(EP4521>0.03*EJ$4532,0,$C4521/60)))","v":0},{"$f":"IF(SUM(EZ$3091:EZ4520)>0,0,IF(MAX(ER4521:ER$4531)=MAX(ER$3091:ER$4531),0,IF(EP4521>0.01*EJ$4532,0,$C4521/60)))","v":0}]
[null,119.25,7155,0,0,0,0,0,0,0,0,0,{"$error":"#N/A"},{"$error":"#N/A"},{"$error":"#N/A"},{"$error":"#N/A"},{"$error":"#N/A"},{"$error":"#N/A"},{"$f":"IF(SUM(S$3091:S4521)>0,0,\nIF(MAX(L4522:L$4531)=MAX(L$3091:L$4531),0,\nIF(Hydrograph_Source_WQCV=\"USER\",IF(J4522>0.03*D$4532,0,$C4522/60),\nIF(J4522>0.03*J$4532,0,$C4522/60))))","v":0},{"$f":"IF(SUM(T$3091:T4521)>0,0,\nIF(MAX(L4522:L$4531)=MAX(L$3091:L$4531),0,\nIF(Hydrograph_Source_WQCV=\"USER\",IF(J4522>0.01*D$4532,0,$C4522/60),\nIF(J4522>0.01*J$4532,0,$C4522/60))))","v":0},0,0,0,0,0,0,0,0,0,{"$error":"#N/A"},{"$error":"#N/A"},{"$error":"#N/A"},{"$error":"#N/A"},{"$error":"#N/A"},{"$error":"#N/A"},{"$f":"IF(SUM(AJ$3091:AJ4521)>0,0,\nIF(MAX(AC4522:AC$4531)=MAX(AC$3091:AC$4531),0,\nIF(Hydrograph_Source_EURV=\"USER\",IF(AA4522>0.03*U$4532,0,$C4522/60),\nIF(AA4522>0.03*AA$4532,0,$C4522/60))))","v":0},{"$f":"IF(SUM(AK$3091:AK4521)>0,0,\nIF(MAX(AC4522:AC$4531)=MAX(AC$3091:AC$4531),0,\nIF(Hydrograph_Source_EURV=\"USER\",IF(AA4522>0.01*U$4532,0,$C4522/60),\nIF(AA4522>0.01*AA$4532,0,$C4522/60))))","v":0},0,0,0,0,0,0,0,0,0,{"$error":"#N/A"},{"$error":"#N/A"},{"$error":"#N/A"},{"$error":"#N/A"},{"$error":"#N/A"},{"$error":"#N/A"},{"$f":"IF(SUM(BA$3091:BA4521)>0,0,IF(MAX(AT4522:AT$4531)=MAX(AT$3091:AT$4531),0,IF(AR4522>0.03*AL$4532,0,$C4522/60)))","v":0},{"$f":"IF(SUM(BB$3091:BB4521)>0,0,IF(MAX(AT4522:AT$4531)=MAX(AT$3091:AT$4531),0,IF(AR4522>0.01*AL$4532,0,$C4522/60)))","v":0},0,0,0,0,0,0,0,0,0,{"$error":"#N/A"},{"$error":"#N/A"},{"$error":"#N/A"},{"$error":"#N/A"},{"$error":"#N/A"},{"$error":"#N/A"},{"$f":"IF(SUM(BR$3091:BR4521)>0,0,IF(MAX(BK4522:BK$4531)=MAX(BK$3091:BK$4531),0,IF(BI4522>0.03*BC$4532,0,$C4522/60)))","v":0},{"$f":"IF(SUM(BS$3091:BS4521)>0,0,IF(MAX(BK4522:BK$4531)=MAX(BK$3091:BK$4531),0,IF(BI4522>0.01*BC$4532,0,$C4522/60)))","v":0},0,0,0,0,0,0,0,0,0,{"$error":"#N/A"},{"$error":"#N/A"},{"$error":"#N/A"},{"$error":"#N/A"},{"$error":"#N/A"},{"$error":"#N/A"},{"$f":"IF(SUM(CI$3091:CI4521)>0,0,IF(MAX(CB4522:CB$4531)=MAX(CB$3091:CB$4531),0,IF(BZ4522>0.03*BT$4532,0,$C4522/60)))","v":0},{"$f":"IF(SUM(CJ$3091:CJ4521)>0,0,IF(MAX(CB4522:CB$4531)=MAX(CB$3091:CB$4531),0,IF(BZ4522>0.01*BT$4532,0,$C4522/60)))","v":0},0,0,0,0,0,0,0,0,0,{"$error":"#N/A"},{"$error":"#N/A"},{"$error":"#N/A"},{"$error":"#N/A"},{"$error":"#N/A"},{"$error":"#N/A"},{"$f":"IF(SUM(CZ$3091:CZ4521)>0,0,IF(MAX(CS4522:CS$4531)=MAX(CS$3091:CS$4531),0,IF(CQ4522>0.03*CK$4532,0,$C4522/60)))","v":0},{"$f":"IF(SUM(DA$3091:DA4521)>0,0,IF(MAX(CS4522:CS$4531)=MAX(CS$3091:CS$4531),0,IF(CQ4522>0.01*CK$4532,0,$C4522/60)))","v":0},0,0,0,0,0,0,0,0,0,{"$error":"#N/A"},{"$error":"#N/A"},{"$error":"#N/A"},{"$error":"#N/A"},{"$error":"#N/A"},{"$error":"#N/A"},{"$f":"IF(SUM(DQ$3091:DQ4521)>0,0,IF(MAX(DJ4522:DJ$4531)=MAX(DJ$3091:DJ$4531),0,IF(DH4522>0.03*DB$4532,0,$C4522/60)))","v":0},{"$f":"IF(SUM(DR$3091:DR4521)>0,0,IF(MAX(DJ4522:DJ$4531)=MAX(DJ$3091:DJ$4531),0,IF(DH4522>0.01*DB$4532,0,$C4522/60)))","v":0},0,0,0,0,0,0,0,0,0,{"$error":"#N/A"},{"$error":"#N/A"},{"$error":"#N/A"},{"$error":"#N/A"},{"$error":"#N/A"},{"$error":"#N/A"},{"$f":"IF(SUM(EH$3091:EH4521)>0,0,IF(MAX(EA4522:EA$4531)=MAX(EA$3091:EA$4531),0,IF(DY4522>0.03*DS$4532,0,$C4522/60)))","v":0},{"$f":"IF(SUM(EI$3091:EI4521)>0,0,IF(MAX(EA4522:EA$4531)=MAX(EA$3091:EA$4531),0,IF(DY4522>0.01*DS$4532,0,$C4522/60)))","v":0},0,0,0,0,0,0,0,0,0,{"$error":"#N/A"},{"$error":"#N/A"},{"$error":"#N/A"},{"$error":"#N/A"},{"$error":"#N/A"},{"$error":"#N/A"},{"$f":"IF(SUM(EY$3091:EY4521)>0,0,IF(MAX(ER4522:ER$4531)=MAX(ER$3091:ER$4531),0,IF(EP4522>0.03*EJ$4532,0,$C4522/60)))","v":0},{"$f":"IF(SUM(EZ$3091:EZ4521)>0,0,IF(MAX(ER4522:ER$4531)=MAX(ER$3091:ER$4531),0,IF(EP4522>0.01*EJ$4532,0,$C4522/60)))","v":0}]
[null,119.33333333333333,7160,0,0,0,0,0,0,0,0,0,{"$error":"#N/A"},{"$error":"#N/A"},{"$error":"#N/A"},{"$error":"#N/A"},{"$error":"#N/A"},{"$error":"#N/A"},{"$f":"IF(SUM(S$3091:S4522)>0,0,\nIF(MAX(L4523:L$4531)=MAX(L$3091:L$4531),0,\nIF(Hydrograph_Source_WQCV=\"USER\",IF(J4523>0.03*D$4532,0,$C4523/60),\nIF(J4523>0.03*J$4532,0,$C4523/60))))","v":0},{"$f":"IF(SUM(T$3091:T4522)>0,0,\nIF(MAX(L4523:L$4531)=MAX(L$3091:L$4531),0,\nIF(Hydrograph_Source_WQCV=\"USER\",IF(J4523>0.01*D$4532,0,$C4523/60),\nIF(J4523>0.01*J$4532,0,$C4523/60))))","v":0},0,0,0,0,0,0,0,0,0,{"$error":"#N/A"},{"$error":"#N/A"},{"$error":"#N/A"},{"$error":"#N/A"},{"$error":"#N/A"},{"$error":"#N/A"},{"$f":"IF(SUM(AJ$3091:AJ4522)>0,0,\nIF(MAX(AC4523:AC$4531)=MAX(AC$3091:AC$4531),0,\nIF(Hydrograph_Source_EURV=\"USER\",IF(AA4523>0.03*U$4532,0,$C4523/60),\nIF(AA4523>0.03*AA$4532,0,$C4523/60))))","v":0},{"$f":"IF(SUM(AK$3091:AK4522)>0,0,\nIF(MAX(AC4523:AC$4531)=MAX(AC$3091:AC$4531),0,\nIF(Hydrograph_Source_EURV=\"USER\",IF(AA4523>0.01*U$4532,0,$C4523/60),\nIF(AA4523>0.01*AA$4532,0,$C4523/60))))","v":0},0,0,0,0,0,0,0,0,0,{"$error":"#N/A"},{"$error":"#N/A"},{"$error":"#N/A"},{"$error":"#N/A"},{"$error":"#N/A"},{"$error":"#N/A"},{"$f":"IF(SUM(BA$3091:BA4522)>0,0,IF(MAX(AT4523:AT$4531)=MAX(AT$3091:AT$4531),0,IF(AR4523>0.03*AL$4532,0,$C4523/60)))","v":0},{"$f":"IF(SUM(BB$3091:BB4522)>0,0,IF(MAX(AT4523:AT$4531)=MAX(AT$3091:AT$4531),0,IF(AR4523>0.01*AL$4532,0,$C4523/60)))","v":0},0,0,0,0,0,0,0,0,0,{"$error":"#N/A"},{"$error":"#N/A"},{"$error":"#N/A"},{"$error":"#N/A"},{"$error":"#N/A"},{"$error":"#N/A"},{"$f":"IF(SUM(BR$3091:BR4522)>0,0,IF(MAX(BK4523:BK$4531)=MAX(BK$3091:BK$4531),0,IF(BI4523>0.03*BC$4532,0,$C4523/60)))","v":0},{"$f":"IF(SUM(BS$3091:BS4522)>0,0,IF(MAX(BK4523:BK$4531)=MAX(BK$3091:BK$4531),0,IF(BI4523>0.01*BC$4532,0,$C4523/60)))","v":0},0,0,0,0,0,0,0,0,0,{"$error":"#N/A"},{"$error":"#N/A"},{"$error":"#N/A"},{"$error":"#N/A"},{"$error":"#N/A"},{"$error":"#N/A"},{"$f":"IF(SUM(CI$3091:CI4522)>0,0,IF(MAX(CB4523:CB$4531)=MAX(CB$3091:CB$4531),0,IF(BZ4523>0.03*BT$4532,0,$C4523/60)))","v":0},{"$f":"IF(SUM(CJ$3091:CJ4522)>0,0,IF(MAX(CB4523:CB$4531)=MAX(CB$3091:CB$4531),0,IF(BZ4523>0.01*BT$4532,0,$C4523/60)))","v":0},0,0,0,0,0,0,0,0,0,{"$error":"#N/A"},{"$error":"#N/A"},{"$error":"#N/A"},{"$error":"#N/A"},{"$error":"#N/A"},{"$error":"#N/A"},{"$f":"IF(SUM(CZ$3091:CZ4522)>0,0,IF(MAX(CS4523:CS$4531)=MAX(CS$3091:CS$4531),0,IF(CQ4523>0.03*CK$4532,0,$C4523/60)))","v":0},{"$f":"IF(SUM(DA$3091:DA4522)>0,0,IF(MAX(CS4523:CS$4531)=MAX(CS$3091:CS$4531),0,IF(CQ4523>0.01*CK$4532,0,$C4523/60)))","v":0},0,0,0,0,0,0,0,0,0,{"$error":"#N/A"},{"$error":"#N/A"},{"$error":"#N/A"},{"$error":"#N/A"},{"$error":"#N/A"},{"$error":"#N/A"},{"$f":"IF(SUM(DQ$3091:DQ4522)>0,0,IF(MAX(DJ4523:DJ$4531)=MAX(DJ$3091:DJ$4531),0,IF(DH4523>0.03*DB$4532,0,$C4523/60)))","v":0},{"$f":"IF(SUM(DR$3091:DR4522)>0,0,IF(MAX(DJ4523:DJ$4531)=MAX(DJ$3091:DJ$4531),0,IF(DH4523>0.01*DB$4532,0,$C4523/60)))","v":0},0,0,0,0,0,0,0,0,0,{"$error":"#N/A"},{"$error":"#N/A"},{"$error":"#N/A"},{"$error":"#N/A"},{"$error":"#N/A"},{"$error":"#N/A"},{"$f":"IF(SUM(EH$3091:EH4522)>0,0,IF(MAX(EA4523:EA$4531)=MAX(EA$3091:EA$4531),0,IF(DY4523>0.03*DS$4532,0,$C4523/60)))","v":0},{"$f":"IF(SUM(EI$3091:EI4522)>0,0,IF(MAX(EA4523:EA$4531)=MAX(EA$3091:EA$4531),0,IF(DY4523>0.01*DS$4532,0,$C4523/60)))","v":0},0,0,0,0,0,0,0,0,0,{"$error":"#N/A"},{"$error":"#N/A"},{"$error":"#N/A"},{"$error":"#N/A"},{"$error":"#N/A"},{"$error":"#N/A"},{"$f":"IF(SUM(EY$3091:EY4522)>0,0,IF(MAX(ER4523:ER$4531)=MAX(ER$3091:ER$4531),0,IF(EP4523>0.03*EJ$4532,0,$C4523/60)))","v":0},{"$f":"IF(SUM(EZ$3091:EZ4522)>0,0,IF(MAX(ER4523:ER$4531)=MAX(ER$3091:ER$4531),0,IF(EP4523>0.01*EJ$4532,0,$C4523/60)))","v":0}]
[null,119.41666666666667,7165,0,0,0,0,0,0,0,0,0,{"$error":"#N/A"},{"$error":"#N/A"},{"$error":"#N/A"},{"$error":"#N/A"},{"$error":"#N/A"},{"$error":"#N/A"},{"$f":"IF(SUM(S$3091:S4523)>0,0,\nIF(MAX(L4524:L$4531)=MAX(L$3091:L$4531),0,\nIF(Hydrograph_Source_WQCV=\"USER\",IF(J4524>0.03*D$4532,0,$C4524/60),\nIF(J4524>0.03*J$4532,0,$C4524/60))))","v":0},{"$f":"IF(SUM(T$3091:T4523)>0,0,\nIF(MAX(L4524:L$4531)=MAX(L$3091:L$4531),0,\nIF(Hydrograph_Source_WQCV=\"USER\",IF(J4524>0.01*D$4532,0,$C4524/60),\nIF(J4524>0.01*J$4532,0,$C4524/60))))","v":0},0,0,0,0,0,0,0,0,0,{"$error":"#N/A"},{"$error":"#N/A"},{"$error":"#N/A"},{"$error":"#N/A"},{"$error":"#N/A"},{"$error":"#N/A"},{"$f":"IF(SUM(AJ$3091:AJ4523)>0,0,\nIF(MAX(AC4524:AC$4531)=MAX(AC$3091:AC$4531),0,\nIF(Hydrograph_Source_EURV=\"USER\",IF(AA4524>0.03*U$4532,0,$C4524/60),\nIF(AA4524>0.03*AA$4532,0,$C4524/60))))","v":0},{"$f":"IF(SUM(AK$3091:AK4523)>0,0,\nIF(MAX(AC4524:AC$4531)=MAX(AC$3091:AC$4531),0,\nIF(Hydrograph_Source_EURV=\"USER\",IF(AA4524>0.01*U$4532,0,$C4524/60),\nIF(AA4524>0.01*AA$4532,0,$C4524/60))))","v":0},0,0,0,0,0,0,0,0,0,{"$error":"#N/A"},{"$error":"#N/A"},{"$error":"#N/A"},{"$error":"#N/A"},{"$error":"#N/A"},{"$error":"#N/A"},{"$f":"IF(SUM(BA$3091:BA4523)>0,0,IF(MAX(AT4524:AT$4531)=MAX(AT$3091:AT$4531),0,IF(AR4524>0.03*AL$4532,0,$C4524/60)))","v":0},{"$f":"IF(SUM(BB$3091:BB4523)>0,0,IF(MAX(AT4524:AT$4531)=MAX(AT$3091:AT$4531),0,IF(AR4524>0.01*AL$4532,0,$C4524/60)))","v":0},0,0,0,0,0,0,0,0,0,{"$error":"#N/A"},{"$error":"#N/A"},{"$error":"#N/A"},{"$error":"#N/A"},{"$error":"#N/A"},{"$error":"#N/A"},{"$f":"IF(SUM(BR$3091:BR4523)>0,0,IF(MAX(BK4524:BK$4531)=MAX(BK$3091:BK$4531),0,IF(BI4524>0.03*BC$4532,0,$C4524/60)))","v":0},{"$f":"IF(SUM(BS$3091:BS4523)>0,0,IF(MAX(BK4524:BK$4531)=MAX(BK$3091:BK$4531),0,IF(BI4524>0.01*BC$4532,0,$C4524/60)))","v":0},0,0,0,0,0,0,0,0,0,{"$error":"#N/A"},{"$error":"#N/A"},{"$error":"#N/A"},{"$error":"#N/A"},{"$error":"#N/A"},{"$error":"#N/A"},{"$f":"IF(SUM(CI$3091:CI4523)>0,0,IF(MAX(CB4524:CB$4531)=MAX(CB$3091:CB$4531),0,IF(BZ4524>0.03*BT$4532,0,$C4524/60)))","v":0},{"$f":"IF(SUM(CJ$3091:CJ4523)>0,0,IF(MAX(CB4524:CB$4531)=MAX(CB$3091:CB$4531),0,IF(BZ4524>0.01*BT$4532,0,$C4524/60)))","v":0},0,0,0,0,0,0,0,0,0,{"$error":"#N/A"},{"$error":"#N/A"},{"$error":"#N/A"},{"$error":"#N/A"},{"$error":"#N/A"},{"$error":"#N/A"},{"$f":"IF(SUM(CZ$3091:CZ4523)>0,0,IF(MAX(CS4524:CS$4531)=MAX(CS$3091:CS$4531),0,IF(CQ4524>0.03*CK$4532,0,$C4524/60)))","v":0},{"$f":"IF(SUM(DA$3091:DA4523)>0,0,IF(MAX(CS4524:CS$4531)=MAX(CS$3091:CS$4531),0,IF(CQ4524>0.01*CK$4532,0,$C4524/60)))","v":0},0,0,0,0,0,0,0,0,0,{"$error":"#N/A"},{"$error":"#N/A"},{"$error":"#N/A"},{"$error":"#N/A"},{"$error":"#N/A"},{"$error":"#N/A"},{"$f":"IF(SUM(DQ$3091:DQ4523)>0,0,IF(MAX(DJ4524:DJ$4531)=MAX(DJ$3091:DJ$4531),0,IF(DH4524>0.03*DB$4532,0,$C4524/60)))","v":0},{"$f":"IF(SUM(DR$3091:DR4523)>0,0,IF(MAX(DJ4524:DJ$4531)=MAX(DJ$3091:DJ$4531),0,IF(DH4524>0.01*DB$4532,0,$C4524/60)))","v":0},0,0,0,0,0,0,0,0,0,{"$error":"#N/A"},{"$error":"#N/A"},{"$error":"#N/A"},{"$error":"#N/A"},{"$error":"#N/A"},{"$error":"#N/A"},{"$f":"IF(SUM(EH$3091:EH4523)>0,0,IF(MAX(EA4524:EA$4531)=MAX(EA$3091:EA$4531),0,IF(DY4524>0.03*DS$4532,0,$C4524/60)))","v":0},{"$f":"IF(SUM(EI$3091:EI4523)>0,0,IF(MAX(EA4524:EA$4531)=MAX(EA$3091:EA$4531),0,IF(DY4524>0.01*DS$4532,0,$C4524/60)))","v":0},0,0,0,0,0,0,0,0,0,{"$error":"#N/A"},{"$error":"#N/A"},{"$error":"#N/A"},{"$error":"#N/A"},{"$error":"#N/A"},{"$error":"#N/A"},{"$f":"IF(SUM(EY$3091:EY4523)>0,0,IF(MAX(ER4524:ER$4531)=MAX(ER$3091:ER$4531),0,IF(EP4524>0.03*EJ$4532,0,$C4524/60)))","v":0},{"$f":"IF(SUM(EZ$3091:EZ4523)>0,0,IF(MAX(ER4524:ER$4531)=MAX(ER$3091:ER$4531),0,IF(EP4524>0.01*EJ$4532,0,$C4524/60)))","v":0}]
[null,119.5,7170,0,0,0,0,0,0,0,0,0,{"$error":"#N/A"},{"$error":"#N/A"},{"$error":"#N/A"},{"$error":"#N/A"},{"$error":"#N/A"},{"$error":"#N/A"},{"$f":"IF(SUM(S$3091:S4524)>0,0,\nIF(MAX(L4525:L$4531)=MAX(L$3091:L$4531),0,\nIF(Hydrograph_Source_WQCV=\"USER\",IF(J4525>0.03*D$4532,0,$C4525/60),\nIF(J4525>0.03*J$4532,0,$C4525/60))))","v":0},{"$f":"IF(SUM(T$3091:T4524)>0,0,\nIF(MAX(L4525:L$4531)=MAX(L$3091:L$4531),0,\nIF(Hydrograph_Source_WQCV=\"USER\",IF(J4525>0.01*D$4532,0,$C4525/60),\nIF(J4525>0.01*J$4532,0,$C4525/60))))","v":0},0,0,0,0,0,0,0,0,0,{"$error":"#N/A"},{"$error":"#N/A"},{"$error":"#N/A"},{"$error":"#N/A"},{"$error":"#N/A"},{"$error":"#N/A"},{"$f":"IF(SUM(AJ$3091:AJ4524)>0,0,\nIF(MAX(AC4525:AC$4531)=MAX(AC$3091:AC$4531),0,\nIF(Hydrograph_Source_EURV=\"USER\",IF(AA4525>0.03*U$4532,0,$C4525/60),\nIF(AA4525>0.03*AA$4532,0,$C4525/60))))","v":0},{"$f":"IF(SUM(AK$3091:AK4524)>0,0,\nIF(MAX(AC4525:AC$4531)=MAX(AC$3091:AC$4531),0,\nIF(Hydrograph_Source_EURV=\"USER\",IF(AA4525>0.01*U$4532,0,$C4525/60),\nIF(AA4525>0.01*AA$4532,0,$C4525/60))))","v":0},0,0,0,0,0,0,0,0,0,{"$error":"#N/A"},{"$error":"#N/A"},{"$error":"#N/A"},{"$error":"#N/A"},{"$error":"#N/A"},{"$error":"#N/A"},{"$f":"IF(SUM(BA$3091:BA4524)>0,0,IF(MAX(AT4525:AT$4531)=MAX(AT$3091:AT$4531),0,IF(AR4525>0.03*AL$4532,0,$C4525/60)))","v":0},{"$f":"IF(SUM(BB$3091:BB4524)>0,0,IF(MAX(AT4525:AT$4531)=MAX(AT$3091:AT$4531),0,IF(AR4525>0.01*AL$4532,0,$C4525/60)))","v":0},0,0,0,0,0,0,0,0,0,{"$error":"#N/A"},{"$error":"#N/A"},{"$error":"#N/A"},{"$error":"#N/A"},{"$error":"#N/A"},{"$error":"#N/A"},{"$f":"IF(SUM(BR$3091:BR4524)>0,0,IF(MAX(BK4525:BK$4531)=MAX(BK$3091:BK$4531),0,IF(BI4525>0.03*BC$4532,0,$C4525/60)))","v":0},{"$f":"IF(SUM(BS$3091:BS4524)>0,0,IF(MAX(BK4525:BK$4531)=MAX(BK$3091:BK$4531),0,IF(BI4525>0.01*BC$4532,0,$C4525/60)))","v":0},0,0,0,0,0,0,0,0,0,{"$error":"#N/A"},{"$error":"#N/A"},{"$error":"#N/A"},{"$error":"#N/A"},{"$error":"#N/A"},{"$error":"#N/A"},{"$f":"IF(SUM(CI$3091:CI4524)>0,0,IF(MAX(CB4525:CB$4531)=MAX(CB$3091:CB$4531),0,IF(BZ4525>0.03*BT$4532,0,$C4525/60)))","v":0},{"$f":"IF(SUM(CJ$3091:CJ4524)>0,0,IF(MAX(CB4525:CB$4531)=MAX(CB$3091:CB$4531),0,IF(BZ4525>0.01*BT$4532,0,$C4525/60)))","v":0},0,0,0,0,0,0,0,0,0,{"$error":"#N/A"},{"$error":"#N/A"},{"$error":"#N/A"},{"$error":"#N/A"},{"$error":"#N/A"},{"$error":"#N/A"},{"$f":"IF(SUM(CZ$3091:CZ4524)>0,0,IF(MAX(CS4525:CS$4531)=MAX(CS$3091:CS$4531),0,IF(CQ4525>0.03*CK$4532,0,$C4525/60)))","v":0},{"$f":"IF(SUM(DA$3091:DA4524)>0,0,IF(MAX(CS4525:CS$4531)=MAX(CS$3091:CS$4531),0,IF(CQ4525>0.01*CK$4532,0,$C4525/60)))","v":0},0,0,0,0,0,0,0,0,0,{"$error":"#N/A"},{"$error":"#N/A"},{"$error":"#N/A"},{"$error":"#N/A"},{"$error":"#N/A"},{"$error":"#N/A"},{"$f":"IF(SUM(DQ$3091:DQ4524)>0,0,IF(MAX(DJ4525:DJ$4531)=MAX(DJ$3091:DJ$4531),0,IF(DH4525>0.03*DB$4532,0,$C4525/60)))","v":0},{"$f":"IF(SUM(DR$3091:DR4524)>0,0,IF(MAX(DJ4525:DJ$4531)=MAX(DJ$3091:DJ$4531),0,IF(DH4525>0.01*DB$4532,0,$C4525/60)))","v":0},0,0,0,0,0,0,0,0,0,{"$error":"#N/A"},{"$error":"#N/A"},{"$error":"#N/A"},{"$error":"#N/A"},{"$error":"#N/A"},{"$error":"#N/A"},{"$f":"IF(SUM(EH$3091:EH4524)>0,0,IF(MAX(EA4525:EA$4531)=MAX(EA$3091:EA$4531),0,IF(DY4525>0.03*DS$4532,0,$C4525/60)))","v":0},{"$f":"IF(SUM(EI$3091:EI4524)>0,0,IF(MAX(EA4525:EA$4531)=MAX(EA$3091:EA$4531),0,IF(DY4525>0.01*DS$4532,0,$C4525/60)))","v":0},0,0,0,0,0,0,0,0,0,{"$error":"#N/A"},{"$error":"#N/A"},{"$error":"#N/A"},{"$error":"#N/A"},{"$error":"#N/A"},{"$error":"#N/A"},{"$f":"IF(SUM(EY$3091:EY4524)>0,0,IF(MAX(ER4525:ER$4531)=MAX(ER$3091:ER$4531),0,IF(EP4525>0.03*EJ$4532,0,$C4525/60)))","v":0},{"$f":"IF(SUM(EZ$3091:EZ4524)>0,0,IF(MAX(ER4525:ER$4531)=MAX(ER$3091:ER$4531),0,IF(EP4525>0.01*EJ$4532,0,$C4525/60)))","v":0}]
[null,119.58333333333333,7175,0,0,0,0,0,0,0,0,0,{"$error":"#N/A"},{"$error":"#N/A"},{"$error":"#N/A"},{"$error":"#N/A"},{"$error":"#N/A"},{"$error":"#N/A"},{"$f":"IF(SUM(S$3091:S4525)>0,0,\nIF(MAX(L4526:L$4531)=MAX(L$3091:L$4531),0,\nIF(Hydrograph_Source_WQCV=\"USER\",IF(J4526>0.03*D$4532,0,$C4526/60),\nIF(J4526>0.03*J$4532,0,$C4526/60))))","v":0},{"$f":"IF(SUM(T$3091:T4525)>0,0,\nIF(MAX(L4526:L$4531)=MAX(L$3091:L$4531),0,\nIF(Hydrograph_Source_WQCV=\"USER\",IF(J4526>0.01*D$4532,0,$C4526/60),\nIF(J4526>0.01*J$4532,0,$C4526/60))))","v":0},0,0,0,0,0,0,0,0,0,{"$error":"#N/A"},{"$error":"#N/A"},{"$error":"#N/A"},{"$error":"#N/A"},{"$error":"#N/A"},{"$error":"#N/A"},{"$f":"IF(SUM(AJ$3091:AJ4525)>0,0,\nIF(MAX(AC4526:AC$4531)=MAX(AC$3091:AC$4531),0,\nIF(Hydrograph_Source_EURV=\"USER\",IF(AA4526>0.03*U$4532,0,$C4526/60),\nIF(AA4526>0.03*AA$4532,0,$C4526/60))))","v":0},{"$f":"IF(SUM(AK$3091:AK4525)>0,0,\nIF(MAX(AC4526:AC$4531)=MAX(AC$3091:AC$4531),0,\nIF(Hydrograph_Source_EURV=\"USER\",IF(AA4526>0.01*U$4532,0,$C4526/60),\nIF(AA4526>0.01*AA$4532,0,$C4526/60))))","v":0},0,0,0,0,0,0,0,0,0,{"$error":"#N/A"},{"$error":"#N/A"},{"$error":"#N/A"},{"$error":"#N/A"},{"$error":"#N/A"},{"$error":"#N/A"},{"$f":"IF(SUM(BA$3091:BA4525)>0,0,IF(MAX(AT4526:AT$4531)=MAX(AT$3091:AT$4531),0,IF(AR4526>0.03*AL$4532,0,$C4526/60)))","v":0},{"$f":"IF(SUM(BB$3091:BB4525)>0,0,IF(MAX(AT4526:AT$4531)=MAX(AT$3091:AT$4531),0,IF(AR4526>0.01*AL$4532,0,$C4526/60)))","v":0},0,0,0,0,0,0,0,0,0,{"$error":"#N/A"},{"$error":"#N/A"},{"$error":"#N/A"},{"$error":"#N/A"},{"$error":"#N/A"},{"$error":"#N/A"},{"$f":"IF(SUM(BR$3091:BR4525)>0,0,IF(MAX(BK4526:BK$4531)=MAX(BK$3091:BK$4531),0,IF(BI4526>0.03*BC$4532,0,$C4526/60)))","v":0},{"$f":"IF(SUM(BS$3091:BS4525)>0,0,IF(MAX(BK4526:BK$4531)=MAX(BK$3091:BK$4531),0,IF(BI4526>0.01*BC$4532,0,$C4526/60)))","v":0},0,0,0,0,0,0,0,0,0,{"$error":"#N/A"},{"$error":"#N/A"},{"$error":"#N/A"},{"$error":"#N/A"},{"$error":"#N/A"},{"$error":"#N/A"},{"$f":"IF(SUM(CI$3091:CI4525)>0,0,IF(MAX(CB4526:CB$4531)=MAX(CB$3091:CB$4531),0,IF(BZ4526>0.03*BT$4532,0,$C4526/60)))","v":0},{"$f":"IF(SUM(CJ$3091:CJ4525)>0,0,IF(MAX(CB4526:CB$4531)=MAX(CB$3091:CB$4531),0,IF(BZ4526>0.01*BT$4532,0,$C4526/60)))","v":0},0,0,0,0,0,0,0,0,0,{"$error":"#N/A"},{"$error":"#N/A"},{"$error":"#N/A"},{"$error":"#N/A"},{"$error":"#N/A"},{"$error":"#N/A"},{"$f":"IF(SUM(CZ$3091:CZ4525)>0,0,IF(MAX(CS4526:CS$4531)=MAX(CS$3091:CS$4531),0,IF(CQ4526>0.03*CK$4532,0,$C4526/60)))","v":0},{"$f":"IF(SUM(DA$3091:DA4525)>0,0,IF(MAX(CS4526:CS$4531)=MAX(CS$3091:CS$4531),0,IF(CQ4526>0.01*CK$4532,0,$C4526/60)))","v":0},0,0,0,0,0,0,0,0,0,{"$error":"#N/A"},{"$error":"#N/A"},{"$error":"#N/A"},{"$error":"#N/A"},{"$error":"#N/A"},{"$error":"#N/A"},{"$f":"IF(SUM(DQ$3091:DQ4525)>0,0,IF(MAX(DJ4526:DJ$4531)=MAX(DJ$3091:DJ$4531),0,IF(DH4526>0.03*DB$4532,0,$C4526/60)))","v":0},{"$f":"IF(SUM(DR$3091:DR4525)>0,0,IF(MAX(DJ4526:DJ$4531)=MAX(DJ$3091:DJ$4531),0,IF(DH4526>0.01*DB$4532,0,$C4526/60)))","v":0},0,0,0,0,0,0,0,0,0,{"$error":"#N/A"},{"$error":"#N/A"},{"$error":"#N/A"},{"$error":"#N/A"},{"$error":"#N/A"},{"$error":"#N/A"},{"$f":"IF(SUM(EH$3091:EH4525)>0,0,IF(MAX(EA4526:EA$4531)=MAX(EA$3091:EA$4531),0,IF(DY4526>0.03*DS$4532,0,$C4526/60)))","v":0},{"$f":"IF(SUM(EI$3091:EI4525)>0,0,IF(MAX(EA4526:EA$4531)=MAX(EA$3091:EA$4531),0,IF(DY4526>0.01*DS$4532,0,$C4526/60)))","v":0},0,0,0,0,0,0,0,0,0,{"$error":"#N/A"},{"$error":"#N/A"},{"$error":"#N/A"},{"$error":"#N/A"},{"$error":"#N/A"},{"$error":"#N/A"},{"$f":"IF(SUM(EY$3091:EY4525)>0,0,IF(MAX(ER4526:ER$4531)=MAX(ER$3091:ER$4531),0,IF(EP4526>0.03*EJ$4532,0,$C4526/60)))","v":0},{"$f":"IF(SUM(EZ$3091:EZ4525)>0,0,IF(MAX(ER4526:ER$4531)=MAX(ER$3091:ER$4531),0,IF(EP4526>0.01*EJ$4532,0,$C4526/60)))","v":0}]
[null,119.66666666666667,7180,0,0,0,0,0,0,0,0,0,{"$error":"#N/A"},{"$error":"#N/A"},{"$error":"#N/A"},{"$error":"#N/A"},{"$error":"#N/A"},{"$error":"#N/A"},{"$f":"IF(SUM(S$3091:S4526)>0,0,\nIF(MAX(L4527:L$4531)=MAX(L$3091:L$4531),0,\nIF(Hydrograph_Source_WQCV=\"USER\",IF(J4527>0.03*D$4532,0,$C4527/60),\nIF(J4527>0.03*J$4532,0,$C4527/60))))","v":0},{"$f":"IF(SUM(T$3091:T4526)>0,0,\nIF(MAX(L4527:L$4531)=MAX(L$3091:L$4531),0,\nIF(Hydrograph_Source_WQCV=\"USER\",IF(J4527>0.01*D$4532,0,$C4527/60),\nIF(J4527>0.01*J$4532,0,$C4527/60))))","v":0},0,0,0,0,0,0,0,0,0,{"$error":"#N/A"},{"$error":"#N/A"},{"$error":"#N/A"},{"$error":"#N/A"},{"$error":"#N/A"},{"$error":"#N/A"},{"$f":"IF(SUM(AJ$3091:AJ4526)>0,0,\nIF(MAX(AC4527:AC$4531)=MAX(AC$3091:AC$4531),0,\nIF(Hydrograph_Source_EURV=\"USER\",IF(AA4527>0.03*U$4532,0,$C4527/60),\nIF(AA4527>0.03*AA$4532,0,$C4527/60))))","v":0},{"$f":"IF(SUM(AK$3091:AK4526)>0,0,\nIF(MAX(AC4527:AC$4531)=MAX(AC$3091:AC$4531),0,\nIF(Hydrograph_Source_EURV=\"USER\",IF(AA4527>0.01*U$4532,0,$C4527/60),\nIF(AA4527>0.01*AA$4532,0,$C4527/60))))","v":0},0,0,0,0,0,0,0,0,0,{"$error":"#N/A"},{"$error":"#N/A"},{"$error":"#N/A"},{"$error":"#N/A"},{"$error":"#N/A"},{"$error":"#N/A"},{"$f":"IF(SUM(BA$3091:BA4526)>0,0,IF(MAX(AT4527:AT$4531)=MAX(AT$3091:AT$4531),0,IF(AR4527>0.03*AL$4532,0,$C4527/60)))","v":0},{"$f":"IF(SUM(BB$3091:BB4526)>0,0,IF(MAX(AT4527:AT$4531)=MAX(AT$3091:AT$4531),0,IF(AR4527>0.01*AL$4532,0,$C4527/60)))","v":0},0,0,0,0,0,0,0,0,0,{"$error":"#N/A"},{"$error":"#N/A"},{"$error":"#N/A"},{"$error":"#N/A"},{"$error":"#N/A"},{"$error":"#N/A"},{"$f":"IF(SUM(BR$3091:BR4526)>0,0,IF(MAX(BK4527:BK$4531)=MAX(BK$3091:BK$4531),0,IF(BI4527>0.03*BC$4532,0,$C4527/60)))","v":0},{"$f":"IF(SUM(BS$3091:BS4526)>0,0,IF(MAX(BK4527:BK$4531)=MAX(BK$3091:BK$4531),0,IF(BI4527>0.01*BC$4532,0,$C4527/60)))","v":0},0,0,0,0,0,0,0,0,0,{"$error":"#N/A"},{"$error":"#N/A"},{"$error":"#N/A"},{"$error":"#N/A"},{"$error":"#N/A"},{"$error":"#N/A"},{"$f":"IF(SUM(CI$3091:CI4526)>0,0,IF(MAX(CB4527:CB$4531)=MAX(CB$3091:CB$4531),0,IF(BZ4527>0.03*BT$4532,0,$C4527/60)))","v":0},{"$f":"IF(SUM(CJ$3091:CJ4526)>0,0,IF(MAX(CB4527:CB$4531)=MAX(CB$3091:CB$4531),0,IF(BZ4527>0.01*BT$4532,0,$C4527/60)))","v":0},0,0,0,0,0,0,0,0,0,{"$error":"#N/A"},{"$error":"#N/A"},{"$error":"#N/A"},{"$error":"#N/A"},{"$error":"#N/A"},{"$error":"#N/A"},{"$f":"IF(SUM(CZ$3091:CZ4526)>0,0,IF(MAX(CS4527:CS$4531)=MAX(CS$3091:CS$4531),0,IF(CQ4527>0.03*CK$4532,0,$C4527/60)))","v":0},{"$f":"IF(SUM(DA$3091:DA4526)>0,0,IF(MAX(CS4527:CS$4531)=MAX(CS$3091:CS$4531),0,IF(CQ4527>0.01*CK$4532,0,$C4527/60)))","v":0},0,0,0,0,0,0,0,0,0,{"$error":"#N/A"},{"$error":"#N/A"},{"$error":"#N/A"},{"$error":"#N/A"},{"$error":"#N/A"},{"$error":"#N/A"},{"$f":"IF(SUM(DQ$3091:DQ4526)>0,0,IF(MAX(DJ4527:DJ$4531)=MAX(DJ$3091:DJ$4531),0,IF(DH4527>0.03*DB$4532,0,$C4527/60)))","v":0},{"$f":"IF(SUM(DR$3091:DR4526)>0,0,IF(MAX(DJ4527:DJ$4531)=MAX(DJ$3091:DJ$4531),0,IF(DH4527>0.01*DB$4532,0,$C4527/60)))","v":0},0,0,0,0,0,0,0,0,0,{"$error":"#N/A"},{"$error":"#N/A"},{"$error":"#N/A"},{"$error":"#N/A"},{"$error":"#N/A"},{"$error":"#N/A"},{"$f":"IF(SUM(EH$3091:EH4526)>0,0,IF(MAX(EA4527:EA$4531)=MAX(EA$3091:EA$4531),0,IF(DY4527>0.03*DS$4532,0,$C4527/60)))","v":0},{"$f":"IF(SUM(EI$3091:EI4526)>0,0,IF(MAX(EA4527:EA$4531)=MAX(EA$3091:EA$4531),0,IF(DY4527>0.01*DS$4532,0,$C4527/60)))","v":0},0,0,0,0,0,0,0,0,0,{"$error":"#N/A"},{"$error":"#N/A"},{"$error":"#N/A"},{"$error":"#N/A"},{"$error":"#N/A"},{"$error":"#N/A"},{"$f":"IF(SUM(EY$3091:EY4526)>0,0,IF(MAX(ER4527:ER$4531)=MAX(ER$3091:ER$4531),0,IF(EP4527>0.03*EJ$4532,0,$C4527/60)))","v":0},{"$f":"IF(SUM(EZ$3091:EZ4526)>0,0,IF(MAX(ER4527:ER$4531)=MAX(ER$3091:ER$4531),0,IF(EP4527>0.01*EJ$4532,0,$C4527/60)))","v":0}]
[null,119.75,7185,0,0,0,0,0,0,0,0,0,{"$error":"#N/A"},{"$error":"#N/A"},{"$error":"#N/A"},{"$error":"#N/A"},{"$error":"#N/A"},{"$error":"#N/A"},{"$f":"IF(SUM(S$3091:S4527)>0,0,\nIF(MAX(L4528:L$4531)=MAX(L$3091:L$4531),0,\nIF(Hydrograph_Source_WQCV=\"USER\",IF(J4528>0.03*D$4532,0,$C4528/60),\nIF(J4528>0.03*J$4532,0,$C4528/60))))","v":0},{"$f":"IF(SUM(T$3091:T4527)>0,0,\nIF(MAX(L4528:L$4531)=MAX(L$3091:L$4531),0,\nIF(Hydrograph_Source_WQCV=\"USER\",IF(J4528>0.01*D$4532,0,$C4528/60),\nIF(J4528>0.01*J$4532,0,$C4528/60))))","v":0},0,0,0,0,0,0,0,0,0,{"$error":"#N/A"},{"$error":"#N/A"},{"$error":"#N/A"},{"$error":"#N/A"},{"$error":"#N/A"},{"$error":"#N/A"},{"$f":"IF(SUM(AJ$3091:AJ4527)>0,0,\nIF(MAX(AC4528:AC$4531)=MAX(AC$3091:AC$4531),0,\nIF(Hydrograph_Source_EURV=\"USER\",IF(AA4528>0.03*U$4532,0,$C4528/60),\nIF(AA4528>0.03*AA$4532,0,$C4528/60))))","v":0},{"$f":"IF(SUM(AK$3091:AK4527)>0,0,\nIF(MAX(AC4528:AC$4531)=MAX(AC$3091:AC$4531),0,\nIF(Hydrograph_Source_EURV=\"USER\",IF(AA4528>0.01*U$4532,0,$C4528/60),\nIF(AA4528>0.01*AA$4532,0,$C4528/60))))","v":0},0,0,0,0,0,0,0,0,0,{"$error":"#N/A"},{"$error":"#N/A"},{"$error":"#N/A"},{"$error":"#N/A"},{"$error":"#N/A"},{"$error":"#N/A"},{"$f":"IF(SUM(BA$3091:BA4527)>0,0,IF(MAX(AT4528:AT$4531)=MAX(AT$3091:AT$4531),0,IF(AR4528>0.03*AL$4532,0,$C4528/60)))","v":0},{"$f":"IF(SUM(BB$3091:BB4527)>0,0,IF(MAX(AT4528:AT$4531)=MAX(AT$3091:AT$4531),0,IF(AR4528>0.01*AL$4532,0,$C4528/60)))","v":0},0,0,0,0,0,0,0,0,0,{"$error":"#N/A"},{"$error":"#N/A"},{"$error":"#N/A"},{"$error":"#N/A"},{"$error":"#N/A"},{"$error":"#N/A"},{"$f":"IF(SUM(BR$3091:BR4527)>0,0,IF(MAX(BK4528:BK$4531)=MAX(BK$3091:BK$4531),0,IF(BI4528>0.03*BC$4532,0,$C4528/60)))","v":0},{"$f":"IF(SUM(BS$3091:BS4527)>0,0,IF(MAX(BK4528:BK$4531)=MAX(BK$3091:BK$4531),0,IF(BI4528>0.01*BC$4532,0,$C4528/60)))","v":0},0,0,0,0,0,0,0,0,0,{"$error":"#N/A"},{"$error":"#N/A"},{"$error":"#N/A"},{"$error":"#N/A"},{"$error":"#N/A"},{"$error":"#N/A"},{"$f":"IF(SUM(CI$3091:CI4527)>0,0,IF(MAX(CB4528:CB$4531)=MAX(CB$3091:CB$4531),0,IF(BZ4528>0.03*BT$4532,0,$C4528/60)))","v":0},{"$f":"IF(SUM(CJ$3091:CJ4527)>0,0,IF(MAX(CB4528:CB$4531)=MAX(CB$3091:CB$4531),0,IF(BZ4528>0.01*BT$4532,0,$C4528/60)))","v":0},0,0,0,0,0,0,0,0,0,{"$error":"#N/A"},{"$error":"#N/A"},{"$error":"#N/A"},{"$error":"#N/A"},{"$error":"#N/A"},{"$error":"#N/A"},{"$f":"IF(SUM(CZ$3091:CZ4527)>0,0,IF(MAX(CS4528:CS$4531)=MAX(CS$3091:CS$4531),0,IF(CQ4528>0.03*CK$4532,0,$C4528/60)))","v":0},{"$f":"IF(SUM(DA$3091:DA4527)>0,0,IF(MAX(CS4528:CS$4531)=MAX(CS$3091:CS$4531),0,IF(CQ4528>0.01*CK$4532,0,$C4528/60)))","v":0},0,0,0,0,0,0,0,0,0,{"$error":"#N/A"},{"$error":"#N/A"},{"$error":"#N/A"},{"$error":"#N/A"},{"$error":"#N/A"},{"$error":"#N/A"},{"$f":"IF(SUM(DQ$3091:DQ4527)>0,0,IF(MAX(DJ4528:DJ$4531)=MAX(DJ$3091:DJ$4531),0,IF(DH4528>0.03*DB$4532,0,$C4528/60)))","v":0},{"$f":"IF(SUM(DR$3091:DR4527)>0,0,IF(MAX(DJ4528:DJ$4531)=MAX(DJ$3091:DJ$4531),0,IF(DH4528>0.01*DB$4532,0,$C4528/60)))","v":0},0,0,0,0,0,0,0,0,0,{"$error":"#N/A"},{"$error":"#N/A"},{"$error":"#N/A"},{"$error":"#N/A"},{"$error":"#N/A"},{"$error":"#N/A"},{"$f":"IF(SUM(EH$3091:EH4527)>0,0,IF(MAX(EA4528:EA$4531)=MAX(EA$3091:EA$4531),0,IF(DY4528>0.03*DS$4532,0,$C4528/60)))","v":0},{"$f":"IF(SUM(EI$3091:EI4527)>0,0,IF(MAX(EA4528:EA$4531)=MAX(EA$3091:EA$4531),0,IF(DY4528>0.01*DS$4532,0,$C4528/60)))","v":0},0,0,0,0,0,0,0,0,0,{"$error":"#N/A"},{"$error":"#N/A"},{"$error":"#N/A"},{"$error":"#N/A"},{"$error":"#N/A"},{"$error":"#N/A"},{"$f":"IF(SUM(EY$3091:EY4527)>0,0,IF(MAX(ER4528:ER$4531)=MAX(ER$3091:ER$4531),0,IF(EP4528>0.03*EJ$4532,0,$C4528/60)))","v":0},{"$f":"IF(SUM(EZ$3091:EZ4527)>0,0,IF(MAX(ER4528:ER$4531)=MAX(ER$3091:ER$4531),0,IF(EP4528>0.01*EJ$4532,0,$C4528/60)))","v":0}]
[null,119.83333333333333,7190,0,0,0,0,0,0,0,0,0,{"$error":"#N/A"},{"$error":"#N/A"},{"$error":"#N/A"},{"$error":"#N/A"},{"$error":"#N/A"},{"$error":"#N/A"},{"$f":"IF(SUM(S$3091:S4528)>0,0,\nIF(MAX(L4529:L$4531)=MAX(L$3091:L$4531),0,\nIF(Hydrograph_Source_WQCV=\"USER\",IF(J4529>0.03*D$4532,0,$C4529/60),\nIF(J4529>0.03*J$4532,0,$C4529/60))))","v":0},{"$f":"IF(SUM(T$3091:T4528)>0,0,\nIF(MAX(L4529:L$4531)=MAX(L$3091:L$4531),0,\nIF(Hydrograph_Source_WQCV=\"USER\",IF(J4529>0.01*D$4532,0,$C4529/60),\nIF(J4529>0.01*J$4532,0,$C4529/60))))","v":0},0,0,0,0,0,0,0,0,0,{"$error":"#N/A"},{"$error":"#N/A"},{"$error":"#N/A"},{"$error":"#N/A"},{"$error":"#N/A"},{"$error":"#N/A"},{"$f":"IF(SUM(AJ$3091:AJ4528)>0,0,\nIF(MAX(AC4529:AC$4531)=MAX(AC$3091:AC$4531),0,\nIF(Hydrograph_Source_EURV=\"USER\",IF(AA4529>0.03*U$4532,0,$C4529/60),\nIF(AA4529>0.03*AA$4532,0,$C4529/60))))","v":0},{"$f":"IF(SUM(AK$3091:AK4528)>0,0,\nIF(MAX(AC4529:AC$4531)=MAX(AC$3091:AC$4531),0,\nIF(Hydrograph_Source_EURV=\"USER\",IF(AA4529>0.01*U$4532,0,$C4529/60),\nIF(AA4529>0.01*AA$4532,0,$C4529/60))))","v":0},0,0,0,0,0,0,0,0,0,{"$error":"#N/A"},{"$error":"#N/A"},{"$error":"#N/A"},{"$error":"#N/A"},{"$error":"#N/A"},{"$error":"#N/A"},{"$f":"IF(SUM(BA$3091:BA4528)>0,0,IF(MAX(AT4529:AT$4531)=MAX(AT$3091:AT$4531),0,IF(AR4529>0.03*AL$4532,0,$C4529/60)))","v":0},{"$f":"IF(SUM(BB$3091:BB4528)>0,0,IF(MAX(AT4529:AT$4531)=MAX(AT$3091:AT$4531),0,IF(AR4529>0.01*AL$4532,0,$C4529/60)))","v":0},0,0,0,0,0,0,0,0,0,{"$error":"#N/A"},{"$error":"#N/A"},{"$error":"#N/A"},{"$error":"#N/A"},{"$error":"#N/A"},{"$error":"#N/A"},{"$f":"IF(SUM(BR$3091:BR4528)>0,0,IF(MAX(BK4529:BK$4531)=MAX(BK$3091:BK$4531),0,IF(BI4529>0.03*BC$4532,0,$C4529/60)))","v":0},{"$f":"IF(SUM(BS$3091:BS4528)>0,0,IF(MAX(BK4529:BK$4531)=MAX(BK$3091:BK$4531),0,IF(BI4529>0.01*BC$4532,0,$C4529/60)))","v":0},0,0,0,0,0,0,0,0,0,{"$error":"#N/A"},{"$error":"#N/A"},{"$error":"#N/A"},{"$error":"#N/A"},{"$error":"#N/A"},{"$error":"#N/A"},{"$f":"IF(SUM(CI$3091:CI4528)>0,0,IF(MAX(CB4529:CB$4531)=MAX(CB$3091:CB$4531),0,IF(BZ4529>0.03*BT$4532,0,$C4529/60)))","v":0},{"$f":"IF(SUM(CJ$3091:CJ4528)>0,0,IF(MAX(CB4529:CB$4531)=MAX(CB$3091:CB$4531),0,IF(BZ4529>0.01*BT$4532,0,$C4529/60)))","v":0},0,0,0,0,0,0,0,0,0,{"$error":"#N/A"},{"$error":"#N/A"},{"$error":"#N/A"},{"$error":"#N/A"},{"$error":"#N/A"},{"$error":"#N/A"},{"$f":"IF(SUM(CZ$3091:CZ4528)>0,0,IF(MAX(CS4529:CS$4531)=MAX(CS$3091:CS$4531),0,IF(CQ4529>0.03*CK$4532,0,$C4529/60)))","v":0},{"$f":"IF(SUM(DA$3091:DA4528)>0,0,IF(MAX(CS4529:CS$4531)=MAX(CS$3091:CS$4531),0,IF(CQ4529>0.01*CK$4532,0,$C4529/60)))","v":0},0,0,0,0,0,0,0,0,0,{"$error":"#N/A"},{"$error":"#N/A"},{"$error":"#N/A"},{"$error":"#N/A"},{"$error":"#N/A"},{"$error":"#N/A"},{"$f":"IF(SUM(DQ$3091:DQ4528)>0,0,IF(MAX(DJ4529:DJ$4531)=MAX(DJ$3091:DJ$4531),0,IF(DH4529>0.03*DB$4532,0,$C4529/60)))","v":0},{"$f":"IF(SUM(DR$3091:DR4528)>0,0,IF(MAX(DJ4529:DJ$4531)=MAX(DJ$3091:DJ$4531),0,IF(DH4529>0.01*DB$4532,0,$C4529/60)))","v":0},0,0,0,0,0,0,0,0,0,{"$error":"#N/A"},{"$error":"#N/A"},{"$error":"#N/A"},{"$error":"#N/A"},{"$error":"#N/A"},{"$error":"#N/A"},{"$f":"IF(SUM(EH$3091:EH4528)>0,0,IF(MAX(EA4529:EA$4531)=MAX(EA$3091:EA$4531),0,IF(DY4529>0.03*DS$4532,0,$C4529/60)))","v":0},{"$f":"IF(SUM(EI$3091:EI4528)>0,0,IF(MAX(EA4529:EA$4531)=MAX(EA$3091:EA$4531),0,IF(DY4529>0.01*DS$4532,0,$C4529/60)))","v":0},0,0,0,0,0,0,0,0,0,{"$error":"#N/A"},{"$error":"#N/A"},{"$error":"#N/A"},{"$error":"#N/A"},{"$error":"#N/A"},{"$error":"#N/A"},{"$f":"IF(SUM(EY$3091:EY4528)>0,0,IF(MAX(ER4529:ER$4531)=MAX(ER$3091:ER$4531),0,IF(EP4529>0.03*EJ$4532,0,$C4529/60)))","v":0},{"$f":"IF(SUM(EZ$3091:EZ4528)>0,0,IF(MAX(ER4529:ER$4531)=MAX(ER$3091:ER$4531),0,IF(EP4529>0.01*EJ$4532,0,$C4529/60)))","v":0}]
[null,119.91666666666667,7195,0,0,0,0,0,0,0,0,0,{"$error":"#N/A"},{"$error":"#N/A"},{"$error":"#N/A"},{"$error":"#N/A"},{"$error":"#N/A"},{"$error":"#N/A"},{"$f":"IF(SUM(S$3091:S4529)>0,0,\nIF(MAX(L4530:L$4531)=MAX(L$3091:L$4531),0,\nIF(Hydrograph_Source_WQCV=\"USER\",IF(J4530>0.03*D$4532,0,$C4530/60),\nIF(J4530>0.03*J$4532,0,$C4530/60))))","v":0},{"$f":"IF(SUM(T$3091:T4529)>0,0,\nIF(MAX(L4530:L$4531)=MAX(L$3091:L$4531),0,\nIF(Hydrograph_Source_WQCV=\"USER\",IF(J4530>0.01*D$4532,0,$C4530/60),\nIF(J4530>0.01*J$4532,0,$C4530/60))))","v":0},0,0,0,0,0,0,0,0,0,{"$error":"#N/A"},{"$error":"#N/A"},{"$error":"#N/A"},{"$error":"#N/A"},{"$error":"#N/A"},{"$error":"#N/A"},{"$f":"IF(SUM(AJ$3091:AJ4529)>0,0,\nIF(MAX(AC4530:AC$4531)=MAX(AC$3091:AC$4531),0,\nIF(Hydrograph_Source_EURV=\"USER\",IF(AA4530>0.03*U$4532,0,$C4530/60),\nIF(AA4530>0.03*AA$4532,0,$C4530/60))))","v":0},{"$f":"IF(SUM(AK$3091:AK4529)>0,0,\nIF(MAX(AC4530:AC$4531)=MAX(AC$3091:AC$4531),0,\nIF(Hydrograph_Source_EURV=\"USER\",IF(AA4530>0.01*U$4532,0,$C4530/60),\nIF(AA4530>0.01*AA$4532,0,$C4530/60))))","v":0},0,0,0,0,0,0,0,0,0,{"$error":"#N/A"},{"$error":"#N/A"},{"$error":"#N/A"},{"$error":"#N/A"},{"$error":"#N/A"},{"$error":"#N/A"},{"$f":"IF(SUM(BA$3091:BA4529)>0,0,IF(MAX(AT4530:AT$4531)=MAX(AT$3091:AT$4531),0,IF(AR4530>0.03*AL$4532,0,$C4530/60)))","v":0},{"$f":"IF(SUM(BB$3091:BB4529)>0,0,IF(MAX(AT4530:AT$4531)=MAX(AT$3091:AT$4531),0,IF(AR4530>0.01*AL$4532,0,$C4530/60)))","v":0},0,0,0,0,0,0,0,0,0,{"$error":"#N/A"},{"$error":"#N/A"},{"$error":"#N/A"},{"$error":"#N/A"},{"$error":"#N/A"},{"$error":"#N/A"},{"$f":"IF(SUM(BR$3091:BR4529)>0,0,IF(MAX(BK4530:BK$4531)=MAX(BK$3091:BK$4531),0,IF(BI4530>0.03*BC$4532,0,$C4530/60)))","v":0},{"$f":"IF(SUM(BS$3091:BS4529)>0,0,IF(MAX(BK4530:BK$4531)=MAX(BK$3091:BK$4531),0,IF(BI4530>0.01*BC$4532,0,$C4530/60)))","v":0},0,0,0,0,0,0,0,0,0,{"$error":"#N/A"},{"$error":"#N/A"},{"$error":"#N/A"},{"$error":"#N/A"},{"$error":"#N/A"},{"$error":"#N/A"},{"$f":"IF(SUM(CI$3091:CI4529)>0,0,IF(MAX(CB4530:CB$4531)=MAX(CB$3091:CB$4531),0,IF(BZ4530>0.03*BT$4532,0,$C4530/60)))","v":0},{"$f":"IF(SUM(CJ$3091:CJ4529)>0,0,IF(MAX(CB4530:CB$4531)=MAX(CB$3091:CB$4531),0,IF(BZ4530>0.01*BT$4532,0,$C4530/60)))","v":0},0,0,0,0,0,0,0,0,0,{"$error":"#N/A"},{"$error":"#N/A"},{"$error":"#N/A"},{"$error":"#N/A"},{"$error":"#N/A"},{"$error":"#N/A"},{"$f":"IF(SUM(CZ$3091:CZ4529)>0,0,IF(MAX(CS4530:CS$4531)=MAX(CS$3091:CS$4531),0,IF(CQ4530>0.03*CK$4532,0,$C4530/60)))","v":0},{"$f":"IF(SUM(DA$3091:DA4529)>0,0,IF(MAX(CS4530:CS$4531)=MAX(CS$3091:CS$4531),0,IF(CQ4530>0.01*CK$4532,0,$C4530/60)))","v":0},0,0,0,0,0,0,0,0,0,{"$error":"#N/A"},{"$error":"#N/A"},{"$error":"#N/A"},{"$error":"#N/A"},{"$error":"#N/A"},{"$error":"#N/A"},{"$f":"IF(SUM(DQ$3091:DQ4529)>0,0,IF(MAX(DJ4530:DJ$4531)=MAX(DJ$3091:DJ$4531),0,IF(DH4530>0.03*DB$4532,0,$C4530/60)))","v":0},{"$f":"IF(SUM(DR$3091:DR4529)>0,0,IF(MAX(DJ4530:DJ$4531)=MAX(DJ$3091:DJ$4531),0,IF(DH4530>0.01*DB$4532,0,$C4530/60)))","v":0},0,0,0,0,0,0,0,0,0,{"$error":"#N/A"},{"$error":"#N/A"},{"$error":"#N/A"},{"$error":"#N/A"},{"$error":"#N/A"},{"$error":"#N/A"},{"$f":"IF(SUM(EH$3091:EH4529)>0,0,IF(MAX(EA4530:EA$4531)=MAX(EA$3091:EA$4531),0,IF(DY4530>0.03*DS$4532,0,$C4530/60)))","v":0},{"$f":"IF(SUM(EI$3091:EI4529)>0,0,IF(MAX(EA4530:EA$4531)=MAX(EA$3091:EA$4531),0,IF(DY4530>0.01*DS$4532,0,$C4530/60)))","v":0},0,0,0,0,0,0,0,0,0,{"$error":"#N/A"},{"$error":"#N/A"},{"$error":"#N/A"},{"$error":"#N/A"},{"$error":"#N/A"},{"$error":"#N/A"},{"$f":"IF(SUM(EY$3091:EY4529)>0,0,IF(MAX(ER4530:ER$4531)=MAX(ER$3091:ER$4531),0,IF(EP4530>0.03*EJ$4532,0,$C4530/60)))","v":0},{"$f":"IF(SUM(EZ$3091:EZ4529)>0,0,IF(MAX(ER4530:ER$4531)=MAX(ER$3091:ER$4531),0,IF(EP4530>0.01*EJ$4532,0,$C4530/60)))","v":0}]
[null,120,7200,0,0,0,0,0,0,0,0,0,{"$error":"#N/A"},{"$error":"#N/A"},{"$error":"#N/A"},{"$error":"#N/A"},{"$error":"#N/A"},{"$error":"#N/A"},{"$f":"IF(SUM(S$3091:S4530)>0,0,\nIF(MAX(L4531:L$4531)=MAX(L$3091:L$4531),0,\nIF(Hydrograph_Source_WQCV=\"USER\",IF(J4531>0.03*D$4532,0,$C4531/60),\nIF(J4531>0.03*J$4532,0,$C4531/60))))","v":0},{"$f":"IF(SUM(T$3091:T4530)>0,0,\nIF(MAX(L4531:L$4531)=MAX(L$3091:L$4531),0,\nIF(Hydrograph_Source_WQCV=\"USER\",IF(J4531>0.01*D$4532,0,$C4531/60),\nIF(J4531>0.01*J$4532,0,$C4531/60))))","v":0},0,0,0,0,0,0,0,0,0,{"$error":"#N/A"},{"$error":"#N/A"},{"$error":"#N/A"},{"$error":"#N/A"},{"$error":"#N/A"},{"$error":"#N/A"},{"$f":"IF(SUM(AJ$3091:AJ4530)>0,0,\nIF(MAX(AC4531:AC$4531)=MAX(AC$3091:AC$4531),0,\nIF(Hydrograph_Source_EURV=\"USER\",IF(AA4531>0.03*U$4532,0,$C4531/60),\nIF(AA4531>0.03*AA$4532,0,$C4531/60))))","v":0},{"$f":"IF(SUM(AK$3091:AK4530)>0,0,\nIF(MAX(AC4531:AC$4531)=MAX(AC$3091:AC$4531),0,\nIF(Hydrograph_Source_EURV=\"USER\",IF(AA4531>0.01*U$4532,0,$C4531/60),\nIF(AA4531>0.01*AA$4532,0,$C4531/60))))","v":0},0,0,0,0,0,0,0,0,0,{"$error":"#N/A"},{"$error":"#N/A"},{"$error":"#N/A"},{"$error":"#N/A"},{"$error":"#N/A"},{"$error":"#N/A"},{"$f":"IF(SUM(BA$3091:BA4530)>0,0,IF(MAX(AT4531:AT$4531)=MAX(AT$3091:AT$4531),0,IF(AR4531>0.03*AL$4532,0,$C4531/60)))","v":0},{"$f":"IF(SUM(BB$3091:BB4530)>0,0,IF(MAX(AT4531:AT$4531)=MAX(AT$3091:AT$4531),0,IF(AR4531>0.01*AL$4532,0,$C4531/60)))","v":0},0,0,0,0,0,0,0,0,0,{"$error":"#N/A"},{"$error":"#N/A"},{"$error":"#N/A"},{"$error":"#N/A"},{"$error":"#N/A"},{"$error":"#N/A"},{"$f":"IF(SUM(BR$3091:BR4530)>0,0,IF(MAX(BK4531:BK$4531)=MAX(BK$3091:BK$4531),0,IF(BI4531>0.03*BC$4532,0,$C4531/60)))","v":0},{"$f":"IF(SUM(BS$3091:BS4530)>0,0,IF(MAX(BK4531:BK$4531)=MAX(BK$3091:BK$4531),0,IF(BI4531>0.01*BC$4532,0,$C4531/60)))","v":0},0,0,0,0,0,0,0,0,0,{"$error":"#N/A"},{"$error":"#N/A"},{"$error":"#N/A"},{"$error":"#N/A"},{"$error":"#N/A"},{"$error":"#N/A"},{"$f":"IF(SUM(CI$3091:CI4530)>0,0,IF(MAX(CB4531:CB$4531)=MAX(CB$3091:CB$4531),0,IF(BZ4531>0.03*BT$4532,0,$C4531/60)))","v":0},{"$f":"IF(SUM(CJ$3091:CJ4530)>0,0,IF(MAX(CB4531:CB$4531)=MAX(CB$3091:CB$4531),0,IF(BZ4531>0.01*BT$4532,0,$C4531/60)))","v":0},0,0,0,0,0,0,0,0,0,{"$error":"#N/A"},{"$error":"#N/A"},{"$error":"#N/A"},{"$error":"#N/A"},{"$error":"#N/A"},{"$error":"#N/A"},{"$f":"IF(SUM(CZ$3091:CZ4530)>0,0,IF(MAX(CS4531:CS$4531)=MAX(CS$3091:CS$4531),0,IF(CQ4531>0.03*CK$4532,0,$C4531/60)))","v":0},{"$f":"IF(SUM(DA$3091:DA4530)>0,0,IF(MAX(CS4531:CS$4531)=MAX(CS$3091:CS$4531),0,IF(CQ4531>0.01*CK$4532,0,$C4531/60)))","v":0},0,0,0,0,0,0,0,0,0,{"$error":"#N/A"},{"$error":"#N/A"},{"$error":"#N/A"},{"$error":"#N/A"},{"$error":"#N/A"},{"$error":"#N/A"},{"$f":"IF(SUM(DQ$3091:DQ4530)>0,0,IF(MAX(DJ4531:DJ$4531)=MAX(DJ$3091:DJ$4531),0,IF(DH4531>0.03*DB$4532,0,$C4531/60)))","v":0},{"$f":"IF(SUM(DR$3091:DR4530)>0,0,IF(MAX(DJ4531:DJ$4531)=MAX(DJ$3091:DJ$4531),0,IF(DH4531>0.01*DB$4532,0,$C4531/60)))","v":0},0,0,0,0,0,0,0,0,0,{"$error":"#N/A"},{"$error":"#N/A"},{"$error":"#N/A"},{"$error":"#N/A"},{"$error":"#N/A"},{"$error":"#N/A"},{"$f":"IF(SUM(EH$3091:EH4530)>0,0,IF(MAX(EA4531:EA$4531)=MAX(EA$3091:EA$4531),0,IF(DY4531>0.03*DS$4532,0,$C4531/60)))","v":0},{"$f":"IF(SUM(EI$3091:EI4530)>0,0,IF(MAX(EA4531:EA$4531)=MAX(EA$3091:EA$4531),0,IF(DY4531>0.01*DS$4532,0,$C4531/60)))","v":0},0,0,0,0,0,0,0,0,0,{"$error":"#N/A"},{"$error":"#N/A"},{"$error":"#N/A"},{"$error":"#N/A"},{"$error":"#N/A"},{"$error":"#N/A"},{"$f":"IF(SUM(EY$3091:EY4530)>0,0,IF(MAX(ER4531:ER$4531)=MAX(ER$3091:ER$4531),0,IF(EP4531>0.03*EJ$4532,0,$C4531/60)))","v":0},{"$f":"IF(SUM(EZ$3091:EZ4530)>0,0,IF(MAX(ER4531:ER$4531)=MAX(ER$3091:ER$4531),0,IF(EP4531>0.01*EJ$4532,0,$C4531/60)))","v":0}]
[null,null,null,{"$f":"SUM(D3091:D4531)*($C$3089*60)/43560","v":0},null,"Maximum Values:",{"$f":"MAX(G3091:G4036)","v":0},null,{"$f":"MAX(I3091:I4036)","v":0},{"$f":"MAX(J3091:J4036)","v":0},null,{"$f":"MAX(L3091:L4531)","v":0},null,null,null,null,null,null,null,null,{"$f":"SUM(U3091:U4531)*($C$3089*60)/43560","v":0},null,"Maximum Values:",{"$f":"MAX(X3091:X4036)","v":0},null,{"$f":"MAX(Z3091:Z4036)","v":0},{"$f":"MAX(AA3091:AA4036)","v":0},null,{"$f":"MAX(AC3091:AC4531)","v":0},null,null,null,null,null,null,null,null,{"$f":"SUM(AL3091:AL4531)*($C$3089*60)/43560","v":0},null,"Maximum Values:",{"$f":"MAX(AO3091:AO4036)","v":0},null,{"$f":"MAX(AQ3091:AQ4036)","v":0},{"$f":"MAX(AR3091:AR4036)","v":0},null,{"$f":"MAX(AT3091:AT4531)","v":0},null,null,null,null,null,null,null,null,{"$f":"SUM(BC3091:BC4531)*($C$3089*60)/43560","v":0},null,"Maximum Values:",{"$f":"MAX(BF3091:BF4036)","v":0},null,{"$f":"MAX(BH3091:BH4036)","v":0},{"$f":"MAX(BI3091:BI4036)","v":0},null,{"$f":"MAX(BK3091:BK4531)","v":0},null,null,null,null,null,null,null,null,{"$f":"SUM(BT3091:BT4531)*($C$3089*60)/43560","v":0},null,"Maximum Values:",{"$f":"MAX(BW3091:BW4036)","v":0},null,{"$f":"MAX(BY3091:BY4036)","v":0},{"$f":"MAX(BZ3091:BZ4036)","v":0},null,{"$f":"MAX(CB3091:CB4531)","v":0},null,null,null,null,null,null,null,null,{"$f":"SUM(CK3091:CK4531)*($C$3089*60)/43560","v":0},null,"Maximum Values:",{"$f":"MAX(CN3091:CN4036)","v":0},null,{"$f":"MAX(CP3091:CP4036)","v":0},{"$f":"MAX(CQ3091:CQ4036)","v":0},null,{"$f":"MAX(CS3091:CS4531)","v":0},null,null,null,null,null,null,null,null,{"$f":"SUM(DB3091:DB4531)*($C$3089*60)/43560","v":0},null,"Maximum Values:",{"$f":"MAX(DE3091:DE4036)","v":0},null,{"$f":"MAX(DG3091:DG4036)","v":0},{"$f":"MAX(DH3091:DH4036)","v":0},null,{"$f":"MAX(DJ3091:DJ4531)","v":0},null,null,null,null,null,null,null,null,{"$f":"SUM(DS3091:DS4531)*($C$3089*60)/43560","v":0},null,"Maximum Values:",{"$f":"MAX(DV3091:DV4036)","v":0},null,{"$f":"MAX(DX3091:DX4036)","v":0},{"$f":"MAX(DY3091:DY4036)","v":0},null,{"$f":"MAX(EA3091:EA4531)","v":0},null,null,null,null,null,null,null,null,{"$f":"SUM(EJ3091:EJ4531)*($C$3089*60)/43560","v":0},null,"Maximum Values:",{"$f":"MAX(EM3091:EM4036)","v":0},null,{"$f":"MAX(EO3091:EO4036)","v":0},{"$f":"MAX(EP3091:EP4036)","v":0},null,{"$f":"MAX(ER3091:ER4531)","v":0}]
[]
[]
["TIME [min]","WQCV [cfs]","EURV [cfs]","2 Year [cfs]","5 Year [cfs]","10 Year [cfs]","25 Year [cfs]","50 Year [cfs]","100 Year [cfs]","500 Year [cfs]"]
[0,{"$f":"IF(CalcCopy_WQCV=\"\",\"\",0)","v":""},{"$f":"IF(CalcCopy_EURV=\"\",\"\",0)","v":""},{"$f":"IF(CalcCopy_2yr_Vol=\"\",\"\",0)","v":""},{"$f":"IF(CalcCopy_5yr_Vol=\"\",\"\",0)","v":""},{"$f":"IF(CalcCopy_10yr_Vol=\"\",\"\",0)","v":""},{"$f":"IF(CalcCopy_25yr_Vol=\"\",\"\",0)","v":""},{"$f":"IF(CalcCopy_50yr_Vol=\"\",\"\",0)","v":""},{"$f":"IF(CalcCopy_100yr_Vol=\"\",\"\",0)","v":""},{"$f":"IF(CalcCopy_500yr_Vol=\"\",\"\",0)","v":""}]
[5,"",""]
[10,"",""]
[15,"",""]
[20,"",""]
[25,"",""]
[30,"",""]
[35,"",""]
[40,"",""]
[45,"",""]
[50,"",""]
[55,"",""]
[60,"",""]
[65,"",""]
[70,"",""]
[75,"",""]
[80,"",""]
[85,"",""]
[90,"",""]
[95,"",""]
[100,"",""]
[105,"",""]
[110,"",""]
[115,"",""]
[120,"",""]
[125,"",""]
[130,"",""]
[135,"",""]
[140,"",""]
[145,"",""]
[150,"",""]
[155,"",""]
[160,{"$f":"IF(CalcCopy_WQCV=\"\",\"\",0)","v":""},{"$f":"IF(CalcCopy_EURV=\"\",\"\",0)","v":""}]
[165,"",""]
[170,"",""]
[175,"",""]
[180,"",""]
[185,"",""]
[190,"",""]
[195,"",""]
[200,"",""]
[205,"",""]
[210,"",""]
[215,"",""]
[220,"",""]
[225,"",""]
[230,"",""]
[235,"",""]
[240,"",""]
[245,"",""]
[250,"",""]
[255,"",""]
[260,"",""]
[265,"",""]
[270,"",""]
[275,"",""]
[280,"",""]
[285,"",""]
[290,"",""]
[295,"",""]
[300,"",""]
[305,"",""]
[310,"",""]
[315,"",""]
[320,{"$f":"IF(CalcCopy_WQCV=\"\",\"\",0)","v":""},{"$f":"IF(CalcCopy_EURV=\"\",\"\",0)","v":""}]
[325,"",""]
[330,"",""]
[335,"",""]
[340,"",""]
[345,"",""]
[350,"",""]
[355,"",""]
[360,"",""]
[null,{"$f":"SUM(B4536:B4608)*300/43560","v":0},{"$f":"SUM(C4536:C4608)*300/43560","v":0},0,0,0,0,0,0,0]

{"sheet":"Reference","index":3,"n_rows":114,"n_cols":47,"rows_kept":114,"cut":false,"hidden":false,"merged":[[122,1,122,2],[2,10,2,23],[97,1,101,7],[65,1,68,7],[78,1,86,7],[121,1,121,2],[121,3,121,5],[104,19,105,19],[102,18,103,19],[107,1,109,7],[103,13,105,13],[103,14,104,15],[103,16,105,16],[104,18,105,18],[102,13,102,16],[0,0,0,24],[1,0,1,24],[2,1,2,7],[3,1,20,7],[58,1,58,7],[27,1,32,9],[23,1,26,9],[52,1,56,9]]}
["REFERENCE FIGURES AND EQUATIONS",null,null,null,null,null,null,null,null,null,null,null,null,null,null,null,null,null,null,null,null,null,null,null,null,null,null,null,null,null,null,null,null,null,null,null,null,null,null,null,null,null,null,null,null,null,"Worksheet Protected"]
[]
[null,"Circular Pipe with Restrictor Plate",null,null,null,null,null,null,null,null,"WQ Elliptical Slot Weir (Alternative to WQ Orifice Plate for Large Watersheds)"]
[]
[]
[]
[]
[]
[]
[]
[]
[]
[]
[]
[]
[]
[]
[]
[]
[]
[]
[]
[null,"WQCV and EURV Equations"]
[]
[]
[]
[]
[null,"Where WQCV is the water quality capture volume (acre-ft), EURV is the excess urban runoff volume (acre-ft), a is a coefficient corresponding to WQCV drain time (1.0 for 40 hours, 0.9 for 24 hours, and 0.8 for 12 hours), A is the contributing watershed area (acres), I is the percentage imperviousness (expressed as a decimal), A%, B%, and CD% are the percent of each hydraulic soil group (expressed as a decimal)."]
[]
[]
[]
[]
[]
[]
[null,"Approximate Storage Volume Equations"]
[]
[]
[]
[]
[]
[]
[]
[]
[]
[]
[]
[]
[]
[]
[]
[]
[]
[null,"Where VSTORAGE_yr is the estimated storage volume for the given return period (acre-ft), P1 is the one-hour rainfall depth (in), A is the contributing watershed area (acres), I is the percentage imperviousness (expressed as a decimal), A%, B%, and CD% are the percent of each hydraulic soil group (expressed as a decimal)."]
[]
[]
[]
[]
[]
[null,"Basin Volume Calculations"]
[null,"Initial Surcharge Volume:"]
[]
[]
[]
[]
[]
[null,"Where ISV is the initial surcharge volume (ft3), AISV is ISV surface area (ft2), ISD is the initial surcharge depth (ft, typically 0.33 to 0.50), and LISV and WISV are the length and width of the ISV (ft)."]
[]
[]
[]
[]
[null,"Basin Floor Volume:"]
[]
[]
[]
[]
[]
[]
[]
[null,"Where Lfloor and Wfloor (ft) are the length and width of the basin floor section at the point where the top of the basin floor section meets the toe of the basin main section, Hfloor is the depth of the basin floor section (ft), STC is the trickle channel slope (ft/ft), Smain is the side slope of the basin main section (H:V; e.g., 4 if the horizontal:vertical ratio is 4:1), RL:W is the basin length:width ratio (e.g., 2 if the basin length is twice the basin width), Afloor is top area of the basin floor section (ft2), and Vfloor is volume of the basin floor section (ft3)."]
[]
[]
[]
[]
[]
[]
[]
[]
[]
[null,"Main Basin Volume:"]
[]
[]
[]
[]
[]
[]
[]
[]
[null,"Where Lmain and Wmain (ft) are the length and width of the main basin section at the point at the top of the basin, Hmain is the depth of the main basin section (ft), Amain is top area of the main basin section (ft2), and Vmain is volume of the main basin section (ft3)."]
[]
[]
[]
[]
[null,null,null,null,null,null,null,null,null,null,null,null,null,"Default Horton's Equation Parameters",null,null,null,null,"Default\nDepression Storage"]
[null,"Total Basin Volume:",null,null,null,null,null,null,null,null,null,null,null,"NRCS Hydrologic Group","Infiltration\n(inches per hour)",null,"Decay Coefficient (1/sec)"]
[null,null,null,null,null,null,null,null,null,null,null,null,null,null,null,null,null,null,"Impervious (in)","Pervious (in)"]
[null,null,null,null,null,null,null,null,null,null,null,null,null,null,"Initial - fi","Final - fo"]
[null,null,null,null,null,null,null,null,null,null,null,null,null,"A",5,1,6.9999999999999999E-4,null,0.1,0.35]
[null,"Where V­total is the volume of the total basin (ft3) and DTC is the depth of the trickle channel (ft).",null,null,null,null,null,null,null,null,null,null,null,"B",4.5,0.6,1.8E-3]
[null,null,null,null,null,null,null,null,null,null,null,null,null,"C/D",3,0.5,1.8E-3]
[]
[]
[]
[null,null,null,"Close Mesh Grate",null,null,null,"CDOT Type C Grate",null,null,null,"No Grate"]
[null,null,null,null,null,null,null,"(Bar Grate)",null,null,null,"(Open Grate)"]

{"sheet":"Program Data","index":4,"n_rows":261,"n_cols":47,"rows_kept":261,"cut":false,"hidden":true,"merged":[[1,6,1,12],[150,4,150,6],[150,7,150,9],[140,4,140,6],[140,7,140,9]]}
["This is a hidden worksheet.  If you're viewing this, the workbook you're using may be compromised and you should download the most recent version of MHFD-Detention at www.mhfd.org",null,null,null,null,null,null,null,null,null,null,null,null,null,null,null,null,null,null,null,null,null,null,null,null,null,null,null,null,null,null,null,null,null,null,null,null,null,null,null,null,null,null,null,null,null,"Worksheet Protected"]
[null,"Selection","Location","Address","Longitude","Latitude","Rainfall Depth-Duration-Frequency (inches)"]
[null,null,null,null,null,null,"2-year, 1-hour","5-year, 1-hour","10-year, 1-hour","25-year, 1-hour","50-year, 1-hour","100-year, 1-hour","500-year, 1-hour"]
[null,1,"Arvada - City Hall","8101 Ralston Road, Arvada, CO",39.8033,-105.0874,0.78200000000000003,1.05,1.3,1.66,1.95,2.27,3.08]
[null,2,"Aurora  - Municipal Center","15151 E. Alameda Pkwy, Aurora, CO",39.710700000000003,-104.8124,0.86499999999999999,1.1399999999999999,1.39,1.76,2.08,2.42,3.3]
[null,3,"Aurora Reservoir","5800 South Powhaton Rd, Aurora, CO",39.611699999999999,-104.6707,0.84299999999999997,1.1299999999999999,1.39,1.77,2.08,2.42,3.3]
[null,4,"Boulder - University of Colorado","2005 Baker Drive, Bouder, CO",40.006100000000004,-105.2675,0.77400000000000002,1.04,1.29,1.69,2.04,2.4300000000000002,3.48]
[null,5,"Bow Mar","4800 Bow Mar Drive, Bow Mar, CO",39.6295,-105.05329999999999,0.80100000000000005,1.07,1.3,1.65,1.94,2.23,3]
[null,6,"Brighton - City Hall","500 S. 4th Ave., Brighton, CO",39.978499999999997,-104.81740000000001,0.83199999999999996,1.1100000000000001,1.38,1.8,2.17,2.58,3.68]
[null,7,"Broomfield - City and County Building","1 Descombes Drive, Broomfield, CO",39.919499999999999,-105.0672,0.81699999999999995,1.1000000000000001,1.37,1.78,2.12,2.5,3.51]
[null,8,"Castle Pines - City Office","360 Village Square Lane, Castle Pines, CO",39.470500000000001,-104.8788,0.84399999999999997,1.1200000000000001,1.36,1.72,2.0099999999999998,2.31,3.07]
[null,9,"Centennial - Municipal Court","13133 E. Arapahoe Road, Centennial, CO",39.595799999999997,-104.8361,0.85199999999999998,1.1100000000000001,1.35,1.7,2,2.3199999999999998,3.15]
[null,10,"Cherry Hills Village - City Hall","2450 E. Quincy Ave., Cherry Hills Village, CO",39.6374,-104.958,0.83,1.0900000000000001,1.33,1.68,1.97,2.2799999999999998,3.08]
[null,11,"Columbine Valley - Town Hall","2 Middlefield Road, Columbine Valley, CO",39.605899999999998,-105.035,0.80500000000000005,1.07,1.31,1.65,1.94,2.2400000000000002,3]
[null,12,"Commerce City - Civic Center","7887 E. 60th Ave. , Commerce City, CO",39.807000000000002,-104.8976,0.84099999999999997,1.1200000000000001,1.37,1.75,2.08,2.4300000000000002,3.35]
[null,13,"Denver - Capitol Building","200 E. Colfax Ave., Denver, CO",39.739899999999999,-104.9846,0.82499999999999996,1.0900000000000001,1.33,1.69,1.99,2.31,3.14]
[null,14,"D.I.A.","8500 Pena Blvd., Denver, CO",39.838799999999999,-104.6718,0.84699999999999998,1.1299999999999999,1.39,1.8,2.15,2.5299999999999998,3.55]
[null,15,"Edgewater - City Office","2401 Sheridan Blvd., Edgewater, CO",39.751399999999997,-105.0538,0.78400000000000003,1.05,1.28,1.62,1.91,2.21,2.98]
[null,16,"Eldorado Springs","294 Artesian Drive, Eldorado Springs, CO",39.932499999999997,-105.2801,0.84399999999999997,1.1299999999999999,1.39,1.79,2.14,2.5099999999999998,3.52]
[null,17,"Englewood - Civic Center","1000 Englewood Parkway, Englewood, CO",39.654699999999998,-104.9992,0.81499999999999995,1.07,1.31,1.65,1.94,2.25,3.04]
[null,18,"Erie","645 Holbrook Street, Erie, CO",40.050699999999999,-105.0498,0.81200000000000006,1.1100000000000001,1.39,1.84,2.2400000000000002,2.68,3.89]
[null,19,"Federal Heights","2380 W. 90th Ave., Federal Heights, CO",39.859400000000001,-105.0155,0.82399999999999995,1.1100000000000001,1.37,1.76,2.08,2.44,3.36]
[null,20,"Foxfield - Town Office","18896 E Powers Dr, Aurora, CO ",39.615400000000001,-104.71,0.85299999999999998,1.1399999999999999,1.39,1.77,2.09,2.4300000000000002,3.3]
[null,21,"Front Range Airport","5200 Front Range Pkwy, Watkins, CO",39.790599999999998,-104.5508,0.85399999999999998,1.1399999999999999,1.41,1.82,2.17,2.5499999999999998,3.58]
[null,22,"Glendale - Utility Building","950 S Birch St, Glendale, CO ",39.699199999999998,-104.9358,0.83899999999999997,1.1000000000000001,1.34,1.7,2,2.3199999999999998,3.16]
[null,23,"Golden - School of Mines","1221 West Campus Road, Golden, CO",39.750900000000001,-105.224,0.751,1.03,1.26,1.61,1.89,2.19,2.93]
[null,24,"Greenwood Village - Greenwood Village City Hall","6060 S. Quebec St., Greenwood Village, CO",39.606299999999997,-104.9029,0.85299999999999998,1.1200000000000001,1.35,1.71,2.0099999999999998,2.33,3.15]
[null,25,"Highlands Ranch - Highlands Ranch Mansion","9950 E Gateway Dr, Highlands Ranch, CO ",39.536099999999998,-104.97110000000001,0.81799999999999995,1.0900000000000001,1.32,1.67,1.95,2.25,3.01]
[null,26,"Lafayette - City Hall","1290 S. Public Road, Lafayette, CO",39.987400000000001,-105.08969999999999,0.81,1.1000000000000001,1.37,1.8,2.17,2.58,3.69]
[null,27,"Lakeside / Mountain View - Amusement Park","4601 Sheridan Blvd, Lakeside, CO ",39.778199999999998,-105.0536,0.78700000000000003,1.05,1.29,1.64,1.93,2.2400000000000002,3.04]
[null,28,"Lakewood - Lakewood Cultural Center","470 S Allison Pkwy, Lakewood, CO ",39.708100000000002,-105.0855,0.78500000000000003,1.06,1.3,1.64,1.93,2.23,2.99]
[null,29,"Leyden","16400 W. 82nd Ave., Arvada CO",39.844700000000003,-105.1842,0.77200000000000002,1.04,1.29,1.66,1.97,2.29,3.15]
[null,30,"Littleton - City Hall","2255 W Berry Ave, Littleton, CO",39.618000000000002,-105.0137,0.81,1.08,1.31,1.66,1.94,2.2400000000000002,3.01]
[null,31,"Littleton - Chatfield High School","7227 South Simms Street, Littleton, CO",39.586799999999997,-105.1319,0.77,1.04,1.28,1.62,1.89,2.1800000000000002,2.91]
[null,32,"Lone Tree - Municipal Court","9220 Kimmer Dr., Lone Tree, CO",39.552199999999999,-104.881,0.83499999999999996,1.1000000000000001,1.33,1.68,1.97,2.2799999999999998,3.07]
[null,33,"Louisville - City Hall","749 Main St, Louisville, CO ",39.977400000000003,-105.13249999999999,0.80300000000000005,1.0900000000000001,1.35,1.78,2.14,2.54,3.63]
[null,34,"Morrison - Red Rocks Ampitheatre","18300 W Alameda Pkwy, Morrison, CO ",39.666600000000003,-105.2079,0.76,1.04,1.29,1.64,1.93,2.2200000000000002,2.96]
[null,35,"Northglenn - City Hall","11701 Community Center Dr, Northglenn, CO ",39.910200000000003,-104.98869999999999,0.82799999999999996,1.1200000000000001,1.38,1.79,2.13,2.5099999999999998,3.5]
[null,36,"Parker - Town Hall","20120 Mainstreet, Parker, CO ",39.517600000000002,-104.7547,0.82199999999999995,1.1000000000000001,1.34,1.69,1.98,2.29,3.08]
[null,37,"Parker - The Pinery Country Club","6900 N Pinery Pkwy, Parker, CO",39.456499999999998,-104.7585,0.83199999999999996,1.1100000000000001,1.36,1.72,2.0099999999999998,2.3199999999999998,3.1]
[null,38,"Roxborough Park - Middle School","6222 Roxborough Park Rd, Littleton, CO ",39.468400000000003,-105.0714,0.81699999999999995,1.1000000000000001,1.34,1.7,1.98,2.27,3]
[null,39,"Sedalia","3992 Platte Avenue, Sedalia, CO",39.437899999999999,-104.9619,0.82599999999999996,1.1100000000000001,1.36,1.71,2,2.29,3.03]
[null,40,"Sheridan - City Hall","4101 S Federal Blvd, Sheridan, CO ",39.641800000000003,-105.02670000000001,0.80800000000000005,1.07,1.31,1.65,1.94,2.2400000000000002,3.02]
[null,41,"Stapleton - Old Airport Tower","8195 M.L.K. Jr Blvd, Denver, CO",39.760399999999997,-104.89279999999999,0.84399999999999997,1.1200000000000001,1.36,1.74,2.0499999999999998,2.39,3.28]
[null,42,"Superior - Town Hall","124 E Coal Creek Dr, Superior, CO ",39.953499999999998,-105.1662,0.79800000000000004,1.08,1.34,1.75,2.1,2.4900000000000002,3.53]
[null,43,"Thornton - Civic Center","9500 Civic Center Dr, Thornton, CO ",39.870199999999997,-104.9842,0.83,1.1100000000000001,1.37,1.77,2.1,2.46,3.4]
[null,44,"Westminster - City Hall","4800 W 92nd Ave, Westminster, CO ",39.863399999999999,-105.0475,0.81599999999999995,1.1000000000000001,1.36,1.75,2.08,2.4300000000000002,3.37]
[null,45,"Wheat Ridge","7500 W. 29th Ave., Wheat Ridge, CO",39.7575,-105.0802,0.77500000000000002,1.04,1.28,1.63,1.91,2.21,2.98]
[null,46,"User Input",null,"-","-",{"$f":"IF(P_2yr_User<>\"\",P_2yr_User,G16)","v":0.82499999999999996},{"$f":"IF(P_5yr_User<>\"\",P_5yr_User,H16)","v":1.0900000000000001},{"$f":"IF(P_10yr_User<>\"\",P_10yr_User,I16)","v":1.33},{"$f":"IF(P_25yr_User<>\"\",P_25yr_User,J16)","v":1.69},{"$f":"IF(P_50yr_User<>\"\",P_50yr_User,K16)","v":1.99},{"$f":"IF(P_100yr_User<>\"\",P_100yr_User,L16)","v":2.31},{"$f":"IF(P_500yr_User<>\"\",P_500yr_User,M16)","v":3.14}]
[null,13,"Rainfall Location Selection"]
[null,{"$f":"VLOOKUP(B50,B4:C49,2)","v":"Denver - Capitol Building"}]
[]
[null,"Selection","Type","Volume Time","Drain Time"]
[null,1,"Select BMP Type"]
[null,2,"Extended Detention Basin (EDB)",40,40]
[null,3,"Retention Pond (RP)",12,12]
[null,4,"Constructed Wetland Pond (CWP)",24,24]
[null,5,"Sand Filter (SF)",24,12]
[null,6,"Rain Garden (RG) - Bioretention",12,12]
[null,7,"Flood Control Only","N/A","N/A"]
[null,1,"BMP Type Selection"]
[null,null,"Image Selection","Outlet Image Selected"]
[null,{"$f":"IF(Zone3_Storage_Type>1,3,IF(Zone2_Storage_Type>1,2,IF(Zone1_Storage_Type>1,1,0)))","v":0},"Number of Zones Selected"]
[]
[null,"Selection","Type","Abbrev."]
[null,1,"Select Zone 1 Storage Volume (Required)","Zone 1"]
[null,2,"Zone 1 Volume (WQCV)","Zone 1 (WQCV)"]
[null,3,"Zone 1 Volume (EURV-WQCV)","Zone 1 (EURV - WQCV)"]
[null,4,"Zone 1 Volume (2-year)","Zone 1 (2-year)"]
[null,5,"Zone 1 Volume (5-year)","Zone 1 (5-year)"]
[null,6,"Zone 1 Volume (10-year)","Zone 1 (10-year)"]
[null,7,"Zone 1 Volume (25-year)","Zone 1 (25-year)"]
[null,8,"Zone 1 Volume (50-year)","Zone 1 (50-year)"]
[null,9,"Zone 1 Volume (100-year)","Zone 1 (100-year)"]
[null,10,"Zone 1 Volume (User Defined)","Zone 1 (User)",null,null,null,null,null,null,null,null,"BMP","Zone 1","Zone 2","Zone 3","Comments"]
[{"$f":"IF(Zone1_Storage_Type=1,\"\",\nIF(Zone1_Storage_Type=2,\"WQCV\",\nIF(Zone1_Storage_Type=3,\"EURV\",\nIF(Zone1_Storage_Type=4,2,\nIF(Zone1_Storage_Type=5,5,\nIF(Zone1_Storage_Type=6,10,\nIF(Zone1_Storage_Type=7,25,\nIF(Zone1_Storage_Type=8,50,\nIF(Zone1_Storage_Type=9,100,\n\"User\")))))))))","v":""},1,"Zone 1 Storage Selection",{"$f":"VLOOKUP(Zone1_Storage_Type,B66:C75,2)&\" =\"","v":"Select Zone 1 Storage Volume (Required) ="},null,null,null,null,null,null,null,null,"SF or RG","Filtration Media","Plate or Slot","Orifice","WQ,EURV,Major"]
[null,null,null,null,null,null,null,null,null,null,null,null,"SF or RG","Filtration Media","Plate or Slot","Weir & Pipe","Standard FSD"]
[null,"Selection","Type","Abbrev.",null,null,null,null,null,null,null,null,"SF or RG","Filtration Media","Plate or Slot","N/A","WQ, EURV"]
[null,1,"Select Zone 2 Storage Volume (Optional)","Zone 2",null,null,null,null,null,null,null,null,"SF or RG","Filtration Media","Orifice","Orifice","WQ,Minor,Major"]
[null,2,"Zone 2 Volume (EURV - Zone 1)","Zone 2 (EURV)",null,null,null,null,null,null,null,null,"SF or RG","Filtration Media","Orifice","Weir & Pipe","WQ,Minor,Major"]
[null,3,"Zone 2 Volume (2-year - Zone 1)","Zone 2 (2-year)",null,null,null,null,null,null,null,null,"SF or RG","Filtration Media","Orifice","N/A","WQ, Minor"]
[null,4,"Zone 2 Volume (5-year - Zone 1)","Zone 2 (5-year)",null,null,null,null,null,null,null,null,"SF or RG","Filtration Media","Weir & Pipe","Orifice","WQ,Minor,Major"]
[null,5,"Zone 2 Volume (10-year - Zone 1)","Zone 2 (10-year)",null,null,null,null,null,null,null,null,"SF or RG","Filtration Media","Weir & Pipe","Weir & Pipe","WQ,Minor,Major"]
[null,6,"Zone 2 Volume (25-year - Zone 1)","Zone 2 (25-year)",null,null,null,null,null,null,null,null,"SF or RG","Filtration Media","Weir & Pipe","N/A","WQ, Minor"]
[null,7,"Zone 2 Volume (50-year - Zone 1)","Zone 2 (50-year)",null,null,null,null,null,null,null,null,"SF or RG","Filtration Media","N/A","N/A","WQ"]
[null,8,"Zone 2 Volume (100-year - Zone 1)","Zone 2 (100-year)"]
[null,9,"Zone 2 Volume (User Defined - Zone 1)","Zone 2 (User)"]
[{"$f":"IF(Zone2_Storage_Type=1,\"\",\nIF(Zone2_Storage_Type=2,\"EURV\",\nIF(Zone2_Storage_Type=3,2,\nIF(Zone2_Storage_Type=4,5,\nIF(Zone2_Storage_Type=5,10,\nIF(Zone2_Storage_Type=6,25,\nIF(Zone2_Storage_Type=7,50,\nIF(Zone2_Storage_Type=8,100,\n\"User\"))))))))","v":""},1,"Zone 2 Storage Selection",{"$f":"VLOOKUP(Zone2_Storage_Type,B79:C87,2)&\" =\"","v":"Select Zone 2 Storage Volume (Optional) ="},null,null,null,null,null,null,null,null,"BMP","Zone 1","Zone 2","Zone 3",null,"Zone1","Zone2","Zone3","Comments"]
[null,null,null,null,null,null,null,null,null,null,null,null,"SF or RG","Filtration Media","Orifice Plate","Circular Orifice",null,2,2,2,"WQ,EURV,Major"]
[null,"Selection","Type","Abbrev.",null,null,null,null,null,null,null,null,"SF or RG","Filtration Media","Orifice Plate","Rectangular Orifice",null,2,2,3,"WQ,EURV,Major"]
[null,1,"Select Zone 3 Storage Volume (Optional)","Zone 3",null,null,null,null,null,null,null,null,"SF or RG","Filtration Media","Orifice Plate","Weir and Circular Pipe",null,2,2,4,"Standard FSD"]
[null,2,"Zone 3 Volume (2-year - Zones 1 & 2)","Zone 3 (2-year)",null,null,null,null,null,null,null,null,"SF or RG","Filtration Media","Orifice Plate","Weir and Restrictor Plate Pipe",null,2,2,5,"Standard FSD"]
[null,3,"Zone 3 Volume (5-year - Zones 1 & 2)","Zone 3 (5-year)",null,null,null,null,null,null,null,null,"SF or RG","Filtration Media","Orifice Plate","Weir and Rectangular Pipe",null,2,2,6,"Standard FSD"]
[null,4,"Zone 3 Volume (10-year - Zones 1 & 2)","Zone 3 (10-year)",null,null,null,null,null,null,null,null,"SF or RG","Filtration Media","Orifice Plate","Not Utilized",null,2,2,7,"WQ and EURV only"]
[null,5,"Zone 3 Volume (25-year - Zones 1 & 2)","Zone 3 (25-year)",null,null,null,null,null,null,null,null,"SF or RG","Filtration Media","Elliptical Slot","Circular Orifice",null,2,3,2,"WQ,EURV,Major"]
[null,6,"Zone 3 Volume (50-year - Zones 1 & 2)","Zone 3 (50-year)",null,null,null,null,null,null,null,null,"SF or RG","Filtration Media","Elliptical Slot","Rectangular Orifice",null,2,3,3,"WQ,EURV,Major"]
[null,7,"Zone 3 Volume (100-year - Zones 1 & 2)","Zone 3 (100-year)",null,null,null,null,null,null,null,null,"SF or RG","Filtration Media","Elliptical Slot","Weir and Circular Pipe",null,2,3,4,"Standard FSD"]
[null,8,"Zone 3 (100yr + 1 / 2 WQCV - Zones 1 & 2)","Z3 (100+1/2WQCV)",null,null,null,null,null,null,null,null,"SF or RG","Filtration Media","Elliptical Slot","Weir and Restrictor Plate Pipe",null,2,3,5,"Standard FSD"]
[null,9,"Zone 3 Volume (User Defined - Zones 1 & 2)","Zone 3 (User)",null,null,null,null,null,null,null,null,"SF or RG","Filtration Media","Elliptical Slot","Weir and Rectangular Pipe",null,2,3,6,"Standard FSD"]
[{"$f":"IF(Zone3_Storage_Type=1,\"\",\nIF(Zone3_Storage_Type=2,2,\nIF(Zone3_Storage_Type=3,5,\nIF(Zone3_Storage_Type=4,10,\nIF(Zone3_Storage_Type=5,25,\nIF(Zone3_Storage_Type=6,50,\nIF(Zone3_Storage_Type=7,100,\nIF(Zone3_Storage_Type=8,\"100+1/2WQ\",\n\"User\"))))))))","v":""},1,"Zone 3 Storage Selection",{"$f":"VLOOKUP(Zone3_Storage_Type,B91:C99,2)&\" =\"","v":"Select Zone 3 Storage Volume (Optional) ="},null,null,null,null,null,null,null,null,"SF or RG","Filtration Media","Elliptical Slot","Not Utilized",null,2,3,7,"WQ and EURV only"]
[]
[null,{"$f":"IF(Z3_DesignStorm<>\"\",Z3_DesignStorm,\nIF(Z2_DesignStorm<>\"\",Z2_DesignStorm,\nIF(Z1_DesignStorm<>\"\",Z1_DesignStorm,\"\")))","v":""},"Largest Design Storm Volume Selected"]
[]
[null,"Selection","Potential Types Available","Potential Types Available",null,null,null,null,null,null,null,null,"SF or RG","Filtration Media","Circular Orifice","Rectangular Orifice",null,2,4,3,"WQ, Minor, Major"]
[null,1,"Select Zone 1 Outlet Type","Select Zone 1 Outlet Type",null,null,null,null,null,null,null,null,"SF or RG","Filtration Media","Circular Orifice","Weir and Circular Pipe",null,2,4,4,"WQ, Minor, Major"]
[null,2,"Filtration Media with Underdrain","Filtration Media with Underdrain","WQCV outlet for SF or RG",null,null,null,null,null,null,null,"SF or RG","Filtration Media","Circular Orifice","Weir and Restrictor Plate Pipe",null,2,4,5,"WQ, Minor, Major"]
[null,3,"Orifice Plate","Orifice Plate","WQCV outlet for EDB, RP or CWP for WQCV or for EURV if WQCV provided upstream",null,null,null,null,null,null,null,"SF or RG","Filtration Media","Circular Orifice","Weir and Rectangular Pipe",null,2,4,6,"WQ, Minor, Major"]
[null,4,"Elliptical Slot","Elliptical Slot","WQCV outlet for EDB, RP or CWP for WQCV or for EURV if WQCV provided upstream",null,null,null,null,null,null,null,"SF or RG","Filtration Media","Circular Orifice","Not Utilized",null,2,4,7,"WQ, Major"]
[null,5,"Vertical Orifice (Circular)","Vertical Orifice (Circular)","EURV or Minor Storm outlet if WQCV provided upstream, Major Storm outlet if both WQCV and EURV provided upstream",null,null,null,null,null,null,null,"SF or RG","Filtration Media","Rect. Orifice","Circular Orifice",null,2,5,2,"WQ, Minor, Major"]
[null,6,"Vertical Orifice (Rectangular)","Vertical Orifice (Rectangular)","EURV or Minor Storm outlet if WQCV provided upstream, Major Storm outlet if both WQCV and EURV provided upstream",null,null,null,null,null,null,null,"SF or RG","Filtration Media","Rect. Orifice","Rectangular Orifice",null,2,5,3,"WQ, Minor, Major"]
[null,7,"Weir and Pipe (w/ Circular Orifice Plate)","Weir and Pipe (w/ Circular Orifice Plate)","Minor Storm Outlet for RP if WQCV provided upstream, Major Storm Outlet for RP if both WQCV and EURV provided upstream",null,null,null,null,null,null,null,"SF or RG","Filtration Media","Rect. Orifice","Weir and Circular Pipe",null,2,5,4,"WQ, Minor, Major"]
[null,8,"Weir and Pipe (w/ Restrictor Plate)","Weir and Pipe (w/ Restrictor Plate)","Minor Storm Outlet for RP if WQCV provided upstream, Major Storm Outlet for RP if both WQCV and EURV provided upstream",null,null,null,null,null,null,null,"SF or RG","Filtration Media","Rect. Orifice","Weir and Restrictor Plate Pipe",null,2,5,5,"WQ, Minor, Major"]
[null,9,"Weir and Pipe (w/ Rectangular Orifice Plate)","Weir and Pipe (w/ Rectangular Orifice Plate)","Minor Storm Outlet for RP if WQCV provided upstream, Major Storm Outlet for RP if both WQCV and EURV provided upstream",null,null,null,null,null,null,null,"SF or RG","Filtration Media","Rect. Orifice","Weir and Rectangular Pipe",null,2,5,6,"WQ, Minor, Major"]
[null,10,"Overflow Weir (No Pipe)","Overflow Weir (No Pipe)","Minor Storm Outlet for RP if WQCV provided upstream, Major Storm Outlet for RP if both WQCV and EURV provided upstream",null,null,null,null,null,null,null,"SF or RG","Filtration Media","Rect. Orifice","Not Utilized",null,2,5,7,"WQ, Major"]
[null,1,"Zone 1 Outlet Selection",null,null,null,null,null,null,null,null,null,"SF or RG","Filtration Media","Weir and Circular Pipe","Weir and Circular Pipe",null,2,6,4,"WQ, Minor, Major"]
[null,null,null,null,null,null,null,null,null,null,null,null,"SF or RG","Filtration Media","Weir and Circular Pipe","Weir and Restrictor Plate Pipe",null,2,6,5,"WQ, Minor, Major"]
[null,"Selection","Potential Types Available","Potential Types Available",null,null,null,null,null,null,null,null,"SF or RG","Filtration Media","Weir and Circular Pipe","Weir and Rectangular Pipe",null,2,6,6,"WQ, Minor, Major"]
[null,1,"Select Zone 2 Outlet Type","Select Zone 2 Outlet Type"]
[null,2,"Filtration Media with Underdrain","Filtration Media with Underdrain","EURV outlet for SF or RG",null,null,null,null,null,null,null,"SF or RG","Filtration Media","Weir and Circular Pipe","Not Utilized",null,2,6,7,"WQ, Major"]
[null,3,"Orifice Plate","Orifice Plate","EURV outlet for EDB, RP, CWP, SF or RG",null,null,null,null,null,null,null,"SF or RG","Filtration Media","Weir and Restrictor Plate Pipe","Circular Orifice",null,2,7,2,"WQ, Minor, Major"]
[null,4,"Elliptical Slot","Elliptical Slot","EURV outlet for EDB, RP, CWP, SF or RG",null,null,null,null,null,null,null,"SF or RG","Filtration Media","Weir and Restrictor Plate Pipe","Rectangular Orifice",null,2,7,3,"WQ, Minor, Major"]
[null,5,"Vertical Orifice (Circular)","Vertical Orifice (Circular)","EURV or Minor Storm outlet, or Major Storm outlet if WQCV provided upstream",null,null,null,null,null,null,null,"SF or RG","Filtration Media","Weir and Restrictor Plate Pipe","Weir and Circular Pipe",null,2,7,4,"WQ, Minor, Major"]
[null,6,"Vertical Orifice (Rectangular)","Vertical Orifice (Rectangular)","EURV or Minor Storm outlet, or Major Storm outlet if WQCV provided upstream",null,null,null,null,null,null,null,"SF or RG","Filtration Media","Weir and Restrictor Plate Pipe","Weir and Restrictor Plate Pipe",null,2,7,5,"WQ, Minor, Major"]
[null,7,"Weir and Pipe (w/ Circular Orifice Plate)","Weir and Pipe (w/ Circular Orifice Plate)","EURV or Minor Storm Outlet,  Major Storm Outlet for RP if WQCV provided upstream",null,null,null,null,null,null,null,"SF or RG","Filtration Media","Weir and Restrictor Plate Pipe","Weir and Rectangular Pipe",null,2,7,6,"WQ, Minor, Major"]
[null,8,"Weir and Pipe (w/ Restrictor Plate)","Weir and Pipe (w/ Restrictor Plate)","EURV or Minor Storm Outlet,  Major Storm Outlet for RP if WQCV provided upstream",null,null,null,null,null,null,null,"SF or RG","Filtration Media","Weir and Restrictor Plate Pipe","Not Utilized",null,2,7,7,"WQ, Major"]
[null,9,"Weir and Pipe (w/ Rectangular Orifice Plate)","Weir and Pipe (w/ Rectangular Orifice Plate)","EURV or Minor Storm Outlet,  Major Storm Outlet for RP if WQCV provided upstream",null,null,null,null,null,null,null,"SF or RG","Filtration Media","Weir and Rectangular Pipe","Circular Orifice",null,2,8,2,"WQ, Minor, Major"]
[null,10,"Overflow Weir (No Pipe)","Overflow Weir (No Pipe)","EURV or Minor Storm Outlet,  Major Storm Outlet for RP if WQCV provided upstream",null,null,null,null,null,null,null,"SF or RG","Filtration Media","Weir and Rectangular Pipe","Rectangular Orifice",null,2,8,3,"WQ, Minor, Major"]
[null,11,"Zone 2 Not Utilized","Zone 2 Not Utilized",null,null,null,null,null,null,null,null,"SF or RG","Filtration Media","Weir and Rectangular Pipe","Weir and Rectangular Pipe",null,2,8,6,"WQ, Minor, Major"]
[null,1,"Zone 2 Outlet Selection",null,null,null,null,null,null,null,null,null,"SF or RG","Filtration Media","Weir and Rectangular Pipe","Not Utilized",null,2,8,7,"WQ, Major"]
[null,null,null,null,null,null,null,null,null,null,null,null,"SF or RG","Filtration Media","Not Utilized","Not Utilized",null,2,9,7,"WQ"]
[null,"Selection","Potential Types Available","Potential Types Available"]
[null,1,"Select Zone 3 Outlet Type","Select Zone 3 Outlet Type"]
[null,2,"Vertical Orifice (Circular)","Vertical Orifice (Circular)","Major Storm outlet",null,null,null,null,null,null,null,"BMP","Zone 1","Zone 2","Zone 3","Comments"]
[null,3,"Vertical Orifice (Rectangular)","Vertical Orifice (Rectangular)","Major Storm outlet",null,null,null,null,null,null,null,"EDB,RP,CWP","Plate or Slot","Plate or Slot","Orifice","WQ,EURV,Major"]
[null,4,"Weir and Pipe (w/ Circular Orifice Plate)","Weir and Pipe (w/ Circular Orifice Plate)","Major Storm outlet",null,null,null,null,null,null,null,"EDB,RP,CWP","Plate or Slot","Plate or Slot","Weir & Pipe","Standard FSD"]
[null,5,"Weir and Pipe (w/ Restrictor Plate)","Weir and Pipe (w/ Restrictor Plate)","Major Storm outlet",null,null,null,null,null,null,null,"EDB,RP,CWP","Plate or Slot","Plate or Slot","N/A","WQ, EURV"]
[null,6,"Weir and Pipe (w/ Rectangular Orifice Plate)","Weir and Pipe (w/ Rectangular Orifice Plate)","Major Storm outlet",null,null,null,null,null,null,null,"EDB,RP,CWP","Plate or Slot","Orifice","Orifice","WQ,Minor,Major"]
[null,7,"Overflow Weir (No Pipe)","Overflow Weir (No Pipe)","Major Storm outlet",null,null,null,null,null,null,null,"EDB,RP,CWP","Plate or Slot","Orifice","Weir & Pipe","WQ,Minor,Major"]
[null,8,"Zone 3 Not Utilized","Zone 3 Not Utilized",null,null,null,null,null,null,null,null,"EDB,RP,CWP","Plate or Slot","Orifice","N/A","WQ, Minor"]
[null,1,"Zone 3 Outlet Selection",null,null,null,null,null,null,null,null,null,"EDB,RP,CWP","Plate or Slot","Weir & Pipe","Orifice","WQ,Minor,Major"]
[null,null,null,null,"Cdw",null,null,"Cdo",null,null,null,null,"EDB,RP,CWP","Plate or Slot","Weir & Pipe","Weir & Pipe","WQ,Minor,Major"]
[null,"Selection","Grate 1 Types Available","Grate Open Area","a*x^2","b*x","c","a*x^2","b*x","c",null,null,"EDB,RP,CWP","Plate or Slot","Weir & Pipe","N/A","WQ, Minor"]
[null,1,"Select Grate Type",null,null,null,null,null,null,null,null,null,"EDB,RP,CWP","Plate or Slot","N/A","N/A","WQ"]
[null,2,"Type C Grate",0.69599999999999995,-1.973634829775079,0.66891210202687423,0.60221185620682149,3.8611402333707088,-1.9834731447006779,0.73717180419095019]
[null,3,"Close Mesh Grate",0.79100000000000004,-1.3509392022421327,0.39497456874191222,0.62103595104166898,4.6080450838955311,-2.4401222163563694,0.95603034009242727]
[null,4,"No Grate",1,-1.9747729555769304,0.74925930744028557,0.63187734263023798,6.9485703001624435,-2.8042451226156904,0.97104804405762724,null,null,"EDB,RP,CWP","Orifice Plate","Orifice Plate","Circular Orifice",null,3,2,2,"WQ,EURV,Major"]
[null,5,"N/A","N/A","N/A","N/A","N/A","N/A","N/A","N/A",null,null,"EDB,RP,CWP","Orifice Plate","Orifice Plate","Not Utilized",null,3,2,7,"WQ and EURV only"]
[null,1,"Weir 1 Grate Type",{"$f":"IF(Weir1_Grate_Type=1,\"\",VLOOKUP(Weir1_Grate_Type,$B$143:$J$147,3))","v":""},{"$f":"VLOOKUP(Weir1_Grate_Type,$B$143:$J$147,4)","v":0},{"$f":"VLOOKUP(Weir1_Grate_Type,$B$143:$J$147,5)","v":0},{"$f":"VLOOKUP(Weir1_Grate_Type,$B$143:$J$147,6)","v":0},{"$f":"VLOOKUP(Weir1_Grate_Type,$B$143:$J$147,7)","v":0},{"$f":"VLOOKUP(Weir1_Grate_Type,$B$143:$J$147,8)","v":0},{"$f":"VLOOKUP(Weir1_Grate_Type,$B$143:$J$147,9)","v":0},null,null,"EDB,RP,CWP","Orifice Plate","Circular Orifice","Circular Orifice",null,3,4,2,"WQ, Minor, Major"]
[null,null,null,null,null,null,null,null,null,null,null,null,"EDB,RP,CWP","Orifice Plate","Circular Orifice","Rectangular Orifice",null,3,4,3,"WQ, Minor, Major"]
[null,null,null,null,null,null,null,null,null,null,null,null,"EDB,RP,CWP","Orifice Plate","Circular Orifice","Weir and Circular Pipe",null,3,4,4,"WQ, Minor, Major"]
[null,null,null,null,"Cdw",null,null,"Cdo",null,null,null,null,"EDB,RP,CWP","Orifice Plate","Circular Orifice","Weir and Restrictor Plate Pipe",null,3,4,5,"WQ, Minor, Major"]
[null,"Selection","Grate 2 Types Available","Grate Open Area","a*x^2","b*x","c","a*x^2","b*x","c",null,null,"EDB,RP,CWP","Orifice Plate","Circular Orifice","Weir and Rectangular Pipe",null,3,4,6,"WQ, Minor, Major"]
[null,1,"Select Grate Type",null,null,null,null,null,null,null,null,null,"EDB,RP,CWP","Orifice Plate","Circular Orifice","Not Utilized",null,3,4,7,"WQ, Major"]
[null,2,"Type C Grate",0.69599999999999995,-1.973634829775079,0.66891210202687423,0.60221185620682149,3.8611402333707088,-1.9834731447006779,0.73717180419095019,null,null,"EDB,RP,CWP","Orifice Plate","Rect. Orifice","Circular Orifice",null,3,5,2,"WQ, Minor, Major"]
[null,3,"Close Mesh Grate",0.79100000000000004,-1.3509392022421327,0.39497456874191222,0.62103595104166898,4.6080450838955311,-2.4401222163563694,0.95603034009242727,null,null,"EDB,RP,CWP","Orifice Plate","Rect. Orifice","Rectangular Orifice",null,3,5,3,"WQ, Minor, Major"]
[null,4,"No Grate",1,-1.9747729555769304,0.74925930744028557,0.63187734263023798,6.9485703001624435,-2.8042451226156904,0.97104804405762724,null,null,"EDB,RP,CWP","Orifice Plate","Rect. Orifice","Weir and Circular Pipe",null,3,5,4,"WQ, Minor, Major"]
[null,5,"N/A","N/A","N/A","N/A","N/A","N/A","N/A","N/A",null,null,"EDB,RP,CWP","Orifice Plate","Rect. Orifice","Weir and Restrictor Plate Pipe",null,3,5,5,"WQ, Minor, Major"]
[null,1,"Weir 2 Grate Type",{"$f":"IF(Weir2_Grate_Type=1,\"\",VLOOKUP(Weir2_Grate_Type,$B$153:$J$157,3))","v":""},{"$f":"VLOOKUP(Weir2_Grate_Type,$B$153:$J$157,4)","v":0},{"$f":"VLOOKUP(Weir2_Grate_Type,$B$153:$J$157,5)","v":0},{"$f":"VLOOKUP(Weir2_Grate_Type,$B$153:$J$157,6)","v":0},{"$f":"VLOOKUP(Weir2_Grate_Type,$B$153:$J$157,7)","v":0},{"$f":"VLOOKUP(Weir2_Grate_Type,$B$153:$J$157,8)","v":0},{"$f":"VLOOKUP(Weir2_Grate_Type,$B$153:$J$157,9)","v":0},null,null,"EDB,RP,CWP","Orifice Plate","Rect. Orifice","Weir and Rectangular Pipe",null,3,5,6,"WQ, Minor, Major"]
[null,null,null,null,null,null,null,null,null,null,null,null,"EDB,RP,CWP","Orifice Plate","Rect. Orifice","Not Utilized",null,3,5,7,"WQ, Major"]
[null,null,null,null,null,null,null,null,null,null,null,null,"EDB,RP,CWP","Orifice Plate","Weir and Circular Pipe","Circular Orifice",null,3,6,2,"WQ, Minor, Major"]
[null,null,null,null,null,null,null,null,null,null,null,null,"EDB,RP,CWP","Orifice Plate","Weir and Circular Pipe","Rectangular Orifice",null,3,6,3,"WQ, Minor, Major"]
[null,null,null,null,null,null,null,null,null,null,null,null,"EDB,RP,CWP","Orifice Plate","Weir and Circular Pipe","Weir and Circular Pipe",null,3,6,4,"WQ, Minor, Major"]
[null,null,null,null,null,null,null,null,null,null,null,null,"EDB,RP,CWP","Orifice Plate","Weir and Circular Pipe","Weir and Restrictor Plate Pipe",null,3,6,5,"WQ, Minor, Major"]
[null,null,null,null,null,null,null,null,null,null,null,null,"EDB,RP,CWP","Orifice Plate","Weir and Circular Pipe","Weir and Rectangular Pipe",null,3,6,6,"WQ, Minor, Major"]
[null,null,null,null,null,null,null,null,null,null,null,null,"EDB,RP,CWP","Orifice Plate","Weir and Circular Pipe","Not Utilized",null,3,6,7,"WQ, Major"]
[null,null,null,null,null,null,null,null,null,null,null,null,"EDB,RP,CWP","Orifice Plate","Weir and Restrictor Plate Pipe","Circular Orifice",null,3,7,2,"WQ, Minor, Major"]
[null,null,null,null,null,null,null,null,null,null,null,null,"EDB,RP,CWP","Orifice Plate","Weir and Restrictor Plate Pipe","Rectangular Orifice",null,3,7,3,"WQ, Minor, Major"]
[null,null,null,null,null,null,null,null,null,null,null,null,"EDB,RP,CWP","Orifice Plate","Weir and Restrictor Plate Pipe","Weir and Circular Pipe",null,3,7,4,"WQ, Minor, Major"]
[null,null,null,null,null,null,null,null,null,null,null,null,"EDB,RP,CWP","Orifice Plate","Weir and Restrictor Plate Pipe","Weir and Restrictor Plate Pipe",null,3,7,5,"WQ, Minor, Major"]
[null,null,null,null,null,null,null,null,null,null,null,null,"EDB,RP,CWP","Orifice Plate","Weir and Restrictor Plate Pipe","Weir and Rectangular Pipe",null,3,7,6,"WQ, Minor, Major"]
[null,null,null,null,null,null,null,null,null,null,null,null,"EDB,RP,CWP","Orifice Plate","Weir and Restrictor Plate Pipe","Not Utilized",null,3,7,7,"WQ, Major"]
[null,null,null,null,null,null,null,null,null,null,null,null,"EDB,RP,CWP","Orifice Plate","Weir and Rectangular Pipe","Circular Orifice",null,3,8,2,"WQ, Minor, Major"]
[null,null,null,null,null,null,null,null,null,null,null,null,"EDB,RP,CWP","Orifice Plate","Weir and Rectangular Pipe","Rectangular Orifice",null,3,8,3,"WQ, Minor, Major"]
[null,null,null,null,null,null,null,null,null,null,null,null,"EDB,RP,CWP","Orifice Plate","Weir and Rectangular Pipe","Weir and Circular Pipe",null,3,8,4,"WQ, Minor, Major"]
[null,null,null,null,null,null,null,null,null,null,null,null,"EDB,RP,CWP","Orifice Plate","Weir and Rectangular Pipe","Weir and Restrictor Plate Pipe",null,3,8,5,"WQ, Minor, Major"]
[null,null,null,null,null,null,null,null,null,null,null,null,"EDB,RP,CWP","Orifice Plate","Weir and Rectangular Pipe","Weir and Rectangular Pipe",null,3,8,6,"WQ, Minor, Major"]
[null,null,null,null,null,null,null,null,null,null,null,null,"EDB,RP,CWP","Orifice Plate","Weir and Rectangular Pipe","Not Utilized",null,3,8,7,"WQ, Major"]
[null,null,null,null,null,null,null,null,null,null,null,null,"EDB,RP,CWP","Orifice Plate","Not Utilized","Not Utilized",null,3,9,7,"WQ"]
[]
[null,null,null,null,null,null,null,null,null,null,null,null,"EDB,RP,CWP","Elliptical Slot","Elliptical Slot","Circular Orifice",null,4,3,2,"WQ,EURV,Major"]
[null,null,null,null,null,null,null,null,null,null,null,null,"EDB,RP,CWP","Elliptical Slot","Elliptical Slot","Rectangular Orifice",null,4,3,3,"WQ,EURV,Major"]
[null,null,null,null,null,null,null,null,null,null,null,null,"EDB,RP,CWP","Elliptical Slot","Elliptical Slot","Weir and Circular Pipe",null,4,3,4,"Standard FSD"]
[null,null,null,null,null,null,null,null,null,null,null,null,"EDB,RP,CWP","Elliptical Slot","Elliptical Slot","Weir and Restrictor Plate Pipe",null,4,3,5,"Standard FSD"]
[null,null,null,null,null,null,null,null,null,null,null,null,"EDB,RP,CWP","Elliptical Slot","Elliptical Slot","Weir and Rectangular Pipe",null,4,3,6,"Standard FSD"]
[null,null,null,null,null,null,null,null,null,null,null,null,"EDB,RP,CWP","Elliptical Slot","Elliptical Slot","Not Utilized",null,4,3,7,"WQ and EURV only"]
[null,null,null,null,null,null,null,null,null,null,null,null,"EDB,RP,CWP","Elliptical Slot","Circular Orifice","Circular Orifice",null,4,4,2,"WQ, Minor, Major"]
[null,null,null,null,null,null,null,null,null,null,null,null,"EDB,RP,CWP","Elliptical Slot","Circular Orifice","Rectangular Orifice",null,4,4,3,"WQ, Minor, Major"]
[null,null,null,null,null,null,null,null,null,null,null,null,"EDB,RP,CWP","Elliptical Slot","Circular Orifice","Weir and Circular Pipe",null,4,4,4,"WQ, Minor, Major"]
[null,null,null,null,null,null,null,null,null,null,null,null,"EDB,RP,CWP","Elliptical Slot","Circular Orifice","Weir and Restrictor Plate Pipe",null,4,4,5,"WQ, Minor, Major"]
[null,null,null,null,null,null,null,null,null,null,null,null,"EDB,RP,CWP","Elliptical Slot","Circular Orifice","Weir and Rectangular Pipe",null,4,4,6,"WQ, Minor, Major"]
[null,null,null,null,null,null,null,null,null,null,null,null,"EDB,RP,CWP","Elliptical Slot","Circular Orifice","Not Utilized",null,4,4,7,"WQ, Major"]
[null,null,null,null,null,null,null,null,null,null,null,null,"EDB,RP,CWP","Elliptical Slot","Rect. Orifice","Circular Orifice",null,4,5,2,"WQ, Minor, Major"]
[null,null,null,null,null,null,null,null,null,null,null,null,"EDB,RP,CWP","Elliptical Slot","Rect. Orifice","Rectangular Orifice",null,4,5,3,"WQ, Minor, Major"]
[null,null,null,null,null,null,null,null,null,null,null,null,"EDB,RP,CWP","Elliptical Slot","Rect. Orifice","Weir and Circular Pipe",null,4,5,4,"WQ, Minor, Major"]
[null,null,null,null,null,null,null,null,null,null,null,null,"EDB,RP,CWP","Elliptical Slot","Rect. Orifice","Weir and Restrictor Plate Pipe",null,4,5,5,"WQ, Minor, Major"]
[null,null,null,null,null,null,null,null,null,null,null,null,"EDB,RP,CWP","Elliptical Slot","Rect. Orifice","Weir and Rectangular Pipe",null,4,5,6,"WQ, Minor, Major"]
[null,null,null,null,null,null,null,null,null,null,null,null,"EDB,RP,CWP","Elliptical Slot","Rect. Orifice","Not Utilized",null,4,5,7,"WQ, Major"]
[null,null,null,null,null,null,null,null,null,null,null,null,"EDB,RP,CWP","Elliptical Slot","Weir and Circular Pipe","Circular Orifice",null,4,6,2,"WQ, Minor, Major"]
[null,null,null,null,null,null,null,null,null,null,null,null,"EDB,RP,CWP","Elliptical Slot","Weir and Circular Pipe","Rectangular Orifice",null,4,6,3,"WQ, Minor, Major"]
[null,null,null,null,null,null,null,null,null,null,null,null,"EDB,RP,CWP","Elliptical Slot","Weir and Circular Pipe","Weir and Circular Pipe",null,4,6,4,"WQ, Minor, Major"]
[null,null,null,null,null,null,null,null,null,null,null,null,"EDB,RP,CWP","Elliptical Slot","Weir and Circular Pipe","Weir and Restrictor Plate Pipe",null,4,6,5,"WQ, Minor, Major"]
[null,null,null,null,null,null,null,null,null,null,null,null,"EDB,RP,CWP","Elliptical Slot","Weir and Circular Pipe","Weir and Rectangular Pipe",null,4,6,6,"WQ, Minor, Major"]
[null,null,null,null,null,null,null,null,null,null,null,null,"EDB,RP,CWP","Elliptical Slot","Weir and Circular Pipe","Not Utilized",null,4,6,7,"WQ, Major"]
[null,null,null,null,null,null,null,null,null,null,null,null,"EDB,RP,CWP","Elliptical Slot","Weir and Restrictor Plate Pipe","Circular Orifice",null,4,7,2,"WQ, Minor, Major"]
[null,null,null,null,null,null,null,null,null,null,null,null,"EDB,RP,CWP","Elliptical Slot","Weir and Restrictor Plate Pipe","Rectangular Orifice",null,4,7,3,"WQ, Minor, Major"]
[null,null,null,null,null,null,null,null,null,null,null,null,"EDB,RP,CWP","Elliptical Slot","Weir and Restrictor Plate Pipe","Weir and Circular Pipe",null,4,7,4,"WQ, Minor, Major"]
[null,null,null,null,null,null,null,null,null,null,null,null,"EDB,RP,CWP","Elliptical Slot","Weir and Restrictor Plate Pipe","Weir and Restrictor Plate Pipe",null,4,7,5,"WQ, Minor, Major"]
[null,null,null,null,null,null,null,null,null,null,null,null,"EDB,RP,CWP","Elliptical Slot","Weir and Restrictor Plate Pipe","Weir and Rectangular Pipe",null,4,7,6,"WQ, Minor, Major"]
[null,null,null,null,null,null,null,null,null,null,null,null,"EDB,RP,CWP","Elliptical Slot","Weir and Restrictor Plate Pipe","Not Utilized",null,4,7,7,"WQ, Major"]
[null,null,null,null,null,null,null,null,null,null,null,null,"EDB,RP,CWP","Elliptical Slot","Weir and Rectangular Pipe","Circular Orifice",null,4,8,2,"WQ, Minor, Major"]
[null,null,null,null,null,null,null,null,null,null,null,null,"EDB,RP,CWP","Elliptical Slot","Weir and Rectangular Pipe","Rectangular Orifice",null,4,8,3,"WQ, Minor, Major"]
[null,null,null,null,null,null,null,null,null,null,null,null,"EDB,RP,CWP","Elliptical Slot","Weir and Rectangular Pipe","Weir and Circular Pipe",null,4,8,4,"WQ, Minor, Major"]
[null,null,null,null,null,null,null,null,null,null,null,null,"EDB,RP,CWP","Elliptical Slot","Weir and Rectangular Pipe","Weir and Restrictor Plate Pipe",null,4,8,5,"WQ, Minor, Major"]
[null,null,null,null,null,null,null,null,null,null,null,null,"EDB,RP,CWP","Elliptical Slot","Weir and Rectangular Pipe","Weir and Rectangular Pipe",null,4,8,6,"WQ, Minor, Major"]
[null,null,null,null,null,null,null,null,null,null,null,null,"EDB,RP,CWP","Elliptical Slot","Weir and Rectangular Pipe","Not Utilized",null,4,8,7,"WQ, Major"]
[null,null,null,null,null,null,null,null,null,null,null,null,"EDB,RP,CWP","Elliptical Slot","Not Utilized","Not Utilized",null,4,9,7,"WQ"]
[]
[]
[null,null,null,null,null,null,null,null,null,null,null,null,"BMP","Zone 1","Zone 2","Zone 3","Comments"]
[null,null,null,null,null,null,null,null,null,null,null,null,"Detention ","Orifice","Orifice","N/A","Minor, Major"]
[null,null,null,null,null,null,null,null,null,null,null,null,"Detention ","Orifice","Weir & Pipe","NA","Minor, Major"]
[null,null,null,null,null,null,null,null,null,null,null,null,"Detention ","Orifice","N/A","N/A","Minor or Major"]
[null,null,null,null,null,null,null,null,null,null,null,null,"Detention ","Weir & Pipe","Orifice","N/A","Minor, Major"]
[null,null,null,null,null,null,null,null,null,null,null,null,"Detention ","Weir & Pipe","Weir & Pipe","N/A","Minor, Major"]
[null,null,null,null,null,null,null,null,null,null,null,null,"Detention ","Weir & Pipe","N/A","N/A","Minor or Major"]
[]
[]
[null,null,null,null,null,null,null,null,null,null,null,null,"Detention Only","Circular Orifice","Circular Orifice","Not Utilized",null,5,4,7,"Minor, Major"]
[null,null,null,null,null,null,null,null,null,null,null,null,"Detention Only","Circular Orifice","Rect. Orifice","Not Utilized",null,5,5,7,"Minor, Major"]
[null,null,null,null,null,null,null,null,null,null,null,null,"Detention Only","Circular Orifice","Weir and Circular Pipe","Not Utilized",null,5,6,7,"Minor, Major"]
[null,null,null,null,null,null,null,null,null,null,null,null,"Detention Only","Circular Orifice","Weir and Restrictor Plate Pipe","Not Utilized",null,5,7,7,"Minor, Major"]
[null,null,null,null,null,null,null,null,null,null,null,null,"Detention Only","Circular Orifice","Weir and Rectangular Pipe","Not Utilized",null,5,8,7,"Minor, Major"]
[null,null,null,null,null,null,null,null,null,null,null,null,"Detention Only","Circular Orifice","Not Utilized","Not Utilized",null,5,9,7,"Minor or Major"]
[]
[null,null,null,null,null,null,null,null,null,null,null,null,"Detention Only","Rect. Orifice","Circular Orifice","Not Utilized",null,6,4,7,"Minor, Major"]
[null,null,null,null,null,null,null,null,null,null,null,null,"Detention Only","Rect. Orifice","Rect. Orifice","Not Utilized",null,6,5,7,"Minor, Major"]
[null,null,null,null,null,null,null,null,null,null,null,null,"Detention Only","Rect. Orifice","Weir and Circular Pipe","Not Utilized",null,6,6,7,"Minor, Major"]
[null,null,null,null,null,null,null,null,null,null,null,null,"Detention Only","Rect. Orifice","Weir and Restrictor Plate Pipe","Not Utilized",null,6,7,7,"Minor, Major"]
[null,null,null,null,null,null,null,null,null,null,null,null,"Detention Only","Rect. Orifice","Weir and Rectangular Pipe","Not Utilized",null,6,8,7,"Minor, Major"]
[null,null,null,null,null,null,null,null,null,null,null,null,"Detention Only","Rect. Orifice","Not Utilized","Not Utilized",null,6,9,7,"Minor or Major"]
[]
[null,null,null,null,null,null,null,null,null,null,null,null,"Detention Only","Weir and Circular Pipe","Circular Orifice","Not Utilized",null,7,4,7,"Minor, Major"]
[null,null,null,null,null,null,null,null,null,null,null,null,"Detention Only","Weir and Circular Pipe","Rect. Orifice","Not Utilized",null,7,5,7,"Minor, Major"]
[null,null,null,null,null,null,null,null,null,null,null,null,"Detention Only","Weir and Circular Pipe","Weir and Circular Pipe","Not Utilized",null,7,6,7,"Minor, Major"]
[null,null,null,null,null,null,null,null,null,null,null,null,"Detention Only","Weir and Circular Pipe","Weir and Restrictor Plate Pipe","Not Utilized",null,7,7,7,"Minor, Major"]
[null,null,null,null,null,null,null,null,null,null,null,null,"Detention Only","Weir and Circular Pipe","Weir and Rectangular Pipe","Not Utilized",null,7,8,7,"Minor, Major"]
[null,null,null,null,null,null,null,null,null,null,null,null,"Detention Only","Weir and Circular Pipe","Not Utilized","Not Utilized",null,7,9,7,"Minor or Major"]
[]
[null,null,null,null,null,null,null,null,null,null,null,null,"Detention Only","Weir and Restrictor Plate Pipe","Circular Orifice","Not Utilized",null,8,4,7,"Minor, Major"]
[null,null,null,null,null,null,null,null,null,null,null,null,"Detention Only","Weir and Restrictor Plate Pipe","Rect. Orifice","Not Utilized",null,8,5,7,"Minor, Major"]
[null,null,null,null,null,null,null,null,null,null,null,null,"Detention Only","Weir and Restrictor Plate Pipe","Weir and Circular Pipe","Not Utilized",null,8,6,7,"Minor, Major"]
[null,null,null,null,null,null,null,null,null,null,null,null,"Detention Only","Weir and Restrictor Plate Pipe","Weir and Restrictor Plate Pipe","Not Utilized",null,8,7,7,"Minor, Major"]
[null,null,null,null,null,null,null,null,null,null,null,null,"Detention Only","Weir and Restrictor Plate Pipe","Weir and Rectangular Pipe","Not Utilized",null,8,8,7,"Minor, Major"]
[null,null,null,null,null,null,null,null,null,null,null,null,"Detention Only","Weir and Restrictor Plate Pipe","Not Utilized","Not Utilized",null,8,9,7,"Minor or Major"]
[]
[null,null,null,null,null,null,null,null,null,null,null,null,"Detention Only","Weir and Rectangular Pipe","Circular Orifice","Not Utilized",null,9,4,7,"Minor, Major"]
[null,null,null,null,null,null,null,null,null,null,null,null,"Detention Only","Weir and Rectangular Pipe","Rect. Orifice","Not Utilized",null,9,5,7,"Minor, Major"]
[null,null,null,null,null,null,null,null,null,null,null,null,"Detention Only","Weir and Rectangular Pipe","Weir and Circular Pipe","Not Utilized",null,9,6,7,"Minor, Major"]
[null,null,null,null,null,null,null,null,null,null,null,null,"Detention Only","Weir and Rectangular Pipe","Weir and Restrictor Plate Pipe","Not Utilized",null,9,7,7,"Minor, Major"]
[null,null,null,null,null,null,null,null,null,null,null,null,"Detention Only","Weir and Rectangular Pipe","Weir and Rectangular Pipe","Not Utilized",null,9,8,7,"Minor, Major"]
[null,null,null,null,null,null,null,null,null,null,null,null,"Detention Only","Weir and Rectangular Pipe","Not Utilized","Not Utilized",null,9,9,7,"Minor or Major"]

{"sheet":"CUHP_Calcs","index":5,"n_rows":76,"n_cols":121,"rows_kept":76,"cut":false,"hidden":true,"merged":[[3,93,3,94],[3,95,3,96],[3,97,3,98],[4,100,4,107],[5,100,6,100],[5,101,5,107],[3,91,3,92],[3,81,3,82],[3,83,3,84],[3,85,3,86],[3,87,3,88],[3,89,3,90],[2,8,2,9],[2,10,2,12],[2,14,2,15],[2,16,2,17],[2,19,2,20],[2,21,2,22],[2,23,2,24],[2,25,2,26],[2,27,3,27],[1,13,1,17],[1,19,1,26],[1,28,1,30],[1,31,1,32],[1,33,1,36],[2,28,3,28],[2,29,3,29],[2,30,3,30],[2,31,3,31],[2,32,3,32],[2,33,3,33],[2,34,3,34],[2,35,3,35],[2,36,3,36],[29,112,29,120],[30,112,30,114],[30,115,30,117],[30,118,30,120],[4,112,4,115],[14,112,14,120],[15,112,15,114],[15,115,15,117],[15,118,15,120]]}
["Colorado Urban Hydrograph Procedure (CUHP-Lite)",null,null,null,null,null,null,null,null,null,null,null,null,null,null,null,null,null,null,null,null,null,null,null,null,null,null,null,null,null,null,null,null,null,null,null,null,null,null,"CUHP-Lite Printouts for Unit Hydrographs",null,null,null,null,null,null,"Worksheet Protected",null,null,null,null,null,null,null,null,null,null,null,null,null,"CUHP-Lite Printouts for Storm Hydrographs",null,null,null,null,null,null,null,null,null,null,null,null,null,null,null,null,null,null,null,null,"Raingages",null,null,null,null,null,null,null,null,null,null,null,null,null,null,null,null,null,null,null,null,null,null,null,null,null,null,null,null,null,null,"CUHP Unit Hydrograph Shaping Parameters"]
[null,null,null,null,null,null,null,null,null,null,null,null,null,"DCIA Level and Fractions",null,null,null,null,null,"Unit Hydrograph Parameters",null,null,null,null,null,null,null,null,"Unit Hydrograph Results",null,null,"Excess Precip.",null,"Storm Hydrograph"]
["Subcatchments",null,null,null,null,null,null,null,"Depression Storage",null,"Horton's Infiltration Parameters",null,null,"DCIA","DCIF (Decimal)",null,"RPF (Decimal)",null,"Eff. Imp","CT",null,"Cp",null,"Width of UH (min)",null,"Fraction of Width Before Peak (Decimal)",null,"Comment","Time to Peak\n(min)","Peak\n(cfs)","Volume\n(c.f.)","Excess\n(inches)","Excess\n(c.f.)","Time to Peak\n(min)","Peak Flow\n(cfs)","Total Volume\n(c.f.)","Runoff per Unit Area\n(cfs/acre)"]
["Subcatchment\nName","EPA SWMM\nTarget Node","Raingage","Area\n(mi2)","Length to \nCentroid\n(mi)","Length\n(mi)","Slope\n(ft/ft)","Percent Imperviousness","Pervious\nDS\n(in)","Impervious\nDS\n(in)","Initial\nInfiltration\n(in/hr)","Decay\nCoeff.\n(1/sec)","Final\nInfiltration\n(in/hr)","Level 0, 1, or 2","Override","Used","Override","Used","(Percent)","Override","Used","Override","Used","Used\nAt 50%","Used\nAt 75%","Used\nAt 50%","Used\nAt 75%",null,null,null,null,null,null,null,null,null,null,null,null,"Time\n(min)",{"$f":"A5","v":"Pre-WQCV"},{"$f":"A6","v":"Pre-EURV"},{"$f":"A7","v":"Pre-2yr"},{"$f":"A8","v":"Pre-5yr"},{"$f":"A9","v":"Pre-10yr"},{"$f":"A10","v":"Pre-25yr"},{"$f":"A11","v":"Pre-50yr"},{"$f":"A12","v":"Pre-100yr"},{"$f":"A13","v":"Pre-500yr"},{"$f":"A14","v":"Post-WQCV"},{"$f":"A15","v":"Post-EURV"},{"$f":"A16","v":"Post-2yr"},{"$f":"A17","v":"Post-5yr"},{"$f":"A18","v":"Post-10yr"},{"$f":"A19","v":"Post-25yr"},{"$f":"A20","v":"Post-50yr"},{"$f":"A21","v":"Post-100yr"},{"$f":"A22","v":"Post-500yr"},null,null,"Time\n(min)","Pre-WQCV",{"$f":"AP4","v":"Pre-EURV"},"Pre-2yr","Pre-5yr","Pre-10yr","Pre-25yr","Pre-50yr","Pre-100yr","Pre-500yr","Post-WQCV","Post-EURV","Post-2yr","Post-5yr","Post-10yr","Post-25yr","Post-50yr","Post-100yr","Post-500yr",null,null,"WQCV",null,"EURV",null,"2yr",null,"5yr",null,"10yr",null,"25yr",null,"50yr",null,"100yr",null,"500yr"]
["Pre-WQCV",null,"WQCV",{"$f":"IF(Watershed_Area=\"\",\"\",Watershed_Area/640)","v":""},{"$f":"IF(Watershed_CentroidLength=\"\",\"\",Watershed_CentroidLength/5280)","v":""},{"$f":"IF(Watershed_Length=\"\",\"\",Watershed_Length/5280)","v":""},{"$f":"IF(Watershed_Slope=\"\",\"\",Watershed_Slope)","v":""},{"$f":"IF(Watershed_Imp=\"\",\"\",2)","v":""},{"$f":"DS_perv","v":0.35},{"$f":"DS_imp","v":0.1},{"$f":"IF(OR(Pct_A=\"\",Pct_B=\"\",Pct_CD=\"\"),\"\",Pct_A*(Fi_A)+Pct_B*(Fi_B)+Pct_CD*(Fi_CD))","v":""},{"$f":"IF(OR(Pct_A=\"\",Pct_B=\"\",Pct_CD=\"\"),\"\",Pct_A*(decay_A)+Pct_B*(decay_B)+Pct_CD*(decay_CD))","v":""},{"$f":"IF(OR(Pct_A=\"\",Pct_B=\"\",Pct_CD=\"\"),\"\",Pct_A*(Fo_A)+Pct_B*(Fo_B)+Pct_CD*(Fo_CD))","v":""},null,null,null,null,null,null,null,null,null,null,null,null,null,null,null,null,null,null,null,null,null,null,null,null,null,null,5,null,null,null,null,null,null,null,null,null,null,null,null,null,null,null,null,null,null,null,null,5,null,null,null,null,null,null,null,null,null,null,null,null,null,null,null,null,null,null,null,null,"1hr Depth",0.6,"1hr Depth",1.07,"1hr Depth",{"$f":"P_2yr","v":0.82499999999999996},"1hr Depth",{"$f":"P_5yr","v":1.0900000000000001},"1hr Depth",{"$f":"P_10yr","v":1.33},"1hr Depth",{"$f":"P_25yr","v":1.69},"1hr Depth",{"$f":"P_50yr","v":1.99},"1hr Depth",{"$f":"P_100yr","v":2.31},"1hr Depth",{"$f":"P_500yr","v":3.14},null,"Design Storm Distributions of 1-Hour NOAA Atlas Depths (Table 4-2)",null,null,null,null,null,null,null,null,null,null,null,"CT/CP Lookups"]
["Pre-EURV",null,"EURV",{"$f":"IF(D$5=\"\",\"\",D$5)","v":""},{"$f":"IF(E$5=\"\",\"\",E$5)","v":""},{"$f":"IF(F$5=\"\",\"\",F$5)","v":""},{"$f":"IF(G$5=\"\",\"\",G$5)","v":""},{"$f":"IF(H$14=\"\",\"\",2)","v":""},{"$f":"IF(I$5=\"\",\"\",I$5)","v":0.35},{"$f":"IF(J$5=\"\",\"\",J$5)","v":0.1},{"$f":"IF(K$5=\"\",\"\",K$5)","v":""},{"$f":"IF(L$5=\"\",\"\",L$5)","v":""},{"$f":"IF(M$5=\"\",\"\",M$5)","v":""},null,null,null,null,null,null,null,null,null,null,null,null,null,null,null,null,null,null,null,null,null,null,null,null,null,null,10,null,null,null,null,null,null,null,null,null,null,null,null,null,null,null,null,null,null,null,null,10,null,null,null,null,null,null,null,null,null,null,null,null,null,null,null,null,null,null,null,null,"Return Period",2,"Return Period",5,"Return Period",2,"Return Period",5,"Return Period",10,"Return Period",25,"Return Period",50,"Return Period",100,"Return Period",500,null,"Time","Return Period",null,null,null,null,null,null,null,null,null,null,"CTLookup","a","b","c"]
["Pre-2yr",null,"2yr",{"$f":"IF(D$5=\"\",\"\",D$5)","v":""},"","","","",0.35,0.1,"","","",null,null,null,null,null,null,null,null,null,null,null,null,null,null,null,null,null,null,null,null,null,null,null,null,null,null,15,null,null,null,null,null,null,null,null,null,null,null,null,null,null,null,null,null,null,null,null,15,null,null,null,null,null,null,null,null,null,null,null,null,null,null,null,null,null,null,null,null,"Time (min)","Depth (in)","Time (min)","Depth (in)","Time (min)","Depth (in)","Time (min)","Depth (in)","Time (min)","Depth (in)","Time (min)","Depth (in)","Time (min)","Depth (in)","Time (min)","Depth (in)","Time (min)","Depth (in)","row",null,2,5,10,25,50,100,500,null,null,null,null,0,0,-3.7100000000000002E-3,0.16300000000000001]
["Pre-5yr",null,"5yr","","","","","",0.35,0.1,"","","",null,null,null,null,null,null,null,null,null,null,null,null,null,null,null,null,null,null,null,null,null,null,null,null,null,null,20,null,null,null,null,null,null,null,null,null,null,null,null,null,null,null,null,null,null,null,null,20,null,null,null,null,null,null,null,null,null,null,null,null,null,null,null,null,null,null,null,null,"00:05:00",{"$f":"CE$5*HLOOKUP(CE$6,Table4_2,$CV8,FALSE)","v":1.2E-2},"00:05:00",{"$f":"CG$5*HLOOKUP(CG$6,Table4_2,$CV8,FALSE)","v":2.1400000000000002E-2},"00:05:00",{"$f":"CI$5*HLOOKUP(CI$6,Table4_2,$CV8,FALSE)","v":1.6500000000000001E-2},"00:05:00",{"$f":"CK$5*HLOOKUP(CK$6,Table4_2,$CV8,FALSE)","v":2.1800000000000003E-2},"00:05:00",{"$f":"CM$5*HLOOKUP(CM$6,Table4_2,$CV8,FALSE)","v":2.6600000000000002E-2},"00:05:00",{"$f":"CO$5*HLOOKUP(CO$6,Table4_2,$CV8,FALSE)","v":2.197E-2},"00:05:00",{"$f":"CQ$5*HLOOKUP(CQ$6,Table4_2,$CV8,FALSE)","v":2.5869999999999997E-2},"00:05:00",{"$f":"CS$5*HLOOKUP(CS$6,Table4_2,$CV8,FALSE)","v":2.3100000000000002E-2},"00:05:00",{"$f":"CU$5*HLOOKUP(CU$6,Table4_2,$CV8,FALSE)","v":3.1400000000000004E-2},2,"00:05:00",0.02,0.02,0.02,1.2999999999999999E-2,1.2999999999999999E-2,0.01,0.01,null,null,null,null,10,2.3E-5,-2.2399999999999998E-3,0.14599999999999999]
["Pre-10yr",null,"10yr","","","","","",0.35,0.1,"","","",null,null,null,null,null,null,null,null,null,null,null,null,null,null,null,null,null,null,null,null,null,null,null,null,null,null,25,null,null,null,null,null,null,null,null,null,null,null,null,null,null,null,null,null,null,null,null,25,null,null,null,null,null,null,null,null,null,null,null,null,null,null,null,null,null,null,null,null,"00:10:00",2.4E-2,"00:10:00",3.959E-2,"00:10:00",3.3000000000000002E-2,"00:10:00",4.0329999999999998E-2,"00:10:00",4.9209999999999997E-2,"00:10:00",5.9150000000000001E-2,"00:10:00",6.9650000000000004E-2,"00:10:00",6.93E-2,"00:10:00",9.4200000000000006E-2,3,"00:10:00",0.04,3.6999999999999998E-2,3.6999999999999998E-2,3.5000000000000003E-2,3.5000000000000003E-2,0.03,0.03,null,null,null,null,40,3.3000000000000002E-6,-8.0099999999999995E-4,0.12]
["Pre-25yr",null,"25yr","","","","","",0.35,0.1,"","","",null,null,null,null,null,null,null,null,null,null,null,null,null,null,null,null,null,null,null,null,null,null,null,null,null,null,30,null,null,null,null,null,null,null,null,null,null,null,null,null,null,null,null,null,null,null,null,30,null,null,null,null,null,null,null,null,null,null,null,null,null,null,null,null,null,null,null,null,"00:15:00",5.04E-2,"00:15:00",9.3089999999999992E-2,"00:15:00",6.93E-2,"00:15:00",9.4829999999999998E-2,"00:15:00",0.10906,"00:15:00",8.4500000000000006E-2,"00:15:00",9.9500000000000005E-2,"00:15:00",0.10626000000000001,"00:15:00",0.14444000000000001,4,"00:15:00",8.4000000000000005E-2,8.6999999999999994E-2,8.2000000000000003E-2,0.05,0.05,4.5999999999999999E-2,4.5999999999999999E-2,null,null,null,null,"NEW 9-6-16",null,null,null,"NEW 9-6-16"]
["Pre-50yr",null,"50yr","","","","","",0.35,0.1,"","","",null,null,null,null,null,null,null,null,null,null,null,null,null,null,null,null,null,null,null,null,null,null,null,null,null,null,35,null,null,null,null,null,null,null,null,null,null,null,null,null,null,null,null,null,null,null,null,35,null,null,null,null,null,null,null,null,null,null,null,null,null,null,null,null,null,null,null,null,"00:20:00",9.6000000000000002E-2,"00:20:00",0.16370999999999999,"00:20:00",0.13200000000000001,"00:20:00",0.16677,"00:20:00",0.19950000000000001,"00:20:00",0.13519999999999999,"00:20:00",0.15920000000000001,"00:20:00",0.18480000000000002,"00:20:00",0.25120000000000003,5,"00:20:00",0.16,0.153,0.15,0.08,0.08,0.08,0.08,null,null,null,null,"P Lookup","a","b","c","Cp_Lookup","a","b"]
["Pre-100yr",null,"100yr","","","","","",0.35,0.1,"","","",null,null,null,null,null,null,null,null,null,null,null,null,null,null,null,null,null,null,null,null,null,null,null,null,null,null,40,null,null,null,null,null,null,null,null,null,null,null,null,null,null,null,null,null,null,null,null,40,null,null,null,null,null,null,null,null,null,null,null,null,null,null,null,null,null,null,null,null,"00:25:00",0.15,"00:25:00",0.26750000000000002,"00:25:00",0.20624999999999999,"00:25:00",0.27250000000000002,"00:25:00",0.33250000000000002,"00:25:00",0.2535,"00:25:00",0.29849999999999999,"00:25:00",0.32340000000000002,"00:25:00",0.43960000000000005,6,"00:25:00",0.25,0.25,0.25,0.15,0.15,0.14000000000000001,0.14000000000000001,null,null,null,null,0,5.9999999999999995E-4,0,2.2999999999999998,"<= 120 ac",1.3,0.45]
["Pre-500yr",null,"500yr","","","","","",0.35,0.1,"","","",null,null,null,null,null,null,null,null,null,null,null,null,null,null,null,null,null,null,null,null,null,null,null,null,"Runoff",null,45,null,null,null,null,null,null,null,null,null,null,null,null,null,null,null,null,null,null,null,null,45,null,null,null,null,null,null,null,null,null,null,null,null,null,null,null,null,null,null,null,null,"00:30:00",8.4000000000000005E-2,"00:30:00",0.1391,"00:30:00",0.11550000000000001,"00:30:00",0.14170000000000002,"00:30:00",0.15959999999999999,"00:30:00",0.42249999999999999,"00:30:00",0.4975,"00:30:00",0.57750000000000001,"00:30:00",0.78500000000000003,7,"00:30:00",0.14000000000000001,0.13,0.12,0.25,0.25,0.25,0.25,null,null,null,null,25,-5.0000000000000001E-4,0.12,0,"> 120 ac",1,0.3]
["Post-WQCV",null,"WQCV","","","","",{"$f":"IF(Watershed_Imp=\"\",\"\",Watershed_Imp*100)","v":""},0.35,0.1,"","","",null,null,null,null,null,null,null,null,null,null,null,null,null,null,null,null,null,null,null,null,null,null,null,null,"Volume",null,50,null,null,null,null,null,null,null,null,null,null,null,null,null,null,null,null,null,null,null,null,50,null,null,null,null,null,null,null,null,null,null,null,null,null,null,null,null,null,null,null,null,"00:35:00",3.78E-2,"00:35:00",6.2060000000000004E-2,"00:35:00",5.1975E-2,"00:35:00",6.3220000000000012E-2,"00:35:00",7.4480000000000005E-2,"00:35:00",0.20279999999999998,"00:35:00",0.23879999999999998,"00:35:00",0.32340000000000002,"00:35:00",0.43960000000000005,8,"00:35:00",6.3E-2,5.8000000000000003E-2,5.6000000000000001E-2,0.12,0.12,0.14000000000000001,0.14000000000000001]
["Post-EURV",null,"EURV","","","","",{"$f":"IF(H$14=\"\",\"\",H$14)","v":""},0.35,0.1,"","","",null,null,null,null,null,null,null,null,null,null,null,null,null,null,null,null,null,null,null,null,null,null,null,null,"(ac-ft)",null,55,null,null,null,null,null,null,null,null,null,null,null,null,null,null,null,null,null,null,null,null,55,null,null,null,null,null,null,null,null,null,null,null,null,null,null,null,null,null,null,null,null,"00:40:00",0.03,"00:40:00",4.7079999999999997E-2,"00:40:00",4.1250000000000002E-2,"00:40:00",4.7960000000000003E-2,"00:40:00",5.7189999999999998E-2,"00:40:00",0.13519999999999999,"00:40:00",0.15920000000000001,"00:40:00",0.18480000000000002,"00:40:00",0.25120000000000003,9,"00:40:00",0.05,4.3999999999999997E-2,4.2999999999999997E-2,0.08,0.08,0.08,0.08,null,null,null,null,"DCIF Lookups"]
["Post-2yr",null,"2yr","","","","",{"$f":"IF(H$14=\"\",\"\",H$14)","v":""},0.35,0.1,"","","",null,null,null,null,null,null,null,null,null,null,null,null,null,null,null,null,null,null,null,null,null,null,null,null,{"$f":"AJ16/43560","v":0},null,60,null,null,null,null,null,null,null,null,null,null,null,null,null,null,null,null,null,null,null,null,60,null,null,null,null,null,null,null,null,null,null,null,null,null,null,null,null,null,null,null,null,"00:45:00",1.7999999999999999E-2,"00:45:00",3.8519999999999999E-2,"00:45:00",2.4749999999999998E-2,"00:45:00",3.9239999999999997E-2,"00:45:00",5.0540000000000002E-2,"00:45:00",8.4500000000000006E-2,"00:45:00",9.9500000000000005E-2,"00:45:00",0.14322000000000001,"00:45:00",0.19468000000000002,10,"00:45:00",0.03,3.5999999999999997E-2,3.7999999999999999E-2,0.05,0.05,6.2E-2,6.2E-2,null,null,null,null,"DCIA Level 0",null,null,"DCIA Level 1",null,null,"DCIA Level 2"]
["Post-5yr",null,"5yr","","","","","",0.35,0.1,"","","",null,null,null,null,null,null,null,null,null,null,null,null,null,null,null,null,null,null,null,null,null,null,null,null,{"$f":"AJ17/43560","v":0},null,65,null,null,null,null,null,null,null,null,null,null,null,null,null,null,null,null,null,null,null,null,65,null,null,null,null,null,null,null,null,null,null,null,null,null,null,null,null,null,null,null,null,"00:50:00",1.7999999999999999E-2,"00:50:00",3.8519999999999999E-2,"00:50:00",2.4749999999999998E-2,"00:50:00",3.9239999999999997E-2,"00:50:00",4.2560000000000001E-2,"00:50:00",8.4500000000000006E-2,"00:50:00",9.9500000000000005E-2,"00:50:00",0.11550000000000001,"00:50:00",0.15700000000000003,11,"00:50:00",0.03,3.5999999999999997E-2,3.2000000000000001E-2,0.05,0.05,0.05,0.05,null,null,null,null,"Imperv","a","b","Imperv","a","b","Imperv","a","b"]
["Post-10yr",null,"10yr","","","","","",0.35,0.1,"","","",null,null,null,null,null,null,null,null,null,null,null,null,null,null,null,null,null,null,null,null,null,null,null,null,0,null,70,null,null,null,null,null,null,null,null,null,null,null,null,null,null,null,null,null,null,null,null,70,null,null,null,null,null,null,null,null,null,null,null,null,null,null,null,null,null,null,null,null,"00:55:00",1.7999999999999999E-2,"00:55:00",3.2100000000000004E-2,"00:55:00",2.4749999999999998E-2,"00:55:00",3.27E-2,"00:55:00",4.2560000000000001E-2,"00:55:00",5.4079999999999996E-2,"00:55:00",6.368E-2,"00:55:00",9.240000000000001E-2,"00:55:00",0.12560000000000002,12,"00:55:00",0.03,0.03,3.2000000000000001E-2,3.2000000000000001E-2,3.2000000000000001E-2,0.04,0.04,null,null,null,null,0,2,0,0,1.1000000000000001,0,0,0.5,0]
["Post-25yr",null,"25yr","","","","","",0.35,0.1,"","","",null,null,null,null,null,null,null,null,null,null,null,null,null,null,null,null,null,null,null,null,null,null,null,null,0,null,75,null,null,null,null,null,null,null,null,null,null,null,null,null,null,null,null,null,null,null,null,75,null,null,null,null,null,null,null,null,null,null,null,null,null,null,null,null,null,null,null,null,"01:00:00",1.7999999999999999E-2,"01:00:00",3.2100000000000004E-2,"01:00:00",2.4749999999999998E-2,"01:00:00",3.27E-2,"01:00:00",4.2560000000000001E-2,"01:00:00",5.4079999999999996E-2,"01:00:00",6.368E-2,"01:00:00",9.240000000000001E-2,"01:00:00",0.12560000000000002,13,"01:00:00",0.03,0.03,3.2000000000000001E-2,3.2000000000000001E-2,3.2000000000000001E-2,0.04,0.04,null,null,null,null,10,2,0,10,1.2,-0.01,10,0.5,0]
["Post-50yr",null,"50yr","","","","","",0.35,0.1,"","","",null,null,null,null,null,null,null,null,null,null,null,null,null,null,null,null,null,null,null,null,null,null,null,null,0,null,80,null,null,null,null,null,null,null,null,null,null,null,null,null,null,null,null,null,null,null,null,80,null,null,null,null,null,null,null,null,null,null,null,null,null,null,null,null,null,null,null,null,"01:05:00",1.7999999999999999E-2,"01:05:00",3.2100000000000004E-2,"01:05:00",2.4749999999999998E-2,"01:05:00",3.27E-2,"01:05:00",4.2560000000000001E-2,"01:05:00",5.4079999999999996E-2,"01:05:00",6.368E-2,"01:05:00",9.240000000000001E-2,"01:05:00",0.12560000000000002,14,"01:05:00",0.03,0.03,3.2000000000000001E-2,3.2000000000000001E-2,3.2000000000000001E-2,0.04,0.04,null,null,null,null,20,2,0,20,1.4,-0.05,20,0.5,0]
["Post-100yr",null,"100yr","","","","","",0.35,0.1,"","","",null,null,null,null,null,null,null,null,null,null,null,null,null,null,null,null,null,null,null,null,null,null,null,null,0,null,85,null,null,null,null,null,null,null,null,null,null,null,null,null,null,null,null,null,null,null,null,85,null,null,null,null,null,null,null,null,null,null,null,null,null,null,null,null,null,null,null,null,"01:10:00",1.2E-2,"01:10:00",3.2100000000000004E-2,"01:10:00",1.6500000000000001E-2,"01:10:00",3.27E-2,"01:10:00",4.2560000000000001E-2,"01:10:00",4.0559999999999999E-2,"01:10:00",4.7760000000000004E-2,"01:10:00",4.6200000000000005E-2,"01:10:00",6.2800000000000009E-2,15,"01:10:00",0.02,0.03,3.2000000000000001E-2,2.4E-2,2.4E-2,0.02,0.02,null,null,null,null,30,2,0,30,1.3,-0.02,30,0.5,0]
["Post-500yr",null,"500yr","","","","","",0.35,0.1,"","","",null,null,null,null,null,null,null,null,null,null,null,null,null,null,null,null,null,null,null,null,null,null,null,null,0,null,90,null,null,null,null,null,null,null,null,null,null,null,null,null,null,null,null,null,null,null,null,90,null,null,null,null,null,null,null,null,null,null,null,null,null,null,null,null,null,null,null,null,"01:15:00",1.2E-2,"01:15:00",2.6750000000000003E-2,"01:15:00",1.6500000000000001E-2,"01:15:00",2.7250000000000003E-2,"01:15:00",4.2560000000000001E-2,"01:15:00",4.0559999999999999E-2,"01:15:00",4.7760000000000004E-2,"01:15:00",4.6200000000000005E-2,"01:15:00",6.2800000000000009E-2,16,"01:15:00",0.02,2.5000000000000001E-2,3.2000000000000001E-2,2.4E-2,2.4E-2,0.02,0.02,null,null,null,null,40,0.5,0.6,40,1.1000000000000001,0.06,40,0.5,0]
[null,null,null,null,null,null,null,null,null,null,null,null,null,null,null,null,null,null,null,null,null,null,null,null,null,null,null,null,null,null,null,null,null,null,null,null,null,null,null,95,null,null,null,null,null,null,null,null,null,null,null,null,null,null,null,null,null,null,null,null,95,null,null,null,null,null,null,null,null,null,null,null,null,null,null,null,null,null,null,null,null,"01:20:00",1.2E-2,"01:20:00",2.3539999999999998E-2,"01:20:00",1.6500000000000001E-2,"01:20:00",2.3980000000000001E-2,"01:20:00",3.3250000000000002E-2,"01:20:00",3.0419999999999996E-2,"01:20:00",3.5819999999999998E-2,"01:20:00",2.7720000000000002E-2,"01:20:00",3.7680000000000005E-2,17,"01:20:00",0.02,2.1999999999999999E-2,2.5000000000000001E-2,1.7999999999999999E-2,1.7999999999999999E-2,1.2E-2,1.2E-2,null,null,null,null,50,0.5,0.6,50,0.9,0.16,50,0.5,0]
[null,null,null,null,null,null,null,null,null,null,null,null,null,null,null,null,null,null,null,null,null,null,null,null,null,null,null,null,null,null,"Predevelopment Peak Flows",null,null,null,null,null,null,null,null,100,null,null,null,null,null,null,null,null,null,null,null,null,null,null,null,null,null,null,null,null,100,null,null,null,null,null,null,null,null,null,null,null,null,null,null,null,null,null,null,null,null,"01:25:00",1.2E-2,"01:25:00",2.3539999999999998E-2,"01:25:00",1.6500000000000001E-2,"01:25:00",2.3980000000000001E-2,"01:25:00",2.5270000000000001E-2,"01:25:00",3.0419999999999996E-2,"01:25:00",3.5819999999999998E-2,"01:25:00",2.7720000000000002E-2,"01:25:00",3.7680000000000005E-2,18,"01:25:00",0.02,2.1999999999999999E-2,1.9E-2,1.7999999999999999E-2,1.7999999999999999E-2,1.2E-2,1.2E-2,null,null,null,null,60,0.2,0.78,60,0.7,0.28000000000000003,60,1,-0.3]
[null,null,null,null,null,null,null,null,null,null,null,null,null,null,null,null,null,null,null,null,null,null,null,null,null,null,null,null,null,null,"2yr","5yr","10yr","25yr","50yr","100yr","500yr",null,null,105,null,null,null,null,null,null,null,null,null,null,null,null,null,null,null,null,null,null,null,null,105,null,null,null,null,null,null,null,null,null,null,null,null,null,null,null,null,null,null,null,null,"01:30:00",1.2E-2,"01:30:00",2.3539999999999998E-2,"01:30:00",1.6500000000000001E-2,"01:30:00",2.3980000000000001E-2,"01:30:00",2.5270000000000001E-2,"01:30:00",2.366E-2,"01:30:00",2.7859999999999999E-2,"01:30:00",2.7720000000000002E-2,"01:30:00",3.7680000000000005E-2,19,"01:30:00",0.02,2.1999999999999999E-2,1.9E-2,1.4E-2,1.4E-2,1.2E-2,1.2E-2,null,null,null,null,70,0.2,0.78,70,0.8,0.21,70,2,-1]
[null,null,null,null,null,null,null,null,null,null,null,null,null,null,null,null,null,null,null,null,null,null,null,null,null,null,null,null,null,null,{"$f":"AI7","v":0},{"$f":"AI8","v":0},{"$f":"AI9","v":0},{"$f":"AI10","v":0},{"$f":"AI11","v":0},{"$f":"AI12","v":0},{"$f":"AI13","v":0},null,null,110,null,null,null,null,null,null,null,null,null,null,null,null,null,null,null,null,null,null,null,null,110,null,null,null,null,null,null,null,null,null,null,null,null,null,null,null,null,null,null,null,null,"01:35:00",1.2E-2,"01:35:00",2.3539999999999998E-2,"01:35:00",1.6500000000000001E-2,"01:35:00",2.3980000000000001E-2,"01:35:00",2.5270000000000001E-2,"01:35:00",2.366E-2,"01:35:00",2.7859999999999999E-2,"01:35:00",2.7720000000000002E-2,"01:35:00",3.7680000000000005E-2,20,"01:35:00",0.02,2.1999999999999999E-2,1.9E-2,1.4E-2,1.4E-2,1.2E-2,1.2E-2,null,null,null,null,80,0.2,0.78,80,0.7,0.28999999999999998,80,2,-1]
[null,null,null,null,null,null,null,null,null,null,null,null,null,null,null,null,null,null,null,null,null,null,null,null,null,null,null,null,null,null,null,null,null,null,null,null,null,null,null,115,null,null,null,null,null,null,null,null,null,null,null,null,null,null,null,null,null,null,null,null,115,null,null,null,null,null,null,null,null,null,null,null,null,null,null,null,null,null,null,null,null,"01:40:00",1.2E-2,"01:40:00",1.6050000000000002E-2,"01:40:00",1.6500000000000001E-2,"01:40:00",1.635E-2,"01:40:00",2.5270000000000001E-2,"01:40:00",2.366E-2,"01:40:00",2.7859999999999999E-2,"01:40:00",2.7720000000000002E-2,"01:40:00",3.7680000000000005E-2,21,"01:40:00",0.02,1.4999999999999999E-2,1.9E-2,1.4E-2,1.4E-2,1.2E-2,1.2E-2,null,null,null,null,90,0.4,0.59999000000000002,90,0.8,0.19999,90,2,-1.0000100000000001]
[null,null,null,null,null,null,null,null,null,null,null,null,null,null,null,null,null,null,null,null,null,null,null,null,null,null,null,null,null,null,null,null,null,null,null,null,null,null,null,120,null,null,null,null,null,null,null,null,null,null,null,null,null,null,null,null,null,null,null,null,120,null,null,null,null,null,null,null,null,null,null,null,null,null,null,null,null,null,null,null,null,"01:45:00",1.2E-2,"01:45:00",1.6050000000000002E-2,"01:45:00",1.6500000000000001E-2,"01:45:00",1.635E-2,"01:45:00",2.5270000000000001E-2,"01:45:00",2.366E-2,"01:45:00",2.7859999999999999E-2,"01:45:00",2.7720000000000002E-2,"01:45:00",3.7680000000000005E-2,22,"01:45:00",0.02,1.4999999999999999E-2,1.9E-2,1.4E-2,1.4E-2,1.2E-2,1.2E-2,null,null,null,null,100,0.4,0.59999000000000002,100,0.8,0.19999,100,2,-1.0000100135803223]
[null,null,null,null,null,null,null,null,null,null,null,null,null,null,null,null,null,null,null,null,null,null,null,null,null,null,null,null,null,null,null,null,null,null,null,null,null,null,null,125,null,null,null,null,null,null,null,null,null,null,null,null,null,null,null,null,null,null,null,null,125,null,null,null,null,null,null,null,null,null,null,null,null,null,null,null,null,null,null,null,null,"01:50:00",1.2E-2,"01:50:00",1.6050000000000002E-2,"01:50:00",1.6500000000000001E-2,"01:50:00",1.635E-2,"01:50:00",2.5270000000000001E-2,"01:50:00",2.366E-2,"01:50:00",2.7859999999999999E-2,"01:50:00",2.7720000000000002E-2,"01:50:00",3.7680000000000005E-2,23,"01:50:00",0.02,1.4999999999999999E-2,1.9E-2,1.4E-2,1.4E-2,1.2E-2,1.2E-2]
[null,null,null,null,null,null,null,null,null,null,null,null,null,null,null,null,null,null,null,null,null,null,null,null,null,null,null,null,null,null,null,null,null,null,null,null,null,null,null,130,null,null,null,null,null,null,null,null,null,null,null,null,null,null,null,null,null,null,null,null,130,null,null,null,null,null,null,null,null,null,null,null,null,null,null,null,null,null,null,null,null,"01:55:00",6.0000000000000001E-3,"01:55:00",1.6050000000000002E-2,"01:55:00",8.2500000000000004E-3,"01:55:00",1.635E-2,"01:55:00",2.2610000000000002E-2,"01:55:00",2.366E-2,"01:55:00",2.7859999999999999E-2,"01:55:00",2.7720000000000002E-2,"01:55:00",3.7680000000000005E-2,24,"01:55:00",0.01,1.4999999999999999E-2,1.7000000000000001E-2,1.4E-2,1.4E-2,1.2E-2,1.2E-2,null,null,null,null,"RPF Lookups"]
[null,null,null,null,null,null,null,null,null,null,null,null,null,null,null,null,null,null,null,null,null,null,null,null,null,null,null,null,null,null,null,null,null,null,null,null,null,null,null,135,null,null,null,null,null,null,null,null,null,null,null,null,null,null,null,null,null,null,null,null,135,null,null,null,null,null,null,null,null,null,null,null,null,null,null,null,null,null,null,null,null,"02:00:00",6.0000000000000001E-3,"02:00:00",1.391E-2,"02:00:00",8.2500000000000004E-3,"02:00:00",1.417E-2,"02:00:00",1.729E-2,"02:00:00",2.366E-2,"02:00:00",2.7859999999999999E-2,"02:00:00",2.7720000000000002E-2,"02:00:00",3.7680000000000005E-2,25,"02:00:00",0.01,1.2999999999999999E-2,1.2999999999999999E-2,1.4E-2,1.4E-2,1.2E-2,1.2E-2,null,null,null,null,"DCIA Level 0",null,null,"DCIA Level 1",null,null,"DCIA Level 2"]
[null,null,null,null,null,null,null,null,null,null,null,null,null,null,null,null,null,null,null,null,null,null,null,null,null,null,null,null,null,null,null,null,null,null,null,null,null,null,null,140,null,null,null,null,null,null,null,null,null,null,null,null,null,null,null,null,null,null,null,null,140,null,null,null,null,null,null,null,null,null,null,null,null,null,null,null,null,null,null,null,null,"02:05:00",0,"02:05:00",0,"02:05:00",0,"02:05:00",0,"02:05:00",0,"02:05:00",0,"02:05:00",0,"02:05:00",0,"02:05:00",0,null,null,null,null,null,null,null,null,null,null,null,null,null,"Imperv","a","b","Imperv","a","b","Imperv","a","b"]
[null,null,null,null,null,null,null,null,null,null,null,null,null,null,null,null,null,null,null,null,null,null,null,null,null,null,null,null,null,null,null,null,null,null,null,null,null,null,null,145,null,null,null,null,null,null,null,null,null,null,null,null,null,null,null,null,null,null,null,null,145,null,null,null,null,null,null,null,null,null,null,null,null,null,null,null,null,null,null,null,null,null,null,null,null,null,null,null,null,null,null,null,null,null,null,null,null,null,null,null,null,null,null,null,null,null,null,null,null,null,null,null,0,1,0,0,2,0,0,3,0]
[null,null,null,null,null,null,null,null,null,null,null,null,null,null,null,null,null,null,null,null,null,null,null,null,null,null,null,null,null,null,null,null,null,null,null,null,null,null,null,150,null,null,null,null,null,null,null,null,null,null,null,null,null,null,null,null,null,null,null,null,150,null,null,null,null,null,null,null,null,null,null,null,null,null,null,null,null,null,null,null,null,null,null,null,null,null,null,null,null,null,null,null,null,null,null,null,null,null,null,null,null,null,null,null,null,null,null,null,null,null,null,null,10,0.3,7.0000000000000007E-2,10,0.4,0.16,10,0.6,0.24]
[null,null,null,null,null,null,null,null,null,null,null,null,null,null,null,null,null,null,null,null,null,null,null,null,null,null,null,null,null,null,null,null,null,null,null,null,null,null,null,155,null,null,null,null,null,null,null,null,null,null,null,null,null,null,null,null,null,null,null,null,155,null,null,null,null,null,null,null,null,null,null,null,null,null,null,null,null,null,null,null,null,null,null,null,null,null,null,null,null,null,null,null,null,null,null,null,null,null,null,null,null,null,null,null,null,null,null,null,null,null,null,null,20,0.4,0.05,20,0.5,0.14000000000000001,20,0.5,0.26]
[null,null,null,null,null,null,null,null,null,null,null,null,null,null,null,null,null,null,null,null,null,null,null,null,null,null,null,null,null,null,null,null,null,null,null,null,null,null,null,160,null,null,null,null,null,null,null,null,null,null,null,null,null,null,null,null,null,null,null,null,160,null,null,null,null,null,null,null,null,null,null,null,null,null,null,null,null,null,null,null,null,null,null,null,null,null,null,null,null,null,null,null,null,null,null,null,null,null,null,null,null,null,null,null,null,null,null,null,null,null,null,null,30,0.3,0.08,30,0.4,0.17,30,0.6,0.23]
[null,null,null,null,null,null,null,null,null,null,null,null,null,null,null,null,null,null,null,null,null,null,null,null,null,null,null,null,null,null,null,null,null,null,null,null,null,null,null,165,null,null,null,null,null,null,null,null,null,null,null,null,null,null,null,null,null,null,null,null,165,null,null,null,null,null,null,null,null,null,null,null,null,null,null,null,null,null,null,null,null,null,null,null,null,null,null,null,null,null,null,null,null,null,null,null,null,null,null,null,null,null,null,null,null,null,null,null,null,null,null,null,40,0.3,0.08,40,0.5,0.13,40,0.5,0.27]
[null,null,null,null,null,null,null,null,null,null,null,null,null,null,null,null,null,null,null,null,null,null,null,null,null,null,null,null,null,null,null,null,null,null,null,null,null,null,null,170,null,null,null,null,null,null,null,null,null,null,null,null,null,null,null,null,null,null,null,null,170,null,null,null,null,null,null,null,null,null,null,null,null,null,null,null,null,null,null,null,null,null,"Raingage","Time","Start","End",null,null,null,null,null,null,null,null,null,null,null,null,null,null,null,null,null,null,null,null,null,null,null,null,null,null,50,0.4,0.03,50,0.4,0.18,50,0.6,0.22]
[null,null,null,null,null,null,null,null,null,null,null,null,null,null,null,null,null,null,null,null,null,null,null,null,null,null,null,null,null,null,null,null,null,null,null,null,null,null,null,175,null,null,null,null,null,null,null,null,null,null,null,null,null,null,null,null,null,null,null,null,175,null,null,null,null,null,null,null,null,null,null,null,null,null,null,null,null,null,null,null,null,null,"List","Column","Row","Row",null,null,null,null,null,null,null,null,null,null,null,null,null,null,null,null,null,null,null,null,null,null,null,null,null,null,60,0.3,0.09,60,0.5,0.12,60,0.5,0.28000000000000003]
[null,null,null,null,null,null,null,null,null,null,null,null,null,null,null,null,null,null,null,null,null,null,null,null,null,null,null,null,null,null,null,null,null,null,null,null,null,null,null,180,null,null,null,null,null,null,null,null,null,null,null,null,null,null,null,null,null,null,null,null,180,null,null,null,null,null,null,null,null,null,null,null,null,null,null,null,null,null,null,null,null,null,"WQCV",{"$f":"COLUMN(CD$8)","v":82},{"$f":"ROW(CD8)","v":8},{"$f":"ROW(CD32)","v":32},null,null,null,null,null,null,null,null,null,null,null,null,null,null,null,null,null,null,null,null,null,null,null,null,null,null,70,0.3,0.09,70,0.4,0.19,70,0.6,0.21]
[null,null,null,null,null,null,null,null,null,null,null,null,null,null,null,null,null,null,null,null,null,null,null,null,null,null,null,null,null,null,null,null,null,null,null,null,null,null,null,185,null,null,null,null,null,null,null,null,null,null,null,null,null,null,null,null,null,null,null,null,185,null,null,null,null,null,null,null,null,null,null,null,null,null,null,null,null,null,null,null,null,null,"EURV",{"$f":"COLUMN(CF$8)","v":84},null,null,null,null,null,null,null,null,null,null,null,null,null,null,null,null,null,null,null,null,null,null,null,null,null,null,null,null,80,0.4,0.01,80,0.5,0.11,80,0.5,0.28999999999999998]
[null,null,null,null,null,null,null,null,null,null,null,null,null,null,null,null,null,null,null,null,null,null,null,null,null,null,null,null,null,null,null,null,null,null,null,null,null,null,null,190,null,null,null,null,null,null,null,null,null,null,null,null,null,null,null,null,null,null,null,null,190,null,null,null,null,null,null,null,null,null,null,null,null,null,null,null,null,null,null,null,null,null,"2yr",{"$f":"COLUMN(CH$8)","v":86},null,null,null,null,null,null,null,null,null,null,null,null,null,null,null,null,null,null,null,null,null,null,null,null,null,null,null,null,90,0.3,0.1,90,0.4,0.2,90,0.6,0.2]
[null,null,null,null,null,null,null,null,null,null,null,null,null,null,null,null,null,null,null,null,null,null,null,null,null,null,null,null,null,null,null,null,null,null,null,null,null,null,null,195,null,null,null,null,null,null,null,null,null,null,null,null,null,null,null,null,null,null,null,null,195,null,null,null,null,null,null,null,null,null,null,null,null,null,null,null,null,null,null,null,null,null,"5yr",{"$f":"COLUMN(CJ$8)","v":88},null,null,null,null,null,null,null,null,null,null,null,null,null,null,null,null,null,null,null,null,null,null,null,null,null,null,null,null,100,0.3,0.1,100,0.4,0.2,100,0.6,0.2]
[null,null,null,null,null,null,null,null,null,null,null,null,null,null,null,null,null,null,null,null,null,null,null,null,null,null,null,null,null,null,null,null,null,null,null,null,null,null,null,200,null,null,null,null,null,null,null,null,null,null,null,null,null,null,null,null,null,null,null,null,200,null,null,null,null,null,null,null,null,null,null,null,null,null,null,null,null,null,null,null,null,null,"10yr",{"$f":"COLUMN(CL$8)","v":90}]
[null,null,null,null,null,null,null,null,null,null,null,null,null,null,null,null,null,null,null,null,null,null,null,null,null,null,null,null,null,null,null,null,null,null,null,null,null,null,null,205,null,null,null,null,null,null,null,null,null,null,null,null,null,null,null,null,null,null,null,null,205,null,null,null,null,null,null,null,null,null,null,null,null,null,null,null,null,null,null,null,null,null,"25yr",{"$f":"COLUMN(CN$8)","v":92}]
[null,null,null,null,null,null,null,null,null,null,null,null,null,null,null,null,null,null,null,null,null,null,null,null,null,null,null,null,null,null,null,null,null,null,null,null,null,null,null,210,null,null,null,null,null,null,null,null,null,null,null,null,null,null,null,null,null,null,null,null,210,null,null,null,null,null,null,null,null,null,null,null,null,null,null,null,null,null,null,null,null,null,"50yr",{"$f":"COLUMN(CP$8)","v":94}]
[null,null,null,null,null,null,null,null,null,null,null,null,null,null,null,null,null,null,null,null,null,null,null,null,null,null,null,null,null,null,null,null,null,null,null,null,null,null,null,215,null,null,null,null,null,null,null,null,null,null,null,null,null,null,null,null,null,null,null,null,215,null,null,null,null,null,null,null,null,null,null,null,null,null,null,null,null,null,null,null,null,null,"100yr",{"$f":"COLUMN(CR$8)","v":96}]
[null,null,null,null,null,null,null,null,null,null,null,null,null,null,null,null,null,null,null,null,null,null,null,null,null,null,null,null,null,null,null,null,null,null,null,null,null,null,null,220,null,null,null,null,null,null,null,null,null,null,null,null,null,null,null,null,null,null,null,null,220,null,null,null,null,null,null,null,null,null,null,null,null,null,null,null,null,null,null,null,null,null,"500yr",{"$f":"COLUMN(CT$8)","v":98}]
[null,null,null,null,null,null,null,null,null,null,null,null,null,null,null,null,null,null,null,null,null,null,null,null,null,null,null,null,null,null,null,null,null,null,null,null,null,null,null,225,null,null,null,null,null,null,null,null,null,null,null,null,null,null,null,null,null,null,null,null,225]
[null,null,null,null,null,null,null,null,null,null,null,null,null,null,null,null,null,null,null,null,null,null,null,null,null,null,null,null,null,null,null,null,null,null,null,null,null,null,null,230,null,null,null,null,null,null,null,null,null,null,null,null,null,null,null,null,null,null,null,null,230]
[null,null,null,null,null,null,null,null,null,null,null,null,null,null,null,null,null,null,null,null,null,null,null,null,null,null,null,null,null,null,null,null,null,null,null,null,null,null,null,235,null,null,null,null,null,null,null,null,null,null,null,null,null,null,null,null,null,null,null,null,235]
[null,null,null,null,null,null,null,null,null,null,null,null,null,null,null,null,null,null,null,null,null,null,null,null,null,null,null,null,null,null,null,null,null,null,null,null,null,null,null,240,null,null,null,null,null,null,null,null,null,null,null,null,null,null,null,null,null,null,null,null,240]
[null,null,null,null,null,null,null,null,null,null,null,null,null,null,null,null,null,null,null,null,null,null,null,null,null,null,null,null,null,null,null,null,null,null,null,null,null,null,null,245,null,null,null,null,null,null,null,null,null,null,null,null,null,null,null,null,null,null,null,null,245]
[null,null,null,null,null,null,null,null,null,null,null,null,null,null,null,null,null,null,null,null,null,null,null,null,null,null,null,null,null,null,null,null,null,null,null,null,null,null,null,250,null,null,null,null,null,null,null,null,null,null,null,null,null,null,null,null,null,null,null,null,250]
[null,null,null,null,null,null,null,null,null,null,null,null,null,null,null,null,null,null,null,null,null,null,null,null,null,null,null,null,null,null,null,null,null,null,null,null,null,null,null,255,null,null,null,null,null,null,null,null,null,null,null,null,null,null,null,null,null,null,null,null,255]
[null,null,null,null,null,null,null,null,null,null,null,null,null,null,null,null,null,null,null,null,null,null,null,null,null,null,null,null,null,null,null,null,null,null,null,null,null,null,null,260,null,null,null,null,null,null,null,null,null,null,null,null,null,null,null,null,null,null,null,null,260]
[null,null,null,null,null,null,null,null,null,null,null,null,null,null,null,null,null,null,null,null,null,null,null,null,null,null,null,null,null,null,null,null,null,null,null,null,null,null,null,265,null,null,null,null,null,null,null,null,null,null,null,null,null,null,null,null,null,null,null,null,265]
[null,null,null,null,null,null,null,null,null,null,null,null,null,null,null,null,null,null,null,null,null,null,null,null,null,null,null,null,null,null,null,null,null,null,null,null,null,null,null,270,null,null,null,null,null,null,null,null,null,null,null,null,null,null,null,null,null,null,null,null,270]
[null,null,null,null,null,null,null,null,null,null,null,null,null,null,null,null,null,null,null,null,null,null,null,null,null,null,null,null,null,null,null,null,null,null,null,null,null,null,null,275,null,null,null,null,null,null,null,null,null,null,null,null,null,null,null,null,null,null,null,null,275]
[null,null,null,null,null,null,null,null,null,null,null,null,null,null,null,null,null,null,null,null,null,null,null,null,null,null,null,null,null,null,null,null,null,null,null,null,null,null,null,280,null,null,null,null,null,null,null,null,null,null,null,null,null,null,null,null,null,null,null,null,280]
[null,null,null,null,null,null,null,null,null,null,null,null,null,null,null,null,null,null,null,null,null,null,null,null,null,null,null,null,null,null,null,null,null,null,null,null,null,null,null,285,null,null,null,null,null,null,null,null,null,null,null,null,null,null,null,null,null,null,null,null,285]
[null,null,null,null,null,null,null,null,null,null,null,null,null,null,null,null,null,null,null,null,null,null,null,null,null,null,null,null,null,null,null,null,null,null,null,null,null,null,null,290,null,null,null,null,null,null,null,null,null,null,null,null,null,null,null,null,null,null,null,null,290]
[null,null,null,null,null,null,null,null,null,null,null,null,null,null,null,null,null,null,null,null,null,null,null,null,null,null,null,null,null,null,null,null,null,null,null,null,null,null,null,295,null,null,null,null,null,null,null,null,null,null,null,null,null,null,null,null,null,null,null,null,295]
[null,null,null,null,null,null,null,null,null,null,null,null,null,null,null,null,null,null,null,null,null,null,null,null,null,null,null,null,null,null,null,null,null,null,null,null,null,null,null,300,null,null,null,null,null,null,null,null,null,null,null,null,null,null,null,null,null,null,null,null,300]
[null,null,null,null,null,null,null,null,null,null,null,null,null,null,null,null,null,null,null,null,null,null,null,null,null,null,null,null,null,null,null,null,null,null,null,null,null,null,null,305,null,null,null,null,null,null,null,null,null,null,null,null,null,null,null,null,null,null,null,null,305]
[null,null,null,null,null,null,null,null,null,null,null,null,null,null,null,null,null,null,null,null,null,null,null,null,null,null,null,null,null,null,null,null,null,null,null,null,null,null,null,310,null,null,null,null,null,null,null,null,null,null,null,null,null,null,null,null,null,null,null,null,310]
[null,null,null,null,null,null,null,null,null,null,null,null,null,null,null,null,null,null,null,null,null,null,null,null,null,null,null,null,null,null,null,null,null,null,null,null,null,null,null,315,null,null,null,null,null,null,null,null,null,null,null,null,null,null,null,null,null,null,null,null,315]
[null,null,null,null,null,null,null,null,null,null,null,null,null,null,null,null,null,null,null,null,null,null,null,null,null,null,null,null,null,null,null,null,null,null,null,null,null,null,null,320,null,null,null,null,null,null,null,null,null,null,null,null,null,null,null,null,null,null,null,null,320]
[null,null,null,null,null,null,null,null,null,null,null,null,null,null,null,null,null,null,null,null,null,null,null,null,null,null,null,null,null,null,null,null,null,null,null,null,null,null,null,325,null,null,null,null,null,null,null,null,null,null,null,null,null,null,null,null,null,null,null,null,325]
[null,null,null,null,null,null,null,null,null,null,null,null,null,null,null,null,null,null,null,null,null,null,null,null,null,null,null,null,null,null,null,null,null,null,null,null,null,null,null,330,null,null,null,null,null,null,null,null,null,null,null,null,null,null,null,null,null,null,null,null,330]
[null,null,null,null,null,null,null,null,null,null,null,null,null,null,null,null,null,null,null,null,null,null,null,null,null,null,null,null,null,null,null,null,null,null,null,null,null,null,null,335,null,null,null,null,null,null,null,null,null,null,null,null,null,null,null,null,null,null,null,null,335]
[null,null,null,null,null,null,null,null,null,null,null,null,null,null,null,null,null,null,null,null,null,null,null,null,null,null,null,null,null,null,null,null,null,null,null,null,null,null,null,340,null,null,null,null,null,null,null,null,null,null,null,null,null,null,null,null,null,null,null,null,340]
[null,null,null,null,null,null,null,null,null,null,null,null,null,null,null,null,null,null,null,null,null,null,null,null,null,null,null,null,null,null,null,null,null,null,null,null,null,null,null,345,null,null,null,null,null,null,null,null,null,null,null,null,null,null,null,null,null,null,null,null,345]
[null,null,null,null,null,null,null,null,null,null,null,null,null,null,null,null,null,null,null,null,null,null,null,null,null,null,null,null,null,null,null,null,null,null,null,null,null,null,null,350,null,null,null,null,null,null,null,null,null,null,null,null,null,null,null,null,null,null,null,null,350]
[null,null,null,null,null,null,null,null,null,null,null,null,null,null,null,null,null,null,null,null,null,null,null,null,null,null,null,null,null,null,null,null,null,null,null,null,null,null,null,355,null,null,null,null,null,null,null,null,null,null,null,null,null,null,null,null,null,null,null,null,355]
[null,null,null,null,null,null,null,null,null,null,null,null,null,null,null,null,null,null,null,null,null,null,null,null,null,null,null,null,null,null,null,null,null,null,null,null,null,null,null,360,null,null,null,null,null,null,null,null,null,null,null,null,null,null,null,null,null,null,null,null,360]

{"sheet":"User Tips and Tools","index":6,"n_rows":92,"n_cols":47,"rows_kept":92,"cut":false,"hidden":false,"merged":[[0,0,0,24],[38,9,40,9],[38,3,40,3],[38,8,40,8],[38,1,40,1],[38,2,40,2],[38,5,40,5],[38,6,40,6],[38,7,40,7],[38,4,40,4],[1,0,1,24]]}
["USER TIPS AND TOOLS",null,null,null,null,null,null,null,null,null,null,null,null,null,null,null,null,null,null,null,null,null,null,null,null,null,null,null,null,null,null,null,null,null,null,null,null,null,null,null,null,null,null,null,null,null,"Worksheet Protected"]
[{"$f":"Version_Release","v":"MHFD-Detention, Version 4.04 (February 2021)"}]
[]
[null,"Video Links:","Click the link below to visit the MHFD YouTube Channel where you can access instructional videos for this and other workbooks."]
[null,null,"MHFD Workbook Instructional Videos"]
[]
[]
[]
[null,"User Tips:","Basin Sheet"]
[null,null,"- To evaluate a Detention Basin without a water quality component, select \"Flood Control Only\" from the BMP Type selection box."]
[]
[null,null,"- Rainfall depths can be overridden by entering user-defined values in cells D28:D34.  Not all values have to be overriden, some can remain consistent with the pulldown selection."]
[]
[null,null,"- Required Storage Volumes can be overriden for each zone by selecting \"User Defined\" from the pulldown lists for each zone.  This allows the user to adjust the required storage volume to better match local requirements.  The user-defined storage"]
[null,null,"  values can be input as an equations which references other cells on the worksheet.  For example, if the user wants to set the Zone 2 storage equal to the 100-year storage volume plus half of the WQCV minus Zone 1, an equation such as "]
[null,null,"  \"=B40 + 0.5*(B26) - B43\" can be entered in the cell.  This will allow the volume to update automatically if other inputs change."]
[]
[null,null,"- User Defined Stage-Area inputs can be entered one row at a time or by entering all stages and then going back and entering all the areas.  It is recommended that the latter approach be used in order to speed up the input process.  This is "]
[null,null,"  because every time there are an equal number of stage and area values, the code will update calculations."]
[]
[null,null,"Outlet Structure Sheet"]
[null,null,"- If an outlet is not being used for one of the zone pulldowns, selecting \"Not Utilized\" from the pulldown list will assist in populating the unused inputs with \"N/A\". "]
[]
[null,null,"- There is only one outlet type pulldown per zone.  However, additional outlets can be added by providing the additional inputs and the effects will be accounted for in the stage-discharge table and routing results.  However, some of the automatic"]
[null,null,"  sizing routines will no longer be available if additional outlets are utilized."]
[]
[null,null,"- When sizing an orifice plate for WQCV and EURV, the uppermost orifice can be manually changed to better satisfy 72 hour drain time requirements."]
[]
[null,null,"- The Stage-Area-Volume-Discharge chart can be manipulated automatically by changing the min/max scale values below the chart.  This allows the user to zoom in on areas of interest and helps to ensure that summary tables include all critical stages."]
[]
[null,null,"- Inflow hydrographs can be overridden by simplying copying over the default values with values from another model or with exported outflow hydrographs from an upstream MHFD-Detention workbook.  Please note that when using exported hydrographs "]
[null,null,"  from another MHFD-Detention workbook, there is no accounting for travel time or attenuation between detention basins.  If there is additional runoff between the detention basins or complex routing, a more sophisticated program like EPA-SWMM is recommended. "]
[]
[]
[null,"Calculate Stage-Area relationship from known Stage-Volume Relationship"]
[]
[null,{"$f":"IF(OR(Equal_SV_Inputs=1,Equal_SV_Inputs=2),\"\",\"Must enter an equal number of stage and volume values!\")","v":""},null,null,null,null,null,null,null,"SSD"]
[null,null,{"$f":"IF(COUNTA(UserSV_Stage)<2,2,IF(COUNTA(UserSV_Stage)=COUNTA(UserSV_Volume),1,0))","v":2},null,null,null,null,null,null,{"$f":"SUM(J43:J92)","v":0}]
[null,"Stage - Storage\nDescription","User\nStage\n(ft)","User\nVolume \n(ac-ft)","User\nVolume \n(ft 3)","Calculated\nVolume\n(ft 3)","Calculated\nArea \n(ft 2)","Calculated\nArea \n(acre)","Volume\n% Diff\n(ft 3)","Squared Difference in Area (ft2)"]
[null,null,null,null,null,null,null,null,null,null,null,"- The Stage-Area Tool is designed to help the user develop a Stage-Area relationship from a known Stage-volume relationship."]
[null,null,null,null,null,null,null,null,null,null,null,"- The calculated volume is determined using the conic approximation method and is consistent with the method used on the Basin worksheet."]
[null,"Bottom of Basin",0,0,0,0,null,{"$f":"IF(BottomArea=\"\",\"\",BottomArea/43560)","v":""},{"$f":"IF(F42=\"\",\"\",0)","v":0}]
[null,null,null,null,{"$f":"IF(D43=\"\",\"\",(D43*43560))","v":""},{"$f":"IF(C43=\"\",\"\",IF(D43=\"\",\"\",IF(G42=\"\",\"\",F42+(C43-C42)/3*(G42+G43+(G42*G43)^0.5))))","v":""},null,{"$f":"IF(G43=\"\",\"\",G43/43560)","v":""},{"$f":"IF(F43=\"\",\"\",(F43-E43)/E43)","v":""},{"$f":"IF(G42=\"\",\"\",IF(G43=\"\",\"\",(G43-G42)^2))","v":""},null,"- The tool requires the user to provide a stage-volume relationship as the minimum input.  The basin bottom area is an optional input."]
[null,null,null,null,"",{"$f":"IF(C44=\"\",\"\",IF(D44=\"\",\"\",IF(G43=\"\",\"\",F43+(C44-C43)/3*(G43+G44+(G43*G44)^0.5))))","v":""},null,{"$f":"IF(G44=\"\",\"\",G44/43560)","v":""},"",{"$f":"IF(G43=\"\",\"\",IF(G44=\"\",\"\",(G44-G43)^2))","v":""},null,"      - If the user provides the bottom area, the program will automatically run the sizing routine to determine the area at each depth increment."]
[null,null,null,null,"","",null,"","","",null,"      - If the user clicks the \"Minimize SSD\" button, the program will iteratively solve for the bottom area that provides the best overall fit."]
[null,null,null,null,"","",null,"","",""]
[null,null,null,null,"","",null,"","","",null,"- If the program returns the message that the program could not find a solution, try the following:"]
[null,null,null,null,"","",null,"","","",null,"      - Check the user inputs for stage and volume to determine if they are reasonable and try to identify any potential input mistakes."]
[null,null,null,null,"","",null,"","","",null,"      - Try manually changing the bottom area to see if you can get a closer fit."]
[null,null,null,null,"","",null,"","","",null,"      - Identify the row where the program failed and look closely at the volumes to determine what may be causing the routine to fail."]
[null,null,null,null,"","",null,"","",""]
[null,null,null,null,"","",null,"","",""]
[null,null,null,null,"","",null,"","",""]
[null,null,null,null,"","",null,"","",""]
[null,null,null,null,"","",null,"","",""]
[null,null,null,null,"","",null,"","",""]
[null,null,null,null,"","",null,"","",""]
[null,null,null,null,"","",null,"","",""]
[null,null,null,null,"","",null,"","",""]
[null,null,null,null,"","",null,"","",""]
[null,null,null,null,"","",null,"","",""]
[null,null,null,null,"","",null,"","",""]
[null,null,null,null,"","",null,"","",""]
[null,null,null,null,"","",null,"","",""]
[null,null,null,null,"","",null,"","",""]
[null,null,null,null,"","",null,"","",""]
[null,null,null,null,"","",null,"","",""]
[null,null,null,null,"","",null,"","",""]
[null,null,null,null,"","",null,"","",""]
[null,null,null,null,"","",null,"","",""]
[null,null,null,null,"","",null,"","",""]
[null,null,null,null,"","",null,"","",""]
[null,null,null,null,"","",null,"","",""]
[null,null,null,null,"","",null,"","",""]
[null,null,null,null,"","",null,"","",""]
[null,null,null,null,"","",null,"","",""]
[null,null,null,null,"","",null,"","",""]
[null,null,null,null,"","",null,"","",""]
[null,null,null,null,"","",null,"","",""]
[null,null,null,null,"","",null,"","",""]
[null,null,null,null,"","",null,"","",""]
[null,null,null,null,"","",null,"","",""]
[null,null,null,null,"","",null,"","",""]
[null,null,null,null,"","",null,"","",""]
[null,null,null,null,"","",null,"","",""]
[null,null,null,null,"","",null,"","",""]
[null,null,null,null,"","",null,"","",""]
[null,null,null,null,"","",null,"","",""]
[null,null,null,null,"","",null,"","",""]
[null,null,null,null,"","",null,"","",""]
[null,null,null,null,"","",null,"","",""]
[null,null,null,null,"","",null,"","",""]

{"sheet":"BMP Zone Images","index":7,"n_rows":21,"n_cols":47,"rows_kept":21,"cut":false,"hidden":false,"merged":[]}
[null,null,null,null,null,null,null,null,null,null,null,null,null,null,null,null,null,null,null,null,null,null,null,null,null,null,null,null,null,null,null,null,null,null,null,null,null,null,null,null,null,null,null,null,null,null,"Worksheet Protected"]
[]
[]
[]
[null,null,null,null,null,null,null,null,null,null,null,null,null,null,null,null,null,null,null,null,null,null,null,null,null,null,null,null,null,null,null,null,null,null,"Scale image to 61% of original jpg (8.5x11)"]
[null,null,null,null,null,null,null,null,null,null,null,null,null,null,null,null,null,null,null,null,null,null,null,null,null,null,null,null,null,null,null,null,null,null,"Crop to fit in box 1.52\" high and 5.79\" wide"]
[]
[]
[]
[]
[]
[]
[]
[]
[]
[]
[]
[]
[]
[]
[null,null,null,null,null,null,null,null,null,null,null,null,null,null,null,null,null,null,null,null,null,null,null,null,null,null,null,null,null,null,null,null,null,null,"DEFAULT IMAGE"]